{"text_format":"1","workbook":"xlsx","n_sheets":36,"sheets":["Welcome","Facility_Info"," Facility_Info upload","Unit_Info","Monitoring_Equipment","COMS_Summary","CPMS_Summary","COMS1","COMS2","COMS3","COMS4","COMS5","COMS6","COMS7","COMS8","COMS9","COMS10","CPMS1","CPMS2","CPMS3","CPMS4","CPMS5","CPMS6","CPMS7","CPMS8","CPMS9","CPMS10","CMS_Process_Control_Changes","CMS Detail","EE Detail","Failures","Certification","Revisions","Violations","Lists","dropdown menus"],"not_rendered":{"charts":0,"images":1,"macros":1,"external_links":1,"defined_names":40,"comments":0,"pivot_tables":0},"unopened":[],"bounds":{"document_bytes":16777216,"sheet_cells":100000,"rows_first":2000,"rows_last":500,"rows_between":2000,"halvings":0,"cell_chars":16384,"cell_head_chars":4096},"cells_cut":0,"cells_raw":0,"read":"whole","date_system":"1900"}

{"sheet":"Welcome","index":0,"n_rows":32,"n_cols":16384,"rows_kept":32,"cut":false,"hidden":false,"merged":[],"flags":["row_too_large"]}
["DO NOT REMOVE OR EDIT INFORMATION IN THIS SECTION\nFOR INTERNAL USE ONLY"]
["Template Name","63.860(c) Excess Emissions Report"]
["CitationID","63.867(d)(2)"]
["Template Version","v1.00"]
["Last Updated Date","2019-02-26"]
[null,"OMB Control Number: 2060-077       Expiration Date: 12/31/2021"]
[null,"40 CFR Part 63, Subpart MM -- Pulp and Paper Combustion Sources"]
[null,"Excess Emissions Reporting Spreadsheet Template"]
[null,"Welcome and Instructions"]
[null,"Purpose:"]
[null,"This spreadsheet template was designed by the U.S. EPA to facilitate semiannual excess emissions reporting under 40 CFR part 63, subpart MM."]
[null,"The semiannual reporting requirements included in this report are found in §63.867(c) and (d)."]
[null,"Electronic reporting:"]
[null,"Electronic submission of semiannual excess emissions reports through the EPA's Compliance and Emissions Data Reporting (CEDRI) is required under §63.867(d)(2)."]
[null,"CEDRI is accessed through the EPA's Central Data Exchange: https://cdx.epa.gov"]
[null,"This spreadsheet template may be uploaded to CEDRI to fulfill the electronic reporting requirement under §63.867(d)(2)."]
[null,"For semiannual report, you may reference a single file attachment that includes additional information on the \"Facility_Info\" tab. "]
[{"$cut":{"chars":2176142,"head":""}}]
[null,"IMPORTANT: The spreadsheet must be uploaded into CEDRI as a single ZIP file, which must include this Excel workbook and any related attachments that were referenced in the workbook (i.e., additional information file found in the \"Company Information\" worksheet).\n\nNote: If you are uploading file attachments for your report, the uploaded files may be in any format (e.g., zip, docx, PDF). If you would like to include an Excel file(s) as an attachment, you must first zip the excel file(s) into a separate ZIP file to the master ZIP file that will be uploaded into CEDRI.\n\nOnce all data have been entered in the worksheet, combine this Excel workbook and all attachment files (including any ZIP file containing separate excel file(s), if applicable) into a single ZIP file for upload to CEDRI.\n\nPlease ensure your report includes all of the required data elements found in the listed citations below for this spreadsheet upload submission."]
[null,"Template Navigation and Tabs to Complete:"]
[null,"Gray tabs:  All semiannual excess emissions reports will include information in the gray tabs (Facility_Info, Unit_Info, and Monitoring_Equipment). The information in the gray tabs varies very little from one semiannual reporting period to the next.  You can complete the gray tabs once and save the workbook for subsequent reporting periods in which you would only need to review the data provided and update it if needed."]
[null,"Green tabs:  In addition to the gray tabs, the green tabs (COMS1 through COMS10, CPMS1 through CPMS10, and CMS_Process_Control_Changes) comprise the Summary Report - Gaseous and Opacity Excess Emissions and Continuous Monitoring Systems Performance Report required under §63.867(c)(1).  Each semiannual report must include the summary information for each emission unit and required monitoring system.  Green tabs for continuous opacity (COMS1 through COMS10) or parameter monitors (CPMS1 through CPMS10) appear depending on your selections within the Unit_Info tab.  \nThe CMS_Process_Control_Changes tab is available to describe any process control changes over the reporting period per §63.867(c)(1)(ix)."]
[null,"Orange tabs:  A detailed report titled Excess Emissions and Continuous Monitoring System Performance Report is required under §63.867(c)(3) if: "]
[null,"● Total CMS downtime is greater than 5 percent of the total source operating time during the reporting period, or "]
[null,"● The CMS shows excess emissions for more than 1 percent of the operating time in the reporting period, or"]
[null,"● There was a violation according to 40 CFR 63.864(k)(2) of subpart MM. "]
[null,"Submit the detailed report using the format provided in the orange tabs in this spreadsheet (CMS Detail, EE Detail, and Failures), or you may upload a separate file into CEDRI containing the information required for the detailed report in an alternative file format. If you populate the orange tabs in ths spreadsheet, copy/paste extra template tabs as needed for different process units and monitors that require detailed reporting."]
[null,"If any of the criteria above for detailed reporting are triggered, then reporting the information in both the CMS Performance Detail and Excess Emissions Detail tabs is required for the monitored parameter."]
[null,"Reporting the information in the Failures tab is required when a violation of the standards has occurred."]
[null,"The information in the orange tabs must be provided in addition to completing the gray and green summary report tabs when detailed reports are required.  "]
[null,"Certification:"]
[null,"Certification of your report in CEDRI satisfies the requirement in §63.867(c)(1)(x) that a certifying official certify based on information and belief formed after reasonable inquiry, the statements and information in the document are true, accurate, and complete."]

{"sheet":"Facility_Info","index":1,"n_rows":33,"n_cols":2,"rows_kept":33,"cut":false,"hidden":false,"merged":[]}
[{"$f":"+Welcome!B6","v":"OMB Control Number: 2060-077       Expiration Date: 12/31/2021"}]
["Summary Report – Gaseous and Opacity Excess Emissions and Continuous Monitoring "]
["System Performance"]
["Facility Information"]
["Provide the company name, facility site name associated with the affected facility, the FRS ID, and the address of the"]
["affected facility. If an address is not available for the site, include a description of the site location and provide the "]
["latitude and longitude coordinates of the site in decimal degrees to an accuracy and precision of five (5) decimals of "]
["a degree using the North American Datum of 1983. [§63.867(c)(1)(i)] "]
["Additional information and any additonal files may be specified below."]
["Facility Record No. *\n(Field value will automatically generate if a value is not entered.)",{"$f":"IF(B11=\"\",\"\",1)","v":""}]
["1. Company Name:"]
["2. Facility site name associated with the affected facility:"]
["3. Facility Registry Service (FRS) number for the affected facility:"]
["4. Address of the affected facility:"]
["A. Address1"]
["B. Address2"]
["C. City"]
["D. County"]
["E. State Abbreviation"]
["F. Zip Code"]
["5. If an address is not available for the site, include a description of the site location and provide the latitude and"]
[" longitude coordinates of the site:"]
["   A. Description of the site location:"]
["   B. Latitude:"]
["   C. Longitude:"]
["Reporting Period Dates"]
["Provide the beginning and ending date of the reporting period in MM/DD/YYYY format. [§63.867(c)(1)(ii)]"]
["1. Beginning date:"]
["2. Ending date:"]
["Additional Information"]
["Provide any additional information and the filenames of any attached files related to this report below."]
["1. Additional Information"]
["2. Name of Additonal File"]

{"sheet":" Facility_Info upload","index":2,"n_rows":24,"n_cols":17,"rows_kept":24,"cut":false,"hidden":true,"merged":[[10,13,10,14],[10,15,10,16],[0,0,0,3],[1,1,1,3],[10,10,10,12],[6,1,6,6],[9,1,9,6]]}
["DO NOT REMOVE OR EDIT INFORMATION IN THIS SECTION\nFOR INTERNAL USE ONLY"]
["Template Name",{"$f":"+Welcome!$B$2","v":"63.860(c) Excess Emissions Report"}]
["CitationID",{"$f":"+Welcome!$B$3","v":"63.867(d)(2)"}]
["Template Version",{"$f":"+Welcome!$B$4","v":"v1.00"}]
["Last Updated Date",{"$f":"+Welcome!$B$5","v":"2019-02-26"}]
[]
[null,"Summary Report – Gaseous and Opacity Excess Emissions and Continuous Monitoring System Performance"]
[null,"Facility Information"]
[]
[null,"Provide the company name, facility site name associated with the affected facility, the FRS ID, and the address of the affected facility. If an address is not available for the site, include a description of the site location and provide the latitude and longitude coordinates of the site in decimal degrees to an accuracy and precision of five (5) decimals of a degree using the North American Datum of 1983. [§63.867(c)(1)(i)].\nIf additional files are attached to the submission, such as Detail Reports, include the filename in the appropriate column."]
[null,null,null,null,null,null,null,null,null,null,"5. If an address is not available for the site, include a description of the site location and provide the latitude and longitude coordinates of the site (63.860(c)(1)(i))",null,null,"Reporting Period Dates (63.860(c)(1)(ii))",null,"Additional Information"]
["Facility Record No. *\n(Field value will automatically generate if a value is not entered.)","1. Company Name (63.860(c)(1)(i))","2. Facility site name associated with the affected facility (63.860(c)(1)(i))","3. Facility Registry Service (FRS) number for the affected facility","4. Address of the affected facility (63.860(c)(1)(i))","Address 2","City","County","State Abbreviation","Zip Code","   A. Description of the site location","   B. Latitude","   C. Longitude","1. Beginning date (MM/DD/YYYY)","2. Ending date (MM/DD/YYYY)","Please Enter Any Additional Information","Name of Additional Files"]
["XML Tag: ","CompanyName","FacilityName","FrsSiteId","AddressLine1","AddressLine2","CityName","CountyName","StateName","ZipCode","SiteDescription","SiteLatitude","SiteLongitude","PeriodStartDate","PeriodEndDate","AddInfo","AddFile"]
[]
[]
[]
[]
[]
[]
[]
[]
[]
[]
[{"$f":"+Facility_Info!B10","v":""},{"$f":"+Facility_Info!B11","v":0},{"$f":"+Facility_Info!B12","v":0},{"$f":"+Facility_Info!B13","v":0},{"$f":"IF(+Facility_Info!$B$15=\"\",\"\",+Facility_Info!$B$15)","v":""},{"$f":"IF(+Facility_Info!$B$16=\"\",\"\",+Facility_Info!$B$16)","v":""},{"$f":"IF(+Facility_Info!$B$17=\"\",\"\",+Facility_Info!$B$17)","v":""},{"$f":"IF(+Facility_Info!$B$18=\"\",\"\",+Facility_Info!$B$18)","v":""},{"$f":"IF(+Facility_Info!$B$19=\"\",\"\",+Facility_Info!$B$19)","v":""},{"$f":"IF(+Facility_Info!$B$20=\"\",\"\",+Facility_Info!$B$20)","v":""},{"$f":"IF(+Facility_Info!$B$23=\"\",\"\",+Facility_Info!$B$23)","v":""},{"$f":"IF(+Facility_Info!$B$24=\"\",\"\",+Facility_Info!$B$24)","v":""},{"$f":"IF(+Facility_Info!$B$25=\"\",\"\",+Facility_Info!$B$25)","v":""},{"$f":"IF(+Facility_Info!$B$28=\"\",\"\",+Facility_Info!$B$28)","v":""},{"$f":"IF(+Facility_Info!$B$29=\"\",\"\",+Facility_Info!$B$29)","v":""},{"$f":"IF(+Facility_Info!$B$32=\"\",\"\",+Facility_Info!$B$32)","v":""},{"$f":"IF(+Facility_Info!$B$33=\"\",\"\",+Facility_Info!$B$33)","v":""}]

{"sheet":"Unit_Info","index":3,"n_rows":62,"n_cols":24,"rows_kept":62,"cut":false,"hidden":false,"merged":[]}
["DO NOT REMOVE OR EDIT INFORMATION IN THIS SECTION\nFOR INTERNAL USE ONLY",{"$f":"Welcome!B6","v":"OMB Control Number: 2060-077       Expiration Date: 12/31/2021"}]
["Template Name",{"$f":"+Welcome!$B$2","v":"63.860(c) Excess Emissions Report"}]
["CitationID",{"$f":"+Welcome!$B$3","v":"63.867(d)(2)"}]
["Template Version",{"$f":"+Welcome!$B$4","v":"v1.00"}]
["Last Updated Date",{"$f":"+Welcome!$B$5","v":"2019-02-26"}]
[null,"Summary Report – Gaseous and Opacity Excess Emissions and Continuous Monitoring System Performance"]
[null,"Process Unit Information -- 40 CFR Part 63, Subpart MM"]
[null,"Facility:",{"$f":"' Facility_Info upload'!$B$24&\"--\"&' Facility_Info upload'!$C$24","v":"0--0"}]
[null,"Reporting period:",{"$f":"' Facility_Info upload'!$N$24&\" - \"&' Facility_Info upload'!$O$24","v":" - "}]
[null,"Identify each affected process unit being included in the semiannual excess emissions report"]
[null,"Describe each process unit included in this semiannual excess emissions report below. Select the \"Process Unit Type\" from the dropdown menu (e.g., recovery furnace, smelt dissolving tank, or lime kiln). The \"Process Unit ID\" should correspond to the ID in the Title V permit (e.g., EU28). The \"Process Unit Description\" should correspond to the commonly used description of the unit (e.g., recovery furnace 04).  [§63.867(c)(1)(iii)-(iv)] Identify the applicable emission limits for each process unit. [§63.867(c)(1)(iv)]  If the process unit is subject to Title V permit limit more stringent than subpart MM in the units of measure provided, indicate the more-stringent limit. Indicate \"Yes\" in column M or N if you are required to report continuous opacity monitoring system (COMS) or continuous parameter monitoring system (CPMS) data. A green COMS or CPMS reporting tab will appear when \"Yes\" is selected. APCD = air pollution control device, ESP - electrostatic precipitator, RTO = regenerative thermal oxidizer, Other = write in control device type"]
["Facility Record No. *\n(Field value will automatically generate if a value is not entered.)","Process Unit ID","Process Unit Type","Process Unit Description","APCD Type","PM emission limit (numeric)","PM limit units of measure","Gaseous organic HAP limit (numeric)","Gaseous organic HAP limit units of measure","Is the Process Unit included in the subpart MM PM bubble compliance alternative in §63.862(a)(1)(ii)?","Does the Process Unit use an Administrator-approved air pollution control system other than an ESP, wet scrubber, RTO, or fabric filter per §63.864(e)(14)?","Tab no.","Does the Process Unit require COMS reporting?","Does the Process Unit require CPMS reporting?","COMS Tab Name","CPMS Tab Name"]
["XML Tag: ","ProcessUnitId","ProcessUnitType","ProcessUnitDesc","ApcdType","PmEmLimit","PmEmUnit","GasHapLimit","GasHapUnit","ProcessUnitBubComp","ProcessUnitApcSystem",null,"ComsReporting","CpmsReporting"]
[]
[]
[]
[]
[]
[]
[]
[]
[]
[]
[{"$f":"IF(B24=\"\",\"\",' Facility_Info upload'!$A$24)","v":""},null,null,null,null,null,null,null,null,null,null,1,null,null,{"$f":"IF($M24=\"Yes\",\"COMS1\",IF($M24=\"No\",\"N/A\",\"\"))","v":""},{"$f":"IF($N24=\"Yes\",\"CPMS1\",IF($N24=\"No\",\"N/A\",\"\"))","v":""}]
[{"$f":"IF(B25=\"\",\"\",' Facility_Info upload'!$A$24)","v":""},null,null,null,null,null,null,null,null,null,null,2,null,null,{"$f":"IF($M25=\"Yes\",\"COMS2\",IF($M25=\"No\",\"N/A\",\"\"))","v":""},{"$f":"IF($N25=\"Yes\",\"CPMS2\",IF($N25=\"No\",\"N/A\",\"\"))","v":""}]
[{"$f":"IF(B26=\"\",\"\",' Facility_Info upload'!$A$24)","v":""},null,null,null,null,null,null,null,null,null,null,3,null,null,{"$f":"IF($M26=\"Yes\",\"COMS3\",IF($M26=\"No\",\"N/A\",\"\"))","v":""},{"$f":"IF($N26=\"Yes\",\"CPMS3\",IF($N26=\"No\",\"N/A\",\"\"))","v":""}]
[{"$f":"IF(B27=\"\",\"\",' Facility_Info upload'!$A$24)","v":""},null,null,null,null,null,null,null,null,null,null,4,null,null,{"$f":"IF($M27=\"Yes\",\"COMS4\",IF($M27=\"No\",\"N/A\",\"\"))","v":""},{"$f":"IF($N27=\"Yes\",\"CPMS4\",IF($N27=\"No\",\"N/A\",\"\"))","v":""}]
[{"$f":"IF(B28=\"\",\"\",' Facility_Info upload'!$A$24)","v":""},null,null,null,null,null,null,null,null,null,null,5,null,null,{"$f":"IF($M28=\"Yes\",\"COMS5\",IF($M28=\"No\",\"N/A\",\"\"))","v":""},{"$f":"IF($N28=\"Yes\",\"CPMS5\",IF($N28=\"No\",\"N/A\",\"\"))","v":""}]
[{"$f":"IF(B29=\"\",\"\",' Facility_Info upload'!$A$24)","v":""},null,null,null,null,null,null,null,null,null,null,6,null,null,{"$f":"IF($M29=\"Yes\",\"COMS6\",IF($M29=\"No\",\"N/A\",\"\"))","v":""},{"$f":"IF($N29=\"Yes\",\"CPMS6\",IF($N29=\"No\",\"N/A\",\"\"))","v":""}]
[{"$f":"IF(B30=\"\",\"\",' Facility_Info upload'!$A$24)","v":""},null,null,null,null,null,null,null,null,null,null,7,null,null,{"$f":"IF($M30=\"Yes\",\"COMS7\",IF($M30=\"No\",\"N/A\",\"\"))","v":""},{"$f":"IF($N30=\"Yes\",\"CPMS7\",IF($N30=\"No\",\"N/A\",\"\"))","v":""}]
[{"$f":"IF(B31=\"\",\"\",' Facility_Info upload'!$A$24)","v":""},null,null,null,null,null,null,null,null,null,null,8,null,null,{"$f":"IF($M31=\"Yes\",\"COMS8\",IF($M31=\"No\",\"N/A\",\"\"))","v":""},{"$f":"IF($N31=\"Yes\",\"CPMS8\",IF($N31=\"No\",\"N/A\",\"\"))","v":""}]
[{"$f":"IF(B32=\"\",\"\",' Facility_Info upload'!$A$24)","v":""},null,null,null,null,null,null,null,null,null,null,9,null,null,{"$f":"IF($M32=\"Yes\",\"COMS9\",IF($M32=\"No\",\"N/A\",\"\"))","v":""},{"$f":"IF($N32=\"Yes\",\"CPMS9\",IF($N32=\"No\",\"N/A\",\"\"))","v":""}]
[{"$f":"IF(B33=\"\",\"\",' Facility_Info upload'!$A$24)","v":""},null,null,null,null,null,null,null,null,null,null,10,null,null,{"$f":"IF($M33=\"Yes\",\"COMS10\",IF($M33=\"No\",\"N/A\",\"\"))","v":""},{"$f":"IF($N33=\"Yes\",\"CPMS10\",IF($N33=\"No\",\"N/A\",\"\"))","v":""}]
[]
[]
[]
[]
[]
[]
[]
[null,null,null,null,null,null,null,null,null,null,null,null,null,null,null,null,null,null,null,"Summary Tab Index"]
[null,null,null,null,null,null,null,null,null,null,null,null,null,null,null,null,null,null,null,"Tab Name","Process Unit ID","Process Unit Type","Process Unit Description","Air Pollution Control Device Type"]
[null,null,null,null,null,null,null,null,null,null,null,null,null,null,null,null,null,null,null,{"$f":"O24","v":""},{"$f":"B24","v":0},{"$f":"C24","v":0},{"$f":"D24","v":0},{"$f":"E24","v":0}]
[null,null,null,null,null,null,null,null,null,null,null,null,null,null,null,null,null,null,null,"",0,0,0,0]
[null,null,null,null,null,null,null,null,null,null,null,null,null,null,null,null,null,null,null,"",0,0,0,0]
[null,null,null,null,null,null,null,null,null,null,null,null,null,null,null,null,null,null,null,"",0,0,0,0]
[null,null,null,null,null,null,null,null,null,null,null,null,null,null,null,null,null,null,null,"",0,0,0,0]
[null,null,null,null,null,null,null,null,null,null,null,null,null,null,null,null,null,null,null,"",0,0,0,0]
[null,null,null,null,null,null,null,null,null,null,null,null,null,null,null,null,null,null,null,"",0,0,0,0]
[null,null,null,null,null,null,null,null,null,null,null,null,null,null,null,null,null,null,null,"",0,0,0,0]
[null,null,null,null,null,null,null,null,null,null,null,null,null,null,null,null,null,null,null,"",0,0,0,0]
[null,null,null,null,null,null,null,null,null,null,null,null,null,null,null,null,null,null,null,"",0,0,0,0]
[null,null,null,null,null,null,null,null,null,null,null,null,null,null,null,null,null,null,null,{"$f":"P24","v":""},{"$f":"B24","v":0},{"$f":"C24","v":0},{"$f":"D24","v":0},{"$f":"E24","v":0}]
[null,null,null,null,null,null,null,null,null,null,null,null,null,null,null,null,null,null,null,"",0,0,0,0]
[null,null,null,null,null,null,null,null,null,null,null,null,null,null,null,null,null,null,null,"",0,0,0,0]
[null,null,null,null,null,null,null,null,null,null,null,null,null,null,null,null,null,null,null,"",0,0,0,0]
[null,null,null,null,null,null,null,null,null,null,null,null,null,null,null,null,null,null,null,"",0,0,0,0]
[null,null,null,null,null,null,null,null,null,null,null,null,null,null,null,null,null,null,null,"",0,0,0,0]
[null,null,null,null,null,null,null,null,null,null,null,null,null,null,null,null,null,null,null,"",0,0,0,0]
[null,null,null,null,null,null,null,null,null,null,null,null,null,null,null,null,null,null,null,"",0,0,0,0]
[null,null,null,null,null,null,null,null,null,null,null,null,null,null,null,null,null,null,null,"",0,0,0,0]
[null,null,null,null,null,null,null,null,null,null,null,null,null,null,null,null,null,null,null,"",0,0,0,0]

{"sheet":"Monitoring_Equipment","index":4,"n_rows":52,"n_cols":6,"rows_kept":52,"cut":false,"hidden":false,"merged":[]}
["DO NOT REMOVE OR EDIT INFORMATION IN THIS SECTION\nFOR INTERNAL USE ONLY",{"$f":"Welcome!B6","v":"OMB Control Number: 2060-077       Expiration Date: 12/31/2021"}]
["Template Name",{"$f":"+Welcome!$B$2","v":"63.860(c) Excess Emissions Report"}]
["CitationID",{"$f":"+Welcome!$B$3","v":"63.867(d)(2)"}]
["Template Version",{"$f":"+Welcome!$B$4","v":"v1.00"}]
["Last Updated Date",{"$f":"+Welcome!$B$5","v":"2019-02-26"}]
[null,"Summary Report – Gaseous and Opacity Excess Emissions and Continuous Monitoring System Performance"]
[null,"Monitoring Equipment -- 40 CFR Part 63, Subpart MM"]
[null,"Facility:",{"$f":"' Facility_Info upload'!$B$24&\"--\"&' Facility_Info upload'!$C$24","v":"0--0"}]
[null,"Reporting period:",{"$f":"' Facility_Info upload'!$N$24&\" - \"&' Facility_Info upload'!$O$24","v":" - "}]
[null,"Identify the monitoring equipment and corresponding model number used to comply with subpart MM for each affected emission unit, as well as the date of the last CMS certification or audit.  [§63.867(c)(1)(v) and (vi)]\n"]
[null,"If the process unit has multiple stacks or emission points with different monitors, indicate the emission points in parentheses. For example: RB1 (stack A), RB1 (stack B)"]
["Facility Record No. *\n(Field value will automatically generate if a value is not entered.)","Process Unit (Emission Point)"," Monitoring Equipment Description","Monitoring Equipment Manufacturer","Model Number","Date of Last CMS Certification or Audit"]
["XML Tag: ","ReleasePtId","MonitorEqDesc","MonitorEqMfr","ModelNumber","CmsCertAudit"]
[]
[]
[]
[]
[]
[]
[]
[]
[]
[{"$f":"IF(B23=\"\",\"\",' Facility_Info upload'!$A$24)","v":""}]
[{"$f":"IF(B24=\"\",\"\",' Facility_Info upload'!$A$24)","v":""}]
[{"$f":"IF(B25=\"\",\"\",' Facility_Info upload'!$A$24)","v":""}]
[{"$f":"IF(B26=\"\",\"\",' Facility_Info upload'!$A$24)","v":""}]
[{"$f":"IF(B27=\"\",\"\",' Facility_Info upload'!$A$24)","v":""}]
[{"$f":"IF(B28=\"\",\"\",' Facility_Info upload'!$A$24)","v":""}]
[{"$f":"IF(B29=\"\",\"\",' Facility_Info upload'!$A$24)","v":""}]
[{"$f":"IF(B30=\"\",\"\",' Facility_Info upload'!$A$24)","v":""}]
[{"$f":"IF(B31=\"\",\"\",' Facility_Info upload'!$A$24)","v":""}]
[{"$f":"IF(B32=\"\",\"\",' Facility_Info upload'!$A$24)","v":""}]
[{"$f":"IF(B33=\"\",\"\",' Facility_Info upload'!$A$24)","v":""}]
[{"$f":"IF(B34=\"\",\"\",' Facility_Info upload'!$A$24)","v":""}]
[{"$f":"IF(B35=\"\",\"\",' Facility_Info upload'!$A$24)","v":""}]
[{"$f":"IF(B36=\"\",\"\",' Facility_Info upload'!$A$24)","v":""}]
[{"$f":"IF(B37=\"\",\"\",' Facility_Info upload'!$A$24)","v":""}]
[{"$f":"IF(B38=\"\",\"\",' Facility_Info upload'!$A$24)","v":""}]
[{"$f":"IF(B39=\"\",\"\",' Facility_Info upload'!$A$24)","v":""}]
[{"$f":"IF(B40=\"\",\"\",' Facility_Info upload'!$A$24)","v":""}]
[{"$f":"IF(B41=\"\",\"\",' Facility_Info upload'!$A$24)","v":""}]
[{"$f":"IF(B42=\"\",\"\",' Facility_Info upload'!$A$24)","v":""}]
[{"$f":"IF(B43=\"\",\"\",' Facility_Info upload'!$A$24)","v":""}]
[{"$f":"IF(B44=\"\",\"\",' Facility_Info upload'!$A$24)","v":""}]
[{"$f":"IF(B45=\"\",\"\",' Facility_Info upload'!$A$24)","v":""}]
[{"$f":"IF(B46=\"\",\"\",' Facility_Info upload'!$A$24)","v":""}]
[{"$f":"IF(B47=\"\",\"\",' Facility_Info upload'!$A$24)","v":""}]
[{"$f":"IF(B48=\"\",\"\",' Facility_Info upload'!$A$24)","v":""}]
[{"$f":"IF(B49=\"\",\"\",' Facility_Info upload'!$A$24)","v":""}]
[{"$f":"IF(B50=\"\",\"\",' Facility_Info upload'!$A$24)","v":""}]
[{"$f":"IF(B51=\"\",\"\",' Facility_Info upload'!$A$24)","v":""}]
[{"$f":"IF(B52=\"\",\"\",' Facility_Info upload'!$A$24)","v":""}]

{"sheet":"COMS_Summary","index":5,"n_rows":54,"n_cols":37,"rows_kept":54,"cut":false,"hidden":true,"merged":[[9,36,11,36],[8,27,8,36],[0,0,0,4],[1,1,1,4],[8,6,8,26],[10,11,10,18],[9,11,9,26],[10,19,10,26],[9,28,9,32],[7,1,7,7]]}
["DO NOT REMOVE OR EDIT INFORMATION IN THIS SECTION\nFOR INTERNAL USE ONLY"]
["Template Name",{"$f":"+Welcome!$B$2","v":"63.860(c) Excess Emissions Report"}]
["CitationID",{"$f":"+Welcome!$B$3","v":"63.867(d)(2)"}]
["Template Version",{"$f":"+Welcome!$B$4","v":"v1.00"}]
["Last Updated Date",{"$f":"+Welcome!$B$5","v":"2019-02-26"}]
[]
[null,"Summary Report – Gaseous and Opacity Excess Emissions and Continuous Monitoring System Performance"]
[null,"Continuous Opacity Monitoring Systems and ESP Parameter Monitoring -- 40 CFR Part 63, Subpart MM\n\nThis table presents a summary of all of the individual COMS tabs.  This is the data used in importing to the CEDRI database.  These cells are locked, any changes necessary should be made on the individual COMS tabs."]
[null,null,null,null,null,null,"Emission Data Summary -- Opacity [§63.867(c)(1)(iv) and (vii)]",null,null,null,null,null,null,null,null,null,null,null,null,null,null,null,null,null,null,null,null," CMS Performance Summary [§63.867(c)(1)(viii)]"]
[null,null,null,null,null,null,null,null,null,null,null,"1. Duration of excess emissions in reporting period due to:",null,null,null,null,null,null,null,null,null,null,null,null,null,null,null,null,"1. CMS downtime in reporting period due to:",null,null,null,null,null,null,null,"If detailed reporting is required, enter the type and/or filename of the detailed report provided"]
[null,null,null,null,null,null,null,null,null,null,null,"(Duration (Minutes))"]
["Facility Record No. *\n(Field value will automatically generate if a value is not entered.)","Process Unit ID","Process Unit Type","Process Unit Description","Air Pollution Control Device Type","Total Source Operating Time* (minutes)","Process Unit Emission Point","Operating parameter","Opacity limit, %","Mark with an \"X\" if no excess emissions or exceedances of a parameter have occurred during the reporting period. [§63.10(e)(3)(v)]","Mark with an \"X\" if the CMS has not been inoperative, out of control, repaired, or adjusted during the reporting period. [§63.10(e)(3)(v)]","a. Startup/ Shutdown","b. Control Equipment Problems","c. Process Problems","d. Other known causes","e. Unknown causes","2. Total duration of excess emissions","3. (Total duration of excess emissions) / (Total Source Operating Time) x (100) %","Do excess emissions equal or exceed 1% of operating time?","a. Startup/ Shutdown","b. Control Equipment Problems","c. Process Problems","d. Other known causes","e. Unknown causes","2. Total duration of excess emissions","3. (Total duration of excess emissions) / (Total Source Operating Time) x (100) %2","Is the opacity violation level triggered?\nViolation level (count) = 2% or more of 6-min averages for recovery furnaces, or 3% or more of 6-min averages for lime kilns  [§63.864(k)(2)(i)-(ii)]","Operating parameter","a. Monitoring equipment malfunctions","b. Non-monitor equipment malfunctions","c. Quality assurance/quality control calibration","d. Other known causes","e. Unknown causes","2. Total CMS downtime","3. (Total CMS downtime) / (Total Source Operating Time) x (100) %","Is total CMS downtime greater than 5% of total source operating time?"]
["XML Tag: ","ProcessUnitId","ProcessUnitType","ProcessUnitDesc","ApcdType","SourceOperatingTimeMin","ReleasePtId","EmOperatingParameter","OpacityLimitPercent","ExcessEmInReportPeriod","CmsInReportingPeriod","EmStartupShutdownMin","EmEquipProbMin","EmProcessProbMin","EmOtherCausesMin","EmUnknownCausesMin","EmTotalMin","EmTotalMinPercent","EmOnePercent","EmStartupShutdownCount","EmEquipProbCount","EmProcessProbCount","EmOtherCausesCount","EmUnknownCausesCount","EmTotalCount","EmTotalCountPercent","EmOpacityViolation","CmsOperatingParameter","CmsEquipMal","CmsNonEquipMal","CmsQaCalibration","CmsOtherCauses","CmsUnkownCauses","CmsTotalDowntime","CmsTotalPercent","CmsFivePercent","CmsDetailFile"]
[null,6,7,8,9,10,16,17,18,19,20,23,24,25,26,27,28,29,30,23,24,25,26,27,28,29,31,33,36,37,38,39,40,41,42,43,44]
[{"$f":"IF(B15=\"\",\"\",' Facility_Info upload'!$A$24)","v":""},{"$f":"IF(ISNA(Lists!$C2),\"\",IF(INDIRECT(\"'\"&Lists!$C2&\"'!\"&\"B\"&B$14)=\"\",\"\",(INDIRECT(\"'\"&Lists!$C2&\"'!\"&\"B\"&B$14))))","v":""},{"$f":"IF(ISNA(Lists!$C2),\"\",IF(INDIRECT(\"'\"&Lists!$C2&\"'!\"&\"B\"&C$14)=\"\",\"\",(INDIRECT(\"'\"&Lists!$C2&\"'!\"&\"B\"&C$14))))","v":""},{"$f":"IF(ISNA(Lists!$C2),\"\",IF(INDIRECT(\"'\"&Lists!$C2&\"'!\"&\"B\"&D$14)=\"\",\"\",(INDIRECT(\"'\"&Lists!$C2&\"'!\"&\"B\"&D$14))))","v":""},{"$f":"IF(ISNA(Lists!$C2),\"\",IF(INDIRECT(\"'\"&Lists!$C2&\"'!\"&\"B\"&E$14)=\"\",\"\",(INDIRECT(\"'\"&Lists!$C2&\"'!\"&\"B\"&E$14))))","v":""},{"$f":"IF(ISNA(Lists!$C2),\"\",IF(INDIRECT(\"'\"&Lists!$C2&\"'!\"&\"B\"&F$14)=\"\",\"\",(INDIRECT(\"'\"&Lists!$C2&\"'!\"&\"B\"&F$14))))","v":""},{"$f":"IF(ISNA(Lists!$C2),\"\",IF((INDIRECT(\"'\"&Lists!$C2&\"'!\"&Lists!$D2&G$14))=\"\",\"\",(INDIRECT(\"'\"&Lists!$C2&\"'!\"&Lists!$D2&G$14))))","v":""},{"$f":"IF(ISNA(Lists!$C2),\"\",IF((INDIRECT(\"'\"&Lists!$C2&\"'!\"&Lists!$D2&H$14))=\"\",\"\",(INDIRECT(\"'\"&Lists!$C2&\"'!\"&Lists!$D2&H$14))))","v":""},{"$f":"IF(ISNA(Lists!$C2),\"\",IF((INDIRECT(\"'\"&Lists!$C2&\"'!\"&Lists!$D2&I$14))=\"\",\"\",(INDIRECT(\"'\"&Lists!$C2&\"'!\"&Lists!$D2&I$14))))","v":""},{"$f":"IF(ISNA(Lists!$C2),\"\",IF((INDIRECT(\"'\"&Lists!$C2&\"'!\"&Lists!$D2&J$14))=\"\",\"\",(INDIRECT(\"'\"&Lists!$C2&\"'!\"&Lists!$D2&J$14))))","v":""},{"$f":"IF(ISNA(Lists!$C2),\"\",IF((INDIRECT(\"'\"&Lists!$C2&\"'!\"&Lists!$D2&K$14))=\"\",\"\",(INDIRECT(\"'\"&Lists!$C2&\"'!\"&Lists!$D2&K$14))))","v":""},{"$f":"IF(ISNA(Lists!$C2),\"\",IF((INDIRECT(\"'\"&Lists!$C2&\"'!\"&Lists!$D2&L$14))=\"\",\"\",(INDIRECT(\"'\"&Lists!$C2&\"'!\"&Lists!$D2&L$14))))","v":""},{"$f":"IF(ISNA(Lists!$C2),\"\",IF((INDIRECT(\"'\"&Lists!$C2&\"'!\"&Lists!$D2&M$14))=\"\",\"\",(INDIRECT(\"'\"&Lists!$C2&\"'!\"&Lists!$D2&M$14))))","v":""},{"$f":"IF(ISNA(Lists!$C2),\"\",IF((INDIRECT(\"'\"&Lists!$C2&\"'!\"&Lists!$D2&N$14))=\"\",\"\",(INDIRECT(\"'\"&Lists!$C2&\"'!\"&Lists!$D2&N$14))))","v":""},{"$f":"IF(ISNA(Lists!$C2),\"\",IF((INDIRECT(\"'\"&Lists!$C2&\"'!\"&Lists!$D2&O$14))=\"\",\"\",(INDIRECT(\"'\"&Lists!$C2&\"'!\"&Lists!$D2&O$14))))","v":""},{"$f":"IF(ISNA(Lists!$C2),\"\",IF((INDIRECT(\"'\"&Lists!$C2&\"'!\"&Lists!$D2&P$14))=\"\",\"\",(INDIRECT(\"'\"&Lists!$C2&\"'!\"&Lists!$D2&P$14))))","v":""},{"$f":"IF(ISNA(Lists!$C2),\"\",IF((INDIRECT(\"'\"&Lists!$C2&\"'!\"&Lists!$D2&Q$14))=\"\",\"\",(INDIRECT(\"'\"&Lists!$C2&\"'!\"&Lists!$D2&Q$14))))","v":""},{"$f":"IF(ISNA(Lists!$C2),\"\",IF((INDIRECT(\"'\"&Lists!$C2&\"'!\"&Lists!$D2&R$14))=\"\",\"\",(INDIRECT(\"'\"&Lists!$C2&\"'!\"&Lists!$D2&R$14))))","v":""},{"$f":"IF(ISNA(Lists!$C2),\"\",IF((INDIRECT(\"'\"&Lists!$C2&\"'!\"&Lists!$D2&S$14))=\"\",\"\",(INDIRECT(\"'\"&Lists!$C2&\"'!\"&Lists!$D2&S$14))))","v":""},{"$f":"IF(ISNA(Lists!$C2),\"\",IF((INDIRECT(\"'\"&Lists!$C2&\"'!\"&Lists!$E2&T$14))=\"\",\"\",(INDIRECT(\"'\"&Lists!$C2&\"'!\"&Lists!$E2&T$14))))","v":""},{"$f":"IF(ISNA(Lists!$C2),\"\",IF((INDIRECT(\"'\"&Lists!$C2&\"'!\"&Lists!$E2&U$14))=\"\",\"\",(INDIRECT(\"'\"&Lists!$C2&\"'!\"&Lists!$E2&U$14))))","v":""},{"$f":"IF(ISNA(Lists!$C2),\"\",IF((INDIRECT(\"'\"&Lists!$C2&\"'!\"&Lists!$E2&V$14))=\"\",\"\",(INDIRECT(\"'\"&Lists!$C2&\"'!\"&Lists!$E2&V$14))))","v":""},{"$f":"IF(ISNA(Lists!$C2),\"\",IF((INDIRECT(\"'\"&Lists!$C2&\"'!\"&Lists!$E2&W$14))=\"\",\"\",(INDIRECT(\"'\"&Lists!$C2&\"'!\"&Lists!$E2&W$14))))","v":""},{"$f":"IF(ISNA(Lists!$C2),\"\",IF((INDIRECT(\"'\"&Lists!$C2&\"'!\"&Lists!$E2&X$14))=\"\",\"\",(INDIRECT(\"'\"&Lists!$C2&\"'!\"&Lists!$E2&X$14))))","v":""},{"$f":"IF(ISNA(Lists!$C2),\"\",IF((INDIRECT(\"'\"&Lists!$C2&\"'!\"&Lists!$E2&Y$14))=\"\",\"\",(INDIRECT(\"'\"&Lists!$C2&\"'!\"&Lists!$E2&Y$14))))","v":""},{"$f":"IF(ISNA(Lists!$C2),\"\",IF((INDIRECT(\"'\"&Lists!$C2&\"'!\"&Lists!$E2&Z$14))=\"\",\"\",(INDIRECT(\"'\"&Lists!$C2&\"'!\"&Lists!$E2&Z$14))))","v":""},{"$f":"IF(ISNA(Lists!$C2),\"\",IF((INDIRECT(\"'\"&Lists!$C2&\"'!\"&Lists!$E2&AA$14))=\"\",\"\",(INDIRECT(\"'\"&Lists!$C2&\"'!\"&Lists!$E2&AA$14))))","v":""},{"$f":"IF(ISNA(Lists!$C2),\"\",IF((INDIRECT(\"'\"&Lists!$C2&\"'!\"&Lists!$D2&AB$14))=\"\",\"\",(INDIRECT(\"'\"&Lists!$C2&\"'!\"&Lists!$D2&AB$14))))","v":""},{"$f":"IF(ISNA(Lists!$C2),\"\",IF((INDIRECT(\"'\"&Lists!$C2&\"'!\"&Lists!$D2&AC$14))=\"\",\"\",(INDIRECT(\"'\"&Lists!$C2&\"'!\"&Lists!$D2&AC$14))))","v":""},{"$f":"IF(ISNA(Lists!$C2),\"\",IF((INDIRECT(\"'\"&Lists!$C2&\"'!\"&Lists!$D2&AD$14))=\"\",\"\",(INDIRECT(\"'\"&Lists!$C2&\"'!\"&Lists!$D2&AD$14))))","v":""},{"$f":"IF(ISNA(Lists!$C2),\"\",IF((INDIRECT(\"'\"&Lists!$C2&\"'!\"&Lists!$D2&AE$14))=\"\",\"\",(INDIRECT(\"'\"&Lists!$C2&\"'!\"&Lists!$D2&AE$14))))","v":""},{"$f":"IF(ISNA(Lists!$C2),\"\",IF((INDIRECT(\"'\"&Lists!$C2&\"'!\"&Lists!$D2&AF$14))=\"\",\"\",(INDIRECT(\"'\"&Lists!$C2&\"'!\"&Lists!$D2&AF$14))))","v":""},{"$f":"IF(ISNA(Lists!$C2),\"\",IF((INDIRECT(\"'\"&Lists!$C2&\"'!\"&Lists!$D2&AG$14))=\"\",\"\",(INDIRECT(\"'\"&Lists!$C2&\"'!\"&Lists!$D2&AG$14))))","v":""},{"$f":"IF(ISNA(Lists!$C2),\"\",IF((INDIRECT(\"'\"&Lists!$C2&\"'!\"&Lists!$D2&AH$14))=\"\",\"\",(INDIRECT(\"'\"&Lists!$C2&\"'!\"&Lists!$D2&AH$14))))","v":""},{"$f":"IF(ISNA(Lists!$C2),\"\",IF((INDIRECT(\"'\"&Lists!$C2&\"'!\"&Lists!$D2&AI$14))=\"\",\"\",(INDIRECT(\"'\"&Lists!$C2&\"'!\"&Lists!$D2&AI$14))))","v":""},{"$f":"IF(ISNA(Lists!$C2),\"\",IF((INDIRECT(\"'\"&Lists!$C2&\"'!\"&Lists!$D2&AJ$14))=\"\",\"\",(INDIRECT(\"'\"&Lists!$C2&\"'!\"&Lists!$D2&AJ$14))))","v":""},{"$f":"IF(ISNA(Lists!$C2),\"\",IF((INDIRECT(\"'\"&Lists!$C2&\"'!\"&Lists!$D2&AK$14))=\"\",\"\",(INDIRECT(\"'\"&Lists!$C2&\"'!\"&Lists!$D2&AK$14))))","v":""}]
[{"$f":"IF(B16=\"\",\"\",' Facility_Info upload'!$A$24)","v":""},{"$f":"IF(ISNA(Lists!$C3),\"\",IF(INDIRECT(\"'\"&Lists!$C3&\"'!\"&\"B\"&B$14)=\"\",\"\",(INDIRECT(\"'\"&Lists!$C3&\"'!\"&\"B\"&B$14))))","v":""},{"$f":"IF(ISNA(Lists!$C3),\"\",IF(INDIRECT(\"'\"&Lists!$C3&\"'!\"&\"B\"&C$14)=\"\",\"\",(INDIRECT(\"'\"&Lists!$C3&\"'!\"&\"B\"&C$14))))","v":""},{"$f":"IF(ISNA(Lists!$C3),\"\",IF(INDIRECT(\"'\"&Lists!$C3&\"'!\"&\"B\"&D$14)=\"\",\"\",(INDIRECT(\"'\"&Lists!$C3&\"'!\"&\"B\"&D$14))))","v":""},{"$f":"IF(ISNA(Lists!$C3),\"\",IF(INDIRECT(\"'\"&Lists!$C3&\"'!\"&\"B\"&E$14)=\"\",\"\",(INDIRECT(\"'\"&Lists!$C3&\"'!\"&\"B\"&E$14))))","v":""},{"$f":"IF(ISNA(Lists!$C3),\"\",IF(INDIRECT(\"'\"&Lists!$C3&\"'!\"&\"B\"&F$14)=\"\",\"\",(INDIRECT(\"'\"&Lists!$C3&\"'!\"&\"B\"&F$14))))","v":""},{"$f":"IF(ISNA(Lists!$C3),\"\",IF((INDIRECT(\"'\"&Lists!$C3&\"'!\"&Lists!$D3&G$14))=\"\",\"\",(INDIRECT(\"'\"&Lists!$C3&\"'!\"&Lists!$D3&G$14))))","v":""},{"$f":"IF(ISNA(Lists!$C3),\"\",IF((INDIRECT(\"'\"&Lists!$C3&\"'!\"&Lists!$D3&H$14))=\"\",\"\",(INDIRECT(\"'\"&Lists!$C3&\"'!\"&Lists!$D3&H$14))))","v":""},{"$f":"IF(ISNA(Lists!$C3),\"\",IF((INDIRECT(\"'\"&Lists!$C3&\"'!\"&Lists!$D3&I$14))=\"\",\"\",(INDIRECT(\"'\"&Lists!$C3&\"'!\"&Lists!$D3&I$14))))","v":""},{"$f":"IF(ISNA(Lists!$C3),\"\",IF((INDIRECT(\"'\"&Lists!$C3&\"'!\"&Lists!$D3&J$14))=\"\",\"\",(INDIRECT(\"'\"&Lists!$C3&\"'!\"&Lists!$D3&J$14))))","v":""},{"$f":"IF(ISNA(Lists!$C3),\"\",IF((INDIRECT(\"'\"&Lists!$C3&\"'!\"&Lists!$D3&K$14))=\"\",\"\",(INDIRECT(\"'\"&Lists!$C3&\"'!\"&Lists!$D3&K$14))))","v":""},{"$f":"IF(ISNA(Lists!$C3),\"\",IF((INDIRECT(\"'\"&Lists!$C3&\"'!\"&Lists!$D3&L$14))=\"\",\"\",(INDIRECT(\"'\"&Lists!$C3&\"'!\"&Lists!$D3&L$14))))","v":""},{"$f":"IF(ISNA(Lists!$C3),\"\",IF((INDIRECT(\"'\"&Lists!$C3&\"'!\"&Lists!$D3&M$14))=\"\",\"\",(INDIRECT(\"'\"&Lists!$C3&\"'!\"&Lists!$D3&M$14))))","v":""},{"$f":"IF(ISNA(Lists!$C3),\"\",IF((INDIRECT(\"'\"&Lists!$C3&\"'!\"&Lists!$D3&N$14))=\"\",\"\",(INDIRECT(\"'\"&Lists!$C3&\"'!\"&Lists!$D3&N$14))))","v":""},{"$f":"IF(ISNA(Lists!$C3),\"\",IF((INDIRECT(\"'\"&Lists!$C3&\"'!\"&Lists!$D3&O$14))=\"\",\"\",(INDIRECT(\"'\"&Lists!$C3&\"'!\"&Lists!$D3&O$14))))","v":""},{"$f":"IF(ISNA(Lists!$C3),\"\",IF((INDIRECT(\"'\"&Lists!$C3&\"'!\"&Lists!$D3&P$14))=\"\",\"\",(INDIRECT(\"'\"&Lists!$C3&\"'!\"&Lists!$D3&P$14))))","v":""},{"$f":"IF(ISNA(Lists!$C3),\"\",IF((INDIRECT(\"'\"&Lists!$C3&\"'!\"&Lists!$D3&Q$14))=\"\",\"\",(INDIRECT(\"'\"&Lists!$C3&\"'!\"&Lists!$D3&Q$14))))","v":""},{"$f":"IF(ISNA(Lists!$C3),\"\",IF((INDIRECT(\"'\"&Lists!$C3&\"'!\"&Lists!$D3&R$14))=\"\",\"\",(INDIRECT(\"'\"&Lists!$C3&\"'!\"&Lists!$D3&R$14))))","v":""},{"$f":"IF(ISNA(Lists!$C3),\"\",IF((INDIRECT(\"'\"&Lists!$C3&\"'!\"&Lists!$D3&S$14))=\"\",\"\",(INDIRECT(\"'\"&Lists!$C3&\"'!\"&Lists!$D3&S$14))))","v":""},{"$f":"IF(ISNA(Lists!$C3),\"\",IF((INDIRECT(\"'\"&Lists!$C3&\"'!\"&Lists!$E3&T$14))=\"\",\"\",(INDIRECT(\"'\"&Lists!$C3&\"'!\"&Lists!$E3&T$14))))","v":""},{"$f":"IF(ISNA(Lists!$C3),\"\",IF((INDIRECT(\"'\"&Lists!$C3&\"'!\"&Lists!$E3&U$14))=\"\",\"\",(INDIRECT(\"'\"&Lists!$C3&\"'!\"&Lists!$E3&U$14))))","v":""},{"$f":"IF(ISNA(Lists!$C3),\"\",IF((INDIRECT(\"'\"&Lists!$C3&\"'!\"&Lists!$E3&V$14))=\"\",\"\",(INDIRECT(\"'\"&Lists!$C3&\"'!\"&Lists!$E3&V$14))))","v":""},{"$f":"IF(ISNA(Lists!$C3),\"\",IF((INDIRECT(\"'\"&Lists!$C3&\"'!\"&Lists!$E3&W$14))=\"\",\"\",(INDIRECT(\"'\"&Lists!$C3&\"'!\"&Lists!$E3&W$14))))","v":""},{"$f":"IF(ISNA(Lists!$C3),\"\",IF((INDIRECT(\"'\"&Lists!$C3&\"'!\"&Lists!$E3&X$14))=\"\",\"\",(INDIRECT(\"'\"&Lists!$C3&\"'!\"&Lists!$E3&X$14))))","v":""},{"$f":"IF(ISNA(Lists!$C3),\"\",IF((INDIRECT(\"'\"&Lists!$C3&\"'!\"&Lists!$E3&Y$14))=\"\",\"\",(INDIRECT(\"'\"&Lists!$C3&\"'!\"&Lists!$E3&Y$14))))","v":""},{"$f":"IF(ISNA(Lists!$C3),\"\",IF((INDIRECT(\"'\"&Lists!$C3&\"'!\"&Lists!$E3&Z$14))=\"\",\"\",(INDIRECT(\"'\"&Lists!$C3&\"'!\"&Lists!$E3&Z$14))))","v":""},{"$f":"IF(ISNA(Lists!$C3),\"\",IF((INDIRECT(\"'\"&Lists!$C3&\"'!\"&Lists!$E3&AA$14))=\"\",\"\",(INDIRECT(\"'\"&Lists!$C3&\"'!\"&Lists!$E3&AA$14))))","v":""},{"$f":"IF(ISNA(Lists!$C3),\"\",IF((INDIRECT(\"'\"&Lists!$C3&\"'!\"&Lists!$D3&AB$14))=\"\",\"\",(INDIRECT(\"'\"&Lists!$C3&\"'!\"&Lists!$D3&AB$14))))","v":""},{"$f":"IF(ISNA(Lists!$C3),\"\",IF((INDIRECT(\"'\"&Lists!$C3&\"'!\"&Lists!$D3&AC$14))=\"\",\"\",(INDIRECT(\"'\"&Lists!$C3&\"'!\"&Lists!$D3&AC$14))))","v":""},{"$f":"IF(ISNA(Lists!$C3),\"\",IF((INDIRECT(\"'\"&Lists!$C3&\"'!\"&Lists!$D3&AD$14))=\"\",\"\",(INDIRECT(\"'\"&Lists!$C3&\"'!\"&Lists!$D3&AD$14))))","v":""},{"$f":"IF(ISNA(Lists!$C3),\"\",IF((INDIRECT(\"'\"&Lists!$C3&\"'!\"&Lists!$D3&AE$14))=\"\",\"\",(INDIRECT(\"'\"&Lists!$C3&\"'!\"&Lists!$D3&AE$14))))","v":""},{"$f":"IF(ISNA(Lists!$C3),\"\",IF((INDIRECT(\"'\"&Lists!$C3&\"'!\"&Lists!$D3&AF$14))=\"\",\"\",(INDIRECT(\"'\"&Lists!$C3&\"'!\"&Lists!$D3&AF$14))))","v":""},{"$f":"IF(ISNA(Lists!$C3),\"\",IF((INDIRECT(\"'\"&Lists!$C3&\"'!\"&Lists!$D3&AG$14))=\"\",\"\",(INDIRECT(\"'\"&Lists!$C3&\"'!\"&Lists!$D3&AG$14))))","v":""},{"$f":"IF(ISNA(Lists!$C3),\"\",IF((INDIRECT(\"'\"&Lists!$C3&\"'!\"&Lists!$D3&AH$14))=\"\",\"\",(INDIRECT(\"'\"&Lists!$C3&\"'!\"&Lists!$D3&AH$14))))","v":""},{"$f":"IF(ISNA(Lists!$C3),\"\",IF((INDIRECT(\"'\"&Lists!$C3&\"'!\"&Lists!$D3&AI$14))=\"\",\"\",(INDIRECT(\"'\"&Lists!$C3&\"'!\"&Lists!$D3&AI$14))))","v":""},{"$f":"IF(ISNA(Lists!$C3),\"\",IF((INDIRECT(\"'\"&Lists!$C3&\"'!\"&Lists!$D3&AJ$14))=\"\",\"\",(INDIRECT(\"'\"&Lists!$C3&\"'!\"&Lists!$D3&AJ$14))))","v":""},{"$f":"IF(ISNA(Lists!$C3),\"\",IF((INDIRECT(\"'\"&Lists!$C3&\"'!\"&Lists!$D3&AK$14))=\"\",\"\",(INDIRECT(\"'\"&Lists!$C3&\"'!\"&Lists!$D3&AK$14))))","v":""}]
[{"$f":"IF(B17=\"\",\"\",' Facility_Info upload'!$A$24)","v":""},{"$f":"IF(ISNA(Lists!$C4),\"\",IF(INDIRECT(\"'\"&Lists!$C4&\"'!\"&\"B\"&B$14)=\"\",\"\",(INDIRECT(\"'\"&Lists!$C4&\"'!\"&\"B\"&B$14))))","v":""},{"$f":"IF(ISNA(Lists!$C4),\"\",IF(INDIRECT(\"'\"&Lists!$C4&\"'!\"&\"B\"&C$14)=\"\",\"\",(INDIRECT(\"'\"&Lists!$C4&\"'!\"&\"B\"&C$14))))","v":""},{"$f":"IF(ISNA(Lists!$C4),\"\",IF(INDIRECT(\"'\"&Lists!$C4&\"'!\"&\"B\"&D$14)=\"\",\"\",(INDIRECT(\"'\"&Lists!$C4&\"'!\"&\"B\"&D$14))))","v":""},{"$f":"IF(ISNA(Lists!$C4),\"\",IF(INDIRECT(\"'\"&Lists!$C4&\"'!\"&\"B\"&E$14)=\"\",\"\",(INDIRECT(\"'\"&Lists!$C4&\"'!\"&\"B\"&E$14))))","v":""},{"$f":"IF(ISNA(Lists!$C4),\"\",IF(INDIRECT(\"'\"&Lists!$C4&\"'!\"&\"B\"&F$14)=\"\",\"\",(INDIRECT(\"'\"&Lists!$C4&\"'!\"&\"B\"&F$14))))","v":""},{"$f":"IF(ISNA(Lists!$C4),\"\",IF((INDIRECT(\"'\"&Lists!$C4&\"'!\"&Lists!$D4&G$14))=\"\",\"\",(INDIRECT(\"'\"&Lists!$C4&\"'!\"&Lists!$D4&G$14))))","v":""},{"$f":"IF(ISNA(Lists!$C4),\"\",IF((INDIRECT(\"'\"&Lists!$C4&\"'!\"&Lists!$D4&H$14))=\"\",\"\",(INDIRECT(\"'\"&Lists!$C4&\"'!\"&Lists!$D4&H$14))))","v":""},{"$f":"IF(ISNA(Lists!$C4),\"\",IF((INDIRECT(\"'\"&Lists!$C4&\"'!\"&Lists!$D4&I$14))=\"\",\"\",(INDIRECT(\"'\"&Lists!$C4&\"'!\"&Lists!$D4&I$14))))","v":""},{"$f":"IF(ISNA(Lists!$C4),\"\",IF((INDIRECT(\"'\"&Lists!$C4&\"'!\"&Lists!$D4&J$14))=\"\",\"\",(INDIRECT(\"'\"&Lists!$C4&\"'!\"&Lists!$D4&J$14))))","v":""},{"$f":"IF(ISNA(Lists!$C4),\"\",IF((INDIRECT(\"'\"&Lists!$C4&\"'!\"&Lists!$D4&K$14))=\"\",\"\",(INDIRECT(\"'\"&Lists!$C4&\"'!\"&Lists!$D4&K$14))))","v":""},{"$f":"IF(ISNA(Lists!$C4),\"\",IF((INDIRECT(\"'\"&Lists!$C4&\"'!\"&Lists!$D4&L$14))=\"\",\"\",(INDIRECT(\"'\"&Lists!$C4&\"'!\"&Lists!$D4&L$14))))","v":""},{"$f":"IF(ISNA(Lists!$C4),\"\",IF((INDIRECT(\"'\"&Lists!$C4&\"'!\"&Lists!$D4&M$14))=\"\",\"\",(INDIRECT(\"'\"&Lists!$C4&\"'!\"&Lists!$D4&M$14))))","v":""},{"$f":"IF(ISNA(Lists!$C4),\"\",IF((INDIRECT(\"'\"&Lists!$C4&\"'!\"&Lists!$D4&N$14))=\"\",\"\",(INDIRECT(\"'\"&Lists!$C4&\"'!\"&Lists!$D4&N$14))))","v":""},{"$f":"IF(ISNA(Lists!$C4),\"\",IF((INDIRECT(\"'\"&Lists!$C4&\"'!\"&Lists!$D4&O$14))=\"\",\"\",(INDIRECT(\"'\"&Lists!$C4&\"'!\"&Lists!$D4&O$14))))","v":""},{"$f":"IF(ISNA(Lists!$C4),\"\",IF((INDIRECT(\"'\"&Lists!$C4&\"'!\"&Lists!$D4&P$14))=\"\",\"\",(INDIRECT(\"'\"&Lists!$C4&\"'!\"&Lists!$D4&P$14))))","v":""},{"$f":"IF(ISNA(Lists!$C4),\"\",IF((INDIRECT(\"'\"&Lists!$C4&\"'!\"&Lists!$D4&Q$14))=\"\",\"\",(INDIRECT(\"'\"&Lists!$C4&\"'!\"&Lists!$D4&Q$14))))","v":""},{"$f":"IF(ISNA(Lists!$C4),\"\",IF((INDIRECT(\"'\"&Lists!$C4&\"'!\"&Lists!$D4&R$14))=\"\",\"\",(INDIRECT(\"'\"&Lists!$C4&\"'!\"&Lists!$D4&R$14))))","v":""},{"$f":"IF(ISNA(Lists!$C4),\"\",IF((INDIRECT(\"'\"&Lists!$C4&\"'!\"&Lists!$D4&S$14))=\"\",\"\",(INDIRECT(\"'\"&Lists!$C4&\"'!\"&Lists!$D4&S$14))))","v":""},{"$f":"IF(ISNA(Lists!$C4),\"\",IF((INDIRECT(\"'\"&Lists!$C4&\"'!\"&Lists!$E4&T$14))=\"\",\"\",(INDIRECT(\"'\"&Lists!$C4&\"'!\"&Lists!$E4&T$14))))","v":""},{"$f":"IF(ISNA(Lists!$C4),\"\",IF((INDIRECT(\"'\"&Lists!$C4&\"'!\"&Lists!$E4&U$14))=\"\",\"\",(INDIRECT(\"'\"&Lists!$C4&\"'!\"&Lists!$E4&U$14))))","v":""},{"$f":"IF(ISNA(Lists!$C4),\"\",IF((INDIRECT(\"'\"&Lists!$C4&\"'!\"&Lists!$E4&V$14))=\"\",\"\",(INDIRECT(\"'\"&Lists!$C4&\"'!\"&Lists!$E4&V$14))))","v":""},{"$f":"IF(ISNA(Lists!$C4),\"\",IF((INDIRECT(\"'\"&Lists!$C4&\"'!\"&Lists!$E4&W$14))=\"\",\"\",(INDIRECT(\"'\"&Lists!$C4&\"'!\"&Lists!$E4&W$14))))","v":""},{"$f":"IF(ISNA(Lists!$C4),\"\",IF((INDIRECT(\"'\"&Lists!$C4&\"'!\"&Lists!$E4&X$14))=\"\",\"\",(INDIRECT(\"'\"&Lists!$C4&\"'!\"&Lists!$E4&X$14))))","v":""},{"$f":"IF(ISNA(Lists!$C4),\"\",IF((INDIRECT(\"'\"&Lists!$C4&\"'!\"&Lists!$E4&Y$14))=\"\",\"\",(INDIRECT(\"'\"&Lists!$C4&\"'!\"&Lists!$E4&Y$14))))","v":""},{"$f":"IF(ISNA(Lists!$C4),\"\",IF((INDIRECT(\"'\"&Lists!$C4&\"'!\"&Lists!$E4&Z$14))=\"\",\"\",(INDIRECT(\"'\"&Lists!$C4&\"'!\"&Lists!$E4&Z$14))))","v":""},{"$f":"IF(ISNA(Lists!$C4),\"\",IF((INDIRECT(\"'\"&Lists!$C4&\"'!\"&Lists!$E4&AA$14))=\"\",\"\",(INDIRECT(\"'\"&Lists!$C4&\"'!\"&Lists!$E4&AA$14))))","v":""},{"$f":"IF(ISNA(Lists!$C4),\"\",IF((INDIRECT(\"'\"&Lists!$C4&\"'!\"&Lists!$D4&AB$14))=\"\",\"\",(INDIRECT(\"'\"&Lists!$C4&\"'!\"&Lists!$D4&AB$14))))","v":""},{"$f":"IF(ISNA(Lists!$C4),\"\",IF((INDIRECT(\"'\"&Lists!$C4&\"'!\"&Lists!$D4&AC$14))=\"\",\"\",(INDIRECT(\"'\"&Lists!$C4&\"'!\"&Lists!$D4&AC$14))))","v":""},{"$f":"IF(ISNA(Lists!$C4),\"\",IF((INDIRECT(\"'\"&Lists!$C4&\"'!\"&Lists!$D4&AD$14))=\"\",\"\",(INDIRECT(\"'\"&Lists!$C4&\"'!\"&Lists!$D4&AD$14))))","v":""},{"$f":"IF(ISNA(Lists!$C4),\"\",IF((INDIRECT(\"'\"&Lists!$C4&\"'!\"&Lists!$D4&AE$14))=\"\",\"\",(INDIRECT(\"'\"&Lists!$C4&\"'!\"&Lists!$D4&AE$14))))","v":""},{"$f":"IF(ISNA(Lists!$C4),\"\",IF((INDIRECT(\"'\"&Lists!$C4&\"'!\"&Lists!$D4&AF$14))=\"\",\"\",(INDIRECT(\"'\"&Lists!$C4&\"'!\"&Lists!$D4&AF$14))))","v":""},{"$f":"IF(ISNA(Lists!$C4),\"\",IF((INDIRECT(\"'\"&Lists!$C4&\"'!\"&Lists!$D4&AG$14))=\"\",\"\",(INDIRECT(\"'\"&Lists!$C4&\"'!\"&Lists!$D4&AG$14))))","v":""},{"$f":"IF(ISNA(Lists!$C4),\"\",IF((INDIRECT(\"'\"&Lists!$C4&\"'!\"&Lists!$D4&AH$14))=\"\",\"\",(INDIRECT(\"'\"&Lists!$C4&\"'!\"&Lists!$D4&AH$14))))","v":""},{"$f":"IF(ISNA(Lists!$C4),\"\",IF((INDIRECT(\"'\"&Lists!$C4&\"'!\"&Lists!$D4&AI$14))=\"\",\"\",(INDIRECT(\"'\"&Lists!$C4&\"'!\"&Lists!$D4&AI$14))))","v":""},{"$f":"IF(ISNA(Lists!$C4),\"\",IF((INDIRECT(\"'\"&Lists!$C4&\"'!\"&Lists!$D4&AJ$14))=\"\",\"\",(INDIRECT(\"'\"&Lists!$C4&\"'!\"&Lists!$D4&AJ$14))))","v":""},{"$f":"IF(ISNA(Lists!$C4),\"\",IF((INDIRECT(\"'\"&Lists!$C4&\"'!\"&Lists!$D4&AK$14))=\"\",\"\",(INDIRECT(\"'\"&Lists!$C4&\"'!\"&Lists!$D4&AK$14))))","v":""}]
[{"$f":"IF(B18=\"\",\"\",' Facility_Info upload'!$A$24)","v":""},{"$f":"IF(ISNA(Lists!$C5),\"\",IF(INDIRECT(\"'\"&Lists!$C5&\"'!\"&\"B\"&B$14)=\"\",\"\",(INDIRECT(\"'\"&Lists!$C5&\"'!\"&\"B\"&B$14))))","v":""},{"$f":"IF(ISNA(Lists!$C5),\"\",IF(INDIRECT(\"'\"&Lists!$C5&\"'!\"&\"B\"&C$14)=\"\",\"\",(INDIRECT(\"'\"&Lists!$C5&\"'!\"&\"B\"&C$14))))","v":""},{"$f":"IF(ISNA(Lists!$C5),\"\",IF(INDIRECT(\"'\"&Lists!$C5&\"'!\"&\"B\"&D$14)=\"\",\"\",(INDIRECT(\"'\"&Lists!$C5&\"'!\"&\"B\"&D$14))))","v":""},{"$f":"IF(ISNA(Lists!$C5),\"\",IF(INDIRECT(\"'\"&Lists!$C5&\"'!\"&\"B\"&E$14)=\"\",\"\",(INDIRECT(\"'\"&Lists!$C5&\"'!\"&\"B\"&E$14))))","v":""},{"$f":"IF(ISNA(Lists!$C5),\"\",IF(INDIRECT(\"'\"&Lists!$C5&\"'!\"&\"B\"&F$14)=\"\",\"\",(INDIRECT(\"'\"&Lists!$C5&\"'!\"&\"B\"&F$14))))","v":""},{"$f":"IF(ISNA(Lists!$C5),\"\",IF((INDIRECT(\"'\"&Lists!$C5&\"'!\"&Lists!$D5&G$14))=\"\",\"\",(INDIRECT(\"'\"&Lists!$C5&\"'!\"&Lists!$D5&G$14))))","v":""},{"$f":"IF(ISNA(Lists!$C5),\"\",IF((INDIRECT(\"'\"&Lists!$C5&\"'!\"&Lists!$D5&H$14))=\"\",\"\",(INDIRECT(\"'\"&Lists!$C5&\"'!\"&Lists!$D5&H$14))))","v":""},{"$f":"IF(ISNA(Lists!$C5),\"\",IF((INDIRECT(\"'\"&Lists!$C5&\"'!\"&Lists!$D5&I$14))=\"\",\"\",(INDIRECT(\"'\"&Lists!$C5&\"'!\"&Lists!$D5&I$14))))","v":""},{"$f":"IF(ISNA(Lists!$C5),\"\",IF((INDIRECT(\"'\"&Lists!$C5&\"'!\"&Lists!$D5&J$14))=\"\",\"\",(INDIRECT(\"'\"&Lists!$C5&\"'!\"&Lists!$D5&J$14))))","v":""},{"$f":"IF(ISNA(Lists!$C5),\"\",IF((INDIRECT(\"'\"&Lists!$C5&\"'!\"&Lists!$D5&K$14))=\"\",\"\",(INDIRECT(\"'\"&Lists!$C5&\"'!\"&Lists!$D5&K$14))))","v":""},{"$f":"IF(ISNA(Lists!$C5),\"\",IF((INDIRECT(\"'\"&Lists!$C5&\"'!\"&Lists!$D5&L$14))=\"\",\"\",(INDIRECT(\"'\"&Lists!$C5&\"'!\"&Lists!$D5&L$14))))","v":""},{"$f":"IF(ISNA(Lists!$C5),\"\",IF((INDIRECT(\"'\"&Lists!$C5&\"'!\"&Lists!$D5&M$14))=\"\",\"\",(INDIRECT(\"'\"&Lists!$C5&\"'!\"&Lists!$D5&M$14))))","v":""},{"$f":"IF(ISNA(Lists!$C5),\"\",IF((INDIRECT(\"'\"&Lists!$C5&\"'!\"&Lists!$D5&N$14))=\"\",\"\",(INDIRECT(\"'\"&Lists!$C5&\"'!\"&Lists!$D5&N$14))))","v":""},{"$f":"IF(ISNA(Lists!$C5),\"\",IF((INDIRECT(\"'\"&Lists!$C5&\"'!\"&Lists!$D5&O$14))=\"\",\"\",(INDIRECT(\"'\"&Lists!$C5&\"'!\"&Lists!$D5&O$14))))","v":""},{"$f":"IF(ISNA(Lists!$C5),\"\",IF((INDIRECT(\"'\"&Lists!$C5&\"'!\"&Lists!$D5&P$14))=\"\",\"\",(INDIRECT(\"'\"&Lists!$C5&\"'!\"&Lists!$D5&P$14))))","v":""},{"$f":"IF(ISNA(Lists!$C5),\"\",IF((INDIRECT(\"'\"&Lists!$C5&\"'!\"&Lists!$D5&Q$14))=\"\",\"\",(INDIRECT(\"'\"&Lists!$C5&\"'!\"&Lists!$D5&Q$14))))","v":""},{"$f":"IF(ISNA(Lists!$C5),\"\",IF((INDIRECT(\"'\"&Lists!$C5&\"'!\"&Lists!$D5&R$14))=\"\",\"\",(INDIRECT(\"'\"&Lists!$C5&\"'!\"&Lists!$D5&R$14))))","v":""},{"$f":"IF(ISNA(Lists!$C5),\"\",IF((INDIRECT(\"'\"&Lists!$C5&\"'!\"&Lists!$D5&S$14))=\"\",\"\",(INDIRECT(\"'\"&Lists!$C5&\"'!\"&Lists!$D5&S$14))))","v":""},{"$f":"IF(ISNA(Lists!$C5),\"\",IF((INDIRECT(\"'\"&Lists!$C5&\"'!\"&Lists!$E5&T$14))=\"\",\"\",(INDIRECT(\"'\"&Lists!$C5&\"'!\"&Lists!$E5&T$14))))","v":""},{"$f":"IF(ISNA(Lists!$C5),\"\",IF((INDIRECT(\"'\"&Lists!$C5&\"'!\"&Lists!$E5&U$14))=\"\",\"\",(INDIRECT(\"'\"&Lists!$C5&\"'!\"&Lists!$E5&U$14))))","v":""},{"$f":"IF(ISNA(Lists!$C5),\"\",IF((INDIRECT(\"'\"&Lists!$C5&\"'!\"&Lists!$E5&V$14))=\"\",\"\",(INDIRECT(\"'\"&Lists!$C5&\"'!\"&Lists!$E5&V$14))))","v":""},{"$f":"IF(ISNA(Lists!$C5),\"\",IF((INDIRECT(\"'\"&Lists!$C5&\"'!\"&Lists!$E5&W$14))=\"\",\"\",(INDIRECT(\"'\"&Lists!$C5&\"'!\"&Lists!$E5&W$14))))","v":""},{"$f":"IF(ISNA(Lists!$C5),\"\",IF((INDIRECT(\"'\"&Lists!$C5&\"'!\"&Lists!$E5&X$14))=\"\",\"\",(INDIRECT(\"'\"&Lists!$C5&\"'!\"&Lists!$E5&X$14))))","v":""},{"$f":"IF(ISNA(Lists!$C5),\"\",IF((INDIRECT(\"'\"&Lists!$C5&\"'!\"&Lists!$E5&Y$14))=\"\",\"\",(INDIRECT(\"'\"&Lists!$C5&\"'!\"&Lists!$E5&Y$14))))","v":""},{"$f":"IF(ISNA(Lists!$C5),\"\",IF((INDIRECT(\"'\"&Lists!$C5&\"'!\"&Lists!$E5&Z$14))=\"\",\"\",(INDIRECT(\"'\"&Lists!$C5&\"'!\"&Lists!$E5&Z$14))))","v":""},{"$f":"IF(ISNA(Lists!$C5),\"\",IF((INDIRECT(\"'\"&Lists!$C5&\"'!\"&Lists!$E5&AA$14))=\"\",\"\",(INDIRECT(\"'\"&Lists!$C5&\"'!\"&Lists!$E5&AA$14))))","v":""},{"$f":"IF(ISNA(Lists!$C5),\"\",IF((INDIRECT(\"'\"&Lists!$C5&\"'!\"&Lists!$D5&AB$14))=\"\",\"\",(INDIRECT(\"'\"&Lists!$C5&\"'!\"&Lists!$D5&AB$14))))","v":""},{"$f":"IF(ISNA(Lists!$C5),\"\",IF((INDIRECT(\"'\"&Lists!$C5&\"'!\"&Lists!$D5&AC$14))=\"\",\"\",(INDIRECT(\"'\"&Lists!$C5&\"'!\"&Lists!$D5&AC$14))))","v":""},{"$f":"IF(ISNA(Lists!$C5),\"\",IF((INDIRECT(\"'\"&Lists!$C5&\"'!\"&Lists!$D5&AD$14))=\"\",\"\",(INDIRECT(\"'\"&Lists!$C5&\"'!\"&Lists!$D5&AD$14))))","v":""},{"$f":"IF(ISNA(Lists!$C5),\"\",IF((INDIRECT(\"'\"&Lists!$C5&\"'!\"&Lists!$D5&AE$14))=\"\",\"\",(INDIRECT(\"'\"&Lists!$C5&\"'!\"&Lists!$D5&AE$14))))","v":""},{"$f":"IF(ISNA(Lists!$C5),\"\",IF((INDIRECT(\"'\"&Lists!$C5&\"'!\"&Lists!$D5&AF$14))=\"\",\"\",(INDIRECT(\"'\"&Lists!$C5&\"'!\"&Lists!$D5&AF$14))))","v":""},{"$f":"IF(ISNA(Lists!$C5),\"\",IF((INDIRECT(\"'\"&Lists!$C5&\"'!\"&Lists!$D5&AG$14))=\"\",\"\",(INDIRECT(\"'\"&Lists!$C5&\"'!\"&Lists!$D5&AG$14))))","v":""},{"$f":"IF(ISNA(Lists!$C5),\"\",IF((INDIRECT(\"'\"&Lists!$C5&\"'!\"&Lists!$D5&AH$14))=\"\",\"\",(INDIRECT(\"'\"&Lists!$C5&\"'!\"&Lists!$D5&AH$14))))","v":""},{"$f":"IF(ISNA(Lists!$C5),\"\",IF((INDIRECT(\"'\"&Lists!$C5&\"'!\"&Lists!$D5&AI$14))=\"\",\"\",(INDIRECT(\"'\"&Lists!$C5&\"'!\"&Lists!$D5&AI$14))))","v":""},{"$f":"IF(ISNA(Lists!$C5),\"\",IF((INDIRECT(\"'\"&Lists!$C5&\"'!\"&Lists!$D5&AJ$14))=\"\",\"\",(INDIRECT(\"'\"&Lists!$C5&\"'!\"&Lists!$D5&AJ$14))))","v":""},{"$f":"IF(ISNA(Lists!$C5),\"\",IF((INDIRECT(\"'\"&Lists!$C5&\"'!\"&Lists!$D5&AK$14))=\"\",\"\",(INDIRECT(\"'\"&Lists!$C5&\"'!\"&Lists!$D5&AK$14))))","v":""}]
[{"$f":"IF(B19=\"\",\"\",' Facility_Info upload'!$A$24)","v":""},{"$f":"IF(ISNA(Lists!$C6),\"\",IF(INDIRECT(\"'\"&Lists!$C6&\"'!\"&\"B\"&B$14)=\"\",\"\",(INDIRECT(\"'\"&Lists!$C6&\"'!\"&\"B\"&B$14))))","v":""},{"$f":"IF(ISNA(Lists!$C6),\"\",IF(INDIRECT(\"'\"&Lists!$C6&\"'!\"&\"B\"&C$14)=\"\",\"\",(INDIRECT(\"'\"&Lists!$C6&\"'!\"&\"B\"&C$14))))","v":""},{"$f":"IF(ISNA(Lists!$C6),\"\",IF(INDIRECT(\"'\"&Lists!$C6&\"'!\"&\"B\"&D$14)=\"\",\"\",(INDIRECT(\"'\"&Lists!$C6&\"'!\"&\"B\"&D$14))))","v":""},{"$f":"IF(ISNA(Lists!$C6),\"\",IF(INDIRECT(\"'\"&Lists!$C6&\"'!\"&\"B\"&E$14)=\"\",\"\",(INDIRECT(\"'\"&Lists!$C6&\"'!\"&\"B\"&E$14))))","v":""},{"$f":"IF(ISNA(Lists!$C6),\"\",IF(INDIRECT(\"'\"&Lists!$C6&\"'!\"&\"B\"&F$14)=\"\",\"\",(INDIRECT(\"'\"&Lists!$C6&\"'!\"&\"B\"&F$14))))","v":""},{"$f":"IF(ISNA(Lists!$C6),\"\",IF((INDIRECT(\"'\"&Lists!$C6&\"'!\"&Lists!$D6&G$14))=\"\",\"\",(INDIRECT(\"'\"&Lists!$C6&\"'!\"&Lists!$D6&G$14))))","v":""},{"$f":"IF(ISNA(Lists!$C6),\"\",IF((INDIRECT(\"'\"&Lists!$C6&\"'!\"&Lists!$D6&H$14))=\"\",\"\",(INDIRECT(\"'\"&Lists!$C6&\"'!\"&Lists!$D6&H$14))))","v":""},{"$f":"IF(ISNA(Lists!$C6),\"\",IF((INDIRECT(\"'\"&Lists!$C6&\"'!\"&Lists!$D6&I$14))=\"\",\"\",(INDIRECT(\"'\"&Lists!$C6&\"'!\"&Lists!$D6&I$14))))","v":""},{"$f":"IF(ISNA(Lists!$C6),\"\",IF((INDIRECT(\"'\"&Lists!$C6&\"'!\"&Lists!$D6&J$14))=\"\",\"\",(INDIRECT(\"'\"&Lists!$C6&\"'!\"&Lists!$D6&J$14))))","v":""},{"$f":"IF(ISNA(Lists!$C6),\"\",IF((INDIRECT(\"'\"&Lists!$C6&\"'!\"&Lists!$D6&K$14))=\"\",\"\",(INDIRECT(\"'\"&Lists!$C6&\"'!\"&Lists!$D6&K$14))))","v":""},{"$f":"IF(ISNA(Lists!$C6),\"\",IF((INDIRECT(\"'\"&Lists!$C6&\"'!\"&Lists!$D6&L$14))=\"\",\"\",(INDIRECT(\"'\"&Lists!$C6&\"'!\"&Lists!$D6&L$14))))","v":""},{"$f":"IF(ISNA(Lists!$C6),\"\",IF((INDIRECT(\"'\"&Lists!$C6&\"'!\"&Lists!$D6&M$14))=\"\",\"\",(INDIRECT(\"'\"&Lists!$C6&\"'!\"&Lists!$D6&M$14))))","v":""},{"$f":"IF(ISNA(Lists!$C6),\"\",IF((INDIRECT(\"'\"&Lists!$C6&\"'!\"&Lists!$D6&N$14))=\"\",\"\",(INDIRECT(\"'\"&Lists!$C6&\"'!\"&Lists!$D6&N$14))))","v":""},{"$f":"IF(ISNA(Lists!$C6),\"\",IF((INDIRECT(\"'\"&Lists!$C6&\"'!\"&Lists!$D6&O$14))=\"\",\"\",(INDIRECT(\"'\"&Lists!$C6&\"'!\"&Lists!$D6&O$14))))","v":""},{"$f":"IF(ISNA(Lists!$C6),\"\",IF((INDIRECT(\"'\"&Lists!$C6&\"'!\"&Lists!$D6&P$14))=\"\",\"\",(INDIRECT(\"'\"&Lists!$C6&\"'!\"&Lists!$D6&P$14))))","v":""},{"$f":"IF(ISNA(Lists!$C6),\"\",IF((INDIRECT(\"'\"&Lists!$C6&\"'!\"&Lists!$D6&Q$14))=\"\",\"\",(INDIRECT(\"'\"&Lists!$C6&\"'!\"&Lists!$D6&Q$14))))","v":""},{"$f":"IF(ISNA(Lists!$C6),\"\",IF((INDIRECT(\"'\"&Lists!$C6&\"'!\"&Lists!$D6&R$14))=\"\",\"\",(INDIRECT(\"'\"&Lists!$C6&\"'!\"&Lists!$D6&R$14))))","v":""},{"$f":"IF(ISNA(Lists!$C6),\"\",IF((INDIRECT(\"'\"&Lists!$C6&\"'!\"&Lists!$D6&S$14))=\"\",\"\",(INDIRECT(\"'\"&Lists!$C6&\"'!\"&Lists!$D6&S$14))))","v":""},{"$f":"IF(ISNA(Lists!$C6),\"\",IF((INDIRECT(\"'\"&Lists!$C6&\"'!\"&Lists!$E6&T$14))=\"\",\"\",(INDIRECT(\"'\"&Lists!$C6&\"'!\"&Lists!$E6&T$14))))","v":""},{"$f":"IF(ISNA(Lists!$C6),\"\",IF((INDIRECT(\"'\"&Lists!$C6&\"'!\"&Lists!$E6&U$14))=\"\",\"\",(INDIRECT(\"'\"&Lists!$C6&\"'!\"&Lists!$E6&U$14))))","v":""},{"$f":"IF(ISNA(Lists!$C6),\"\",IF((INDIRECT(\"'\"&Lists!$C6&\"'!\"&Lists!$E6&V$14))=\"\",\"\",(INDIRECT(\"'\"&Lists!$C6&\"'!\"&Lists!$E6&V$14))))","v":""},{"$f":"IF(ISNA(Lists!$C6),\"\",IF((INDIRECT(\"'\"&Lists!$C6&\"'!\"&Lists!$E6&W$14))=\"\",\"\",(INDIRECT(\"'\"&Lists!$C6&\"'!\"&Lists!$E6&W$14))))","v":""},{"$f":"IF(ISNA(Lists!$C6),\"\",IF((INDIRECT(\"'\"&Lists!$C6&\"'!\"&Lists!$E6&X$14))=\"\",\"\",(INDIRECT(\"'\"&Lists!$C6&\"'!\"&Lists!$E6&X$14))))","v":""},{"$f":"IF(ISNA(Lists!$C6),\"\",IF((INDIRECT(\"'\"&Lists!$C6&\"'!\"&Lists!$E6&Y$14))=\"\",\"\",(INDIRECT(\"'\"&Lists!$C6&\"'!\"&Lists!$E6&Y$14))))","v":""},{"$f":"IF(ISNA(Lists!$C6),\"\",IF((INDIRECT(\"'\"&Lists!$C6&\"'!\"&Lists!$E6&Z$14))=\"\",\"\",(INDIRECT(\"'\"&Lists!$C6&\"'!\"&Lists!$E6&Z$14))))","v":""},{"$f":"IF(ISNA(Lists!$C6),\"\",IF((INDIRECT(\"'\"&Lists!$C6&\"'!\"&Lists!$E6&AA$14))=\"\",\"\",(INDIRECT(\"'\"&Lists!$C6&\"'!\"&Lists!$E6&AA$14))))","v":""},{"$f":"IF(ISNA(Lists!$C6),\"\",IF((INDIRECT(\"'\"&Lists!$C6&\"'!\"&Lists!$D6&AB$14))=\"\",\"\",(INDIRECT(\"'\"&Lists!$C6&\"'!\"&Lists!$D6&AB$14))))","v":""},{"$f":"IF(ISNA(Lists!$C6),\"\",IF((INDIRECT(\"'\"&Lists!$C6&\"'!\"&Lists!$D6&AC$14))=\"\",\"\",(INDIRECT(\"'\"&Lists!$C6&\"'!\"&Lists!$D6&AC$14))))","v":""},{"$f":"IF(ISNA(Lists!$C6),\"\",IF((INDIRECT(\"'\"&Lists!$C6&\"'!\"&Lists!$D6&AD$14))=\"\",\"\",(INDIRECT(\"'\"&Lists!$C6&\"'!\"&Lists!$D6&AD$14))))","v":""},{"$f":"IF(ISNA(Lists!$C6),\"\",IF((INDIRECT(\"'\"&Lists!$C6&\"'!\"&Lists!$D6&AE$14))=\"\",\"\",(INDIRECT(\"'\"&Lists!$C6&\"'!\"&Lists!$D6&AE$14))))","v":""},{"$f":"IF(ISNA(Lists!$C6),\"\",IF((INDIRECT(\"'\"&Lists!$C6&\"'!\"&Lists!$D6&AF$14))=\"\",\"\",(INDIRECT(\"'\"&Lists!$C6&\"'!\"&Lists!$D6&AF$14))))","v":""},{"$f":"IF(ISNA(Lists!$C6),\"\",IF((INDIRECT(\"'\"&Lists!$C6&\"'!\"&Lists!$D6&AG$14))=\"\",\"\",(INDIRECT(\"'\"&Lists!$C6&\"'!\"&Lists!$D6&AG$14))))","v":""},{"$f":"IF(ISNA(Lists!$C6),\"\",IF((INDIRECT(\"'\"&Lists!$C6&\"'!\"&Lists!$D6&AH$14))=\"\",\"\",(INDIRECT(\"'\"&Lists!$C6&\"'!\"&Lists!$D6&AH$14))))","v":""},{"$f":"IF(ISNA(Lists!$C6),\"\",IF((INDIRECT(\"'\"&Lists!$C6&\"'!\"&Lists!$D6&AI$14))=\"\",\"\",(INDIRECT(\"'\"&Lists!$C6&\"'!\"&Lists!$D6&AI$14))))","v":""},{"$f":"IF(ISNA(Lists!$C6),\"\",IF((INDIRECT(\"'\"&Lists!$C6&\"'!\"&Lists!$D6&AJ$14))=\"\",\"\",(INDIRECT(\"'\"&Lists!$C6&\"'!\"&Lists!$D6&AJ$14))))","v":""},{"$f":"IF(ISNA(Lists!$C6),\"\",IF((INDIRECT(\"'\"&Lists!$C6&\"'!\"&Lists!$D6&AK$14))=\"\",\"\",(INDIRECT(\"'\"&Lists!$C6&\"'!\"&Lists!$D6&AK$14))))","v":""}]
[{"$f":"IF(B20=\"\",\"\",' Facility_Info upload'!$A$24)","v":""},{"$f":"IF(ISNA(Lists!$C7),\"\",IF(INDIRECT(\"'\"&Lists!$C7&\"'!\"&\"B\"&B$14)=\"\",\"\",(INDIRECT(\"'\"&Lists!$C7&\"'!\"&\"B\"&B$14))))","v":""},{"$f":"IF(ISNA(Lists!$C7),\"\",IF(INDIRECT(\"'\"&Lists!$C7&\"'!\"&\"B\"&C$14)=\"\",\"\",(INDIRECT(\"'\"&Lists!$C7&\"'!\"&\"B\"&C$14))))","v":""},{"$f":"IF(ISNA(Lists!$C7),\"\",IF(INDIRECT(\"'\"&Lists!$C7&\"'!\"&\"B\"&D$14)=\"\",\"\",(INDIRECT(\"'\"&Lists!$C7&\"'!\"&\"B\"&D$14))))","v":""},{"$f":"IF(ISNA(Lists!$C7),\"\",IF(INDIRECT(\"'\"&Lists!$C7&\"'!\"&\"B\"&E$14)=\"\",\"\",(INDIRECT(\"'\"&Lists!$C7&\"'!\"&\"B\"&E$14))))","v":""},{"$f":"IF(ISNA(Lists!$C7),\"\",IF(INDIRECT(\"'\"&Lists!$C7&\"'!\"&\"B\"&F$14)=\"\",\"\",(INDIRECT(\"'\"&Lists!$C7&\"'!\"&\"B\"&F$14))))","v":""},{"$f":"IF(ISNA(Lists!$C7),\"\",IF((INDIRECT(\"'\"&Lists!$C7&\"'!\"&Lists!$D7&G$14))=\"\",\"\",(INDIRECT(\"'\"&Lists!$C7&\"'!\"&Lists!$D7&G$14))))","v":""},{"$f":"IF(ISNA(Lists!$C7),\"\",IF((INDIRECT(\"'\"&Lists!$C7&\"'!\"&Lists!$D7&H$14))=\"\",\"\",(INDIRECT(\"'\"&Lists!$C7&\"'!\"&Lists!$D7&H$14))))","v":""},{"$f":"IF(ISNA(Lists!$C7),\"\",IF((INDIRECT(\"'\"&Lists!$C7&\"'!\"&Lists!$D7&I$14))=\"\",\"\",(INDIRECT(\"'\"&Lists!$C7&\"'!\"&Lists!$D7&I$14))))","v":""},{"$f":"IF(ISNA(Lists!$C7),\"\",IF((INDIRECT(\"'\"&Lists!$C7&\"'!\"&Lists!$D7&J$14))=\"\",\"\",(INDIRECT(\"'\"&Lists!$C7&\"'!\"&Lists!$D7&J$14))))","v":""},{"$f":"IF(ISNA(Lists!$C7),\"\",IF((INDIRECT(\"'\"&Lists!$C7&\"'!\"&Lists!$D7&K$14))=\"\",\"\",(INDIRECT(\"'\"&Lists!$C7&\"'!\"&Lists!$D7&K$14))))","v":""},{"$f":"IF(ISNA(Lists!$C7),\"\",IF((INDIRECT(\"'\"&Lists!$C7&\"'!\"&Lists!$D7&L$14))=\"\",\"\",(INDIRECT(\"'\"&Lists!$C7&\"'!\"&Lists!$D7&L$14))))","v":""},{"$f":"IF(ISNA(Lists!$C7),\"\",IF((INDIRECT(\"'\"&Lists!$C7&\"'!\"&Lists!$D7&M$14))=\"\",\"\",(INDIRECT(\"'\"&Lists!$C7&\"'!\"&Lists!$D7&M$14))))","v":""},{"$f":"IF(ISNA(Lists!$C7),\"\",IF((INDIRECT(\"'\"&Lists!$C7&\"'!\"&Lists!$D7&N$14))=\"\",\"\",(INDIRECT(\"'\"&Lists!$C7&\"'!\"&Lists!$D7&N$14))))","v":""},{"$f":"IF(ISNA(Lists!$C7),\"\",IF((INDIRECT(\"'\"&Lists!$C7&\"'!\"&Lists!$D7&O$14))=\"\",\"\",(INDIRECT(\"'\"&Lists!$C7&\"'!\"&Lists!$D7&O$14))))","v":""},{"$f":"IF(ISNA(Lists!$C7),\"\",IF((INDIRECT(\"'\"&Lists!$C7&\"'!\"&Lists!$D7&P$14))=\"\",\"\",(INDIRECT(\"'\"&Lists!$C7&\"'!\"&Lists!$D7&P$14))))","v":""},{"$f":"IF(ISNA(Lists!$C7),\"\",IF((INDIRECT(\"'\"&Lists!$C7&\"'!\"&Lists!$D7&Q$14))=\"\",\"\",(INDIRECT(\"'\"&Lists!$C7&\"'!\"&Lists!$D7&Q$14))))","v":""},{"$f":"IF(ISNA(Lists!$C7),\"\",IF((INDIRECT(\"'\"&Lists!$C7&\"'!\"&Lists!$D7&R$14))=\"\",\"\",(INDIRECT(\"'\"&Lists!$C7&\"'!\"&Lists!$D7&R$14))))","v":""},{"$f":"IF(ISNA(Lists!$C7),\"\",IF((INDIRECT(\"'\"&Lists!$C7&\"'!\"&Lists!$D7&S$14))=\"\",\"\",(INDIRECT(\"'\"&Lists!$C7&\"'!\"&Lists!$D7&S$14))))","v":""},{"$f":"IF(ISNA(Lists!$C7),\"\",IF((INDIRECT(\"'\"&Lists!$C7&\"'!\"&Lists!$E7&T$14))=\"\",\"\",(INDIRECT(\"'\"&Lists!$C7&\"'!\"&Lists!$E7&T$14))))","v":""},{"$f":"IF(ISNA(Lists!$C7),\"\",IF((INDIRECT(\"'\"&Lists!$C7&\"'!\"&Lists!$E7&U$14))=\"\",\"\",(INDIRECT(\"'\"&Lists!$C7&\"'!\"&Lists!$E7&U$14))))","v":""},{"$f":"IF(ISNA(Lists!$C7),\"\",IF((INDIRECT(\"'\"&Lists!$C7&\"'!\"&Lists!$E7&V$14))=\"\",\"\",(INDIRECT(\"'\"&Lists!$C7&\"'!\"&Lists!$E7&V$14))))","v":""},{"$f":"IF(ISNA(Lists!$C7),\"\",IF((INDIRECT(\"'\"&Lists!$C7&\"'!\"&Lists!$E7&W$14))=\"\",\"\",(INDIRECT(\"'\"&Lists!$C7&\"'!\"&Lists!$E7&W$14))))","v":""},{"$f":"IF(ISNA(Lists!$C7),\"\",IF((INDIRECT(\"'\"&Lists!$C7&\"'!\"&Lists!$E7&X$14))=\"\",\"\",(INDIRECT(\"'\"&Lists!$C7&\"'!\"&Lists!$E7&X$14))))","v":""},{"$f":"IF(ISNA(Lists!$C7),\"\",IF((INDIRECT(\"'\"&Lists!$C7&\"'!\"&Lists!$E7&Y$14))=\"\",\"\",(INDIRECT(\"'\"&Lists!$C7&\"'!\"&Lists!$E7&Y$14))))","v":""},{"$f":"IF(ISNA(Lists!$C7),\"\",IF((INDIRECT(\"'\"&Lists!$C7&\"'!\"&Lists!$E7&Z$14))=\"\",\"\",(INDIRECT(\"'\"&Lists!$C7&\"'!\"&Lists!$E7&Z$14))))","v":""},{"$f":"IF(ISNA(Lists!$C7),\"\",IF((INDIRECT(\"'\"&Lists!$C7&\"'!\"&Lists!$E7&AA$14))=\"\",\"\",(INDIRECT(\"'\"&Lists!$C7&\"'!\"&Lists!$E7&AA$14))))","v":""},{"$f":"IF(ISNA(Lists!$C7),\"\",IF((INDIRECT(\"'\"&Lists!$C7&\"'!\"&Lists!$D7&AB$14))=\"\",\"\",(INDIRECT(\"'\"&Lists!$C7&\"'!\"&Lists!$D7&AB$14))))","v":""},{"$f":"IF(ISNA(Lists!$C7),\"\",IF((INDIRECT(\"'\"&Lists!$C7&\"'!\"&Lists!$D7&AC$14))=\"\",\"\",(INDIRECT(\"'\"&Lists!$C7&\"'!\"&Lists!$D7&AC$14))))","v":""},{"$f":"IF(ISNA(Lists!$C7),\"\",IF((INDIRECT(\"'\"&Lists!$C7&\"'!\"&Lists!$D7&AD$14))=\"\",\"\",(INDIRECT(\"'\"&Lists!$C7&\"'!\"&Lists!$D7&AD$14))))","v":""},{"$f":"IF(ISNA(Lists!$C7),\"\",IF((INDIRECT(\"'\"&Lists!$C7&\"'!\"&Lists!$D7&AE$14))=\"\",\"\",(INDIRECT(\"'\"&Lists!$C7&\"'!\"&Lists!$D7&AE$14))))","v":""},{"$f":"IF(ISNA(Lists!$C7),\"\",IF((INDIRECT(\"'\"&Lists!$C7&\"'!\"&Lists!$D7&AF$14))=\"\",\"\",(INDIRECT(\"'\"&Lists!$C7&\"'!\"&Lists!$D7&AF$14))))","v":""},{"$f":"IF(ISNA(Lists!$C7),\"\",IF((INDIRECT(\"'\"&Lists!$C7&\"'!\"&Lists!$D7&AG$14))=\"\",\"\",(INDIRECT(\"'\"&Lists!$C7&\"'!\"&Lists!$D7&AG$14))))","v":""},{"$f":"IF(ISNA(Lists!$C7),\"\",IF((INDIRECT(\"'\"&Lists!$C7&\"'!\"&Lists!$D7&AH$14))=\"\",\"\",(INDIRECT(\"'\"&Lists!$C7&\"'!\"&Lists!$D7&AH$14))))","v":""},{"$f":"IF(ISNA(Lists!$C7),\"\",IF((INDIRECT(\"'\"&Lists!$C7&\"'!\"&Lists!$D7&AI$14))=\"\",\"\",(INDIRECT(\"'\"&Lists!$C7&\"'!\"&Lists!$D7&AI$14))))","v":""},{"$f":"IF(ISNA(Lists!$C7),\"\",IF((INDIRECT(\"'\"&Lists!$C7&\"'!\"&Lists!$D7&AJ$14))=\"\",\"\",(INDIRECT(\"'\"&Lists!$C7&\"'!\"&Lists!$D7&AJ$14))))","v":""},{"$f":"IF(ISNA(Lists!$C7),\"\",IF((INDIRECT(\"'\"&Lists!$C7&\"'!\"&Lists!$D7&AK$14))=\"\",\"\",(INDIRECT(\"'\"&Lists!$C7&\"'!\"&Lists!$D7&AK$14))))","v":""}]
[{"$f":"IF(B21=\"\",\"\",' Facility_Info upload'!$A$24)","v":""},{"$f":"IF(ISNA(Lists!$C8),\"\",IF(INDIRECT(\"'\"&Lists!$C8&\"'!\"&\"B\"&B$14)=\"\",\"\",(INDIRECT(\"'\"&Lists!$C8&\"'!\"&\"B\"&B$14))))","v":""},{"$f":"IF(ISNA(Lists!$C8),\"\",IF(INDIRECT(\"'\"&Lists!$C8&\"'!\"&\"B\"&C$14)=\"\",\"\",(INDIRECT(\"'\"&Lists!$C8&\"'!\"&\"B\"&C$14))))","v":""},{"$f":"IF(ISNA(Lists!$C8),\"\",IF(INDIRECT(\"'\"&Lists!$C8&\"'!\"&\"B\"&D$14)=\"\",\"\",(INDIRECT(\"'\"&Lists!$C8&\"'!\"&\"B\"&D$14))))","v":""},{"$f":"IF(ISNA(Lists!$C8),\"\",IF(INDIRECT(\"'\"&Lists!$C8&\"'!\"&\"B\"&E$14)=\"\",\"\",(INDIRECT(\"'\"&Lists!$C8&\"'!\"&\"B\"&E$14))))","v":""},{"$f":"IF(ISNA(Lists!$C8),\"\",IF(INDIRECT(\"'\"&Lists!$C8&\"'!\"&\"B\"&F$14)=\"\",\"\",(INDIRECT(\"'\"&Lists!$C8&\"'!\"&\"B\"&F$14))))","v":""},{"$f":"IF(ISNA(Lists!$C8),\"\",IF((INDIRECT(\"'\"&Lists!$C8&\"'!\"&Lists!$D8&G$14))=\"\",\"\",(INDIRECT(\"'\"&Lists!$C8&\"'!\"&Lists!$D8&G$14))))","v":""},{"$f":"IF(ISNA(Lists!$C8),\"\",IF((INDIRECT(\"'\"&Lists!$C8&\"'!\"&Lists!$D8&H$14))=\"\",\"\",(INDIRECT(\"'\"&Lists!$C8&\"'!\"&Lists!$D8&H$14))))","v":""},{"$f":"IF(ISNA(Lists!$C8),\"\",IF((INDIRECT(\"'\"&Lists!$C8&\"'!\"&Lists!$D8&I$14))=\"\",\"\",(INDIRECT(\"'\"&Lists!$C8&\"'!\"&Lists!$D8&I$14))))","v":""},{"$f":"IF(ISNA(Lists!$C8),\"\",IF((INDIRECT(\"'\"&Lists!$C8&\"'!\"&Lists!$D8&J$14))=\"\",\"\",(INDIRECT(\"'\"&Lists!$C8&\"'!\"&Lists!$D8&J$14))))","v":""},{"$f":"IF(ISNA(Lists!$C8),\"\",IF((INDIRECT(\"'\"&Lists!$C8&\"'!\"&Lists!$D8&K$14))=\"\",\"\",(INDIRECT(\"'\"&Lists!$C8&\"'!\"&Lists!$D8&K$14))))","v":""},{"$f":"IF(ISNA(Lists!$C8),\"\",IF((INDIRECT(\"'\"&Lists!$C8&\"'!\"&Lists!$D8&L$14))=\"\",\"\",(INDIRECT(\"'\"&Lists!$C8&\"'!\"&Lists!$D8&L$14))))","v":""},{"$f":"IF(ISNA(Lists!$C8),\"\",IF((INDIRECT(\"'\"&Lists!$C8&\"'!\"&Lists!$D8&M$14))=\"\",\"\",(INDIRECT(\"'\"&Lists!$C8&\"'!\"&Lists!$D8&M$14))))","v":""},{"$f":"IF(ISNA(Lists!$C8),\"\",IF((INDIRECT(\"'\"&Lists!$C8&\"'!\"&Lists!$D8&N$14))=\"\",\"\",(INDIRECT(\"'\"&Lists!$C8&\"'!\"&Lists!$D8&N$14))))","v":""},{"$f":"IF(ISNA(Lists!$C8),\"\",IF((INDIRECT(\"'\"&Lists!$C8&\"'!\"&Lists!$D8&O$14))=\"\",\"\",(INDIRECT(\"'\"&Lists!$C8&\"'!\"&Lists!$D8&O$14))))","v":""},{"$f":"IF(ISNA(Lists!$C8),\"\",IF((INDIRECT(\"'\"&Lists!$C8&\"'!\"&Lists!$D8&P$14))=\"\",\"\",(INDIRECT(\"'\"&Lists!$C8&\"'!\"&Lists!$D8&P$14))))","v":""},{"$f":"IF(ISNA(Lists!$C8),\"\",IF((INDIRECT(\"'\"&Lists!$C8&\"'!\"&Lists!$D8&Q$14))=\"\",\"\",(INDIRECT(\"'\"&Lists!$C8&\"'!\"&Lists!$D8&Q$14))))","v":""},{"$f":"IF(ISNA(Lists!$C8),\"\",IF((INDIRECT(\"'\"&Lists!$C8&\"'!\"&Lists!$D8&R$14))=\"\",\"\",(INDIRECT(\"'\"&Lists!$C8&\"'!\"&Lists!$D8&R$14))))","v":""},{"$f":"IF(ISNA(Lists!$C8),\"\",IF((INDIRECT(\"'\"&Lists!$C8&\"'!\"&Lists!$D8&S$14))=\"\",\"\",(INDIRECT(\"'\"&Lists!$C8&\"'!\"&Lists!$D8&S$14))))","v":""},{"$f":"IF(ISNA(Lists!$C8),\"\",IF((INDIRECT(\"'\"&Lists!$C8&\"'!\"&Lists!$E8&T$14))=\"\",\"\",(INDIRECT(\"'\"&Lists!$C8&\"'!\"&Lists!$E8&T$14))))","v":""},{"$f":"IF(ISNA(Lists!$C8),\"\",IF((INDIRECT(\"'\"&Lists!$C8&\"'!\"&Lists!$E8&U$14))=\"\",\"\",(INDIRECT(\"'\"&Lists!$C8&\"'!\"&Lists!$E8&U$14))))","v":""},{"$f":"IF(ISNA(Lists!$C8),\"\",IF((INDIRECT(\"'\"&Lists!$C8&\"'!\"&Lists!$E8&V$14))=\"\",\"\",(INDIRECT(\"'\"&Lists!$C8&\"'!\"&Lists!$E8&V$14))))","v":""},{"$f":"IF(ISNA(Lists!$C8),\"\",IF((INDIRECT(\"'\"&Lists!$C8&\"'!\"&Lists!$E8&W$14))=\"\",\"\",(INDIRECT(\"'\"&Lists!$C8&\"'!\"&Lists!$E8&W$14))))","v":""},{"$f":"IF(ISNA(Lists!$C8),\"\",IF((INDIRECT(\"'\"&Lists!$C8&\"'!\"&Lists!$E8&X$14))=\"\",\"\",(INDIRECT(\"'\"&Lists!$C8&\"'!\"&Lists!$E8&X$14))))","v":""},{"$f":"IF(ISNA(Lists!$C8),\"\",IF((INDIRECT(\"'\"&Lists!$C8&\"'!\"&Lists!$E8&Y$14))=\"\",\"\",(INDIRECT(\"'\"&Lists!$C8&\"'!\"&Lists!$E8&Y$14))))","v":""},{"$f":"IF(ISNA(Lists!$C8),\"\",IF((INDIRECT(\"'\"&Lists!$C8&\"'!\"&Lists!$E8&Z$14))=\"\",\"\",(INDIRECT(\"'\"&Lists!$C8&\"'!\"&Lists!$E8&Z$14))))","v":""},{"$f":"IF(ISNA(Lists!$C8),\"\",IF((INDIRECT(\"'\"&Lists!$C8&\"'!\"&Lists!$E8&AA$14))=\"\",\"\",(INDIRECT(\"'\"&Lists!$C8&\"'!\"&Lists!$E8&AA$14))))","v":""},{"$f":"IF(ISNA(Lists!$C8),\"\",IF((INDIRECT(\"'\"&Lists!$C8&\"'!\"&Lists!$D8&AB$14))=\"\",\"\",(INDIRECT(\"'\"&Lists!$C8&\"'!\"&Lists!$D8&AB$14))))","v":""},{"$f":"IF(ISNA(Lists!$C8),\"\",IF((INDIRECT(\"'\"&Lists!$C8&\"'!\"&Lists!$D8&AC$14))=\"\",\"\",(INDIRECT(\"'\"&Lists!$C8&\"'!\"&Lists!$D8&AC$14))))","v":""},{"$f":"IF(ISNA(Lists!$C8),\"\",IF((INDIRECT(\"'\"&Lists!$C8&\"'!\"&Lists!$D8&AD$14))=\"\",\"\",(INDIRECT(\"'\"&Lists!$C8&\"'!\"&Lists!$D8&AD$14))))","v":""},{"$f":"IF(ISNA(Lists!$C8),\"\",IF((INDIRECT(\"'\"&Lists!$C8&\"'!\"&Lists!$D8&AE$14))=\"\",\"\",(INDIRECT(\"'\"&Lists!$C8&\"'!\"&Lists!$D8&AE$14))))","v":""},{"$f":"IF(ISNA(Lists!$C8),\"\",IF((INDIRECT(\"'\"&Lists!$C8&\"'!\"&Lists!$D8&AF$14))=\"\",\"\",(INDIRECT(\"'\"&Lists!$C8&\"'!\"&Lists!$D8&AF$14))))","v":""},{"$f":"IF(ISNA(Lists!$C8),\"\",IF((INDIRECT(\"'\"&Lists!$C8&\"'!\"&Lists!$D8&AG$14))=\"\",\"\",(INDIRECT(\"'\"&Lists!$C8&\"'!\"&Lists!$D8&AG$14))))","v":""},{"$f":"IF(ISNA(Lists!$C8),\"\",IF((INDIRECT(\"'\"&Lists!$C8&\"'!\"&Lists!$D8&AH$14))=\"\",\"\",(INDIRECT(\"'\"&Lists!$C8&\"'!\"&Lists!$D8&AH$14))))","v":""},{"$f":"IF(ISNA(Lists!$C8),\"\",IF((INDIRECT(\"'\"&Lists!$C8&\"'!\"&Lists!$D8&AI$14))=\"\",\"\",(INDIRECT(\"'\"&Lists!$C8&\"'!\"&Lists!$D8&AI$14))))","v":""},{"$f":"IF(ISNA(Lists!$C8),\"\",IF((INDIRECT(\"'\"&Lists!$C8&\"'!\"&Lists!$D8&AJ$14))=\"\",\"\",(INDIRECT(\"'\"&Lists!$C8&\"'!\"&Lists!$D8&AJ$14))))","v":""},{"$f":"IF(ISNA(Lists!$C8),\"\",IF((INDIRECT(\"'\"&Lists!$C8&\"'!\"&Lists!$D8&AK$14))=\"\",\"\",(INDIRECT(\"'\"&Lists!$C8&\"'!\"&Lists!$D8&AK$14))))","v":""}]
[{"$f":"IF(B22=\"\",\"\",' Facility_Info upload'!$A$24)","v":""},{"$f":"IF(ISNA(Lists!$C9),\"\",IF(INDIRECT(\"'\"&Lists!$C9&\"'!\"&\"B\"&B$14)=\"\",\"\",(INDIRECT(\"'\"&Lists!$C9&\"'!\"&\"B\"&B$14))))","v":""},{"$f":"IF(ISNA(Lists!$C9),\"\",IF(INDIRECT(\"'\"&Lists!$C9&\"'!\"&\"B\"&C$14)=\"\",\"\",(INDIRECT(\"'\"&Lists!$C9&\"'!\"&\"B\"&C$14))))","v":""},{"$f":"IF(ISNA(Lists!$C9),\"\",IF(INDIRECT(\"'\"&Lists!$C9&\"'!\"&\"B\"&D$14)=\"\",\"\",(INDIRECT(\"'\"&Lists!$C9&\"'!\"&\"B\"&D$14))))","v":""},{"$f":"IF(ISNA(Lists!$C9),\"\",IF(INDIRECT(\"'\"&Lists!$C9&\"'!\"&\"B\"&E$14)=\"\",\"\",(INDIRECT(\"'\"&Lists!$C9&\"'!\"&\"B\"&E$14))))","v":""},{"$f":"IF(ISNA(Lists!$C9),\"\",IF(INDIRECT(\"'\"&Lists!$C9&\"'!\"&\"B\"&F$14)=\"\",\"\",(INDIRECT(\"'\"&Lists!$C9&\"'!\"&\"B\"&F$14))))","v":""},{"$f":"IF(ISNA(Lists!$C9),\"\",IF((INDIRECT(\"'\"&Lists!$C9&\"'!\"&Lists!$D9&G$14))=\"\",\"\",(INDIRECT(\"'\"&Lists!$C9&\"'!\"&Lists!$D9&G$14))))","v":""},{"$f":"IF(ISNA(Lists!$C9),\"\",IF((INDIRECT(\"'\"&Lists!$C9&\"'!\"&Lists!$D9&H$14))=\"\",\"\",(INDIRECT(\"'\"&Lists!$C9&\"'!\"&Lists!$D9&H$14))))","v":""},{"$f":"IF(ISNA(Lists!$C9),\"\",IF((INDIRECT(\"'\"&Lists!$C9&\"'!\"&Lists!$D9&I$14))=\"\",\"\",(INDIRECT(\"'\"&Lists!$C9&\"'!\"&Lists!$D9&I$14))))","v":""},{"$f":"IF(ISNA(Lists!$C9),\"\",IF((INDIRECT(\"'\"&Lists!$C9&\"'!\"&Lists!$D9&J$14))=\"\",\"\",(INDIRECT(\"'\"&Lists!$C9&\"'!\"&Lists!$D9&J$14))))","v":""},{"$f":"IF(ISNA(Lists!$C9),\"\",IF((INDIRECT(\"'\"&Lists!$C9&\"'!\"&Lists!$D9&K$14))=\"\",\"\",(INDIRECT(\"'\"&Lists!$C9&\"'!\"&Lists!$D9&K$14))))","v":""},{"$f":"IF(ISNA(Lists!$C9),\"\",IF((INDIRECT(\"'\"&Lists!$C9&\"'!\"&Lists!$D9&L$14))=\"\",\"\",(INDIRECT(\"'\"&Lists!$C9&\"'!\"&Lists!$D9&L$14))))","v":""},{"$f":"IF(ISNA(Lists!$C9),\"\",IF((INDIRECT(\"'\"&Lists!$C9&\"'!\"&Lists!$D9&M$14))=\"\",\"\",(INDIRECT(\"'\"&Lists!$C9&\"'!\"&Lists!$D9&M$14))))","v":""},{"$f":"IF(ISNA(Lists!$C9),\"\",IF((INDIRECT(\"'\"&Lists!$C9&\"'!\"&Lists!$D9&N$14))=\"\",\"\",(INDIRECT(\"'\"&Lists!$C9&\"'!\"&Lists!$D9&N$14))))","v":""},{"$f":"IF(ISNA(Lists!$C9),\"\",IF((INDIRECT(\"'\"&Lists!$C9&\"'!\"&Lists!$D9&O$14))=\"\",\"\",(INDIRECT(\"'\"&Lists!$C9&\"'!\"&Lists!$D9&O$14))))","v":""},{"$f":"IF(ISNA(Lists!$C9),\"\",IF((INDIRECT(\"'\"&Lists!$C9&\"'!\"&Lists!$D9&P$14))=\"\",\"\",(INDIRECT(\"'\"&Lists!$C9&\"'!\"&Lists!$D9&P$14))))","v":""},{"$f":"IF(ISNA(Lists!$C9),\"\",IF((INDIRECT(\"'\"&Lists!$C9&\"'!\"&Lists!$D9&Q$14))=\"\",\"\",(INDIRECT(\"'\"&Lists!$C9&\"'!\"&Lists!$D9&Q$14))))","v":""},{"$f":"IF(ISNA(Lists!$C9),\"\",IF((INDIRECT(\"'\"&Lists!$C9&\"'!\"&Lists!$D9&R$14))=\"\",\"\",(INDIRECT(\"'\"&Lists!$C9&\"'!\"&Lists!$D9&R$14))))","v":""},{"$f":"IF(ISNA(Lists!$C9),\"\",IF((INDIRECT(\"'\"&Lists!$C9&\"'!\"&Lists!$D9&S$14))=\"\",\"\",(INDIRECT(\"'\"&Lists!$C9&\"'!\"&Lists!$D9&S$14))))","v":""},{"$f":"IF(ISNA(Lists!$C9),\"\",IF((INDIRECT(\"'\"&Lists!$C9&\"'!\"&Lists!$E9&T$14))=\"\",\"\",(INDIRECT(\"'\"&Lists!$C9&\"'!\"&Lists!$E9&T$14))))","v":""},{"$f":"IF(ISNA(Lists!$C9),\"\",IF((INDIRECT(\"'\"&Lists!$C9&\"'!\"&Lists!$E9&U$14))=\"\",\"\",(INDIRECT(\"'\"&Lists!$C9&\"'!\"&Lists!$E9&U$14))))","v":""},{"$f":"IF(ISNA(Lists!$C9),\"\",IF((INDIRECT(\"'\"&Lists!$C9&\"'!\"&Lists!$E9&V$14))=\"\",\"\",(INDIRECT(\"'\"&Lists!$C9&\"'!\"&Lists!$E9&V$14))))","v":""},{"$f":"IF(ISNA(Lists!$C9),\"\",IF((INDIRECT(\"'\"&Lists!$C9&\"'!\"&Lists!$E9&W$14))=\"\",\"\",(INDIRECT(\"'\"&Lists!$C9&\"'!\"&Lists!$E9&W$14))))","v":""},{"$f":"IF(ISNA(Lists!$C9),\"\",IF((INDIRECT(\"'\"&Lists!$C9&\"'!\"&Lists!$E9&X$14))=\"\",\"\",(INDIRECT(\"'\"&Lists!$C9&\"'!\"&Lists!$E9&X$14))))","v":""},{"$f":"IF(ISNA(Lists!$C9),\"\",IF((INDIRECT(\"'\"&Lists!$C9&\"'!\"&Lists!$E9&Y$14))=\"\",\"\",(INDIRECT(\"'\"&Lists!$C9&\"'!\"&Lists!$E9&Y$14))))","v":""},{"$f":"IF(ISNA(Lists!$C9),\"\",IF((INDIRECT(\"'\"&Lists!$C9&\"'!\"&Lists!$E9&Z$14))=\"\",\"\",(INDIRECT(\"'\"&Lists!$C9&\"'!\"&Lists!$E9&Z$14))))","v":""},{"$f":"IF(ISNA(Lists!$C9),\"\",IF((INDIRECT(\"'\"&Lists!$C9&\"'!\"&Lists!$E9&AA$14))=\"\",\"\",(INDIRECT(\"'\"&Lists!$C9&\"'!\"&Lists!$E9&AA$14))))","v":""},{"$f":"IF(ISNA(Lists!$C9),\"\",IF((INDIRECT(\"'\"&Lists!$C9&\"'!\"&Lists!$D9&AB$14))=\"\",\"\",(INDIRECT(\"'\"&Lists!$C9&\"'!\"&Lists!$D9&AB$14))))","v":""},{"$f":"IF(ISNA(Lists!$C9),\"\",IF((INDIRECT(\"'\"&Lists!$C9&\"'!\"&Lists!$D9&AC$14))=\"\",\"\",(INDIRECT(\"'\"&Lists!$C9&\"'!\"&Lists!$D9&AC$14))))","v":""},{"$f":"IF(ISNA(Lists!$C9),\"\",IF((INDIRECT(\"'\"&Lists!$C9&\"'!\"&Lists!$D9&AD$14))=\"\",\"\",(INDIRECT(\"'\"&Lists!$C9&\"'!\"&Lists!$D9&AD$14))))","v":""},{"$f":"IF(ISNA(Lists!$C9),\"\",IF((INDIRECT(\"'\"&Lists!$C9&\"'!\"&Lists!$D9&AE$14))=\"\",\"\",(INDIRECT(\"'\"&Lists!$C9&\"'!\"&Lists!$D9&AE$14))))","v":""},{"$f":"IF(ISNA(Lists!$C9),\"\",IF((INDIRECT(\"'\"&Lists!$C9&\"'!\"&Lists!$D9&AF$14))=\"\",\"\",(INDIRECT(\"'\"&Lists!$C9&\"'!\"&Lists!$D9&AF$14))))","v":""},{"$f":"IF(ISNA(Lists!$C9),\"\",IF((INDIRECT(\"'\"&Lists!$C9&\"'!\"&Lists!$D9&AG$14))=\"\",\"\",(INDIRECT(\"'\"&Lists!$C9&\"'!\"&Lists!$D9&AG$14))))","v":""},{"$f":"IF(ISNA(Lists!$C9),\"\",IF((INDIRECT(\"'\"&Lists!$C9&\"'!\"&Lists!$D9&AH$14))=\"\",\"\",(INDIRECT(\"'\"&Lists!$C9&\"'!\"&Lists!$D9&AH$14))))","v":""},{"$f":"IF(ISNA(Lists!$C9),\"\",IF((INDIRECT(\"'\"&Lists!$C9&\"'!\"&Lists!$D9&AI$14))=\"\",\"\",(INDIRECT(\"'\"&Lists!$C9&\"'!\"&Lists!$D9&AI$14))))","v":""},{"$f":"IF(ISNA(Lists!$C9),\"\",IF((INDIRECT(\"'\"&Lists!$C9&\"'!\"&Lists!$D9&AJ$14))=\"\",\"\",(INDIRECT(\"'\"&Lists!$C9&\"'!\"&Lists!$D9&AJ$14))))","v":""},{"$f":"IF(ISNA(Lists!$C9),\"\",IF((INDIRECT(\"'\"&Lists!$C9&\"'!\"&Lists!$D9&AK$14))=\"\",\"\",(INDIRECT(\"'\"&Lists!$C9&\"'!\"&Lists!$D9&AK$14))))","v":""}]
[{"$f":"IF(B23=\"\",\"\",' Facility_Info upload'!$A$24)","v":""},{"$f":"IF(ISNA(Lists!$C10),\"\",IF(INDIRECT(\"'\"&Lists!$C10&\"'!\"&\"B\"&B$14)=\"\",\"\",(INDIRECT(\"'\"&Lists!$C10&\"'!\"&\"B\"&B$14))))","v":""},{"$f":"IF(ISNA(Lists!$C10),\"\",IF(INDIRECT(\"'\"&Lists!$C10&\"'!\"&\"B\"&C$14)=\"\",\"\",(INDIRECT(\"'\"&Lists!$C10&\"'!\"&\"B\"&C$14))))","v":""},{"$f":"IF(ISNA(Lists!$C10),\"\",IF(INDIRECT(\"'\"&Lists!$C10&\"'!\"&\"B\"&D$14)=\"\",\"\",(INDIRECT(\"'\"&Lists!$C10&\"'!\"&\"B\"&D$14))))","v":""},{"$f":"IF(ISNA(Lists!$C10),\"\",IF(INDIRECT(\"'\"&Lists!$C10&\"'!\"&\"B\"&E$14)=\"\",\"\",(INDIRECT(\"'\"&Lists!$C10&\"'!\"&\"B\"&E$14))))","v":""},{"$f":"IF(ISNA(Lists!$C10),\"\",IF(INDIRECT(\"'\"&Lists!$C10&\"'!\"&\"B\"&F$14)=\"\",\"\",(INDIRECT(\"'\"&Lists!$C10&\"'!\"&\"B\"&F$14))))","v":""},{"$f":"IF(ISNA(Lists!$C10),\"\",IF((INDIRECT(\"'\"&Lists!$C10&\"'!\"&Lists!$D10&G$14))=\"\",\"\",(INDIRECT(\"'\"&Lists!$C10&\"'!\"&Lists!$D10&G$14))))","v":""},{"$f":"IF(ISNA(Lists!$C10),\"\",IF((INDIRECT(\"'\"&Lists!$C10&\"'!\"&Lists!$D10&H$14))=\"\",\"\",(INDIRECT(\"'\"&Lists!$C10&\"'!\"&Lists!$D10&H$14))))","v":""},{"$f":"IF(ISNA(Lists!$C10),\"\",IF((INDIRECT(\"'\"&Lists!$C10&\"'!\"&Lists!$D10&I$14))=\"\",\"\",(INDIRECT(\"'\"&Lists!$C10&\"'!\"&Lists!$D10&I$14))))","v":""},{"$f":"IF(ISNA(Lists!$C10),\"\",IF((INDIRECT(\"'\"&Lists!$C10&\"'!\"&Lists!$D10&J$14))=\"\",\"\",(INDIRECT(\"'\"&Lists!$C10&\"'!\"&Lists!$D10&J$14))))","v":""},{"$f":"IF(ISNA(Lists!$C10),\"\",IF((INDIRECT(\"'\"&Lists!$C10&\"'!\"&Lists!$D10&K$14))=\"\",\"\",(INDIRECT(\"'\"&Lists!$C10&\"'!\"&Lists!$D10&K$14))))","v":""},{"$f":"IF(ISNA(Lists!$C10),\"\",IF((INDIRECT(\"'\"&Lists!$C10&\"'!\"&Lists!$D10&L$14))=\"\",\"\",(INDIRECT(\"'\"&Lists!$C10&\"'!\"&Lists!$D10&L$14))))","v":""},{"$f":"IF(ISNA(Lists!$C10),\"\",IF((INDIRECT(\"'\"&Lists!$C10&\"'!\"&Lists!$D10&M$14))=\"\",\"\",(INDIRECT(\"'\"&Lists!$C10&\"'!\"&Lists!$D10&M$14))))","v":""},{"$f":"IF(ISNA(Lists!$C10),\"\",IF((INDIRECT(\"'\"&Lists!$C10&\"'!\"&Lists!$D10&N$14))=\"\",\"\",(INDIRECT(\"'\"&Lists!$C10&\"'!\"&Lists!$D10&N$14))))","v":""},{"$f":"IF(ISNA(Lists!$C10),\"\",IF((INDIRECT(\"'\"&Lists!$C10&\"'!\"&Lists!$D10&O$14))=\"\",\"\",(INDIRECT(\"'\"&Lists!$C10&\"'!\"&Lists!$D10&O$14))))","v":""},{"$f":"IF(ISNA(Lists!$C10),\"\",IF((INDIRECT(\"'\"&Lists!$C10&\"'!\"&Lists!$D10&P$14))=\"\",\"\",(INDIRECT(\"'\"&Lists!$C10&\"'!\"&Lists!$D10&P$14))))","v":""},{"$f":"IF(ISNA(Lists!$C10),\"\",IF((INDIRECT(\"'\"&Lists!$C10&\"'!\"&Lists!$D10&Q$14))=\"\",\"\",(INDIRECT(\"'\"&Lists!$C10&\"'!\"&Lists!$D10&Q$14))))","v":""},{"$f":"IF(ISNA(Lists!$C10),\"\",IF((INDIRECT(\"'\"&Lists!$C10&\"'!\"&Lists!$D10&R$14))=\"\",\"\",(INDIRECT(\"'\"&Lists!$C10&\"'!\"&Lists!$D10&R$14))))","v":""},{"$f":"IF(ISNA(Lists!$C10),\"\",IF((INDIRECT(\"'\"&Lists!$C10&\"'!\"&Lists!$D10&S$14))=\"\",\"\",(INDIRECT(\"'\"&Lists!$C10&\"'!\"&Lists!$D10&S$14))))","v":""},{"$f":"IF(ISNA(Lists!$C10),\"\",IF((INDIRECT(\"'\"&Lists!$C10&\"'!\"&Lists!$E10&T$14))=\"\",\"\",(INDIRECT(\"'\"&Lists!$C10&\"'!\"&Lists!$E10&T$14))))","v":""},{"$f":"IF(ISNA(Lists!$C10),\"\",IF((INDIRECT(\"'\"&Lists!$C10&\"'!\"&Lists!$E10&U$14))=\"\",\"\",(INDIRECT(\"'\"&Lists!$C10&\"'!\"&Lists!$E10&U$14))))","v":""},{"$f":"IF(ISNA(Lists!$C10),\"\",IF((INDIRECT(\"'\"&Lists!$C10&\"'!\"&Lists!$E10&V$14))=\"\",\"\",(INDIRECT(\"'\"&Lists!$C10&\"'!\"&Lists!$E10&V$14))))","v":""},{"$f":"IF(ISNA(Lists!$C10),\"\",IF((INDIRECT(\"'\"&Lists!$C10&\"'!\"&Lists!$E10&W$14))=\"\",\"\",(INDIRECT(\"'\"&Lists!$C10&\"'!\"&Lists!$E10&W$14))))","v":""},{"$f":"IF(ISNA(Lists!$C10),\"\",IF((INDIRECT(\"'\"&Lists!$C10&\"'!\"&Lists!$E10&X$14))=\"\",\"\",(INDIRECT(\"'\"&Lists!$C10&\"'!\"&Lists!$E10&X$14))))","v":""},{"$f":"IF(ISNA(Lists!$C10),\"\",IF((INDIRECT(\"'\"&Lists!$C10&\"'!\"&Lists!$E10&Y$14))=\"\",\"\",(INDIRECT(\"'\"&Lists!$C10&\"'!\"&Lists!$E10&Y$14))))","v":""},{"$f":"IF(ISNA(Lists!$C10),\"\",IF((INDIRECT(\"'\"&Lists!$C10&\"'!\"&Lists!$E10&Z$14))=\"\",\"\",(INDIRECT(\"'\"&Lists!$C10&\"'!\"&Lists!$E10&Z$14))))","v":""},{"$f":"IF(ISNA(Lists!$C10),\"\",IF((INDIRECT(\"'\"&Lists!$C10&\"'!\"&Lists!$E10&AA$14))=\"\",\"\",(INDIRECT(\"'\"&Lists!$C10&\"'!\"&Lists!$E10&AA$14))))","v":""},{"$f":"IF(ISNA(Lists!$C10),\"\",IF((INDIRECT(\"'\"&Lists!$C10&\"'!\"&Lists!$D10&AB$14))=\"\",\"\",(INDIRECT(\"'\"&Lists!$C10&\"'!\"&Lists!$D10&AB$14))))","v":""},{"$f":"IF(ISNA(Lists!$C10),\"\",IF((INDIRECT(\"'\"&Lists!$C10&\"'!\"&Lists!$D10&AC$14))=\"\",\"\",(INDIRECT(\"'\"&Lists!$C10&\"'!\"&Lists!$D10&AC$14))))","v":""},{"$f":"IF(ISNA(Lists!$C10),\"\",IF((INDIRECT(\"'\"&Lists!$C10&\"'!\"&Lists!$D10&AD$14))=\"\",\"\",(INDIRECT(\"'\"&Lists!$C10&\"'!\"&Lists!$D10&AD$14))))","v":""},{"$f":"IF(ISNA(Lists!$C10),\"\",IF((INDIRECT(\"'\"&Lists!$C10&\"'!\"&Lists!$D10&AE$14))=\"\",\"\",(INDIRECT(\"'\"&Lists!$C10&\"'!\"&Lists!$D10&AE$14))))","v":""},{"$f":"IF(ISNA(Lists!$C10),\"\",IF((INDIRECT(\"'\"&Lists!$C10&\"'!\"&Lists!$D10&AF$14))=\"\",\"\",(INDIRECT(\"'\"&Lists!$C10&\"'!\"&Lists!$D10&AF$14))))","v":""},{"$f":"IF(ISNA(Lists!$C10),\"\",IF((INDIRECT(\"'\"&Lists!$C10&\"'!\"&Lists!$D10&AG$14))=\"\",\"\",(INDIRECT(\"'\"&Lists!$C10&\"'!\"&Lists!$D10&AG$14))))","v":""},{"$f":"IF(ISNA(Lists!$C10),\"\",IF((INDIRECT(\"'\"&Lists!$C10&\"'!\"&Lists!$D10&AH$14))=\"\",\"\",(INDIRECT(\"'\"&Lists!$C10&\"'!\"&Lists!$D10&AH$14))))","v":""},{"$f":"IF(ISNA(Lists!$C10),\"\",IF((INDIRECT(\"'\"&Lists!$C10&\"'!\"&Lists!$D10&AI$14))=\"\",\"\",(INDIRECT(\"'\"&Lists!$C10&\"'!\"&Lists!$D10&AI$14))))","v":""},{"$f":"IF(ISNA(Lists!$C10),\"\",IF((INDIRECT(\"'\"&Lists!$C10&\"'!\"&Lists!$D10&AJ$14))=\"\",\"\",(INDIRECT(\"'\"&Lists!$C10&\"'!\"&Lists!$D10&AJ$14))))","v":""},{"$f":"IF(ISNA(Lists!$C10),\"\",IF((INDIRECT(\"'\"&Lists!$C10&\"'!\"&Lists!$D10&AK$14))=\"\",\"\",(INDIRECT(\"'\"&Lists!$C10&\"'!\"&Lists!$D10&AK$14))))","v":""}]
[{"$f":"IF(B24=\"\",\"\",' Facility_Info upload'!$A$24)","v":""},{"$f":"IF(ISNA(Lists!$C11),\"\",IF(INDIRECT(\"'\"&Lists!$C11&\"'!\"&\"B\"&B$14)=\"\",\"\",(INDIRECT(\"'\"&Lists!$C11&\"'!\"&\"B\"&B$14))))","v":""},{"$f":"IF(ISNA(Lists!$C11),\"\",IF(INDIRECT(\"'\"&Lists!$C11&\"'!\"&\"B\"&C$14)=\"\",\"\",(INDIRECT(\"'\"&Lists!$C11&\"'!\"&\"B\"&C$14))))","v":""},{"$f":"IF(ISNA(Lists!$C11),\"\",IF(INDIRECT(\"'\"&Lists!$C11&\"'!\"&\"B\"&D$14)=\"\",\"\",(INDIRECT(\"'\"&Lists!$C11&\"'!\"&\"B\"&D$14))))","v":""},{"$f":"IF(ISNA(Lists!$C11),\"\",IF(INDIRECT(\"'\"&Lists!$C11&\"'!\"&\"B\"&E$14)=\"\",\"\",(INDIRECT(\"'\"&Lists!$C11&\"'!\"&\"B\"&E$14))))","v":""},{"$f":"IF(ISNA(Lists!$C11),\"\",IF(INDIRECT(\"'\"&Lists!$C11&\"'!\"&\"B\"&F$14)=\"\",\"\",(INDIRECT(\"'\"&Lists!$C11&\"'!\"&\"B\"&F$14))))","v":""},{"$f":"IF(ISNA(Lists!$C11),\"\",IF((INDIRECT(\"'\"&Lists!$C11&\"'!\"&Lists!$D11&G$14))=\"\",\"\",(INDIRECT(\"'\"&Lists!$C11&\"'!\"&Lists!$D11&G$14))))","v":""},{"$f":"IF(ISNA(Lists!$C11),\"\",IF((INDIRECT(\"'\"&Lists!$C11&\"'!\"&Lists!$D11&H$14))=\"\",\"\",(INDIRECT(\"'\"&Lists!$C11&\"'!\"&Lists!$D11&H$14))))","v":""},{"$f":"IF(ISNA(Lists!$C11),\"\",IF((INDIRECT(\"'\"&Lists!$C11&\"'!\"&Lists!$D11&I$14))=\"\",\"\",(INDIRECT(\"'\"&Lists!$C11&\"'!\"&Lists!$D11&I$14))))","v":""},{"$f":"IF(ISNA(Lists!$C11),\"\",IF((INDIRECT(\"'\"&Lists!$C11&\"'!\"&Lists!$D11&J$14))=\"\",\"\",(INDIRECT(\"'\"&Lists!$C11&\"'!\"&Lists!$D11&J$14))))","v":""},{"$f":"IF(ISNA(Lists!$C11),\"\",IF((INDIRECT(\"'\"&Lists!$C11&\"'!\"&Lists!$D11&K$14))=\"\",\"\",(INDIRECT(\"'\"&Lists!$C11&\"'!\"&Lists!$D11&K$14))))","v":""},{"$f":"IF(ISNA(Lists!$C11),\"\",IF((INDIRECT(\"'\"&Lists!$C11&\"'!\"&Lists!$D11&L$14))=\"\",\"\",(INDIRECT(\"'\"&Lists!$C11&\"'!\"&Lists!$D11&L$14))))","v":""},{"$f":"IF(ISNA(Lists!$C11),\"\",IF((INDIRECT(\"'\"&Lists!$C11&\"'!\"&Lists!$D11&M$14))=\"\",\"\",(INDIRECT(\"'\"&Lists!$C11&\"'!\"&Lists!$D11&M$14))))","v":""},{"$f":"IF(ISNA(Lists!$C11),\"\",IF((INDIRECT(\"'\"&Lists!$C11&\"'!\"&Lists!$D11&N$14))=\"\",\"\",(INDIRECT(\"'\"&Lists!$C11&\"'!\"&Lists!$D11&N$14))))","v":""},{"$f":"IF(ISNA(Lists!$C11),\"\",IF((INDIRECT(\"'\"&Lists!$C11&\"'!\"&Lists!$D11&O$14))=\"\",\"\",(INDIRECT(\"'\"&Lists!$C11&\"'!\"&Lists!$D11&O$14))))","v":""},{"$f":"IF(ISNA(Lists!$C11),\"\",IF((INDIRECT(\"'\"&Lists!$C11&\"'!\"&Lists!$D11&P$14))=\"\",\"\",(INDIRECT(\"'\"&Lists!$C11&\"'!\"&Lists!$D11&P$14))))","v":""},{"$f":"IF(ISNA(Lists!$C11),\"\",IF((INDIRECT(\"'\"&Lists!$C11&\"'!\"&Lists!$D11&Q$14))=\"\",\"\",(INDIRECT(\"'\"&Lists!$C11&\"'!\"&Lists!$D11&Q$14))))","v":""},{"$f":"IF(ISNA(Lists!$C11),\"\",IF((INDIRECT(\"'\"&Lists!$C11&\"'!\"&Lists!$D11&R$14))=\"\",\"\",(INDIRECT(\"'\"&Lists!$C11&\"'!\"&Lists!$D11&R$14))))","v":""},{"$f":"IF(ISNA(Lists!$C11),\"\",IF((INDIRECT(\"'\"&Lists!$C11&\"'!\"&Lists!$D11&S$14))=\"\",\"\",(INDIRECT(\"'\"&Lists!$C11&\"'!\"&Lists!$D11&S$14))))","v":""},{"$f":"IF(ISNA(Lists!$C11),\"\",IF((INDIRECT(\"'\"&Lists!$C11&\"'!\"&Lists!$E11&T$14))=\"\",\"\",(INDIRECT(\"'\"&Lists!$C11&\"'!\"&Lists!$E11&T$14))))","v":""},{"$f":"IF(ISNA(Lists!$C11),\"\",IF((INDIRECT(\"'\"&Lists!$C11&\"'!\"&Lists!$E11&U$14))=\"\",\"\",(INDIRECT(\"'\"&Lists!$C11&\"'!\"&Lists!$E11&U$14))))","v":""},{"$f":"IF(ISNA(Lists!$C11),\"\",IF((INDIRECT(\"'\"&Lists!$C11&\"'!\"&Lists!$E11&V$14))=\"\",\"\",(INDIRECT(\"'\"&Lists!$C11&\"'!\"&Lists!$E11&V$14))))","v":""},{"$f":"IF(ISNA(Lists!$C11),\"\",IF((INDIRECT(\"'\"&Lists!$C11&\"'!\"&Lists!$E11&W$14))=\"\",\"\",(INDIRECT(\"'\"&Lists!$C11&\"'!\"&Lists!$E11&W$14))))","v":""},{"$f":"IF(ISNA(Lists!$C11),\"\",IF((INDIRECT(\"'\"&Lists!$C11&\"'!\"&Lists!$E11&X$14))=\"\",\"\",(INDIRECT(\"'\"&Lists!$C11&\"'!\"&Lists!$E11&X$14))))","v":""},{"$f":"IF(ISNA(Lists!$C11),\"\",IF((INDIRECT(\"'\"&Lists!$C11&\"'!\"&Lists!$E11&Y$14))=\"\",\"\",(INDIRECT(\"'\"&Lists!$C11&\"'!\"&Lists!$E11&Y$14))))","v":""},{"$f":"IF(ISNA(Lists!$C11),\"\",IF((INDIRECT(\"'\"&Lists!$C11&\"'!\"&Lists!$E11&Z$14))=\"\",\"\",(INDIRECT(\"'\"&Lists!$C11&\"'!\"&Lists!$E11&Z$14))))","v":""},{"$f":"IF(ISNA(Lists!$C11),\"\",IF((INDIRECT(\"'\"&Lists!$C11&\"'!\"&Lists!$E11&AA$14))=\"\",\"\",(INDIRECT(\"'\"&Lists!$C11&\"'!\"&Lists!$E11&AA$14))))","v":""},{"$f":"IF(ISNA(Lists!$C11),\"\",IF((INDIRECT(\"'\"&Lists!$C11&\"'!\"&Lists!$D11&AB$14))=\"\",\"\",(INDIRECT(\"'\"&Lists!$C11&\"'!\"&Lists!$D11&AB$14))))","v":""},{"$f":"IF(ISNA(Lists!$C11),\"\",IF((INDIRECT(\"'\"&Lists!$C11&\"'!\"&Lists!$D11&AC$14))=\"\",\"\",(INDIRECT(\"'\"&Lists!$C11&\"'!\"&Lists!$D11&AC$14))))","v":""},{"$f":"IF(ISNA(Lists!$C11),\"\",IF((INDIRECT(\"'\"&Lists!$C11&\"'!\"&Lists!$D11&AD$14))=\"\",\"\",(INDIRECT(\"'\"&Lists!$C11&\"'!\"&Lists!$D11&AD$14))))","v":""},{"$f":"IF(ISNA(Lists!$C11),\"\",IF((INDIRECT(\"'\"&Lists!$C11&\"'!\"&Lists!$D11&AE$14))=\"\",\"\",(INDIRECT(\"'\"&Lists!$C11&\"'!\"&Lists!$D11&AE$14))))","v":""},{"$f":"IF(ISNA(Lists!$C11),\"\",IF((INDIRECT(\"'\"&Lists!$C11&\"'!\"&Lists!$D11&AF$14))=\"\",\"\",(INDIRECT(\"'\"&Lists!$C11&\"'!\"&Lists!$D11&AF$14))))","v":""},{"$f":"IF(ISNA(Lists!$C11),\"\",IF((INDIRECT(\"'\"&Lists!$C11&\"'!\"&Lists!$D11&AG$14))=\"\",\"\",(INDIRECT(\"'\"&Lists!$C11&\"'!\"&Lists!$D11&AG$14))))","v":""},{"$f":"IF(ISNA(Lists!$C11),\"\",IF((INDIRECT(\"'\"&Lists!$C11&\"'!\"&Lists!$D11&AH$14))=\"\",\"\",(INDIRECT(\"'\"&Lists!$C11&\"'!\"&Lists!$D11&AH$14))))","v":""},{"$f":"IF(ISNA(Lists!$C11),\"\",IF((INDIRECT(\"'\"&Lists!$C11&\"'!\"&Lists!$D11&AI$14))=\"\",\"\",(INDIRECT(\"'\"&Lists!$C11&\"'!\"&Lists!$D11&AI$14))))","v":""},{"$f":"IF(ISNA(Lists!$C11),\"\",IF((INDIRECT(\"'\"&Lists!$C11&\"'!\"&Lists!$D11&AJ$14))=\"\",\"\",(INDIRECT(\"'\"&Lists!$C11&\"'!\"&Lists!$D11&AJ$14))))","v":""},{"$f":"IF(ISNA(Lists!$C11),\"\",IF((INDIRECT(\"'\"&Lists!$C11&\"'!\"&Lists!$D11&AK$14))=\"\",\"\",(INDIRECT(\"'\"&Lists!$C11&\"'!\"&Lists!$D11&AK$14))))","v":""}]
[{"$f":"IF(B25=\"\",\"\",' Facility_Info upload'!$A$24)","v":""},{"$f":"IF(ISNA(Lists!$C12),\"\",IF(INDIRECT(\"'\"&Lists!$C12&\"'!\"&\"B\"&B$14)=\"\",\"\",(INDIRECT(\"'\"&Lists!$C12&\"'!\"&\"B\"&B$14))))","v":""},{"$f":"IF(ISNA(Lists!$C12),\"\",IF(INDIRECT(\"'\"&Lists!$C12&\"'!\"&\"B\"&C$14)=\"\",\"\",(INDIRECT(\"'\"&Lists!$C12&\"'!\"&\"B\"&C$14))))","v":""},{"$f":"IF(ISNA(Lists!$C12),\"\",IF(INDIRECT(\"'\"&Lists!$C12&\"'!\"&\"B\"&D$14)=\"\",\"\",(INDIRECT(\"'\"&Lists!$C12&\"'!\"&\"B\"&D$14))))","v":""},{"$f":"IF(ISNA(Lists!$C12),\"\",IF(INDIRECT(\"'\"&Lists!$C12&\"'!\"&\"B\"&E$14)=\"\",\"\",(INDIRECT(\"'\"&Lists!$C12&\"'!\"&\"B\"&E$14))))","v":""},{"$f":"IF(ISNA(Lists!$C12),\"\",IF(INDIRECT(\"'\"&Lists!$C12&\"'!\"&\"B\"&F$14)=\"\",\"\",(INDIRECT(\"'\"&Lists!$C12&\"'!\"&\"B\"&F$14))))","v":""},{"$f":"IF(ISNA(Lists!$C12),\"\",IF((INDIRECT(\"'\"&Lists!$C12&\"'!\"&Lists!$D12&G$14))=\"\",\"\",(INDIRECT(\"'\"&Lists!$C12&\"'!\"&Lists!$D12&G$14))))","v":""},{"$f":"IF(ISNA(Lists!$C12),\"\",IF((INDIRECT(\"'\"&Lists!$C12&\"'!\"&Lists!$D12&H$14))=\"\",\"\",(INDIRECT(\"'\"&Lists!$C12&\"'!\"&Lists!$D12&H$14))))","v":""},{"$f":"IF(ISNA(Lists!$C12),\"\",IF((INDIRECT(\"'\"&Lists!$C12&\"'!\"&Lists!$D12&I$14))=\"\",\"\",(INDIRECT(\"'\"&Lists!$C12&\"'!\"&Lists!$D12&I$14))))","v":""},{"$f":"IF(ISNA(Lists!$C12),\"\",IF((INDIRECT(\"'\"&Lists!$C12&\"'!\"&Lists!$D12&J$14))=\"\",\"\",(INDIRECT(\"'\"&Lists!$C12&\"'!\"&Lists!$D12&J$14))))","v":""},{"$f":"IF(ISNA(Lists!$C12),\"\",IF((INDIRECT(\"'\"&Lists!$C12&\"'!\"&Lists!$D12&K$14))=\"\",\"\",(INDIRECT(\"'\"&Lists!$C12&\"'!\"&Lists!$D12&K$14))))","v":""},{"$f":"IF(ISNA(Lists!$C12),\"\",IF((INDIRECT(\"'\"&Lists!$C12&\"'!\"&Lists!$D12&L$14))=\"\",\"\",(INDIRECT(\"'\"&Lists!$C12&\"'!\"&Lists!$D12&L$14))))","v":""},{"$f":"IF(ISNA(Lists!$C12),\"\",IF((INDIRECT(\"'\"&Lists!$C12&\"'!\"&Lists!$D12&M$14))=\"\",\"\",(INDIRECT(\"'\"&Lists!$C12&\"'!\"&Lists!$D12&M$14))))","v":""},{"$f":"IF(ISNA(Lists!$C12),\"\",IF((INDIRECT(\"'\"&Lists!$C12&\"'!\"&Lists!$D12&N$14))=\"\",\"\",(INDIRECT(\"'\"&Lists!$C12&\"'!\"&Lists!$D12&N$14))))","v":""},{"$f":"IF(ISNA(Lists!$C12),\"\",IF((INDIRECT(\"'\"&Lists!$C12&\"'!\"&Lists!$D12&O$14))=\"\",\"\",(INDIRECT(\"'\"&Lists!$C12&\"'!\"&Lists!$D12&O$14))))","v":""},{"$f":"IF(ISNA(Lists!$C12),\"\",IF((INDIRECT(\"'\"&Lists!$C12&\"'!\"&Lists!$D12&P$14))=\"\",\"\",(INDIRECT(\"'\"&Lists!$C12&\"'!\"&Lists!$D12&P$14))))","v":""},{"$f":"IF(ISNA(Lists!$C12),\"\",IF((INDIRECT(\"'\"&Lists!$C12&\"'!\"&Lists!$D12&Q$14))=\"\",\"\",(INDIRECT(\"'\"&Lists!$C12&\"'!\"&Lists!$D12&Q$14))))","v":""},{"$f":"IF(ISNA(Lists!$C12),\"\",IF((INDIRECT(\"'\"&Lists!$C12&\"'!\"&Lists!$D12&R$14))=\"\",\"\",(INDIRECT(\"'\"&Lists!$C12&\"'!\"&Lists!$D12&R$14))))","v":""},{"$f":"IF(ISNA(Lists!$C12),\"\",IF((INDIRECT(\"'\"&Lists!$C12&\"'!\"&Lists!$D12&S$14))=\"\",\"\",(INDIRECT(\"'\"&Lists!$C12&\"'!\"&Lists!$D12&S$14))))","v":""},{"$f":"IF(ISNA(Lists!$C12),\"\",IF((INDIRECT(\"'\"&Lists!$C12&\"'!\"&Lists!$E12&T$14))=\"\",\"\",(INDIRECT(\"'\"&Lists!$C12&\"'!\"&Lists!$E12&T$14))))","v":""},{"$f":"IF(ISNA(Lists!$C12),\"\",IF((INDIRECT(\"'\"&Lists!$C12&\"'!\"&Lists!$E12&U$14))=\"\",\"\",(INDIRECT(\"'\"&Lists!$C12&\"'!\"&Lists!$E12&U$14))))","v":""},{"$f":"IF(ISNA(Lists!$C12),\"\",IF((INDIRECT(\"'\"&Lists!$C12&\"'!\"&Lists!$E12&V$14))=\"\",\"\",(INDIRECT(\"'\"&Lists!$C12&\"'!\"&Lists!$E12&V$14))))","v":""},{"$f":"IF(ISNA(Lists!$C12),\"\",IF((INDIRECT(\"'\"&Lists!$C12&\"'!\"&Lists!$E12&W$14))=\"\",\"\",(INDIRECT(\"'\"&Lists!$C12&\"'!\"&Lists!$E12&W$14))))","v":""},{"$f":"IF(ISNA(Lists!$C12),\"\",IF((INDIRECT(\"'\"&Lists!$C12&\"'!\"&Lists!$E12&X$14))=\"\",\"\",(INDIRECT(\"'\"&Lists!$C12&\"'!\"&Lists!$E12&X$14))))","v":""},{"$f":"IF(ISNA(Lists!$C12),\"\",IF((INDIRECT(\"'\"&Lists!$C12&\"'!\"&Lists!$E12&Y$14))=\"\",\"\",(INDIRECT(\"'\"&Lists!$C12&\"'!\"&Lists!$E12&Y$14))))","v":""},{"$f":"IF(ISNA(Lists!$C12),\"\",IF((INDIRECT(\"'\"&Lists!$C12&\"'!\"&Lists!$E12&Z$14))=\"\",\"\",(INDIRECT(\"'\"&Lists!$C12&\"'!\"&Lists!$E12&Z$14))))","v":""},{"$f":"IF(ISNA(Lists!$C12),\"\",IF((INDIRECT(\"'\"&Lists!$C12&\"'!\"&Lists!$E12&AA$14))=\"\",\"\",(INDIRECT(\"'\"&Lists!$C12&\"'!\"&Lists!$E12&AA$14))))","v":""},{"$f":"IF(ISNA(Lists!$C12),\"\",IF((INDIRECT(\"'\"&Lists!$C12&\"'!\"&Lists!$D12&AB$14))=\"\",\"\",(INDIRECT(\"'\"&Lists!$C12&\"'!\"&Lists!$D12&AB$14))))","v":""},{"$f":"IF(ISNA(Lists!$C12),\"\",IF((INDIRECT(\"'\"&Lists!$C12&\"'!\"&Lists!$D12&AC$14))=\"\",\"\",(INDIRECT(\"'\"&Lists!$C12&\"'!\"&Lists!$D12&AC$14))))","v":""},{"$f":"IF(ISNA(Lists!$C12),\"\",IF((INDIRECT(\"'\"&Lists!$C12&\"'!\"&Lists!$D12&AD$14))=\"\",\"\",(INDIRECT(\"'\"&Lists!$C12&\"'!\"&Lists!$D12&AD$14))))","v":""},{"$f":"IF(ISNA(Lists!$C12),\"\",IF((INDIRECT(\"'\"&Lists!$C12&\"'!\"&Lists!$D12&AE$14))=\"\",\"\",(INDIRECT(\"'\"&Lists!$C12&\"'!\"&Lists!$D12&AE$14))))","v":""},{"$f":"IF(ISNA(Lists!$C12),\"\",IF((INDIRECT(\"'\"&Lists!$C12&\"'!\"&Lists!$D12&AF$14))=\"\",\"\",(INDIRECT(\"'\"&Lists!$C12&\"'!\"&Lists!$D12&AF$14))))","v":""},{"$f":"IF(ISNA(Lists!$C12),\"\",IF((INDIRECT(\"'\"&Lists!$C12&\"'!\"&Lists!$D12&AG$14))=\"\",\"\",(INDIRECT(\"'\"&Lists!$C12&\"'!\"&Lists!$D12&AG$14))))","v":""},{"$f":"IF(ISNA(Lists!$C12),\"\",IF((INDIRECT(\"'\"&Lists!$C12&\"'!\"&Lists!$D12&AH$14))=\"\",\"\",(INDIRECT(\"'\"&Lists!$C12&\"'!\"&Lists!$D12&AH$14))))","v":""},{"$f":"IF(ISNA(Lists!$C12),\"\",IF((INDIRECT(\"'\"&Lists!$C12&\"'!\"&Lists!$D12&AI$14))=\"\",\"\",(INDIRECT(\"'\"&Lists!$C12&\"'!\"&Lists!$D12&AI$14))))","v":""},{"$f":"IF(ISNA(Lists!$C12),\"\",IF((INDIRECT(\"'\"&Lists!$C12&\"'!\"&Lists!$D12&AJ$14))=\"\",\"\",(INDIRECT(\"'\"&Lists!$C12&\"'!\"&Lists!$D12&AJ$14))))","v":""},{"$f":"IF(ISNA(Lists!$C12),\"\",IF((INDIRECT(\"'\"&Lists!$C12&\"'!\"&Lists!$D12&AK$14))=\"\",\"\",(INDIRECT(\"'\"&Lists!$C12&\"'!\"&Lists!$D12&AK$14))))","v":""}]
[{"$f":"IF(B26=\"\",\"\",' Facility_Info upload'!$A$24)","v":""},{"$f":"IF(ISNA(Lists!$C13),\"\",IF(INDIRECT(\"'\"&Lists!$C13&\"'!\"&\"B\"&B$14)=\"\",\"\",(INDIRECT(\"'\"&Lists!$C13&\"'!\"&\"B\"&B$14))))","v":""},{"$f":"IF(ISNA(Lists!$C13),\"\",IF(INDIRECT(\"'\"&Lists!$C13&\"'!\"&\"B\"&C$14)=\"\",\"\",(INDIRECT(\"'\"&Lists!$C13&\"'!\"&\"B\"&C$14))))","v":""},{"$f":"IF(ISNA(Lists!$C13),\"\",IF(INDIRECT(\"'\"&Lists!$C13&\"'!\"&\"B\"&D$14)=\"\",\"\",(INDIRECT(\"'\"&Lists!$C13&\"'!\"&\"B\"&D$14))))","v":""},{"$f":"IF(ISNA(Lists!$C13),\"\",IF(INDIRECT(\"'\"&Lists!$C13&\"'!\"&\"B\"&E$14)=\"\",\"\",(INDIRECT(\"'\"&Lists!$C13&\"'!\"&\"B\"&E$14))))","v":""},{"$f":"IF(ISNA(Lists!$C13),\"\",IF(INDIRECT(\"'\"&Lists!$C13&\"'!\"&\"B\"&F$14)=\"\",\"\",(INDIRECT(\"'\"&Lists!$C13&\"'!\"&\"B\"&F$14))))","v":""},{"$f":"IF(ISNA(Lists!$C13),\"\",IF((INDIRECT(\"'\"&Lists!$C13&\"'!\"&Lists!$D13&G$14))=\"\",\"\",(INDIRECT(\"'\"&Lists!$C13&\"'!\"&Lists!$D13&G$14))))","v":""},{"$f":"IF(ISNA(Lists!$C13),\"\",IF((INDIRECT(\"'\"&Lists!$C13&\"'!\"&Lists!$D13&H$14))=\"\",\"\",(INDIRECT(\"'\"&Lists!$C13&\"'!\"&Lists!$D13&H$14))))","v":""},{"$f":"IF(ISNA(Lists!$C13),\"\",IF((INDIRECT(\"'\"&Lists!$C13&\"'!\"&Lists!$D13&I$14))=\"\",\"\",(INDIRECT(\"'\"&Lists!$C13&\"'!\"&Lists!$D13&I$14))))","v":""},{"$f":"IF(ISNA(Lists!$C13),\"\",IF((INDIRECT(\"'\"&Lists!$C13&\"'!\"&Lists!$D13&J$14))=\"\",\"\",(INDIRECT(\"'\"&Lists!$C13&\"'!\"&Lists!$D13&J$14))))","v":""},{"$f":"IF(ISNA(Lists!$C13),\"\",IF((INDIRECT(\"'\"&Lists!$C13&\"'!\"&Lists!$D13&K$14))=\"\",\"\",(INDIRECT(\"'\"&Lists!$C13&\"'!\"&Lists!$D13&K$14))))","v":""},{"$f":"IF(ISNA(Lists!$C13),\"\",IF((INDIRECT(\"'\"&Lists!$C13&\"'!\"&Lists!$D13&L$14))=\"\",\"\",(INDIRECT(\"'\"&Lists!$C13&\"'!\"&Lists!$D13&L$14))))","v":""},{"$f":"IF(ISNA(Lists!$C13),\"\",IF((INDIRECT(\"'\"&Lists!$C13&\"'!\"&Lists!$D13&M$14))=\"\",\"\",(INDIRECT(\"'\"&Lists!$C13&\"'!\"&Lists!$D13&M$14))))","v":""},{"$f":"IF(ISNA(Lists!$C13),\"\",IF((INDIRECT(\"'\"&Lists!$C13&\"'!\"&Lists!$D13&N$14))=\"\",\"\",(INDIRECT(\"'\"&Lists!$C13&\"'!\"&Lists!$D13&N$14))))","v":""},{"$f":"IF(ISNA(Lists!$C13),\"\",IF((INDIRECT(\"'\"&Lists!$C13&\"'!\"&Lists!$D13&O$14))=\"\",\"\",(INDIRECT(\"'\"&Lists!$C13&\"'!\"&Lists!$D13&O$14))))","v":""},{"$f":"IF(ISNA(Lists!$C13),\"\",IF((INDIRECT(\"'\"&Lists!$C13&\"'!\"&Lists!$D13&P$14))=\"\",\"\",(INDIRECT(\"'\"&Lists!$C13&\"'!\"&Lists!$D13&P$14))))","v":""},{"$f":"IF(ISNA(Lists!$C13),\"\",IF((INDIRECT(\"'\"&Lists!$C13&\"'!\"&Lists!$D13&Q$14))=\"\",\"\",(INDIRECT(\"'\"&Lists!$C13&\"'!\"&Lists!$D13&Q$14))))","v":""},{"$f":"IF(ISNA(Lists!$C13),\"\",IF((INDIRECT(\"'\"&Lists!$C13&\"'!\"&Lists!$D13&R$14))=\"\",\"\",(INDIRECT(\"'\"&Lists!$C13&\"'!\"&Lists!$D13&R$14))))","v":""},{"$f":"IF(ISNA(Lists!$C13),\"\",IF((INDIRECT(\"'\"&Lists!$C13&\"'!\"&Lists!$D13&S$14))=\"\",\"\",(INDIRECT(\"'\"&Lists!$C13&\"'!\"&Lists!$D13&S$14))))","v":""},{"$f":"IF(ISNA(Lists!$C13),\"\",IF((INDIRECT(\"'\"&Lists!$C13&\"'!\"&Lists!$E13&T$14))=\"\",\"\",(INDIRECT(\"'\"&Lists!$C13&\"'!\"&Lists!$E13&T$14))))","v":""},{"$f":"IF(ISNA(Lists!$C13),\"\",IF((INDIRECT(\"'\"&Lists!$C13&\"'!\"&Lists!$E13&U$14))=\"\",\"\",(INDIRECT(\"'\"&Lists!$C13&\"'!\"&Lists!$E13&U$14))))","v":""},{"$f":"IF(ISNA(Lists!$C13),\"\",IF((INDIRECT(\"'\"&Lists!$C13&\"'!\"&Lists!$E13&V$14))=\"\",\"\",(INDIRECT(\"'\"&Lists!$C13&\"'!\"&Lists!$E13&V$14))))","v":""},{"$f":"IF(ISNA(Lists!$C13),\"\",IF((INDIRECT(\"'\"&Lists!$C13&\"'!\"&Lists!$E13&W$14))=\"\",\"\",(INDIRECT(\"'\"&Lists!$C13&\"'!\"&Lists!$E13&W$14))))","v":""},{"$f":"IF(ISNA(Lists!$C13),\"\",IF((INDIRECT(\"'\"&Lists!$C13&\"'!\"&Lists!$E13&X$14))=\"\",\"\",(INDIRECT(\"'\"&Lists!$C13&\"'!\"&Lists!$E13&X$14))))","v":""},{"$f":"IF(ISNA(Lists!$C13),\"\",IF((INDIRECT(\"'\"&Lists!$C13&\"'!\"&Lists!$E13&Y$14))=\"\",\"\",(INDIRECT(\"'\"&Lists!$C13&\"'!\"&Lists!$E13&Y$14))))","v":""},{"$f":"IF(ISNA(Lists!$C13),\"\",IF((INDIRECT(\"'\"&Lists!$C13&\"'!\"&Lists!$E13&Z$14))=\"\",\"\",(INDIRECT(\"'\"&Lists!$C13&\"'!\"&Lists!$E13&Z$14))))","v":""},{"$f":"IF(ISNA(Lists!$C13),\"\",IF((INDIRECT(\"'\"&Lists!$C13&\"'!\"&Lists!$E13&AA$14))=\"\",\"\",(INDIRECT(\"'\"&Lists!$C13&\"'!\"&Lists!$E13&AA$14))))","v":""},{"$f":"IF(ISNA(Lists!$C13),\"\",IF((INDIRECT(\"'\"&Lists!$C13&\"'!\"&Lists!$D13&AB$14))=\"\",\"\",(INDIRECT(\"'\"&Lists!$C13&\"'!\"&Lists!$D13&AB$14))))","v":""},{"$f":"IF(ISNA(Lists!$C13),\"\",IF((INDIRECT(\"'\"&Lists!$C13&\"'!\"&Lists!$D13&AC$14))=\"\",\"\",(INDIRECT(\"'\"&Lists!$C13&\"'!\"&Lists!$D13&AC$14))))","v":""},{"$f":"IF(ISNA(Lists!$C13),\"\",IF((INDIRECT(\"'\"&Lists!$C13&\"'!\"&Lists!$D13&AD$14))=\"\",\"\",(INDIRECT(\"'\"&Lists!$C13&\"'!\"&Lists!$D13&AD$14))))","v":""},{"$f":"IF(ISNA(Lists!$C13),\"\",IF((INDIRECT(\"'\"&Lists!$C13&\"'!\"&Lists!$D13&AE$14))=\"\",\"\",(INDIRECT(\"'\"&Lists!$C13&\"'!\"&Lists!$D13&AE$14))))","v":""},{"$f":"IF(ISNA(Lists!$C13),\"\",IF((INDIRECT(\"'\"&Lists!$C13&\"'!\"&Lists!$D13&AF$14))=\"\",\"\",(INDIRECT(\"'\"&Lists!$C13&\"'!\"&Lists!$D13&AF$14))))","v":""},{"$f":"IF(ISNA(Lists!$C13),\"\",IF((INDIRECT(\"'\"&Lists!$C13&\"'!\"&Lists!$D13&AG$14))=\"\",\"\",(INDIRECT(\"'\"&Lists!$C13&\"'!\"&Lists!$D13&AG$14))))","v":""},{"$f":"IF(ISNA(Lists!$C13),\"\",IF((INDIRECT(\"'\"&Lists!$C13&\"'!\"&Lists!$D13&AH$14))=\"\",\"\",(INDIRECT(\"'\"&Lists!$C13&\"'!\"&Lists!$D13&AH$14))))","v":""},{"$f":"IF(ISNA(Lists!$C13),\"\",IF((INDIRECT(\"'\"&Lists!$C13&\"'!\"&Lists!$D13&AI$14))=\"\",\"\",(INDIRECT(\"'\"&Lists!$C13&\"'!\"&Lists!$D13&AI$14))))","v":""},{"$f":"IF(ISNA(Lists!$C13),\"\",IF((INDIRECT(\"'\"&Lists!$C13&\"'!\"&Lists!$D13&AJ$14))=\"\",\"\",(INDIRECT(\"'\"&Lists!$C13&\"'!\"&Lists!$D13&AJ$14))))","v":""},{"$f":"IF(ISNA(Lists!$C13),\"\",IF((INDIRECT(\"'\"&Lists!$C13&\"'!\"&Lists!$D13&AK$14))=\"\",\"\",(INDIRECT(\"'\"&Lists!$C13&\"'!\"&Lists!$D13&AK$14))))","v":""}]
[{"$f":"IF(B27=\"\",\"\",' Facility_Info upload'!$A$24)","v":""},{"$f":"IF(ISNA(Lists!$C14),\"\",IF(INDIRECT(\"'\"&Lists!$C14&\"'!\"&\"B\"&B$14)=\"\",\"\",(INDIRECT(\"'\"&Lists!$C14&\"'!\"&\"B\"&B$14))))","v":""},{"$f":"IF(ISNA(Lists!$C14),\"\",IF(INDIRECT(\"'\"&Lists!$C14&\"'!\"&\"B\"&C$14)=\"\",\"\",(INDIRECT(\"'\"&Lists!$C14&\"'!\"&\"B\"&C$14))))","v":""},{"$f":"IF(ISNA(Lists!$C14),\"\",IF(INDIRECT(\"'\"&Lists!$C14&\"'!\"&\"B\"&D$14)=\"\",\"\",(INDIRECT(\"'\"&Lists!$C14&\"'!\"&\"B\"&D$14))))","v":""},{"$f":"IF(ISNA(Lists!$C14),\"\",IF(INDIRECT(\"'\"&Lists!$C14&\"'!\"&\"B\"&E$14)=\"\",\"\",(INDIRECT(\"'\"&Lists!$C14&\"'!\"&\"B\"&E$14))))","v":""},{"$f":"IF(ISNA(Lists!$C14),\"\",IF(INDIRECT(\"'\"&Lists!$C14&\"'!\"&\"B\"&F$14)=\"\",\"\",(INDIRECT(\"'\"&Lists!$C14&\"'!\"&\"B\"&F$14))))","v":""},{"$f":"IF(ISNA(Lists!$C14),\"\",IF((INDIRECT(\"'\"&Lists!$C14&\"'!\"&Lists!$D14&G$14))=\"\",\"\",(INDIRECT(\"'\"&Lists!$C14&\"'!\"&Lists!$D14&G$14))))","v":""},{"$f":"IF(ISNA(Lists!$C14),\"\",IF((INDIRECT(\"'\"&Lists!$C14&\"'!\"&Lists!$D14&H$14))=\"\",\"\",(INDIRECT(\"'\"&Lists!$C14&\"'!\"&Lists!$D14&H$14))))","v":""},{"$f":"IF(ISNA(Lists!$C14),\"\",IF((INDIRECT(\"'\"&Lists!$C14&\"'!\"&Lists!$D14&I$14))=\"\",\"\",(INDIRECT(\"'\"&Lists!$C14&\"'!\"&Lists!$D14&I$14))))","v":""},{"$f":"IF(ISNA(Lists!$C14),\"\",IF((INDIRECT(\"'\"&Lists!$C14&\"'!\"&Lists!$D14&J$14))=\"\",\"\",(INDIRECT(\"'\"&Lists!$C14&\"'!\"&Lists!$D14&J$14))))","v":""},{"$f":"IF(ISNA(Lists!$C14),\"\",IF((INDIRECT(\"'\"&Lists!$C14&\"'!\"&Lists!$D14&K$14))=\"\",\"\",(INDIRECT(\"'\"&Lists!$C14&\"'!\"&Lists!$D14&K$14))))","v":""},{"$f":"IF(ISNA(Lists!$C14),\"\",IF((INDIRECT(\"'\"&Lists!$C14&\"'!\"&Lists!$D14&L$14))=\"\",\"\",(INDIRECT(\"'\"&Lists!$C14&\"'!\"&Lists!$D14&L$14))))","v":""},{"$f":"IF(ISNA(Lists!$C14),\"\",IF((INDIRECT(\"'\"&Lists!$C14&\"'!\"&Lists!$D14&M$14))=\"\",\"\",(INDIRECT(\"'\"&Lists!$C14&\"'!\"&Lists!$D14&M$14))))","v":""},{"$f":"IF(ISNA(Lists!$C14),\"\",IF((INDIRECT(\"'\"&Lists!$C14&\"'!\"&Lists!$D14&N$14))=\"\",\"\",(INDIRECT(\"'\"&Lists!$C14&\"'!\"&Lists!$D14&N$14))))","v":""},{"$f":"IF(ISNA(Lists!$C14),\"\",IF((INDIRECT(\"'\"&Lists!$C14&\"'!\"&Lists!$D14&O$14))=\"\",\"\",(INDIRECT(\"'\"&Lists!$C14&\"'!\"&Lists!$D14&O$14))))","v":""},{"$f":"IF(ISNA(Lists!$C14),\"\",IF((INDIRECT(\"'\"&Lists!$C14&\"'!\"&Lists!$D14&P$14))=\"\",\"\",(INDIRECT(\"'\"&Lists!$C14&\"'!\"&Lists!$D14&P$14))))","v":""},{"$f":"IF(ISNA(Lists!$C14),\"\",IF((INDIRECT(\"'\"&Lists!$C14&\"'!\"&Lists!$D14&Q$14))=\"\",\"\",(INDIRECT(\"'\"&Lists!$C14&\"'!\"&Lists!$D14&Q$14))))","v":""},{"$f":"IF(ISNA(Lists!$C14),\"\",IF((INDIRECT(\"'\"&Lists!$C14&\"'!\"&Lists!$D14&R$14))=\"\",\"\",(INDIRECT(\"'\"&Lists!$C14&\"'!\"&Lists!$D14&R$14))))","v":""},{"$f":"IF(ISNA(Lists!$C14),\"\",IF((INDIRECT(\"'\"&Lists!$C14&\"'!\"&Lists!$D14&S$14))=\"\",\"\",(INDIRECT(\"'\"&Lists!$C14&\"'!\"&Lists!$D14&S$14))))","v":""},{"$f":"IF(ISNA(Lists!$C14),\"\",IF((INDIRECT(\"'\"&Lists!$C14&\"'!\"&Lists!$E14&T$14))=\"\",\"\",(INDIRECT(\"'\"&Lists!$C14&\"'!\"&Lists!$E14&T$14))))","v":""},{"$f":"IF(ISNA(Lists!$C14),\"\",IF((INDIRECT(\"'\"&Lists!$C14&\"'!\"&Lists!$E14&U$14))=\"\",\"\",(INDIRECT(\"'\"&Lists!$C14&\"'!\"&Lists!$E14&U$14))))","v":""},{"$f":"IF(ISNA(Lists!$C14),\"\",IF((INDIRECT(\"'\"&Lists!$C14&\"'!\"&Lists!$E14&V$14))=\"\",\"\",(INDIRECT(\"'\"&Lists!$C14&\"'!\"&Lists!$E14&V$14))))","v":""},{"$f":"IF(ISNA(Lists!$C14),\"\",IF((INDIRECT(\"'\"&Lists!$C14&\"'!\"&Lists!$E14&W$14))=\"\",\"\",(INDIRECT(\"'\"&Lists!$C14&\"'!\"&Lists!$E14&W$14))))","v":""},{"$f":"IF(ISNA(Lists!$C14),\"\",IF((INDIRECT(\"'\"&Lists!$C14&\"'!\"&Lists!$E14&X$14))=\"\",\"\",(INDIRECT(\"'\"&Lists!$C14&\"'!\"&Lists!$E14&X$14))))","v":""},{"$f":"IF(ISNA(Lists!$C14),\"\",IF((INDIRECT(\"'\"&Lists!$C14&\"'!\"&Lists!$E14&Y$14))=\"\",\"\",(INDIRECT(\"'\"&Lists!$C14&\"'!\"&Lists!$E14&Y$14))))","v":""},{"$f":"IF(ISNA(Lists!$C14),\"\",IF((INDIRECT(\"'\"&Lists!$C14&\"'!\"&Lists!$E14&Z$14))=\"\",\"\",(INDIRECT(\"'\"&Lists!$C14&\"'!\"&Lists!$E14&Z$14))))","v":""},{"$f":"IF(ISNA(Lists!$C14),\"\",IF((INDIRECT(\"'\"&Lists!$C14&\"'!\"&Lists!$E14&AA$14))=\"\",\"\",(INDIRECT(\"'\"&Lists!$C14&\"'!\"&Lists!$E14&AA$14))))","v":""},{"$f":"IF(ISNA(Lists!$C14),\"\",IF((INDIRECT(\"'\"&Lists!$C14&\"'!\"&Lists!$D14&AB$14))=\"\",\"\",(INDIRECT(\"'\"&Lists!$C14&\"'!\"&Lists!$D14&AB$14))))","v":""},{"$f":"IF(ISNA(Lists!$C14),\"\",IF((INDIRECT(\"'\"&Lists!$C14&\"'!\"&Lists!$D14&AC$14))=\"\",\"\",(INDIRECT(\"'\"&Lists!$C14&\"'!\"&Lists!$D14&AC$14))))","v":""},{"$f":"IF(ISNA(Lists!$C14),\"\",IF((INDIRECT(\"'\"&Lists!$C14&\"'!\"&Lists!$D14&AD$14))=\"\",\"\",(INDIRECT(\"'\"&Lists!$C14&\"'!\"&Lists!$D14&AD$14))))","v":""},{"$f":"IF(ISNA(Lists!$C14),\"\",IF((INDIRECT(\"'\"&Lists!$C14&\"'!\"&Lists!$D14&AE$14))=\"\",\"\",(INDIRECT(\"'\"&Lists!$C14&\"'!\"&Lists!$D14&AE$14))))","v":""},{"$f":"IF(ISNA(Lists!$C14),\"\",IF((INDIRECT(\"'\"&Lists!$C14&\"'!\"&Lists!$D14&AF$14))=\"\",\"\",(INDIRECT(\"'\"&Lists!$C14&\"'!\"&Lists!$D14&AF$14))))","v":""},{"$f":"IF(ISNA(Lists!$C14),\"\",IF((INDIRECT(\"'\"&Lists!$C14&\"'!\"&Lists!$D14&AG$14))=\"\",\"\",(INDIRECT(\"'\"&Lists!$C14&\"'!\"&Lists!$D14&AG$14))))","v":""},{"$f":"IF(ISNA(Lists!$C14),\"\",IF((INDIRECT(\"'\"&Lists!$C14&\"'!\"&Lists!$D14&AH$14))=\"\",\"\",(INDIRECT(\"'\"&Lists!$C14&\"'!\"&Lists!$D14&AH$14))))","v":""},{"$f":"IF(ISNA(Lists!$C14),\"\",IF((INDIRECT(\"'\"&Lists!$C14&\"'!\"&Lists!$D14&AI$14))=\"\",\"\",(INDIRECT(\"'\"&Lists!$C14&\"'!\"&Lists!$D14&AI$14))))","v":""},{"$f":"IF(ISNA(Lists!$C14),\"\",IF((INDIRECT(\"'\"&Lists!$C14&\"'!\"&Lists!$D14&AJ$14))=\"\",\"\",(INDIRECT(\"'\"&Lists!$C14&\"'!\"&Lists!$D14&AJ$14))))","v":""},{"$f":"IF(ISNA(Lists!$C14),\"\",IF((INDIRECT(\"'\"&Lists!$C14&\"'!\"&Lists!$D14&AK$14))=\"\",\"\",(INDIRECT(\"'\"&Lists!$C14&\"'!\"&Lists!$D14&AK$14))))","v":""}]
[{"$f":"IF(B28=\"\",\"\",' Facility_Info upload'!$A$24)","v":""},{"$f":"IF(ISNA(Lists!$C15),\"\",IF(INDIRECT(\"'\"&Lists!$C15&\"'!\"&\"B\"&B$14)=\"\",\"\",(INDIRECT(\"'\"&Lists!$C15&\"'!\"&\"B\"&B$14))))","v":""},{"$f":"IF(ISNA(Lists!$C15),\"\",IF(INDIRECT(\"'\"&Lists!$C15&\"'!\"&\"B\"&C$14)=\"\",\"\",(INDIRECT(\"'\"&Lists!$C15&\"'!\"&\"B\"&C$14))))","v":""},{"$f":"IF(ISNA(Lists!$C15),\"\",IF(INDIRECT(\"'\"&Lists!$C15&\"'!\"&\"B\"&D$14)=\"\",\"\",(INDIRECT(\"'\"&Lists!$C15&\"'!\"&\"B\"&D$14))))","v":""},{"$f":"IF(ISNA(Lists!$C15),\"\",IF(INDIRECT(\"'\"&Lists!$C15&\"'!\"&\"B\"&E$14)=\"\",\"\",(INDIRECT(\"'\"&Lists!$C15&\"'!\"&\"B\"&E$14))))","v":""},{"$f":"IF(ISNA(Lists!$C15),\"\",IF(INDIRECT(\"'\"&Lists!$C15&\"'!\"&\"B\"&F$14)=\"\",\"\",(INDIRECT(\"'\"&Lists!$C15&\"'!\"&\"B\"&F$14))))","v":""},{"$f":"IF(ISNA(Lists!$C15),\"\",IF((INDIRECT(\"'\"&Lists!$C15&\"'!\"&Lists!$D15&G$14))=\"\",\"\",(INDIRECT(\"'\"&Lists!$C15&\"'!\"&Lists!$D15&G$14))))","v":""},{"$f":"IF(ISNA(Lists!$C15),\"\",IF((INDIRECT(\"'\"&Lists!$C15&\"'!\"&Lists!$D15&H$14))=\"\",\"\",(INDIRECT(\"'\"&Lists!$C15&\"'!\"&Lists!$D15&H$14))))","v":""},{"$f":"IF(ISNA(Lists!$C15),\"\",IF((INDIRECT(\"'\"&Lists!$C15&\"'!\"&Lists!$D15&I$14))=\"\",\"\",(INDIRECT(\"'\"&Lists!$C15&\"'!\"&Lists!$D15&I$14))))","v":""},{"$f":"IF(ISNA(Lists!$C15),\"\",IF((INDIRECT(\"'\"&Lists!$C15&\"'!\"&Lists!$D15&J$14))=\"\",\"\",(INDIRECT(\"'\"&Lists!$C15&\"'!\"&Lists!$D15&J$14))))","v":""},{"$f":"IF(ISNA(Lists!$C15),\"\",IF((INDIRECT(\"'\"&Lists!$C15&\"'!\"&Lists!$D15&K$14))=\"\",\"\",(INDIRECT(\"'\"&Lists!$C15&\"'!\"&Lists!$D15&K$14))))","v":""},{"$f":"IF(ISNA(Lists!$C15),\"\",IF((INDIRECT(\"'\"&Lists!$C15&\"'!\"&Lists!$D15&L$14))=\"\",\"\",(INDIRECT(\"'\"&Lists!$C15&\"'!\"&Lists!$D15&L$14))))","v":""},{"$f":"IF(ISNA(Lists!$C15),\"\",IF((INDIRECT(\"'\"&Lists!$C15&\"'!\"&Lists!$D15&M$14))=\"\",\"\",(INDIRECT(\"'\"&Lists!$C15&\"'!\"&Lists!$D15&M$14))))","v":""},{"$f":"IF(ISNA(Lists!$C15),\"\",IF((INDIRECT(\"'\"&Lists!$C15&\"'!\"&Lists!$D15&N$14))=\"\",\"\",(INDIRECT(\"'\"&Lists!$C15&\"'!\"&Lists!$D15&N$14))))","v":""},{"$f":"IF(ISNA(Lists!$C15),\"\",IF((INDIRECT(\"'\"&Lists!$C15&\"'!\"&Lists!$D15&O$14))=\"\",\"\",(INDIRECT(\"'\"&Lists!$C15&\"'!\"&Lists!$D15&O$14))))","v":""},{"$f":"IF(ISNA(Lists!$C15),\"\",IF((INDIRECT(\"'\"&Lists!$C15&\"'!\"&Lists!$D15&P$14))=\"\",\"\",(INDIRECT(\"'\"&Lists!$C15&\"'!\"&Lists!$D15&P$14))))","v":""},{"$f":"IF(ISNA(Lists!$C15),\"\",IF((INDIRECT(\"'\"&Lists!$C15&\"'!\"&Lists!$D15&Q$14))=\"\",\"\",(INDIRECT(\"'\"&Lists!$C15&\"'!\"&Lists!$D15&Q$14))))","v":""},{"$f":"IF(ISNA(Lists!$C15),\"\",IF((INDIRECT(\"'\"&Lists!$C15&\"'!\"&Lists!$D15&R$14))=\"\",\"\",(INDIRECT(\"'\"&Lists!$C15&\"'!\"&Lists!$D15&R$14))))","v":""},{"$f":"IF(ISNA(Lists!$C15),\"\",IF((INDIRECT(\"'\"&Lists!$C15&\"'!\"&Lists!$D15&S$14))=\"\",\"\",(INDIRECT(\"'\"&Lists!$C15&\"'!\"&Lists!$D15&S$14))))","v":""},{"$f":"IF(ISNA(Lists!$C15),\"\",IF((INDIRECT(\"'\"&Lists!$C15&\"'!\"&Lists!$E15&T$14))=\"\",\"\",(INDIRECT(\"'\"&Lists!$C15&\"'!\"&Lists!$E15&T$14))))","v":""},{"$f":"IF(ISNA(Lists!$C15),\"\",IF((INDIRECT(\"'\"&Lists!$C15&\"'!\"&Lists!$E15&U$14))=\"\",\"\",(INDIRECT(\"'\"&Lists!$C15&\"'!\"&Lists!$E15&U$14))))","v":""},{"$f":"IF(ISNA(Lists!$C15),\"\",IF((INDIRECT(\"'\"&Lists!$C15&\"'!\"&Lists!$E15&V$14))=\"\",\"\",(INDIRECT(\"'\"&Lists!$C15&\"'!\"&Lists!$E15&V$14))))","v":""},{"$f":"IF(ISNA(Lists!$C15),\"\",IF((INDIRECT(\"'\"&Lists!$C15&\"'!\"&Lists!$E15&W$14))=\"\",\"\",(INDIRECT(\"'\"&Lists!$C15&\"'!\"&Lists!$E15&W$14))))","v":""},{"$f":"IF(ISNA(Lists!$C15),\"\",IF((INDIRECT(\"'\"&Lists!$C15&\"'!\"&Lists!$E15&X$14))=\"\",\"\",(INDIRECT(\"'\"&Lists!$C15&\"'!\"&Lists!$E15&X$14))))","v":""},{"$f":"IF(ISNA(Lists!$C15),\"\",IF((INDIRECT(\"'\"&Lists!$C15&\"'!\"&Lists!$E15&Y$14))=\"\",\"\",(INDIRECT(\"'\"&Lists!$C15&\"'!\"&Lists!$E15&Y$14))))","v":""},{"$f":"IF(ISNA(Lists!$C15),\"\",IF((INDIRECT(\"'\"&Lists!$C15&\"'!\"&Lists!$E15&Z$14))=\"\",\"\",(INDIRECT(\"'\"&Lists!$C15&\"'!\"&Lists!$E15&Z$14))))","v":""},{"$f":"IF(ISNA(Lists!$C15),\"\",IF((INDIRECT(\"'\"&Lists!$C15&\"'!\"&Lists!$E15&AA$14))=\"\",\"\",(INDIRECT(\"'\"&Lists!$C15&\"'!\"&Lists!$E15&AA$14))))","v":""},{"$f":"IF(ISNA(Lists!$C15),\"\",IF((INDIRECT(\"'\"&Lists!$C15&\"'!\"&Lists!$D15&AB$14))=\"\",\"\",(INDIRECT(\"'\"&Lists!$C15&\"'!\"&Lists!$D15&AB$14))))","v":""},{"$f":"IF(ISNA(Lists!$C15),\"\",IF((INDIRECT(\"'\"&Lists!$C15&\"'!\"&Lists!$D15&AC$14))=\"\",\"\",(INDIRECT(\"'\"&Lists!$C15&\"'!\"&Lists!$D15&AC$14))))","v":""},{"$f":"IF(ISNA(Lists!$C15),\"\",IF((INDIRECT(\"'\"&Lists!$C15&\"'!\"&Lists!$D15&AD$14))=\"\",\"\",(INDIRECT(\"'\"&Lists!$C15&\"'!\"&Lists!$D15&AD$14))))","v":""},{"$f":"IF(ISNA(Lists!$C15),\"\",IF((INDIRECT(\"'\"&Lists!$C15&\"'!\"&Lists!$D15&AE$14))=\"\",\"\",(INDIRECT(\"'\"&Lists!$C15&\"'!\"&Lists!$D15&AE$14))))","v":""},{"$f":"IF(ISNA(Lists!$C15),\"\",IF((INDIRECT(\"'\"&Lists!$C15&\"'!\"&Lists!$D15&AF$14))=\"\",\"\",(INDIRECT(\"'\"&Lists!$C15&\"'!\"&Lists!$D15&AF$14))))","v":""},{"$f":"IF(ISNA(Lists!$C15),\"\",IF((INDIRECT(\"'\"&Lists!$C15&\"'!\"&Lists!$D15&AG$14))=\"\",\"\",(INDIRECT(\"'\"&Lists!$C15&\"'!\"&Lists!$D15&AG$14))))","v":""},{"$f":"IF(ISNA(Lists!$C15),\"\",IF((INDIRECT(\"'\"&Lists!$C15&\"'!\"&Lists!$D15&AH$14))=\"\",\"\",(INDIRECT(\"'\"&Lists!$C15&\"'!\"&Lists!$D15&AH$14))))","v":""},{"$f":"IF(ISNA(Lists!$C15),\"\",IF((INDIRECT(\"'\"&Lists!$C15&\"'!\"&Lists!$D15&AI$14))=\"\",\"\",(INDIRECT(\"'\"&Lists!$C15&\"'!\"&Lists!$D15&AI$14))))","v":""},{"$f":"IF(ISNA(Lists!$C15),\"\",IF((INDIRECT(\"'\"&Lists!$C15&\"'!\"&Lists!$D15&AJ$14))=\"\",\"\",(INDIRECT(\"'\"&Lists!$C15&\"'!\"&Lists!$D15&AJ$14))))","v":""},{"$f":"IF(ISNA(Lists!$C15),\"\",IF((INDIRECT(\"'\"&Lists!$C15&\"'!\"&Lists!$D15&AK$14))=\"\",\"\",(INDIRECT(\"'\"&Lists!$C15&\"'!\"&Lists!$D15&AK$14))))","v":""}]
[{"$f":"IF(B29=\"\",\"\",' Facility_Info upload'!$A$24)","v":""},{"$f":"IF(ISNA(Lists!$C16),\"\",IF(INDIRECT(\"'\"&Lists!$C16&\"'!\"&\"B\"&B$14)=\"\",\"\",(INDIRECT(\"'\"&Lists!$C16&\"'!\"&\"B\"&B$14))))","v":""},{"$f":"IF(ISNA(Lists!$C16),\"\",IF(INDIRECT(\"'\"&Lists!$C16&\"'!\"&\"B\"&C$14)=\"\",\"\",(INDIRECT(\"'\"&Lists!$C16&\"'!\"&\"B\"&C$14))))","v":""},{"$f":"IF(ISNA(Lists!$C16),\"\",IF(INDIRECT(\"'\"&Lists!$C16&\"'!\"&\"B\"&D$14)=\"\",\"\",(INDIRECT(\"'\"&Lists!$C16&\"'!\"&\"B\"&D$14))))","v":""},{"$f":"IF(ISNA(Lists!$C16),\"\",IF(INDIRECT(\"'\"&Lists!$C16&\"'!\"&\"B\"&E$14)=\"\",\"\",(INDIRECT(\"'\"&Lists!$C16&\"'!\"&\"B\"&E$14))))","v":""},{"$f":"IF(ISNA(Lists!$C16),\"\",IF(INDIRECT(\"'\"&Lists!$C16&\"'!\"&\"B\"&F$14)=\"\",\"\",(INDIRECT(\"'\"&Lists!$C16&\"'!\"&\"B\"&F$14))))","v":""},{"$f":"IF(ISNA(Lists!$C16),\"\",IF((INDIRECT(\"'\"&Lists!$C16&\"'!\"&Lists!$D16&G$14))=\"\",\"\",(INDIRECT(\"'\"&Lists!$C16&\"'!\"&Lists!$D16&G$14))))","v":""},{"$f":"IF(ISNA(Lists!$C16),\"\",IF((INDIRECT(\"'\"&Lists!$C16&\"'!\"&Lists!$D16&H$14))=\"\",\"\",(INDIRECT(\"'\"&Lists!$C16&\"'!\"&Lists!$D16&H$14))))","v":""},{"$f":"IF(ISNA(Lists!$C16),\"\",IF((INDIRECT(\"'\"&Lists!$C16&\"'!\"&Lists!$D16&I$14))=\"\",\"\",(INDIRECT(\"'\"&Lists!$C16&\"'!\"&Lists!$D16&I$14))))","v":""},{"$f":"IF(ISNA(Lists!$C16),\"\",IF((INDIRECT(\"'\"&Lists!$C16&\"'!\"&Lists!$D16&J$14))=\"\",\"\",(INDIRECT(\"'\"&Lists!$C16&\"'!\"&Lists!$D16&J$14))))","v":""},{"$f":"IF(ISNA(Lists!$C16),\"\",IF((INDIRECT(\"'\"&Lists!$C16&\"'!\"&Lists!$D16&K$14))=\"\",\"\",(INDIRECT(\"'\"&Lists!$C16&\"'!\"&Lists!$D16&K$14))))","v":""},{"$f":"IF(ISNA(Lists!$C16),\"\",IF((INDIRECT(\"'\"&Lists!$C16&\"'!\"&Lists!$D16&L$14))=\"\",\"\",(INDIRECT(\"'\"&Lists!$C16&\"'!\"&Lists!$D16&L$14))))","v":""},{"$f":"IF(ISNA(Lists!$C16),\"\",IF((INDIRECT(\"'\"&Lists!$C16&\"'!\"&Lists!$D16&M$14))=\"\",\"\",(INDIRECT(\"'\"&Lists!$C16&\"'!\"&Lists!$D16&M$14))))","v":""},{"$f":"IF(ISNA(Lists!$C16),\"\",IF((INDIRECT(\"'\"&Lists!$C16&\"'!\"&Lists!$D16&N$14))=\"\",\"\",(INDIRECT(\"'\"&Lists!$C16&\"'!\"&Lists!$D16&N$14))))","v":""},{"$f":"IF(ISNA(Lists!$C16),\"\",IF((INDIRECT(\"'\"&Lists!$C16&\"'!\"&Lists!$D16&O$14))=\"\",\"\",(INDIRECT(\"'\"&Lists!$C16&\"'!\"&Lists!$D16&O$14))))","v":""},{"$f":"IF(ISNA(Lists!$C16),\"\",IF((INDIRECT(\"'\"&Lists!$C16&\"'!\"&Lists!$D16&P$14))=\"\",\"\",(INDIRECT(\"'\"&Lists!$C16&\"'!\"&Lists!$D16&P$14))))","v":""},{"$f":"IF(ISNA(Lists!$C16),\"\",IF((INDIRECT(\"'\"&Lists!$C16&\"'!\"&Lists!$D16&Q$14))=\"\",\"\",(INDIRECT(\"'\"&Lists!$C16&\"'!\"&Lists!$D16&Q$14))))","v":""},{"$f":"IF(ISNA(Lists!$C16),\"\",IF((INDIRECT(\"'\"&Lists!$C16&\"'!\"&Lists!$D16&R$14))=\"\",\"\",(INDIRECT(\"'\"&Lists!$C16&\"'!\"&Lists!$D16&R$14))))","v":""},{"$f":"IF(ISNA(Lists!$C16),\"\",IF((INDIRECT(\"'\"&Lists!$C16&\"'!\"&Lists!$D16&S$14))=\"\",\"\",(INDIRECT(\"'\"&Lists!$C16&\"'!\"&Lists!$D16&S$14))))","v":""},{"$f":"IF(ISNA(Lists!$C16),\"\",IF((INDIRECT(\"'\"&Lists!$C16&\"'!\"&Lists!$E16&T$14))=\"\",\"\",(INDIRECT(\"'\"&Lists!$C16&\"'!\"&Lists!$E16&T$14))))","v":""},{"$f":"IF(ISNA(Lists!$C16),\"\",IF((INDIRECT(\"'\"&Lists!$C16&\"'!\"&Lists!$E16&U$14))=\"\",\"\",(INDIRECT(\"'\"&Lists!$C16&\"'!\"&Lists!$E16&U$14))))","v":""},{"$f":"IF(ISNA(Lists!$C16),\"\",IF((INDIRECT(\"'\"&Lists!$C16&\"'!\"&Lists!$E16&V$14))=\"\",\"\",(INDIRECT(\"'\"&Lists!$C16&\"'!\"&Lists!$E16&V$14))))","v":""},{"$f":"IF(ISNA(Lists!$C16),\"\",IF((INDIRECT(\"'\"&Lists!$C16&\"'!\"&Lists!$E16&W$14))=\"\",\"\",(INDIRECT(\"'\"&Lists!$C16&\"'!\"&Lists!$E16&W$14))))","v":""},{"$f":"IF(ISNA(Lists!$C16),\"\",IF((INDIRECT(\"'\"&Lists!$C16&\"'!\"&Lists!$E16&X$14))=\"\",\"\",(INDIRECT(\"'\"&Lists!$C16&\"'!\"&Lists!$E16&X$14))))","v":""},{"$f":"IF(ISNA(Lists!$C16),\"\",IF((INDIRECT(\"'\"&Lists!$C16&\"'!\"&Lists!$E16&Y$14))=\"\",\"\",(INDIRECT(\"'\"&Lists!$C16&\"'!\"&Lists!$E16&Y$14))))","v":""},{"$f":"IF(ISNA(Lists!$C16),\"\",IF((INDIRECT(\"'\"&Lists!$C16&\"'!\"&Lists!$E16&Z$14))=\"\",\"\",(INDIRECT(\"'\"&Lists!$C16&\"'!\"&Lists!$E16&Z$14))))","v":""},{"$f":"IF(ISNA(Lists!$C16),\"\",IF((INDIRECT(\"'\"&Lists!$C16&\"'!\"&Lists!$E16&AA$14))=\"\",\"\",(INDIRECT(\"'\"&Lists!$C16&\"'!\"&Lists!$E16&AA$14))))","v":""},{"$f":"IF(ISNA(Lists!$C16),\"\",IF((INDIRECT(\"'\"&Lists!$C16&\"'!\"&Lists!$D16&AB$14))=\"\",\"\",(INDIRECT(\"'\"&Lists!$C16&\"'!\"&Lists!$D16&AB$14))))","v":""},{"$f":"IF(ISNA(Lists!$C16),\"\",IF((INDIRECT(\"'\"&Lists!$C16&\"'!\"&Lists!$D16&AC$14))=\"\",\"\",(INDIRECT(\"'\"&Lists!$C16&\"'!\"&Lists!$D16&AC$14))))","v":""},{"$f":"IF(ISNA(Lists!$C16),\"\",IF((INDIRECT(\"'\"&Lists!$C16&\"'!\"&Lists!$D16&AD$14))=\"\",\"\",(INDIRECT(\"'\"&Lists!$C16&\"'!\"&Lists!$D16&AD$14))))","v":""},{"$f":"IF(ISNA(Lists!$C16),\"\",IF((INDIRECT(\"'\"&Lists!$C16&\"'!\"&Lists!$D16&AE$14))=\"\",\"\",(INDIRECT(\"'\"&Lists!$C16&\"'!\"&Lists!$D16&AE$14))))","v":""},{"$f":"IF(ISNA(Lists!$C16),\"\",IF((INDIRECT(\"'\"&Lists!$C16&\"'!\"&Lists!$D16&AF$14))=\"\",\"\",(INDIRECT(\"'\"&Lists!$C16&\"'!\"&Lists!$D16&AF$14))))","v":""},{"$f":"IF(ISNA(Lists!$C16),\"\",IF((INDIRECT(\"'\"&Lists!$C16&\"'!\"&Lists!$D16&AG$14))=\"\",\"\",(INDIRECT(\"'\"&Lists!$C16&\"'!\"&Lists!$D16&AG$14))))","v":""},{"$f":"IF(ISNA(Lists!$C16),\"\",IF((INDIRECT(\"'\"&Lists!$C16&\"'!\"&Lists!$D16&AH$14))=\"\",\"\",(INDIRECT(\"'\"&Lists!$C16&\"'!\"&Lists!$D16&AH$14))))","v":""},{"$f":"IF(ISNA(Lists!$C16),\"\",IF((INDIRECT(\"'\"&Lists!$C16&\"'!\"&Lists!$D16&AI$14))=\"\",\"\",(INDIRECT(\"'\"&Lists!$C16&\"'!\"&Lists!$D16&AI$14))))","v":""},{"$f":"IF(ISNA(Lists!$C16),\"\",IF((INDIRECT(\"'\"&Lists!$C16&\"'!\"&Lists!$D16&AJ$14))=\"\",\"\",(INDIRECT(\"'\"&Lists!$C16&\"'!\"&Lists!$D16&AJ$14))))","v":""},{"$f":"IF(ISNA(Lists!$C16),\"\",IF((INDIRECT(\"'\"&Lists!$C16&\"'!\"&Lists!$D16&AK$14))=\"\",\"\",(INDIRECT(\"'\"&Lists!$C16&\"'!\"&Lists!$D16&AK$14))))","v":""}]
[{"$f":"IF(B30=\"\",\"\",' Facility_Info upload'!$A$24)","v":""},{"$f":"IF(ISNA(Lists!$C17),\"\",IF(INDIRECT(\"'\"&Lists!$C17&\"'!\"&\"B\"&B$14)=\"\",\"\",(INDIRECT(\"'\"&Lists!$C17&\"'!\"&\"B\"&B$14))))","v":""},{"$f":"IF(ISNA(Lists!$C17),\"\",IF(INDIRECT(\"'\"&Lists!$C17&\"'!\"&\"B\"&C$14)=\"\",\"\",(INDIRECT(\"'\"&Lists!$C17&\"'!\"&\"B\"&C$14))))","v":""},{"$f":"IF(ISNA(Lists!$C17),\"\",IF(INDIRECT(\"'\"&Lists!$C17&\"'!\"&\"B\"&D$14)=\"\",\"\",(INDIRECT(\"'\"&Lists!$C17&\"'!\"&\"B\"&D$14))))","v":""},{"$f":"IF(ISNA(Lists!$C17),\"\",IF(INDIRECT(\"'\"&Lists!$C17&\"'!\"&\"B\"&E$14)=\"\",\"\",(INDIRECT(\"'\"&Lists!$C17&\"'!\"&\"B\"&E$14))))","v":""},{"$f":"IF(ISNA(Lists!$C17),\"\",IF(INDIRECT(\"'\"&Lists!$C17&\"'!\"&\"B\"&F$14)=\"\",\"\",(INDIRECT(\"'\"&Lists!$C17&\"'!\"&\"B\"&F$14))))","v":""},{"$f":"IF(ISNA(Lists!$C17),\"\",IF((INDIRECT(\"'\"&Lists!$C17&\"'!\"&Lists!$D17&G$14))=\"\",\"\",(INDIRECT(\"'\"&Lists!$C17&\"'!\"&Lists!$D17&G$14))))","v":""},{"$f":"IF(ISNA(Lists!$C17),\"\",IF((INDIRECT(\"'\"&Lists!$C17&\"'!\"&Lists!$D17&H$14))=\"\",\"\",(INDIRECT(\"'\"&Lists!$C17&\"'!\"&Lists!$D17&H$14))))","v":""},{"$f":"IF(ISNA(Lists!$C17),\"\",IF((INDIRECT(\"'\"&Lists!$C17&\"'!\"&Lists!$D17&I$14))=\"\",\"\",(INDIRECT(\"'\"&Lists!$C17&\"'!\"&Lists!$D17&I$14))))","v":""},{"$f":"IF(ISNA(Lists!$C17),\"\",IF((INDIRECT(\"'\"&Lists!$C17&\"'!\"&Lists!$D17&J$14))=\"\",\"\",(INDIRECT(\"'\"&Lists!$C17&\"'!\"&Lists!$D17&J$14))))","v":""},{"$f":"IF(ISNA(Lists!$C17),\"\",IF((INDIRECT(\"'\"&Lists!$C17&\"'!\"&Lists!$D17&K$14))=\"\",\"\",(INDIRECT(\"'\"&Lists!$C17&\"'!\"&Lists!$D17&K$14))))","v":""},{"$f":"IF(ISNA(Lists!$C17),\"\",IF((INDIRECT(\"'\"&Lists!$C17&\"'!\"&Lists!$D17&L$14))=\"\",\"\",(INDIRECT(\"'\"&Lists!$C17&\"'!\"&Lists!$D17&L$14))))","v":""},{"$f":"IF(ISNA(Lists!$C17),\"\",IF((INDIRECT(\"'\"&Lists!$C17&\"'!\"&Lists!$D17&M$14))=\"\",\"\",(INDIRECT(\"'\"&Lists!$C17&\"'!\"&Lists!$D17&M$14))))","v":""},{"$f":"IF(ISNA(Lists!$C17),\"\",IF((INDIRECT(\"'\"&Lists!$C17&\"'!\"&Lists!$D17&N$14))=\"\",\"\",(INDIRECT(\"'\"&Lists!$C17&\"'!\"&Lists!$D17&N$14))))","v":""},{"$f":"IF(ISNA(Lists!$C17),\"\",IF((INDIRECT(\"'\"&Lists!$C17&\"'!\"&Lists!$D17&O$14))=\"\",\"\",(INDIRECT(\"'\"&Lists!$C17&\"'!\"&Lists!$D17&O$14))))","v":""},{"$f":"IF(ISNA(Lists!$C17),\"\",IF((INDIRECT(\"'\"&Lists!$C17&\"'!\"&Lists!$D17&P$14))=\"\",\"\",(INDIRECT(\"'\"&Lists!$C17&\"'!\"&Lists!$D17&P$14))))","v":""},{"$f":"IF(ISNA(Lists!$C17),\"\",IF((INDIRECT(\"'\"&Lists!$C17&\"'!\"&Lists!$D17&Q$14))=\"\",\"\",(INDIRECT(\"'\"&Lists!$C17&\"'!\"&Lists!$D17&Q$14))))","v":""},{"$f":"IF(ISNA(Lists!$C17),\"\",IF((INDIRECT(\"'\"&Lists!$C17&\"'!\"&Lists!$D17&R$14))=\"\",\"\",(INDIRECT(\"'\"&Lists!$C17&\"'!\"&Lists!$D17&R$14))))","v":""},{"$f":"IF(ISNA(Lists!$C17),\"\",IF((INDIRECT(\"'\"&Lists!$C17&\"'!\"&Lists!$D17&S$14))=\"\",\"\",(INDIRECT(\"'\"&Lists!$C17&\"'!\"&Lists!$D17&S$14))))","v":""},{"$f":"IF(ISNA(Lists!$C17),\"\",IF((INDIRECT(\"'\"&Lists!$C17&\"'!\"&Lists!$E17&T$14))=\"\",\"\",(INDIRECT(\"'\"&Lists!$C17&\"'!\"&Lists!$E17&T$14))))","v":""},{"$f":"IF(ISNA(Lists!$C17),\"\",IF((INDIRECT(\"'\"&Lists!$C17&\"'!\"&Lists!$E17&U$14))=\"\",\"\",(INDIRECT(\"'\"&Lists!$C17&\"'!\"&Lists!$E17&U$14))))","v":""},{"$f":"IF(ISNA(Lists!$C17),\"\",IF((INDIRECT(\"'\"&Lists!$C17&\"'!\"&Lists!$E17&V$14))=\"\",\"\",(INDIRECT(\"'\"&Lists!$C17&\"'!\"&Lists!$E17&V$14))))","v":""},{"$f":"IF(ISNA(Lists!$C17),\"\",IF((INDIRECT(\"'\"&Lists!$C17&\"'!\"&Lists!$E17&W$14))=\"\",\"\",(INDIRECT(\"'\"&Lists!$C17&\"'!\"&Lists!$E17&W$14))))","v":""},{"$f":"IF(ISNA(Lists!$C17),\"\",IF((INDIRECT(\"'\"&Lists!$C17&\"'!\"&Lists!$E17&X$14))=\"\",\"\",(INDIRECT(\"'\"&Lists!$C17&\"'!\"&Lists!$E17&X$14))))","v":""},{"$f":"IF(ISNA(Lists!$C17),\"\",IF((INDIRECT(\"'\"&Lists!$C17&\"'!\"&Lists!$E17&Y$14))=\"\",\"\",(INDIRECT(\"'\"&Lists!$C17&\"'!\"&Lists!$E17&Y$14))))","v":""},{"$f":"IF(ISNA(Lists!$C17),\"\",IF((INDIRECT(\"'\"&Lists!$C17&\"'!\"&Lists!$E17&Z$14))=\"\",\"\",(INDIRECT(\"'\"&Lists!$C17&\"'!\"&Lists!$E17&Z$14))))","v":""},{"$f":"IF(ISNA(Lists!$C17),\"\",IF((INDIRECT(\"'\"&Lists!$C17&\"'!\"&Lists!$E17&AA$14))=\"\",\"\",(INDIRECT(\"'\"&Lists!$C17&\"'!\"&Lists!$E17&AA$14))))","v":""},{"$f":"IF(ISNA(Lists!$C17),\"\",IF((INDIRECT(\"'\"&Lists!$C17&\"'!\"&Lists!$D17&AB$14))=\"\",\"\",(INDIRECT(\"'\"&Lists!$C17&\"'!\"&Lists!$D17&AB$14))))","v":""},{"$f":"IF(ISNA(Lists!$C17),\"\",IF((INDIRECT(\"'\"&Lists!$C17&\"'!\"&Lists!$D17&AC$14))=\"\",\"\",(INDIRECT(\"'\"&Lists!$C17&\"'!\"&Lists!$D17&AC$14))))","v":""},{"$f":"IF(ISNA(Lists!$C17),\"\",IF((INDIRECT(\"'\"&Lists!$C17&\"'!\"&Lists!$D17&AD$14))=\"\",\"\",(INDIRECT(\"'\"&Lists!$C17&\"'!\"&Lists!$D17&AD$14))))","v":""},{"$f":"IF(ISNA(Lists!$C17),\"\",IF((INDIRECT(\"'\"&Lists!$C17&\"'!\"&Lists!$D17&AE$14))=\"\",\"\",(INDIRECT(\"'\"&Lists!$C17&\"'!\"&Lists!$D17&AE$14))))","v":""},{"$f":"IF(ISNA(Lists!$C17),\"\",IF((INDIRECT(\"'\"&Lists!$C17&\"'!\"&Lists!$D17&AF$14))=\"\",\"\",(INDIRECT(\"'\"&Lists!$C17&\"'!\"&Lists!$D17&AF$14))))","v":""},{"$f":"IF(ISNA(Lists!$C17),\"\",IF((INDIRECT(\"'\"&Lists!$C17&\"'!\"&Lists!$D17&AG$14))=\"\",\"\",(INDIRECT(\"'\"&Lists!$C17&\"'!\"&Lists!$D17&AG$14))))","v":""},{"$f":"IF(ISNA(Lists!$C17),\"\",IF((INDIRECT(\"'\"&Lists!$C17&\"'!\"&Lists!$D17&AH$14))=\"\",\"\",(INDIRECT(\"'\"&Lists!$C17&\"'!\"&Lists!$D17&AH$14))))","v":""},{"$f":"IF(ISNA(Lists!$C17),\"\",IF((INDIRECT(\"'\"&Lists!$C17&\"'!\"&Lists!$D17&AI$14))=\"\",\"\",(INDIRECT(\"'\"&Lists!$C17&\"'!\"&Lists!$D17&AI$14))))","v":""},{"$f":"IF(ISNA(Lists!$C17),\"\",IF((INDIRECT(\"'\"&Lists!$C17&\"'!\"&Lists!$D17&AJ$14))=\"\",\"\",(INDIRECT(\"'\"&Lists!$C17&\"'!\"&Lists!$D17&AJ$14))))","v":""},{"$f":"IF(ISNA(Lists!$C17),\"\",IF((INDIRECT(\"'\"&Lists!$C17&\"'!\"&Lists!$D17&AK$14))=\"\",\"\",(INDIRECT(\"'\"&Lists!$C17&\"'!\"&Lists!$D17&AK$14))))","v":""}]
[{"$f":"IF(B31=\"\",\"\",' Facility_Info upload'!$A$24)","v":""},{"$f":"IF(ISNA(Lists!$C18),\"\",IF(INDIRECT(\"'\"&Lists!$C18&\"'!\"&\"B\"&B$14)=\"\",\"\",(INDIRECT(\"'\"&Lists!$C18&\"'!\"&\"B\"&B$14))))","v":""},{"$f":"IF(ISNA(Lists!$C18),\"\",IF(INDIRECT(\"'\"&Lists!$C18&\"'!\"&\"B\"&C$14)=\"\",\"\",(INDIRECT(\"'\"&Lists!$C18&\"'!\"&\"B\"&C$14))))","v":""},{"$f":"IF(ISNA(Lists!$C18),\"\",IF(INDIRECT(\"'\"&Lists!$C18&\"'!\"&\"B\"&D$14)=\"\",\"\",(INDIRECT(\"'\"&Lists!$C18&\"'!\"&\"B\"&D$14))))","v":""},{"$f":"IF(ISNA(Lists!$C18),\"\",IF(INDIRECT(\"'\"&Lists!$C18&\"'!\"&\"B\"&E$14)=\"\",\"\",(INDIRECT(\"'\"&Lists!$C18&\"'!\"&\"B\"&E$14))))","v":""},{"$f":"IF(ISNA(Lists!$C18),\"\",IF(INDIRECT(\"'\"&Lists!$C18&\"'!\"&\"B\"&F$14)=\"\",\"\",(INDIRECT(\"'\"&Lists!$C18&\"'!\"&\"B\"&F$14))))","v":""},{"$f":"IF(ISNA(Lists!$C18),\"\",IF((INDIRECT(\"'\"&Lists!$C18&\"'!\"&Lists!$D18&G$14))=\"\",\"\",(INDIRECT(\"'\"&Lists!$C18&\"'!\"&Lists!$D18&G$14))))","v":""},{"$f":"IF(ISNA(Lists!$C18),\"\",IF((INDIRECT(\"'\"&Lists!$C18&\"'!\"&Lists!$D18&H$14))=\"\",\"\",(INDIRECT(\"'\"&Lists!$C18&\"'!\"&Lists!$D18&H$14))))","v":""},{"$f":"IF(ISNA(Lists!$C18),\"\",IF((INDIRECT(\"'\"&Lists!$C18&\"'!\"&Lists!$D18&I$14))=\"\",\"\",(INDIRECT(\"'\"&Lists!$C18&\"'!\"&Lists!$D18&I$14))))","v":""},{"$f":"IF(ISNA(Lists!$C18),\"\",IF((INDIRECT(\"'\"&Lists!$C18&\"'!\"&Lists!$D18&J$14))=\"\",\"\",(INDIRECT(\"'\"&Lists!$C18&\"'!\"&Lists!$D18&J$14))))","v":""},{"$f":"IF(ISNA(Lists!$C18),\"\",IF((INDIRECT(\"'\"&Lists!$C18&\"'!\"&Lists!$D18&K$14))=\"\",\"\",(INDIRECT(\"'\"&Lists!$C18&\"'!\"&Lists!$D18&K$14))))","v":""},{"$f":"IF(ISNA(Lists!$C18),\"\",IF((INDIRECT(\"'\"&Lists!$C18&\"'!\"&Lists!$D18&L$14))=\"\",\"\",(INDIRECT(\"'\"&Lists!$C18&\"'!\"&Lists!$D18&L$14))))","v":""},{"$f":"IF(ISNA(Lists!$C18),\"\",IF((INDIRECT(\"'\"&Lists!$C18&\"'!\"&Lists!$D18&M$14))=\"\",\"\",(INDIRECT(\"'\"&Lists!$C18&\"'!\"&Lists!$D18&M$14))))","v":""},{"$f":"IF(ISNA(Lists!$C18),\"\",IF((INDIRECT(\"'\"&Lists!$C18&\"'!\"&Lists!$D18&N$14))=\"\",\"\",(INDIRECT(\"'\"&Lists!$C18&\"'!\"&Lists!$D18&N$14))))","v":""},{"$f":"IF(ISNA(Lists!$C18),\"\",IF((INDIRECT(\"'\"&Lists!$C18&\"'!\"&Lists!$D18&O$14))=\"\",\"\",(INDIRECT(\"'\"&Lists!$C18&\"'!\"&Lists!$D18&O$14))))","v":""},{"$f":"IF(ISNA(Lists!$C18),\"\",IF((INDIRECT(\"'\"&Lists!$C18&\"'!\"&Lists!$D18&P$14))=\"\",\"\",(INDIRECT(\"'\"&Lists!$C18&\"'!\"&Lists!$D18&P$14))))","v":""},{"$f":"IF(ISNA(Lists!$C18),\"\",IF((INDIRECT(\"'\"&Lists!$C18&\"'!\"&Lists!$D18&Q$14))=\"\",\"\",(INDIRECT(\"'\"&Lists!$C18&\"'!\"&Lists!$D18&Q$14))))","v":""},{"$f":"IF(ISNA(Lists!$C18),\"\",IF((INDIRECT(\"'\"&Lists!$C18&\"'!\"&Lists!$D18&R$14))=\"\",\"\",(INDIRECT(\"'\"&Lists!$C18&\"'!\"&Lists!$D18&R$14))))","v":""},{"$f":"IF(ISNA(Lists!$C18),\"\",IF((INDIRECT(\"'\"&Lists!$C18&\"'!\"&Lists!$D18&S$14))=\"\",\"\",(INDIRECT(\"'\"&Lists!$C18&\"'!\"&Lists!$D18&S$14))))","v":""},{"$f":"IF(ISNA(Lists!$C18),\"\",IF((INDIRECT(\"'\"&Lists!$C18&\"'!\"&Lists!$E18&T$14))=\"\",\"\",(INDIRECT(\"'\"&Lists!$C18&\"'!\"&Lists!$E18&T$14))))","v":""},{"$f":"IF(ISNA(Lists!$C18),\"\",IF((INDIRECT(\"'\"&Lists!$C18&\"'!\"&Lists!$E18&U$14))=\"\",\"\",(INDIRECT(\"'\"&Lists!$C18&\"'!\"&Lists!$E18&U$14))))","v":""},{"$f":"IF(ISNA(Lists!$C18),\"\",IF((INDIRECT(\"'\"&Lists!$C18&\"'!\"&Lists!$E18&V$14))=\"\",\"\",(INDIRECT(\"'\"&Lists!$C18&\"'!\"&Lists!$E18&V$14))))","v":""},{"$f":"IF(ISNA(Lists!$C18),\"\",IF((INDIRECT(\"'\"&Lists!$C18&\"'!\"&Lists!$E18&W$14))=\"\",\"\",(INDIRECT(\"'\"&Lists!$C18&\"'!\"&Lists!$E18&W$14))))","v":""},{"$f":"IF(ISNA(Lists!$C18),\"\",IF((INDIRECT(\"'\"&Lists!$C18&\"'!\"&Lists!$E18&X$14))=\"\",\"\",(INDIRECT(\"'\"&Lists!$C18&\"'!\"&Lists!$E18&X$14))))","v":""},{"$f":"IF(ISNA(Lists!$C18),\"\",IF((INDIRECT(\"'\"&Lists!$C18&\"'!\"&Lists!$E18&Y$14))=\"\",\"\",(INDIRECT(\"'\"&Lists!$C18&\"'!\"&Lists!$E18&Y$14))))","v":""},{"$f":"IF(ISNA(Lists!$C18),\"\",IF((INDIRECT(\"'\"&Lists!$C18&\"'!\"&Lists!$E18&Z$14))=\"\",\"\",(INDIRECT(\"'\"&Lists!$C18&\"'!\"&Lists!$E18&Z$14))))","v":""},{"$f":"IF(ISNA(Lists!$C18),\"\",IF((INDIRECT(\"'\"&Lists!$C18&\"'!\"&Lists!$E18&AA$14))=\"\",\"\",(INDIRECT(\"'\"&Lists!$C18&\"'!\"&Lists!$E18&AA$14))))","v":""},{"$f":"IF(ISNA(Lists!$C18),\"\",IF((INDIRECT(\"'\"&Lists!$C18&\"'!\"&Lists!$D18&AB$14))=\"\",\"\",(INDIRECT(\"'\"&Lists!$C18&\"'!\"&Lists!$D18&AB$14))))","v":""},{"$f":"IF(ISNA(Lists!$C18),\"\",IF((INDIRECT(\"'\"&Lists!$C18&\"'!\"&Lists!$D18&AC$14))=\"\",\"\",(INDIRECT(\"'\"&Lists!$C18&\"'!\"&Lists!$D18&AC$14))))","v":""},{"$f":"IF(ISNA(Lists!$C18),\"\",IF((INDIRECT(\"'\"&Lists!$C18&\"'!\"&Lists!$D18&AD$14))=\"\",\"\",(INDIRECT(\"'\"&Lists!$C18&\"'!\"&Lists!$D18&AD$14))))","v":""},{"$f":"IF(ISNA(Lists!$C18),\"\",IF((INDIRECT(\"'\"&Lists!$C18&\"'!\"&Lists!$D18&AE$14))=\"\",\"\",(INDIRECT(\"'\"&Lists!$C18&\"'!\"&Lists!$D18&AE$14))))","v":""},{"$f":"IF(ISNA(Lists!$C18),\"\",IF((INDIRECT(\"'\"&Lists!$C18&\"'!\"&Lists!$D18&AF$14))=\"\",\"\",(INDIRECT(\"'\"&Lists!$C18&\"'!\"&Lists!$D18&AF$14))))","v":""},{"$f":"IF(ISNA(Lists!$C18),\"\",IF((INDIRECT(\"'\"&Lists!$C18&\"'!\"&Lists!$D18&AG$14))=\"\",\"\",(INDIRECT(\"'\"&Lists!$C18&\"'!\"&Lists!$D18&AG$14))))","v":""},{"$f":"IF(ISNA(Lists!$C18),\"\",IF((INDIRECT(\"'\"&Lists!$C18&\"'!\"&Lists!$D18&AH$14))=\"\",\"\",(INDIRECT(\"'\"&Lists!$C18&\"'!\"&Lists!$D18&AH$14))))","v":""},{"$f":"IF(ISNA(Lists!$C18),\"\",IF((INDIRECT(\"'\"&Lists!$C18&\"'!\"&Lists!$D18&AI$14))=\"\",\"\",(INDIRECT(\"'\"&Lists!$C18&\"'!\"&Lists!$D18&AI$14))))","v":""},{"$f":"IF(ISNA(Lists!$C18),\"\",IF((INDIRECT(\"'\"&Lists!$C18&\"'!\"&Lists!$D18&AJ$14))=\"\",\"\",(INDIRECT(\"'\"&Lists!$C18&\"'!\"&Lists!$D18&AJ$14))))","v":""},{"$f":"IF(ISNA(Lists!$C18),\"\",IF((INDIRECT(\"'\"&Lists!$C18&\"'!\"&Lists!$D18&AK$14))=\"\",\"\",(INDIRECT(\"'\"&Lists!$C18&\"'!\"&Lists!$D18&AK$14))))","v":""}]
[{"$f":"IF(B32=\"\",\"\",' Facility_Info upload'!$A$24)","v":""},{"$f":"IF(ISNA(Lists!$C19),\"\",IF(INDIRECT(\"'\"&Lists!$C19&\"'!\"&\"B\"&B$14)=\"\",\"\",(INDIRECT(\"'\"&Lists!$C19&\"'!\"&\"B\"&B$14))))","v":""},{"$f":"IF(ISNA(Lists!$C19),\"\",IF(INDIRECT(\"'\"&Lists!$C19&\"'!\"&\"B\"&C$14)=\"\",\"\",(INDIRECT(\"'\"&Lists!$C19&\"'!\"&\"B\"&C$14))))","v":""},{"$f":"IF(ISNA(Lists!$C19),\"\",IF(INDIRECT(\"'\"&Lists!$C19&\"'!\"&\"B\"&D$14)=\"\",\"\",(INDIRECT(\"'\"&Lists!$C19&\"'!\"&\"B\"&D$14))))","v":""},{"$f":"IF(ISNA(Lists!$C19),\"\",IF(INDIRECT(\"'\"&Lists!$C19&\"'!\"&\"B\"&E$14)=\"\",\"\",(INDIRECT(\"'\"&Lists!$C19&\"'!\"&\"B\"&E$14))))","v":""},{"$f":"IF(ISNA(Lists!$C19),\"\",IF(INDIRECT(\"'\"&Lists!$C19&\"'!\"&\"B\"&F$14)=\"\",\"\",(INDIRECT(\"'\"&Lists!$C19&\"'!\"&\"B\"&F$14))))","v":""},{"$f":"IF(ISNA(Lists!$C19),\"\",IF((INDIRECT(\"'\"&Lists!$C19&\"'!\"&Lists!$D19&G$14))=\"\",\"\",(INDIRECT(\"'\"&Lists!$C19&\"'!\"&Lists!$D19&G$14))))","v":""},{"$f":"IF(ISNA(Lists!$C19),\"\",IF((INDIRECT(\"'\"&Lists!$C19&\"'!\"&Lists!$D19&H$14))=\"\",\"\",(INDIRECT(\"'\"&Lists!$C19&\"'!\"&Lists!$D19&H$14))))","v":""},{"$f":"IF(ISNA(Lists!$C19),\"\",IF((INDIRECT(\"'\"&Lists!$C19&\"'!\"&Lists!$D19&I$14))=\"\",\"\",(INDIRECT(\"'\"&Lists!$C19&\"'!\"&Lists!$D19&I$14))))","v":""},{"$f":"IF(ISNA(Lists!$C19),\"\",IF((INDIRECT(\"'\"&Lists!$C19&\"'!\"&Lists!$D19&J$14))=\"\",\"\",(INDIRECT(\"'\"&Lists!$C19&\"'!\"&Lists!$D19&J$14))))","v":""},{"$f":"IF(ISNA(Lists!$C19),\"\",IF((INDIRECT(\"'\"&Lists!$C19&\"'!\"&Lists!$D19&K$14))=\"\",\"\",(INDIRECT(\"'\"&Lists!$C19&\"'!\"&Lists!$D19&K$14))))","v":""},{"$f":"IF(ISNA(Lists!$C19),\"\",IF((INDIRECT(\"'\"&Lists!$C19&\"'!\"&Lists!$D19&L$14))=\"\",\"\",(INDIRECT(\"'\"&Lists!$C19&\"'!\"&Lists!$D19&L$14))))","v":""},{"$f":"IF(ISNA(Lists!$C19),\"\",IF((INDIRECT(\"'\"&Lists!$C19&\"'!\"&Lists!$D19&M$14))=\"\",\"\",(INDIRECT(\"'\"&Lists!$C19&\"'!\"&Lists!$D19&M$14))))","v":""},{"$f":"IF(ISNA(Lists!$C19),\"\",IF((INDIRECT(\"'\"&Lists!$C19&\"'!\"&Lists!$D19&N$14))=\"\",\"\",(INDIRECT(\"'\"&Lists!$C19&\"'!\"&Lists!$D19&N$14))))","v":""},{"$f":"IF(ISNA(Lists!$C19),\"\",IF((INDIRECT(\"'\"&Lists!$C19&\"'!\"&Lists!$D19&O$14))=\"\",\"\",(INDIRECT(\"'\"&Lists!$C19&\"'!\"&Lists!$D19&O$14))))","v":""},{"$f":"IF(ISNA(Lists!$C19),\"\",IF((INDIRECT(\"'\"&Lists!$C19&\"'!\"&Lists!$D19&P$14))=\"\",\"\",(INDIRECT(\"'\"&Lists!$C19&\"'!\"&Lists!$D19&P$14))))","v":""},{"$f":"IF(ISNA(Lists!$C19),\"\",IF((INDIRECT(\"'\"&Lists!$C19&\"'!\"&Lists!$D19&Q$14))=\"\",\"\",(INDIRECT(\"'\"&Lists!$C19&\"'!\"&Lists!$D19&Q$14))))","v":""},{"$f":"IF(ISNA(Lists!$C19),\"\",IF((INDIRECT(\"'\"&Lists!$C19&\"'!\"&Lists!$D19&R$14))=\"\",\"\",(INDIRECT(\"'\"&Lists!$C19&\"'!\"&Lists!$D19&R$14))))","v":""},{"$f":"IF(ISNA(Lists!$C19),\"\",IF((INDIRECT(\"'\"&Lists!$C19&\"'!\"&Lists!$D19&S$14))=\"\",\"\",(INDIRECT(\"'\"&Lists!$C19&\"'!\"&Lists!$D19&S$14))))","v":""},{"$f":"IF(ISNA(Lists!$C19),\"\",IF((INDIRECT(\"'\"&Lists!$C19&\"'!\"&Lists!$E19&T$14))=\"\",\"\",(INDIRECT(\"'\"&Lists!$C19&\"'!\"&Lists!$E19&T$14))))","v":""},{"$f":"IF(ISNA(Lists!$C19),\"\",IF((INDIRECT(\"'\"&Lists!$C19&\"'!\"&Lists!$E19&U$14))=\"\",\"\",(INDIRECT(\"'\"&Lists!$C19&\"'!\"&Lists!$E19&U$14))))","v":""},{"$f":"IF(ISNA(Lists!$C19),\"\",IF((INDIRECT(\"'\"&Lists!$C19&\"'!\"&Lists!$E19&V$14))=\"\",\"\",(INDIRECT(\"'\"&Lists!$C19&\"'!\"&Lists!$E19&V$14))))","v":""},{"$f":"IF(ISNA(Lists!$C19),\"\",IF((INDIRECT(\"'\"&Lists!$C19&\"'!\"&Lists!$E19&W$14))=\"\",\"\",(INDIRECT(\"'\"&Lists!$C19&\"'!\"&Lists!$E19&W$14))))","v":""},{"$f":"IF(ISNA(Lists!$C19),\"\",IF((INDIRECT(\"'\"&Lists!$C19&\"'!\"&Lists!$E19&X$14))=\"\",\"\",(INDIRECT(\"'\"&Lists!$C19&\"'!\"&Lists!$E19&X$14))))","v":""},{"$f":"IF(ISNA(Lists!$C19),\"\",IF((INDIRECT(\"'\"&Lists!$C19&\"'!\"&Lists!$E19&Y$14))=\"\",\"\",(INDIRECT(\"'\"&Lists!$C19&\"'!\"&Lists!$E19&Y$14))))","v":""},{"$f":"IF(ISNA(Lists!$C19),\"\",IF((INDIRECT(\"'\"&Lists!$C19&\"'!\"&Lists!$E19&Z$14))=\"\",\"\",(INDIRECT(\"'\"&Lists!$C19&\"'!\"&Lists!$E19&Z$14))))","v":""},{"$f":"IF(ISNA(Lists!$C19),\"\",IF((INDIRECT(\"'\"&Lists!$C19&\"'!\"&Lists!$E19&AA$14))=\"\",\"\",(INDIRECT(\"'\"&Lists!$C19&\"'!\"&Lists!$E19&AA$14))))","v":""},{"$f":"IF(ISNA(Lists!$C19),\"\",IF((INDIRECT(\"'\"&Lists!$C19&\"'!\"&Lists!$D19&AB$14))=\"\",\"\",(INDIRECT(\"'\"&Lists!$C19&\"'!\"&Lists!$D19&AB$14))))","v":""},{"$f":"IF(ISNA(Lists!$C19),\"\",IF((INDIRECT(\"'\"&Lists!$C19&\"'!\"&Lists!$D19&AC$14))=\"\",\"\",(INDIRECT(\"'\"&Lists!$C19&\"'!\"&Lists!$D19&AC$14))))","v":""},{"$f":"IF(ISNA(Lists!$C19),\"\",IF((INDIRECT(\"'\"&Lists!$C19&\"'!\"&Lists!$D19&AD$14))=\"\",\"\",(INDIRECT(\"'\"&Lists!$C19&\"'!\"&Lists!$D19&AD$14))))","v":""},{"$f":"IF(ISNA(Lists!$C19),\"\",IF((INDIRECT(\"'\"&Lists!$C19&\"'!\"&Lists!$D19&AE$14))=\"\",\"\",(INDIRECT(\"'\"&Lists!$C19&\"'!\"&Lists!$D19&AE$14))))","v":""},{"$f":"IF(ISNA(Lists!$C19),\"\",IF((INDIRECT(\"'\"&Lists!$C19&\"'!\"&Lists!$D19&AF$14))=\"\",\"\",(INDIRECT(\"'\"&Lists!$C19&\"'!\"&Lists!$D19&AF$14))))","v":""},{"$f":"IF(ISNA(Lists!$C19),\"\",IF((INDIRECT(\"'\"&Lists!$C19&\"'!\"&Lists!$D19&AG$14))=\"\",\"\",(INDIRECT(\"'\"&Lists!$C19&\"'!\"&Lists!$D19&AG$14))))","v":""},{"$f":"IF(ISNA(Lists!$C19),\"\",IF((INDIRECT(\"'\"&Lists!$C19&\"'!\"&Lists!$D19&AH$14))=\"\",\"\",(INDIRECT(\"'\"&Lists!$C19&\"'!\"&Lists!$D19&AH$14))))","v":""},{"$f":"IF(ISNA(Lists!$C19),\"\",IF((INDIRECT(\"'\"&Lists!$C19&\"'!\"&Lists!$D19&AI$14))=\"\",\"\",(INDIRECT(\"'\"&Lists!$C19&\"'!\"&Lists!$D19&AI$14))))","v":""},{"$f":"IF(ISNA(Lists!$C19),\"\",IF((INDIRECT(\"'\"&Lists!$C19&\"'!\"&Lists!$D19&AJ$14))=\"\",\"\",(INDIRECT(\"'\"&Lists!$C19&\"'!\"&Lists!$D19&AJ$14))))","v":""},{"$f":"IF(ISNA(Lists!$C19),\"\",IF((INDIRECT(\"'\"&Lists!$C19&\"'!\"&Lists!$D19&AK$14))=\"\",\"\",(INDIRECT(\"'\"&Lists!$C19&\"'!\"&Lists!$D19&AK$14))))","v":""}]
[{"$f":"IF(B33=\"\",\"\",' Facility_Info upload'!$A$24)","v":""},{"$f":"IF(ISNA(Lists!$C20),\"\",IF(INDIRECT(\"'\"&Lists!$C20&\"'!\"&\"B\"&B$14)=\"\",\"\",(INDIRECT(\"'\"&Lists!$C20&\"'!\"&\"B\"&B$14))))","v":""},{"$f":"IF(ISNA(Lists!$C20),\"\",IF(INDIRECT(\"'\"&Lists!$C20&\"'!\"&\"B\"&C$14)=\"\",\"\",(INDIRECT(\"'\"&Lists!$C20&\"'!\"&\"B\"&C$14))))","v":""},{"$f":"IF(ISNA(Lists!$C20),\"\",IF(INDIRECT(\"'\"&Lists!$C20&\"'!\"&\"B\"&D$14)=\"\",\"\",(INDIRECT(\"'\"&Lists!$C20&\"'!\"&\"B\"&D$14))))","v":""},{"$f":"IF(ISNA(Lists!$C20),\"\",IF(INDIRECT(\"'\"&Lists!$C20&\"'!\"&\"B\"&E$14)=\"\",\"\",(INDIRECT(\"'\"&Lists!$C20&\"'!\"&\"B\"&E$14))))","v":""},{"$f":"IF(ISNA(Lists!$C20),\"\",IF(INDIRECT(\"'\"&Lists!$C20&\"'!\"&\"B\"&F$14)=\"\",\"\",(INDIRECT(\"'\"&Lists!$C20&\"'!\"&\"B\"&F$14))))","v":""},{"$f":"IF(ISNA(Lists!$C20),\"\",IF((INDIRECT(\"'\"&Lists!$C20&\"'!\"&Lists!$D20&G$14))=\"\",\"\",(INDIRECT(\"'\"&Lists!$C20&\"'!\"&Lists!$D20&G$14))))","v":""},{"$f":"IF(ISNA(Lists!$C20),\"\",IF((INDIRECT(\"'\"&Lists!$C20&\"'!\"&Lists!$D20&H$14))=\"\",\"\",(INDIRECT(\"'\"&Lists!$C20&\"'!\"&Lists!$D20&H$14))))","v":""},{"$f":"IF(ISNA(Lists!$C20),\"\",IF((INDIRECT(\"'\"&Lists!$C20&\"'!\"&Lists!$D20&I$14))=\"\",\"\",(INDIRECT(\"'\"&Lists!$C20&\"'!\"&Lists!$D20&I$14))))","v":""},{"$f":"IF(ISNA(Lists!$C20),\"\",IF((INDIRECT(\"'\"&Lists!$C20&\"'!\"&Lists!$D20&J$14))=\"\",\"\",(INDIRECT(\"'\"&Lists!$C20&\"'!\"&Lists!$D20&J$14))))","v":""},{"$f":"IF(ISNA(Lists!$C20),\"\",IF((INDIRECT(\"'\"&Lists!$C20&\"'!\"&Lists!$D20&K$14))=\"\",\"\",(INDIRECT(\"'\"&Lists!$C20&\"'!\"&Lists!$D20&K$14))))","v":""},{"$f":"IF(ISNA(Lists!$C20),\"\",IF((INDIRECT(\"'\"&Lists!$C20&\"'!\"&Lists!$D20&L$14))=\"\",\"\",(INDIRECT(\"'\"&Lists!$C20&\"'!\"&Lists!$D20&L$14))))","v":""},{"$f":"IF(ISNA(Lists!$C20),\"\",IF((INDIRECT(\"'\"&Lists!$C20&\"'!\"&Lists!$D20&M$14))=\"\",\"\",(INDIRECT(\"'\"&Lists!$C20&\"'!\"&Lists!$D20&M$14))))","v":""},{"$f":"IF(ISNA(Lists!$C20),\"\",IF((INDIRECT(\"'\"&Lists!$C20&\"'!\"&Lists!$D20&N$14))=\"\",\"\",(INDIRECT(\"'\"&Lists!$C20&\"'!\"&Lists!$D20&N$14))))","v":""},{"$f":"IF(ISNA(Lists!$C20),\"\",IF((INDIRECT(\"'\"&Lists!$C20&\"'!\"&Lists!$D20&O$14))=\"\",\"\",(INDIRECT(\"'\"&Lists!$C20&\"'!\"&Lists!$D20&O$14))))","v":""},{"$f":"IF(ISNA(Lists!$C20),\"\",IF((INDIRECT(\"'\"&Lists!$C20&\"'!\"&Lists!$D20&P$14))=\"\",\"\",(INDIRECT(\"'\"&Lists!$C20&\"'!\"&Lists!$D20&P$14))))","v":""},{"$f":"IF(ISNA(Lists!$C20),\"\",IF((INDIRECT(\"'\"&Lists!$C20&\"'!\"&Lists!$D20&Q$14))=\"\",\"\",(INDIRECT(\"'\"&Lists!$C20&\"'!\"&Lists!$D20&Q$14))))","v":""},{"$f":"IF(ISNA(Lists!$C20),\"\",IF((INDIRECT(\"'\"&Lists!$C20&\"'!\"&Lists!$D20&R$14))=\"\",\"\",(INDIRECT(\"'\"&Lists!$C20&\"'!\"&Lists!$D20&R$14))))","v":""},{"$f":"IF(ISNA(Lists!$C20),\"\",IF((INDIRECT(\"'\"&Lists!$C20&\"'!\"&Lists!$D20&S$14))=\"\",\"\",(INDIRECT(\"'\"&Lists!$C20&\"'!\"&Lists!$D20&S$14))))","v":""},{"$f":"IF(ISNA(Lists!$C20),\"\",IF((INDIRECT(\"'\"&Lists!$C20&\"'!\"&Lists!$E20&T$14))=\"\",\"\",(INDIRECT(\"'\"&Lists!$C20&\"'!\"&Lists!$E20&T$14))))","v":""},{"$f":"IF(ISNA(Lists!$C20),\"\",IF((INDIRECT(\"'\"&Lists!$C20&\"'!\"&Lists!$E20&U$14))=\"\",\"\",(INDIRECT(\"'\"&Lists!$C20&\"'!\"&Lists!$E20&U$14))))","v":""},{"$f":"IF(ISNA(Lists!$C20),\"\",IF((INDIRECT(\"'\"&Lists!$C20&\"'!\"&Lists!$E20&V$14))=\"\",\"\",(INDIRECT(\"'\"&Lists!$C20&\"'!\"&Lists!$E20&V$14))))","v":""},{"$f":"IF(ISNA(Lists!$C20),\"\",IF((INDIRECT(\"'\"&Lists!$C20&\"'!\"&Lists!$E20&W$14))=\"\",\"\",(INDIRECT(\"'\"&Lists!$C20&\"'!\"&Lists!$E20&W$14))))","v":""},{"$f":"IF(ISNA(Lists!$C20),\"\",IF((INDIRECT(\"'\"&Lists!$C20&\"'!\"&Lists!$E20&X$14))=\"\",\"\",(INDIRECT(\"'\"&Lists!$C20&\"'!\"&Lists!$E20&X$14))))","v":""},{"$f":"IF(ISNA(Lists!$C20),\"\",IF((INDIRECT(\"'\"&Lists!$C20&\"'!\"&Lists!$E20&Y$14))=\"\",\"\",(INDIRECT(\"'\"&Lists!$C20&\"'!\"&Lists!$E20&Y$14))))","v":""},{"$f":"IF(ISNA(Lists!$C20),\"\",IF((INDIRECT(\"'\"&Lists!$C20&\"'!\"&Lists!$E20&Z$14))=\"\",\"\",(INDIRECT(\"'\"&Lists!$C20&\"'!\"&Lists!$E20&Z$14))))","v":""},{"$f":"IF(ISNA(Lists!$C20),\"\",IF((INDIRECT(\"'\"&Lists!$C20&\"'!\"&Lists!$E20&AA$14))=\"\",\"\",(INDIRECT(\"'\"&Lists!$C20&\"'!\"&Lists!$E20&AA$14))))","v":""},{"$f":"IF(ISNA(Lists!$C20),\"\",IF((INDIRECT(\"'\"&Lists!$C20&\"'!\"&Lists!$D20&AB$14))=\"\",\"\",(INDIRECT(\"'\"&Lists!$C20&\"'!\"&Lists!$D20&AB$14))))","v":""},{"$f":"IF(ISNA(Lists!$C20),\"\",IF((INDIRECT(\"'\"&Lists!$C20&\"'!\"&Lists!$D20&AC$14))=\"\",\"\",(INDIRECT(\"'\"&Lists!$C20&\"'!\"&Lists!$D20&AC$14))))","v":""},{"$f":"IF(ISNA(Lists!$C20),\"\",IF((INDIRECT(\"'\"&Lists!$C20&\"'!\"&Lists!$D20&AD$14))=\"\",\"\",(INDIRECT(\"'\"&Lists!$C20&\"'!\"&Lists!$D20&AD$14))))","v":""},{"$f":"IF(ISNA(Lists!$C20),\"\",IF((INDIRECT(\"'\"&Lists!$C20&\"'!\"&Lists!$D20&AE$14))=\"\",\"\",(INDIRECT(\"'\"&Lists!$C20&\"'!\"&Lists!$D20&AE$14))))","v":""},{"$f":"IF(ISNA(Lists!$C20),\"\",IF((INDIRECT(\"'\"&Lists!$C20&\"'!\"&Lists!$D20&AF$14))=\"\",\"\",(INDIRECT(\"'\"&Lists!$C20&\"'!\"&Lists!$D20&AF$14))))","v":""},{"$f":"IF(ISNA(Lists!$C20),\"\",IF((INDIRECT(\"'\"&Lists!$C20&\"'!\"&Lists!$D20&AG$14))=\"\",\"\",(INDIRECT(\"'\"&Lists!$C20&\"'!\"&Lists!$D20&AG$14))))","v":""},{"$f":"IF(ISNA(Lists!$C20),\"\",IF((INDIRECT(\"'\"&Lists!$C20&\"'!\"&Lists!$D20&AH$14))=\"\",\"\",(INDIRECT(\"'\"&Lists!$C20&\"'!\"&Lists!$D20&AH$14))))","v":""},{"$f":"IF(ISNA(Lists!$C20),\"\",IF((INDIRECT(\"'\"&Lists!$C20&\"'!\"&Lists!$D20&AI$14))=\"\",\"\",(INDIRECT(\"'\"&Lists!$C20&\"'!\"&Lists!$D20&AI$14))))","v":""},{"$f":"IF(ISNA(Lists!$C20),\"\",IF((INDIRECT(\"'\"&Lists!$C20&\"'!\"&Lists!$D20&AJ$14))=\"\",\"\",(INDIRECT(\"'\"&Lists!$C20&\"'!\"&Lists!$D20&AJ$14))))","v":""},{"$f":"IF(ISNA(Lists!$C20),\"\",IF((INDIRECT(\"'\"&Lists!$C20&\"'!\"&Lists!$D20&AK$14))=\"\",\"\",(INDIRECT(\"'\"&Lists!$C20&\"'!\"&Lists!$D20&AK$14))))","v":""}]
[{"$f":"IF(B34=\"\",\"\",' Facility_Info upload'!$A$24)","v":""},{"$f":"IF(ISNA(Lists!$C21),\"\",IF(INDIRECT(\"'\"&Lists!$C21&\"'!\"&\"B\"&B$14)=\"\",\"\",(INDIRECT(\"'\"&Lists!$C21&\"'!\"&\"B\"&B$14))))","v":""},{"$f":"IF(ISNA(Lists!$C21),\"\",IF(INDIRECT(\"'\"&Lists!$C21&\"'!\"&\"B\"&C$14)=\"\",\"\",(INDIRECT(\"'\"&Lists!$C21&\"'!\"&\"B\"&C$14))))","v":""},{"$f":"IF(ISNA(Lists!$C21),\"\",IF(INDIRECT(\"'\"&Lists!$C21&\"'!\"&\"B\"&D$14)=\"\",\"\",(INDIRECT(\"'\"&Lists!$C21&\"'!\"&\"B\"&D$14))))","v":""},{"$f":"IF(ISNA(Lists!$C21),\"\",IF(INDIRECT(\"'\"&Lists!$C21&\"'!\"&\"B\"&E$14)=\"\",\"\",(INDIRECT(\"'\"&Lists!$C21&\"'!\"&\"B\"&E$14))))","v":""},{"$f":"IF(ISNA(Lists!$C21),\"\",IF(INDIRECT(\"'\"&Lists!$C21&\"'!\"&\"B\"&F$14)=\"\",\"\",(INDIRECT(\"'\"&Lists!$C21&\"'!\"&\"B\"&F$14))))","v":""},{"$f":"IF(ISNA(Lists!$C21),\"\",IF((INDIRECT(\"'\"&Lists!$C21&\"'!\"&Lists!$D21&G$14))=\"\",\"\",(INDIRECT(\"'\"&Lists!$C21&\"'!\"&Lists!$D21&G$14))))","v":""},{"$f":"IF(ISNA(Lists!$C21),\"\",IF((INDIRECT(\"'\"&Lists!$C21&\"'!\"&Lists!$D21&H$14))=\"\",\"\",(INDIRECT(\"'\"&Lists!$C21&\"'!\"&Lists!$D21&H$14))))","v":""},{"$f":"IF(ISNA(Lists!$C21),\"\",IF((INDIRECT(\"'\"&Lists!$C21&\"'!\"&Lists!$D21&I$14))=\"\",\"\",(INDIRECT(\"'\"&Lists!$C21&\"'!\"&Lists!$D21&I$14))))","v":""},{"$f":"IF(ISNA(Lists!$C21),\"\",IF((INDIRECT(\"'\"&Lists!$C21&\"'!\"&Lists!$D21&J$14))=\"\",\"\",(INDIRECT(\"'\"&Lists!$C21&\"'!\"&Lists!$D21&J$14))))","v":""},{"$f":"IF(ISNA(Lists!$C21),\"\",IF((INDIRECT(\"'\"&Lists!$C21&\"'!\"&Lists!$D21&K$14))=\"\",\"\",(INDIRECT(\"'\"&Lists!$C21&\"'!\"&Lists!$D21&K$14))))","v":""},{"$f":"IF(ISNA(Lists!$C21),\"\",IF((INDIRECT(\"'\"&Lists!$C21&\"'!\"&Lists!$D21&L$14))=\"\",\"\",(INDIRECT(\"'\"&Lists!$C21&\"'!\"&Lists!$D21&L$14))))","v":""},{"$f":"IF(ISNA(Lists!$C21),\"\",IF((INDIRECT(\"'\"&Lists!$C21&\"'!\"&Lists!$D21&M$14))=\"\",\"\",(INDIRECT(\"'\"&Lists!$C21&\"'!\"&Lists!$D21&M$14))))","v":""},{"$f":"IF(ISNA(Lists!$C21),\"\",IF((INDIRECT(\"'\"&Lists!$C21&\"'!\"&Lists!$D21&N$14))=\"\",\"\",(INDIRECT(\"'\"&Lists!$C21&\"'!\"&Lists!$D21&N$14))))","v":""},{"$f":"IF(ISNA(Lists!$C21),\"\",IF((INDIRECT(\"'\"&Lists!$C21&\"'!\"&Lists!$D21&O$14))=\"\",\"\",(INDIRECT(\"'\"&Lists!$C21&\"'!\"&Lists!$D21&O$14))))","v":""},{"$f":"IF(ISNA(Lists!$C21),\"\",IF((INDIRECT(\"'\"&Lists!$C21&\"'!\"&Lists!$D21&P$14))=\"\",\"\",(INDIRECT(\"'\"&Lists!$C21&\"'!\"&Lists!$D21&P$14))))","v":""},{"$f":"IF(ISNA(Lists!$C21),\"\",IF((INDIRECT(\"'\"&Lists!$C21&\"'!\"&Lists!$D21&Q$14))=\"\",\"\",(INDIRECT(\"'\"&Lists!$C21&\"'!\"&Lists!$D21&Q$14))))","v":""},{"$f":"IF(ISNA(Lists!$C21),\"\",IF((INDIRECT(\"'\"&Lists!$C21&\"'!\"&Lists!$D21&R$14))=\"\",\"\",(INDIRECT(\"'\"&Lists!$C21&\"'!\"&Lists!$D21&R$14))))","v":""},{"$f":"IF(ISNA(Lists!$C21),\"\",IF((INDIRECT(\"'\"&Lists!$C21&\"'!\"&Lists!$D21&S$14))=\"\",\"\",(INDIRECT(\"'\"&Lists!$C21&\"'!\"&Lists!$D21&S$14))))","v":""},{"$f":"IF(ISNA(Lists!$C21),\"\",IF((INDIRECT(\"'\"&Lists!$C21&\"'!\"&Lists!$E21&T$14))=\"\",\"\",(INDIRECT(\"'\"&Lists!$C21&\"'!\"&Lists!$E21&T$14))))","v":""},{"$f":"IF(ISNA(Lists!$C21),\"\",IF((INDIRECT(\"'\"&Lists!$C21&\"'!\"&Lists!$E21&U$14))=\"\",\"\",(INDIRECT(\"'\"&Lists!$C21&\"'!\"&Lists!$E21&U$14))))","v":""},{"$f":"IF(ISNA(Lists!$C21),\"\",IF((INDIRECT(\"'\"&Lists!$C21&\"'!\"&Lists!$E21&V$14))=\"\",\"\",(INDIRECT(\"'\"&Lists!$C21&\"'!\"&Lists!$E21&V$14))))","v":""},{"$f":"IF(ISNA(Lists!$C21),\"\",IF((INDIRECT(\"'\"&Lists!$C21&\"'!\"&Lists!$E21&W$14))=\"\",\"\",(INDIRECT(\"'\"&Lists!$C21&\"'!\"&Lists!$E21&W$14))))","v":""},{"$f":"IF(ISNA(Lists!$C21),\"\",IF((INDIRECT(\"'\"&Lists!$C21&\"'!\"&Lists!$E21&X$14))=\"\",\"\",(INDIRECT(\"'\"&Lists!$C21&\"'!\"&Lists!$E21&X$14))))","v":""},{"$f":"IF(ISNA(Lists!$C21),\"\",IF((INDIRECT(\"'\"&Lists!$C21&\"'!\"&Lists!$E21&Y$14))=\"\",\"\",(INDIRECT(\"'\"&Lists!$C21&\"'!\"&Lists!$E21&Y$14))))","v":""},{"$f":"IF(ISNA(Lists!$C21),\"\",IF((INDIRECT(\"'\"&Lists!$C21&\"'!\"&Lists!$E21&Z$14))=\"\",\"\",(INDIRECT(\"'\"&Lists!$C21&\"'!\"&Lists!$E21&Z$14))))","v":""},{"$f":"IF(ISNA(Lists!$C21),\"\",IF((INDIRECT(\"'\"&Lists!$C21&\"'!\"&Lists!$E21&AA$14))=\"\",\"\",(INDIRECT(\"'\"&Lists!$C21&\"'!\"&Lists!$E21&AA$14))))","v":""},{"$f":"IF(ISNA(Lists!$C21),\"\",IF((INDIRECT(\"'\"&Lists!$C21&\"'!\"&Lists!$D21&AB$14))=\"\",\"\",(INDIRECT(\"'\"&Lists!$C21&\"'!\"&Lists!$D21&AB$14))))","v":""},{"$f":"IF(ISNA(Lists!$C21),\"\",IF((INDIRECT(\"'\"&Lists!$C21&\"'!\"&Lists!$D21&AC$14))=\"\",\"\",(INDIRECT(\"'\"&Lists!$C21&\"'!\"&Lists!$D21&AC$14))))","v":""},{"$f":"IF(ISNA(Lists!$C21),\"\",IF((INDIRECT(\"'\"&Lists!$C21&\"'!\"&Lists!$D21&AD$14))=\"\",\"\",(INDIRECT(\"'\"&Lists!$C21&\"'!\"&Lists!$D21&AD$14))))","v":""},{"$f":"IF(ISNA(Lists!$C21),\"\",IF((INDIRECT(\"'\"&Lists!$C21&\"'!\"&Lists!$D21&AE$14))=\"\",\"\",(INDIRECT(\"'\"&Lists!$C21&\"'!\"&Lists!$D21&AE$14))))","v":""},{"$f":"IF(ISNA(Lists!$C21),\"\",IF((INDIRECT(\"'\"&Lists!$C21&\"'!\"&Lists!$D21&AF$14))=\"\",\"\",(INDIRECT(\"'\"&Lists!$C21&\"'!\"&Lists!$D21&AF$14))))","v":""},{"$f":"IF(ISNA(Lists!$C21),\"\",IF((INDIRECT(\"'\"&Lists!$C21&\"'!\"&Lists!$D21&AG$14))=\"\",\"\",(INDIRECT(\"'\"&Lists!$C21&\"'!\"&Lists!$D21&AG$14))))","v":""},{"$f":"IF(ISNA(Lists!$C21),\"\",IF((INDIRECT(\"'\"&Lists!$C21&\"'!\"&Lists!$D21&AH$14))=\"\",\"\",(INDIRECT(\"'\"&Lists!$C21&\"'!\"&Lists!$D21&AH$14))))","v":""},{"$f":"IF(ISNA(Lists!$C21),\"\",IF((INDIRECT(\"'\"&Lists!$C21&\"'!\"&Lists!$D21&AI$14))=\"\",\"\",(INDIRECT(\"'\"&Lists!$C21&\"'!\"&Lists!$D21&AI$14))))","v":""},{"$f":"IF(ISNA(Lists!$C21),\"\",IF((INDIRECT(\"'\"&Lists!$C21&\"'!\"&Lists!$D21&AJ$14))=\"\",\"\",(INDIRECT(\"'\"&Lists!$C21&\"'!\"&Lists!$D21&AJ$14))))","v":""},{"$f":"IF(ISNA(Lists!$C21),\"\",IF((INDIRECT(\"'\"&Lists!$C21&\"'!\"&Lists!$D21&AK$14))=\"\",\"\",(INDIRECT(\"'\"&Lists!$C21&\"'!\"&Lists!$D21&AK$14))))","v":""}]
[{"$f":"IF(B35=\"\",\"\",' Facility_Info upload'!$A$24)","v":""},{"$f":"IF(ISNA(Lists!$C22),\"\",IF(INDIRECT(\"'\"&Lists!$C22&\"'!\"&\"B\"&B$14)=\"\",\"\",(INDIRECT(\"'\"&Lists!$C22&\"'!\"&\"B\"&B$14))))","v":""},{"$f":"IF(ISNA(Lists!$C22),\"\",IF(INDIRECT(\"'\"&Lists!$C22&\"'!\"&\"B\"&C$14)=\"\",\"\",(INDIRECT(\"'\"&Lists!$C22&\"'!\"&\"B\"&C$14))))","v":""},{"$f":"IF(ISNA(Lists!$C22),\"\",IF(INDIRECT(\"'\"&Lists!$C22&\"'!\"&\"B\"&D$14)=\"\",\"\",(INDIRECT(\"'\"&Lists!$C22&\"'!\"&\"B\"&D$14))))","v":""},{"$f":"IF(ISNA(Lists!$C22),\"\",IF(INDIRECT(\"'\"&Lists!$C22&\"'!\"&\"B\"&E$14)=\"\",\"\",(INDIRECT(\"'\"&Lists!$C22&\"'!\"&\"B\"&E$14))))","v":""},{"$f":"IF(ISNA(Lists!$C22),\"\",IF(INDIRECT(\"'\"&Lists!$C22&\"'!\"&\"B\"&F$14)=\"\",\"\",(INDIRECT(\"'\"&Lists!$C22&\"'!\"&\"B\"&F$14))))","v":""},{"$f":"IF(ISNA(Lists!$C22),\"\",IF((INDIRECT(\"'\"&Lists!$C22&\"'!\"&Lists!$D22&G$14))=\"\",\"\",(INDIRECT(\"'\"&Lists!$C22&\"'!\"&Lists!$D22&G$14))))","v":""},{"$f":"IF(ISNA(Lists!$C22),\"\",IF((INDIRECT(\"'\"&Lists!$C22&\"'!\"&Lists!$D22&H$14))=\"\",\"\",(INDIRECT(\"'\"&Lists!$C22&\"'!\"&Lists!$D22&H$14))))","v":""},{"$f":"IF(ISNA(Lists!$C22),\"\",IF((INDIRECT(\"'\"&Lists!$C22&\"'!\"&Lists!$D22&I$14))=\"\",\"\",(INDIRECT(\"'\"&Lists!$C22&\"'!\"&Lists!$D22&I$14))))","v":""},{"$f":"IF(ISNA(Lists!$C22),\"\",IF((INDIRECT(\"'\"&Lists!$C22&\"'!\"&Lists!$D22&J$14))=\"\",\"\",(INDIRECT(\"'\"&Lists!$C22&\"'!\"&Lists!$D22&J$14))))","v":""},{"$f":"IF(ISNA(Lists!$C22),\"\",IF((INDIRECT(\"'\"&Lists!$C22&\"'!\"&Lists!$D22&K$14))=\"\",\"\",(INDIRECT(\"'\"&Lists!$C22&\"'!\"&Lists!$D22&K$14))))","v":""},{"$f":"IF(ISNA(Lists!$C22),\"\",IF((INDIRECT(\"'\"&Lists!$C22&\"'!\"&Lists!$D22&L$14))=\"\",\"\",(INDIRECT(\"'\"&Lists!$C22&\"'!\"&Lists!$D22&L$14))))","v":""},{"$f":"IF(ISNA(Lists!$C22),\"\",IF((INDIRECT(\"'\"&Lists!$C22&\"'!\"&Lists!$D22&M$14))=\"\",\"\",(INDIRECT(\"'\"&Lists!$C22&\"'!\"&Lists!$D22&M$14))))","v":""},{"$f":"IF(ISNA(Lists!$C22),\"\",IF((INDIRECT(\"'\"&Lists!$C22&\"'!\"&Lists!$D22&N$14))=\"\",\"\",(INDIRECT(\"'\"&Lists!$C22&\"'!\"&Lists!$D22&N$14))))","v":""},{"$f":"IF(ISNA(Lists!$C22),\"\",IF((INDIRECT(\"'\"&Lists!$C22&\"'!\"&Lists!$D22&O$14))=\"\",\"\",(INDIRECT(\"'\"&Lists!$C22&\"'!\"&Lists!$D22&O$14))))","v":""},{"$f":"IF(ISNA(Lists!$C22),\"\",IF((INDIRECT(\"'\"&Lists!$C22&\"'!\"&Lists!$D22&P$14))=\"\",\"\",(INDIRECT(\"'\"&Lists!$C22&\"'!\"&Lists!$D22&P$14))))","v":""},{"$f":"IF(ISNA(Lists!$C22),\"\",IF((INDIRECT(\"'\"&Lists!$C22&\"'!\"&Lists!$D22&Q$14))=\"\",\"\",(INDIRECT(\"'\"&Lists!$C22&\"'!\"&Lists!$D22&Q$14))))","v":""},{"$f":"IF(ISNA(Lists!$C22),\"\",IF((INDIRECT(\"'\"&Lists!$C22&\"'!\"&Lists!$D22&R$14))=\"\",\"\",(INDIRECT(\"'\"&Lists!$C22&\"'!\"&Lists!$D22&R$14))))","v":""},{"$f":"IF(ISNA(Lists!$C22),\"\",IF((INDIRECT(\"'\"&Lists!$C22&\"'!\"&Lists!$D22&S$14))=\"\",\"\",(INDIRECT(\"'\"&Lists!$C22&\"'!\"&Lists!$D22&S$14))))","v":""},{"$f":"IF(ISNA(Lists!$C22),\"\",IF((INDIRECT(\"'\"&Lists!$C22&\"'!\"&Lists!$E22&T$14))=\"\",\"\",(INDIRECT(\"'\"&Lists!$C22&\"'!\"&Lists!$E22&T$14))))","v":""},{"$f":"IF(ISNA(Lists!$C22),\"\",IF((INDIRECT(\"'\"&Lists!$C22&\"'!\"&Lists!$E22&U$14))=\"\",\"\",(INDIRECT(\"'\"&Lists!$C22&\"'!\"&Lists!$E22&U$14))))","v":""},{"$f":"IF(ISNA(Lists!$C22),\"\",IF((INDIRECT(\"'\"&Lists!$C22&\"'!\"&Lists!$E22&V$14))=\"\",\"\",(INDIRECT(\"'\"&Lists!$C22&\"'!\"&Lists!$E22&V$14))))","v":""},{"$f":"IF(ISNA(Lists!$C22),\"\",IF((INDIRECT(\"'\"&Lists!$C22&\"'!\"&Lists!$E22&W$14))=\"\",\"\",(INDIRECT(\"'\"&Lists!$C22&\"'!\"&Lists!$E22&W$14))))","v":""},{"$f":"IF(ISNA(Lists!$C22),\"\",IF((INDIRECT(\"'\"&Lists!$C22&\"'!\"&Lists!$E22&X$14))=\"\",\"\",(INDIRECT(\"'\"&Lists!$C22&\"'!\"&Lists!$E22&X$14))))","v":""},{"$f":"IF(ISNA(Lists!$C22),\"\",IF((INDIRECT(\"'\"&Lists!$C22&\"'!\"&Lists!$E22&Y$14))=\"\",\"\",(INDIRECT(\"'\"&Lists!$C22&\"'!\"&Lists!$E22&Y$14))))","v":""},{"$f":"IF(ISNA(Lists!$C22),\"\",IF((INDIRECT(\"'\"&Lists!$C22&\"'!\"&Lists!$E22&Z$14))=\"\",\"\",(INDIRECT(\"'\"&Lists!$C22&\"'!\"&Lists!$E22&Z$14))))","v":""},{"$f":"IF(ISNA(Lists!$C22),\"\",IF((INDIRECT(\"'\"&Lists!$C22&\"'!\"&Lists!$E22&AA$14))=\"\",\"\",(INDIRECT(\"'\"&Lists!$C22&\"'!\"&Lists!$E22&AA$14))))","v":""},{"$f":"IF(ISNA(Lists!$C22),\"\",IF((INDIRECT(\"'\"&Lists!$C22&\"'!\"&Lists!$D22&AB$14))=\"\",\"\",(INDIRECT(\"'\"&Lists!$C22&\"'!\"&Lists!$D22&AB$14))))","v":""},{"$f":"IF(ISNA(Lists!$C22),\"\",IF((INDIRECT(\"'\"&Lists!$C22&\"'!\"&Lists!$D22&AC$14))=\"\",\"\",(INDIRECT(\"'\"&Lists!$C22&\"'!\"&Lists!$D22&AC$14))))","v":""},{"$f":"IF(ISNA(Lists!$C22),\"\",IF((INDIRECT(\"'\"&Lists!$C22&\"'!\"&Lists!$D22&AD$14))=\"\",\"\",(INDIRECT(\"'\"&Lists!$C22&\"'!\"&Lists!$D22&AD$14))))","v":""},{"$f":"IF(ISNA(Lists!$C22),\"\",IF((INDIRECT(\"'\"&Lists!$C22&\"'!\"&Lists!$D22&AE$14))=\"\",\"\",(INDIRECT(\"'\"&Lists!$C22&\"'!\"&Lists!$D22&AE$14))))","v":""},{"$f":"IF(ISNA(Lists!$C22),\"\",IF((INDIRECT(\"'\"&Lists!$C22&\"'!\"&Lists!$D22&AF$14))=\"\",\"\",(INDIRECT(\"'\"&Lists!$C22&\"'!\"&Lists!$D22&AF$14))))","v":""},{"$f":"IF(ISNA(Lists!$C22),\"\",IF((INDIRECT(\"'\"&Lists!$C22&\"'!\"&Lists!$D22&AG$14))=\"\",\"\",(INDIRECT(\"'\"&Lists!$C22&\"'!\"&Lists!$D22&AG$14))))","v":""},{"$f":"IF(ISNA(Lists!$C22),\"\",IF((INDIRECT(\"'\"&Lists!$C22&\"'!\"&Lists!$D22&AH$14))=\"\",\"\",(INDIRECT(\"'\"&Lists!$C22&\"'!\"&Lists!$D22&AH$14))))","v":""},{"$f":"IF(ISNA(Lists!$C22),\"\",IF((INDIRECT(\"'\"&Lists!$C22&\"'!\"&Lists!$D22&AI$14))=\"\",\"\",(INDIRECT(\"'\"&Lists!$C22&\"'!\"&Lists!$D22&AI$14))))","v":""},{"$f":"IF(ISNA(Lists!$C22),\"\",IF((INDIRECT(\"'\"&Lists!$C22&\"'!\"&Lists!$D22&AJ$14))=\"\",\"\",(INDIRECT(\"'\"&Lists!$C22&\"'!\"&Lists!$D22&AJ$14))))","v":""},{"$f":"IF(ISNA(Lists!$C22),\"\",IF((INDIRECT(\"'\"&Lists!$C22&\"'!\"&Lists!$D22&AK$14))=\"\",\"\",(INDIRECT(\"'\"&Lists!$C22&\"'!\"&Lists!$D22&AK$14))))","v":""}]
[{"$f":"IF(B36=\"\",\"\",' Facility_Info upload'!$A$24)","v":""},{"$f":"IF(ISNA(Lists!$C23),\"\",IF(INDIRECT(\"'\"&Lists!$C23&\"'!\"&\"B\"&B$14)=\"\",\"\",(INDIRECT(\"'\"&Lists!$C23&\"'!\"&\"B\"&B$14))))","v":""},{"$f":"IF(ISNA(Lists!$C23),\"\",IF(INDIRECT(\"'\"&Lists!$C23&\"'!\"&\"B\"&C$14)=\"\",\"\",(INDIRECT(\"'\"&Lists!$C23&\"'!\"&\"B\"&C$14))))","v":""},{"$f":"IF(ISNA(Lists!$C23),\"\",IF(INDIRECT(\"'\"&Lists!$C23&\"'!\"&\"B\"&D$14)=\"\",\"\",(INDIRECT(\"'\"&Lists!$C23&\"'!\"&\"B\"&D$14))))","v":""},{"$f":"IF(ISNA(Lists!$C23),\"\",IF(INDIRECT(\"'\"&Lists!$C23&\"'!\"&\"B\"&E$14)=\"\",\"\",(INDIRECT(\"'\"&Lists!$C23&\"'!\"&\"B\"&E$14))))","v":""},{"$f":"IF(ISNA(Lists!$C23),\"\",IF(INDIRECT(\"'\"&Lists!$C23&\"'!\"&\"B\"&F$14)=\"\",\"\",(INDIRECT(\"'\"&Lists!$C23&\"'!\"&\"B\"&F$14))))","v":""},{"$f":"IF(ISNA(Lists!$C23),\"\",IF((INDIRECT(\"'\"&Lists!$C23&\"'!\"&Lists!$D23&G$14))=\"\",\"\",(INDIRECT(\"'\"&Lists!$C23&\"'!\"&Lists!$D23&G$14))))","v":""},{"$f":"IF(ISNA(Lists!$C23),\"\",IF((INDIRECT(\"'\"&Lists!$C23&\"'!\"&Lists!$D23&H$14))=\"\",\"\",(INDIRECT(\"'\"&Lists!$C23&\"'!\"&Lists!$D23&H$14))))","v":""},{"$f":"IF(ISNA(Lists!$C23),\"\",IF((INDIRECT(\"'\"&Lists!$C23&\"'!\"&Lists!$D23&I$14))=\"\",\"\",(INDIRECT(\"'\"&Lists!$C23&\"'!\"&Lists!$D23&I$14))))","v":""},{"$f":"IF(ISNA(Lists!$C23),\"\",IF((INDIRECT(\"'\"&Lists!$C23&\"'!\"&Lists!$D23&J$14))=\"\",\"\",(INDIRECT(\"'\"&Lists!$C23&\"'!\"&Lists!$D23&J$14))))","v":""},{"$f":"IF(ISNA(Lists!$C23),\"\",IF((INDIRECT(\"'\"&Lists!$C23&\"'!\"&Lists!$D23&K$14))=\"\",\"\",(INDIRECT(\"'\"&Lists!$C23&\"'!\"&Lists!$D23&K$14))))","v":""},{"$f":"IF(ISNA(Lists!$C23),\"\",IF((INDIRECT(\"'\"&Lists!$C23&\"'!\"&Lists!$D23&L$14))=\"\",\"\",(INDIRECT(\"'\"&Lists!$C23&\"'!\"&Lists!$D23&L$14))))","v":""},{"$f":"IF(ISNA(Lists!$C23),\"\",IF((INDIRECT(\"'\"&Lists!$C23&\"'!\"&Lists!$D23&M$14))=\"\",\"\",(INDIRECT(\"'\"&Lists!$C23&\"'!\"&Lists!$D23&M$14))))","v":""},{"$f":"IF(ISNA(Lists!$C23),\"\",IF((INDIRECT(\"'\"&Lists!$C23&\"'!\"&Lists!$D23&N$14))=\"\",\"\",(INDIRECT(\"'\"&Lists!$C23&\"'!\"&Lists!$D23&N$14))))","v":""},{"$f":"IF(ISNA(Lists!$C23),\"\",IF((INDIRECT(\"'\"&Lists!$C23&\"'!\"&Lists!$D23&O$14))=\"\",\"\",(INDIRECT(\"'\"&Lists!$C23&\"'!\"&Lists!$D23&O$14))))","v":""},{"$f":"IF(ISNA(Lists!$C23),\"\",IF((INDIRECT(\"'\"&Lists!$C23&\"'!\"&Lists!$D23&P$14))=\"\",\"\",(INDIRECT(\"'\"&Lists!$C23&\"'!\"&Lists!$D23&P$14))))","v":""},{"$f":"IF(ISNA(Lists!$C23),\"\",IF((INDIRECT(\"'\"&Lists!$C23&\"'!\"&Lists!$D23&Q$14))=\"\",\"\",(INDIRECT(\"'\"&Lists!$C23&\"'!\"&Lists!$D23&Q$14))))","v":""},{"$f":"IF(ISNA(Lists!$C23),\"\",IF((INDIRECT(\"'\"&Lists!$C23&\"'!\"&Lists!$D23&R$14))=\"\",\"\",(INDIRECT(\"'\"&Lists!$C23&\"'!\"&Lists!$D23&R$14))))","v":""},{"$f":"IF(ISNA(Lists!$C23),\"\",IF((INDIRECT(\"'\"&Lists!$C23&\"'!\"&Lists!$D23&S$14))=\"\",\"\",(INDIRECT(\"'\"&Lists!$C23&\"'!\"&Lists!$D23&S$14))))","v":""},{"$f":"IF(ISNA(Lists!$C23),\"\",IF((INDIRECT(\"'\"&Lists!$C23&\"'!\"&Lists!$E23&T$14))=\"\",\"\",(INDIRECT(\"'\"&Lists!$C23&\"'!\"&Lists!$E23&T$14))))","v":""},{"$f":"IF(ISNA(Lists!$C23),\"\",IF((INDIRECT(\"'\"&Lists!$C23&\"'!\"&Lists!$E23&U$14))=\"\",\"\",(INDIRECT(\"'\"&Lists!$C23&\"'!\"&Lists!$E23&U$14))))","v":""},{"$f":"IF(ISNA(Lists!$C23),\"\",IF((INDIRECT(\"'\"&Lists!$C23&\"'!\"&Lists!$E23&V$14))=\"\",\"\",(INDIRECT(\"'\"&Lists!$C23&\"'!\"&Lists!$E23&V$14))))","v":""},{"$f":"IF(ISNA(Lists!$C23),\"\",IF((INDIRECT(\"'\"&Lists!$C23&\"'!\"&Lists!$E23&W$14))=\"\",\"\",(INDIRECT(\"'\"&Lists!$C23&\"'!\"&Lists!$E23&W$14))))","v":""},{"$f":"IF(ISNA(Lists!$C23),\"\",IF((INDIRECT(\"'\"&Lists!$C23&\"'!\"&Lists!$E23&X$14))=\"\",\"\",(INDIRECT(\"'\"&Lists!$C23&\"'!\"&Lists!$E23&X$14))))","v":""},{"$f":"IF(ISNA(Lists!$C23),\"\",IF((INDIRECT(\"'\"&Lists!$C23&\"'!\"&Lists!$E23&Y$14))=\"\",\"\",(INDIRECT(\"'\"&Lists!$C23&\"'!\"&Lists!$E23&Y$14))))","v":""},{"$f":"IF(ISNA(Lists!$C23),\"\",IF((INDIRECT(\"'\"&Lists!$C23&\"'!\"&Lists!$E23&Z$14))=\"\",\"\",(INDIRECT(\"'\"&Lists!$C23&\"'!\"&Lists!$E23&Z$14))))","v":""},{"$f":"IF(ISNA(Lists!$C23),\"\",IF((INDIRECT(\"'\"&Lists!$C23&\"'!\"&Lists!$E23&AA$14))=\"\",\"\",(INDIRECT(\"'\"&Lists!$C23&\"'!\"&Lists!$E23&AA$14))))","v":""},{"$f":"IF(ISNA(Lists!$C23),\"\",IF((INDIRECT(\"'\"&Lists!$C23&\"'!\"&Lists!$D23&AB$14))=\"\",\"\",(INDIRECT(\"'\"&Lists!$C23&\"'!\"&Lists!$D23&AB$14))))","v":""},{"$f":"IF(ISNA(Lists!$C23),\"\",IF((INDIRECT(\"'\"&Lists!$C23&\"'!\"&Lists!$D23&AC$14))=\"\",\"\",(INDIRECT(\"'\"&Lists!$C23&\"'!\"&Lists!$D23&AC$14))))","v":""},{"$f":"IF(ISNA(Lists!$C23),\"\",IF((INDIRECT(\"'\"&Lists!$C23&\"'!\"&Lists!$D23&AD$14))=\"\",\"\",(INDIRECT(\"'\"&Lists!$C23&\"'!\"&Lists!$D23&AD$14))))","v":""},{"$f":"IF(ISNA(Lists!$C23),\"\",IF((INDIRECT(\"'\"&Lists!$C23&\"'!\"&Lists!$D23&AE$14))=\"\",\"\",(INDIRECT(\"'\"&Lists!$C23&\"'!\"&Lists!$D23&AE$14))))","v":""},{"$f":"IF(ISNA(Lists!$C23),\"\",IF((INDIRECT(\"'\"&Lists!$C23&\"'!\"&Lists!$D23&AF$14))=\"\",\"\",(INDIRECT(\"'\"&Lists!$C23&\"'!\"&Lists!$D23&AF$14))))","v":""},{"$f":"IF(ISNA(Lists!$C23),\"\",IF((INDIRECT(\"'\"&Lists!$C23&\"'!\"&Lists!$D23&AG$14))=\"\",\"\",(INDIRECT(\"'\"&Lists!$C23&\"'!\"&Lists!$D23&AG$14))))","v":""},{"$f":"IF(ISNA(Lists!$C23),\"\",IF((INDIRECT(\"'\"&Lists!$C23&\"'!\"&Lists!$D23&AH$14))=\"\",\"\",(INDIRECT(\"'\"&Lists!$C23&\"'!\"&Lists!$D23&AH$14))))","v":""},{"$f":"IF(ISNA(Lists!$C23),\"\",IF((INDIRECT(\"'\"&Lists!$C23&\"'!\"&Lists!$D23&AI$14))=\"\",\"\",(INDIRECT(\"'\"&Lists!$C23&\"'!\"&Lists!$D23&AI$14))))","v":""},{"$f":"IF(ISNA(Lists!$C23),\"\",IF((INDIRECT(\"'\"&Lists!$C23&\"'!\"&Lists!$D23&AJ$14))=\"\",\"\",(INDIRECT(\"'\"&Lists!$C23&\"'!\"&Lists!$D23&AJ$14))))","v":""},{"$f":"IF(ISNA(Lists!$C23),\"\",IF((INDIRECT(\"'\"&Lists!$C23&\"'!\"&Lists!$D23&AK$14))=\"\",\"\",(INDIRECT(\"'\"&Lists!$C23&\"'!\"&Lists!$D23&AK$14))))","v":""}]
[{"$f":"IF(B37=\"\",\"\",' Facility_Info upload'!$A$24)","v":""},{"$f":"IF(ISNA(Lists!$C24),\"\",IF(INDIRECT(\"'\"&Lists!$C24&\"'!\"&\"B\"&B$14)=\"\",\"\",(INDIRECT(\"'\"&Lists!$C24&\"'!\"&\"B\"&B$14))))","v":""},{"$f":"IF(ISNA(Lists!$C24),\"\",IF(INDIRECT(\"'\"&Lists!$C24&\"'!\"&\"B\"&C$14)=\"\",\"\",(INDIRECT(\"'\"&Lists!$C24&\"'!\"&\"B\"&C$14))))","v":""},{"$f":"IF(ISNA(Lists!$C24),\"\",IF(INDIRECT(\"'\"&Lists!$C24&\"'!\"&\"B\"&D$14)=\"\",\"\",(INDIRECT(\"'\"&Lists!$C24&\"'!\"&\"B\"&D$14))))","v":""},{"$f":"IF(ISNA(Lists!$C24),\"\",IF(INDIRECT(\"'\"&Lists!$C24&\"'!\"&\"B\"&E$14)=\"\",\"\",(INDIRECT(\"'\"&Lists!$C24&\"'!\"&\"B\"&E$14))))","v":""},{"$f":"IF(ISNA(Lists!$C24),\"\",IF(INDIRECT(\"'\"&Lists!$C24&\"'!\"&\"B\"&F$14)=\"\",\"\",(INDIRECT(\"'\"&Lists!$C24&\"'!\"&\"B\"&F$14))))","v":""},{"$f":"IF(ISNA(Lists!$C24),\"\",IF((INDIRECT(\"'\"&Lists!$C24&\"'!\"&Lists!$D24&G$14))=\"\",\"\",(INDIRECT(\"'\"&Lists!$C24&\"'!\"&Lists!$D24&G$14))))","v":""},{"$f":"IF(ISNA(Lists!$C24),\"\",IF((INDIRECT(\"'\"&Lists!$C24&\"'!\"&Lists!$D24&H$14))=\"\",\"\",(INDIRECT(\"'\"&Lists!$C24&\"'!\"&Lists!$D24&H$14))))","v":""},{"$f":"IF(ISNA(Lists!$C24),\"\",IF((INDIRECT(\"'\"&Lists!$C24&\"'!\"&Lists!$D24&I$14))=\"\",\"\",(INDIRECT(\"'\"&Lists!$C24&\"'!\"&Lists!$D24&I$14))))","v":""},{"$f":"IF(ISNA(Lists!$C24),\"\",IF((INDIRECT(\"'\"&Lists!$C24&\"'!\"&Lists!$D24&J$14))=\"\",\"\",(INDIRECT(\"'\"&Lists!$C24&\"'!\"&Lists!$D24&J$14))))","v":""},{"$f":"IF(ISNA(Lists!$C24),\"\",IF((INDIRECT(\"'\"&Lists!$C24&\"'!\"&Lists!$D24&K$14))=\"\",\"\",(INDIRECT(\"'\"&Lists!$C24&\"'!\"&Lists!$D24&K$14))))","v":""},{"$f":"IF(ISNA(Lists!$C24),\"\",IF((INDIRECT(\"'\"&Lists!$C24&\"'!\"&Lists!$D24&L$14))=\"\",\"\",(INDIRECT(\"'\"&Lists!$C24&\"'!\"&Lists!$D24&L$14))))","v":""},{"$f":"IF(ISNA(Lists!$C24),\"\",IF((INDIRECT(\"'\"&Lists!$C24&\"'!\"&Lists!$D24&M$14))=\"\",\"\",(INDIRECT(\"'\"&Lists!$C24&\"'!\"&Lists!$D24&M$14))))","v":""},{"$f":"IF(ISNA(Lists!$C24),\"\",IF((INDIRECT(\"'\"&Lists!$C24&\"'!\"&Lists!$D24&N$14))=\"\",\"\",(INDIRECT(\"'\"&Lists!$C24&\"'!\"&Lists!$D24&N$14))))","v":""},{"$f":"IF(ISNA(Lists!$C24),\"\",IF((INDIRECT(\"'\"&Lists!$C24&\"'!\"&Lists!$D24&O$14))=\"\",\"\",(INDIRECT(\"'\"&Lists!$C24&\"'!\"&Lists!$D24&O$14))))","v":""},{"$f":"IF(ISNA(Lists!$C24),\"\",IF((INDIRECT(\"'\"&Lists!$C24&\"'!\"&Lists!$D24&P$14))=\"\",\"\",(INDIRECT(\"'\"&Lists!$C24&\"'!\"&Lists!$D24&P$14))))","v":""},{"$f":"IF(ISNA(Lists!$C24),\"\",IF((INDIRECT(\"'\"&Lists!$C24&\"'!\"&Lists!$D24&Q$14))=\"\",\"\",(INDIRECT(\"'\"&Lists!$C24&\"'!\"&Lists!$D24&Q$14))))","v":""},{"$f":"IF(ISNA(Lists!$C24),\"\",IF((INDIRECT(\"'\"&Lists!$C24&\"'!\"&Lists!$D24&R$14))=\"\",\"\",(INDIRECT(\"'\"&Lists!$C24&\"'!\"&Lists!$D24&R$14))))","v":""},{"$f":"IF(ISNA(Lists!$C24),\"\",IF((INDIRECT(\"'\"&Lists!$C24&\"'!\"&Lists!$D24&S$14))=\"\",\"\",(INDIRECT(\"'\"&Lists!$C24&\"'!\"&Lists!$D24&S$14))))","v":""},{"$f":"IF(ISNA(Lists!$C24),\"\",IF((INDIRECT(\"'\"&Lists!$C24&\"'!\"&Lists!$E24&T$14))=\"\",\"\",(INDIRECT(\"'\"&Lists!$C24&\"'!\"&Lists!$E24&T$14))))","v":""},{"$f":"IF(ISNA(Lists!$C24),\"\",IF((INDIRECT(\"'\"&Lists!$C24&\"'!\"&Lists!$E24&U$14))=\"\",\"\",(INDIRECT(\"'\"&Lists!$C24&\"'!\"&Lists!$E24&U$14))))","v":""},{"$f":"IF(ISNA(Lists!$C24),\"\",IF((INDIRECT(\"'\"&Lists!$C24&\"'!\"&Lists!$E24&V$14))=\"\",\"\",(INDIRECT(\"'\"&Lists!$C24&\"'!\"&Lists!$E24&V$14))))","v":""},{"$f":"IF(ISNA(Lists!$C24),\"\",IF((INDIRECT(\"'\"&Lists!$C24&\"'!\"&Lists!$E24&W$14))=\"\",\"\",(INDIRECT(\"'\"&Lists!$C24&\"'!\"&Lists!$E24&W$14))))","v":""},{"$f":"IF(ISNA(Lists!$C24),\"\",IF((INDIRECT(\"'\"&Lists!$C24&\"'!\"&Lists!$E24&X$14))=\"\",\"\",(INDIRECT(\"'\"&Lists!$C24&\"'!\"&Lists!$E24&X$14))))","v":""},{"$f":"IF(ISNA(Lists!$C24),\"\",IF((INDIRECT(\"'\"&Lists!$C24&\"'!\"&Lists!$E24&Y$14))=\"\",\"\",(INDIRECT(\"'\"&Lists!$C24&\"'!\"&Lists!$E24&Y$14))))","v":""},{"$f":"IF(ISNA(Lists!$C24),\"\",IF((INDIRECT(\"'\"&Lists!$C24&\"'!\"&Lists!$E24&Z$14))=\"\",\"\",(INDIRECT(\"'\"&Lists!$C24&\"'!\"&Lists!$E24&Z$14))))","v":""},{"$f":"IF(ISNA(Lists!$C24),\"\",IF((INDIRECT(\"'\"&Lists!$C24&\"'!\"&Lists!$E24&AA$14))=\"\",\"\",(INDIRECT(\"'\"&Lists!$C24&\"'!\"&Lists!$E24&AA$14))))","v":""},{"$f":"IF(ISNA(Lists!$C24),\"\",IF((INDIRECT(\"'\"&Lists!$C24&\"'!\"&Lists!$D24&AB$14))=\"\",\"\",(INDIRECT(\"'\"&Lists!$C24&\"'!\"&Lists!$D24&AB$14))))","v":""},{"$f":"IF(ISNA(Lists!$C24),\"\",IF((INDIRECT(\"'\"&Lists!$C24&\"'!\"&Lists!$D24&AC$14))=\"\",\"\",(INDIRECT(\"'\"&Lists!$C24&\"'!\"&Lists!$D24&AC$14))))","v":""},{"$f":"IF(ISNA(Lists!$C24),\"\",IF((INDIRECT(\"'\"&Lists!$C24&\"'!\"&Lists!$D24&AD$14))=\"\",\"\",(INDIRECT(\"'\"&Lists!$C24&\"'!\"&Lists!$D24&AD$14))))","v":""},{"$f":"IF(ISNA(Lists!$C24),\"\",IF((INDIRECT(\"'\"&Lists!$C24&\"'!\"&Lists!$D24&AE$14))=\"\",\"\",(INDIRECT(\"'\"&Lists!$C24&\"'!\"&Lists!$D24&AE$14))))","v":""},{"$f":"IF(ISNA(Lists!$C24),\"\",IF((INDIRECT(\"'\"&Lists!$C24&\"'!\"&Lists!$D24&AF$14))=\"\",\"\",(INDIRECT(\"'\"&Lists!$C24&\"'!\"&Lists!$D24&AF$14))))","v":""},{"$f":"IF(ISNA(Lists!$C24),\"\",IF((INDIRECT(\"'\"&Lists!$C24&\"'!\"&Lists!$D24&AG$14))=\"\",\"\",(INDIRECT(\"'\"&Lists!$C24&\"'!\"&Lists!$D24&AG$14))))","v":""},{"$f":"IF(ISNA(Lists!$C24),\"\",IF((INDIRECT(\"'\"&Lists!$C24&\"'!\"&Lists!$D24&AH$14))=\"\",\"\",(INDIRECT(\"'\"&Lists!$C24&\"'!\"&Lists!$D24&AH$14))))","v":""},{"$f":"IF(ISNA(Lists!$C24),\"\",IF((INDIRECT(\"'\"&Lists!$C24&\"'!\"&Lists!$D24&AI$14))=\"\",\"\",(INDIRECT(\"'\"&Lists!$C24&\"'!\"&Lists!$D24&AI$14))))","v":""},{"$f":"IF(ISNA(Lists!$C24),\"\",IF((INDIRECT(\"'\"&Lists!$C24&\"'!\"&Lists!$D24&AJ$14))=\"\",\"\",(INDIRECT(\"'\"&Lists!$C24&\"'!\"&Lists!$D24&AJ$14))))","v":""},{"$f":"IF(ISNA(Lists!$C24),\"\",IF((INDIRECT(\"'\"&Lists!$C24&\"'!\"&Lists!$D24&AK$14))=\"\",\"\",(INDIRECT(\"'\"&Lists!$C24&\"'!\"&Lists!$D24&AK$14))))","v":""}]
[{"$f":"IF(B38=\"\",\"\",' Facility_Info upload'!$A$24)","v":""},{"$f":"IF(ISNA(Lists!$C25),\"\",IF(INDIRECT(\"'\"&Lists!$C25&\"'!\"&\"B\"&B$14)=\"\",\"\",(INDIRECT(\"'\"&Lists!$C25&\"'!\"&\"B\"&B$14))))","v":""},{"$f":"IF(ISNA(Lists!$C25),\"\",IF(INDIRECT(\"'\"&Lists!$C25&\"'!\"&\"B\"&C$14)=\"\",\"\",(INDIRECT(\"'\"&Lists!$C25&\"'!\"&\"B\"&C$14))))","v":""},{"$f":"IF(ISNA(Lists!$C25),\"\",IF(INDIRECT(\"'\"&Lists!$C25&\"'!\"&\"B\"&D$14)=\"\",\"\",(INDIRECT(\"'\"&Lists!$C25&\"'!\"&\"B\"&D$14))))","v":""},{"$f":"IF(ISNA(Lists!$C25),\"\",IF(INDIRECT(\"'\"&Lists!$C25&\"'!\"&\"B\"&E$14)=\"\",\"\",(INDIRECT(\"'\"&Lists!$C25&\"'!\"&\"B\"&E$14))))","v":""},{"$f":"IF(ISNA(Lists!$C25),\"\",IF(INDIRECT(\"'\"&Lists!$C25&\"'!\"&\"B\"&F$14)=\"\",\"\",(INDIRECT(\"'\"&Lists!$C25&\"'!\"&\"B\"&F$14))))","v":""},{"$f":"IF(ISNA(Lists!$C25),\"\",IF((INDIRECT(\"'\"&Lists!$C25&\"'!\"&Lists!$D25&G$14))=\"\",\"\",(INDIRECT(\"'\"&Lists!$C25&\"'!\"&Lists!$D25&G$14))))","v":""},{"$f":"IF(ISNA(Lists!$C25),\"\",IF((INDIRECT(\"'\"&Lists!$C25&\"'!\"&Lists!$D25&H$14))=\"\",\"\",(INDIRECT(\"'\"&Lists!$C25&\"'!\"&Lists!$D25&H$14))))","v":""},{"$f":"IF(ISNA(Lists!$C25),\"\",IF((INDIRECT(\"'\"&Lists!$C25&\"'!\"&Lists!$D25&I$14))=\"\",\"\",(INDIRECT(\"'\"&Lists!$C25&\"'!\"&Lists!$D25&I$14))))","v":""},{"$f":"IF(ISNA(Lists!$C25),\"\",IF((INDIRECT(\"'\"&Lists!$C25&\"'!\"&Lists!$D25&J$14))=\"\",\"\",(INDIRECT(\"'\"&Lists!$C25&\"'!\"&Lists!$D25&J$14))))","v":""},{"$f":"IF(ISNA(Lists!$C25),\"\",IF((INDIRECT(\"'\"&Lists!$C25&\"'!\"&Lists!$D25&K$14))=\"\",\"\",(INDIRECT(\"'\"&Lists!$C25&\"'!\"&Lists!$D25&K$14))))","v":""},{"$f":"IF(ISNA(Lists!$C25),\"\",IF((INDIRECT(\"'\"&Lists!$C25&\"'!\"&Lists!$D25&L$14))=\"\",\"\",(INDIRECT(\"'\"&Lists!$C25&\"'!\"&Lists!$D25&L$14))))","v":""},{"$f":"IF(ISNA(Lists!$C25),\"\",IF((INDIRECT(\"'\"&Lists!$C25&\"'!\"&Lists!$D25&M$14))=\"\",\"\",(INDIRECT(\"'\"&Lists!$C25&\"'!\"&Lists!$D25&M$14))))","v":""},{"$f":"IF(ISNA(Lists!$C25),\"\",IF((INDIRECT(\"'\"&Lists!$C25&\"'!\"&Lists!$D25&N$14))=\"\",\"\",(INDIRECT(\"'\"&Lists!$C25&\"'!\"&Lists!$D25&N$14))))","v":""},{"$f":"IF(ISNA(Lists!$C25),\"\",IF((INDIRECT(\"'\"&Lists!$C25&\"'!\"&Lists!$D25&O$14))=\"\",\"\",(INDIRECT(\"'\"&Lists!$C25&\"'!\"&Lists!$D25&O$14))))","v":""},{"$f":"IF(ISNA(Lists!$C25),\"\",IF((INDIRECT(\"'\"&Lists!$C25&\"'!\"&Lists!$D25&P$14))=\"\",\"\",(INDIRECT(\"'\"&Lists!$C25&\"'!\"&Lists!$D25&P$14))))","v":""},{"$f":"IF(ISNA(Lists!$C25),\"\",IF((INDIRECT(\"'\"&Lists!$C25&\"'!\"&Lists!$D25&Q$14))=\"\",\"\",(INDIRECT(\"'\"&Lists!$C25&\"'!\"&Lists!$D25&Q$14))))","v":""},{"$f":"IF(ISNA(Lists!$C25),\"\",IF((INDIRECT(\"'\"&Lists!$C25&\"'!\"&Lists!$D25&R$14))=\"\",\"\",(INDIRECT(\"'\"&Lists!$C25&\"'!\"&Lists!$D25&R$14))))","v":""},{"$f":"IF(ISNA(Lists!$C25),\"\",IF((INDIRECT(\"'\"&Lists!$C25&\"'!\"&Lists!$D25&S$14))=\"\",\"\",(INDIRECT(\"'\"&Lists!$C25&\"'!\"&Lists!$D25&S$14))))","v":""},{"$f":"IF(ISNA(Lists!$C25),\"\",IF((INDIRECT(\"'\"&Lists!$C25&\"'!\"&Lists!$E25&T$14))=\"\",\"\",(INDIRECT(\"'\"&Lists!$C25&\"'!\"&Lists!$E25&T$14))))","v":""},{"$f":"IF(ISNA(Lists!$C25),\"\",IF((INDIRECT(\"'\"&Lists!$C25&\"'!\"&Lists!$E25&U$14))=\"\",\"\",(INDIRECT(\"'\"&Lists!$C25&\"'!\"&Lists!$E25&U$14))))","v":""},{"$f":"IF(ISNA(Lists!$C25),\"\",IF((INDIRECT(\"'\"&Lists!$C25&\"'!\"&Lists!$E25&V$14))=\"\",\"\",(INDIRECT(\"'\"&Lists!$C25&\"'!\"&Lists!$E25&V$14))))","v":""},{"$f":"IF(ISNA(Lists!$C25),\"\",IF((INDIRECT(\"'\"&Lists!$C25&\"'!\"&Lists!$E25&W$14))=\"\",\"\",(INDIRECT(\"'\"&Lists!$C25&\"'!\"&Lists!$E25&W$14))))","v":""},{"$f":"IF(ISNA(Lists!$C25),\"\",IF((INDIRECT(\"'\"&Lists!$C25&\"'!\"&Lists!$E25&X$14))=\"\",\"\",(INDIRECT(\"'\"&Lists!$C25&\"'!\"&Lists!$E25&X$14))))","v":""},{"$f":"IF(ISNA(Lists!$C25),\"\",IF((INDIRECT(\"'\"&Lists!$C25&\"'!\"&Lists!$E25&Y$14))=\"\",\"\",(INDIRECT(\"'\"&Lists!$C25&\"'!\"&Lists!$E25&Y$14))))","v":""},{"$f":"IF(ISNA(Lists!$C25),\"\",IF((INDIRECT(\"'\"&Lists!$C25&\"'!\"&Lists!$E25&Z$14))=\"\",\"\",(INDIRECT(\"'\"&Lists!$C25&\"'!\"&Lists!$E25&Z$14))))","v":""},{"$f":"IF(ISNA(Lists!$C25),\"\",IF((INDIRECT(\"'\"&Lists!$C25&\"'!\"&Lists!$E25&AA$14))=\"\",\"\",(INDIRECT(\"'\"&Lists!$C25&\"'!\"&Lists!$E25&AA$14))))","v":""},{"$f":"IF(ISNA(Lists!$C25),\"\",IF((INDIRECT(\"'\"&Lists!$C25&\"'!\"&Lists!$D25&AB$14))=\"\",\"\",(INDIRECT(\"'\"&Lists!$C25&\"'!\"&Lists!$D25&AB$14))))","v":""},{"$f":"IF(ISNA(Lists!$C25),\"\",IF((INDIRECT(\"'\"&Lists!$C25&\"'!\"&Lists!$D25&AC$14))=\"\",\"\",(INDIRECT(\"'\"&Lists!$C25&\"'!\"&Lists!$D25&AC$14))))","v":""},{"$f":"IF(ISNA(Lists!$C25),\"\",IF((INDIRECT(\"'\"&Lists!$C25&\"'!\"&Lists!$D25&AD$14))=\"\",\"\",(INDIRECT(\"'\"&Lists!$C25&\"'!\"&Lists!$D25&AD$14))))","v":""},{"$f":"IF(ISNA(Lists!$C25),\"\",IF((INDIRECT(\"'\"&Lists!$C25&\"'!\"&Lists!$D25&AE$14))=\"\",\"\",(INDIRECT(\"'\"&Lists!$C25&\"'!\"&Lists!$D25&AE$14))))","v":""},{"$f":"IF(ISNA(Lists!$C25),\"\",IF((INDIRECT(\"'\"&Lists!$C25&\"'!\"&Lists!$D25&AF$14))=\"\",\"\",(INDIRECT(\"'\"&Lists!$C25&\"'!\"&Lists!$D25&AF$14))))","v":""},{"$f":"IF(ISNA(Lists!$C25),\"\",IF((INDIRECT(\"'\"&Lists!$C25&\"'!\"&Lists!$D25&AG$14))=\"\",\"\",(INDIRECT(\"'\"&Lists!$C25&\"'!\"&Lists!$D25&AG$14))))","v":""},{"$f":"IF(ISNA(Lists!$C25),\"\",IF((INDIRECT(\"'\"&Lists!$C25&\"'!\"&Lists!$D25&AH$14))=\"\",\"\",(INDIRECT(\"'\"&Lists!$C25&\"'!\"&Lists!$D25&AH$14))))","v":""},{"$f":"IF(ISNA(Lists!$C25),\"\",IF((INDIRECT(\"'\"&Lists!$C25&\"'!\"&Lists!$D25&AI$14))=\"\",\"\",(INDIRECT(\"'\"&Lists!$C25&\"'!\"&Lists!$D25&AI$14))))","v":""},{"$f":"IF(ISNA(Lists!$C25),\"\",IF((INDIRECT(\"'\"&Lists!$C25&\"'!\"&Lists!$D25&AJ$14))=\"\",\"\",(INDIRECT(\"'\"&Lists!$C25&\"'!\"&Lists!$D25&AJ$14))))","v":""},{"$f":"IF(ISNA(Lists!$C25),\"\",IF((INDIRECT(\"'\"&Lists!$C25&\"'!\"&Lists!$D25&AK$14))=\"\",\"\",(INDIRECT(\"'\"&Lists!$C25&\"'!\"&Lists!$D25&AK$14))))","v":""}]
[{"$f":"IF(B39=\"\",\"\",' Facility_Info upload'!$A$24)","v":""},{"$f":"IF(ISNA(Lists!$C26),\"\",IF(INDIRECT(\"'\"&Lists!$C26&\"'!\"&\"B\"&B$14)=\"\",\"\",(INDIRECT(\"'\"&Lists!$C26&\"'!\"&\"B\"&B$14))))","v":""},{"$f":"IF(ISNA(Lists!$C26),\"\",IF(INDIRECT(\"'\"&Lists!$C26&\"'!\"&\"B\"&C$14)=\"\",\"\",(INDIRECT(\"'\"&Lists!$C26&\"'!\"&\"B\"&C$14))))","v":""},{"$f":"IF(ISNA(Lists!$C26),\"\",IF(INDIRECT(\"'\"&Lists!$C26&\"'!\"&\"B\"&D$14)=\"\",\"\",(INDIRECT(\"'\"&Lists!$C26&\"'!\"&\"B\"&D$14))))","v":""},{"$f":"IF(ISNA(Lists!$C26),\"\",IF(INDIRECT(\"'\"&Lists!$C26&\"'!\"&\"B\"&E$14)=\"\",\"\",(INDIRECT(\"'\"&Lists!$C26&\"'!\"&\"B\"&E$14))))","v":""},{"$f":"IF(ISNA(Lists!$C26),\"\",IF(INDIRECT(\"'\"&Lists!$C26&\"'!\"&\"B\"&F$14)=\"\",\"\",(INDIRECT(\"'\"&Lists!$C26&\"'!\"&\"B\"&F$14))))","v":""},{"$f":"IF(ISNA(Lists!$C26),\"\",IF((INDIRECT(\"'\"&Lists!$C26&\"'!\"&Lists!$D26&G$14))=\"\",\"\",(INDIRECT(\"'\"&Lists!$C26&\"'!\"&Lists!$D26&G$14))))","v":""},{"$f":"IF(ISNA(Lists!$C26),\"\",IF((INDIRECT(\"'\"&Lists!$C26&\"'!\"&Lists!$D26&H$14))=\"\",\"\",(INDIRECT(\"'\"&Lists!$C26&\"'!\"&Lists!$D26&H$14))))","v":""},{"$f":"IF(ISNA(Lists!$C26),\"\",IF((INDIRECT(\"'\"&Lists!$C26&\"'!\"&Lists!$D26&I$14))=\"\",\"\",(INDIRECT(\"'\"&Lists!$C26&\"'!\"&Lists!$D26&I$14))))","v":""},{"$f":"IF(ISNA(Lists!$C26),\"\",IF((INDIRECT(\"'\"&Lists!$C26&\"'!\"&Lists!$D26&J$14))=\"\",\"\",(INDIRECT(\"'\"&Lists!$C26&\"'!\"&Lists!$D26&J$14))))","v":""},{"$f":"IF(ISNA(Lists!$C26),\"\",IF((INDIRECT(\"'\"&Lists!$C26&\"'!\"&Lists!$D26&K$14))=\"\",\"\",(INDIRECT(\"'\"&Lists!$C26&\"'!\"&Lists!$D26&K$14))))","v":""},{"$f":"IF(ISNA(Lists!$C26),\"\",IF((INDIRECT(\"'\"&Lists!$C26&\"'!\"&Lists!$D26&L$14))=\"\",\"\",(INDIRECT(\"'\"&Lists!$C26&\"'!\"&Lists!$D26&L$14))))","v":""},{"$f":"IF(ISNA(Lists!$C26),\"\",IF((INDIRECT(\"'\"&Lists!$C26&\"'!\"&Lists!$D26&M$14))=\"\",\"\",(INDIRECT(\"'\"&Lists!$C26&\"'!\"&Lists!$D26&M$14))))","v":""},{"$f":"IF(ISNA(Lists!$C26),\"\",IF((INDIRECT(\"'\"&Lists!$C26&\"'!\"&Lists!$D26&N$14))=\"\",\"\",(INDIRECT(\"'\"&Lists!$C26&\"'!\"&Lists!$D26&N$14))))","v":""},{"$f":"IF(ISNA(Lists!$C26),\"\",IF((INDIRECT(\"'\"&Lists!$C26&\"'!\"&Lists!$D26&O$14))=\"\",\"\",(INDIRECT(\"'\"&Lists!$C26&\"'!\"&Lists!$D26&O$14))))","v":""},{"$f":"IF(ISNA(Lists!$C26),\"\",IF((INDIRECT(\"'\"&Lists!$C26&\"'!\"&Lists!$D26&P$14))=\"\",\"\",(INDIRECT(\"'\"&Lists!$C26&\"'!\"&Lists!$D26&P$14))))","v":""},{"$f":"IF(ISNA(Lists!$C26),\"\",IF((INDIRECT(\"'\"&Lists!$C26&\"'!\"&Lists!$D26&Q$14))=\"\",\"\",(INDIRECT(\"'\"&Lists!$C26&\"'!\"&Lists!$D26&Q$14))))","v":""},{"$f":"IF(ISNA(Lists!$C26),\"\",IF((INDIRECT(\"'\"&Lists!$C26&\"'!\"&Lists!$D26&R$14))=\"\",\"\",(INDIRECT(\"'\"&Lists!$C26&\"'!\"&Lists!$D26&R$14))))","v":""},{"$f":"IF(ISNA(Lists!$C26),\"\",IF((INDIRECT(\"'\"&Lists!$C26&\"'!\"&Lists!$D26&S$14))=\"\",\"\",(INDIRECT(\"'\"&Lists!$C26&\"'!\"&Lists!$D26&S$14))))","v":""},{"$f":"IF(ISNA(Lists!$C26),\"\",IF((INDIRECT(\"'\"&Lists!$C26&\"'!\"&Lists!$E26&T$14))=\"\",\"\",(INDIRECT(\"'\"&Lists!$C26&\"'!\"&Lists!$E26&T$14))))","v":""},{"$f":"IF(ISNA(Lists!$C26),\"\",IF((INDIRECT(\"'\"&Lists!$C26&\"'!\"&Lists!$E26&U$14))=\"\",\"\",(INDIRECT(\"'\"&Lists!$C26&\"'!\"&Lists!$E26&U$14))))","v":""},{"$f":"IF(ISNA(Lists!$C26),\"\",IF((INDIRECT(\"'\"&Lists!$C26&\"'!\"&Lists!$E26&V$14))=\"\",\"\",(INDIRECT(\"'\"&Lists!$C26&\"'!\"&Lists!$E26&V$14))))","v":""},{"$f":"IF(ISNA(Lists!$C26),\"\",IF((INDIRECT(\"'\"&Lists!$C26&\"'!\"&Lists!$E26&W$14))=\"\",\"\",(INDIRECT(\"'\"&Lists!$C26&\"'!\"&Lists!$E26&W$14))))","v":""},{"$f":"IF(ISNA(Lists!$C26),\"\",IF((INDIRECT(\"'\"&Lists!$C26&\"'!\"&Lists!$E26&X$14))=\"\",\"\",(INDIRECT(\"'\"&Lists!$C26&\"'!\"&Lists!$E26&X$14))))","v":""},{"$f":"IF(ISNA(Lists!$C26),\"\",IF((INDIRECT(\"'\"&Lists!$C26&\"'!\"&Lists!$E26&Y$14))=\"\",\"\",(INDIRECT(\"'\"&Lists!$C26&\"'!\"&Lists!$E26&Y$14))))","v":""},{"$f":"IF(ISNA(Lists!$C26),\"\",IF((INDIRECT(\"'\"&Lists!$C26&\"'!\"&Lists!$E26&Z$14))=\"\",\"\",(INDIRECT(\"'\"&Lists!$C26&\"'!\"&Lists!$E26&Z$14))))","v":""},{"$f":"IF(ISNA(Lists!$C26),\"\",IF((INDIRECT(\"'\"&Lists!$C26&\"'!\"&Lists!$E26&AA$14))=\"\",\"\",(INDIRECT(\"'\"&Lists!$C26&\"'!\"&Lists!$E26&AA$14))))","v":""},{"$f":"IF(ISNA(Lists!$C26),\"\",IF((INDIRECT(\"'\"&Lists!$C26&\"'!\"&Lists!$D26&AB$14))=\"\",\"\",(INDIRECT(\"'\"&Lists!$C26&\"'!\"&Lists!$D26&AB$14))))","v":""},{"$f":"IF(ISNA(Lists!$C26),\"\",IF((INDIRECT(\"'\"&Lists!$C26&\"'!\"&Lists!$D26&AC$14))=\"\",\"\",(INDIRECT(\"'\"&Lists!$C26&\"'!\"&Lists!$D26&AC$14))))","v":""},{"$f":"IF(ISNA(Lists!$C26),\"\",IF((INDIRECT(\"'\"&Lists!$C26&\"'!\"&Lists!$D26&AD$14))=\"\",\"\",(INDIRECT(\"'\"&Lists!$C26&\"'!\"&Lists!$D26&AD$14))))","v":""},{"$f":"IF(ISNA(Lists!$C26),\"\",IF((INDIRECT(\"'\"&Lists!$C26&\"'!\"&Lists!$D26&AE$14))=\"\",\"\",(INDIRECT(\"'\"&Lists!$C26&\"'!\"&Lists!$D26&AE$14))))","v":""},{"$f":"IF(ISNA(Lists!$C26),\"\",IF((INDIRECT(\"'\"&Lists!$C26&\"'!\"&Lists!$D26&AF$14))=\"\",\"\",(INDIRECT(\"'\"&Lists!$C26&\"'!\"&Lists!$D26&AF$14))))","v":""},{"$f":"IF(ISNA(Lists!$C26),\"\",IF((INDIRECT(\"'\"&Lists!$C26&\"'!\"&Lists!$D26&AG$14))=\"\",\"\",(INDIRECT(\"'\"&Lists!$C26&\"'!\"&Lists!$D26&AG$14))))","v":""},{"$f":"IF(ISNA(Lists!$C26),\"\",IF((INDIRECT(\"'\"&Lists!$C26&\"'!\"&Lists!$D26&AH$14))=\"\",\"\",(INDIRECT(\"'\"&Lists!$C26&\"'!\"&Lists!$D26&AH$14))))","v":""},{"$f":"IF(ISNA(Lists!$C26),\"\",IF((INDIRECT(\"'\"&Lists!$C26&\"'!\"&Lists!$D26&AI$14))=\"\",\"\",(INDIRECT(\"'\"&Lists!$C26&\"'!\"&Lists!$D26&AI$14))))","v":""},{"$f":"IF(ISNA(Lists!$C26),\"\",IF((INDIRECT(\"'\"&Lists!$C26&\"'!\"&Lists!$D26&AJ$14))=\"\",\"\",(INDIRECT(\"'\"&Lists!$C26&\"'!\"&Lists!$D26&AJ$14))))","v":""},{"$f":"IF(ISNA(Lists!$C26),\"\",IF((INDIRECT(\"'\"&Lists!$C26&\"'!\"&Lists!$D26&AK$14))=\"\",\"\",(INDIRECT(\"'\"&Lists!$C26&\"'!\"&Lists!$D26&AK$14))))","v":""}]
[{"$f":"IF(B40=\"\",\"\",' Facility_Info upload'!$A$24)","v":""},{"$f":"IF(ISNA(Lists!$C27),\"\",IF(INDIRECT(\"'\"&Lists!$C27&\"'!\"&\"B\"&B$14)=\"\",\"\",(INDIRECT(\"'\"&Lists!$C27&\"'!\"&\"B\"&B$14))))","v":""},{"$f":"IF(ISNA(Lists!$C27),\"\",IF(INDIRECT(\"'\"&Lists!$C27&\"'!\"&\"B\"&C$14)=\"\",\"\",(INDIRECT(\"'\"&Lists!$C27&\"'!\"&\"B\"&C$14))))","v":""},{"$f":"IF(ISNA(Lists!$C27),\"\",IF(INDIRECT(\"'\"&Lists!$C27&\"'!\"&\"B\"&D$14)=\"\",\"\",(INDIRECT(\"'\"&Lists!$C27&\"'!\"&\"B\"&D$14))))","v":""},{"$f":"IF(ISNA(Lists!$C27),\"\",IF(INDIRECT(\"'\"&Lists!$C27&\"'!\"&\"B\"&E$14)=\"\",\"\",(INDIRECT(\"'\"&Lists!$C27&\"'!\"&\"B\"&E$14))))","v":""},{"$f":"IF(ISNA(Lists!$C27),\"\",IF(INDIRECT(\"'\"&Lists!$C27&\"'!\"&\"B\"&F$14)=\"\",\"\",(INDIRECT(\"'\"&Lists!$C27&\"'!\"&\"B\"&F$14))))","v":""},{"$f":"IF(ISNA(Lists!$C27),\"\",IF((INDIRECT(\"'\"&Lists!$C27&\"'!\"&Lists!$D27&G$14))=\"\",\"\",(INDIRECT(\"'\"&Lists!$C27&\"'!\"&Lists!$D27&G$14))))","v":""},{"$f":"IF(ISNA(Lists!$C27),\"\",IF((INDIRECT(\"'\"&Lists!$C27&\"'!\"&Lists!$D27&H$14))=\"\",\"\",(INDIRECT(\"'\"&Lists!$C27&\"'!\"&Lists!$D27&H$14))))","v":""},{"$f":"IF(ISNA(Lists!$C27),\"\",IF((INDIRECT(\"'\"&Lists!$C27&\"'!\"&Lists!$D27&I$14))=\"\",\"\",(INDIRECT(\"'\"&Lists!$C27&\"'!\"&Lists!$D27&I$14))))","v":""},{"$f":"IF(ISNA(Lists!$C27),\"\",IF((INDIRECT(\"'\"&Lists!$C27&\"'!\"&Lists!$D27&J$14))=\"\",\"\",(INDIRECT(\"'\"&Lists!$C27&\"'!\"&Lists!$D27&J$14))))","v":""},{"$f":"IF(ISNA(Lists!$C27),\"\",IF((INDIRECT(\"'\"&Lists!$C27&\"'!\"&Lists!$D27&K$14))=\"\",\"\",(INDIRECT(\"'\"&Lists!$C27&\"'!\"&Lists!$D27&K$14))))","v":""},{"$f":"IF(ISNA(Lists!$C27),\"\",IF((INDIRECT(\"'\"&Lists!$C27&\"'!\"&Lists!$D27&L$14))=\"\",\"\",(INDIRECT(\"'\"&Lists!$C27&\"'!\"&Lists!$D27&L$14))))","v":""},{"$f":"IF(ISNA(Lists!$C27),\"\",IF((INDIRECT(\"'\"&Lists!$C27&\"'!\"&Lists!$D27&M$14))=\"\",\"\",(INDIRECT(\"'\"&Lists!$C27&\"'!\"&Lists!$D27&M$14))))","v":""},{"$f":"IF(ISNA(Lists!$C27),\"\",IF((INDIRECT(\"'\"&Lists!$C27&\"'!\"&Lists!$D27&N$14))=\"\",\"\",(INDIRECT(\"'\"&Lists!$C27&\"'!\"&Lists!$D27&N$14))))","v":""},{"$f":"IF(ISNA(Lists!$C27),\"\",IF((INDIRECT(\"'\"&Lists!$C27&\"'!\"&Lists!$D27&O$14))=\"\",\"\",(INDIRECT(\"'\"&Lists!$C27&\"'!\"&Lists!$D27&O$14))))","v":""},{"$f":"IF(ISNA(Lists!$C27),\"\",IF((INDIRECT(\"'\"&Lists!$C27&\"'!\"&Lists!$D27&P$14))=\"\",\"\",(INDIRECT(\"'\"&Lists!$C27&\"'!\"&Lists!$D27&P$14))))","v":""},{"$f":"IF(ISNA(Lists!$C27),\"\",IF((INDIRECT(\"'\"&Lists!$C27&\"'!\"&Lists!$D27&Q$14))=\"\",\"\",(INDIRECT(\"'\"&Lists!$C27&\"'!\"&Lists!$D27&Q$14))))","v":""},{"$f":"IF(ISNA(Lists!$C27),\"\",IF((INDIRECT(\"'\"&Lists!$C27&\"'!\"&Lists!$D27&R$14))=\"\",\"\",(INDIRECT(\"'\"&Lists!$C27&\"'!\"&Lists!$D27&R$14))))","v":""},{"$f":"IF(ISNA(Lists!$C27),\"\",IF((INDIRECT(\"'\"&Lists!$C27&\"'!\"&Lists!$D27&S$14))=\"\",\"\",(INDIRECT(\"'\"&Lists!$C27&\"'!\"&Lists!$D27&S$14))))","v":""},{"$f":"IF(ISNA(Lists!$C27),\"\",IF((INDIRECT(\"'\"&Lists!$C27&\"'!\"&Lists!$E27&T$14))=\"\",\"\",(INDIRECT(\"'\"&Lists!$C27&\"'!\"&Lists!$E27&T$14))))","v":""},{"$f":"IF(ISNA(Lists!$C27),\"\",IF((INDIRECT(\"'\"&Lists!$C27&\"'!\"&Lists!$E27&U$14))=\"\",\"\",(INDIRECT(\"'\"&Lists!$C27&\"'!\"&Lists!$E27&U$14))))","v":""},{"$f":"IF(ISNA(Lists!$C27),\"\",IF((INDIRECT(\"'\"&Lists!$C27&\"'!\"&Lists!$E27&V$14))=\"\",\"\",(INDIRECT(\"'\"&Lists!$C27&\"'!\"&Lists!$E27&V$14))))","v":""},{"$f":"IF(ISNA(Lists!$C27),\"\",IF((INDIRECT(\"'\"&Lists!$C27&\"'!\"&Lists!$E27&W$14))=\"\",\"\",(INDIRECT(\"'\"&Lists!$C27&\"'!\"&Lists!$E27&W$14))))","v":""},{"$f":"IF(ISNA(Lists!$C27),\"\",IF((INDIRECT(\"'\"&Lists!$C27&\"'!\"&Lists!$E27&X$14))=\"\",\"\",(INDIRECT(\"'\"&Lists!$C27&\"'!\"&Lists!$E27&X$14))))","v":""},{"$f":"IF(ISNA(Lists!$C27),\"\",IF((INDIRECT(\"'\"&Lists!$C27&\"'!\"&Lists!$E27&Y$14))=\"\",\"\",(INDIRECT(\"'\"&Lists!$C27&\"'!\"&Lists!$E27&Y$14))))","v":""},{"$f":"IF(ISNA(Lists!$C27),\"\",IF((INDIRECT(\"'\"&Lists!$C27&\"'!\"&Lists!$E27&Z$14))=\"\",\"\",(INDIRECT(\"'\"&Lists!$C27&\"'!\"&Lists!$E27&Z$14))))","v":""},{"$f":"IF(ISNA(Lists!$C27),\"\",IF((INDIRECT(\"'\"&Lists!$C27&\"'!\"&Lists!$E27&AA$14))=\"\",\"\",(INDIRECT(\"'\"&Lists!$C27&\"'!\"&Lists!$E27&AA$14))))","v":""},{"$f":"IF(ISNA(Lists!$C27),\"\",IF((INDIRECT(\"'\"&Lists!$C27&\"'!\"&Lists!$D27&AB$14))=\"\",\"\",(INDIRECT(\"'\"&Lists!$C27&\"'!\"&Lists!$D27&AB$14))))","v":""},{"$f":"IF(ISNA(Lists!$C27),\"\",IF((INDIRECT(\"'\"&Lists!$C27&\"'!\"&Lists!$D27&AC$14))=\"\",\"\",(INDIRECT(\"'\"&Lists!$C27&\"'!\"&Lists!$D27&AC$14))))","v":""},{"$f":"IF(ISNA(Lists!$C27),\"\",IF((INDIRECT(\"'\"&Lists!$C27&\"'!\"&Lists!$D27&AD$14))=\"\",\"\",(INDIRECT(\"'\"&Lists!$C27&\"'!\"&Lists!$D27&AD$14))))","v":""},{"$f":"IF(ISNA(Lists!$C27),\"\",IF((INDIRECT(\"'\"&Lists!$C27&\"'!\"&Lists!$D27&AE$14))=\"\",\"\",(INDIRECT(\"'\"&Lists!$C27&\"'!\"&Lists!$D27&AE$14))))","v":""},{"$f":"IF(ISNA(Lists!$C27),\"\",IF((INDIRECT(\"'\"&Lists!$C27&\"'!\"&Lists!$D27&AF$14))=\"\",\"\",(INDIRECT(\"'\"&Lists!$C27&\"'!\"&Lists!$D27&AF$14))))","v":""},{"$f":"IF(ISNA(Lists!$C27),\"\",IF((INDIRECT(\"'\"&Lists!$C27&\"'!\"&Lists!$D27&AG$14))=\"\",\"\",(INDIRECT(\"'\"&Lists!$C27&\"'!\"&Lists!$D27&AG$14))))","v":""},{"$f":"IF(ISNA(Lists!$C27),\"\",IF((INDIRECT(\"'\"&Lists!$C27&\"'!\"&Lists!$D27&AH$14))=\"\",\"\",(INDIRECT(\"'\"&Lists!$C27&\"'!\"&Lists!$D27&AH$14))))","v":""},{"$f":"IF(ISNA(Lists!$C27),\"\",IF((INDIRECT(\"'\"&Lists!$C27&\"'!\"&Lists!$D27&AI$14))=\"\",\"\",(INDIRECT(\"'\"&Lists!$C27&\"'!\"&Lists!$D27&AI$14))))","v":""},{"$f":"IF(ISNA(Lists!$C27),\"\",IF((INDIRECT(\"'\"&Lists!$C27&\"'!\"&Lists!$D27&AJ$14))=\"\",\"\",(INDIRECT(\"'\"&Lists!$C27&\"'!\"&Lists!$D27&AJ$14))))","v":""},{"$f":"IF(ISNA(Lists!$C27),\"\",IF((INDIRECT(\"'\"&Lists!$C27&\"'!\"&Lists!$D27&AK$14))=\"\",\"\",(INDIRECT(\"'\"&Lists!$C27&\"'!\"&Lists!$D27&AK$14))))","v":""}]
[{"$f":"IF(B41=\"\",\"\",' Facility_Info upload'!$A$24)","v":""},{"$f":"IF(ISNA(Lists!$C28),\"\",IF(INDIRECT(\"'\"&Lists!$C28&\"'!\"&\"B\"&B$14)=\"\",\"\",(INDIRECT(\"'\"&Lists!$C28&\"'!\"&\"B\"&B$14))))","v":""},{"$f":"IF(ISNA(Lists!$C28),\"\",IF(INDIRECT(\"'\"&Lists!$C28&\"'!\"&\"B\"&C$14)=\"\",\"\",(INDIRECT(\"'\"&Lists!$C28&\"'!\"&\"B\"&C$14))))","v":""},{"$f":"IF(ISNA(Lists!$C28),\"\",IF(INDIRECT(\"'\"&Lists!$C28&\"'!\"&\"B\"&D$14)=\"\",\"\",(INDIRECT(\"'\"&Lists!$C28&\"'!\"&\"B\"&D$14))))","v":""},{"$f":"IF(ISNA(Lists!$C28),\"\",IF(INDIRECT(\"'\"&Lists!$C28&\"'!\"&\"B\"&E$14)=\"\",\"\",(INDIRECT(\"'\"&Lists!$C28&\"'!\"&\"B\"&E$14))))","v":""},{"$f":"IF(ISNA(Lists!$C28),\"\",IF(INDIRECT(\"'\"&Lists!$C28&\"'!\"&\"B\"&F$14)=\"\",\"\",(INDIRECT(\"'\"&Lists!$C28&\"'!\"&\"B\"&F$14))))","v":""},{"$f":"IF(ISNA(Lists!$C28),\"\",IF((INDIRECT(\"'\"&Lists!$C28&\"'!\"&Lists!$D28&G$14))=\"\",\"\",(INDIRECT(\"'\"&Lists!$C28&\"'!\"&Lists!$D28&G$14))))","v":""},{"$f":"IF(ISNA(Lists!$C28),\"\",IF((INDIRECT(\"'\"&Lists!$C28&\"'!\"&Lists!$D28&H$14))=\"\",\"\",(INDIRECT(\"'\"&Lists!$C28&\"'!\"&Lists!$D28&H$14))))","v":""},{"$f":"IF(ISNA(Lists!$C28),\"\",IF((INDIRECT(\"'\"&Lists!$C28&\"'!\"&Lists!$D28&I$14))=\"\",\"\",(INDIRECT(\"'\"&Lists!$C28&\"'!\"&Lists!$D28&I$14))))","v":""},{"$f":"IF(ISNA(Lists!$C28),\"\",IF((INDIRECT(\"'\"&Lists!$C28&\"'!\"&Lists!$D28&J$14))=\"\",\"\",(INDIRECT(\"'\"&Lists!$C28&\"'!\"&Lists!$D28&J$14))))","v":""},{"$f":"IF(ISNA(Lists!$C28),\"\",IF((INDIRECT(\"'\"&Lists!$C28&\"'!\"&Lists!$D28&K$14))=\"\",\"\",(INDIRECT(\"'\"&Lists!$C28&\"'!\"&Lists!$D28&K$14))))","v":""},{"$f":"IF(ISNA(Lists!$C28),\"\",IF((INDIRECT(\"'\"&Lists!$C28&\"'!\"&Lists!$D28&L$14))=\"\",\"\",(INDIRECT(\"'\"&Lists!$C28&\"'!\"&Lists!$D28&L$14))))","v":""},{"$f":"IF(ISNA(Lists!$C28),\"\",IF((INDIRECT(\"'\"&Lists!$C28&\"'!\"&Lists!$D28&M$14))=\"\",\"\",(INDIRECT(\"'\"&Lists!$C28&\"'!\"&Lists!$D28&M$14))))","v":""},{"$f":"IF(ISNA(Lists!$C28),\"\",IF((INDIRECT(\"'\"&Lists!$C28&\"'!\"&Lists!$D28&N$14))=\"\",\"\",(INDIRECT(\"'\"&Lists!$C28&\"'!\"&Lists!$D28&N$14))))","v":""},{"$f":"IF(ISNA(Lists!$C28),\"\",IF((INDIRECT(\"'\"&Lists!$C28&\"'!\"&Lists!$D28&O$14))=\"\",\"\",(INDIRECT(\"'\"&Lists!$C28&\"'!\"&Lists!$D28&O$14))))","v":""},{"$f":"IF(ISNA(Lists!$C28),\"\",IF((INDIRECT(\"'\"&Lists!$C28&\"'!\"&Lists!$D28&P$14))=\"\",\"\",(INDIRECT(\"'\"&Lists!$C28&\"'!\"&Lists!$D28&P$14))))","v":""},{"$f":"IF(ISNA(Lists!$C28),\"\",IF((INDIRECT(\"'\"&Lists!$C28&\"'!\"&Lists!$D28&Q$14))=\"\",\"\",(INDIRECT(\"'\"&Lists!$C28&\"'!\"&Lists!$D28&Q$14))))","v":""},{"$f":"IF(ISNA(Lists!$C28),\"\",IF((INDIRECT(\"'\"&Lists!$C28&\"'!\"&Lists!$D28&R$14))=\"\",\"\",(INDIRECT(\"'\"&Lists!$C28&\"'!\"&Lists!$D28&R$14))))","v":""},{"$f":"IF(ISNA(Lists!$C28),\"\",IF((INDIRECT(\"'\"&Lists!$C28&\"'!\"&Lists!$D28&S$14))=\"\",\"\",(INDIRECT(\"'\"&Lists!$C28&\"'!\"&Lists!$D28&S$14))))","v":""},{"$f":"IF(ISNA(Lists!$C28),\"\",IF((INDIRECT(\"'\"&Lists!$C28&\"'!\"&Lists!$E28&T$14))=\"\",\"\",(INDIRECT(\"'\"&Lists!$C28&\"'!\"&Lists!$E28&T$14))))","v":""},{"$f":"IF(ISNA(Lists!$C28),\"\",IF((INDIRECT(\"'\"&Lists!$C28&\"'!\"&Lists!$E28&U$14))=\"\",\"\",(INDIRECT(\"'\"&Lists!$C28&\"'!\"&Lists!$E28&U$14))))","v":""},{"$f":"IF(ISNA(Lists!$C28),\"\",IF((INDIRECT(\"'\"&Lists!$C28&\"'!\"&Lists!$E28&V$14))=\"\",\"\",(INDIRECT(\"'\"&Lists!$C28&\"'!\"&Lists!$E28&V$14))))","v":""},{"$f":"IF(ISNA(Lists!$C28),\"\",IF((INDIRECT(\"'\"&Lists!$C28&\"'!\"&Lists!$E28&W$14))=\"\",\"\",(INDIRECT(\"'\"&Lists!$C28&\"'!\"&Lists!$E28&W$14))))","v":""},{"$f":"IF(ISNA(Lists!$C28),\"\",IF((INDIRECT(\"'\"&Lists!$C28&\"'!\"&Lists!$E28&X$14))=\"\",\"\",(INDIRECT(\"'\"&Lists!$C28&\"'!\"&Lists!$E28&X$14))))","v":""},{"$f":"IF(ISNA(Lists!$C28),\"\",IF((INDIRECT(\"'\"&Lists!$C28&\"'!\"&Lists!$E28&Y$14))=\"\",\"\",(INDIRECT(\"'\"&Lists!$C28&\"'!\"&Lists!$E28&Y$14))))","v":""},{"$f":"IF(ISNA(Lists!$C28),\"\",IF((INDIRECT(\"'\"&Lists!$C28&\"'!\"&Lists!$E28&Z$14))=\"\",\"\",(INDIRECT(\"'\"&Lists!$C28&\"'!\"&Lists!$E28&Z$14))))","v":""},{"$f":"IF(ISNA(Lists!$C28),\"\",IF((INDIRECT(\"'\"&Lists!$C28&\"'!\"&Lists!$E28&AA$14))=\"\",\"\",(INDIRECT(\"'\"&Lists!$C28&\"'!\"&Lists!$E28&AA$14))))","v":""},{"$f":"IF(ISNA(Lists!$C28),\"\",IF((INDIRECT(\"'\"&Lists!$C28&\"'!\"&Lists!$D28&AB$14))=\"\",\"\",(INDIRECT(\"'\"&Lists!$C28&\"'!\"&Lists!$D28&AB$14))))","v":""},{"$f":"IF(ISNA(Lists!$C28),\"\",IF((INDIRECT(\"'\"&Lists!$C28&\"'!\"&Lists!$D28&AC$14))=\"\",\"\",(INDIRECT(\"'\"&Lists!$C28&\"'!\"&Lists!$D28&AC$14))))","v":""},{"$f":"IF(ISNA(Lists!$C28),\"\",IF((INDIRECT(\"'\"&Lists!$C28&\"'!\"&Lists!$D28&AD$14))=\"\",\"\",(INDIRECT(\"'\"&Lists!$C28&\"'!\"&Lists!$D28&AD$14))))","v":""},{"$f":"IF(ISNA(Lists!$C28),\"\",IF((INDIRECT(\"'\"&Lists!$C28&\"'!\"&Lists!$D28&AE$14))=\"\",\"\",(INDIRECT(\"'\"&Lists!$C28&\"'!\"&Lists!$D28&AE$14))))","v":""},{"$f":"IF(ISNA(Lists!$C28),\"\",IF((INDIRECT(\"'\"&Lists!$C28&\"'!\"&Lists!$D28&AF$14))=\"\",\"\",(INDIRECT(\"'\"&Lists!$C28&\"'!\"&Lists!$D28&AF$14))))","v":""},{"$f":"IF(ISNA(Lists!$C28),\"\",IF((INDIRECT(\"'\"&Lists!$C28&\"'!\"&Lists!$D28&AG$14))=\"\",\"\",(INDIRECT(\"'\"&Lists!$C28&\"'!\"&Lists!$D28&AG$14))))","v":""},{"$f":"IF(ISNA(Lists!$C28),\"\",IF((INDIRECT(\"'\"&Lists!$C28&\"'!\"&Lists!$D28&AH$14))=\"\",\"\",(INDIRECT(\"'\"&Lists!$C28&\"'!\"&Lists!$D28&AH$14))))","v":""},{"$f":"IF(ISNA(Lists!$C28),\"\",IF((INDIRECT(\"'\"&Lists!$C28&\"'!\"&Lists!$D28&AI$14))=\"\",\"\",(INDIRECT(\"'\"&Lists!$C28&\"'!\"&Lists!$D28&AI$14))))","v":""},{"$f":"IF(ISNA(Lists!$C28),\"\",IF((INDIRECT(\"'\"&Lists!$C28&\"'!\"&Lists!$D28&AJ$14))=\"\",\"\",(INDIRECT(\"'\"&Lists!$C28&\"'!\"&Lists!$D28&AJ$14))))","v":""},{"$f":"IF(ISNA(Lists!$C28),\"\",IF((INDIRECT(\"'\"&Lists!$C28&\"'!\"&Lists!$D28&AK$14))=\"\",\"\",(INDIRECT(\"'\"&Lists!$C28&\"'!\"&Lists!$D28&AK$14))))","v":""}]
[{"$f":"IF(B42=\"\",\"\",' Facility_Info upload'!$A$24)","v":""},{"$f":"IF(ISNA(Lists!$C29),\"\",IF(INDIRECT(\"'\"&Lists!$C29&\"'!\"&\"B\"&B$14)=\"\",\"\",(INDIRECT(\"'\"&Lists!$C29&\"'!\"&\"B\"&B$14))))","v":""},{"$f":"IF(ISNA(Lists!$C29),\"\",IF(INDIRECT(\"'\"&Lists!$C29&\"'!\"&\"B\"&C$14)=\"\",\"\",(INDIRECT(\"'\"&Lists!$C29&\"'!\"&\"B\"&C$14))))","v":""},{"$f":"IF(ISNA(Lists!$C29),\"\",IF(INDIRECT(\"'\"&Lists!$C29&\"'!\"&\"B\"&D$14)=\"\",\"\",(INDIRECT(\"'\"&Lists!$C29&\"'!\"&\"B\"&D$14))))","v":""},{"$f":"IF(ISNA(Lists!$C29),\"\",IF(INDIRECT(\"'\"&Lists!$C29&\"'!\"&\"B\"&E$14)=\"\",\"\",(INDIRECT(\"'\"&Lists!$C29&\"'!\"&\"B\"&E$14))))","v":""},{"$f":"IF(ISNA(Lists!$C29),\"\",IF(INDIRECT(\"'\"&Lists!$C29&\"'!\"&\"B\"&F$14)=\"\",\"\",(INDIRECT(\"'\"&Lists!$C29&\"'!\"&\"B\"&F$14))))","v":""},{"$f":"IF(ISNA(Lists!$C29),\"\",IF((INDIRECT(\"'\"&Lists!$C29&\"'!\"&Lists!$D29&G$14))=\"\",\"\",(INDIRECT(\"'\"&Lists!$C29&\"'!\"&Lists!$D29&G$14))))","v":""},{"$f":"IF(ISNA(Lists!$C29),\"\",IF((INDIRECT(\"'\"&Lists!$C29&\"'!\"&Lists!$D29&H$14))=\"\",\"\",(INDIRECT(\"'\"&Lists!$C29&\"'!\"&Lists!$D29&H$14))))","v":""},{"$f":"IF(ISNA(Lists!$C29),\"\",IF((INDIRECT(\"'\"&Lists!$C29&\"'!\"&Lists!$D29&I$14))=\"\",\"\",(INDIRECT(\"'\"&Lists!$C29&\"'!\"&Lists!$D29&I$14))))","v":""},{"$f":"IF(ISNA(Lists!$C29),\"\",IF((INDIRECT(\"'\"&Lists!$C29&\"'!\"&Lists!$D29&J$14))=\"\",\"\",(INDIRECT(\"'\"&Lists!$C29&\"'!\"&Lists!$D29&J$14))))","v":""},{"$f":"IF(ISNA(Lists!$C29),\"\",IF((INDIRECT(\"'\"&Lists!$C29&\"'!\"&Lists!$D29&K$14))=\"\",\"\",(INDIRECT(\"'\"&Lists!$C29&\"'!\"&Lists!$D29&K$14))))","v":""},{"$f":"IF(ISNA(Lists!$C29),\"\",IF((INDIRECT(\"'\"&Lists!$C29&\"'!\"&Lists!$D29&L$14))=\"\",\"\",(INDIRECT(\"'\"&Lists!$C29&\"'!\"&Lists!$D29&L$14))))","v":""},{"$f":"IF(ISNA(Lists!$C29),\"\",IF((INDIRECT(\"'\"&Lists!$C29&\"'!\"&Lists!$D29&M$14))=\"\",\"\",(INDIRECT(\"'\"&Lists!$C29&\"'!\"&Lists!$D29&M$14))))","v":""},{"$f":"IF(ISNA(Lists!$C29),\"\",IF((INDIRECT(\"'\"&Lists!$C29&\"'!\"&Lists!$D29&N$14))=\"\",\"\",(INDIRECT(\"'\"&Lists!$C29&\"'!\"&Lists!$D29&N$14))))","v":""},{"$f":"IF(ISNA(Lists!$C29),\"\",IF((INDIRECT(\"'\"&Lists!$C29&\"'!\"&Lists!$D29&O$14))=\"\",\"\",(INDIRECT(\"'\"&Lists!$C29&\"'!\"&Lists!$D29&O$14))))","v":""},{"$f":"IF(ISNA(Lists!$C29),\"\",IF((INDIRECT(\"'\"&Lists!$C29&\"'!\"&Lists!$D29&P$14))=\"\",\"\",(INDIRECT(\"'\"&Lists!$C29&\"'!\"&Lists!$D29&P$14))))","v":""},{"$f":"IF(ISNA(Lists!$C29),\"\",IF((INDIRECT(\"'\"&Lists!$C29&\"'!\"&Lists!$D29&Q$14))=\"\",\"\",(INDIRECT(\"'\"&Lists!$C29&\"'!\"&Lists!$D29&Q$14))))","v":""},{"$f":"IF(ISNA(Lists!$C29),\"\",IF((INDIRECT(\"'\"&Lists!$C29&\"'!\"&Lists!$D29&R$14))=\"\",\"\",(INDIRECT(\"'\"&Lists!$C29&\"'!\"&Lists!$D29&R$14))))","v":""},{"$f":"IF(ISNA(Lists!$C29),\"\",IF((INDIRECT(\"'\"&Lists!$C29&\"'!\"&Lists!$D29&S$14))=\"\",\"\",(INDIRECT(\"'\"&Lists!$C29&\"'!\"&Lists!$D29&S$14))))","v":""},{"$f":"IF(ISNA(Lists!$C29),\"\",IF((INDIRECT(\"'\"&Lists!$C29&\"'!\"&Lists!$E29&T$14))=\"\",\"\",(INDIRECT(\"'\"&Lists!$C29&\"'!\"&Lists!$E29&T$14))))","v":""},{"$f":"IF(ISNA(Lists!$C29),\"\",IF((INDIRECT(\"'\"&Lists!$C29&\"'!\"&Lists!$E29&U$14))=\"\",\"\",(INDIRECT(\"'\"&Lists!$C29&\"'!\"&Lists!$E29&U$14))))","v":""},{"$f":"IF(ISNA(Lists!$C29),\"\",IF((INDIRECT(\"'\"&Lists!$C29&\"'!\"&Lists!$E29&V$14))=\"\",\"\",(INDIRECT(\"'\"&Lists!$C29&\"'!\"&Lists!$E29&V$14))))","v":""},{"$f":"IF(ISNA(Lists!$C29),\"\",IF((INDIRECT(\"'\"&Lists!$C29&\"'!\"&Lists!$E29&W$14))=\"\",\"\",(INDIRECT(\"'\"&Lists!$C29&\"'!\"&Lists!$E29&W$14))))","v":""},{"$f":"IF(ISNA(Lists!$C29),\"\",IF((INDIRECT(\"'\"&Lists!$C29&\"'!\"&Lists!$E29&X$14))=\"\",\"\",(INDIRECT(\"'\"&Lists!$C29&\"'!\"&Lists!$E29&X$14))))","v":""},{"$f":"IF(ISNA(Lists!$C29),\"\",IF((INDIRECT(\"'\"&Lists!$C29&\"'!\"&Lists!$E29&Y$14))=\"\",\"\",(INDIRECT(\"'\"&Lists!$C29&\"'!\"&Lists!$E29&Y$14))))","v":""},{"$f":"IF(ISNA(Lists!$C29),\"\",IF((INDIRECT(\"'\"&Lists!$C29&\"'!\"&Lists!$E29&Z$14))=\"\",\"\",(INDIRECT(\"'\"&Lists!$C29&\"'!\"&Lists!$E29&Z$14))))","v":""},{"$f":"IF(ISNA(Lists!$C29),\"\",IF((INDIRECT(\"'\"&Lists!$C29&\"'!\"&Lists!$E29&AA$14))=\"\",\"\",(INDIRECT(\"'\"&Lists!$C29&\"'!\"&Lists!$E29&AA$14))))","v":""},{"$f":"IF(ISNA(Lists!$C29),\"\",IF((INDIRECT(\"'\"&Lists!$C29&\"'!\"&Lists!$D29&AB$14))=\"\",\"\",(INDIRECT(\"'\"&Lists!$C29&\"'!\"&Lists!$D29&AB$14))))","v":""},{"$f":"IF(ISNA(Lists!$C29),\"\",IF((INDIRECT(\"'\"&Lists!$C29&\"'!\"&Lists!$D29&AC$14))=\"\",\"\",(INDIRECT(\"'\"&Lists!$C29&\"'!\"&Lists!$D29&AC$14))))","v":""},{"$f":"IF(ISNA(Lists!$C29),\"\",IF((INDIRECT(\"'\"&Lists!$C29&\"'!\"&Lists!$D29&AD$14))=\"\",\"\",(INDIRECT(\"'\"&Lists!$C29&\"'!\"&Lists!$D29&AD$14))))","v":""},{"$f":"IF(ISNA(Lists!$C29),\"\",IF((INDIRECT(\"'\"&Lists!$C29&\"'!\"&Lists!$D29&AE$14))=\"\",\"\",(INDIRECT(\"'\"&Lists!$C29&\"'!\"&Lists!$D29&AE$14))))","v":""},{"$f":"IF(ISNA(Lists!$C29),\"\",IF((INDIRECT(\"'\"&Lists!$C29&\"'!\"&Lists!$D29&AF$14))=\"\",\"\",(INDIRECT(\"'\"&Lists!$C29&\"'!\"&Lists!$D29&AF$14))))","v":""},{"$f":"IF(ISNA(Lists!$C29),\"\",IF((INDIRECT(\"'\"&Lists!$C29&\"'!\"&Lists!$D29&AG$14))=\"\",\"\",(INDIRECT(\"'\"&Lists!$C29&\"'!\"&Lists!$D29&AG$14))))","v":""},{"$f":"IF(ISNA(Lists!$C29),\"\",IF((INDIRECT(\"'\"&Lists!$C29&\"'!\"&Lists!$D29&AH$14))=\"\",\"\",(INDIRECT(\"'\"&Lists!$C29&\"'!\"&Lists!$D29&AH$14))))","v":""},{"$f":"IF(ISNA(Lists!$C29),\"\",IF((INDIRECT(\"'\"&Lists!$C29&\"'!\"&Lists!$D29&AI$14))=\"\",\"\",(INDIRECT(\"'\"&Lists!$C29&\"'!\"&Lists!$D29&AI$14))))","v":""},{"$f":"IF(ISNA(Lists!$C29),\"\",IF((INDIRECT(\"'\"&Lists!$C29&\"'!\"&Lists!$D29&AJ$14))=\"\",\"\",(INDIRECT(\"'\"&Lists!$C29&\"'!\"&Lists!$D29&AJ$14))))","v":""},{"$f":"IF(ISNA(Lists!$C29),\"\",IF((INDIRECT(\"'\"&Lists!$C29&\"'!\"&Lists!$D29&AK$14))=\"\",\"\",(INDIRECT(\"'\"&Lists!$C29&\"'!\"&Lists!$D29&AK$14))))","v":""}]
[{"$f":"IF(B43=\"\",\"\",' Facility_Info upload'!$A$24)","v":""},{"$f":"IF(ISNA(Lists!$C30),\"\",IF(INDIRECT(\"'\"&Lists!$C30&\"'!\"&\"B\"&B$14)=\"\",\"\",(INDIRECT(\"'\"&Lists!$C30&\"'!\"&\"B\"&B$14))))","v":""},{"$f":"IF(ISNA(Lists!$C30),\"\",IF(INDIRECT(\"'\"&Lists!$C30&\"'!\"&\"B\"&C$14)=\"\",\"\",(INDIRECT(\"'\"&Lists!$C30&\"'!\"&\"B\"&C$14))))","v":""},{"$f":"IF(ISNA(Lists!$C30),\"\",IF(INDIRECT(\"'\"&Lists!$C30&\"'!\"&\"B\"&D$14)=\"\",\"\",(INDIRECT(\"'\"&Lists!$C30&\"'!\"&\"B\"&D$14))))","v":""},{"$f":"IF(ISNA(Lists!$C30),\"\",IF(INDIRECT(\"'\"&Lists!$C30&\"'!\"&\"B\"&E$14)=\"\",\"\",(INDIRECT(\"'\"&Lists!$C30&\"'!\"&\"B\"&E$14))))","v":""},{"$f":"IF(ISNA(Lists!$C30),\"\",IF(INDIRECT(\"'\"&Lists!$C30&\"'!\"&\"B\"&F$14)=\"\",\"\",(INDIRECT(\"'\"&Lists!$C30&\"'!\"&\"B\"&F$14))))","v":""},{"$f":"IF(ISNA(Lists!$C30),\"\",IF((INDIRECT(\"'\"&Lists!$C30&\"'!\"&Lists!$D30&G$14))=\"\",\"\",(INDIRECT(\"'\"&Lists!$C30&\"'!\"&Lists!$D30&G$14))))","v":""},{"$f":"IF(ISNA(Lists!$C30),\"\",IF((INDIRECT(\"'\"&Lists!$C30&\"'!\"&Lists!$D30&H$14))=\"\",\"\",(INDIRECT(\"'\"&Lists!$C30&\"'!\"&Lists!$D30&H$14))))","v":""},{"$f":"IF(ISNA(Lists!$C30),\"\",IF((INDIRECT(\"'\"&Lists!$C30&\"'!\"&Lists!$D30&I$14))=\"\",\"\",(INDIRECT(\"'\"&Lists!$C30&\"'!\"&Lists!$D30&I$14))))","v":""},{"$f":"IF(ISNA(Lists!$C30),\"\",IF((INDIRECT(\"'\"&Lists!$C30&\"'!\"&Lists!$D30&J$14))=\"\",\"\",(INDIRECT(\"'\"&Lists!$C30&\"'!\"&Lists!$D30&J$14))))","v":""},{"$f":"IF(ISNA(Lists!$C30),\"\",IF((INDIRECT(\"'\"&Lists!$C30&\"'!\"&Lists!$D30&K$14))=\"\",\"\",(INDIRECT(\"'\"&Lists!$C30&\"'!\"&Lists!$D30&K$14))))","v":""},{"$f":"IF(ISNA(Lists!$C30),\"\",IF((INDIRECT(\"'\"&Lists!$C30&\"'!\"&Lists!$D30&L$14))=\"\",\"\",(INDIRECT(\"'\"&Lists!$C30&\"'!\"&Lists!$D30&L$14))))","v":""},{"$f":"IF(ISNA(Lists!$C30),\"\",IF((INDIRECT(\"'\"&Lists!$C30&\"'!\"&Lists!$D30&M$14))=\"\",\"\",(INDIRECT(\"'\"&Lists!$C30&\"'!\"&Lists!$D30&M$14))))","v":""},{"$f":"IF(ISNA(Lists!$C30),\"\",IF((INDIRECT(\"'\"&Lists!$C30&\"'!\"&Lists!$D30&N$14))=\"\",\"\",(INDIRECT(\"'\"&Lists!$C30&\"'!\"&Lists!$D30&N$14))))","v":""},{"$f":"IF(ISNA(Lists!$C30),\"\",IF((INDIRECT(\"'\"&Lists!$C30&\"'!\"&Lists!$D30&O$14))=\"\",\"\",(INDIRECT(\"'\"&Lists!$C30&\"'!\"&Lists!$D30&O$14))))","v":""},{"$f":"IF(ISNA(Lists!$C30),\"\",IF((INDIRECT(\"'\"&Lists!$C30&\"'!\"&Lists!$D30&P$14))=\"\",\"\",(INDIRECT(\"'\"&Lists!$C30&\"'!\"&Lists!$D30&P$14))))","v":""},{"$f":"IF(ISNA(Lists!$C30),\"\",IF((INDIRECT(\"'\"&Lists!$C30&\"'!\"&Lists!$D30&Q$14))=\"\",\"\",(INDIRECT(\"'\"&Lists!$C30&\"'!\"&Lists!$D30&Q$14))))","v":""},{"$f":"IF(ISNA(Lists!$C30),\"\",IF((INDIRECT(\"'\"&Lists!$C30&\"'!\"&Lists!$D30&R$14))=\"\",\"\",(INDIRECT(\"'\"&Lists!$C30&\"'!\"&Lists!$D30&R$14))))","v":""},{"$f":"IF(ISNA(Lists!$C30),\"\",IF((INDIRECT(\"'\"&Lists!$C30&\"'!\"&Lists!$D30&S$14))=\"\",\"\",(INDIRECT(\"'\"&Lists!$C30&\"'!\"&Lists!$D30&S$14))))","v":""},{"$f":"IF(ISNA(Lists!$C30),\"\",IF((INDIRECT(\"'\"&Lists!$C30&\"'!\"&Lists!$E30&T$14))=\"\",\"\",(INDIRECT(\"'\"&Lists!$C30&\"'!\"&Lists!$E30&T$14))))","v":""},{"$f":"IF(ISNA(Lists!$C30),\"\",IF((INDIRECT(\"'\"&Lists!$C30&\"'!\"&Lists!$E30&U$14))=\"\",\"\",(INDIRECT(\"'\"&Lists!$C30&\"'!\"&Lists!$E30&U$14))))","v":""},{"$f":"IF(ISNA(Lists!$C30),\"\",IF((INDIRECT(\"'\"&Lists!$C30&\"'!\"&Lists!$E30&V$14))=\"\",\"\",(INDIRECT(\"'\"&Lists!$C30&\"'!\"&Lists!$E30&V$14))))","v":""},{"$f":"IF(ISNA(Lists!$C30),\"\",IF((INDIRECT(\"'\"&Lists!$C30&\"'!\"&Lists!$E30&W$14))=\"\",\"\",(INDIRECT(\"'\"&Lists!$C30&\"'!\"&Lists!$E30&W$14))))","v":""},{"$f":"IF(ISNA(Lists!$C30),\"\",IF((INDIRECT(\"'\"&Lists!$C30&\"'!\"&Lists!$E30&X$14))=\"\",\"\",(INDIRECT(\"'\"&Lists!$C30&\"'!\"&Lists!$E30&X$14))))","v":""},{"$f":"IF(ISNA(Lists!$C30),\"\",IF((INDIRECT(\"'\"&Lists!$C30&\"'!\"&Lists!$E30&Y$14))=\"\",\"\",(INDIRECT(\"'\"&Lists!$C30&\"'!\"&Lists!$E30&Y$14))))","v":""},{"$f":"IF(ISNA(Lists!$C30),\"\",IF((INDIRECT(\"'\"&Lists!$C30&\"'!\"&Lists!$E30&Z$14))=\"\",\"\",(INDIRECT(\"'\"&Lists!$C30&\"'!\"&Lists!$E30&Z$14))))","v":""},{"$f":"IF(ISNA(Lists!$C30),\"\",IF((INDIRECT(\"'\"&Lists!$C30&\"'!\"&Lists!$E30&AA$14))=\"\",\"\",(INDIRECT(\"'\"&Lists!$C30&\"'!\"&Lists!$E30&AA$14))))","v":""},{"$f":"IF(ISNA(Lists!$C30),\"\",IF((INDIRECT(\"'\"&Lists!$C30&\"'!\"&Lists!$D30&AB$14))=\"\",\"\",(INDIRECT(\"'\"&Lists!$C30&\"'!\"&Lists!$D30&AB$14))))","v":""},{"$f":"IF(ISNA(Lists!$C30),\"\",IF((INDIRECT(\"'\"&Lists!$C30&\"'!\"&Lists!$D30&AC$14))=\"\",\"\",(INDIRECT(\"'\"&Lists!$C30&\"'!\"&Lists!$D30&AC$14))))","v":""},{"$f":"IF(ISNA(Lists!$C30),\"\",IF((INDIRECT(\"'\"&Lists!$C30&\"'!\"&Lists!$D30&AD$14))=\"\",\"\",(INDIRECT(\"'\"&Lists!$C30&\"'!\"&Lists!$D30&AD$14))))","v":""},{"$f":"IF(ISNA(Lists!$C30),\"\",IF((INDIRECT(\"'\"&Lists!$C30&\"'!\"&Lists!$D30&AE$14))=\"\",\"\",(INDIRECT(\"'\"&Lists!$C30&\"'!\"&Lists!$D30&AE$14))))","v":""},{"$f":"IF(ISNA(Lists!$C30),\"\",IF((INDIRECT(\"'\"&Lists!$C30&\"'!\"&Lists!$D30&AF$14))=\"\",\"\",(INDIRECT(\"'\"&Lists!$C30&\"'!\"&Lists!$D30&AF$14))))","v":""},{"$f":"IF(ISNA(Lists!$C30),\"\",IF((INDIRECT(\"'\"&Lists!$C30&\"'!\"&Lists!$D30&AG$14))=\"\",\"\",(INDIRECT(\"'\"&Lists!$C30&\"'!\"&Lists!$D30&AG$14))))","v":""},{"$f":"IF(ISNA(Lists!$C30),\"\",IF((INDIRECT(\"'\"&Lists!$C30&\"'!\"&Lists!$D30&AH$14))=\"\",\"\",(INDIRECT(\"'\"&Lists!$C30&\"'!\"&Lists!$D30&AH$14))))","v":""},{"$f":"IF(ISNA(Lists!$C30),\"\",IF((INDIRECT(\"'\"&Lists!$C30&\"'!\"&Lists!$D30&AI$14))=\"\",\"\",(INDIRECT(\"'\"&Lists!$C30&\"'!\"&Lists!$D30&AI$14))))","v":""},{"$f":"IF(ISNA(Lists!$C30),\"\",IF((INDIRECT(\"'\"&Lists!$C30&\"'!\"&Lists!$D30&AJ$14))=\"\",\"\",(INDIRECT(\"'\"&Lists!$C30&\"'!\"&Lists!$D30&AJ$14))))","v":""},{"$f":"IF(ISNA(Lists!$C30),\"\",IF((INDIRECT(\"'\"&Lists!$C30&\"'!\"&Lists!$D30&AK$14))=\"\",\"\",(INDIRECT(\"'\"&Lists!$C30&\"'!\"&Lists!$D30&AK$14))))","v":""}]
[{"$f":"IF(B44=\"\",\"\",' Facility_Info upload'!$A$24)","v":""},{"$f":"IF(ISNA(Lists!$C31),\"\",IF(INDIRECT(\"'\"&Lists!$C31&\"'!\"&\"B\"&B$14)=\"\",\"\",(INDIRECT(\"'\"&Lists!$C31&\"'!\"&\"B\"&B$14))))","v":""},{"$f":"IF(ISNA(Lists!$C31),\"\",IF(INDIRECT(\"'\"&Lists!$C31&\"'!\"&\"B\"&C$14)=\"\",\"\",(INDIRECT(\"'\"&Lists!$C31&\"'!\"&\"B\"&C$14))))","v":""},{"$f":"IF(ISNA(Lists!$C31),\"\",IF(INDIRECT(\"'\"&Lists!$C31&\"'!\"&\"B\"&D$14)=\"\",\"\",(INDIRECT(\"'\"&Lists!$C31&\"'!\"&\"B\"&D$14))))","v":""},{"$f":"IF(ISNA(Lists!$C31),\"\",IF(INDIRECT(\"'\"&Lists!$C31&\"'!\"&\"B\"&E$14)=\"\",\"\",(INDIRECT(\"'\"&Lists!$C31&\"'!\"&\"B\"&E$14))))","v":""},{"$f":"IF(ISNA(Lists!$C31),\"\",IF(INDIRECT(\"'\"&Lists!$C31&\"'!\"&\"B\"&F$14)=\"\",\"\",(INDIRECT(\"'\"&Lists!$C31&\"'!\"&\"B\"&F$14))))","v":""},{"$f":"IF(ISNA(Lists!$C31),\"\",IF((INDIRECT(\"'\"&Lists!$C31&\"'!\"&Lists!$D31&G$14))=\"\",\"\",(INDIRECT(\"'\"&Lists!$C31&\"'!\"&Lists!$D31&G$14))))","v":""},{"$f":"IF(ISNA(Lists!$C31),\"\",IF((INDIRECT(\"'\"&Lists!$C31&\"'!\"&Lists!$D31&H$14))=\"\",\"\",(INDIRECT(\"'\"&Lists!$C31&\"'!\"&Lists!$D31&H$14))))","v":""},{"$f":"IF(ISNA(Lists!$C31),\"\",IF((INDIRECT(\"'\"&Lists!$C31&\"'!\"&Lists!$D31&I$14))=\"\",\"\",(INDIRECT(\"'\"&Lists!$C31&\"'!\"&Lists!$D31&I$14))))","v":""},{"$f":"IF(ISNA(Lists!$C31),\"\",IF((INDIRECT(\"'\"&Lists!$C31&\"'!\"&Lists!$D31&J$14))=\"\",\"\",(INDIRECT(\"'\"&Lists!$C31&\"'!\"&Lists!$D31&J$14))))","v":""},{"$f":"IF(ISNA(Lists!$C31),\"\",IF((INDIRECT(\"'\"&Lists!$C31&\"'!\"&Lists!$D31&K$14))=\"\",\"\",(INDIRECT(\"'\"&Lists!$C31&\"'!\"&Lists!$D31&K$14))))","v":""},{"$f":"IF(ISNA(Lists!$C31),\"\",IF((INDIRECT(\"'\"&Lists!$C31&\"'!\"&Lists!$D31&L$14))=\"\",\"\",(INDIRECT(\"'\"&Lists!$C31&\"'!\"&Lists!$D31&L$14))))","v":""},{"$f":"IF(ISNA(Lists!$C31),\"\",IF((INDIRECT(\"'\"&Lists!$C31&\"'!\"&Lists!$D31&M$14))=\"\",\"\",(INDIRECT(\"'\"&Lists!$C31&\"'!\"&Lists!$D31&M$14))))","v":""},{"$f":"IF(ISNA(Lists!$C31),\"\",IF((INDIRECT(\"'\"&Lists!$C31&\"'!\"&Lists!$D31&N$14))=\"\",\"\",(INDIRECT(\"'\"&Lists!$C31&\"'!\"&Lists!$D31&N$14))))","v":""},{"$f":"IF(ISNA(Lists!$C31),\"\",IF((INDIRECT(\"'\"&Lists!$C31&\"'!\"&Lists!$D31&O$14))=\"\",\"\",(INDIRECT(\"'\"&Lists!$C31&\"'!\"&Lists!$D31&O$14))))","v":""},{"$f":"IF(ISNA(Lists!$C31),\"\",IF((INDIRECT(\"'\"&Lists!$C31&\"'!\"&Lists!$D31&P$14))=\"\",\"\",(INDIRECT(\"'\"&Lists!$C31&\"'!\"&Lists!$D31&P$14))))","v":""},{"$f":"IF(ISNA(Lists!$C31),\"\",IF((INDIRECT(\"'\"&Lists!$C31&\"'!\"&Lists!$D31&Q$14))=\"\",\"\",(INDIRECT(\"'\"&Lists!$C31&\"'!\"&Lists!$D31&Q$14))))","v":""},{"$f":"IF(ISNA(Lists!$C31),\"\",IF((INDIRECT(\"'\"&Lists!$C31&\"'!\"&Lists!$D31&R$14))=\"\",\"\",(INDIRECT(\"'\"&Lists!$C31&\"'!\"&Lists!$D31&R$14))))","v":""},{"$f":"IF(ISNA(Lists!$C31),\"\",IF((INDIRECT(\"'\"&Lists!$C31&\"'!\"&Lists!$D31&S$14))=\"\",\"\",(INDIRECT(\"'\"&Lists!$C31&\"'!\"&Lists!$D31&S$14))))","v":""},{"$f":"IF(ISNA(Lists!$C31),\"\",IF((INDIRECT(\"'\"&Lists!$C31&\"'!\"&Lists!$E31&T$14))=\"\",\"\",(INDIRECT(\"'\"&Lists!$C31&\"'!\"&Lists!$E31&T$14))))","v":""},{"$f":"IF(ISNA(Lists!$C31),\"\",IF((INDIRECT(\"'\"&Lists!$C31&\"'!\"&Lists!$E31&U$14))=\"\",\"\",(INDIRECT(\"'\"&Lists!$C31&\"'!\"&Lists!$E31&U$14))))","v":""},{"$f":"IF(ISNA(Lists!$C31),\"\",IF((INDIRECT(\"'\"&Lists!$C31&\"'!\"&Lists!$E31&V$14))=\"\",\"\",(INDIRECT(\"'\"&Lists!$C31&\"'!\"&Lists!$E31&V$14))))","v":""},{"$f":"IF(ISNA(Lists!$C31),\"\",IF((INDIRECT(\"'\"&Lists!$C31&\"'!\"&Lists!$E31&W$14))=\"\",\"\",(INDIRECT(\"'\"&Lists!$C31&\"'!\"&Lists!$E31&W$14))))","v":""},{"$f":"IF(ISNA(Lists!$C31),\"\",IF((INDIRECT(\"'\"&Lists!$C31&\"'!\"&Lists!$E31&X$14))=\"\",\"\",(INDIRECT(\"'\"&Lists!$C31&\"'!\"&Lists!$E31&X$14))))","v":""},{"$f":"IF(ISNA(Lists!$C31),\"\",IF((INDIRECT(\"'\"&Lists!$C31&\"'!\"&Lists!$E31&Y$14))=\"\",\"\",(INDIRECT(\"'\"&Lists!$C31&\"'!\"&Lists!$E31&Y$14))))","v":""},{"$f":"IF(ISNA(Lists!$C31),\"\",IF((INDIRECT(\"'\"&Lists!$C31&\"'!\"&Lists!$E31&Z$14))=\"\",\"\",(INDIRECT(\"'\"&Lists!$C31&\"'!\"&Lists!$E31&Z$14))))","v":""},{"$f":"IF(ISNA(Lists!$C31),\"\",IF((INDIRECT(\"'\"&Lists!$C31&\"'!\"&Lists!$E31&AA$14))=\"\",\"\",(INDIRECT(\"'\"&Lists!$C31&\"'!\"&Lists!$E31&AA$14))))","v":""},{"$f":"IF(ISNA(Lists!$C31),\"\",IF((INDIRECT(\"'\"&Lists!$C31&\"'!\"&Lists!$D31&AB$14))=\"\",\"\",(INDIRECT(\"'\"&Lists!$C31&\"'!\"&Lists!$D31&AB$14))))","v":""},{"$f":"IF(ISNA(Lists!$C31),\"\",IF((INDIRECT(\"'\"&Lists!$C31&\"'!\"&Lists!$D31&AC$14))=\"\",\"\",(INDIRECT(\"'\"&Lists!$C31&\"'!\"&Lists!$D31&AC$14))))","v":""},{"$f":"IF(ISNA(Lists!$C31),\"\",IF((INDIRECT(\"'\"&Lists!$C31&\"'!\"&Lists!$D31&AD$14))=\"\",\"\",(INDIRECT(\"'\"&Lists!$C31&\"'!\"&Lists!$D31&AD$14))))","v":""},{"$f":"IF(ISNA(Lists!$C31),\"\",IF((INDIRECT(\"'\"&Lists!$C31&\"'!\"&Lists!$D31&AE$14))=\"\",\"\",(INDIRECT(\"'\"&Lists!$C31&\"'!\"&Lists!$D31&AE$14))))","v":""},{"$f":"IF(ISNA(Lists!$C31),\"\",IF((INDIRECT(\"'\"&Lists!$C31&\"'!\"&Lists!$D31&AF$14))=\"\",\"\",(INDIRECT(\"'\"&Lists!$C31&\"'!\"&Lists!$D31&AF$14))))","v":""},{"$f":"IF(ISNA(Lists!$C31),\"\",IF((INDIRECT(\"'\"&Lists!$C31&\"'!\"&Lists!$D31&AG$14))=\"\",\"\",(INDIRECT(\"'\"&Lists!$C31&\"'!\"&Lists!$D31&AG$14))))","v":""},{"$f":"IF(ISNA(Lists!$C31),\"\",IF((INDIRECT(\"'\"&Lists!$C31&\"'!\"&Lists!$D31&AH$14))=\"\",\"\",(INDIRECT(\"'\"&Lists!$C31&\"'!\"&Lists!$D31&AH$14))))","v":""},{"$f":"IF(ISNA(Lists!$C31),\"\",IF((INDIRECT(\"'\"&Lists!$C31&\"'!\"&Lists!$D31&AI$14))=\"\",\"\",(INDIRECT(\"'\"&Lists!$C31&\"'!\"&Lists!$D31&AI$14))))","v":""},{"$f":"IF(ISNA(Lists!$C31),\"\",IF((INDIRECT(\"'\"&Lists!$C31&\"'!\"&Lists!$D31&AJ$14))=\"\",\"\",(INDIRECT(\"'\"&Lists!$C31&\"'!\"&Lists!$D31&AJ$14))))","v":""},{"$f":"IF(ISNA(Lists!$C31),\"\",IF((INDIRECT(\"'\"&Lists!$C31&\"'!\"&Lists!$D31&AK$14))=\"\",\"\",(INDIRECT(\"'\"&Lists!$C31&\"'!\"&Lists!$D31&AK$14))))","v":""}]
[{"$f":"IF(B45=\"\",\"\",' Facility_Info upload'!$A$24)","v":""},{"$f":"IF(ISNA(Lists!$C32),\"\",IF(INDIRECT(\"'\"&Lists!$C32&\"'!\"&\"B\"&B$14)=\"\",\"\",(INDIRECT(\"'\"&Lists!$C32&\"'!\"&\"B\"&B$14))))","v":""},{"$f":"IF(ISNA(Lists!$C32),\"\",IF(INDIRECT(\"'\"&Lists!$C32&\"'!\"&\"B\"&C$14)=\"\",\"\",(INDIRECT(\"'\"&Lists!$C32&\"'!\"&\"B\"&C$14))))","v":""},{"$f":"IF(ISNA(Lists!$C32),\"\",IF(INDIRECT(\"'\"&Lists!$C32&\"'!\"&\"B\"&D$14)=\"\",\"\",(INDIRECT(\"'\"&Lists!$C32&\"'!\"&\"B\"&D$14))))","v":""},{"$f":"IF(ISNA(Lists!$C32),\"\",IF(INDIRECT(\"'\"&Lists!$C32&\"'!\"&\"B\"&E$14)=\"\",\"\",(INDIRECT(\"'\"&Lists!$C32&\"'!\"&\"B\"&E$14))))","v":""},{"$f":"IF(ISNA(Lists!$C32),\"\",IF(INDIRECT(\"'\"&Lists!$C32&\"'!\"&\"B\"&F$14)=\"\",\"\",(INDIRECT(\"'\"&Lists!$C32&\"'!\"&\"B\"&F$14))))","v":""},{"$f":"IF(ISNA(Lists!$C32),\"\",IF((INDIRECT(\"'\"&Lists!$C32&\"'!\"&Lists!$D32&G$14))=\"\",\"\",(INDIRECT(\"'\"&Lists!$C32&\"'!\"&Lists!$D32&G$14))))","v":""},{"$f":"IF(ISNA(Lists!$C32),\"\",IF((INDIRECT(\"'\"&Lists!$C32&\"'!\"&Lists!$D32&H$14))=\"\",\"\",(INDIRECT(\"'\"&Lists!$C32&\"'!\"&Lists!$D32&H$14))))","v":""},{"$f":"IF(ISNA(Lists!$C32),\"\",IF((INDIRECT(\"'\"&Lists!$C32&\"'!\"&Lists!$D32&I$14))=\"\",\"\",(INDIRECT(\"'\"&Lists!$C32&\"'!\"&Lists!$D32&I$14))))","v":""},{"$f":"IF(ISNA(Lists!$C32),\"\",IF((INDIRECT(\"'\"&Lists!$C32&\"'!\"&Lists!$D32&J$14))=\"\",\"\",(INDIRECT(\"'\"&Lists!$C32&\"'!\"&Lists!$D32&J$14))))","v":""},{"$f":"IF(ISNA(Lists!$C32),\"\",IF((INDIRECT(\"'\"&Lists!$C32&\"'!\"&Lists!$D32&K$14))=\"\",\"\",(INDIRECT(\"'\"&Lists!$C32&\"'!\"&Lists!$D32&K$14))))","v":""},{"$f":"IF(ISNA(Lists!$C32),\"\",IF((INDIRECT(\"'\"&Lists!$C32&\"'!\"&Lists!$D32&L$14))=\"\",\"\",(INDIRECT(\"'\"&Lists!$C32&\"'!\"&Lists!$D32&L$14))))","v":""},{"$f":"IF(ISNA(Lists!$C32),\"\",IF((INDIRECT(\"'\"&Lists!$C32&\"'!\"&Lists!$D32&M$14))=\"\",\"\",(INDIRECT(\"'\"&Lists!$C32&\"'!\"&Lists!$D32&M$14))))","v":""},{"$f":"IF(ISNA(Lists!$C32),\"\",IF((INDIRECT(\"'\"&Lists!$C32&\"'!\"&Lists!$D32&N$14))=\"\",\"\",(INDIRECT(\"'\"&Lists!$C32&\"'!\"&Lists!$D32&N$14))))","v":""},{"$f":"IF(ISNA(Lists!$C32),\"\",IF((INDIRECT(\"'\"&Lists!$C32&\"'!\"&Lists!$D32&O$14))=\"\",\"\",(INDIRECT(\"'\"&Lists!$C32&\"'!\"&Lists!$D32&O$14))))","v":""},{"$f":"IF(ISNA(Lists!$C32),\"\",IF((INDIRECT(\"'\"&Lists!$C32&\"'!\"&Lists!$D32&P$14))=\"\",\"\",(INDIRECT(\"'\"&Lists!$C32&\"'!\"&Lists!$D32&P$14))))","v":""},{"$f":"IF(ISNA(Lists!$C32),\"\",IF((INDIRECT(\"'\"&Lists!$C32&\"'!\"&Lists!$D32&Q$14))=\"\",\"\",(INDIRECT(\"'\"&Lists!$C32&\"'!\"&Lists!$D32&Q$14))))","v":""},{"$f":"IF(ISNA(Lists!$C32),\"\",IF((INDIRECT(\"'\"&Lists!$C32&\"'!\"&Lists!$D32&R$14))=\"\",\"\",(INDIRECT(\"'\"&Lists!$C32&\"'!\"&Lists!$D32&R$14))))","v":""},{"$f":"IF(ISNA(Lists!$C32),\"\",IF((INDIRECT(\"'\"&Lists!$C32&\"'!\"&Lists!$D32&S$14))=\"\",\"\",(INDIRECT(\"'\"&Lists!$C32&\"'!\"&Lists!$D32&S$14))))","v":""},{"$f":"IF(ISNA(Lists!$C32),\"\",IF((INDIRECT(\"'\"&Lists!$C32&\"'!\"&Lists!$E32&T$14))=\"\",\"\",(INDIRECT(\"'\"&Lists!$C32&\"'!\"&Lists!$E32&T$14))))","v":""},{"$f":"IF(ISNA(Lists!$C32),\"\",IF((INDIRECT(\"'\"&Lists!$C32&\"'!\"&Lists!$E32&U$14))=\"\",\"\",(INDIRECT(\"'\"&Lists!$C32&\"'!\"&Lists!$E32&U$14))))","v":""},{"$f":"IF(ISNA(Lists!$C32),\"\",IF((INDIRECT(\"'\"&Lists!$C32&\"'!\"&Lists!$E32&V$14))=\"\",\"\",(INDIRECT(\"'\"&Lists!$C32&\"'!\"&Lists!$E32&V$14))))","v":""},{"$f":"IF(ISNA(Lists!$C32),\"\",IF((INDIRECT(\"'\"&Lists!$C32&\"'!\"&Lists!$E32&W$14))=\"\",\"\",(INDIRECT(\"'\"&Lists!$C32&\"'!\"&Lists!$E32&W$14))))","v":""},{"$f":"IF(ISNA(Lists!$C32),\"\",IF((INDIRECT(\"'\"&Lists!$C32&\"'!\"&Lists!$E32&X$14))=\"\",\"\",(INDIRECT(\"'\"&Lists!$C32&\"'!\"&Lists!$E32&X$14))))","v":""},{"$f":"IF(ISNA(Lists!$C32),\"\",IF((INDIRECT(\"'\"&Lists!$C32&\"'!\"&Lists!$E32&Y$14))=\"\",\"\",(INDIRECT(\"'\"&Lists!$C32&\"'!\"&Lists!$E32&Y$14))))","v":""},{"$f":"IF(ISNA(Lists!$C32),\"\",IF((INDIRECT(\"'\"&Lists!$C32&\"'!\"&Lists!$E32&Z$14))=\"\",\"\",(INDIRECT(\"'\"&Lists!$C32&\"'!\"&Lists!$E32&Z$14))))","v":""},{"$f":"IF(ISNA(Lists!$C32),\"\",IF((INDIRECT(\"'\"&Lists!$C32&\"'!\"&Lists!$E32&AA$14))=\"\",\"\",(INDIRECT(\"'\"&Lists!$C32&\"'!\"&Lists!$E32&AA$14))))","v":""},{"$f":"IF(ISNA(Lists!$C32),\"\",IF((INDIRECT(\"'\"&Lists!$C32&\"'!\"&Lists!$D32&AB$14))=\"\",\"\",(INDIRECT(\"'\"&Lists!$C32&\"'!\"&Lists!$D32&AB$14))))","v":""},{"$f":"IF(ISNA(Lists!$C32),\"\",IF((INDIRECT(\"'\"&Lists!$C32&\"'!\"&Lists!$D32&AC$14))=\"\",\"\",(INDIRECT(\"'\"&Lists!$C32&\"'!\"&Lists!$D32&AC$14))))","v":""},{"$f":"IF(ISNA(Lists!$C32),\"\",IF((INDIRECT(\"'\"&Lists!$C32&\"'!\"&Lists!$D32&AD$14))=\"\",\"\",(INDIRECT(\"'\"&Lists!$C32&\"'!\"&Lists!$D32&AD$14))))","v":""},{"$f":"IF(ISNA(Lists!$C32),\"\",IF((INDIRECT(\"'\"&Lists!$C32&\"'!\"&Lists!$D32&AE$14))=\"\",\"\",(INDIRECT(\"'\"&Lists!$C32&\"'!\"&Lists!$D32&AE$14))))","v":""},{"$f":"IF(ISNA(Lists!$C32),\"\",IF((INDIRECT(\"'\"&Lists!$C32&\"'!\"&Lists!$D32&AF$14))=\"\",\"\",(INDIRECT(\"'\"&Lists!$C32&\"'!\"&Lists!$D32&AF$14))))","v":""},{"$f":"IF(ISNA(Lists!$C32),\"\",IF((INDIRECT(\"'\"&Lists!$C32&\"'!\"&Lists!$D32&AG$14))=\"\",\"\",(INDIRECT(\"'\"&Lists!$C32&\"'!\"&Lists!$D32&AG$14))))","v":""},{"$f":"IF(ISNA(Lists!$C32),\"\",IF((INDIRECT(\"'\"&Lists!$C32&\"'!\"&Lists!$D32&AH$14))=\"\",\"\",(INDIRECT(\"'\"&Lists!$C32&\"'!\"&Lists!$D32&AH$14))))","v":""},{"$f":"IF(ISNA(Lists!$C32),\"\",IF((INDIRECT(\"'\"&Lists!$C32&\"'!\"&Lists!$D32&AI$14))=\"\",\"\",(INDIRECT(\"'\"&Lists!$C32&\"'!\"&Lists!$D32&AI$14))))","v":""},{"$f":"IF(ISNA(Lists!$C32),\"\",IF((INDIRECT(\"'\"&Lists!$C32&\"'!\"&Lists!$D32&AJ$14))=\"\",\"\",(INDIRECT(\"'\"&Lists!$C32&\"'!\"&Lists!$D32&AJ$14))))","v":""},{"$f":"IF(ISNA(Lists!$C32),\"\",IF((INDIRECT(\"'\"&Lists!$C32&\"'!\"&Lists!$D32&AK$14))=\"\",\"\",(INDIRECT(\"'\"&Lists!$C32&\"'!\"&Lists!$D32&AK$14))))","v":""}]
[{"$f":"IF(B46=\"\",\"\",' Facility_Info upload'!$A$24)","v":""},{"$f":"IF(ISNA(Lists!$C33),\"\",IF(INDIRECT(\"'\"&Lists!$C33&\"'!\"&\"B\"&B$14)=\"\",\"\",(INDIRECT(\"'\"&Lists!$C33&\"'!\"&\"B\"&B$14))))","v":""},{"$f":"IF(ISNA(Lists!$C33),\"\",IF(INDIRECT(\"'\"&Lists!$C33&\"'!\"&\"B\"&C$14)=\"\",\"\",(INDIRECT(\"'\"&Lists!$C33&\"'!\"&\"B\"&C$14))))","v":""},{"$f":"IF(ISNA(Lists!$C33),\"\",IF(INDIRECT(\"'\"&Lists!$C33&\"'!\"&\"B\"&D$14)=\"\",\"\",(INDIRECT(\"'\"&Lists!$C33&\"'!\"&\"B\"&D$14))))","v":""},{"$f":"IF(ISNA(Lists!$C33),\"\",IF(INDIRECT(\"'\"&Lists!$C33&\"'!\"&\"B\"&E$14)=\"\",\"\",(INDIRECT(\"'\"&Lists!$C33&\"'!\"&\"B\"&E$14))))","v":""},{"$f":"IF(ISNA(Lists!$C33),\"\",IF(INDIRECT(\"'\"&Lists!$C33&\"'!\"&\"B\"&F$14)=\"\",\"\",(INDIRECT(\"'\"&Lists!$C33&\"'!\"&\"B\"&F$14))))","v":""},{"$f":"IF(ISNA(Lists!$C33),\"\",IF((INDIRECT(\"'\"&Lists!$C33&\"'!\"&Lists!$D33&G$14))=\"\",\"\",(INDIRECT(\"'\"&Lists!$C33&\"'!\"&Lists!$D33&G$14))))","v":""},{"$f":"IF(ISNA(Lists!$C33),\"\",IF((INDIRECT(\"'\"&Lists!$C33&\"'!\"&Lists!$D33&H$14))=\"\",\"\",(INDIRECT(\"'\"&Lists!$C33&\"'!\"&Lists!$D33&H$14))))","v":""},{"$f":"IF(ISNA(Lists!$C33),\"\",IF((INDIRECT(\"'\"&Lists!$C33&\"'!\"&Lists!$D33&I$14))=\"\",\"\",(INDIRECT(\"'\"&Lists!$C33&\"'!\"&Lists!$D33&I$14))))","v":""},{"$f":"IF(ISNA(Lists!$C33),\"\",IF((INDIRECT(\"'\"&Lists!$C33&\"'!\"&Lists!$D33&J$14))=\"\",\"\",(INDIRECT(\"'\"&Lists!$C33&\"'!\"&Lists!$D33&J$14))))","v":""},{"$f":"IF(ISNA(Lists!$C33),\"\",IF((INDIRECT(\"'\"&Lists!$C33&\"'!\"&Lists!$D33&K$14))=\"\",\"\",(INDIRECT(\"'\"&Lists!$C33&\"'!\"&Lists!$D33&K$14))))","v":""},{"$f":"IF(ISNA(Lists!$C33),\"\",IF((INDIRECT(\"'\"&Lists!$C33&\"'!\"&Lists!$D33&L$14))=\"\",\"\",(INDIRECT(\"'\"&Lists!$C33&\"'!\"&Lists!$D33&L$14))))","v":""},{"$f":"IF(ISNA(Lists!$C33),\"\",IF((INDIRECT(\"'\"&Lists!$C33&\"'!\"&Lists!$D33&M$14))=\"\",\"\",(INDIRECT(\"'\"&Lists!$C33&\"'!\"&Lists!$D33&M$14))))","v":""},{"$f":"IF(ISNA(Lists!$C33),\"\",IF((INDIRECT(\"'\"&Lists!$C33&\"'!\"&Lists!$D33&N$14))=\"\",\"\",(INDIRECT(\"'\"&Lists!$C33&\"'!\"&Lists!$D33&N$14))))","v":""},{"$f":"IF(ISNA(Lists!$C33),\"\",IF((INDIRECT(\"'\"&Lists!$C33&\"'!\"&Lists!$D33&O$14))=\"\",\"\",(INDIRECT(\"'\"&Lists!$C33&\"'!\"&Lists!$D33&O$14))))","v":""},{"$f":"IF(ISNA(Lists!$C33),\"\",IF((INDIRECT(\"'\"&Lists!$C33&\"'!\"&Lists!$D33&P$14))=\"\",\"\",(INDIRECT(\"'\"&Lists!$C33&\"'!\"&Lists!$D33&P$14))))","v":""},{"$f":"IF(ISNA(Lists!$C33),\"\",IF((INDIRECT(\"'\"&Lists!$C33&\"'!\"&Lists!$D33&Q$14))=\"\",\"\",(INDIRECT(\"'\"&Lists!$C33&\"'!\"&Lists!$D33&Q$14))))","v":""},{"$f":"IF(ISNA(Lists!$C33),\"\",IF((INDIRECT(\"'\"&Lists!$C33&\"'!\"&Lists!$D33&R$14))=\"\",\"\",(INDIRECT(\"'\"&Lists!$C33&\"'!\"&Lists!$D33&R$14))))","v":""},{"$f":"IF(ISNA(Lists!$C33),\"\",IF((INDIRECT(\"'\"&Lists!$C33&\"'!\"&Lists!$D33&S$14))=\"\",\"\",(INDIRECT(\"'\"&Lists!$C33&\"'!\"&Lists!$D33&S$14))))","v":""},{"$f":"IF(ISNA(Lists!$C33),\"\",IF((INDIRECT(\"'\"&Lists!$C33&\"'!\"&Lists!$E33&T$14))=\"\",\"\",(INDIRECT(\"'\"&Lists!$C33&\"'!\"&Lists!$E33&T$14))))","v":""},{"$f":"IF(ISNA(Lists!$C33),\"\",IF((INDIRECT(\"'\"&Lists!$C33&\"'!\"&Lists!$E33&U$14))=\"\",\"\",(INDIRECT(\"'\"&Lists!$C33&\"'!\"&Lists!$E33&U$14))))","v":""},{"$f":"IF(ISNA(Lists!$C33),\"\",IF((INDIRECT(\"'\"&Lists!$C33&\"'!\"&Lists!$E33&V$14))=\"\",\"\",(INDIRECT(\"'\"&Lists!$C33&\"'!\"&Lists!$E33&V$14))))","v":""},{"$f":"IF(ISNA(Lists!$C33),\"\",IF((INDIRECT(\"'\"&Lists!$C33&\"'!\"&Lists!$E33&W$14))=\"\",\"\",(INDIRECT(\"'\"&Lists!$C33&\"'!\"&Lists!$E33&W$14))))","v":""},{"$f":"IF(ISNA(Lists!$C33),\"\",IF((INDIRECT(\"'\"&Lists!$C33&\"'!\"&Lists!$E33&X$14))=\"\",\"\",(INDIRECT(\"'\"&Lists!$C33&\"'!\"&Lists!$E33&X$14))))","v":""},{"$f":"IF(ISNA(Lists!$C33),\"\",IF((INDIRECT(\"'\"&Lists!$C33&\"'!\"&Lists!$E33&Y$14))=\"\",\"\",(INDIRECT(\"'\"&Lists!$C33&\"'!\"&Lists!$E33&Y$14))))","v":""},{"$f":"IF(ISNA(Lists!$C33),\"\",IF((INDIRECT(\"'\"&Lists!$C33&\"'!\"&Lists!$E33&Z$14))=\"\",\"\",(INDIRECT(\"'\"&Lists!$C33&\"'!\"&Lists!$E33&Z$14))))","v":""},{"$f":"IF(ISNA(Lists!$C33),\"\",IF((INDIRECT(\"'\"&Lists!$C33&\"'!\"&Lists!$E33&AA$14))=\"\",\"\",(INDIRECT(\"'\"&Lists!$C33&\"'!\"&Lists!$E33&AA$14))))","v":""},{"$f":"IF(ISNA(Lists!$C33),\"\",IF((INDIRECT(\"'\"&Lists!$C33&\"'!\"&Lists!$D33&AB$14))=\"\",\"\",(INDIRECT(\"'\"&Lists!$C33&\"'!\"&Lists!$D33&AB$14))))","v":""},{"$f":"IF(ISNA(Lists!$C33),\"\",IF((INDIRECT(\"'\"&Lists!$C33&\"'!\"&Lists!$D33&AC$14))=\"\",\"\",(INDIRECT(\"'\"&Lists!$C33&\"'!\"&Lists!$D33&AC$14))))","v":""},{"$f":"IF(ISNA(Lists!$C33),\"\",IF((INDIRECT(\"'\"&Lists!$C33&\"'!\"&Lists!$D33&AD$14))=\"\",\"\",(INDIRECT(\"'\"&Lists!$C33&\"'!\"&Lists!$D33&AD$14))))","v":""},{"$f":"IF(ISNA(Lists!$C33),\"\",IF((INDIRECT(\"'\"&Lists!$C33&\"'!\"&Lists!$D33&AE$14))=\"\",\"\",(INDIRECT(\"'\"&Lists!$C33&\"'!\"&Lists!$D33&AE$14))))","v":""},{"$f":"IF(ISNA(Lists!$C33),\"\",IF((INDIRECT(\"'\"&Lists!$C33&\"'!\"&Lists!$D33&AF$14))=\"\",\"\",(INDIRECT(\"'\"&Lists!$C33&\"'!\"&Lists!$D33&AF$14))))","v":""},{"$f":"IF(ISNA(Lists!$C33),\"\",IF((INDIRECT(\"'\"&Lists!$C33&\"'!\"&Lists!$D33&AG$14))=\"\",\"\",(INDIRECT(\"'\"&Lists!$C33&\"'!\"&Lists!$D33&AG$14))))","v":""},{"$f":"IF(ISNA(Lists!$C33),\"\",IF((INDIRECT(\"'\"&Lists!$C33&\"'!\"&Lists!$D33&AH$14))=\"\",\"\",(INDIRECT(\"'\"&Lists!$C33&\"'!\"&Lists!$D33&AH$14))))","v":""},{"$f":"IF(ISNA(Lists!$C33),\"\",IF((INDIRECT(\"'\"&Lists!$C33&\"'!\"&Lists!$D33&AI$14))=\"\",\"\",(INDIRECT(\"'\"&Lists!$C33&\"'!\"&Lists!$D33&AI$14))))","v":""},{"$f":"IF(ISNA(Lists!$C33),\"\",IF((INDIRECT(\"'\"&Lists!$C33&\"'!\"&Lists!$D33&AJ$14))=\"\",\"\",(INDIRECT(\"'\"&Lists!$C33&\"'!\"&Lists!$D33&AJ$14))))","v":""},{"$f":"IF(ISNA(Lists!$C33),\"\",IF((INDIRECT(\"'\"&Lists!$C33&\"'!\"&Lists!$D33&AK$14))=\"\",\"\",(INDIRECT(\"'\"&Lists!$C33&\"'!\"&Lists!$D33&AK$14))))","v":""}]
[{"$f":"IF(B47=\"\",\"\",' Facility_Info upload'!$A$24)","v":""},{"$f":"IF(ISNA(Lists!$C34),\"\",IF(INDIRECT(\"'\"&Lists!$C34&\"'!\"&\"B\"&B$14)=\"\",\"\",(INDIRECT(\"'\"&Lists!$C34&\"'!\"&\"B\"&B$14))))","v":""},{"$f":"IF(ISNA(Lists!$C34),\"\",IF(INDIRECT(\"'\"&Lists!$C34&\"'!\"&\"B\"&C$14)=\"\",\"\",(INDIRECT(\"'\"&Lists!$C34&\"'!\"&\"B\"&C$14))))","v":""},{"$f":"IF(ISNA(Lists!$C34),\"\",IF(INDIRECT(\"'\"&Lists!$C34&\"'!\"&\"B\"&D$14)=\"\",\"\",(INDIRECT(\"'\"&Lists!$C34&\"'!\"&\"B\"&D$14))))","v":""},{"$f":"IF(ISNA(Lists!$C34),\"\",IF(INDIRECT(\"'\"&Lists!$C34&\"'!\"&\"B\"&E$14)=\"\",\"\",(INDIRECT(\"'\"&Lists!$C34&\"'!\"&\"B\"&E$14))))","v":""},{"$f":"IF(ISNA(Lists!$C34),\"\",IF(INDIRECT(\"'\"&Lists!$C34&\"'!\"&\"B\"&F$14)=\"\",\"\",(INDIRECT(\"'\"&Lists!$C34&\"'!\"&\"B\"&F$14))))","v":""},{"$f":"IF(ISNA(Lists!$C34),\"\",IF((INDIRECT(\"'\"&Lists!$C34&\"'!\"&Lists!$D34&G$14))=\"\",\"\",(INDIRECT(\"'\"&Lists!$C34&\"'!\"&Lists!$D34&G$14))))","v":""},{"$f":"IF(ISNA(Lists!$C34),\"\",IF((INDIRECT(\"'\"&Lists!$C34&\"'!\"&Lists!$D34&H$14))=\"\",\"\",(INDIRECT(\"'\"&Lists!$C34&\"'!\"&Lists!$D34&H$14))))","v":""},{"$f":"IF(ISNA(Lists!$C34),\"\",IF((INDIRECT(\"'\"&Lists!$C34&\"'!\"&Lists!$D34&I$14))=\"\",\"\",(INDIRECT(\"'\"&Lists!$C34&\"'!\"&Lists!$D34&I$14))))","v":""},{"$f":"IF(ISNA(Lists!$C34),\"\",IF((INDIRECT(\"'\"&Lists!$C34&\"'!\"&Lists!$D34&J$14))=\"\",\"\",(INDIRECT(\"'\"&Lists!$C34&\"'!\"&Lists!$D34&J$14))))","v":""},{"$f":"IF(ISNA(Lists!$C34),\"\",IF((INDIRECT(\"'\"&Lists!$C34&\"'!\"&Lists!$D34&K$14))=\"\",\"\",(INDIRECT(\"'\"&Lists!$C34&\"'!\"&Lists!$D34&K$14))))","v":""},{"$f":"IF(ISNA(Lists!$C34),\"\",IF((INDIRECT(\"'\"&Lists!$C34&\"'!\"&Lists!$D34&L$14))=\"\",\"\",(INDIRECT(\"'\"&Lists!$C34&\"'!\"&Lists!$D34&L$14))))","v":""},{"$f":"IF(ISNA(Lists!$C34),\"\",IF((INDIRECT(\"'\"&Lists!$C34&\"'!\"&Lists!$D34&M$14))=\"\",\"\",(INDIRECT(\"'\"&Lists!$C34&\"'!\"&Lists!$D34&M$14))))","v":""},{"$f":"IF(ISNA(Lists!$C34),\"\",IF((INDIRECT(\"'\"&Lists!$C34&\"'!\"&Lists!$D34&N$14))=\"\",\"\",(INDIRECT(\"'\"&Lists!$C34&\"'!\"&Lists!$D34&N$14))))","v":""},{"$f":"IF(ISNA(Lists!$C34),\"\",IF((INDIRECT(\"'\"&Lists!$C34&\"'!\"&Lists!$D34&O$14))=\"\",\"\",(INDIRECT(\"'\"&Lists!$C34&\"'!\"&Lists!$D34&O$14))))","v":""},{"$f":"IF(ISNA(Lists!$C34),\"\",IF((INDIRECT(\"'\"&Lists!$C34&\"'!\"&Lists!$D34&P$14))=\"\",\"\",(INDIRECT(\"'\"&Lists!$C34&\"'!\"&Lists!$D34&P$14))))","v":""},{"$f":"IF(ISNA(Lists!$C34),\"\",IF((INDIRECT(\"'\"&Lists!$C34&\"'!\"&Lists!$D34&Q$14))=\"\",\"\",(INDIRECT(\"'\"&Lists!$C34&\"'!\"&Lists!$D34&Q$14))))","v":""},{"$f":"IF(ISNA(Lists!$C34),\"\",IF((INDIRECT(\"'\"&Lists!$C34&\"'!\"&Lists!$D34&R$14))=\"\",\"\",(INDIRECT(\"'\"&Lists!$C34&\"'!\"&Lists!$D34&R$14))))","v":""},{"$f":"IF(ISNA(Lists!$C34),\"\",IF((INDIRECT(\"'\"&Lists!$C34&\"'!\"&Lists!$D34&S$14))=\"\",\"\",(INDIRECT(\"'\"&Lists!$C34&\"'!\"&Lists!$D34&S$14))))","v":""},{"$f":"IF(ISNA(Lists!$C34),\"\",IF((INDIRECT(\"'\"&Lists!$C34&\"'!\"&Lists!$E34&T$14))=\"\",\"\",(INDIRECT(\"'\"&Lists!$C34&\"'!\"&Lists!$E34&T$14))))","v":""},{"$f":"IF(ISNA(Lists!$C34),\"\",IF((INDIRECT(\"'\"&Lists!$C34&\"'!\"&Lists!$E34&U$14))=\"\",\"\",(INDIRECT(\"'\"&Lists!$C34&\"'!\"&Lists!$E34&U$14))))","v":""},{"$f":"IF(ISNA(Lists!$C34),\"\",IF((INDIRECT(\"'\"&Lists!$C34&\"'!\"&Lists!$E34&V$14))=\"\",\"\",(INDIRECT(\"'\"&Lists!$C34&\"'!\"&Lists!$E34&V$14))))","v":""},{"$f":"IF(ISNA(Lists!$C34),\"\",IF((INDIRECT(\"'\"&Lists!$C34&\"'!\"&Lists!$E34&W$14))=\"\",\"\",(INDIRECT(\"'\"&Lists!$C34&\"'!\"&Lists!$E34&W$14))))","v":""},{"$f":"IF(ISNA(Lists!$C34),\"\",IF((INDIRECT(\"'\"&Lists!$C34&\"'!\"&Lists!$E34&X$14))=\"\",\"\",(INDIRECT(\"'\"&Lists!$C34&\"'!\"&Lists!$E34&X$14))))","v":""},{"$f":"IF(ISNA(Lists!$C34),\"\",IF((INDIRECT(\"'\"&Lists!$C34&\"'!\"&Lists!$E34&Y$14))=\"\",\"\",(INDIRECT(\"'\"&Lists!$C34&\"'!\"&Lists!$E34&Y$14))))","v":""},{"$f":"IF(ISNA(Lists!$C34),\"\",IF((INDIRECT(\"'\"&Lists!$C34&\"'!\"&Lists!$E34&Z$14))=\"\",\"\",(INDIRECT(\"'\"&Lists!$C34&\"'!\"&Lists!$E34&Z$14))))","v":""},{"$f":"IF(ISNA(Lists!$C34),\"\",IF((INDIRECT(\"'\"&Lists!$C34&\"'!\"&Lists!$E34&AA$14))=\"\",\"\",(INDIRECT(\"'\"&Lists!$C34&\"'!\"&Lists!$E34&AA$14))))","v":""},{"$f":"IF(ISNA(Lists!$C34),\"\",IF((INDIRECT(\"'\"&Lists!$C34&\"'!\"&Lists!$D34&AB$14))=\"\",\"\",(INDIRECT(\"'\"&Lists!$C34&\"'!\"&Lists!$D34&AB$14))))","v":""},{"$f":"IF(ISNA(Lists!$C34),\"\",IF((INDIRECT(\"'\"&Lists!$C34&\"'!\"&Lists!$D34&AC$14))=\"\",\"\",(INDIRECT(\"'\"&Lists!$C34&\"'!\"&Lists!$D34&AC$14))))","v":""},{"$f":"IF(ISNA(Lists!$C34),\"\",IF((INDIRECT(\"'\"&Lists!$C34&\"'!\"&Lists!$D34&AD$14))=\"\",\"\",(INDIRECT(\"'\"&Lists!$C34&\"'!\"&Lists!$D34&AD$14))))","v":""},{"$f":"IF(ISNA(Lists!$C34),\"\",IF((INDIRECT(\"'\"&Lists!$C34&\"'!\"&Lists!$D34&AE$14))=\"\",\"\",(INDIRECT(\"'\"&Lists!$C34&\"'!\"&Lists!$D34&AE$14))))","v":""},{"$f":"IF(ISNA(Lists!$C34),\"\",IF((INDIRECT(\"'\"&Lists!$C34&\"'!\"&Lists!$D34&AF$14))=\"\",\"\",(INDIRECT(\"'\"&Lists!$C34&\"'!\"&Lists!$D34&AF$14))))","v":""},{"$f":"IF(ISNA(Lists!$C34),\"\",IF((INDIRECT(\"'\"&Lists!$C34&\"'!\"&Lists!$D34&AG$14))=\"\",\"\",(INDIRECT(\"'\"&Lists!$C34&\"'!\"&Lists!$D34&AG$14))))","v":""},{"$f":"IF(ISNA(Lists!$C34),\"\",IF((INDIRECT(\"'\"&Lists!$C34&\"'!\"&Lists!$D34&AH$14))=\"\",\"\",(INDIRECT(\"'\"&Lists!$C34&\"'!\"&Lists!$D34&AH$14))))","v":""},{"$f":"IF(ISNA(Lists!$C34),\"\",IF((INDIRECT(\"'\"&Lists!$C34&\"'!\"&Lists!$D34&AI$14))=\"\",\"\",(INDIRECT(\"'\"&Lists!$C34&\"'!\"&Lists!$D34&AI$14))))","v":""},{"$f":"IF(ISNA(Lists!$C34),\"\",IF((INDIRECT(\"'\"&Lists!$C34&\"'!\"&Lists!$D34&AJ$14))=\"\",\"\",(INDIRECT(\"'\"&Lists!$C34&\"'!\"&Lists!$D34&AJ$14))))","v":""},{"$f":"IF(ISNA(Lists!$C34),\"\",IF((INDIRECT(\"'\"&Lists!$C34&\"'!\"&Lists!$D34&AK$14))=\"\",\"\",(INDIRECT(\"'\"&Lists!$C34&\"'!\"&Lists!$D34&AK$14))))","v":""}]
[{"$f":"IF(B48=\"\",\"\",' Facility_Info upload'!$A$24)","v":""},{"$f":"IF(ISNA(Lists!$C35),\"\",IF(INDIRECT(\"'\"&Lists!$C35&\"'!\"&\"B\"&B$14)=\"\",\"\",(INDIRECT(\"'\"&Lists!$C35&\"'!\"&\"B\"&B$14))))","v":""},{"$f":"IF(ISNA(Lists!$C35),\"\",IF(INDIRECT(\"'\"&Lists!$C35&\"'!\"&\"B\"&C$14)=\"\",\"\",(INDIRECT(\"'\"&Lists!$C35&\"'!\"&\"B\"&C$14))))","v":""},{"$f":"IF(ISNA(Lists!$C35),\"\",IF(INDIRECT(\"'\"&Lists!$C35&\"'!\"&\"B\"&D$14)=\"\",\"\",(INDIRECT(\"'\"&Lists!$C35&\"'!\"&\"B\"&D$14))))","v":""},{"$f":"IF(ISNA(Lists!$C35),\"\",IF(INDIRECT(\"'\"&Lists!$C35&\"'!\"&\"B\"&E$14)=\"\",\"\",(INDIRECT(\"'\"&Lists!$C35&\"'!\"&\"B\"&E$14))))","v":""},{"$f":"IF(ISNA(Lists!$C35),\"\",IF(INDIRECT(\"'\"&Lists!$C35&\"'!\"&\"B\"&F$14)=\"\",\"\",(INDIRECT(\"'\"&Lists!$C35&\"'!\"&\"B\"&F$14))))","v":""},{"$f":"IF(ISNA(Lists!$C35),\"\",IF((INDIRECT(\"'\"&Lists!$C35&\"'!\"&Lists!$D35&G$14))=\"\",\"\",(INDIRECT(\"'\"&Lists!$C35&\"'!\"&Lists!$D35&G$14))))","v":""},{"$f":"IF(ISNA(Lists!$C35),\"\",IF((INDIRECT(\"'\"&Lists!$C35&\"'!\"&Lists!$D35&H$14))=\"\",\"\",(INDIRECT(\"'\"&Lists!$C35&\"'!\"&Lists!$D35&H$14))))","v":""},{"$f":"IF(ISNA(Lists!$C35),\"\",IF((INDIRECT(\"'\"&Lists!$C35&\"'!\"&Lists!$D35&I$14))=\"\",\"\",(INDIRECT(\"'\"&Lists!$C35&\"'!\"&Lists!$D35&I$14))))","v":""},{"$f":"IF(ISNA(Lists!$C35),\"\",IF((INDIRECT(\"'\"&Lists!$C35&\"'!\"&Lists!$D35&J$14))=\"\",\"\",(INDIRECT(\"'\"&Lists!$C35&\"'!\"&Lists!$D35&J$14))))","v":""},{"$f":"IF(ISNA(Lists!$C35),\"\",IF((INDIRECT(\"'\"&Lists!$C35&\"'!\"&Lists!$D35&K$14))=\"\",\"\",(INDIRECT(\"'\"&Lists!$C35&\"'!\"&Lists!$D35&K$14))))","v":""},{"$f":"IF(ISNA(Lists!$C35),\"\",IF((INDIRECT(\"'\"&Lists!$C35&\"'!\"&Lists!$D35&L$14))=\"\",\"\",(INDIRECT(\"'\"&Lists!$C35&\"'!\"&Lists!$D35&L$14))))","v":""},{"$f":"IF(ISNA(Lists!$C35),\"\",IF((INDIRECT(\"'\"&Lists!$C35&\"'!\"&Lists!$D35&M$14))=\"\",\"\",(INDIRECT(\"'\"&Lists!$C35&\"'!\"&Lists!$D35&M$14))))","v":""},{"$f":"IF(ISNA(Lists!$C35),\"\",IF((INDIRECT(\"'\"&Lists!$C35&\"'!\"&Lists!$D35&N$14))=\"\",\"\",(INDIRECT(\"'\"&Lists!$C35&\"'!\"&Lists!$D35&N$14))))","v":""},{"$f":"IF(ISNA(Lists!$C35),\"\",IF((INDIRECT(\"'\"&Lists!$C35&\"'!\"&Lists!$D35&O$14))=\"\",\"\",(INDIRECT(\"'\"&Lists!$C35&\"'!\"&Lists!$D35&O$14))))","v":""},{"$f":"IF(ISNA(Lists!$C35),\"\",IF((INDIRECT(\"'\"&Lists!$C35&\"'!\"&Lists!$D35&P$14))=\"\",\"\",(INDIRECT(\"'\"&Lists!$C35&\"'!\"&Lists!$D35&P$14))))","v":""},{"$f":"IF(ISNA(Lists!$C35),\"\",IF((INDIRECT(\"'\"&Lists!$C35&\"'!\"&Lists!$D35&Q$14))=\"\",\"\",(INDIRECT(\"'\"&Lists!$C35&\"'!\"&Lists!$D35&Q$14))))","v":""},{"$f":"IF(ISNA(Lists!$C35),\"\",IF((INDIRECT(\"'\"&Lists!$C35&\"'!\"&Lists!$D35&R$14))=\"\",\"\",(INDIRECT(\"'\"&Lists!$C35&\"'!\"&Lists!$D35&R$14))))","v":""},{"$f":"IF(ISNA(Lists!$C35),\"\",IF((INDIRECT(\"'\"&Lists!$C35&\"'!\"&Lists!$D35&S$14))=\"\",\"\",(INDIRECT(\"'\"&Lists!$C35&\"'!\"&Lists!$D35&S$14))))","v":""},{"$f":"IF(ISNA(Lists!$C35),\"\",IF((INDIRECT(\"'\"&Lists!$C35&\"'!\"&Lists!$E35&T$14))=\"\",\"\",(INDIRECT(\"'\"&Lists!$C35&\"'!\"&Lists!$E35&T$14))))","v":""},{"$f":"IF(ISNA(Lists!$C35),\"\",IF((INDIRECT(\"'\"&Lists!$C35&\"'!\"&Lists!$E35&U$14))=\"\",\"\",(INDIRECT(\"'\"&Lists!$C35&\"'!\"&Lists!$E35&U$14))))","v":""},{"$f":"IF(ISNA(Lists!$C35),\"\",IF((INDIRECT(\"'\"&Lists!$C35&\"'!\"&Lists!$E35&V$14))=\"\",\"\",(INDIRECT(\"'\"&Lists!$C35&\"'!\"&Lists!$E35&V$14))))","v":""},{"$f":"IF(ISNA(Lists!$C35),\"\",IF((INDIRECT(\"'\"&Lists!$C35&\"'!\"&Lists!$E35&W$14))=\"\",\"\",(INDIRECT(\"'\"&Lists!$C35&\"'!\"&Lists!$E35&W$14))))","v":""},{"$f":"IF(ISNA(Lists!$C35),\"\",IF((INDIRECT(\"'\"&Lists!$C35&\"'!\"&Lists!$E35&X$14))=\"\",\"\",(INDIRECT(\"'\"&Lists!$C35&\"'!\"&Lists!$E35&X$14))))","v":""},{"$f":"IF(ISNA(Lists!$C35),\"\",IF((INDIRECT(\"'\"&Lists!$C35&\"'!\"&Lists!$E35&Y$14))=\"\",\"\",(INDIRECT(\"'\"&Lists!$C35&\"'!\"&Lists!$E35&Y$14))))","v":""},{"$f":"IF(ISNA(Lists!$C35),\"\",IF((INDIRECT(\"'\"&Lists!$C35&\"'!\"&Lists!$E35&Z$14))=\"\",\"\",(INDIRECT(\"'\"&Lists!$C35&\"'!\"&Lists!$E35&Z$14))))","v":""},{"$f":"IF(ISNA(Lists!$C35),\"\",IF((INDIRECT(\"'\"&Lists!$C35&\"'!\"&Lists!$E35&AA$14))=\"\",\"\",(INDIRECT(\"'\"&Lists!$C35&\"'!\"&Lists!$E35&AA$14))))","v":""},{"$f":"IF(ISNA(Lists!$C35),\"\",IF((INDIRECT(\"'\"&Lists!$C35&\"'!\"&Lists!$D35&AB$14))=\"\",\"\",(INDIRECT(\"'\"&Lists!$C35&\"'!\"&Lists!$D35&AB$14))))","v":""},{"$f":"IF(ISNA(Lists!$C35),\"\",IF((INDIRECT(\"'\"&Lists!$C35&\"'!\"&Lists!$D35&AC$14))=\"\",\"\",(INDIRECT(\"'\"&Lists!$C35&\"'!\"&Lists!$D35&AC$14))))","v":""},{"$f":"IF(ISNA(Lists!$C35),\"\",IF((INDIRECT(\"'\"&Lists!$C35&\"'!\"&Lists!$D35&AD$14))=\"\",\"\",(INDIRECT(\"'\"&Lists!$C35&\"'!\"&Lists!$D35&AD$14))))","v":""},{"$f":"IF(ISNA(Lists!$C35),\"\",IF((INDIRECT(\"'\"&Lists!$C35&\"'!\"&Lists!$D35&AE$14))=\"\",\"\",(INDIRECT(\"'\"&Lists!$C35&\"'!\"&Lists!$D35&AE$14))))","v":""},{"$f":"IF(ISNA(Lists!$C35),\"\",IF((INDIRECT(\"'\"&Lists!$C35&\"'!\"&Lists!$D35&AF$14))=\"\",\"\",(INDIRECT(\"'\"&Lists!$C35&\"'!\"&Lists!$D35&AF$14))))","v":""},{"$f":"IF(ISNA(Lists!$C35),\"\",IF((INDIRECT(\"'\"&Lists!$C35&\"'!\"&Lists!$D35&AG$14))=\"\",\"\",(INDIRECT(\"'\"&Lists!$C35&\"'!\"&Lists!$D35&AG$14))))","v":""},{"$f":"IF(ISNA(Lists!$C35),\"\",IF((INDIRECT(\"'\"&Lists!$C35&\"'!\"&Lists!$D35&AH$14))=\"\",\"\",(INDIRECT(\"'\"&Lists!$C35&\"'!\"&Lists!$D35&AH$14))))","v":""},{"$f":"IF(ISNA(Lists!$C35),\"\",IF((INDIRECT(\"'\"&Lists!$C35&\"'!\"&Lists!$D35&AI$14))=\"\",\"\",(INDIRECT(\"'\"&Lists!$C35&\"'!\"&Lists!$D35&AI$14))))","v":""},{"$f":"IF(ISNA(Lists!$C35),\"\",IF((INDIRECT(\"'\"&Lists!$C35&\"'!\"&Lists!$D35&AJ$14))=\"\",\"\",(INDIRECT(\"'\"&Lists!$C35&\"'!\"&Lists!$D35&AJ$14))))","v":""},{"$f":"IF(ISNA(Lists!$C35),\"\",IF((INDIRECT(\"'\"&Lists!$C35&\"'!\"&Lists!$D35&AK$14))=\"\",\"\",(INDIRECT(\"'\"&Lists!$C35&\"'!\"&Lists!$D35&AK$14))))","v":""}]
[{"$f":"IF(B49=\"\",\"\",' Facility_Info upload'!$A$24)","v":""},{"$f":"IF(ISNA(Lists!$C36),\"\",IF(INDIRECT(\"'\"&Lists!$C36&\"'!\"&\"B\"&B$14)=\"\",\"\",(INDIRECT(\"'\"&Lists!$C36&\"'!\"&\"B\"&B$14))))","v":""},{"$f":"IF(ISNA(Lists!$C36),\"\",IF(INDIRECT(\"'\"&Lists!$C36&\"'!\"&\"B\"&C$14)=\"\",\"\",(INDIRECT(\"'\"&Lists!$C36&\"'!\"&\"B\"&C$14))))","v":""},{"$f":"IF(ISNA(Lists!$C36),\"\",IF(INDIRECT(\"'\"&Lists!$C36&\"'!\"&\"B\"&D$14)=\"\",\"\",(INDIRECT(\"'\"&Lists!$C36&\"'!\"&\"B\"&D$14))))","v":""},{"$f":"IF(ISNA(Lists!$C36),\"\",IF(INDIRECT(\"'\"&Lists!$C36&\"'!\"&\"B\"&E$14)=\"\",\"\",(INDIRECT(\"'\"&Lists!$C36&\"'!\"&\"B\"&E$14))))","v":""},{"$f":"IF(ISNA(Lists!$C36),\"\",IF(INDIRECT(\"'\"&Lists!$C36&\"'!\"&\"B\"&F$14)=\"\",\"\",(INDIRECT(\"'\"&Lists!$C36&\"'!\"&\"B\"&F$14))))","v":""},{"$f":"IF(ISNA(Lists!$C36),\"\",IF((INDIRECT(\"'\"&Lists!$C36&\"'!\"&Lists!$D36&G$14))=\"\",\"\",(INDIRECT(\"'\"&Lists!$C36&\"'!\"&Lists!$D36&G$14))))","v":""},{"$f":"IF(ISNA(Lists!$C36),\"\",IF((INDIRECT(\"'\"&Lists!$C36&\"'!\"&Lists!$D36&H$14))=\"\",\"\",(INDIRECT(\"'\"&Lists!$C36&\"'!\"&Lists!$D36&H$14))))","v":""},{"$f":"IF(ISNA(Lists!$C36),\"\",IF((INDIRECT(\"'\"&Lists!$C36&\"'!\"&Lists!$D36&I$14))=\"\",\"\",(INDIRECT(\"'\"&Lists!$C36&\"'!\"&Lists!$D36&I$14))))","v":""},{"$f":"IF(ISNA(Lists!$C36),\"\",IF((INDIRECT(\"'\"&Lists!$C36&\"'!\"&Lists!$D36&J$14))=\"\",\"\",(INDIRECT(\"'\"&Lists!$C36&\"'!\"&Lists!$D36&J$14))))","v":""},{"$f":"IF(ISNA(Lists!$C36),\"\",IF((INDIRECT(\"'\"&Lists!$C36&\"'!\"&Lists!$D36&K$14))=\"\",\"\",(INDIRECT(\"'\"&Lists!$C36&\"'!\"&Lists!$D36&K$14))))","v":""},{"$f":"IF(ISNA(Lists!$C36),\"\",IF((INDIRECT(\"'\"&Lists!$C36&\"'!\"&Lists!$D36&L$14))=\"\",\"\",(INDIRECT(\"'\"&Lists!$C36&\"'!\"&Lists!$D36&L$14))))","v":""},{"$f":"IF(ISNA(Lists!$C36),\"\",IF((INDIRECT(\"'\"&Lists!$C36&\"'!\"&Lists!$D36&M$14))=\"\",\"\",(INDIRECT(\"'\"&Lists!$C36&\"'!\"&Lists!$D36&M$14))))","v":""},{"$f":"IF(ISNA(Lists!$C36),\"\",IF((INDIRECT(\"'\"&Lists!$C36&\"'!\"&Lists!$D36&N$14))=\"\",\"\",(INDIRECT(\"'\"&Lists!$C36&\"'!\"&Lists!$D36&N$14))))","v":""},{"$f":"IF(ISNA(Lists!$C36),\"\",IF((INDIRECT(\"'\"&Lists!$C36&\"'!\"&Lists!$D36&O$14))=\"\",\"\",(INDIRECT(\"'\"&Lists!$C36&\"'!\"&Lists!$D36&O$14))))","v":""},{"$f":"IF(ISNA(Lists!$C36),\"\",IF((INDIRECT(\"'\"&Lists!$C36&\"'!\"&Lists!$D36&P$14))=\"\",\"\",(INDIRECT(\"'\"&Lists!$C36&\"'!\"&Lists!$D36&P$14))))","v":""},{"$f":"IF(ISNA(Lists!$C36),\"\",IF((INDIRECT(\"'\"&Lists!$C36&\"'!\"&Lists!$D36&Q$14))=\"\",\"\",(INDIRECT(\"'\"&Lists!$C36&\"'!\"&Lists!$D36&Q$14))))","v":""},{"$f":"IF(ISNA(Lists!$C36),\"\",IF((INDIRECT(\"'\"&Lists!$C36&\"'!\"&Lists!$D36&R$14))=\"\",\"\",(INDIRECT(\"'\"&Lists!$C36&\"'!\"&Lists!$D36&R$14))))","v":""},{"$f":"IF(ISNA(Lists!$C36),\"\",IF((INDIRECT(\"'\"&Lists!$C36&\"'!\"&Lists!$D36&S$14))=\"\",\"\",(INDIRECT(\"'\"&Lists!$C36&\"'!\"&Lists!$D36&S$14))))","v":""},{"$f":"IF(ISNA(Lists!$C36),\"\",IF((INDIRECT(\"'\"&Lists!$C36&\"'!\"&Lists!$E36&T$14))=\"\",\"\",(INDIRECT(\"'\"&Lists!$C36&\"'!\"&Lists!$E36&T$14))))","v":""},{"$f":"IF(ISNA(Lists!$C36),\"\",IF((INDIRECT(\"'\"&Lists!$C36&\"'!\"&Lists!$E36&U$14))=\"\",\"\",(INDIRECT(\"'\"&Lists!$C36&\"'!\"&Lists!$E36&U$14))))","v":""},{"$f":"IF(ISNA(Lists!$C36),\"\",IF((INDIRECT(\"'\"&Lists!$C36&\"'!\"&Lists!$E36&V$14))=\"\",\"\",(INDIRECT(\"'\"&Lists!$C36&\"'!\"&Lists!$E36&V$14))))","v":""},{"$f":"IF(ISNA(Lists!$C36),\"\",IF((INDIRECT(\"'\"&Lists!$C36&\"'!\"&Lists!$E36&W$14))=\"\",\"\",(INDIRECT(\"'\"&Lists!$C36&\"'!\"&Lists!$E36&W$14))))","v":""},{"$f":"IF(ISNA(Lists!$C36),\"\",IF((INDIRECT(\"'\"&Lists!$C36&\"'!\"&Lists!$E36&X$14))=\"\",\"\",(INDIRECT(\"'\"&Lists!$C36&\"'!\"&Lists!$E36&X$14))))","v":""},{"$f":"IF(ISNA(Lists!$C36),\"\",IF((INDIRECT(\"'\"&Lists!$C36&\"'!\"&Lists!$E36&Y$14))=\"\",\"\",(INDIRECT(\"'\"&Lists!$C36&\"'!\"&Lists!$E36&Y$14))))","v":""},{"$f":"IF(ISNA(Lists!$C36),\"\",IF((INDIRECT(\"'\"&Lists!$C36&\"'!\"&Lists!$E36&Z$14))=\"\",\"\",(INDIRECT(\"'\"&Lists!$C36&\"'!\"&Lists!$E36&Z$14))))","v":""},{"$f":"IF(ISNA(Lists!$C36),\"\",IF((INDIRECT(\"'\"&Lists!$C36&\"'!\"&Lists!$E36&AA$14))=\"\",\"\",(INDIRECT(\"'\"&Lists!$C36&\"'!\"&Lists!$E36&AA$14))))","v":""},{"$f":"IF(ISNA(Lists!$C36),\"\",IF((INDIRECT(\"'\"&Lists!$C36&\"'!\"&Lists!$D36&AB$14))=\"\",\"\",(INDIRECT(\"'\"&Lists!$C36&\"'!\"&Lists!$D36&AB$14))))","v":""},{"$f":"IF(ISNA(Lists!$C36),\"\",IF((INDIRECT(\"'\"&Lists!$C36&\"'!\"&Lists!$D36&AC$14))=\"\",\"\",(INDIRECT(\"'\"&Lists!$C36&\"'!\"&Lists!$D36&AC$14))))","v":""},{"$f":"IF(ISNA(Lists!$C36),\"\",IF((INDIRECT(\"'\"&Lists!$C36&\"'!\"&Lists!$D36&AD$14))=\"\",\"\",(INDIRECT(\"'\"&Lists!$C36&\"'!\"&Lists!$D36&AD$14))))","v":""},{"$f":"IF(ISNA(Lists!$C36),\"\",IF((INDIRECT(\"'\"&Lists!$C36&\"'!\"&Lists!$D36&AE$14))=\"\",\"\",(INDIRECT(\"'\"&Lists!$C36&\"'!\"&Lists!$D36&AE$14))))","v":""},{"$f":"IF(ISNA(Lists!$C36),\"\",IF((INDIRECT(\"'\"&Lists!$C36&\"'!\"&Lists!$D36&AF$14))=\"\",\"\",(INDIRECT(\"'\"&Lists!$C36&\"'!\"&Lists!$D36&AF$14))))","v":""},{"$f":"IF(ISNA(Lists!$C36),\"\",IF((INDIRECT(\"'\"&Lists!$C36&\"'!\"&Lists!$D36&AG$14))=\"\",\"\",(INDIRECT(\"'\"&Lists!$C36&\"'!\"&Lists!$D36&AG$14))))","v":""},{"$f":"IF(ISNA(Lists!$C36),\"\",IF((INDIRECT(\"'\"&Lists!$C36&\"'!\"&Lists!$D36&AH$14))=\"\",\"\",(INDIRECT(\"'\"&Lists!$C36&\"'!\"&Lists!$D36&AH$14))))","v":""},{"$f":"IF(ISNA(Lists!$C36),\"\",IF((INDIRECT(\"'\"&Lists!$C36&\"'!\"&Lists!$D36&AI$14))=\"\",\"\",(INDIRECT(\"'\"&Lists!$C36&\"'!\"&Lists!$D36&AI$14))))","v":""},{"$f":"IF(ISNA(Lists!$C36),\"\",IF((INDIRECT(\"'\"&Lists!$C36&\"'!\"&Lists!$D36&AJ$14))=\"\",\"\",(INDIRECT(\"'\"&Lists!$C36&\"'!\"&Lists!$D36&AJ$14))))","v":""},{"$f":"IF(ISNA(Lists!$C36),\"\",IF((INDIRECT(\"'\"&Lists!$C36&\"'!\"&Lists!$D36&AK$14))=\"\",\"\",(INDIRECT(\"'\"&Lists!$C36&\"'!\"&Lists!$D36&AK$14))))","v":""}]
[{"$f":"IF(B50=\"\",\"\",' Facility_Info upload'!$A$24)","v":""},{"$f":"IF(ISNA(Lists!$C37),\"\",IF(INDIRECT(\"'\"&Lists!$C37&\"'!\"&\"B\"&B$14)=\"\",\"\",(INDIRECT(\"'\"&Lists!$C37&\"'!\"&\"B\"&B$14))))","v":""},{"$f":"IF(ISNA(Lists!$C37),\"\",IF(INDIRECT(\"'\"&Lists!$C37&\"'!\"&\"B\"&C$14)=\"\",\"\",(INDIRECT(\"'\"&Lists!$C37&\"'!\"&\"B\"&C$14))))","v":""},{"$f":"IF(ISNA(Lists!$C37),\"\",IF(INDIRECT(\"'\"&Lists!$C37&\"'!\"&\"B\"&D$14)=\"\",\"\",(INDIRECT(\"'\"&Lists!$C37&\"'!\"&\"B\"&D$14))))","v":""},{"$f":"IF(ISNA(Lists!$C37),\"\",IF(INDIRECT(\"'\"&Lists!$C37&\"'!\"&\"B\"&E$14)=\"\",\"\",(INDIRECT(\"'\"&Lists!$C37&\"'!\"&\"B\"&E$14))))","v":""},{"$f":"IF(ISNA(Lists!$C37),\"\",IF(INDIRECT(\"'\"&Lists!$C37&\"'!\"&\"B\"&F$14)=\"\",\"\",(INDIRECT(\"'\"&Lists!$C37&\"'!\"&\"B\"&F$14))))","v":""},{"$f":"IF(ISNA(Lists!$C37),\"\",IF((INDIRECT(\"'\"&Lists!$C37&\"'!\"&Lists!$D37&G$14))=\"\",\"\",(INDIRECT(\"'\"&Lists!$C37&\"'!\"&Lists!$D37&G$14))))","v":""},{"$f":"IF(ISNA(Lists!$C37),\"\",IF((INDIRECT(\"'\"&Lists!$C37&\"'!\"&Lists!$D37&H$14))=\"\",\"\",(INDIRECT(\"'\"&Lists!$C37&\"'!\"&Lists!$D37&H$14))))","v":""},{"$f":"IF(ISNA(Lists!$C37),\"\",IF((INDIRECT(\"'\"&Lists!$C37&\"'!\"&Lists!$D37&I$14))=\"\",\"\",(INDIRECT(\"'\"&Lists!$C37&\"'!\"&Lists!$D37&I$14))))","v":""},{"$f":"IF(ISNA(Lists!$C37),\"\",IF((INDIRECT(\"'\"&Lists!$C37&\"'!\"&Lists!$D37&J$14))=\"\",\"\",(INDIRECT(\"'\"&Lists!$C37&\"'!\"&Lists!$D37&J$14))))","v":""},{"$f":"IF(ISNA(Lists!$C37),\"\",IF((INDIRECT(\"'\"&Lists!$C37&\"'!\"&Lists!$D37&K$14))=\"\",\"\",(INDIRECT(\"'\"&Lists!$C37&\"'!\"&Lists!$D37&K$14))))","v":""},{"$f":"IF(ISNA(Lists!$C37),\"\",IF((INDIRECT(\"'\"&Lists!$C37&\"'!\"&Lists!$D37&L$14))=\"\",\"\",(INDIRECT(\"'\"&Lists!$C37&\"'!\"&Lists!$D37&L$14))))","v":""},{"$f":"IF(ISNA(Lists!$C37),\"\",IF((INDIRECT(\"'\"&Lists!$C37&\"'!\"&Lists!$D37&M$14))=\"\",\"\",(INDIRECT(\"'\"&Lists!$C37&\"'!\"&Lists!$D37&M$14))))","v":""},{"$f":"IF(ISNA(Lists!$C37),\"\",IF((INDIRECT(\"'\"&Lists!$C37&\"'!\"&Lists!$D37&N$14))=\"\",\"\",(INDIRECT(\"'\"&Lists!$C37&\"'!\"&Lists!$D37&N$14))))","v":""},{"$f":"IF(ISNA(Lists!$C37),\"\",IF((INDIRECT(\"'\"&Lists!$C37&\"'!\"&Lists!$D37&O$14))=\"\",\"\",(INDIRECT(\"'\"&Lists!$C37&\"'!\"&Lists!$D37&O$14))))","v":""},{"$f":"IF(ISNA(Lists!$C37),\"\",IF((INDIRECT(\"'\"&Lists!$C37&\"'!\"&Lists!$D37&P$14))=\"\",\"\",(INDIRECT(\"'\"&Lists!$C37&\"'!\"&Lists!$D37&P$14))))","v":""},{"$f":"IF(ISNA(Lists!$C37),\"\",IF((INDIRECT(\"'\"&Lists!$C37&\"'!\"&Lists!$D37&Q$14))=\"\",\"\",(INDIRECT(\"'\"&Lists!$C37&\"'!\"&Lists!$D37&Q$14))))","v":""},{"$f":"IF(ISNA(Lists!$C37),\"\",IF((INDIRECT(\"'\"&Lists!$C37&\"'!\"&Lists!$D37&R$14))=\"\",\"\",(INDIRECT(\"'\"&Lists!$C37&\"'!\"&Lists!$D37&R$14))))","v":""},{"$f":"IF(ISNA(Lists!$C37),\"\",IF((INDIRECT(\"'\"&Lists!$C37&\"'!\"&Lists!$D37&S$14))=\"\",\"\",(INDIRECT(\"'\"&Lists!$C37&\"'!\"&Lists!$D37&S$14))))","v":""},{"$f":"IF(ISNA(Lists!$C37),\"\",IF((INDIRECT(\"'\"&Lists!$C37&\"'!\"&Lists!$E37&T$14))=\"\",\"\",(INDIRECT(\"'\"&Lists!$C37&\"'!\"&Lists!$E37&T$14))))","v":""},{"$f":"IF(ISNA(Lists!$C37),\"\",IF((INDIRECT(\"'\"&Lists!$C37&\"'!\"&Lists!$E37&U$14))=\"\",\"\",(INDIRECT(\"'\"&Lists!$C37&\"'!\"&Lists!$E37&U$14))))","v":""},{"$f":"IF(ISNA(Lists!$C37),\"\",IF((INDIRECT(\"'\"&Lists!$C37&\"'!\"&Lists!$E37&V$14))=\"\",\"\",(INDIRECT(\"'\"&Lists!$C37&\"'!\"&Lists!$E37&V$14))))","v":""},{"$f":"IF(ISNA(Lists!$C37),\"\",IF((INDIRECT(\"'\"&Lists!$C37&\"'!\"&Lists!$E37&W$14))=\"\",\"\",(INDIRECT(\"'\"&Lists!$C37&\"'!\"&Lists!$E37&W$14))))","v":""},{"$f":"IF(ISNA(Lists!$C37),\"\",IF((INDIRECT(\"'\"&Lists!$C37&\"'!\"&Lists!$E37&X$14))=\"\",\"\",(INDIRECT(\"'\"&Lists!$C37&\"'!\"&Lists!$E37&X$14))))","v":""},{"$f":"IF(ISNA(Lists!$C37),\"\",IF((INDIRECT(\"'\"&Lists!$C37&\"'!\"&Lists!$E37&Y$14))=\"\",\"\",(INDIRECT(\"'\"&Lists!$C37&\"'!\"&Lists!$E37&Y$14))))","v":""},{"$f":"IF(ISNA(Lists!$C37),\"\",IF((INDIRECT(\"'\"&Lists!$C37&\"'!\"&Lists!$E37&Z$14))=\"\",\"\",(INDIRECT(\"'\"&Lists!$C37&\"'!\"&Lists!$E37&Z$14))))","v":""},{"$f":"IF(ISNA(Lists!$C37),\"\",IF((INDIRECT(\"'\"&Lists!$C37&\"'!\"&Lists!$E37&AA$14))=\"\",\"\",(INDIRECT(\"'\"&Lists!$C37&\"'!\"&Lists!$E37&AA$14))))","v":""},{"$f":"IF(ISNA(Lists!$C37),\"\",IF((INDIRECT(\"'\"&Lists!$C37&\"'!\"&Lists!$D37&AB$14))=\"\",\"\",(INDIRECT(\"'\"&Lists!$C37&\"'!\"&Lists!$D37&AB$14))))","v":""},{"$f":"IF(ISNA(Lists!$C37),\"\",IF((INDIRECT(\"'\"&Lists!$C37&\"'!\"&Lists!$D37&AC$14))=\"\",\"\",(INDIRECT(\"'\"&Lists!$C37&\"'!\"&Lists!$D37&AC$14))))","v":""},{"$f":"IF(ISNA(Lists!$C37),\"\",IF((INDIRECT(\"'\"&Lists!$C37&\"'!\"&Lists!$D37&AD$14))=\"\",\"\",(INDIRECT(\"'\"&Lists!$C37&\"'!\"&Lists!$D37&AD$14))))","v":""},{"$f":"IF(ISNA(Lists!$C37),\"\",IF((INDIRECT(\"'\"&Lists!$C37&\"'!\"&Lists!$D37&AE$14))=\"\",\"\",(INDIRECT(\"'\"&Lists!$C37&\"'!\"&Lists!$D37&AE$14))))","v":""},{"$f":"IF(ISNA(Lists!$C37),\"\",IF((INDIRECT(\"'\"&Lists!$C37&\"'!\"&Lists!$D37&AF$14))=\"\",\"\",(INDIRECT(\"'\"&Lists!$C37&\"'!\"&Lists!$D37&AF$14))))","v":""},{"$f":"IF(ISNA(Lists!$C37),\"\",IF((INDIRECT(\"'\"&Lists!$C37&\"'!\"&Lists!$D37&AG$14))=\"\",\"\",(INDIRECT(\"'\"&Lists!$C37&\"'!\"&Lists!$D37&AG$14))))","v":""},{"$f":"IF(ISNA(Lists!$C37),\"\",IF((INDIRECT(\"'\"&Lists!$C37&\"'!\"&Lists!$D37&AH$14))=\"\",\"\",(INDIRECT(\"'\"&Lists!$C37&\"'!\"&Lists!$D37&AH$14))))","v":""},{"$f":"IF(ISNA(Lists!$C37),\"\",IF((INDIRECT(\"'\"&Lists!$C37&\"'!\"&Lists!$D37&AI$14))=\"\",\"\",(INDIRECT(\"'\"&Lists!$C37&\"'!\"&Lists!$D37&AI$14))))","v":""},{"$f":"IF(ISNA(Lists!$C37),\"\",IF((INDIRECT(\"'\"&Lists!$C37&\"'!\"&Lists!$D37&AJ$14))=\"\",\"\",(INDIRECT(\"'\"&Lists!$C37&\"'!\"&Lists!$D37&AJ$14))))","v":""},{"$f":"IF(ISNA(Lists!$C37),\"\",IF((INDIRECT(\"'\"&Lists!$C37&\"'!\"&Lists!$D37&AK$14))=\"\",\"\",(INDIRECT(\"'\"&Lists!$C37&\"'!\"&Lists!$D37&AK$14))))","v":""}]
[{"$f":"IF(B51=\"\",\"\",' Facility_Info upload'!$A$24)","v":""},{"$f":"IF(ISNA(Lists!$C38),\"\",IF(INDIRECT(\"'\"&Lists!$C38&\"'!\"&\"B\"&B$14)=\"\",\"\",(INDIRECT(\"'\"&Lists!$C38&\"'!\"&\"B\"&B$14))))","v":""},{"$f":"IF(ISNA(Lists!$C38),\"\",IF(INDIRECT(\"'\"&Lists!$C38&\"'!\"&\"B\"&C$14)=\"\",\"\",(INDIRECT(\"'\"&Lists!$C38&\"'!\"&\"B\"&C$14))))","v":""},{"$f":"IF(ISNA(Lists!$C38),\"\",IF(INDIRECT(\"'\"&Lists!$C38&\"'!\"&\"B\"&D$14)=\"\",\"\",(INDIRECT(\"'\"&Lists!$C38&\"'!\"&\"B\"&D$14))))","v":""},{"$f":"IF(ISNA(Lists!$C38),\"\",IF(INDIRECT(\"'\"&Lists!$C38&\"'!\"&\"B\"&E$14)=\"\",\"\",(INDIRECT(\"'\"&Lists!$C38&\"'!\"&\"B\"&E$14))))","v":""},{"$f":"IF(ISNA(Lists!$C38),\"\",IF(INDIRECT(\"'\"&Lists!$C38&\"'!\"&\"B\"&F$14)=\"\",\"\",(INDIRECT(\"'\"&Lists!$C38&\"'!\"&\"B\"&F$14))))","v":""},{"$f":"IF(ISNA(Lists!$C38),\"\",IF((INDIRECT(\"'\"&Lists!$C38&\"'!\"&Lists!$D38&G$14))=\"\",\"\",(INDIRECT(\"'\"&Lists!$C38&\"'!\"&Lists!$D38&G$14))))","v":""},{"$f":"IF(ISNA(Lists!$C38),\"\",IF((INDIRECT(\"'\"&Lists!$C38&\"'!\"&Lists!$D38&H$14))=\"\",\"\",(INDIRECT(\"'\"&Lists!$C38&\"'!\"&Lists!$D38&H$14))))","v":""},{"$f":"IF(ISNA(Lists!$C38),\"\",IF((INDIRECT(\"'\"&Lists!$C38&\"'!\"&Lists!$D38&I$14))=\"\",\"\",(INDIRECT(\"'\"&Lists!$C38&\"'!\"&Lists!$D38&I$14))))","v":""},{"$f":"IF(ISNA(Lists!$C38),\"\",IF((INDIRECT(\"'\"&Lists!$C38&\"'!\"&Lists!$D38&J$14))=\"\",\"\",(INDIRECT(\"'\"&Lists!$C38&\"'!\"&Lists!$D38&J$14))))","v":""},{"$f":"IF(ISNA(Lists!$C38),\"\",IF((INDIRECT(\"'\"&Lists!$C38&\"'!\"&Lists!$D38&K$14))=\"\",\"\",(INDIRECT(\"'\"&Lists!$C38&\"'!\"&Lists!$D38&K$14))))","v":""},{"$f":"IF(ISNA(Lists!$C38),\"\",IF((INDIRECT(\"'\"&Lists!$C38&\"'!\"&Lists!$D38&L$14))=\"\",\"\",(INDIRECT(\"'\"&Lists!$C38&\"'!\"&Lists!$D38&L$14))))","v":""},{"$f":"IF(ISNA(Lists!$C38),\"\",IF((INDIRECT(\"'\"&Lists!$C38&\"'!\"&Lists!$D38&M$14))=\"\",\"\",(INDIRECT(\"'\"&Lists!$C38&\"'!\"&Lists!$D38&M$14))))","v":""},{"$f":"IF(ISNA(Lists!$C38),\"\",IF((INDIRECT(\"'\"&Lists!$C38&\"'!\"&Lists!$D38&N$14))=\"\",\"\",(INDIRECT(\"'\"&Lists!$C38&\"'!\"&Lists!$D38&N$14))))","v":""},{"$f":"IF(ISNA(Lists!$C38),\"\",IF((INDIRECT(\"'\"&Lists!$C38&\"'!\"&Lists!$D38&O$14))=\"\",\"\",(INDIRECT(\"'\"&Lists!$C38&\"'!\"&Lists!$D38&O$14))))","v":""},{"$f":"IF(ISNA(Lists!$C38),\"\",IF((INDIRECT(\"'\"&Lists!$C38&\"'!\"&Lists!$D38&P$14))=\"\",\"\",(INDIRECT(\"'\"&Lists!$C38&\"'!\"&Lists!$D38&P$14))))","v":""},{"$f":"IF(ISNA(Lists!$C38),\"\",IF((INDIRECT(\"'\"&Lists!$C38&\"'!\"&Lists!$D38&Q$14))=\"\",\"\",(INDIRECT(\"'\"&Lists!$C38&\"'!\"&Lists!$D38&Q$14))))","v":""},{"$f":"IF(ISNA(Lists!$C38),\"\",IF((INDIRECT(\"'\"&Lists!$C38&\"'!\"&Lists!$D38&R$14))=\"\",\"\",(INDIRECT(\"'\"&Lists!$C38&\"'!\"&Lists!$D38&R$14))))","v":""},{"$f":"IF(ISNA(Lists!$C38),\"\",IF((INDIRECT(\"'\"&Lists!$C38&\"'!\"&Lists!$D38&S$14))=\"\",\"\",(INDIRECT(\"'\"&Lists!$C38&\"'!\"&Lists!$D38&S$14))))","v":""},{"$f":"IF(ISNA(Lists!$C38),\"\",IF((INDIRECT(\"'\"&Lists!$C38&\"'!\"&Lists!$E38&T$14))=\"\",\"\",(INDIRECT(\"'\"&Lists!$C38&\"'!\"&Lists!$E38&T$14))))","v":""},{"$f":"IF(ISNA(Lists!$C38),\"\",IF((INDIRECT(\"'\"&Lists!$C38&\"'!\"&Lists!$E38&U$14))=\"\",\"\",(INDIRECT(\"'\"&Lists!$C38&\"'!\"&Lists!$E38&U$14))))","v":""},{"$f":"IF(ISNA(Lists!$C38),\"\",IF((INDIRECT(\"'\"&Lists!$C38&\"'!\"&Lists!$E38&V$14))=\"\",\"\",(INDIRECT(\"'\"&Lists!$C38&\"'!\"&Lists!$E38&V$14))))","v":""},{"$f":"IF(ISNA(Lists!$C38),\"\",IF((INDIRECT(\"'\"&Lists!$C38&\"'!\"&Lists!$E38&W$14))=\"\",\"\",(INDIRECT(\"'\"&Lists!$C38&\"'!\"&Lists!$E38&W$14))))","v":""},{"$f":"IF(ISNA(Lists!$C38),\"\",IF((INDIRECT(\"'\"&Lists!$C38&\"'!\"&Lists!$E38&X$14))=\"\",\"\",(INDIRECT(\"'\"&Lists!$C38&\"'!\"&Lists!$E38&X$14))))","v":""},{"$f":"IF(ISNA(Lists!$C38),\"\",IF((INDIRECT(\"'\"&Lists!$C38&\"'!\"&Lists!$E38&Y$14))=\"\",\"\",(INDIRECT(\"'\"&Lists!$C38&\"'!\"&Lists!$E38&Y$14))))","v":""},{"$f":"IF(ISNA(Lists!$C38),\"\",IF((INDIRECT(\"'\"&Lists!$C38&\"'!\"&Lists!$E38&Z$14))=\"\",\"\",(INDIRECT(\"'\"&Lists!$C38&\"'!\"&Lists!$E38&Z$14))))","v":""},{"$f":"IF(ISNA(Lists!$C38),\"\",IF((INDIRECT(\"'\"&Lists!$C38&\"'!\"&Lists!$E38&AA$14))=\"\",\"\",(INDIRECT(\"'\"&Lists!$C38&\"'!\"&Lists!$E38&AA$14))))","v":""},{"$f":"IF(ISNA(Lists!$C38),\"\",IF((INDIRECT(\"'\"&Lists!$C38&\"'!\"&Lists!$D38&AB$14))=\"\",\"\",(INDIRECT(\"'\"&Lists!$C38&\"'!\"&Lists!$D38&AB$14))))","v":""},{"$f":"IF(ISNA(Lists!$C38),\"\",IF((INDIRECT(\"'\"&Lists!$C38&\"'!\"&Lists!$D38&AC$14))=\"\",\"\",(INDIRECT(\"'\"&Lists!$C38&\"'!\"&Lists!$D38&AC$14))))","v":""},{"$f":"IF(ISNA(Lists!$C38),\"\",IF((INDIRECT(\"'\"&Lists!$C38&\"'!\"&Lists!$D38&AD$14))=\"\",\"\",(INDIRECT(\"'\"&Lists!$C38&\"'!\"&Lists!$D38&AD$14))))","v":""},{"$f":"IF(ISNA(Lists!$C38),\"\",IF((INDIRECT(\"'\"&Lists!$C38&\"'!\"&Lists!$D38&AE$14))=\"\",\"\",(INDIRECT(\"'\"&Lists!$C38&\"'!\"&Lists!$D38&AE$14))))","v":""},{"$f":"IF(ISNA(Lists!$C38),\"\",IF((INDIRECT(\"'\"&Lists!$C38&\"'!\"&Lists!$D38&AF$14))=\"\",\"\",(INDIRECT(\"'\"&Lists!$C38&\"'!\"&Lists!$D38&AF$14))))","v":""},{"$f":"IF(ISNA(Lists!$C38),\"\",IF((INDIRECT(\"'\"&Lists!$C38&\"'!\"&Lists!$D38&AG$14))=\"\",\"\",(INDIRECT(\"'\"&Lists!$C38&\"'!\"&Lists!$D38&AG$14))))","v":""},{"$f":"IF(ISNA(Lists!$C38),\"\",IF((INDIRECT(\"'\"&Lists!$C38&\"'!\"&Lists!$D38&AH$14))=\"\",\"\",(INDIRECT(\"'\"&Lists!$C38&\"'!\"&Lists!$D38&AH$14))))","v":""},{"$f":"IF(ISNA(Lists!$C38),\"\",IF((INDIRECT(\"'\"&Lists!$C38&\"'!\"&Lists!$D38&AI$14))=\"\",\"\",(INDIRECT(\"'\"&Lists!$C38&\"'!\"&Lists!$D38&AI$14))))","v":""},{"$f":"IF(ISNA(Lists!$C38),\"\",IF((INDIRECT(\"'\"&Lists!$C38&\"'!\"&Lists!$D38&AJ$14))=\"\",\"\",(INDIRECT(\"'\"&Lists!$C38&\"'!\"&Lists!$D38&AJ$14))))","v":""},{"$f":"IF(ISNA(Lists!$C38),\"\",IF((INDIRECT(\"'\"&Lists!$C38&\"'!\"&Lists!$D38&AK$14))=\"\",\"\",(INDIRECT(\"'\"&Lists!$C38&\"'!\"&Lists!$D38&AK$14))))","v":""}]
[{"$f":"IF(B52=\"\",\"\",' Facility_Info upload'!$A$24)","v":""},{"$f":"IF(ISNA(Lists!$C39),\"\",IF(INDIRECT(\"'\"&Lists!$C39&\"'!\"&\"B\"&B$14)=\"\",\"\",(INDIRECT(\"'\"&Lists!$C39&\"'!\"&\"B\"&B$14))))","v":""},{"$f":"IF(ISNA(Lists!$C39),\"\",IF(INDIRECT(\"'\"&Lists!$C39&\"'!\"&\"B\"&C$14)=\"\",\"\",(INDIRECT(\"'\"&Lists!$C39&\"'!\"&\"B\"&C$14))))","v":""},{"$f":"IF(ISNA(Lists!$C39),\"\",IF(INDIRECT(\"'\"&Lists!$C39&\"'!\"&\"B\"&D$14)=\"\",\"\",(INDIRECT(\"'\"&Lists!$C39&\"'!\"&\"B\"&D$14))))","v":""},{"$f":"IF(ISNA(Lists!$C39),\"\",IF(INDIRECT(\"'\"&Lists!$C39&\"'!\"&\"B\"&E$14)=\"\",\"\",(INDIRECT(\"'\"&Lists!$C39&\"'!\"&\"B\"&E$14))))","v":""},{"$f":"IF(ISNA(Lists!$C39),\"\",IF(INDIRECT(\"'\"&Lists!$C39&\"'!\"&\"B\"&F$14)=\"\",\"\",(INDIRECT(\"'\"&Lists!$C39&\"'!\"&\"B\"&F$14))))","v":""},{"$f":"IF(ISNA(Lists!$C39),\"\",IF((INDIRECT(\"'\"&Lists!$C39&\"'!\"&Lists!$D39&G$14))=\"\",\"\",(INDIRECT(\"'\"&Lists!$C39&\"'!\"&Lists!$D39&G$14))))","v":""},{"$f":"IF(ISNA(Lists!$C39),\"\",IF((INDIRECT(\"'\"&Lists!$C39&\"'!\"&Lists!$D39&H$14))=\"\",\"\",(INDIRECT(\"'\"&Lists!$C39&\"'!\"&Lists!$D39&H$14))))","v":""},{"$f":"IF(ISNA(Lists!$C39),\"\",IF((INDIRECT(\"'\"&Lists!$C39&\"'!\"&Lists!$D39&I$14))=\"\",\"\",(INDIRECT(\"'\"&Lists!$C39&\"'!\"&Lists!$D39&I$14))))","v":""},{"$f":"IF(ISNA(Lists!$C39),\"\",IF((INDIRECT(\"'\"&Lists!$C39&\"'!\"&Lists!$D39&J$14))=\"\",\"\",(INDIRECT(\"'\"&Lists!$C39&\"'!\"&Lists!$D39&J$14))))","v":""},{"$f":"IF(ISNA(Lists!$C39),\"\",IF((INDIRECT(\"'\"&Lists!$C39&\"'!\"&Lists!$D39&K$14))=\"\",\"\",(INDIRECT(\"'\"&Lists!$C39&\"'!\"&Lists!$D39&K$14))))","v":""},{"$f":"IF(ISNA(Lists!$C39),\"\",IF((INDIRECT(\"'\"&Lists!$C39&\"'!\"&Lists!$D39&L$14))=\"\",\"\",(INDIRECT(\"'\"&Lists!$C39&\"'!\"&Lists!$D39&L$14))))","v":""},{"$f":"IF(ISNA(Lists!$C39),\"\",IF((INDIRECT(\"'\"&Lists!$C39&\"'!\"&Lists!$D39&M$14))=\"\",\"\",(INDIRECT(\"'\"&Lists!$C39&\"'!\"&Lists!$D39&M$14))))","v":""},{"$f":"IF(ISNA(Lists!$C39),\"\",IF((INDIRECT(\"'\"&Lists!$C39&\"'!\"&Lists!$D39&N$14))=\"\",\"\",(INDIRECT(\"'\"&Lists!$C39&\"'!\"&Lists!$D39&N$14))))","v":""},{"$f":"IF(ISNA(Lists!$C39),\"\",IF((INDIRECT(\"'\"&Lists!$C39&\"'!\"&Lists!$D39&O$14))=\"\",\"\",(INDIRECT(\"'\"&Lists!$C39&\"'!\"&Lists!$D39&O$14))))","v":""},{"$f":"IF(ISNA(Lists!$C39),\"\",IF((INDIRECT(\"'\"&Lists!$C39&\"'!\"&Lists!$D39&P$14))=\"\",\"\",(INDIRECT(\"'\"&Lists!$C39&\"'!\"&Lists!$D39&P$14))))","v":""},{"$f":"IF(ISNA(Lists!$C39),\"\",IF((INDIRECT(\"'\"&Lists!$C39&\"'!\"&Lists!$D39&Q$14))=\"\",\"\",(INDIRECT(\"'\"&Lists!$C39&\"'!\"&Lists!$D39&Q$14))))","v":""},{"$f":"IF(ISNA(Lists!$C39),\"\",IF((INDIRECT(\"'\"&Lists!$C39&\"'!\"&Lists!$D39&R$14))=\"\",\"\",(INDIRECT(\"'\"&Lists!$C39&\"'!\"&Lists!$D39&R$14))))","v":""},{"$f":"IF(ISNA(Lists!$C39),\"\",IF((INDIRECT(\"'\"&Lists!$C39&\"'!\"&Lists!$D39&S$14))=\"\",\"\",(INDIRECT(\"'\"&Lists!$C39&\"'!\"&Lists!$D39&S$14))))","v":""},{"$f":"IF(ISNA(Lists!$C39),\"\",IF((INDIRECT(\"'\"&Lists!$C39&\"'!\"&Lists!$E39&T$14))=\"\",\"\",(INDIRECT(\"'\"&Lists!$C39&\"'!\"&Lists!$E39&T$14))))","v":""},{"$f":"IF(ISNA(Lists!$C39),\"\",IF((INDIRECT(\"'\"&Lists!$C39&\"'!\"&Lists!$E39&U$14))=\"\",\"\",(INDIRECT(\"'\"&Lists!$C39&\"'!\"&Lists!$E39&U$14))))","v":""},{"$f":"IF(ISNA(Lists!$C39),\"\",IF((INDIRECT(\"'\"&Lists!$C39&\"'!\"&Lists!$E39&V$14))=\"\",\"\",(INDIRECT(\"'\"&Lists!$C39&\"'!\"&Lists!$E39&V$14))))","v":""},{"$f":"IF(ISNA(Lists!$C39),\"\",IF((INDIRECT(\"'\"&Lists!$C39&\"'!\"&Lists!$E39&W$14))=\"\",\"\",(INDIRECT(\"'\"&Lists!$C39&\"'!\"&Lists!$E39&W$14))))","v":""},{"$f":"IF(ISNA(Lists!$C39),\"\",IF((INDIRECT(\"'\"&Lists!$C39&\"'!\"&Lists!$E39&X$14))=\"\",\"\",(INDIRECT(\"'\"&Lists!$C39&\"'!\"&Lists!$E39&X$14))))","v":""},{"$f":"IF(ISNA(Lists!$C39),\"\",IF((INDIRECT(\"'\"&Lists!$C39&\"'!\"&Lists!$E39&Y$14))=\"\",\"\",(INDIRECT(\"'\"&Lists!$C39&\"'!\"&Lists!$E39&Y$14))))","v":""},{"$f":"IF(ISNA(Lists!$C39),\"\",IF((INDIRECT(\"'\"&Lists!$C39&\"'!\"&Lists!$E39&Z$14))=\"\",\"\",(INDIRECT(\"'\"&Lists!$C39&\"'!\"&Lists!$E39&Z$14))))","v":""},{"$f":"IF(ISNA(Lists!$C39),\"\",IF((INDIRECT(\"'\"&Lists!$C39&\"'!\"&Lists!$E39&AA$14))=\"\",\"\",(INDIRECT(\"'\"&Lists!$C39&\"'!\"&Lists!$E39&AA$14))))","v":""},{"$f":"IF(ISNA(Lists!$C39),\"\",IF((INDIRECT(\"'\"&Lists!$C39&\"'!\"&Lists!$D39&AB$14))=\"\",\"\",(INDIRECT(\"'\"&Lists!$C39&\"'!\"&Lists!$D39&AB$14))))","v":""},{"$f":"IF(ISNA(Lists!$C39),\"\",IF((INDIRECT(\"'\"&Lists!$C39&\"'!\"&Lists!$D39&AC$14))=\"\",\"\",(INDIRECT(\"'\"&Lists!$C39&\"'!\"&Lists!$D39&AC$14))))","v":""},{"$f":"IF(ISNA(Lists!$C39),\"\",IF((INDIRECT(\"'\"&Lists!$C39&\"'!\"&Lists!$D39&AD$14))=\"\",\"\",(INDIRECT(\"'\"&Lists!$C39&\"'!\"&Lists!$D39&AD$14))))","v":""},{"$f":"IF(ISNA(Lists!$C39),\"\",IF((INDIRECT(\"'\"&Lists!$C39&\"'!\"&Lists!$D39&AE$14))=\"\",\"\",(INDIRECT(\"'\"&Lists!$C39&\"'!\"&Lists!$D39&AE$14))))","v":""},{"$f":"IF(ISNA(Lists!$C39),\"\",IF((INDIRECT(\"'\"&Lists!$C39&\"'!\"&Lists!$D39&AF$14))=\"\",\"\",(INDIRECT(\"'\"&Lists!$C39&\"'!\"&Lists!$D39&AF$14))))","v":""},{"$f":"IF(ISNA(Lists!$C39),\"\",IF((INDIRECT(\"'\"&Lists!$C39&\"'!\"&Lists!$D39&AG$14))=\"\",\"\",(INDIRECT(\"'\"&Lists!$C39&\"'!\"&Lists!$D39&AG$14))))","v":""},{"$f":"IF(ISNA(Lists!$C39),\"\",IF((INDIRECT(\"'\"&Lists!$C39&\"'!\"&Lists!$D39&AH$14))=\"\",\"\",(INDIRECT(\"'\"&Lists!$C39&\"'!\"&Lists!$D39&AH$14))))","v":""},{"$f":"IF(ISNA(Lists!$C39),\"\",IF((INDIRECT(\"'\"&Lists!$C39&\"'!\"&Lists!$D39&AI$14))=\"\",\"\",(INDIRECT(\"'\"&Lists!$C39&\"'!\"&Lists!$D39&AI$14))))","v":""},{"$f":"IF(ISNA(Lists!$C39),\"\",IF((INDIRECT(\"'\"&Lists!$C39&\"'!\"&Lists!$D39&AJ$14))=\"\",\"\",(INDIRECT(\"'\"&Lists!$C39&\"'!\"&Lists!$D39&AJ$14))))","v":""},{"$f":"IF(ISNA(Lists!$C39),\"\",IF((INDIRECT(\"'\"&Lists!$C39&\"'!\"&Lists!$D39&AK$14))=\"\",\"\",(INDIRECT(\"'\"&Lists!$C39&\"'!\"&Lists!$D39&AK$14))))","v":""}]
[{"$f":"IF(B53=\"\",\"\",' Facility_Info upload'!$A$24)","v":""},{"$f":"IF(ISNA(Lists!$C40),\"\",IF(INDIRECT(\"'\"&Lists!$C40&\"'!\"&\"B\"&B$14)=\"\",\"\",(INDIRECT(\"'\"&Lists!$C40&\"'!\"&\"B\"&B$14))))","v":""},{"$f":"IF(ISNA(Lists!$C40),\"\",IF(INDIRECT(\"'\"&Lists!$C40&\"'!\"&\"B\"&C$14)=\"\",\"\",(INDIRECT(\"'\"&Lists!$C40&\"'!\"&\"B\"&C$14))))","v":""},{"$f":"IF(ISNA(Lists!$C40),\"\",IF(INDIRECT(\"'\"&Lists!$C40&\"'!\"&\"B\"&D$14)=\"\",\"\",(INDIRECT(\"'\"&Lists!$C40&\"'!\"&\"B\"&D$14))))","v":""},{"$f":"IF(ISNA(Lists!$C40),\"\",IF(INDIRECT(\"'\"&Lists!$C40&\"'!\"&\"B\"&E$14)=\"\",\"\",(INDIRECT(\"'\"&Lists!$C40&\"'!\"&\"B\"&E$14))))","v":""},{"$f":"IF(ISNA(Lists!$C40),\"\",IF(INDIRECT(\"'\"&Lists!$C40&\"'!\"&\"B\"&F$14)=\"\",\"\",(INDIRECT(\"'\"&Lists!$C40&\"'!\"&\"B\"&F$14))))","v":""},{"$f":"IF(ISNA(Lists!$C40),\"\",IF((INDIRECT(\"'\"&Lists!$C40&\"'!\"&Lists!$D40&G$14))=\"\",\"\",(INDIRECT(\"'\"&Lists!$C40&\"'!\"&Lists!$D40&G$14))))","v":""},{"$f":"IF(ISNA(Lists!$C40),\"\",IF((INDIRECT(\"'\"&Lists!$C40&\"'!\"&Lists!$D40&H$14))=\"\",\"\",(INDIRECT(\"'\"&Lists!$C40&\"'!\"&Lists!$D40&H$14))))","v":""},{"$f":"IF(ISNA(Lists!$C40),\"\",IF((INDIRECT(\"'\"&Lists!$C40&\"'!\"&Lists!$D40&I$14))=\"\",\"\",(INDIRECT(\"'\"&Lists!$C40&\"'!\"&Lists!$D40&I$14))))","v":""},{"$f":"IF(ISNA(Lists!$C40),\"\",IF((INDIRECT(\"'\"&Lists!$C40&\"'!\"&Lists!$D40&J$14))=\"\",\"\",(INDIRECT(\"'\"&Lists!$C40&\"'!\"&Lists!$D40&J$14))))","v":""},{"$f":"IF(ISNA(Lists!$C40),\"\",IF((INDIRECT(\"'\"&Lists!$C40&\"'!\"&Lists!$D40&K$14))=\"\",\"\",(INDIRECT(\"'\"&Lists!$C40&\"'!\"&Lists!$D40&K$14))))","v":""},{"$f":"IF(ISNA(Lists!$C40),\"\",IF((INDIRECT(\"'\"&Lists!$C40&\"'!\"&Lists!$D40&L$14))=\"\",\"\",(INDIRECT(\"'\"&Lists!$C40&\"'!\"&Lists!$D40&L$14))))","v":""},{"$f":"IF(ISNA(Lists!$C40),\"\",IF((INDIRECT(\"'\"&Lists!$C40&\"'!\"&Lists!$D40&M$14))=\"\",\"\",(INDIRECT(\"'\"&Lists!$C40&\"'!\"&Lists!$D40&M$14))))","v":""},{"$f":"IF(ISNA(Lists!$C40),\"\",IF((INDIRECT(\"'\"&Lists!$C40&\"'!\"&Lists!$D40&N$14))=\"\",\"\",(INDIRECT(\"'\"&Lists!$C40&\"'!\"&Lists!$D40&N$14))))","v":""},{"$f":"IF(ISNA(Lists!$C40),\"\",IF((INDIRECT(\"'\"&Lists!$C40&\"'!\"&Lists!$D40&O$14))=\"\",\"\",(INDIRECT(\"'\"&Lists!$C40&\"'!\"&Lists!$D40&O$14))))","v":""},{"$f":"IF(ISNA(Lists!$C40),\"\",IF((INDIRECT(\"'\"&Lists!$C40&\"'!\"&Lists!$D40&P$14))=\"\",\"\",(INDIRECT(\"'\"&Lists!$C40&\"'!\"&Lists!$D40&P$14))))","v":""},{"$f":"IF(ISNA(Lists!$C40),\"\",IF((INDIRECT(\"'\"&Lists!$C40&\"'!\"&Lists!$D40&Q$14))=\"\",\"\",(INDIRECT(\"'\"&Lists!$C40&\"'!\"&Lists!$D40&Q$14))))","v":""},{"$f":"IF(ISNA(Lists!$C40),\"\",IF((INDIRECT(\"'\"&Lists!$C40&\"'!\"&Lists!$D40&R$14))=\"\",\"\",(INDIRECT(\"'\"&Lists!$C40&\"'!\"&Lists!$D40&R$14))))","v":""},{"$f":"IF(ISNA(Lists!$C40),\"\",IF((INDIRECT(\"'\"&Lists!$C40&\"'!\"&Lists!$D40&S$14))=\"\",\"\",(INDIRECT(\"'\"&Lists!$C40&\"'!\"&Lists!$D40&S$14))))","v":""},{"$f":"IF(ISNA(Lists!$C40),\"\",IF((INDIRECT(\"'\"&Lists!$C40&\"'!\"&Lists!$E40&T$14))=\"\",\"\",(INDIRECT(\"'\"&Lists!$C40&\"'!\"&Lists!$E40&T$14))))","v":""},{"$f":"IF(ISNA(Lists!$C40),\"\",IF((INDIRECT(\"'\"&Lists!$C40&\"'!\"&Lists!$E40&U$14))=\"\",\"\",(INDIRECT(\"'\"&Lists!$C40&\"'!\"&Lists!$E40&U$14))))","v":""},{"$f":"IF(ISNA(Lists!$C40),\"\",IF((INDIRECT(\"'\"&Lists!$C40&\"'!\"&Lists!$E40&V$14))=\"\",\"\",(INDIRECT(\"'\"&Lists!$C40&\"'!\"&Lists!$E40&V$14))))","v":""},{"$f":"IF(ISNA(Lists!$C40),\"\",IF((INDIRECT(\"'\"&Lists!$C40&\"'!\"&Lists!$E40&W$14))=\"\",\"\",(INDIRECT(\"'\"&Lists!$C40&\"'!\"&Lists!$E40&W$14))))","v":""},{"$f":"IF(ISNA(Lists!$C40),\"\",IF((INDIRECT(\"'\"&Lists!$C40&\"'!\"&Lists!$E40&X$14))=\"\",\"\",(INDIRECT(\"'\"&Lists!$C40&\"'!\"&Lists!$E40&X$14))))","v":""},{"$f":"IF(ISNA(Lists!$C40),\"\",IF((INDIRECT(\"'\"&Lists!$C40&\"'!\"&Lists!$E40&Y$14))=\"\",\"\",(INDIRECT(\"'\"&Lists!$C40&\"'!\"&Lists!$E40&Y$14))))","v":""},{"$f":"IF(ISNA(Lists!$C40),\"\",IF((INDIRECT(\"'\"&Lists!$C40&\"'!\"&Lists!$E40&Z$14))=\"\",\"\",(INDIRECT(\"'\"&Lists!$C40&\"'!\"&Lists!$E40&Z$14))))","v":""},{"$f":"IF(ISNA(Lists!$C40),\"\",IF((INDIRECT(\"'\"&Lists!$C40&\"'!\"&Lists!$E40&AA$14))=\"\",\"\",(INDIRECT(\"'\"&Lists!$C40&\"'!\"&Lists!$E40&AA$14))))","v":""},{"$f":"IF(ISNA(Lists!$C40),\"\",IF((INDIRECT(\"'\"&Lists!$C40&\"'!\"&Lists!$D40&AB$14))=\"\",\"\",(INDIRECT(\"'\"&Lists!$C40&\"'!\"&Lists!$D40&AB$14))))","v":""},{"$f":"IF(ISNA(Lists!$C40),\"\",IF((INDIRECT(\"'\"&Lists!$C40&\"'!\"&Lists!$D40&AC$14))=\"\",\"\",(INDIRECT(\"'\"&Lists!$C40&\"'!\"&Lists!$D40&AC$14))))","v":""},{"$f":"IF(ISNA(Lists!$C40),\"\",IF((INDIRECT(\"'\"&Lists!$C40&\"'!\"&Lists!$D40&AD$14))=\"\",\"\",(INDIRECT(\"'\"&Lists!$C40&\"'!\"&Lists!$D40&AD$14))))","v":""},{"$f":"IF(ISNA(Lists!$C40),\"\",IF((INDIRECT(\"'\"&Lists!$C40&\"'!\"&Lists!$D40&AE$14))=\"\",\"\",(INDIRECT(\"'\"&Lists!$C40&\"'!\"&Lists!$D40&AE$14))))","v":""},{"$f":"IF(ISNA(Lists!$C40),\"\",IF((INDIRECT(\"'\"&Lists!$C40&\"'!\"&Lists!$D40&AF$14))=\"\",\"\",(INDIRECT(\"'\"&Lists!$C40&\"'!\"&Lists!$D40&AF$14))))","v":""},{"$f":"IF(ISNA(Lists!$C40),\"\",IF((INDIRECT(\"'\"&Lists!$C40&\"'!\"&Lists!$D40&AG$14))=\"\",\"\",(INDIRECT(\"'\"&Lists!$C40&\"'!\"&Lists!$D40&AG$14))))","v":""},{"$f":"IF(ISNA(Lists!$C40),\"\",IF((INDIRECT(\"'\"&Lists!$C40&\"'!\"&Lists!$D40&AH$14))=\"\",\"\",(INDIRECT(\"'\"&Lists!$C40&\"'!\"&Lists!$D40&AH$14))))","v":""},{"$f":"IF(ISNA(Lists!$C40),\"\",IF((INDIRECT(\"'\"&Lists!$C40&\"'!\"&Lists!$D40&AI$14))=\"\",\"\",(INDIRECT(\"'\"&Lists!$C40&\"'!\"&Lists!$D40&AI$14))))","v":""},{"$f":"IF(ISNA(Lists!$C40),\"\",IF((INDIRECT(\"'\"&Lists!$C40&\"'!\"&Lists!$D40&AJ$14))=\"\",\"\",(INDIRECT(\"'\"&Lists!$C40&\"'!\"&Lists!$D40&AJ$14))))","v":""},{"$f":"IF(ISNA(Lists!$C40),\"\",IF((INDIRECT(\"'\"&Lists!$C40&\"'!\"&Lists!$D40&AK$14))=\"\",\"\",(INDIRECT(\"'\"&Lists!$C40&\"'!\"&Lists!$D40&AK$14))))","v":""}]
[{"$f":"IF(B54=\"\",\"\",' Facility_Info upload'!$A$24)","v":""},{"$f":"IF(ISNA(Lists!$C41),\"\",IF(INDIRECT(\"'\"&Lists!$C41&\"'!\"&\"B\"&B$14)=\"\",\"\",(INDIRECT(\"'\"&Lists!$C41&\"'!\"&\"B\"&B$14))))","v":""},{"$f":"IF(ISNA(Lists!$C41),\"\",IF(INDIRECT(\"'\"&Lists!$C41&\"'!\"&\"B\"&C$14)=\"\",\"\",(INDIRECT(\"'\"&Lists!$C41&\"'!\"&\"B\"&C$14))))","v":""},{"$f":"IF(ISNA(Lists!$C41),\"\",IF(INDIRECT(\"'\"&Lists!$C41&\"'!\"&\"B\"&D$14)=\"\",\"\",(INDIRECT(\"'\"&Lists!$C41&\"'!\"&\"B\"&D$14))))","v":""},{"$f":"IF(ISNA(Lists!$C41),\"\",IF(INDIRECT(\"'\"&Lists!$C41&\"'!\"&\"B\"&E$14)=\"\",\"\",(INDIRECT(\"'\"&Lists!$C41&\"'!\"&\"B\"&E$14))))","v":""},{"$f":"IF(ISNA(Lists!$C41),\"\",IF(INDIRECT(\"'\"&Lists!$C41&\"'!\"&\"B\"&F$14)=\"\",\"\",(INDIRECT(\"'\"&Lists!$C41&\"'!\"&\"B\"&F$14))))","v":""},{"$f":"IF(ISNA(Lists!$C41),\"\",IF((INDIRECT(\"'\"&Lists!$C41&\"'!\"&Lists!$D41&G$14))=\"\",\"\",(INDIRECT(\"'\"&Lists!$C41&\"'!\"&Lists!$D41&G$14))))","v":""},{"$f":"IF(ISNA(Lists!$C41),\"\",IF((INDIRECT(\"'\"&Lists!$C41&\"'!\"&Lists!$D41&H$14))=\"\",\"\",(INDIRECT(\"'\"&Lists!$C41&\"'!\"&Lists!$D41&H$14))))","v":""},{"$f":"IF(ISNA(Lists!$C41),\"\",IF((INDIRECT(\"'\"&Lists!$C41&\"'!\"&Lists!$D41&I$14))=\"\",\"\",(INDIRECT(\"'\"&Lists!$C41&\"'!\"&Lists!$D41&I$14))))","v":""},{"$f":"IF(ISNA(Lists!$C41),\"\",IF((INDIRECT(\"'\"&Lists!$C41&\"'!\"&Lists!$D41&J$14))=\"\",\"\",(INDIRECT(\"'\"&Lists!$C41&\"'!\"&Lists!$D41&J$14))))","v":""},{"$f":"IF(ISNA(Lists!$C41),\"\",IF((INDIRECT(\"'\"&Lists!$C41&\"'!\"&Lists!$D41&K$14))=\"\",\"\",(INDIRECT(\"'\"&Lists!$C41&\"'!\"&Lists!$D41&K$14))))","v":""},{"$f":"IF(ISNA(Lists!$C41),\"\",IF((INDIRECT(\"'\"&Lists!$C41&\"'!\"&Lists!$D41&L$14))=\"\",\"\",(INDIRECT(\"'\"&Lists!$C41&\"'!\"&Lists!$D41&L$14))))","v":""},{"$f":"IF(ISNA(Lists!$C41),\"\",IF((INDIRECT(\"'\"&Lists!$C41&\"'!\"&Lists!$D41&M$14))=\"\",\"\",(INDIRECT(\"'\"&Lists!$C41&\"'!\"&Lists!$D41&M$14))))","v":""},{"$f":"IF(ISNA(Lists!$C41),\"\",IF((INDIRECT(\"'\"&Lists!$C41&\"'!\"&Lists!$D41&N$14))=\"\",\"\",(INDIRECT(\"'\"&Lists!$C41&\"'!\"&Lists!$D41&N$14))))","v":""},{"$f":"IF(ISNA(Lists!$C41),\"\",IF((INDIRECT(\"'\"&Lists!$C41&\"'!\"&Lists!$D41&O$14))=\"\",\"\",(INDIRECT(\"'\"&Lists!$C41&\"'!\"&Lists!$D41&O$14))))","v":""},{"$f":"IF(ISNA(Lists!$C41),\"\",IF((INDIRECT(\"'\"&Lists!$C41&\"'!\"&Lists!$D41&P$14))=\"\",\"\",(INDIRECT(\"'\"&Lists!$C41&\"'!\"&Lists!$D41&P$14))))","v":""},{"$f":"IF(ISNA(Lists!$C41),\"\",IF((INDIRECT(\"'\"&Lists!$C41&\"'!\"&Lists!$D41&Q$14))=\"\",\"\",(INDIRECT(\"'\"&Lists!$C41&\"'!\"&Lists!$D41&Q$14))))","v":""},{"$f":"IF(ISNA(Lists!$C41),\"\",IF((INDIRECT(\"'\"&Lists!$C41&\"'!\"&Lists!$D41&R$14))=\"\",\"\",(INDIRECT(\"'\"&Lists!$C41&\"'!\"&Lists!$D41&R$14))))","v":""},{"$f":"IF(ISNA(Lists!$C41),\"\",IF((INDIRECT(\"'\"&Lists!$C41&\"'!\"&Lists!$D41&S$14))=\"\",\"\",(INDIRECT(\"'\"&Lists!$C41&\"'!\"&Lists!$D41&S$14))))","v":""},{"$f":"IF(ISNA(Lists!$C41),\"\",IF((INDIRECT(\"'\"&Lists!$C41&\"'!\"&Lists!$E41&T$14))=\"\",\"\",(INDIRECT(\"'\"&Lists!$C41&\"'!\"&Lists!$E41&T$14))))","v":""},{"$f":"IF(ISNA(Lists!$C41),\"\",IF((INDIRECT(\"'\"&Lists!$C41&\"'!\"&Lists!$E41&U$14))=\"\",\"\",(INDIRECT(\"'\"&Lists!$C41&\"'!\"&Lists!$E41&U$14))))","v":""},{"$f":"IF(ISNA(Lists!$C41),\"\",IF((INDIRECT(\"'\"&Lists!$C41&\"'!\"&Lists!$E41&V$14))=\"\",\"\",(INDIRECT(\"'\"&Lists!$C41&\"'!\"&Lists!$E41&V$14))))","v":""},{"$f":"IF(ISNA(Lists!$C41),\"\",IF((INDIRECT(\"'\"&Lists!$C41&\"'!\"&Lists!$E41&W$14))=\"\",\"\",(INDIRECT(\"'\"&Lists!$C41&\"'!\"&Lists!$E41&W$14))))","v":""},{"$f":"IF(ISNA(Lists!$C41),\"\",IF((INDIRECT(\"'\"&Lists!$C41&\"'!\"&Lists!$E41&X$14))=\"\",\"\",(INDIRECT(\"'\"&Lists!$C41&\"'!\"&Lists!$E41&X$14))))","v":""},{"$f":"IF(ISNA(Lists!$C41),\"\",IF((INDIRECT(\"'\"&Lists!$C41&\"'!\"&Lists!$E41&Y$14))=\"\",\"\",(INDIRECT(\"'\"&Lists!$C41&\"'!\"&Lists!$E41&Y$14))))","v":""},{"$f":"IF(ISNA(Lists!$C41),\"\",IF((INDIRECT(\"'\"&Lists!$C41&\"'!\"&Lists!$E41&Z$14))=\"\",\"\",(INDIRECT(\"'\"&Lists!$C41&\"'!\"&Lists!$E41&Z$14))))","v":""},{"$f":"IF(ISNA(Lists!$C41),\"\",IF((INDIRECT(\"'\"&Lists!$C41&\"'!\"&Lists!$E41&AA$14))=\"\",\"\",(INDIRECT(\"'\"&Lists!$C41&\"'!\"&Lists!$E41&AA$14))))","v":""},{"$f":"IF(ISNA(Lists!$C41),\"\",IF((INDIRECT(\"'\"&Lists!$C41&\"'!\"&Lists!$D41&AB$14))=\"\",\"\",(INDIRECT(\"'\"&Lists!$C41&\"'!\"&Lists!$D41&AB$14))))","v":""},{"$f":"IF(ISNA(Lists!$C41),\"\",IF((INDIRECT(\"'\"&Lists!$C41&\"'!\"&Lists!$D41&AC$14))=\"\",\"\",(INDIRECT(\"'\"&Lists!$C41&\"'!\"&Lists!$D41&AC$14))))","v":""},{"$f":"IF(ISNA(Lists!$C41),\"\",IF((INDIRECT(\"'\"&Lists!$C41&\"'!\"&Lists!$D41&AD$14))=\"\",\"\",(INDIRECT(\"'\"&Lists!$C41&\"'!\"&Lists!$D41&AD$14))))","v":""},{"$f":"IF(ISNA(Lists!$C41),\"\",IF((INDIRECT(\"'\"&Lists!$C41&\"'!\"&Lists!$D41&AE$14))=\"\",\"\",(INDIRECT(\"'\"&Lists!$C41&\"'!\"&Lists!$D41&AE$14))))","v":""},{"$f":"IF(ISNA(Lists!$C41),\"\",IF((INDIRECT(\"'\"&Lists!$C41&\"'!\"&Lists!$D41&AF$14))=\"\",\"\",(INDIRECT(\"'\"&Lists!$C41&\"'!\"&Lists!$D41&AF$14))))","v":""},{"$f":"IF(ISNA(Lists!$C41),\"\",IF((INDIRECT(\"'\"&Lists!$C41&\"'!\"&Lists!$D41&AG$14))=\"\",\"\",(INDIRECT(\"'\"&Lists!$C41&\"'!\"&Lists!$D41&AG$14))))","v":""},{"$f":"IF(ISNA(Lists!$C41),\"\",IF((INDIRECT(\"'\"&Lists!$C41&\"'!\"&Lists!$D41&AH$14))=\"\",\"\",(INDIRECT(\"'\"&Lists!$C41&\"'!\"&Lists!$D41&AH$14))))","v":""},{"$f":"IF(ISNA(Lists!$C41),\"\",IF((INDIRECT(\"'\"&Lists!$C41&\"'!\"&Lists!$D41&AI$14))=\"\",\"\",(INDIRECT(\"'\"&Lists!$C41&\"'!\"&Lists!$D41&AI$14))))","v":""},{"$f":"IF(ISNA(Lists!$C41),\"\",IF((INDIRECT(\"'\"&Lists!$C41&\"'!\"&Lists!$D41&AJ$14))=\"\",\"\",(INDIRECT(\"'\"&Lists!$C41&\"'!\"&Lists!$D41&AJ$14))))","v":""},{"$f":"IF(ISNA(Lists!$C41),\"\",IF((INDIRECT(\"'\"&Lists!$C41&\"'!\"&Lists!$D41&AK$14))=\"\",\"\",(INDIRECT(\"'\"&Lists!$C41&\"'!\"&Lists!$D41&AK$14))))","v":""}]

{"sheet":"CPMS_Summary","index":6,"n_rows":54,"n_cols":37,"rows_kept":54,"cut":false,"hidden":true,"merged":[[9,12,9,26],[9,28,9,32],[10,12,10,19],[10,20,10,26],[9,36,11,36],[0,0,0,4],[1,1,1,4],[8,6,8,26],[8,27,8,36],[7,1,7,8]]}
["DO NOT REMOVE OR EDIT INFORMATION IN THIS SECTION\nFOR INTERNAL USE ONLY"]
["Template Name",{"$f":"+Welcome!$B$2","v":"63.860(c) Excess Emissions Report"}]
["CitationID",{"$f":"+Welcome!$B$3","v":"63.867(d)(2)"}]
["Template Version",{"$f":"+Welcome!$B$4","v":"v1.00"}]
["Last Updated Date",{"$f":"+Welcome!$B$5","v":"2019-02-26"}]
[]
[null,"Summary Report – Gaseous and Opacity Excess Emissions and Continuous Monitoring System Performance"]
[null,"Continuous Parameter Monitoring Systems -- 40 CFR Part 63, Subpart MM\n\nThis table presents a summary of all of the individual CPMS tabs.  This is the data used in importing to the CEDRI database.  These cells are locked, any changes necessary should be made on the individual CPMS tabs."]
[null,null,null,null,null,null,"Emission Data Summary [§63.867(c)(1)(iv) and (vii)]",null,null,null,null,null,null,null,null,null,null,null,null,null,null,null,null,null,null,null,null," CMS Performance Summary [§63.867(c)(1)(viii)]"]
[null,null,null,null,null,null,null,null,null,null,null,null,"1. Duration of excess emissions in reporting period due to:",null,null,null,null,null,null,null,null,null,null,null,null,null,null,null,"1. CMS downtime in reporting period due to:",null,null,null,null,null,null,null,"If detailed reporting is required, enter the type and/or filename of the detailed report provided"]
[null,null,null,null,null,null,null,null,null,null,null,null,"(Duration (Hours))"]
["Facility Record No. *\n(Field value will automatically generate if a value is not entered.)","Process Unit ID","Process Unit Type","Process Unit Description","Air Pollution Control Device Type","Total Source Operating Time* (hours)","Operating parameter","Averaging Period","Operating Parameter Limit","Operating limit units","Mark with an \"X\" if no excess emissions or exceedances of a parameter have occurred during the reporting period. [§63.10(e)(3)(v)]","Mark with an \"X\" if the CMS has not been inoperative, out of control, repaired, or adjusted during the reporting period. [§63.10(e)(3)(v)]","a. Startup/ Shutdown","b. Control Equipment Problems","c. Process Problems","d. Other known causes","e. Unknown causes","2. Total duration of excess emissions","3. (Total duration of excess emissions) / (Total Source Operating Time) x (100) %","Do excess emissions equal or exceed 1% of operating time?","a. Startup/ Shutdown","b. Control Equipment Problems","c. Process Problems","d. Other known causes","e. Unknown causes","2. Total duration of excess emissions","Is the violation level triggered in line 2 above?  \nViolation level: Six or more 3-hour average parameter values or any 3-hour average RTO temperature per semiannual period.","Operating parameter","a. Monitoring equipment malfunctions","b. Non-monitor equipment malfunctions","c. Quality assurance/quality control calibration","d. Other known causes","e. Unknown causes","2. Total CMS downtime","3. (Total CMS downtime) / (Total Source Operating Time) x (100) %","Is total CMS downtime greater than 5% of total source operating time?"]
["XML Tag: ","ProcessUnitId","ProcessUnitType","ProcessUnitDesc","ApcdType","SourceOperatingTimeHrs","EmOperatingParameter","EmAveragingPeriod","EmOperatingLimit","EmOperatingLimitUnit","ExcessEmInReportPeriod","CmsInReportingPeriod","EmStartupShutdownHr","EmEquipProbHr","EmProcessProbHr","EmOtherCausesHr","EmUnknownCausesHr","EmTotalHr","EmTotalHrPercent","EmOnePercent","EmStartupShutdownCount","EmEquipProbCount","EmProcessProbCount","EmOtherCausesCount","EmUnknownCausesCount","EmTotalCount","EmTotalCountViolation","CmsOperatingParameter","CmsEquipMal","CmsNonEquipMal","CmsQaCalibration","CmsOtherCauses","CmsUnkownCauses","CmsTotalDowntime","CmsTotalPercent","CmsFivePercent","CmsDetailFile"]
[null,6,7,8,9,10,15,16,17,18,19,20,23,24,25,26,27,28,29,30,23,24,25,26,27,28,31,33,36,37,38,39,40,41,42,43,44]
[{"$f":"IF(B15=\"\",\"\",' Facility_Info upload'!$A$24)","v":""},{"$f":"IF(ISNA(Lists!$J2),\"\",IF(INDIRECT(\"'\"&Lists!$J2&\"'!\"&\"B\"&B$14)=\"\",\"\",(INDIRECT(\"'\"&Lists!$J2&\"'!\"&\"B\"&B$14))))","v":""},{"$f":"IF(ISNA(Lists!$J2),\"\",IF(INDIRECT(\"'\"&Lists!$J2&\"'!\"&\"B\"&C$14)=\"\",\"\",(INDIRECT(\"'\"&Lists!$J2&\"'!\"&\"B\"&C$14))))","v":""},{"$f":"IF(ISNA(Lists!$J2),\"\",IF(INDIRECT(\"'\"&Lists!$J2&\"'!\"&\"B\"&D$14)=\"\",\"\",(INDIRECT(\"'\"&Lists!$J2&\"'!\"&\"B\"&D$14))))","v":""},{"$f":"IF(ISNA(Lists!$J2),\"\",IF(INDIRECT(\"'\"&Lists!$J2&\"'!\"&\"B\"&E$14)=\"\",\"\",(INDIRECT(\"'\"&Lists!$J2&\"'!\"&\"B\"&E$14))))","v":""},{"$f":"IF(ISNA(Lists!$J2),\"\",IF(INDIRECT(\"'\"&Lists!$J2&\"'!\"&\"B\"&F$14)=\"\",\"\",(INDIRECT(\"'\"&Lists!$J2&\"'!\"&\"B\"&F$14))))","v":""},{"$f":"IF(ISNA(Lists!$J2),\"\",IF((INDIRECT(\"'\"&Lists!$J2&\"'!\"&Lists!$K2&G$14))=\"\",\"\",(INDIRECT(\"'\"&Lists!$J2&\"'!\"&Lists!$K2&G$14))))","v":""},{"$f":"IF(ISNA(Lists!$J2),\"\",IF((INDIRECT(\"'\"&Lists!$J2&\"'!\"&Lists!$K2&H$14))=\"\",\"\",(INDIRECT(\"'\"&Lists!$J2&\"'!\"&Lists!$K2&H$14))))","v":""},{"$f":"IF(ISNA(Lists!$J2),\"\",IF((INDIRECT(\"'\"&Lists!$J2&\"'!\"&Lists!$K2&I$14))=\"\",\"\",(INDIRECT(\"'\"&Lists!$J2&\"'!\"&Lists!$K2&I$14))))","v":""},{"$f":"IF(ISNA(Lists!$J2),\"\",IF((INDIRECT(\"'\"&Lists!$J2&\"'!\"&Lists!$K2&J$14))=\"\",\"\",(INDIRECT(\"'\"&Lists!$J2&\"'!\"&Lists!$K2&J$14))))","v":""},{"$f":"IF(ISNA(Lists!$J2),\"\",IF((INDIRECT(\"'\"&Lists!$J2&\"'!\"&Lists!$K2&K$14))=\"\",\"\",(INDIRECT(\"'\"&Lists!$J2&\"'!\"&Lists!$K2&K$14))))","v":""},{"$f":"IF(ISNA(Lists!$J2),\"\",IF((INDIRECT(\"'\"&Lists!$J2&\"'!\"&Lists!$K2&L$14))=\"\",\"\",(INDIRECT(\"'\"&Lists!$J2&\"'!\"&Lists!$K2&L$14))))","v":""},{"$f":"IF(ISNA(Lists!$J2),\"\",IF((INDIRECT(\"'\"&Lists!$J2&\"'!\"&Lists!$K2&M$14))=\"\",\"\",(INDIRECT(\"'\"&Lists!$J2&\"'!\"&Lists!$K2&M$14))))","v":""},{"$f":"IF(ISNA(Lists!$J2),\"\",IF((INDIRECT(\"'\"&Lists!$J2&\"'!\"&Lists!$K2&N$14))=\"\",\"\",(INDIRECT(\"'\"&Lists!$J2&\"'!\"&Lists!$K2&N$14))))","v":""},{"$f":"IF(ISNA(Lists!$J2),\"\",IF((INDIRECT(\"'\"&Lists!$J2&\"'!\"&Lists!$K2&O$14))=\"\",\"\",(INDIRECT(\"'\"&Lists!$J2&\"'!\"&Lists!$K2&O$14))))","v":""},{"$f":"IF(ISNA(Lists!$J2),\"\",IF((INDIRECT(\"'\"&Lists!$J2&\"'!\"&Lists!$K2&P$14))=\"\",\"\",(INDIRECT(\"'\"&Lists!$J2&\"'!\"&Lists!$K2&P$14))))","v":""},{"$f":"IF(ISNA(Lists!$J2),\"\",IF((INDIRECT(\"'\"&Lists!$J2&\"'!\"&Lists!$K2&Q$14))=\"\",\"\",(INDIRECT(\"'\"&Lists!$J2&\"'!\"&Lists!$K2&Q$14))))","v":""},{"$f":"IF(ISNA(Lists!$J2),\"\",IF((INDIRECT(\"'\"&Lists!$J2&\"'!\"&Lists!$K2&R$14))=\"\",\"\",(INDIRECT(\"'\"&Lists!$J2&\"'!\"&Lists!$K2&R$14))))","v":""},{"$f":"IF(ISNA(Lists!$J2),\"\",IF((INDIRECT(\"'\"&Lists!$J2&\"'!\"&Lists!$K2&S$14))=\"\",\"\",(INDIRECT(\"'\"&Lists!$J2&\"'!\"&Lists!$K2&S$14))))","v":""},{"$f":"IF(ISNA(Lists!$J2),\"\",IF((INDIRECT(\"'\"&Lists!$J2&\"'!\"&Lists!$K2&T$14))=\"\",\"\",(INDIRECT(\"'\"&Lists!$J2&\"'!\"&Lists!$K2&T$14))))","v":""},{"$f":"IF(ISNA(Lists!$J2),\"\",IF((INDIRECT(\"'\"&Lists!$J2&\"'!\"&Lists!$L2&U$14))=\"\",\"\",(INDIRECT(\"'\"&Lists!$J2&\"'!\"&Lists!$L2&U$14))))","v":""},{"$f":"IF(ISNA(Lists!$J2),\"\",IF((INDIRECT(\"'\"&Lists!$J2&\"'!\"&Lists!$L2&V$14))=\"\",\"\",(INDIRECT(\"'\"&Lists!$J2&\"'!\"&Lists!$L2&V$14))))","v":""},{"$f":"IF(ISNA(Lists!$J2),\"\",IF((INDIRECT(\"'\"&Lists!$J2&\"'!\"&Lists!$L2&W$14))=\"\",\"\",(INDIRECT(\"'\"&Lists!$J2&\"'!\"&Lists!$L2&W$14))))","v":""},{"$f":"IF(ISNA(Lists!$J2),\"\",IF((INDIRECT(\"'\"&Lists!$J2&\"'!\"&Lists!$L2&X$14))=\"\",\"\",(INDIRECT(\"'\"&Lists!$J2&\"'!\"&Lists!$L2&X$14))))","v":""},{"$f":"IF(ISNA(Lists!$J2),\"\",IF((INDIRECT(\"'\"&Lists!$J2&\"'!\"&Lists!$L2&Y$14))=\"\",\"\",(INDIRECT(\"'\"&Lists!$J2&\"'!\"&Lists!$L2&Y$14))))","v":""},{"$f":"IF(ISNA(Lists!$J2),\"\",IF((INDIRECT(\"'\"&Lists!$J2&\"'!\"&Lists!$L2&Z$14))=\"\",\"\",(INDIRECT(\"'\"&Lists!$J2&\"'!\"&Lists!$L2&Z$14))))","v":""},{"$f":"IF(ISNA(Lists!$J2),\"\",IF((INDIRECT(\"'\"&Lists!$J2&\"'!\"&Lists!$L2&AA$14))=\"\",\"\",(INDIRECT(\"'\"&Lists!$J2&\"'!\"&Lists!$L2&AA$14))))","v":""},{"$f":"IF(ISNA(Lists!$J2),\"\",IF((INDIRECT(\"'\"&Lists!$J2&\"'!\"&Lists!$K2&AB$14))=\"\",\"\",(INDIRECT(\"'\"&Lists!$J2&\"'!\"&Lists!$K2&AB$14))))","v":""},{"$f":"IF(ISNA(Lists!$J2),\"\",IF((INDIRECT(\"'\"&Lists!$J2&\"'!\"&Lists!$K2&AC$14))=\"\",\"\",(INDIRECT(\"'\"&Lists!$J2&\"'!\"&Lists!$K2&AC$14))))","v":""},{"$f":"IF(ISNA(Lists!$J2),\"\",IF((INDIRECT(\"'\"&Lists!$J2&\"'!\"&Lists!$K2&AD$14))=\"\",\"\",(INDIRECT(\"'\"&Lists!$J2&\"'!\"&Lists!$K2&AD$14))))","v":""},{"$f":"IF(ISNA(Lists!$J2),\"\",IF((INDIRECT(\"'\"&Lists!$J2&\"'!\"&Lists!$K2&AE$14))=\"\",\"\",(INDIRECT(\"'\"&Lists!$J2&\"'!\"&Lists!$K2&AE$14))))","v":""},{"$f":"IF(ISNA(Lists!$J2),\"\",IF((INDIRECT(\"'\"&Lists!$J2&\"'!\"&Lists!$K2&AF$14))=\"\",\"\",(INDIRECT(\"'\"&Lists!$J2&\"'!\"&Lists!$K2&AF$14))))","v":""},{"$f":"IF(ISNA(Lists!$J2),\"\",IF((INDIRECT(\"'\"&Lists!$J2&\"'!\"&Lists!$K2&AG$14))=\"\",\"\",(INDIRECT(\"'\"&Lists!$J2&\"'!\"&Lists!$K2&AG$14))))","v":""},{"$f":"IF(ISNA(Lists!$J2),\"\",IF((INDIRECT(\"'\"&Lists!$J2&\"'!\"&Lists!$K2&AH$14))=\"\",\"\",(INDIRECT(\"'\"&Lists!$J2&\"'!\"&Lists!$K2&AH$14))))","v":""},{"$f":"IF(ISNA(Lists!$J2),\"\",IF((INDIRECT(\"'\"&Lists!$J2&\"'!\"&Lists!$K2&AI$14))=\"\",\"\",(INDIRECT(\"'\"&Lists!$J2&\"'!\"&Lists!$K2&AI$14))))","v":""},{"$f":"IF(ISNA(Lists!$J2),\"\",IF((INDIRECT(\"'\"&Lists!$J2&\"'!\"&Lists!$K2&AJ$14))=\"\",\"\",(INDIRECT(\"'\"&Lists!$J2&\"'!\"&Lists!$K2&AJ$14))))","v":""},{"$f":"IF(ISNA(Lists!$J2),\"\",IF((INDIRECT(\"'\"&Lists!$J2&\"'!\"&Lists!$K2&AK$14))=\"\",\"\",(INDIRECT(\"'\"&Lists!$J2&\"'!\"&Lists!$K2&AK$14))))","v":""}]
[{"$f":"IF(B16=\"\",\"\",' Facility_Info upload'!$A$24)","v":""},{"$f":"IF(ISNA(Lists!$J3),\"\",IF(INDIRECT(\"'\"&Lists!$J3&\"'!\"&\"B\"&B$14)=\"\",\"\",(INDIRECT(\"'\"&Lists!$J3&\"'!\"&\"B\"&B$14))))","v":""},{"$f":"IF(ISNA(Lists!$J3),\"\",IF(INDIRECT(\"'\"&Lists!$J3&\"'!\"&\"B\"&C$14)=\"\",\"\",(INDIRECT(\"'\"&Lists!$J3&\"'!\"&\"B\"&C$14))))","v":""},{"$f":"IF(ISNA(Lists!$J3),\"\",IF(INDIRECT(\"'\"&Lists!$J3&\"'!\"&\"B\"&D$14)=\"\",\"\",(INDIRECT(\"'\"&Lists!$J3&\"'!\"&\"B\"&D$14))))","v":""},{"$f":"IF(ISNA(Lists!$J3),\"\",IF(INDIRECT(\"'\"&Lists!$J3&\"'!\"&\"B\"&E$14)=\"\",\"\",(INDIRECT(\"'\"&Lists!$J3&\"'!\"&\"B\"&E$14))))","v":""},{"$f":"IF(ISNA(Lists!$J3),\"\",IF(INDIRECT(\"'\"&Lists!$J3&\"'!\"&\"B\"&F$14)=\"\",\"\",(INDIRECT(\"'\"&Lists!$J3&\"'!\"&\"B\"&F$14))))","v":""},{"$f":"IF(ISNA(Lists!$J3),\"\",IF((INDIRECT(\"'\"&Lists!$J3&\"'!\"&Lists!$K3&G$14))=\"\",\"\",(INDIRECT(\"'\"&Lists!$J3&\"'!\"&Lists!$K3&G$14))))","v":""},{"$f":"IF(ISNA(Lists!$J3),\"\",IF((INDIRECT(\"'\"&Lists!$J3&\"'!\"&Lists!$K3&H$14))=\"\",\"\",(INDIRECT(\"'\"&Lists!$J3&\"'!\"&Lists!$K3&H$14))))","v":""},{"$f":"IF(ISNA(Lists!$J3),\"\",IF((INDIRECT(\"'\"&Lists!$J3&\"'!\"&Lists!$K3&I$14))=\"\",\"\",(INDIRECT(\"'\"&Lists!$J3&\"'!\"&Lists!$K3&I$14))))","v":""},{"$f":"IF(ISNA(Lists!$J3),\"\",IF((INDIRECT(\"'\"&Lists!$J3&\"'!\"&Lists!$K3&J$14))=\"\",\"\",(INDIRECT(\"'\"&Lists!$J3&\"'!\"&Lists!$K3&J$14))))","v":""},{"$f":"IF(ISNA(Lists!$J3),\"\",IF((INDIRECT(\"'\"&Lists!$J3&\"'!\"&Lists!$K3&K$14))=\"\",\"\",(INDIRECT(\"'\"&Lists!$J3&\"'!\"&Lists!$K3&K$14))))","v":""},{"$f":"IF(ISNA(Lists!$J3),\"\",IF((INDIRECT(\"'\"&Lists!$J3&\"'!\"&Lists!$K3&L$14))=\"\",\"\",(INDIRECT(\"'\"&Lists!$J3&\"'!\"&Lists!$K3&L$14))))","v":""},{"$f":"IF(ISNA(Lists!$J3),\"\",IF((INDIRECT(\"'\"&Lists!$J3&\"'!\"&Lists!$K3&M$14))=\"\",\"\",(INDIRECT(\"'\"&Lists!$J3&\"'!\"&Lists!$K3&M$14))))","v":""},{"$f":"IF(ISNA(Lists!$J3),\"\",IF((INDIRECT(\"'\"&Lists!$J3&\"'!\"&Lists!$K3&N$14))=\"\",\"\",(INDIRECT(\"'\"&Lists!$J3&\"'!\"&Lists!$K3&N$14))))","v":""},{"$f":"IF(ISNA(Lists!$J3),\"\",IF((INDIRECT(\"'\"&Lists!$J3&\"'!\"&Lists!$K3&O$14))=\"\",\"\",(INDIRECT(\"'\"&Lists!$J3&\"'!\"&Lists!$K3&O$14))))","v":""},{"$f":"IF(ISNA(Lists!$J3),\"\",IF((INDIRECT(\"'\"&Lists!$J3&\"'!\"&Lists!$K3&P$14))=\"\",\"\",(INDIRECT(\"'\"&Lists!$J3&\"'!\"&Lists!$K3&P$14))))","v":""},{"$f":"IF(ISNA(Lists!$J3),\"\",IF((INDIRECT(\"'\"&Lists!$J3&\"'!\"&Lists!$K3&Q$14))=\"\",\"\",(INDIRECT(\"'\"&Lists!$J3&\"'!\"&Lists!$K3&Q$14))))","v":""},{"$f":"IF(ISNA(Lists!$J3),\"\",IF((INDIRECT(\"'\"&Lists!$J3&\"'!\"&Lists!$K3&R$14))=\"\",\"\",(INDIRECT(\"'\"&Lists!$J3&\"'!\"&Lists!$K3&R$14))))","v":""},{"$f":"IF(ISNA(Lists!$J3),\"\",IF((INDIRECT(\"'\"&Lists!$J3&\"'!\"&Lists!$K3&S$14))=\"\",\"\",(INDIRECT(\"'\"&Lists!$J3&\"'!\"&Lists!$K3&S$14))))","v":""},{"$f":"IF(ISNA(Lists!$J3),\"\",IF((INDIRECT(\"'\"&Lists!$J3&\"'!\"&Lists!$K3&T$14))=\"\",\"\",(INDIRECT(\"'\"&Lists!$J3&\"'!\"&Lists!$K3&T$14))))","v":""},{"$f":"IF(ISNA(Lists!$J3),\"\",IF((INDIRECT(\"'\"&Lists!$J3&\"'!\"&Lists!$L3&U$14))=\"\",\"\",(INDIRECT(\"'\"&Lists!$J3&\"'!\"&Lists!$L3&U$14))))","v":""},{"$f":"IF(ISNA(Lists!$J3),\"\",IF((INDIRECT(\"'\"&Lists!$J3&\"'!\"&Lists!$L3&V$14))=\"\",\"\",(INDIRECT(\"'\"&Lists!$J3&\"'!\"&Lists!$L3&V$14))))","v":""},{"$f":"IF(ISNA(Lists!$J3),\"\",IF((INDIRECT(\"'\"&Lists!$J3&\"'!\"&Lists!$L3&W$14))=\"\",\"\",(INDIRECT(\"'\"&Lists!$J3&\"'!\"&Lists!$L3&W$14))))","v":""},{"$f":"IF(ISNA(Lists!$J3),\"\",IF((INDIRECT(\"'\"&Lists!$J3&\"'!\"&Lists!$L3&X$14))=\"\",\"\",(INDIRECT(\"'\"&Lists!$J3&\"'!\"&Lists!$L3&X$14))))","v":""},{"$f":"IF(ISNA(Lists!$J3),\"\",IF((INDIRECT(\"'\"&Lists!$J3&\"'!\"&Lists!$L3&Y$14))=\"\",\"\",(INDIRECT(\"'\"&Lists!$J3&\"'!\"&Lists!$L3&Y$14))))","v":""},{"$f":"IF(ISNA(Lists!$J3),\"\",IF((INDIRECT(\"'\"&Lists!$J3&\"'!\"&Lists!$L3&Z$14))=\"\",\"\",(INDIRECT(\"'\"&Lists!$J3&\"'!\"&Lists!$L3&Z$14))))","v":""},{"$f":"IF(ISNA(Lists!$J3),\"\",IF((INDIRECT(\"'\"&Lists!$J3&\"'!\"&Lists!$L3&AA$14))=\"\",\"\",(INDIRECT(\"'\"&Lists!$J3&\"'!\"&Lists!$L3&AA$14))))","v":""},{"$f":"IF(ISNA(Lists!$J3),\"\",IF((INDIRECT(\"'\"&Lists!$J3&\"'!\"&Lists!$K3&AB$14))=\"\",\"\",(INDIRECT(\"'\"&Lists!$J3&\"'!\"&Lists!$K3&AB$14))))","v":""},{"$f":"IF(ISNA(Lists!$J3),\"\",IF((INDIRECT(\"'\"&Lists!$J3&\"'!\"&Lists!$K3&AC$14))=\"\",\"\",(INDIRECT(\"'\"&Lists!$J3&\"'!\"&Lists!$K3&AC$14))))","v":""},{"$f":"IF(ISNA(Lists!$J3),\"\",IF((INDIRECT(\"'\"&Lists!$J3&\"'!\"&Lists!$K3&AD$14))=\"\",\"\",(INDIRECT(\"'\"&Lists!$J3&\"'!\"&Lists!$K3&AD$14))))","v":""},{"$f":"IF(ISNA(Lists!$J3),\"\",IF((INDIRECT(\"'\"&Lists!$J3&\"'!\"&Lists!$K3&AE$14))=\"\",\"\",(INDIRECT(\"'\"&Lists!$J3&\"'!\"&Lists!$K3&AE$14))))","v":""},{"$f":"IF(ISNA(Lists!$J3),\"\",IF((INDIRECT(\"'\"&Lists!$J3&\"'!\"&Lists!$K3&AF$14))=\"\",\"\",(INDIRECT(\"'\"&Lists!$J3&\"'!\"&Lists!$K3&AF$14))))","v":""},{"$f":"IF(ISNA(Lists!$J3),\"\",IF((INDIRECT(\"'\"&Lists!$J3&\"'!\"&Lists!$K3&AG$14))=\"\",\"\",(INDIRECT(\"'\"&Lists!$J3&\"'!\"&Lists!$K3&AG$14))))","v":""},{"$f":"IF(ISNA(Lists!$J3),\"\",IF((INDIRECT(\"'\"&Lists!$J3&\"'!\"&Lists!$K3&AH$14))=\"\",\"\",(INDIRECT(\"'\"&Lists!$J3&\"'!\"&Lists!$K3&AH$14))))","v":""},{"$f":"IF(ISNA(Lists!$J3),\"\",IF((INDIRECT(\"'\"&Lists!$J3&\"'!\"&Lists!$K3&AI$14))=\"\",\"\",(INDIRECT(\"'\"&Lists!$J3&\"'!\"&Lists!$K3&AI$14))))","v":""},{"$f":"IF(ISNA(Lists!$J3),\"\",IF((INDIRECT(\"'\"&Lists!$J3&\"'!\"&Lists!$K3&AJ$14))=\"\",\"\",(INDIRECT(\"'\"&Lists!$J3&\"'!\"&Lists!$K3&AJ$14))))","v":""},{"$f":"IF(ISNA(Lists!$J3),\"\",IF((INDIRECT(\"'\"&Lists!$J3&\"'!\"&Lists!$K3&AK$14))=\"\",\"\",(INDIRECT(\"'\"&Lists!$J3&\"'!\"&Lists!$K3&AK$14))))","v":""}]
[{"$f":"IF(B17=\"\",\"\",' Facility_Info upload'!$A$24)","v":""},{"$f":"IF(ISNA(Lists!$J4),\"\",IF(INDIRECT(\"'\"&Lists!$J4&\"'!\"&\"B\"&B$14)=\"\",\"\",(INDIRECT(\"'\"&Lists!$J4&\"'!\"&\"B\"&B$14))))","v":""},{"$f":"IF(ISNA(Lists!$J4),\"\",IF(INDIRECT(\"'\"&Lists!$J4&\"'!\"&\"B\"&C$14)=\"\",\"\",(INDIRECT(\"'\"&Lists!$J4&\"'!\"&\"B\"&C$14))))","v":""},{"$f":"IF(ISNA(Lists!$J4),\"\",IF(INDIRECT(\"'\"&Lists!$J4&\"'!\"&\"B\"&D$14)=\"\",\"\",(INDIRECT(\"'\"&Lists!$J4&\"'!\"&\"B\"&D$14))))","v":""},{"$f":"IF(ISNA(Lists!$J4),\"\",IF(INDIRECT(\"'\"&Lists!$J4&\"'!\"&\"B\"&E$14)=\"\",\"\",(INDIRECT(\"'\"&Lists!$J4&\"'!\"&\"B\"&E$14))))","v":""},{"$f":"IF(ISNA(Lists!$J4),\"\",IF(INDIRECT(\"'\"&Lists!$J4&\"'!\"&\"B\"&F$14)=\"\",\"\",(INDIRECT(\"'\"&Lists!$J4&\"'!\"&\"B\"&F$14))))","v":""},{"$f":"IF(ISNA(Lists!$J4),\"\",IF((INDIRECT(\"'\"&Lists!$J4&\"'!\"&Lists!$K4&G$14))=\"\",\"\",(INDIRECT(\"'\"&Lists!$J4&\"'!\"&Lists!$K4&G$14))))","v":""},{"$f":"IF(ISNA(Lists!$J4),\"\",IF((INDIRECT(\"'\"&Lists!$J4&\"'!\"&Lists!$K4&H$14))=\"\",\"\",(INDIRECT(\"'\"&Lists!$J4&\"'!\"&Lists!$K4&H$14))))","v":""},{"$f":"IF(ISNA(Lists!$J4),\"\",IF((INDIRECT(\"'\"&Lists!$J4&\"'!\"&Lists!$K4&I$14))=\"\",\"\",(INDIRECT(\"'\"&Lists!$J4&\"'!\"&Lists!$K4&I$14))))","v":""},{"$f":"IF(ISNA(Lists!$J4),\"\",IF((INDIRECT(\"'\"&Lists!$J4&\"'!\"&Lists!$K4&J$14))=\"\",\"\",(INDIRECT(\"'\"&Lists!$J4&\"'!\"&Lists!$K4&J$14))))","v":""},{"$f":"IF(ISNA(Lists!$J4),\"\",IF((INDIRECT(\"'\"&Lists!$J4&\"'!\"&Lists!$K4&K$14))=\"\",\"\",(INDIRECT(\"'\"&Lists!$J4&\"'!\"&Lists!$K4&K$14))))","v":""},{"$f":"IF(ISNA(Lists!$J4),\"\",IF((INDIRECT(\"'\"&Lists!$J4&\"'!\"&Lists!$K4&L$14))=\"\",\"\",(INDIRECT(\"'\"&Lists!$J4&\"'!\"&Lists!$K4&L$14))))","v":""},{"$f":"IF(ISNA(Lists!$J4),\"\",IF((INDIRECT(\"'\"&Lists!$J4&\"'!\"&Lists!$K4&M$14))=\"\",\"\",(INDIRECT(\"'\"&Lists!$J4&\"'!\"&Lists!$K4&M$14))))","v":""},{"$f":"IF(ISNA(Lists!$J4),\"\",IF((INDIRECT(\"'\"&Lists!$J4&\"'!\"&Lists!$K4&N$14))=\"\",\"\",(INDIRECT(\"'\"&Lists!$J4&\"'!\"&Lists!$K4&N$14))))","v":""},{"$f":"IF(ISNA(Lists!$J4),\"\",IF((INDIRECT(\"'\"&Lists!$J4&\"'!\"&Lists!$K4&O$14))=\"\",\"\",(INDIRECT(\"'\"&Lists!$J4&\"'!\"&Lists!$K4&O$14))))","v":""},{"$f":"IF(ISNA(Lists!$J4),\"\",IF((INDIRECT(\"'\"&Lists!$J4&\"'!\"&Lists!$K4&P$14))=\"\",\"\",(INDIRECT(\"'\"&Lists!$J4&\"'!\"&Lists!$K4&P$14))))","v":""},{"$f":"IF(ISNA(Lists!$J4),\"\",IF((INDIRECT(\"'\"&Lists!$J4&\"'!\"&Lists!$K4&Q$14))=\"\",\"\",(INDIRECT(\"'\"&Lists!$J4&\"'!\"&Lists!$K4&Q$14))))","v":""},{"$f":"IF(ISNA(Lists!$J4),\"\",IF((INDIRECT(\"'\"&Lists!$J4&\"'!\"&Lists!$K4&R$14))=\"\",\"\",(INDIRECT(\"'\"&Lists!$J4&\"'!\"&Lists!$K4&R$14))))","v":""},{"$f":"IF(ISNA(Lists!$J4),\"\",IF((INDIRECT(\"'\"&Lists!$J4&\"'!\"&Lists!$K4&S$14))=\"\",\"\",(INDIRECT(\"'\"&Lists!$J4&\"'!\"&Lists!$K4&S$14))))","v":""},{"$f":"IF(ISNA(Lists!$J4),\"\",IF((INDIRECT(\"'\"&Lists!$J4&\"'!\"&Lists!$K4&T$14))=\"\",\"\",(INDIRECT(\"'\"&Lists!$J4&\"'!\"&Lists!$K4&T$14))))","v":""},{"$f":"IF(ISNA(Lists!$J4),\"\",IF((INDIRECT(\"'\"&Lists!$J4&\"'!\"&Lists!$L4&U$14))=\"\",\"\",(INDIRECT(\"'\"&Lists!$J4&\"'!\"&Lists!$L4&U$14))))","v":""},{"$f":"IF(ISNA(Lists!$J4),\"\",IF((INDIRECT(\"'\"&Lists!$J4&\"'!\"&Lists!$L4&V$14))=\"\",\"\",(INDIRECT(\"'\"&Lists!$J4&\"'!\"&Lists!$L4&V$14))))","v":""},{"$f":"IF(ISNA(Lists!$J4),\"\",IF((INDIRECT(\"'\"&Lists!$J4&\"'!\"&Lists!$L4&W$14))=\"\",\"\",(INDIRECT(\"'\"&Lists!$J4&\"'!\"&Lists!$L4&W$14))))","v":""},{"$f":"IF(ISNA(Lists!$J4),\"\",IF((INDIRECT(\"'\"&Lists!$J4&\"'!\"&Lists!$L4&X$14))=\"\",\"\",(INDIRECT(\"'\"&Lists!$J4&\"'!\"&Lists!$L4&X$14))))","v":""},{"$f":"IF(ISNA(Lists!$J4),\"\",IF((INDIRECT(\"'\"&Lists!$J4&\"'!\"&Lists!$L4&Y$14))=\"\",\"\",(INDIRECT(\"'\"&Lists!$J4&\"'!\"&Lists!$L4&Y$14))))","v":""},{"$f":"IF(ISNA(Lists!$J4),\"\",IF((INDIRECT(\"'\"&Lists!$J4&\"'!\"&Lists!$L4&Z$14))=\"\",\"\",(INDIRECT(\"'\"&Lists!$J4&\"'!\"&Lists!$L4&Z$14))))","v":""},{"$f":"IF(ISNA(Lists!$J4),\"\",IF((INDIRECT(\"'\"&Lists!$J4&\"'!\"&Lists!$L4&AA$14))=\"\",\"\",(INDIRECT(\"'\"&Lists!$J4&\"'!\"&Lists!$L4&AA$14))))","v":""},{"$f":"IF(ISNA(Lists!$J4),\"\",IF((INDIRECT(\"'\"&Lists!$J4&\"'!\"&Lists!$K4&AB$14))=\"\",\"\",(INDIRECT(\"'\"&Lists!$J4&\"'!\"&Lists!$K4&AB$14))))","v":""},{"$f":"IF(ISNA(Lists!$J4),\"\",IF((INDIRECT(\"'\"&Lists!$J4&\"'!\"&Lists!$K4&AC$14))=\"\",\"\",(INDIRECT(\"'\"&Lists!$J4&\"'!\"&Lists!$K4&AC$14))))","v":""},{"$f":"IF(ISNA(Lists!$J4),\"\",IF((INDIRECT(\"'\"&Lists!$J4&\"'!\"&Lists!$K4&AD$14))=\"\",\"\",(INDIRECT(\"'\"&Lists!$J4&\"'!\"&Lists!$K4&AD$14))))","v":""},{"$f":"IF(ISNA(Lists!$J4),\"\",IF((INDIRECT(\"'\"&Lists!$J4&\"'!\"&Lists!$K4&AE$14))=\"\",\"\",(INDIRECT(\"'\"&Lists!$J4&\"'!\"&Lists!$K4&AE$14))))","v":""},{"$f":"IF(ISNA(Lists!$J4),\"\",IF((INDIRECT(\"'\"&Lists!$J4&\"'!\"&Lists!$K4&AF$14))=\"\",\"\",(INDIRECT(\"'\"&Lists!$J4&\"'!\"&Lists!$K4&AF$14))))","v":""},{"$f":"IF(ISNA(Lists!$J4),\"\",IF((INDIRECT(\"'\"&Lists!$J4&\"'!\"&Lists!$K4&AG$14))=\"\",\"\",(INDIRECT(\"'\"&Lists!$J4&\"'!\"&Lists!$K4&AG$14))))","v":""},{"$f":"IF(ISNA(Lists!$J4),\"\",IF((INDIRECT(\"'\"&Lists!$J4&\"'!\"&Lists!$K4&AH$14))=\"\",\"\",(INDIRECT(\"'\"&Lists!$J4&\"'!\"&Lists!$K4&AH$14))))","v":""},{"$f":"IF(ISNA(Lists!$J4),\"\",IF((INDIRECT(\"'\"&Lists!$J4&\"'!\"&Lists!$K4&AI$14))=\"\",\"\",(INDIRECT(\"'\"&Lists!$J4&\"'!\"&Lists!$K4&AI$14))))","v":""},{"$f":"IF(ISNA(Lists!$J4),\"\",IF((INDIRECT(\"'\"&Lists!$J4&\"'!\"&Lists!$K4&AJ$14))=\"\",\"\",(INDIRECT(\"'\"&Lists!$J4&\"'!\"&Lists!$K4&AJ$14))))","v":""},{"$f":"IF(ISNA(Lists!$J4),\"\",IF((INDIRECT(\"'\"&Lists!$J4&\"'!\"&Lists!$K4&AK$14))=\"\",\"\",(INDIRECT(\"'\"&Lists!$J4&\"'!\"&Lists!$K4&AK$14))))","v":""}]
[{"$f":"IF(B18=\"\",\"\",' Facility_Info upload'!$A$24)","v":""},{"$f":"IF(ISNA(Lists!$J5),\"\",IF(INDIRECT(\"'\"&Lists!$J5&\"'!\"&\"B\"&B$14)=\"\",\"\",(INDIRECT(\"'\"&Lists!$J5&\"'!\"&\"B\"&B$14))))","v":""},{"$f":"IF(ISNA(Lists!$J5),\"\",IF(INDIRECT(\"'\"&Lists!$J5&\"'!\"&\"B\"&C$14)=\"\",\"\",(INDIRECT(\"'\"&Lists!$J5&\"'!\"&\"B\"&C$14))))","v":""},{"$f":"IF(ISNA(Lists!$J5),\"\",IF(INDIRECT(\"'\"&Lists!$J5&\"'!\"&\"B\"&D$14)=\"\",\"\",(INDIRECT(\"'\"&Lists!$J5&\"'!\"&\"B\"&D$14))))","v":""},{"$f":"IF(ISNA(Lists!$J5),\"\",IF(INDIRECT(\"'\"&Lists!$J5&\"'!\"&\"B\"&E$14)=\"\",\"\",(INDIRECT(\"'\"&Lists!$J5&\"'!\"&\"B\"&E$14))))","v":""},{"$f":"IF(ISNA(Lists!$J5),\"\",IF(INDIRECT(\"'\"&Lists!$J5&\"'!\"&\"B\"&F$14)=\"\",\"\",(INDIRECT(\"'\"&Lists!$J5&\"'!\"&\"B\"&F$14))))","v":""},{"$f":"IF(ISNA(Lists!$J5),\"\",IF((INDIRECT(\"'\"&Lists!$J5&\"'!\"&Lists!$K5&G$14))=\"\",\"\",(INDIRECT(\"'\"&Lists!$J5&\"'!\"&Lists!$K5&G$14))))","v":""},{"$f":"IF(ISNA(Lists!$J5),\"\",IF((INDIRECT(\"'\"&Lists!$J5&\"'!\"&Lists!$K5&H$14))=\"\",\"\",(INDIRECT(\"'\"&Lists!$J5&\"'!\"&Lists!$K5&H$14))))","v":""},{"$f":"IF(ISNA(Lists!$J5),\"\",IF((INDIRECT(\"'\"&Lists!$J5&\"'!\"&Lists!$K5&I$14))=\"\",\"\",(INDIRECT(\"'\"&Lists!$J5&\"'!\"&Lists!$K5&I$14))))","v":""},{"$f":"IF(ISNA(Lists!$J5),\"\",IF((INDIRECT(\"'\"&Lists!$J5&\"'!\"&Lists!$K5&J$14))=\"\",\"\",(INDIRECT(\"'\"&Lists!$J5&\"'!\"&Lists!$K5&J$14))))","v":""},{"$f":"IF(ISNA(Lists!$J5),\"\",IF((INDIRECT(\"'\"&Lists!$J5&\"'!\"&Lists!$K5&K$14))=\"\",\"\",(INDIRECT(\"'\"&Lists!$J5&\"'!\"&Lists!$K5&K$14))))","v":""},{"$f":"IF(ISNA(Lists!$J5),\"\",IF((INDIRECT(\"'\"&Lists!$J5&\"'!\"&Lists!$K5&L$14))=\"\",\"\",(INDIRECT(\"'\"&Lists!$J5&\"'!\"&Lists!$K5&L$14))))","v":""},{"$f":"IF(ISNA(Lists!$J5),\"\",IF((INDIRECT(\"'\"&Lists!$J5&\"'!\"&Lists!$K5&M$14))=\"\",\"\",(INDIRECT(\"'\"&Lists!$J5&\"'!\"&Lists!$K5&M$14))))","v":""},{"$f":"IF(ISNA(Lists!$J5),\"\",IF((INDIRECT(\"'\"&Lists!$J5&\"'!\"&Lists!$K5&N$14))=\"\",\"\",(INDIRECT(\"'\"&Lists!$J5&\"'!\"&Lists!$K5&N$14))))","v":""},{"$f":"IF(ISNA(Lists!$J5),\"\",IF((INDIRECT(\"'\"&Lists!$J5&\"'!\"&Lists!$K5&O$14))=\"\",\"\",(INDIRECT(\"'\"&Lists!$J5&\"'!\"&Lists!$K5&O$14))))","v":""},{"$f":"IF(ISNA(Lists!$J5),\"\",IF((INDIRECT(\"'\"&Lists!$J5&\"'!\"&Lists!$K5&P$14))=\"\",\"\",(INDIRECT(\"'\"&Lists!$J5&\"'!\"&Lists!$K5&P$14))))","v":""},{"$f":"IF(ISNA(Lists!$J5),\"\",IF((INDIRECT(\"'\"&Lists!$J5&\"'!\"&Lists!$K5&Q$14))=\"\",\"\",(INDIRECT(\"'\"&Lists!$J5&\"'!\"&Lists!$K5&Q$14))))","v":""},{"$f":"IF(ISNA(Lists!$J5),\"\",IF((INDIRECT(\"'\"&Lists!$J5&\"'!\"&Lists!$K5&R$14))=\"\",\"\",(INDIRECT(\"'\"&Lists!$J5&\"'!\"&Lists!$K5&R$14))))","v":""},{"$f":"IF(ISNA(Lists!$J5),\"\",IF((INDIRECT(\"'\"&Lists!$J5&\"'!\"&Lists!$K5&S$14))=\"\",\"\",(INDIRECT(\"'\"&Lists!$J5&\"'!\"&Lists!$K5&S$14))))","v":""},{"$f":"IF(ISNA(Lists!$J5),\"\",IF((INDIRECT(\"'\"&Lists!$J5&\"'!\"&Lists!$K5&T$14))=\"\",\"\",(INDIRECT(\"'\"&Lists!$J5&\"'!\"&Lists!$K5&T$14))))","v":""},{"$f":"IF(ISNA(Lists!$J5),\"\",IF((INDIRECT(\"'\"&Lists!$J5&\"'!\"&Lists!$L5&U$14))=\"\",\"\",(INDIRECT(\"'\"&Lists!$J5&\"'!\"&Lists!$L5&U$14))))","v":""},{"$f":"IF(ISNA(Lists!$J5),\"\",IF((INDIRECT(\"'\"&Lists!$J5&\"'!\"&Lists!$L5&V$14))=\"\",\"\",(INDIRECT(\"'\"&Lists!$J5&\"'!\"&Lists!$L5&V$14))))","v":""},{"$f":"IF(ISNA(Lists!$J5),\"\",IF((INDIRECT(\"'\"&Lists!$J5&\"'!\"&Lists!$L5&W$14))=\"\",\"\",(INDIRECT(\"'\"&Lists!$J5&\"'!\"&Lists!$L5&W$14))))","v":""},{"$f":"IF(ISNA(Lists!$J5),\"\",IF((INDIRECT(\"'\"&Lists!$J5&\"'!\"&Lists!$L5&X$14))=\"\",\"\",(INDIRECT(\"'\"&Lists!$J5&\"'!\"&Lists!$L5&X$14))))","v":""},{"$f":"IF(ISNA(Lists!$J5),\"\",IF((INDIRECT(\"'\"&Lists!$J5&\"'!\"&Lists!$L5&Y$14))=\"\",\"\",(INDIRECT(\"'\"&Lists!$J5&\"'!\"&Lists!$L5&Y$14))))","v":""},{"$f":"IF(ISNA(Lists!$J5),\"\",IF((INDIRECT(\"'\"&Lists!$J5&\"'!\"&Lists!$L5&Z$14))=\"\",\"\",(INDIRECT(\"'\"&Lists!$J5&\"'!\"&Lists!$L5&Z$14))))","v":""},{"$f":"IF(ISNA(Lists!$J5),\"\",IF((INDIRECT(\"'\"&Lists!$J5&\"'!\"&Lists!$L5&AA$14))=\"\",\"\",(INDIRECT(\"'\"&Lists!$J5&\"'!\"&Lists!$L5&AA$14))))","v":""},{"$f":"IF(ISNA(Lists!$J5),\"\",IF((INDIRECT(\"'\"&Lists!$J5&\"'!\"&Lists!$K5&AB$14))=\"\",\"\",(INDIRECT(\"'\"&Lists!$J5&\"'!\"&Lists!$K5&AB$14))))","v":""},{"$f":"IF(ISNA(Lists!$J5),\"\",IF((INDIRECT(\"'\"&Lists!$J5&\"'!\"&Lists!$K5&AC$14))=\"\",\"\",(INDIRECT(\"'\"&Lists!$J5&\"'!\"&Lists!$K5&AC$14))))","v":""},{"$f":"IF(ISNA(Lists!$J5),\"\",IF((INDIRECT(\"'\"&Lists!$J5&\"'!\"&Lists!$K5&AD$14))=\"\",\"\",(INDIRECT(\"'\"&Lists!$J5&\"'!\"&Lists!$K5&AD$14))))","v":""},{"$f":"IF(ISNA(Lists!$J5),\"\",IF((INDIRECT(\"'\"&Lists!$J5&\"'!\"&Lists!$K5&AE$14))=\"\",\"\",(INDIRECT(\"'\"&Lists!$J5&\"'!\"&Lists!$K5&AE$14))))","v":""},{"$f":"IF(ISNA(Lists!$J5),\"\",IF((INDIRECT(\"'\"&Lists!$J5&\"'!\"&Lists!$K5&AF$14))=\"\",\"\",(INDIRECT(\"'\"&Lists!$J5&\"'!\"&Lists!$K5&AF$14))))","v":""},{"$f":"IF(ISNA(Lists!$J5),\"\",IF((INDIRECT(\"'\"&Lists!$J5&\"'!\"&Lists!$K5&AG$14))=\"\",\"\",(INDIRECT(\"'\"&Lists!$J5&\"'!\"&Lists!$K5&AG$14))))","v":""},{"$f":"IF(ISNA(Lists!$J5),\"\",IF((INDIRECT(\"'\"&Lists!$J5&\"'!\"&Lists!$K5&AH$14))=\"\",\"\",(INDIRECT(\"'\"&Lists!$J5&\"'!\"&Lists!$K5&AH$14))))","v":""},{"$f":"IF(ISNA(Lists!$J5),\"\",IF((INDIRECT(\"'\"&Lists!$J5&\"'!\"&Lists!$K5&AI$14))=\"\",\"\",(INDIRECT(\"'\"&Lists!$J5&\"'!\"&Lists!$K5&AI$14))))","v":""},{"$f":"IF(ISNA(Lists!$J5),\"\",IF((INDIRECT(\"'\"&Lists!$J5&\"'!\"&Lists!$K5&AJ$14))=\"\",\"\",(INDIRECT(\"'\"&Lists!$J5&\"'!\"&Lists!$K5&AJ$14))))","v":""},{"$f":"IF(ISNA(Lists!$J5),\"\",IF((INDIRECT(\"'\"&Lists!$J5&\"'!\"&Lists!$K5&AK$14))=\"\",\"\",(INDIRECT(\"'\"&Lists!$J5&\"'!\"&Lists!$K5&AK$14))))","v":""}]
[{"$f":"IF(B19=\"\",\"\",' Facility_Info upload'!$A$24)","v":""},{"$f":"IF(ISNA(Lists!$J6),\"\",IF(INDIRECT(\"'\"&Lists!$J6&\"'!\"&\"B\"&B$14)=\"\",\"\",(INDIRECT(\"'\"&Lists!$J6&\"'!\"&\"B\"&B$14))))","v":""},{"$f":"IF(ISNA(Lists!$J6),\"\",IF(INDIRECT(\"'\"&Lists!$J6&\"'!\"&\"B\"&C$14)=\"\",\"\",(INDIRECT(\"'\"&Lists!$J6&\"'!\"&\"B\"&C$14))))","v":""},{"$f":"IF(ISNA(Lists!$J6),\"\",IF(INDIRECT(\"'\"&Lists!$J6&\"'!\"&\"B\"&D$14)=\"\",\"\",(INDIRECT(\"'\"&Lists!$J6&\"'!\"&\"B\"&D$14))))","v":""},{"$f":"IF(ISNA(Lists!$J6),\"\",IF(INDIRECT(\"'\"&Lists!$J6&\"'!\"&\"B\"&E$14)=\"\",\"\",(INDIRECT(\"'\"&Lists!$J6&\"'!\"&\"B\"&E$14))))","v":""},{"$f":"IF(ISNA(Lists!$J6),\"\",IF(INDIRECT(\"'\"&Lists!$J6&\"'!\"&\"B\"&F$14)=\"\",\"\",(INDIRECT(\"'\"&Lists!$J6&\"'!\"&\"B\"&F$14))))","v":""},{"$f":"IF(ISNA(Lists!$J6),\"\",IF((INDIRECT(\"'\"&Lists!$J6&\"'!\"&Lists!$K6&G$14))=\"\",\"\",(INDIRECT(\"'\"&Lists!$J6&\"'!\"&Lists!$K6&G$14))))","v":""},{"$f":"IF(ISNA(Lists!$J6),\"\",IF((INDIRECT(\"'\"&Lists!$J6&\"'!\"&Lists!$K6&H$14))=\"\",\"\",(INDIRECT(\"'\"&Lists!$J6&\"'!\"&Lists!$K6&H$14))))","v":""},{"$f":"IF(ISNA(Lists!$J6),\"\",IF((INDIRECT(\"'\"&Lists!$J6&\"'!\"&Lists!$K6&I$14))=\"\",\"\",(INDIRECT(\"'\"&Lists!$J6&\"'!\"&Lists!$K6&I$14))))","v":""},{"$f":"IF(ISNA(Lists!$J6),\"\",IF((INDIRECT(\"'\"&Lists!$J6&\"'!\"&Lists!$K6&J$14))=\"\",\"\",(INDIRECT(\"'\"&Lists!$J6&\"'!\"&Lists!$K6&J$14))))","v":""},{"$f":"IF(ISNA(Lists!$J6),\"\",IF((INDIRECT(\"'\"&Lists!$J6&\"'!\"&Lists!$K6&K$14))=\"\",\"\",(INDIRECT(\"'\"&Lists!$J6&\"'!\"&Lists!$K6&K$14))))","v":""},{"$f":"IF(ISNA(Lists!$J6),\"\",IF((INDIRECT(\"'\"&Lists!$J6&\"'!\"&Lists!$K6&L$14))=\"\",\"\",(INDIRECT(\"'\"&Lists!$J6&\"'!\"&Lists!$K6&L$14))))","v":""},{"$f":"IF(ISNA(Lists!$J6),\"\",IF((INDIRECT(\"'\"&Lists!$J6&\"'!\"&Lists!$K6&M$14))=\"\",\"\",(INDIRECT(\"'\"&Lists!$J6&\"'!\"&Lists!$K6&M$14))))","v":""},{"$f":"IF(ISNA(Lists!$J6),\"\",IF((INDIRECT(\"'\"&Lists!$J6&\"'!\"&Lists!$K6&N$14))=\"\",\"\",(INDIRECT(\"'\"&Lists!$J6&\"'!\"&Lists!$K6&N$14))))","v":""},{"$f":"IF(ISNA(Lists!$J6),\"\",IF((INDIRECT(\"'\"&Lists!$J6&\"'!\"&Lists!$K6&O$14))=\"\",\"\",(INDIRECT(\"'\"&Lists!$J6&\"'!\"&Lists!$K6&O$14))))","v":""},{"$f":"IF(ISNA(Lists!$J6),\"\",IF((INDIRECT(\"'\"&Lists!$J6&\"'!\"&Lists!$K6&P$14))=\"\",\"\",(INDIRECT(\"'\"&Lists!$J6&\"'!\"&Lists!$K6&P$14))))","v":""},{"$f":"IF(ISNA(Lists!$J6),\"\",IF((INDIRECT(\"'\"&Lists!$J6&\"'!\"&Lists!$K6&Q$14))=\"\",\"\",(INDIRECT(\"'\"&Lists!$J6&\"'!\"&Lists!$K6&Q$14))))","v":""},{"$f":"IF(ISNA(Lists!$J6),\"\",IF((INDIRECT(\"'\"&Lists!$J6&\"'!\"&Lists!$K6&R$14))=\"\",\"\",(INDIRECT(\"'\"&Lists!$J6&\"'!\"&Lists!$K6&R$14))))","v":""},{"$f":"IF(ISNA(Lists!$J6),\"\",IF((INDIRECT(\"'\"&Lists!$J6&\"'!\"&Lists!$K6&S$14))=\"\",\"\",(INDIRECT(\"'\"&Lists!$J6&\"'!\"&Lists!$K6&S$14))))","v":""},{"$f":"IF(ISNA(Lists!$J6),\"\",IF((INDIRECT(\"'\"&Lists!$J6&\"'!\"&Lists!$K6&T$14))=\"\",\"\",(INDIRECT(\"'\"&Lists!$J6&\"'!\"&Lists!$K6&T$14))))","v":""},{"$f":"IF(ISNA(Lists!$J6),\"\",IF((INDIRECT(\"'\"&Lists!$J6&\"'!\"&Lists!$L6&U$14))=\"\",\"\",(INDIRECT(\"'\"&Lists!$J6&\"'!\"&Lists!$L6&U$14))))","v":""},{"$f":"IF(ISNA(Lists!$J6),\"\",IF((INDIRECT(\"'\"&Lists!$J6&\"'!\"&Lists!$L6&V$14))=\"\",\"\",(INDIRECT(\"'\"&Lists!$J6&\"'!\"&Lists!$L6&V$14))))","v":""},{"$f":"IF(ISNA(Lists!$J6),\"\",IF((INDIRECT(\"'\"&Lists!$J6&\"'!\"&Lists!$L6&W$14))=\"\",\"\",(INDIRECT(\"'\"&Lists!$J6&\"'!\"&Lists!$L6&W$14))))","v":""},{"$f":"IF(ISNA(Lists!$J6),\"\",IF((INDIRECT(\"'\"&Lists!$J6&\"'!\"&Lists!$L6&X$14))=\"\",\"\",(INDIRECT(\"'\"&Lists!$J6&\"'!\"&Lists!$L6&X$14))))","v":""},{"$f":"IF(ISNA(Lists!$J6),\"\",IF((INDIRECT(\"'\"&Lists!$J6&\"'!\"&Lists!$L6&Y$14))=\"\",\"\",(INDIRECT(\"'\"&Lists!$J6&\"'!\"&Lists!$L6&Y$14))))","v":""},{"$f":"IF(ISNA(Lists!$J6),\"\",IF((INDIRECT(\"'\"&Lists!$J6&\"'!\"&Lists!$L6&Z$14))=\"\",\"\",(INDIRECT(\"'\"&Lists!$J6&\"'!\"&Lists!$L6&Z$14))))","v":""},{"$f":"IF(ISNA(Lists!$J6),\"\",IF((INDIRECT(\"'\"&Lists!$J6&\"'!\"&Lists!$L6&AA$14))=\"\",\"\",(INDIRECT(\"'\"&Lists!$J6&\"'!\"&Lists!$L6&AA$14))))","v":""},{"$f":"IF(ISNA(Lists!$J6),\"\",IF((INDIRECT(\"'\"&Lists!$J6&\"'!\"&Lists!$K6&AB$14))=\"\",\"\",(INDIRECT(\"'\"&Lists!$J6&\"'!\"&Lists!$K6&AB$14))))","v":""},{"$f":"IF(ISNA(Lists!$J6),\"\",IF((INDIRECT(\"'\"&Lists!$J6&\"'!\"&Lists!$K6&AC$14))=\"\",\"\",(INDIRECT(\"'\"&Lists!$J6&\"'!\"&Lists!$K6&AC$14))))","v":""},{"$f":"IF(ISNA(Lists!$J6),\"\",IF((INDIRECT(\"'\"&Lists!$J6&\"'!\"&Lists!$K6&AD$14))=\"\",\"\",(INDIRECT(\"'\"&Lists!$J6&\"'!\"&Lists!$K6&AD$14))))","v":""},{"$f":"IF(ISNA(Lists!$J6),\"\",IF((INDIRECT(\"'\"&Lists!$J6&\"'!\"&Lists!$K6&AE$14))=\"\",\"\",(INDIRECT(\"'\"&Lists!$J6&\"'!\"&Lists!$K6&AE$14))))","v":""},{"$f":"IF(ISNA(Lists!$J6),\"\",IF((INDIRECT(\"'\"&Lists!$J6&\"'!\"&Lists!$K6&AF$14))=\"\",\"\",(INDIRECT(\"'\"&Lists!$J6&\"'!\"&Lists!$K6&AF$14))))","v":""},{"$f":"IF(ISNA(Lists!$J6),\"\",IF((INDIRECT(\"'\"&Lists!$J6&\"'!\"&Lists!$K6&AG$14))=\"\",\"\",(INDIRECT(\"'\"&Lists!$J6&\"'!\"&Lists!$K6&AG$14))))","v":""},{"$f":"IF(ISNA(Lists!$J6),\"\",IF((INDIRECT(\"'\"&Lists!$J6&\"'!\"&Lists!$K6&AH$14))=\"\",\"\",(INDIRECT(\"'\"&Lists!$J6&\"'!\"&Lists!$K6&AH$14))))","v":""},{"$f":"IF(ISNA(Lists!$J6),\"\",IF((INDIRECT(\"'\"&Lists!$J6&\"'!\"&Lists!$K6&AI$14))=\"\",\"\",(INDIRECT(\"'\"&Lists!$J6&\"'!\"&Lists!$K6&AI$14))))","v":""},{"$f":"IF(ISNA(Lists!$J6),\"\",IF((INDIRECT(\"'\"&Lists!$J6&\"'!\"&Lists!$K6&AJ$14))=\"\",\"\",(INDIRECT(\"'\"&Lists!$J6&\"'!\"&Lists!$K6&AJ$14))))","v":""},{"$f":"IF(ISNA(Lists!$J6),\"\",IF((INDIRECT(\"'\"&Lists!$J6&\"'!\"&Lists!$K6&AK$14))=\"\",\"\",(INDIRECT(\"'\"&Lists!$J6&\"'!\"&Lists!$K6&AK$14))))","v":""}]
[{"$f":"IF(B20=\"\",\"\",' Facility_Info upload'!$A$24)","v":""},{"$f":"IF(ISNA(Lists!$J7),\"\",IF(INDIRECT(\"'\"&Lists!$J7&\"'!\"&\"B\"&B$14)=\"\",\"\",(INDIRECT(\"'\"&Lists!$J7&\"'!\"&\"B\"&B$14))))","v":""},{"$f":"IF(ISNA(Lists!$J7),\"\",IF(INDIRECT(\"'\"&Lists!$J7&\"'!\"&\"B\"&C$14)=\"\",\"\",(INDIRECT(\"'\"&Lists!$J7&\"'!\"&\"B\"&C$14))))","v":""},{"$f":"IF(ISNA(Lists!$J7),\"\",IF(INDIRECT(\"'\"&Lists!$J7&\"'!\"&\"B\"&D$14)=\"\",\"\",(INDIRECT(\"'\"&Lists!$J7&\"'!\"&\"B\"&D$14))))","v":""},{"$f":"IF(ISNA(Lists!$J7),\"\",IF(INDIRECT(\"'\"&Lists!$J7&\"'!\"&\"B\"&E$14)=\"\",\"\",(INDIRECT(\"'\"&Lists!$J7&\"'!\"&\"B\"&E$14))))","v":""},{"$f":"IF(ISNA(Lists!$J7),\"\",IF(INDIRECT(\"'\"&Lists!$J7&\"'!\"&\"B\"&F$14)=\"\",\"\",(INDIRECT(\"'\"&Lists!$J7&\"'!\"&\"B\"&F$14))))","v":""},{"$f":"IF(ISNA(Lists!$J7),\"\",IF((INDIRECT(\"'\"&Lists!$J7&\"'!\"&Lists!$K7&G$14))=\"\",\"\",(INDIRECT(\"'\"&Lists!$J7&\"'!\"&Lists!$K7&G$14))))","v":""},{"$f":"IF(ISNA(Lists!$J7),\"\",IF((INDIRECT(\"'\"&Lists!$J7&\"'!\"&Lists!$K7&H$14))=\"\",\"\",(INDIRECT(\"'\"&Lists!$J7&\"'!\"&Lists!$K7&H$14))))","v":""},{"$f":"IF(ISNA(Lists!$J7),\"\",IF((INDIRECT(\"'\"&Lists!$J7&\"'!\"&Lists!$K7&I$14))=\"\",\"\",(INDIRECT(\"'\"&Lists!$J7&\"'!\"&Lists!$K7&I$14))))","v":""},{"$f":"IF(ISNA(Lists!$J7),\"\",IF((INDIRECT(\"'\"&Lists!$J7&\"'!\"&Lists!$K7&J$14))=\"\",\"\",(INDIRECT(\"'\"&Lists!$J7&\"'!\"&Lists!$K7&J$14))))","v":""},{"$f":"IF(ISNA(Lists!$J7),\"\",IF((INDIRECT(\"'\"&Lists!$J7&\"'!\"&Lists!$K7&K$14))=\"\",\"\",(INDIRECT(\"'\"&Lists!$J7&\"'!\"&Lists!$K7&K$14))))","v":""},{"$f":"IF(ISNA(Lists!$J7),\"\",IF((INDIRECT(\"'\"&Lists!$J7&\"'!\"&Lists!$K7&L$14))=\"\",\"\",(INDIRECT(\"'\"&Lists!$J7&\"'!\"&Lists!$K7&L$14))))","v":""},{"$f":"IF(ISNA(Lists!$J7),\"\",IF((INDIRECT(\"'\"&Lists!$J7&\"'!\"&Lists!$K7&M$14))=\"\",\"\",(INDIRECT(\"'\"&Lists!$J7&\"'!\"&Lists!$K7&M$14))))","v":""},{"$f":"IF(ISNA(Lists!$J7),\"\",IF((INDIRECT(\"'\"&Lists!$J7&\"'!\"&Lists!$K7&N$14))=\"\",\"\",(INDIRECT(\"'\"&Lists!$J7&\"'!\"&Lists!$K7&N$14))))","v":""},{"$f":"IF(ISNA(Lists!$J7),\"\",IF((INDIRECT(\"'\"&Lists!$J7&\"'!\"&Lists!$K7&O$14))=\"\",\"\",(INDIRECT(\"'\"&Lists!$J7&\"'!\"&Lists!$K7&O$14))))","v":""},{"$f":"IF(ISNA(Lists!$J7),\"\",IF((INDIRECT(\"'\"&Lists!$J7&\"'!\"&Lists!$K7&P$14))=\"\",\"\",(INDIRECT(\"'\"&Lists!$J7&\"'!\"&Lists!$K7&P$14))))","v":""},{"$f":"IF(ISNA(Lists!$J7),\"\",IF((INDIRECT(\"'\"&Lists!$J7&\"'!\"&Lists!$K7&Q$14))=\"\",\"\",(INDIRECT(\"'\"&Lists!$J7&\"'!\"&Lists!$K7&Q$14))))","v":""},{"$f":"IF(ISNA(Lists!$J7),\"\",IF((INDIRECT(\"'\"&Lists!$J7&\"'!\"&Lists!$K7&R$14))=\"\",\"\",(INDIRECT(\"'\"&Lists!$J7&\"'!\"&Lists!$K7&R$14))))","v":""},{"$f":"IF(ISNA(Lists!$J7),\"\",IF((INDIRECT(\"'\"&Lists!$J7&\"'!\"&Lists!$K7&S$14))=\"\",\"\",(INDIRECT(\"'\"&Lists!$J7&\"'!\"&Lists!$K7&S$14))))","v":""},{"$f":"IF(ISNA(Lists!$J7),\"\",IF((INDIRECT(\"'\"&Lists!$J7&\"'!\"&Lists!$K7&T$14))=\"\",\"\",(INDIRECT(\"'\"&Lists!$J7&\"'!\"&Lists!$K7&T$14))))","v":""},{"$f":"IF(ISNA(Lists!$J7),\"\",IF((INDIRECT(\"'\"&Lists!$J7&\"'!\"&Lists!$L7&U$14))=\"\",\"\",(INDIRECT(\"'\"&Lists!$J7&\"'!\"&Lists!$L7&U$14))))","v":""},{"$f":"IF(ISNA(Lists!$J7),\"\",IF((INDIRECT(\"'\"&Lists!$J7&\"'!\"&Lists!$L7&V$14))=\"\",\"\",(INDIRECT(\"'\"&Lists!$J7&\"'!\"&Lists!$L7&V$14))))","v":""},{"$f":"IF(ISNA(Lists!$J7),\"\",IF((INDIRECT(\"'\"&Lists!$J7&\"'!\"&Lists!$L7&W$14))=\"\",\"\",(INDIRECT(\"'\"&Lists!$J7&\"'!\"&Lists!$L7&W$14))))","v":""},{"$f":"IF(ISNA(Lists!$J7),\"\",IF((INDIRECT(\"'\"&Lists!$J7&\"'!\"&Lists!$L7&X$14))=\"\",\"\",(INDIRECT(\"'\"&Lists!$J7&\"'!\"&Lists!$L7&X$14))))","v":""},{"$f":"IF(ISNA(Lists!$J7),\"\",IF((INDIRECT(\"'\"&Lists!$J7&\"'!\"&Lists!$L7&Y$14))=\"\",\"\",(INDIRECT(\"'\"&Lists!$J7&\"'!\"&Lists!$L7&Y$14))))","v":""},{"$f":"IF(ISNA(Lists!$J7),\"\",IF((INDIRECT(\"'\"&Lists!$J7&\"'!\"&Lists!$L7&Z$14))=\"\",\"\",(INDIRECT(\"'\"&Lists!$J7&\"'!\"&Lists!$L7&Z$14))))","v":""},{"$f":"IF(ISNA(Lists!$J7),\"\",IF((INDIRECT(\"'\"&Lists!$J7&\"'!\"&Lists!$L7&AA$14))=\"\",\"\",(INDIRECT(\"'\"&Lists!$J7&\"'!\"&Lists!$L7&AA$14))))","v":""},{"$f":"IF(ISNA(Lists!$J7),\"\",IF((INDIRECT(\"'\"&Lists!$J7&\"'!\"&Lists!$K7&AB$14))=\"\",\"\",(INDIRECT(\"'\"&Lists!$J7&\"'!\"&Lists!$K7&AB$14))))","v":""},{"$f":"IF(ISNA(Lists!$J7),\"\",IF((INDIRECT(\"'\"&Lists!$J7&\"'!\"&Lists!$K7&AC$14))=\"\",\"\",(INDIRECT(\"'\"&Lists!$J7&\"'!\"&Lists!$K7&AC$14))))","v":""},{"$f":"IF(ISNA(Lists!$J7),\"\",IF((INDIRECT(\"'\"&Lists!$J7&\"'!\"&Lists!$K7&AD$14))=\"\",\"\",(INDIRECT(\"'\"&Lists!$J7&\"'!\"&Lists!$K7&AD$14))))","v":""},{"$f":"IF(ISNA(Lists!$J7),\"\",IF((INDIRECT(\"'\"&Lists!$J7&\"'!\"&Lists!$K7&AE$14))=\"\",\"\",(INDIRECT(\"'\"&Lists!$J7&\"'!\"&Lists!$K7&AE$14))))","v":""},{"$f":"IF(ISNA(Lists!$J7),\"\",IF((INDIRECT(\"'\"&Lists!$J7&\"'!\"&Lists!$K7&AF$14))=\"\",\"\",(INDIRECT(\"'\"&Lists!$J7&\"'!\"&Lists!$K7&AF$14))))","v":""},{"$f":"IF(ISNA(Lists!$J7),\"\",IF((INDIRECT(\"'\"&Lists!$J7&\"'!\"&Lists!$K7&AG$14))=\"\",\"\",(INDIRECT(\"'\"&Lists!$J7&\"'!\"&Lists!$K7&AG$14))))","v":""},{"$f":"IF(ISNA(Lists!$J7),\"\",IF((INDIRECT(\"'\"&Lists!$J7&\"'!\"&Lists!$K7&AH$14))=\"\",\"\",(INDIRECT(\"'\"&Lists!$J7&\"'!\"&Lists!$K7&AH$14))))","v":""},{"$f":"IF(ISNA(Lists!$J7),\"\",IF((INDIRECT(\"'\"&Lists!$J7&\"'!\"&Lists!$K7&AI$14))=\"\",\"\",(INDIRECT(\"'\"&Lists!$J7&\"'!\"&Lists!$K7&AI$14))))","v":""},{"$f":"IF(ISNA(Lists!$J7),\"\",IF((INDIRECT(\"'\"&Lists!$J7&\"'!\"&Lists!$K7&AJ$14))=\"\",\"\",(INDIRECT(\"'\"&Lists!$J7&\"'!\"&Lists!$K7&AJ$14))))","v":""},{"$f":"IF(ISNA(Lists!$J7),\"\",IF((INDIRECT(\"'\"&Lists!$J7&\"'!\"&Lists!$K7&AK$14))=\"\",\"\",(INDIRECT(\"'\"&Lists!$J7&\"'!\"&Lists!$K7&AK$14))))","v":""}]
[{"$f":"IF(B21=\"\",\"\",' Facility_Info upload'!$A$24)","v":""},{"$f":"IF(ISNA(Lists!$J8),\"\",IF(INDIRECT(\"'\"&Lists!$J8&\"'!\"&\"B\"&B$14)=\"\",\"\",(INDIRECT(\"'\"&Lists!$J8&\"'!\"&\"B\"&B$14))))","v":""},{"$f":"IF(ISNA(Lists!$J8),\"\",IF(INDIRECT(\"'\"&Lists!$J8&\"'!\"&\"B\"&C$14)=\"\",\"\",(INDIRECT(\"'\"&Lists!$J8&\"'!\"&\"B\"&C$14))))","v":""},{"$f":"IF(ISNA(Lists!$J8),\"\",IF(INDIRECT(\"'\"&Lists!$J8&\"'!\"&\"B\"&D$14)=\"\",\"\",(INDIRECT(\"'\"&Lists!$J8&\"'!\"&\"B\"&D$14))))","v":""},{"$f":"IF(ISNA(Lists!$J8),\"\",IF(INDIRECT(\"'\"&Lists!$J8&\"'!\"&\"B\"&E$14)=\"\",\"\",(INDIRECT(\"'\"&Lists!$J8&\"'!\"&\"B\"&E$14))))","v":""},{"$f":"IF(ISNA(Lists!$J8),\"\",IF(INDIRECT(\"'\"&Lists!$J8&\"'!\"&\"B\"&F$14)=\"\",\"\",(INDIRECT(\"'\"&Lists!$J8&\"'!\"&\"B\"&F$14))))","v":""},{"$f":"IF(ISNA(Lists!$J8),\"\",IF((INDIRECT(\"'\"&Lists!$J8&\"'!\"&Lists!$K8&G$14))=\"\",\"\",(INDIRECT(\"'\"&Lists!$J8&\"'!\"&Lists!$K8&G$14))))","v":""},{"$f":"IF(ISNA(Lists!$J8),\"\",IF((INDIRECT(\"'\"&Lists!$J8&\"'!\"&Lists!$K8&H$14))=\"\",\"\",(INDIRECT(\"'\"&Lists!$J8&\"'!\"&Lists!$K8&H$14))))","v":""},{"$f":"IF(ISNA(Lists!$J8),\"\",IF((INDIRECT(\"'\"&Lists!$J8&\"'!\"&Lists!$K8&I$14))=\"\",\"\",(INDIRECT(\"'\"&Lists!$J8&\"'!\"&Lists!$K8&I$14))))","v":""},{"$f":"IF(ISNA(Lists!$J8),\"\",IF((INDIRECT(\"'\"&Lists!$J8&\"'!\"&Lists!$K8&J$14))=\"\",\"\",(INDIRECT(\"'\"&Lists!$J8&\"'!\"&Lists!$K8&J$14))))","v":""},{"$f":"IF(ISNA(Lists!$J8),\"\",IF((INDIRECT(\"'\"&Lists!$J8&\"'!\"&Lists!$K8&K$14))=\"\",\"\",(INDIRECT(\"'\"&Lists!$J8&\"'!\"&Lists!$K8&K$14))))","v":""},{"$f":"IF(ISNA(Lists!$J8),\"\",IF((INDIRECT(\"'\"&Lists!$J8&\"'!\"&Lists!$K8&L$14))=\"\",\"\",(INDIRECT(\"'\"&Lists!$J8&\"'!\"&Lists!$K8&L$14))))","v":""},{"$f":"IF(ISNA(Lists!$J8),\"\",IF((INDIRECT(\"'\"&Lists!$J8&\"'!\"&Lists!$K8&M$14))=\"\",\"\",(INDIRECT(\"'\"&Lists!$J8&\"'!\"&Lists!$K8&M$14))))","v":""},{"$f":"IF(ISNA(Lists!$J8),\"\",IF((INDIRECT(\"'\"&Lists!$J8&\"'!\"&Lists!$K8&N$14))=\"\",\"\",(INDIRECT(\"'\"&Lists!$J8&\"'!\"&Lists!$K8&N$14))))","v":""},{"$f":"IF(ISNA(Lists!$J8),\"\",IF((INDIRECT(\"'\"&Lists!$J8&\"'!\"&Lists!$K8&O$14))=\"\",\"\",(INDIRECT(\"'\"&Lists!$J8&\"'!\"&Lists!$K8&O$14))))","v":""},{"$f":"IF(ISNA(Lists!$J8),\"\",IF((INDIRECT(\"'\"&Lists!$J8&\"'!\"&Lists!$K8&P$14))=\"\",\"\",(INDIRECT(\"'\"&Lists!$J8&\"'!\"&Lists!$K8&P$14))))","v":""},{"$f":"IF(ISNA(Lists!$J8),\"\",IF((INDIRECT(\"'\"&Lists!$J8&\"'!\"&Lists!$K8&Q$14))=\"\",\"\",(INDIRECT(\"'\"&Lists!$J8&\"'!\"&Lists!$K8&Q$14))))","v":""},{"$f":"IF(ISNA(Lists!$J8),\"\",IF((INDIRECT(\"'\"&Lists!$J8&\"'!\"&Lists!$K8&R$14))=\"\",\"\",(INDIRECT(\"'\"&Lists!$J8&\"'!\"&Lists!$K8&R$14))))","v":""},{"$f":"IF(ISNA(Lists!$J8),\"\",IF((INDIRECT(\"'\"&Lists!$J8&\"'!\"&Lists!$K8&S$14))=\"\",\"\",(INDIRECT(\"'\"&Lists!$J8&\"'!\"&Lists!$K8&S$14))))","v":""},{"$f":"IF(ISNA(Lists!$J8),\"\",IF((INDIRECT(\"'\"&Lists!$J8&\"'!\"&Lists!$K8&T$14))=\"\",\"\",(INDIRECT(\"'\"&Lists!$J8&\"'!\"&Lists!$K8&T$14))))","v":""},{"$f":"IF(ISNA(Lists!$J8),\"\",IF((INDIRECT(\"'\"&Lists!$J8&\"'!\"&Lists!$L8&U$14))=\"\",\"\",(INDIRECT(\"'\"&Lists!$J8&\"'!\"&Lists!$L8&U$14))))","v":""},{"$f":"IF(ISNA(Lists!$J8),\"\",IF((INDIRECT(\"'\"&Lists!$J8&\"'!\"&Lists!$L8&V$14))=\"\",\"\",(INDIRECT(\"'\"&Lists!$J8&\"'!\"&Lists!$L8&V$14))))","v":""},{"$f":"IF(ISNA(Lists!$J8),\"\",IF((INDIRECT(\"'\"&Lists!$J8&\"'!\"&Lists!$L8&W$14))=\"\",\"\",(INDIRECT(\"'\"&Lists!$J8&\"'!\"&Lists!$L8&W$14))))","v":""},{"$f":"IF(ISNA(Lists!$J8),\"\",IF((INDIRECT(\"'\"&Lists!$J8&\"'!\"&Lists!$L8&X$14))=\"\",\"\",(INDIRECT(\"'\"&Lists!$J8&\"'!\"&Lists!$L8&X$14))))","v":""},{"$f":"IF(ISNA(Lists!$J8),\"\",IF((INDIRECT(\"'\"&Lists!$J8&\"'!\"&Lists!$L8&Y$14))=\"\",\"\",(INDIRECT(\"'\"&Lists!$J8&\"'!\"&Lists!$L8&Y$14))))","v":""},{"$f":"IF(ISNA(Lists!$J8),\"\",IF((INDIRECT(\"'\"&Lists!$J8&\"'!\"&Lists!$L8&Z$14))=\"\",\"\",(INDIRECT(\"'\"&Lists!$J8&\"'!\"&Lists!$L8&Z$14))))","v":""},{"$f":"IF(ISNA(Lists!$J8),\"\",IF((INDIRECT(\"'\"&Lists!$J8&\"'!\"&Lists!$L8&AA$14))=\"\",\"\",(INDIRECT(\"'\"&Lists!$J8&\"'!\"&Lists!$L8&AA$14))))","v":""},{"$f":"IF(ISNA(Lists!$J8),\"\",IF((INDIRECT(\"'\"&Lists!$J8&\"'!\"&Lists!$K8&AB$14))=\"\",\"\",(INDIRECT(\"'\"&Lists!$J8&\"'!\"&Lists!$K8&AB$14))))","v":""},{"$f":"IF(ISNA(Lists!$J8),\"\",IF((INDIRECT(\"'\"&Lists!$J8&\"'!\"&Lists!$K8&AC$14))=\"\",\"\",(INDIRECT(\"'\"&Lists!$J8&\"'!\"&Lists!$K8&AC$14))))","v":""},{"$f":"IF(ISNA(Lists!$J8),\"\",IF((INDIRECT(\"'\"&Lists!$J8&\"'!\"&Lists!$K8&AD$14))=\"\",\"\",(INDIRECT(\"'\"&Lists!$J8&\"'!\"&Lists!$K8&AD$14))))","v":""},{"$f":"IF(ISNA(Lists!$J8),\"\",IF((INDIRECT(\"'\"&Lists!$J8&\"'!\"&Lists!$K8&AE$14))=\"\",\"\",(INDIRECT(\"'\"&Lists!$J8&\"'!\"&Lists!$K8&AE$14))))","v":""},{"$f":"IF(ISNA(Lists!$J8),\"\",IF((INDIRECT(\"'\"&Lists!$J8&\"'!\"&Lists!$K8&AF$14))=\"\",\"\",(INDIRECT(\"'\"&Lists!$J8&\"'!\"&Lists!$K8&AF$14))))","v":""},{"$f":"IF(ISNA(Lists!$J8),\"\",IF((INDIRECT(\"'\"&Lists!$J8&\"'!\"&Lists!$K8&AG$14))=\"\",\"\",(INDIRECT(\"'\"&Lists!$J8&\"'!\"&Lists!$K8&AG$14))))","v":""},{"$f":"IF(ISNA(Lists!$J8),\"\",IF((INDIRECT(\"'\"&Lists!$J8&\"'!\"&Lists!$K8&AH$14))=\"\",\"\",(INDIRECT(\"'\"&Lists!$J8&\"'!\"&Lists!$K8&AH$14))))","v":""},{"$f":"IF(ISNA(Lists!$J8),\"\",IF((INDIRECT(\"'\"&Lists!$J8&\"'!\"&Lists!$K8&AI$14))=\"\",\"\",(INDIRECT(\"'\"&Lists!$J8&\"'!\"&Lists!$K8&AI$14))))","v":""},{"$f":"IF(ISNA(Lists!$J8),\"\",IF((INDIRECT(\"'\"&Lists!$J8&\"'!\"&Lists!$K8&AJ$14))=\"\",\"\",(INDIRECT(\"'\"&Lists!$J8&\"'!\"&Lists!$K8&AJ$14))))","v":""},{"$f":"IF(ISNA(Lists!$J8),\"\",IF((INDIRECT(\"'\"&Lists!$J8&\"'!\"&Lists!$K8&AK$14))=\"\",\"\",(INDIRECT(\"'\"&Lists!$J8&\"'!\"&Lists!$K8&AK$14))))","v":""}]
[{"$f":"IF(B22=\"\",\"\",' Facility_Info upload'!$A$24)","v":""},{"$f":"IF(ISNA(Lists!$J9),\"\",IF(INDIRECT(\"'\"&Lists!$J9&\"'!\"&\"B\"&B$14)=\"\",\"\",(INDIRECT(\"'\"&Lists!$J9&\"'!\"&\"B\"&B$14))))","v":""},{"$f":"IF(ISNA(Lists!$J9),\"\",IF(INDIRECT(\"'\"&Lists!$J9&\"'!\"&\"B\"&C$14)=\"\",\"\",(INDIRECT(\"'\"&Lists!$J9&\"'!\"&\"B\"&C$14))))","v":""},{"$f":"IF(ISNA(Lists!$J9),\"\",IF(INDIRECT(\"'\"&Lists!$J9&\"'!\"&\"B\"&D$14)=\"\",\"\",(INDIRECT(\"'\"&Lists!$J9&\"'!\"&\"B\"&D$14))))","v":""},{"$f":"IF(ISNA(Lists!$J9),\"\",IF(INDIRECT(\"'\"&Lists!$J9&\"'!\"&\"B\"&E$14)=\"\",\"\",(INDIRECT(\"'\"&Lists!$J9&\"'!\"&\"B\"&E$14))))","v":""},{"$f":"IF(ISNA(Lists!$J9),\"\",IF(INDIRECT(\"'\"&Lists!$J9&\"'!\"&\"B\"&F$14)=\"\",\"\",(INDIRECT(\"'\"&Lists!$J9&\"'!\"&\"B\"&F$14))))","v":""},{"$f":"IF(ISNA(Lists!$J9),\"\",IF((INDIRECT(\"'\"&Lists!$J9&\"'!\"&Lists!$K9&G$14))=\"\",\"\",(INDIRECT(\"'\"&Lists!$J9&\"'!\"&Lists!$K9&G$14))))","v":""},{"$f":"IF(ISNA(Lists!$J9),\"\",IF((INDIRECT(\"'\"&Lists!$J9&\"'!\"&Lists!$K9&H$14))=\"\",\"\",(INDIRECT(\"'\"&Lists!$J9&\"'!\"&Lists!$K9&H$14))))","v":""},{"$f":"IF(ISNA(Lists!$J9),\"\",IF((INDIRECT(\"'\"&Lists!$J9&\"'!\"&Lists!$K9&I$14))=\"\",\"\",(INDIRECT(\"'\"&Lists!$J9&\"'!\"&Lists!$K9&I$14))))","v":""},{"$f":"IF(ISNA(Lists!$J9),\"\",IF((INDIRECT(\"'\"&Lists!$J9&\"'!\"&Lists!$K9&J$14))=\"\",\"\",(INDIRECT(\"'\"&Lists!$J9&\"'!\"&Lists!$K9&J$14))))","v":""},{"$f":"IF(ISNA(Lists!$J9),\"\",IF((INDIRECT(\"'\"&Lists!$J9&\"'!\"&Lists!$K9&K$14))=\"\",\"\",(INDIRECT(\"'\"&Lists!$J9&\"'!\"&Lists!$K9&K$14))))","v":""},{"$f":"IF(ISNA(Lists!$J9),\"\",IF((INDIRECT(\"'\"&Lists!$J9&\"'!\"&Lists!$K9&L$14))=\"\",\"\",(INDIRECT(\"'\"&Lists!$J9&\"'!\"&Lists!$K9&L$14))))","v":""},{"$f":"IF(ISNA(Lists!$J9),\"\",IF((INDIRECT(\"'\"&Lists!$J9&\"'!\"&Lists!$K9&M$14))=\"\",\"\",(INDIRECT(\"'\"&Lists!$J9&\"'!\"&Lists!$K9&M$14))))","v":""},{"$f":"IF(ISNA(Lists!$J9),\"\",IF((INDIRECT(\"'\"&Lists!$J9&\"'!\"&Lists!$K9&N$14))=\"\",\"\",(INDIRECT(\"'\"&Lists!$J9&\"'!\"&Lists!$K9&N$14))))","v":""},{"$f":"IF(ISNA(Lists!$J9),\"\",IF((INDIRECT(\"'\"&Lists!$J9&\"'!\"&Lists!$K9&O$14))=\"\",\"\",(INDIRECT(\"'\"&Lists!$J9&\"'!\"&Lists!$K9&O$14))))","v":""},{"$f":"IF(ISNA(Lists!$J9),\"\",IF((INDIRECT(\"'\"&Lists!$J9&\"'!\"&Lists!$K9&P$14))=\"\",\"\",(INDIRECT(\"'\"&Lists!$J9&\"'!\"&Lists!$K9&P$14))))","v":""},{"$f":"IF(ISNA(Lists!$J9),\"\",IF((INDIRECT(\"'\"&Lists!$J9&\"'!\"&Lists!$K9&Q$14))=\"\",\"\",(INDIRECT(\"'\"&Lists!$J9&\"'!\"&Lists!$K9&Q$14))))","v":""},{"$f":"IF(ISNA(Lists!$J9),\"\",IF((INDIRECT(\"'\"&Lists!$J9&\"'!\"&Lists!$K9&R$14))=\"\",\"\",(INDIRECT(\"'\"&Lists!$J9&\"'!\"&Lists!$K9&R$14))))","v":""},{"$f":"IF(ISNA(Lists!$J9),\"\",IF((INDIRECT(\"'\"&Lists!$J9&\"'!\"&Lists!$K9&S$14))=\"\",\"\",(INDIRECT(\"'\"&Lists!$J9&\"'!\"&Lists!$K9&S$14))))","v":""},{"$f":"IF(ISNA(Lists!$J9),\"\",IF((INDIRECT(\"'\"&Lists!$J9&\"'!\"&Lists!$K9&T$14))=\"\",\"\",(INDIRECT(\"'\"&Lists!$J9&\"'!\"&Lists!$K9&T$14))))","v":""},{"$f":"IF(ISNA(Lists!$J9),\"\",IF((INDIRECT(\"'\"&Lists!$J9&\"'!\"&Lists!$L9&U$14))=\"\",\"\",(INDIRECT(\"'\"&Lists!$J9&\"'!\"&Lists!$L9&U$14))))","v":""},{"$f":"IF(ISNA(Lists!$J9),\"\",IF((INDIRECT(\"'\"&Lists!$J9&\"'!\"&Lists!$L9&V$14))=\"\",\"\",(INDIRECT(\"'\"&Lists!$J9&\"'!\"&Lists!$L9&V$14))))","v":""},{"$f":"IF(ISNA(Lists!$J9),\"\",IF((INDIRECT(\"'\"&Lists!$J9&\"'!\"&Lists!$L9&W$14))=\"\",\"\",(INDIRECT(\"'\"&Lists!$J9&\"'!\"&Lists!$L9&W$14))))","v":""},{"$f":"IF(ISNA(Lists!$J9),\"\",IF((INDIRECT(\"'\"&Lists!$J9&\"'!\"&Lists!$L9&X$14))=\"\",\"\",(INDIRECT(\"'\"&Lists!$J9&\"'!\"&Lists!$L9&X$14))))","v":""},{"$f":"IF(ISNA(Lists!$J9),\"\",IF((INDIRECT(\"'\"&Lists!$J9&\"'!\"&Lists!$L9&Y$14))=\"\",\"\",(INDIRECT(\"'\"&Lists!$J9&\"'!\"&Lists!$L9&Y$14))))","v":""},{"$f":"IF(ISNA(Lists!$J9),\"\",IF((INDIRECT(\"'\"&Lists!$J9&\"'!\"&Lists!$L9&Z$14))=\"\",\"\",(INDIRECT(\"'\"&Lists!$J9&\"'!\"&Lists!$L9&Z$14))))","v":""},{"$f":"IF(ISNA(Lists!$J9),\"\",IF((INDIRECT(\"'\"&Lists!$J9&\"'!\"&Lists!$L9&AA$14))=\"\",\"\",(INDIRECT(\"'\"&Lists!$J9&\"'!\"&Lists!$L9&AA$14))))","v":""},{"$f":"IF(ISNA(Lists!$J9),\"\",IF((INDIRECT(\"'\"&Lists!$J9&\"'!\"&Lists!$K9&AB$14))=\"\",\"\",(INDIRECT(\"'\"&Lists!$J9&\"'!\"&Lists!$K9&AB$14))))","v":""},{"$f":"IF(ISNA(Lists!$J9),\"\",IF((INDIRECT(\"'\"&Lists!$J9&\"'!\"&Lists!$K9&AC$14))=\"\",\"\",(INDIRECT(\"'\"&Lists!$J9&\"'!\"&Lists!$K9&AC$14))))","v":""},{"$f":"IF(ISNA(Lists!$J9),\"\",IF((INDIRECT(\"'\"&Lists!$J9&\"'!\"&Lists!$K9&AD$14))=\"\",\"\",(INDIRECT(\"'\"&Lists!$J9&\"'!\"&Lists!$K9&AD$14))))","v":""},{"$f":"IF(ISNA(Lists!$J9),\"\",IF((INDIRECT(\"'\"&Lists!$J9&\"'!\"&Lists!$K9&AE$14))=\"\",\"\",(INDIRECT(\"'\"&Lists!$J9&\"'!\"&Lists!$K9&AE$14))))","v":""},{"$f":"IF(ISNA(Lists!$J9),\"\",IF((INDIRECT(\"'\"&Lists!$J9&\"'!\"&Lists!$K9&AF$14))=\"\",\"\",(INDIRECT(\"'\"&Lists!$J9&\"'!\"&Lists!$K9&AF$14))))","v":""},{"$f":"IF(ISNA(Lists!$J9),\"\",IF((INDIRECT(\"'\"&Lists!$J9&\"'!\"&Lists!$K9&AG$14))=\"\",\"\",(INDIRECT(\"'\"&Lists!$J9&\"'!\"&Lists!$K9&AG$14))))","v":""},{"$f":"IF(ISNA(Lists!$J9),\"\",IF((INDIRECT(\"'\"&Lists!$J9&\"'!\"&Lists!$K9&AH$14))=\"\",\"\",(INDIRECT(\"'\"&Lists!$J9&\"'!\"&Lists!$K9&AH$14))))","v":""},{"$f":"IF(ISNA(Lists!$J9),\"\",IF((INDIRECT(\"'\"&Lists!$J9&\"'!\"&Lists!$K9&AI$14))=\"\",\"\",(INDIRECT(\"'\"&Lists!$J9&\"'!\"&Lists!$K9&AI$14))))","v":""},{"$f":"IF(ISNA(Lists!$J9),\"\",IF((INDIRECT(\"'\"&Lists!$J9&\"'!\"&Lists!$K9&AJ$14))=\"\",\"\",(INDIRECT(\"'\"&Lists!$J9&\"'!\"&Lists!$K9&AJ$14))))","v":""},{"$f":"IF(ISNA(Lists!$J9),\"\",IF((INDIRECT(\"'\"&Lists!$J9&\"'!\"&Lists!$K9&AK$14))=\"\",\"\",(INDIRECT(\"'\"&Lists!$J9&\"'!\"&Lists!$K9&AK$14))))","v":""}]
[{"$f":"IF(B23=\"\",\"\",' Facility_Info upload'!$A$24)","v":""},{"$f":"IF(ISNA(Lists!$J10),\"\",IF(INDIRECT(\"'\"&Lists!$J10&\"'!\"&\"B\"&B$14)=\"\",\"\",(INDIRECT(\"'\"&Lists!$J10&\"'!\"&\"B\"&B$14))))","v":""},{"$f":"IF(ISNA(Lists!$J10),\"\",IF(INDIRECT(\"'\"&Lists!$J10&\"'!\"&\"B\"&C$14)=\"\",\"\",(INDIRECT(\"'\"&Lists!$J10&\"'!\"&\"B\"&C$14))))","v":""},{"$f":"IF(ISNA(Lists!$J10),\"\",IF(INDIRECT(\"'\"&Lists!$J10&\"'!\"&\"B\"&D$14)=\"\",\"\",(INDIRECT(\"'\"&Lists!$J10&\"'!\"&\"B\"&D$14))))","v":""},{"$f":"IF(ISNA(Lists!$J10),\"\",IF(INDIRECT(\"'\"&Lists!$J10&\"'!\"&\"B\"&E$14)=\"\",\"\",(INDIRECT(\"'\"&Lists!$J10&\"'!\"&\"B\"&E$14))))","v":""},{"$f":"IF(ISNA(Lists!$J10),\"\",IF(INDIRECT(\"'\"&Lists!$J10&\"'!\"&\"B\"&F$14)=\"\",\"\",(INDIRECT(\"'\"&Lists!$J10&\"'!\"&\"B\"&F$14))))","v":""},{"$f":"IF(ISNA(Lists!$J10),\"\",IF((INDIRECT(\"'\"&Lists!$J10&\"'!\"&Lists!$K10&G$14))=\"\",\"\",(INDIRECT(\"'\"&Lists!$J10&\"'!\"&Lists!$K10&G$14))))","v":""},{"$f":"IF(ISNA(Lists!$J10),\"\",IF((INDIRECT(\"'\"&Lists!$J10&\"'!\"&Lists!$K10&H$14))=\"\",\"\",(INDIRECT(\"'\"&Lists!$J10&\"'!\"&Lists!$K10&H$14))))","v":""},{"$f":"IF(ISNA(Lists!$J10),\"\",IF((INDIRECT(\"'\"&Lists!$J10&\"'!\"&Lists!$K10&I$14))=\"\",\"\",(INDIRECT(\"'\"&Lists!$J10&\"'!\"&Lists!$K10&I$14))))","v":""},{"$f":"IF(ISNA(Lists!$J10),\"\",IF((INDIRECT(\"'\"&Lists!$J10&\"'!\"&Lists!$K10&J$14))=\"\",\"\",(INDIRECT(\"'\"&Lists!$J10&\"'!\"&Lists!$K10&J$14))))","v":""},{"$f":"IF(ISNA(Lists!$J10),\"\",IF((INDIRECT(\"'\"&Lists!$J10&\"'!\"&Lists!$K10&K$14))=\"\",\"\",(INDIRECT(\"'\"&Lists!$J10&\"'!\"&Lists!$K10&K$14))))","v":""},{"$f":"IF(ISNA(Lists!$J10),\"\",IF((INDIRECT(\"'\"&Lists!$J10&\"'!\"&Lists!$K10&L$14))=\"\",\"\",(INDIRECT(\"'\"&Lists!$J10&\"'!\"&Lists!$K10&L$14))))","v":""},{"$f":"IF(ISNA(Lists!$J10),\"\",IF((INDIRECT(\"'\"&Lists!$J10&\"'!\"&Lists!$K10&M$14))=\"\",\"\",(INDIRECT(\"'\"&Lists!$J10&\"'!\"&Lists!$K10&M$14))))","v":""},{"$f":"IF(ISNA(Lists!$J10),\"\",IF((INDIRECT(\"'\"&Lists!$J10&\"'!\"&Lists!$K10&N$14))=\"\",\"\",(INDIRECT(\"'\"&Lists!$J10&\"'!\"&Lists!$K10&N$14))))","v":""},{"$f":"IF(ISNA(Lists!$J10),\"\",IF((INDIRECT(\"'\"&Lists!$J10&\"'!\"&Lists!$K10&O$14))=\"\",\"\",(INDIRECT(\"'\"&Lists!$J10&\"'!\"&Lists!$K10&O$14))))","v":""},{"$f":"IF(ISNA(Lists!$J10),\"\",IF((INDIRECT(\"'\"&Lists!$J10&\"'!\"&Lists!$K10&P$14))=\"\",\"\",(INDIRECT(\"'\"&Lists!$J10&\"'!\"&Lists!$K10&P$14))))","v":""},{"$f":"IF(ISNA(Lists!$J10),\"\",IF((INDIRECT(\"'\"&Lists!$J10&\"'!\"&Lists!$K10&Q$14))=\"\",\"\",(INDIRECT(\"'\"&Lists!$J10&\"'!\"&Lists!$K10&Q$14))))","v":""},{"$f":"IF(ISNA(Lists!$J10),\"\",IF((INDIRECT(\"'\"&Lists!$J10&\"'!\"&Lists!$K10&R$14))=\"\",\"\",(INDIRECT(\"'\"&Lists!$J10&\"'!\"&Lists!$K10&R$14))))","v":""},{"$f":"IF(ISNA(Lists!$J10),\"\",IF((INDIRECT(\"'\"&Lists!$J10&\"'!\"&Lists!$K10&S$14))=\"\",\"\",(INDIRECT(\"'\"&Lists!$J10&\"'!\"&Lists!$K10&S$14))))","v":""},{"$f":"IF(ISNA(Lists!$J10),\"\",IF((INDIRECT(\"'\"&Lists!$J10&\"'!\"&Lists!$K10&T$14))=\"\",\"\",(INDIRECT(\"'\"&Lists!$J10&\"'!\"&Lists!$K10&T$14))))","v":""},{"$f":"IF(ISNA(Lists!$J10),\"\",IF((INDIRECT(\"'\"&Lists!$J10&\"'!\"&Lists!$L10&U$14))=\"\",\"\",(INDIRECT(\"'\"&Lists!$J10&\"'!\"&Lists!$L10&U$14))))","v":""},{"$f":"IF(ISNA(Lists!$J10),\"\",IF((INDIRECT(\"'\"&Lists!$J10&\"'!\"&Lists!$L10&V$14))=\"\",\"\",(INDIRECT(\"'\"&Lists!$J10&\"'!\"&Lists!$L10&V$14))))","v":""},{"$f":"IF(ISNA(Lists!$J10),\"\",IF((INDIRECT(\"'\"&Lists!$J10&\"'!\"&Lists!$L10&W$14))=\"\",\"\",(INDIRECT(\"'\"&Lists!$J10&\"'!\"&Lists!$L10&W$14))))","v":""},{"$f":"IF(ISNA(Lists!$J10),\"\",IF((INDIRECT(\"'\"&Lists!$J10&\"'!\"&Lists!$L10&X$14))=\"\",\"\",(INDIRECT(\"'\"&Lists!$J10&\"'!\"&Lists!$L10&X$14))))","v":""},{"$f":"IF(ISNA(Lists!$J10),\"\",IF((INDIRECT(\"'\"&Lists!$J10&\"'!\"&Lists!$L10&Y$14))=\"\",\"\",(INDIRECT(\"'\"&Lists!$J10&\"'!\"&Lists!$L10&Y$14))))","v":""},{"$f":"IF(ISNA(Lists!$J10),\"\",IF((INDIRECT(\"'\"&Lists!$J10&\"'!\"&Lists!$L10&Z$14))=\"\",\"\",(INDIRECT(\"'\"&Lists!$J10&\"'!\"&Lists!$L10&Z$14))))","v":""},{"$f":"IF(ISNA(Lists!$J10),\"\",IF((INDIRECT(\"'\"&Lists!$J10&\"'!\"&Lists!$L10&AA$14))=\"\",\"\",(INDIRECT(\"'\"&Lists!$J10&\"'!\"&Lists!$L10&AA$14))))","v":""},{"$f":"IF(ISNA(Lists!$J10),\"\",IF((INDIRECT(\"'\"&Lists!$J10&\"'!\"&Lists!$K10&AB$14))=\"\",\"\",(INDIRECT(\"'\"&Lists!$J10&\"'!\"&Lists!$K10&AB$14))))","v":""},{"$f":"IF(ISNA(Lists!$J10),\"\",IF((INDIRECT(\"'\"&Lists!$J10&\"'!\"&Lists!$K10&AC$14))=\"\",\"\",(INDIRECT(\"'\"&Lists!$J10&\"'!\"&Lists!$K10&AC$14))))","v":""},{"$f":"IF(ISNA(Lists!$J10),\"\",IF((INDIRECT(\"'\"&Lists!$J10&\"'!\"&Lists!$K10&AD$14))=\"\",\"\",(INDIRECT(\"'\"&Lists!$J10&\"'!\"&Lists!$K10&AD$14))))","v":""},{"$f":"IF(ISNA(Lists!$J10),\"\",IF((INDIRECT(\"'\"&Lists!$J10&\"'!\"&Lists!$K10&AE$14))=\"\",\"\",(INDIRECT(\"'\"&Lists!$J10&\"'!\"&Lists!$K10&AE$14))))","v":""},{"$f":"IF(ISNA(Lists!$J10),\"\",IF((INDIRECT(\"'\"&Lists!$J10&\"'!\"&Lists!$K10&AF$14))=\"\",\"\",(INDIRECT(\"'\"&Lists!$J10&\"'!\"&Lists!$K10&AF$14))))","v":""},{"$f":"IF(ISNA(Lists!$J10),\"\",IF((INDIRECT(\"'\"&Lists!$J10&\"'!\"&Lists!$K10&AG$14))=\"\",\"\",(INDIRECT(\"'\"&Lists!$J10&\"'!\"&Lists!$K10&AG$14))))","v":""},{"$f":"IF(ISNA(Lists!$J10),\"\",IF((INDIRECT(\"'\"&Lists!$J10&\"'!\"&Lists!$K10&AH$14))=\"\",\"\",(INDIRECT(\"'\"&Lists!$J10&\"'!\"&Lists!$K10&AH$14))))","v":""},{"$f":"IF(ISNA(Lists!$J10),\"\",IF((INDIRECT(\"'\"&Lists!$J10&\"'!\"&Lists!$K10&AI$14))=\"\",\"\",(INDIRECT(\"'\"&Lists!$J10&\"'!\"&Lists!$K10&AI$14))))","v":""},{"$f":"IF(ISNA(Lists!$J10),\"\",IF((INDIRECT(\"'\"&Lists!$J10&\"'!\"&Lists!$K10&AJ$14))=\"\",\"\",(INDIRECT(\"'\"&Lists!$J10&\"'!\"&Lists!$K10&AJ$14))))","v":""},{"$f":"IF(ISNA(Lists!$J10),\"\",IF((INDIRECT(\"'\"&Lists!$J10&\"'!\"&Lists!$K10&AK$14))=\"\",\"\",(INDIRECT(\"'\"&Lists!$J10&\"'!\"&Lists!$K10&AK$14))))","v":""}]
[{"$f":"IF(B24=\"\",\"\",' Facility_Info upload'!$A$24)","v":""},{"$f":"IF(ISNA(Lists!$J11),\"\",IF(INDIRECT(\"'\"&Lists!$J11&\"'!\"&\"B\"&B$14)=\"\",\"\",(INDIRECT(\"'\"&Lists!$J11&\"'!\"&\"B\"&B$14))))","v":""},{"$f":"IF(ISNA(Lists!$J11),\"\",IF(INDIRECT(\"'\"&Lists!$J11&\"'!\"&\"B\"&C$14)=\"\",\"\",(INDIRECT(\"'\"&Lists!$J11&\"'!\"&\"B\"&C$14))))","v":""},{"$f":"IF(ISNA(Lists!$J11),\"\",IF(INDIRECT(\"'\"&Lists!$J11&\"'!\"&\"B\"&D$14)=\"\",\"\",(INDIRECT(\"'\"&Lists!$J11&\"'!\"&\"B\"&D$14))))","v":""},{"$f":"IF(ISNA(Lists!$J11),\"\",IF(INDIRECT(\"'\"&Lists!$J11&\"'!\"&\"B\"&E$14)=\"\",\"\",(INDIRECT(\"'\"&Lists!$J11&\"'!\"&\"B\"&E$14))))","v":""},{"$f":"IF(ISNA(Lists!$J11),\"\",IF(INDIRECT(\"'\"&Lists!$J11&\"'!\"&\"B\"&F$14)=\"\",\"\",(INDIRECT(\"'\"&Lists!$J11&\"'!\"&\"B\"&F$14))))","v":""},{"$f":"IF(ISNA(Lists!$J11),\"\",IF((INDIRECT(\"'\"&Lists!$J11&\"'!\"&Lists!$K11&G$14))=\"\",\"\",(INDIRECT(\"'\"&Lists!$J11&\"'!\"&Lists!$K11&G$14))))","v":""},{"$f":"IF(ISNA(Lists!$J11),\"\",IF((INDIRECT(\"'\"&Lists!$J11&\"'!\"&Lists!$K11&H$14))=\"\",\"\",(INDIRECT(\"'\"&Lists!$J11&\"'!\"&Lists!$K11&H$14))))","v":""},{"$f":"IF(ISNA(Lists!$J11),\"\",IF((INDIRECT(\"'\"&Lists!$J11&\"'!\"&Lists!$K11&I$14))=\"\",\"\",(INDIRECT(\"'\"&Lists!$J11&\"'!\"&Lists!$K11&I$14))))","v":""},{"$f":"IF(ISNA(Lists!$J11),\"\",IF((INDIRECT(\"'\"&Lists!$J11&\"'!\"&Lists!$K11&J$14))=\"\",\"\",(INDIRECT(\"'\"&Lists!$J11&\"'!\"&Lists!$K11&J$14))))","v":""},{"$f":"IF(ISNA(Lists!$J11),\"\",IF((INDIRECT(\"'\"&Lists!$J11&\"'!\"&Lists!$K11&K$14))=\"\",\"\",(INDIRECT(\"'\"&Lists!$J11&\"'!\"&Lists!$K11&K$14))))","v":""},{"$f":"IF(ISNA(Lists!$J11),\"\",IF((INDIRECT(\"'\"&Lists!$J11&\"'!\"&Lists!$K11&L$14))=\"\",\"\",(INDIRECT(\"'\"&Lists!$J11&\"'!\"&Lists!$K11&L$14))))","v":""},{"$f":"IF(ISNA(Lists!$J11),\"\",IF((INDIRECT(\"'\"&Lists!$J11&\"'!\"&Lists!$K11&M$14))=\"\",\"\",(INDIRECT(\"'\"&Lists!$J11&\"'!\"&Lists!$K11&M$14))))","v":""},{"$f":"IF(ISNA(Lists!$J11),\"\",IF((INDIRECT(\"'\"&Lists!$J11&\"'!\"&Lists!$K11&N$14))=\"\",\"\",(INDIRECT(\"'\"&Lists!$J11&\"'!\"&Lists!$K11&N$14))))","v":""},{"$f":"IF(ISNA(Lists!$J11),\"\",IF((INDIRECT(\"'\"&Lists!$J11&\"'!\"&Lists!$K11&O$14))=\"\",\"\",(INDIRECT(\"'\"&Lists!$J11&\"'!\"&Lists!$K11&O$14))))","v":""},{"$f":"IF(ISNA(Lists!$J11),\"\",IF((INDIRECT(\"'\"&Lists!$J11&\"'!\"&Lists!$K11&P$14))=\"\",\"\",(INDIRECT(\"'\"&Lists!$J11&\"'!\"&Lists!$K11&P$14))))","v":""},{"$f":"IF(ISNA(Lists!$J11),\"\",IF((INDIRECT(\"'\"&Lists!$J11&\"'!\"&Lists!$K11&Q$14))=\"\",\"\",(INDIRECT(\"'\"&Lists!$J11&\"'!\"&Lists!$K11&Q$14))))","v":""},{"$f":"IF(ISNA(Lists!$J11),\"\",IF((INDIRECT(\"'\"&Lists!$J11&\"'!\"&Lists!$K11&R$14))=\"\",\"\",(INDIRECT(\"'\"&Lists!$J11&\"'!\"&Lists!$K11&R$14))))","v":""},{"$f":"IF(ISNA(Lists!$J11),\"\",IF((INDIRECT(\"'\"&Lists!$J11&\"'!\"&Lists!$K11&S$14))=\"\",\"\",(INDIRECT(\"'\"&Lists!$J11&\"'!\"&Lists!$K11&S$14))))","v":""},{"$f":"IF(ISNA(Lists!$J11),\"\",IF((INDIRECT(\"'\"&Lists!$J11&\"'!\"&Lists!$K11&T$14))=\"\",\"\",(INDIRECT(\"'\"&Lists!$J11&\"'!\"&Lists!$K11&T$14))))","v":""},{"$f":"IF(ISNA(Lists!$J11),\"\",IF((INDIRECT(\"'\"&Lists!$J11&\"'!\"&Lists!$L11&U$14))=\"\",\"\",(INDIRECT(\"'\"&Lists!$J11&\"'!\"&Lists!$L11&U$14))))","v":""},{"$f":"IF(ISNA(Lists!$J11),\"\",IF((INDIRECT(\"'\"&Lists!$J11&\"'!\"&Lists!$L11&V$14))=\"\",\"\",(INDIRECT(\"'\"&Lists!$J11&\"'!\"&Lists!$L11&V$14))))","v":""},{"$f":"IF(ISNA(Lists!$J11),\"\",IF((INDIRECT(\"'\"&Lists!$J11&\"'!\"&Lists!$L11&W$14))=\"\",\"\",(INDIRECT(\"'\"&Lists!$J11&\"'!\"&Lists!$L11&W$14))))","v":""},{"$f":"IF(ISNA(Lists!$J11),\"\",IF((INDIRECT(\"'\"&Lists!$J11&\"'!\"&Lists!$L11&X$14))=\"\",\"\",(INDIRECT(\"'\"&Lists!$J11&\"'!\"&Lists!$L11&X$14))))","v":""},{"$f":"IF(ISNA(Lists!$J11),\"\",IF((INDIRECT(\"'\"&Lists!$J11&\"'!\"&Lists!$L11&Y$14))=\"\",\"\",(INDIRECT(\"'\"&Lists!$J11&\"'!\"&Lists!$L11&Y$14))))","v":""},{"$f":"IF(ISNA(Lists!$J11),\"\",IF((INDIRECT(\"'\"&Lists!$J11&\"'!\"&Lists!$L11&Z$14))=\"\",\"\",(INDIRECT(\"'\"&Lists!$J11&\"'!\"&Lists!$L11&Z$14))))","v":""},{"$f":"IF(ISNA(Lists!$J11),\"\",IF((INDIRECT(\"'\"&Lists!$J11&\"'!\"&Lists!$L11&AA$14))=\"\",\"\",(INDIRECT(\"'\"&Lists!$J11&\"'!\"&Lists!$L11&AA$14))))","v":""},{"$f":"IF(ISNA(Lists!$J11),\"\",IF((INDIRECT(\"'\"&Lists!$J11&\"'!\"&Lists!$K11&AB$14))=\"\",\"\",(INDIRECT(\"'\"&Lists!$J11&\"'!\"&Lists!$K11&AB$14))))","v":""},{"$f":"IF(ISNA(Lists!$J11),\"\",IF((INDIRECT(\"'\"&Lists!$J11&\"'!\"&Lists!$K11&AC$14))=\"\",\"\",(INDIRECT(\"'\"&Lists!$J11&\"'!\"&Lists!$K11&AC$14))))","v":""},{"$f":"IF(ISNA(Lists!$J11),\"\",IF((INDIRECT(\"'\"&Lists!$J11&\"'!\"&Lists!$K11&AD$14))=\"\",\"\",(INDIRECT(\"'\"&Lists!$J11&\"'!\"&Lists!$K11&AD$14))))","v":""},{"$f":"IF(ISNA(Lists!$J11),\"\",IF((INDIRECT(\"'\"&Lists!$J11&\"'!\"&Lists!$K11&AE$14))=\"\",\"\",(INDIRECT(\"'\"&Lists!$J11&\"'!\"&Lists!$K11&AE$14))))","v":""},{"$f":"IF(ISNA(Lists!$J11),\"\",IF((INDIRECT(\"'\"&Lists!$J11&\"'!\"&Lists!$K11&AF$14))=\"\",\"\",(INDIRECT(\"'\"&Lists!$J11&\"'!\"&Lists!$K11&AF$14))))","v":""},{"$f":"IF(ISNA(Lists!$J11),\"\",IF((INDIRECT(\"'\"&Lists!$J11&\"'!\"&Lists!$K11&AG$14))=\"\",\"\",(INDIRECT(\"'\"&Lists!$J11&\"'!\"&Lists!$K11&AG$14))))","v":""},{"$f":"IF(ISNA(Lists!$J11),\"\",IF((INDIRECT(\"'\"&Lists!$J11&\"'!\"&Lists!$K11&AH$14))=\"\",\"\",(INDIRECT(\"'\"&Lists!$J11&\"'!\"&Lists!$K11&AH$14))))","v":""},{"$f":"IF(ISNA(Lists!$J11),\"\",IF((INDIRECT(\"'\"&Lists!$J11&\"'!\"&Lists!$K11&AI$14))=\"\",\"\",(INDIRECT(\"'\"&Lists!$J11&\"'!\"&Lists!$K11&AI$14))))","v":""},{"$f":"IF(ISNA(Lists!$J11),\"\",IF((INDIRECT(\"'\"&Lists!$J11&\"'!\"&Lists!$K11&AJ$14))=\"\",\"\",(INDIRECT(\"'\"&Lists!$J11&\"'!\"&Lists!$K11&AJ$14))))","v":""},{"$f":"IF(ISNA(Lists!$J11),\"\",IF((INDIRECT(\"'\"&Lists!$J11&\"'!\"&Lists!$K11&AK$14))=\"\",\"\",(INDIRECT(\"'\"&Lists!$J11&\"'!\"&Lists!$K11&AK$14))))","v":""}]
[{"$f":"IF(B25=\"\",\"\",' Facility_Info upload'!$A$24)","v":""},{"$f":"IF(ISNA(Lists!$J12),\"\",IF(INDIRECT(\"'\"&Lists!$J12&\"'!\"&\"B\"&B$14)=\"\",\"\",(INDIRECT(\"'\"&Lists!$J12&\"'!\"&\"B\"&B$14))))","v":""},{"$f":"IF(ISNA(Lists!$J12),\"\",IF(INDIRECT(\"'\"&Lists!$J12&\"'!\"&\"B\"&C$14)=\"\",\"\",(INDIRECT(\"'\"&Lists!$J12&\"'!\"&\"B\"&C$14))))","v":""},{"$f":"IF(ISNA(Lists!$J12),\"\",IF(INDIRECT(\"'\"&Lists!$J12&\"'!\"&\"B\"&D$14)=\"\",\"\",(INDIRECT(\"'\"&Lists!$J12&\"'!\"&\"B\"&D$14))))","v":""},{"$f":"IF(ISNA(Lists!$J12),\"\",IF(INDIRECT(\"'\"&Lists!$J12&\"'!\"&\"B\"&E$14)=\"\",\"\",(INDIRECT(\"'\"&Lists!$J12&\"'!\"&\"B\"&E$14))))","v":""},{"$f":"IF(ISNA(Lists!$J12),\"\",IF(INDIRECT(\"'\"&Lists!$J12&\"'!\"&\"B\"&F$14)=\"\",\"\",(INDIRECT(\"'\"&Lists!$J12&\"'!\"&\"B\"&F$14))))","v":""},{"$f":"IF(ISNA(Lists!$J12),\"\",IF((INDIRECT(\"'\"&Lists!$J12&\"'!\"&Lists!$K12&G$14))=\"\",\"\",(INDIRECT(\"'\"&Lists!$J12&\"'!\"&Lists!$K12&G$14))))","v":""},{"$f":"IF(ISNA(Lists!$J12),\"\",IF((INDIRECT(\"'\"&Lists!$J12&\"'!\"&Lists!$K12&H$14))=\"\",\"\",(INDIRECT(\"'\"&Lists!$J12&\"'!\"&Lists!$K12&H$14))))","v":""},{"$f":"IF(ISNA(Lists!$J12),\"\",IF((INDIRECT(\"'\"&Lists!$J12&\"'!\"&Lists!$K12&I$14))=\"\",\"\",(INDIRECT(\"'\"&Lists!$J12&\"'!\"&Lists!$K12&I$14))))","v":""},{"$f":"IF(ISNA(Lists!$J12),\"\",IF((INDIRECT(\"'\"&Lists!$J12&\"'!\"&Lists!$K12&J$14))=\"\",\"\",(INDIRECT(\"'\"&Lists!$J12&\"'!\"&Lists!$K12&J$14))))","v":""},{"$f":"IF(ISNA(Lists!$J12),\"\",IF((INDIRECT(\"'\"&Lists!$J12&\"'!\"&Lists!$K12&K$14))=\"\",\"\",(INDIRECT(\"'\"&Lists!$J12&\"'!\"&Lists!$K12&K$14))))","v":""},{"$f":"IF(ISNA(Lists!$J12),\"\",IF((INDIRECT(\"'\"&Lists!$J12&\"'!\"&Lists!$K12&L$14))=\"\",\"\",(INDIRECT(\"'\"&Lists!$J12&\"'!\"&Lists!$K12&L$14))))","v":""},{"$f":"IF(ISNA(Lists!$J12),\"\",IF((INDIRECT(\"'\"&Lists!$J12&\"'!\"&Lists!$K12&M$14))=\"\",\"\",(INDIRECT(\"'\"&Lists!$J12&\"'!\"&Lists!$K12&M$14))))","v":""},{"$f":"IF(ISNA(Lists!$J12),\"\",IF((INDIRECT(\"'\"&Lists!$J12&\"'!\"&Lists!$K12&N$14))=\"\",\"\",(INDIRECT(\"'\"&Lists!$J12&\"'!\"&Lists!$K12&N$14))))","v":""},{"$f":"IF(ISNA(Lists!$J12),\"\",IF((INDIRECT(\"'\"&Lists!$J12&\"'!\"&Lists!$K12&O$14))=\"\",\"\",(INDIRECT(\"'\"&Lists!$J12&\"'!\"&Lists!$K12&O$14))))","v":""},{"$f":"IF(ISNA(Lists!$J12),\"\",IF((INDIRECT(\"'\"&Lists!$J12&\"'!\"&Lists!$K12&P$14))=\"\",\"\",(INDIRECT(\"'\"&Lists!$J12&\"'!\"&Lists!$K12&P$14))))","v":""},{"$f":"IF(ISNA(Lists!$J12),\"\",IF((INDIRECT(\"'\"&Lists!$J12&\"'!\"&Lists!$K12&Q$14))=\"\",\"\",(INDIRECT(\"'\"&Lists!$J12&\"'!\"&Lists!$K12&Q$14))))","v":""},{"$f":"IF(ISNA(Lists!$J12),\"\",IF((INDIRECT(\"'\"&Lists!$J12&\"'!\"&Lists!$K12&R$14))=\"\",\"\",(INDIRECT(\"'\"&Lists!$J12&\"'!\"&Lists!$K12&R$14))))","v":""},{"$f":"IF(ISNA(Lists!$J12),\"\",IF((INDIRECT(\"'\"&Lists!$J12&\"'!\"&Lists!$K12&S$14))=\"\",\"\",(INDIRECT(\"'\"&Lists!$J12&\"'!\"&Lists!$K12&S$14))))","v":""},{"$f":"IF(ISNA(Lists!$J12),\"\",IF((INDIRECT(\"'\"&Lists!$J12&\"'!\"&Lists!$K12&T$14))=\"\",\"\",(INDIRECT(\"'\"&Lists!$J12&\"'!\"&Lists!$K12&T$14))))","v":""},{"$f":"IF(ISNA(Lists!$J12),\"\",IF((INDIRECT(\"'\"&Lists!$J12&\"'!\"&Lists!$L12&U$14))=\"\",\"\",(INDIRECT(\"'\"&Lists!$J12&\"'!\"&Lists!$L12&U$14))))","v":""},{"$f":"IF(ISNA(Lists!$J12),\"\",IF((INDIRECT(\"'\"&Lists!$J12&\"'!\"&Lists!$L12&V$14))=\"\",\"\",(INDIRECT(\"'\"&Lists!$J12&\"'!\"&Lists!$L12&V$14))))","v":""},{"$f":"IF(ISNA(Lists!$J12),\"\",IF((INDIRECT(\"'\"&Lists!$J12&\"'!\"&Lists!$L12&W$14))=\"\",\"\",(INDIRECT(\"'\"&Lists!$J12&\"'!\"&Lists!$L12&W$14))))","v":""},{"$f":"IF(ISNA(Lists!$J12),\"\",IF((INDIRECT(\"'\"&Lists!$J12&\"'!\"&Lists!$L12&X$14))=\"\",\"\",(INDIRECT(\"'\"&Lists!$J12&\"'!\"&Lists!$L12&X$14))))","v":""},{"$f":"IF(ISNA(Lists!$J12),\"\",IF((INDIRECT(\"'\"&Lists!$J12&\"'!\"&Lists!$L12&Y$14))=\"\",\"\",(INDIRECT(\"'\"&Lists!$J12&\"'!\"&Lists!$L12&Y$14))))","v":""},{"$f":"IF(ISNA(Lists!$J12),\"\",IF((INDIRECT(\"'\"&Lists!$J12&\"'!\"&Lists!$L12&Z$14))=\"\",\"\",(INDIRECT(\"'\"&Lists!$J12&\"'!\"&Lists!$L12&Z$14))))","v":""},{"$f":"IF(ISNA(Lists!$J12),\"\",IF((INDIRECT(\"'\"&Lists!$J12&\"'!\"&Lists!$L12&AA$14))=\"\",\"\",(INDIRECT(\"'\"&Lists!$J12&\"'!\"&Lists!$L12&AA$14))))","v":""},{"$f":"IF(ISNA(Lists!$J12),\"\",IF((INDIRECT(\"'\"&Lists!$J12&\"'!\"&Lists!$K12&AB$14))=\"\",\"\",(INDIRECT(\"'\"&Lists!$J12&\"'!\"&Lists!$K12&AB$14))))","v":""},{"$f":"IF(ISNA(Lists!$J12),\"\",IF((INDIRECT(\"'\"&Lists!$J12&\"'!\"&Lists!$K12&AC$14))=\"\",\"\",(INDIRECT(\"'\"&Lists!$J12&\"'!\"&Lists!$K12&AC$14))))","v":""},{"$f":"IF(ISNA(Lists!$J12),\"\",IF((INDIRECT(\"'\"&Lists!$J12&\"'!\"&Lists!$K12&AD$14))=\"\",\"\",(INDIRECT(\"'\"&Lists!$J12&\"'!\"&Lists!$K12&AD$14))))","v":""},{"$f":"IF(ISNA(Lists!$J12),\"\",IF((INDIRECT(\"'\"&Lists!$J12&\"'!\"&Lists!$K12&AE$14))=\"\",\"\",(INDIRECT(\"'\"&Lists!$J12&\"'!\"&Lists!$K12&AE$14))))","v":""},{"$f":"IF(ISNA(Lists!$J12),\"\",IF((INDIRECT(\"'\"&Lists!$J12&\"'!\"&Lists!$K12&AF$14))=\"\",\"\",(INDIRECT(\"'\"&Lists!$J12&\"'!\"&Lists!$K12&AF$14))))","v":""},{"$f":"IF(ISNA(Lists!$J12),\"\",IF((INDIRECT(\"'\"&Lists!$J12&\"'!\"&Lists!$K12&AG$14))=\"\",\"\",(INDIRECT(\"'\"&Lists!$J12&\"'!\"&Lists!$K12&AG$14))))","v":""},{"$f":"IF(ISNA(Lists!$J12),\"\",IF((INDIRECT(\"'\"&Lists!$J12&\"'!\"&Lists!$K12&AH$14))=\"\",\"\",(INDIRECT(\"'\"&Lists!$J12&\"'!\"&Lists!$K12&AH$14))))","v":""},{"$f":"IF(ISNA(Lists!$J12),\"\",IF((INDIRECT(\"'\"&Lists!$J12&\"'!\"&Lists!$K12&AI$14))=\"\",\"\",(INDIRECT(\"'\"&Lists!$J12&\"'!\"&Lists!$K12&AI$14))))","v":""},{"$f":"IF(ISNA(Lists!$J12),\"\",IF((INDIRECT(\"'\"&Lists!$J12&\"'!\"&Lists!$K12&AJ$14))=\"\",\"\",(INDIRECT(\"'\"&Lists!$J12&\"'!\"&Lists!$K12&AJ$14))))","v":""},{"$f":"IF(ISNA(Lists!$J12),\"\",IF((INDIRECT(\"'\"&Lists!$J12&\"'!\"&Lists!$K12&AK$14))=\"\",\"\",(INDIRECT(\"'\"&Lists!$J12&\"'!\"&Lists!$K12&AK$14))))","v":""}]
[{"$f":"IF(B26=\"\",\"\",' Facility_Info upload'!$A$24)","v":""},{"$f":"IF(ISNA(Lists!$J13),\"\",IF(INDIRECT(\"'\"&Lists!$J13&\"'!\"&\"B\"&B$14)=\"\",\"\",(INDIRECT(\"'\"&Lists!$J13&\"'!\"&\"B\"&B$14))))","v":""},{"$f":"IF(ISNA(Lists!$J13),\"\",IF(INDIRECT(\"'\"&Lists!$J13&\"'!\"&\"B\"&C$14)=\"\",\"\",(INDIRECT(\"'\"&Lists!$J13&\"'!\"&\"B\"&C$14))))","v":""},{"$f":"IF(ISNA(Lists!$J13),\"\",IF(INDIRECT(\"'\"&Lists!$J13&\"'!\"&\"B\"&D$14)=\"\",\"\",(INDIRECT(\"'\"&Lists!$J13&\"'!\"&\"B\"&D$14))))","v":""},{"$f":"IF(ISNA(Lists!$J13),\"\",IF(INDIRECT(\"'\"&Lists!$J13&\"'!\"&\"B\"&E$14)=\"\",\"\",(INDIRECT(\"'\"&Lists!$J13&\"'!\"&\"B\"&E$14))))","v":""},{"$f":"IF(ISNA(Lists!$J13),\"\",IF(INDIRECT(\"'\"&Lists!$J13&\"'!\"&\"B\"&F$14)=\"\",\"\",(INDIRECT(\"'\"&Lists!$J13&\"'!\"&\"B\"&F$14))))","v":""},{"$f":"IF(ISNA(Lists!$J13),\"\",IF((INDIRECT(\"'\"&Lists!$J13&\"'!\"&Lists!$K13&G$14))=\"\",\"\",(INDIRECT(\"'\"&Lists!$J13&\"'!\"&Lists!$K13&G$14))))","v":""},{"$f":"IF(ISNA(Lists!$J13),\"\",IF((INDIRECT(\"'\"&Lists!$J13&\"'!\"&Lists!$K13&H$14))=\"\",\"\",(INDIRECT(\"'\"&Lists!$J13&\"'!\"&Lists!$K13&H$14))))","v":""},{"$f":"IF(ISNA(Lists!$J13),\"\",IF((INDIRECT(\"'\"&Lists!$J13&\"'!\"&Lists!$K13&I$14))=\"\",\"\",(INDIRECT(\"'\"&Lists!$J13&\"'!\"&Lists!$K13&I$14))))","v":""},{"$f":"IF(ISNA(Lists!$J13),\"\",IF((INDIRECT(\"'\"&Lists!$J13&\"'!\"&Lists!$K13&J$14))=\"\",\"\",(INDIRECT(\"'\"&Lists!$J13&\"'!\"&Lists!$K13&J$14))))","v":""},{"$f":"IF(ISNA(Lists!$J13),\"\",IF((INDIRECT(\"'\"&Lists!$J13&\"'!\"&Lists!$K13&K$14))=\"\",\"\",(INDIRECT(\"'\"&Lists!$J13&\"'!\"&Lists!$K13&K$14))))","v":""},{"$f":"IF(ISNA(Lists!$J13),\"\",IF((INDIRECT(\"'\"&Lists!$J13&\"'!\"&Lists!$K13&L$14))=\"\",\"\",(INDIRECT(\"'\"&Lists!$J13&\"'!\"&Lists!$K13&L$14))))","v":""},{"$f":"IF(ISNA(Lists!$J13),\"\",IF((INDIRECT(\"'\"&Lists!$J13&\"'!\"&Lists!$K13&M$14))=\"\",\"\",(INDIRECT(\"'\"&Lists!$J13&\"'!\"&Lists!$K13&M$14))))","v":""},{"$f":"IF(ISNA(Lists!$J13),\"\",IF((INDIRECT(\"'\"&Lists!$J13&\"'!\"&Lists!$K13&N$14))=\"\",\"\",(INDIRECT(\"'\"&Lists!$J13&\"'!\"&Lists!$K13&N$14))))","v":""},{"$f":"IF(ISNA(Lists!$J13),\"\",IF((INDIRECT(\"'\"&Lists!$J13&\"'!\"&Lists!$K13&O$14))=\"\",\"\",(INDIRECT(\"'\"&Lists!$J13&\"'!\"&Lists!$K13&O$14))))","v":""},{"$f":"IF(ISNA(Lists!$J13),\"\",IF((INDIRECT(\"'\"&Lists!$J13&\"'!\"&Lists!$K13&P$14))=\"\",\"\",(INDIRECT(\"'\"&Lists!$J13&\"'!\"&Lists!$K13&P$14))))","v":""},{"$f":"IF(ISNA(Lists!$J13),\"\",IF((INDIRECT(\"'\"&Lists!$J13&\"'!\"&Lists!$K13&Q$14))=\"\",\"\",(INDIRECT(\"'\"&Lists!$J13&\"'!\"&Lists!$K13&Q$14))))","v":""},{"$f":"IF(ISNA(Lists!$J13),\"\",IF((INDIRECT(\"'\"&Lists!$J13&\"'!\"&Lists!$K13&R$14))=\"\",\"\",(INDIRECT(\"'\"&Lists!$J13&\"'!\"&Lists!$K13&R$14))))","v":""},{"$f":"IF(ISNA(Lists!$J13),\"\",IF((INDIRECT(\"'\"&Lists!$J13&\"'!\"&Lists!$K13&S$14))=\"\",\"\",(INDIRECT(\"'\"&Lists!$J13&\"'!\"&Lists!$K13&S$14))))","v":""},{"$f":"IF(ISNA(Lists!$J13),\"\",IF((INDIRECT(\"'\"&Lists!$J13&\"'!\"&Lists!$K13&T$14))=\"\",\"\",(INDIRECT(\"'\"&Lists!$J13&\"'!\"&Lists!$K13&T$14))))","v":""},{"$f":"IF(ISNA(Lists!$J13),\"\",IF((INDIRECT(\"'\"&Lists!$J13&\"'!\"&Lists!$L13&U$14))=\"\",\"\",(INDIRECT(\"'\"&Lists!$J13&\"'!\"&Lists!$L13&U$14))))","v":""},{"$f":"IF(ISNA(Lists!$J13),\"\",IF((INDIRECT(\"'\"&Lists!$J13&\"'!\"&Lists!$L13&V$14))=\"\",\"\",(INDIRECT(\"'\"&Lists!$J13&\"'!\"&Lists!$L13&V$14))))","v":""},{"$f":"IF(ISNA(Lists!$J13),\"\",IF((INDIRECT(\"'\"&Lists!$J13&\"'!\"&Lists!$L13&W$14))=\"\",\"\",(INDIRECT(\"'\"&Lists!$J13&\"'!\"&Lists!$L13&W$14))))","v":""},{"$f":"IF(ISNA(Lists!$J13),\"\",IF((INDIRECT(\"'\"&Lists!$J13&\"'!\"&Lists!$L13&X$14))=\"\",\"\",(INDIRECT(\"'\"&Lists!$J13&\"'!\"&Lists!$L13&X$14))))","v":""},{"$f":"IF(ISNA(Lists!$J13),\"\",IF((INDIRECT(\"'\"&Lists!$J13&\"'!\"&Lists!$L13&Y$14))=\"\",\"\",(INDIRECT(\"'\"&Lists!$J13&\"'!\"&Lists!$L13&Y$14))))","v":""},{"$f":"IF(ISNA(Lists!$J13),\"\",IF((INDIRECT(\"'\"&Lists!$J13&\"'!\"&Lists!$L13&Z$14))=\"\",\"\",(INDIRECT(\"'\"&Lists!$J13&\"'!\"&Lists!$L13&Z$14))))","v":""},{"$f":"IF(ISNA(Lists!$J13),\"\",IF((INDIRECT(\"'\"&Lists!$J13&\"'!\"&Lists!$L13&AA$14))=\"\",\"\",(INDIRECT(\"'\"&Lists!$J13&\"'!\"&Lists!$L13&AA$14))))","v":""},{"$f":"IF(ISNA(Lists!$J13),\"\",IF((INDIRECT(\"'\"&Lists!$J13&\"'!\"&Lists!$K13&AB$14))=\"\",\"\",(INDIRECT(\"'\"&Lists!$J13&\"'!\"&Lists!$K13&AB$14))))","v":""},{"$f":"IF(ISNA(Lists!$J13),\"\",IF((INDIRECT(\"'\"&Lists!$J13&\"'!\"&Lists!$K13&AC$14))=\"\",\"\",(INDIRECT(\"'\"&Lists!$J13&\"'!\"&Lists!$K13&AC$14))))","v":""},{"$f":"IF(ISNA(Lists!$J13),\"\",IF((INDIRECT(\"'\"&Lists!$J13&\"'!\"&Lists!$K13&AD$14))=\"\",\"\",(INDIRECT(\"'\"&Lists!$J13&\"'!\"&Lists!$K13&AD$14))))","v":""},{"$f":"IF(ISNA(Lists!$J13),\"\",IF((INDIRECT(\"'\"&Lists!$J13&\"'!\"&Lists!$K13&AE$14))=\"\",\"\",(INDIRECT(\"'\"&Lists!$J13&\"'!\"&Lists!$K13&AE$14))))","v":""},{"$f":"IF(ISNA(Lists!$J13),\"\",IF((INDIRECT(\"'\"&Lists!$J13&\"'!\"&Lists!$K13&AF$14))=\"\",\"\",(INDIRECT(\"'\"&Lists!$J13&\"'!\"&Lists!$K13&AF$14))))","v":""},{"$f":"IF(ISNA(Lists!$J13),\"\",IF((INDIRECT(\"'\"&Lists!$J13&\"'!\"&Lists!$K13&AG$14))=\"\",\"\",(INDIRECT(\"'\"&Lists!$J13&\"'!\"&Lists!$K13&AG$14))))","v":""},{"$f":"IF(ISNA(Lists!$J13),\"\",IF((INDIRECT(\"'\"&Lists!$J13&\"'!\"&Lists!$K13&AH$14))=\"\",\"\",(INDIRECT(\"'\"&Lists!$J13&\"'!\"&Lists!$K13&AH$14))))","v":""},{"$f":"IF(ISNA(Lists!$J13),\"\",IF((INDIRECT(\"'\"&Lists!$J13&\"'!\"&Lists!$K13&AI$14))=\"\",\"\",(INDIRECT(\"'\"&Lists!$J13&\"'!\"&Lists!$K13&AI$14))))","v":""},{"$f":"IF(ISNA(Lists!$J13),\"\",IF((INDIRECT(\"'\"&Lists!$J13&\"'!\"&Lists!$K13&AJ$14))=\"\",\"\",(INDIRECT(\"'\"&Lists!$J13&\"'!\"&Lists!$K13&AJ$14))))","v":""},{"$f":"IF(ISNA(Lists!$J13),\"\",IF((INDIRECT(\"'\"&Lists!$J13&\"'!\"&Lists!$K13&AK$14))=\"\",\"\",(INDIRECT(\"'\"&Lists!$J13&\"'!\"&Lists!$K13&AK$14))))","v":""}]
[{"$f":"IF(B27=\"\",\"\",' Facility_Info upload'!$A$24)","v":""},{"$f":"IF(ISNA(Lists!$J14),\"\",IF(INDIRECT(\"'\"&Lists!$J14&\"'!\"&\"B\"&B$14)=\"\",\"\",(INDIRECT(\"'\"&Lists!$J14&\"'!\"&\"B\"&B$14))))","v":""},{"$f":"IF(ISNA(Lists!$J14),\"\",IF(INDIRECT(\"'\"&Lists!$J14&\"'!\"&\"B\"&C$14)=\"\",\"\",(INDIRECT(\"'\"&Lists!$J14&\"'!\"&\"B\"&C$14))))","v":""},{"$f":"IF(ISNA(Lists!$J14),\"\",IF(INDIRECT(\"'\"&Lists!$J14&\"'!\"&\"B\"&D$14)=\"\",\"\",(INDIRECT(\"'\"&Lists!$J14&\"'!\"&\"B\"&D$14))))","v":""},{"$f":"IF(ISNA(Lists!$J14),\"\",IF(INDIRECT(\"'\"&Lists!$J14&\"'!\"&\"B\"&E$14)=\"\",\"\",(INDIRECT(\"'\"&Lists!$J14&\"'!\"&\"B\"&E$14))))","v":""},{"$f":"IF(ISNA(Lists!$J14),\"\",IF(INDIRECT(\"'\"&Lists!$J14&\"'!\"&\"B\"&F$14)=\"\",\"\",(INDIRECT(\"'\"&Lists!$J14&\"'!\"&\"B\"&F$14))))","v":""},{"$f":"IF(ISNA(Lists!$J14),\"\",IF((INDIRECT(\"'\"&Lists!$J14&\"'!\"&Lists!$K14&G$14))=\"\",\"\",(INDIRECT(\"'\"&Lists!$J14&\"'!\"&Lists!$K14&G$14))))","v":""},{"$f":"IF(ISNA(Lists!$J14),\"\",IF((INDIRECT(\"'\"&Lists!$J14&\"'!\"&Lists!$K14&H$14))=\"\",\"\",(INDIRECT(\"'\"&Lists!$J14&\"'!\"&Lists!$K14&H$14))))","v":""},{"$f":"IF(ISNA(Lists!$J14),\"\",IF((INDIRECT(\"'\"&Lists!$J14&\"'!\"&Lists!$K14&I$14))=\"\",\"\",(INDIRECT(\"'\"&Lists!$J14&\"'!\"&Lists!$K14&I$14))))","v":""},{"$f":"IF(ISNA(Lists!$J14),\"\",IF((INDIRECT(\"'\"&Lists!$J14&\"'!\"&Lists!$K14&J$14))=\"\",\"\",(INDIRECT(\"'\"&Lists!$J14&\"'!\"&Lists!$K14&J$14))))","v":""},{"$f":"IF(ISNA(Lists!$J14),\"\",IF((INDIRECT(\"'\"&Lists!$J14&\"'!\"&Lists!$K14&K$14))=\"\",\"\",(INDIRECT(\"'\"&Lists!$J14&\"'!\"&Lists!$K14&K$14))))","v":""},{"$f":"IF(ISNA(Lists!$J14),\"\",IF((INDIRECT(\"'\"&Lists!$J14&\"'!\"&Lists!$K14&L$14))=\"\",\"\",(INDIRECT(\"'\"&Lists!$J14&\"'!\"&Lists!$K14&L$14))))","v":""},{"$f":"IF(ISNA(Lists!$J14),\"\",IF((INDIRECT(\"'\"&Lists!$J14&\"'!\"&Lists!$K14&M$14))=\"\",\"\",(INDIRECT(\"'\"&Lists!$J14&\"'!\"&Lists!$K14&M$14))))","v":""},{"$f":"IF(ISNA(Lists!$J14),\"\",IF((INDIRECT(\"'\"&Lists!$J14&\"'!\"&Lists!$K14&N$14))=\"\",\"\",(INDIRECT(\"'\"&Lists!$J14&\"'!\"&Lists!$K14&N$14))))","v":""},{"$f":"IF(ISNA(Lists!$J14),\"\",IF((INDIRECT(\"'\"&Lists!$J14&\"'!\"&Lists!$K14&O$14))=\"\",\"\",(INDIRECT(\"'\"&Lists!$J14&\"'!\"&Lists!$K14&O$14))))","v":""},{"$f":"IF(ISNA(Lists!$J14),\"\",IF((INDIRECT(\"'\"&Lists!$J14&\"'!\"&Lists!$K14&P$14))=\"\",\"\",(INDIRECT(\"'\"&Lists!$J14&\"'!\"&Lists!$K14&P$14))))","v":""},{"$f":"IF(ISNA(Lists!$J14),\"\",IF((INDIRECT(\"'\"&Lists!$J14&\"'!\"&Lists!$K14&Q$14))=\"\",\"\",(INDIRECT(\"'\"&Lists!$J14&\"'!\"&Lists!$K14&Q$14))))","v":""},{"$f":"IF(ISNA(Lists!$J14),\"\",IF((INDIRECT(\"'\"&Lists!$J14&\"'!\"&Lists!$K14&R$14))=\"\",\"\",(INDIRECT(\"'\"&Lists!$J14&\"'!\"&Lists!$K14&R$14))))","v":""},{"$f":"IF(ISNA(Lists!$J14),\"\",IF((INDIRECT(\"'\"&Lists!$J14&\"'!\"&Lists!$K14&S$14))=\"\",\"\",(INDIRECT(\"'\"&Lists!$J14&\"'!\"&Lists!$K14&S$14))))","v":""},{"$f":"IF(ISNA(Lists!$J14),\"\",IF((INDIRECT(\"'\"&Lists!$J14&\"'!\"&Lists!$K14&T$14))=\"\",\"\",(INDIRECT(\"'\"&Lists!$J14&\"'!\"&Lists!$K14&T$14))))","v":""},{"$f":"IF(ISNA(Lists!$J14),\"\",IF((INDIRECT(\"'\"&Lists!$J14&\"'!\"&Lists!$L14&U$14))=\"\",\"\",(INDIRECT(\"'\"&Lists!$J14&\"'!\"&Lists!$L14&U$14))))","v":""},{"$f":"IF(ISNA(Lists!$J14),\"\",IF((INDIRECT(\"'\"&Lists!$J14&\"'!\"&Lists!$L14&V$14))=\"\",\"\",(INDIRECT(\"'\"&Lists!$J14&\"'!\"&Lists!$L14&V$14))))","v":""},{"$f":"IF(ISNA(Lists!$J14),\"\",IF((INDIRECT(\"'\"&Lists!$J14&\"'!\"&Lists!$L14&W$14))=\"\",\"\",(INDIRECT(\"'\"&Lists!$J14&\"'!\"&Lists!$L14&W$14))))","v":""},{"$f":"IF(ISNA(Lists!$J14),\"\",IF((INDIRECT(\"'\"&Lists!$J14&\"'!\"&Lists!$L14&X$14))=\"\",\"\",(INDIRECT(\"'\"&Lists!$J14&\"'!\"&Lists!$L14&X$14))))","v":""},{"$f":"IF(ISNA(Lists!$J14),\"\",IF((INDIRECT(\"'\"&Lists!$J14&\"'!\"&Lists!$L14&Y$14))=\"\",\"\",(INDIRECT(\"'\"&Lists!$J14&\"'!\"&Lists!$L14&Y$14))))","v":""},{"$f":"IF(ISNA(Lists!$J14),\"\",IF((INDIRECT(\"'\"&Lists!$J14&\"'!\"&Lists!$L14&Z$14))=\"\",\"\",(INDIRECT(\"'\"&Lists!$J14&\"'!\"&Lists!$L14&Z$14))))","v":""},{"$f":"IF(ISNA(Lists!$J14),\"\",IF((INDIRECT(\"'\"&Lists!$J14&\"'!\"&Lists!$L14&AA$14))=\"\",\"\",(INDIRECT(\"'\"&Lists!$J14&\"'!\"&Lists!$L14&AA$14))))","v":""},{"$f":"IF(ISNA(Lists!$J14),\"\",IF((INDIRECT(\"'\"&Lists!$J14&\"'!\"&Lists!$K14&AB$14))=\"\",\"\",(INDIRECT(\"'\"&Lists!$J14&\"'!\"&Lists!$K14&AB$14))))","v":""},{"$f":"IF(ISNA(Lists!$J14),\"\",IF((INDIRECT(\"'\"&Lists!$J14&\"'!\"&Lists!$K14&AC$14))=\"\",\"\",(INDIRECT(\"'\"&Lists!$J14&\"'!\"&Lists!$K14&AC$14))))","v":""},{"$f":"IF(ISNA(Lists!$J14),\"\",IF((INDIRECT(\"'\"&Lists!$J14&\"'!\"&Lists!$K14&AD$14))=\"\",\"\",(INDIRECT(\"'\"&Lists!$J14&\"'!\"&Lists!$K14&AD$14))))","v":""},{"$f":"IF(ISNA(Lists!$J14),\"\",IF((INDIRECT(\"'\"&Lists!$J14&\"'!\"&Lists!$K14&AE$14))=\"\",\"\",(INDIRECT(\"'\"&Lists!$J14&\"'!\"&Lists!$K14&AE$14))))","v":""},{"$f":"IF(ISNA(Lists!$J14),\"\",IF((INDIRECT(\"'\"&Lists!$J14&\"'!\"&Lists!$K14&AF$14))=\"\",\"\",(INDIRECT(\"'\"&Lists!$J14&\"'!\"&Lists!$K14&AF$14))))","v":""},{"$f":"IF(ISNA(Lists!$J14),\"\",IF((INDIRECT(\"'\"&Lists!$J14&\"'!\"&Lists!$K14&AG$14))=\"\",\"\",(INDIRECT(\"'\"&Lists!$J14&\"'!\"&Lists!$K14&AG$14))))","v":""},{"$f":"IF(ISNA(Lists!$J14),\"\",IF((INDIRECT(\"'\"&Lists!$J14&\"'!\"&Lists!$K14&AH$14))=\"\",\"\",(INDIRECT(\"'\"&Lists!$J14&\"'!\"&Lists!$K14&AH$14))))","v":""},{"$f":"IF(ISNA(Lists!$J14),\"\",IF((INDIRECT(\"'\"&Lists!$J14&\"'!\"&Lists!$K14&AI$14))=\"\",\"\",(INDIRECT(\"'\"&Lists!$J14&\"'!\"&Lists!$K14&AI$14))))","v":""},{"$f":"IF(ISNA(Lists!$J14),\"\",IF((INDIRECT(\"'\"&Lists!$J14&\"'!\"&Lists!$K14&AJ$14))=\"\",\"\",(INDIRECT(\"'\"&Lists!$J14&\"'!\"&Lists!$K14&AJ$14))))","v":""},{"$f":"IF(ISNA(Lists!$J14),\"\",IF((INDIRECT(\"'\"&Lists!$J14&\"'!\"&Lists!$K14&AK$14))=\"\",\"\",(INDIRECT(\"'\"&Lists!$J14&\"'!\"&Lists!$K14&AK$14))))","v":""}]
[{"$f":"IF(B28=\"\",\"\",' Facility_Info upload'!$A$24)","v":""},{"$f":"IF(ISNA(Lists!$J15),\"\",IF(INDIRECT(\"'\"&Lists!$J15&\"'!\"&\"B\"&B$14)=\"\",\"\",(INDIRECT(\"'\"&Lists!$J15&\"'!\"&\"B\"&B$14))))","v":""},{"$f":"IF(ISNA(Lists!$J15),\"\",IF(INDIRECT(\"'\"&Lists!$J15&\"'!\"&\"B\"&C$14)=\"\",\"\",(INDIRECT(\"'\"&Lists!$J15&\"'!\"&\"B\"&C$14))))","v":""},{"$f":"IF(ISNA(Lists!$J15),\"\",IF(INDIRECT(\"'\"&Lists!$J15&\"'!\"&\"B\"&D$14)=\"\",\"\",(INDIRECT(\"'\"&Lists!$J15&\"'!\"&\"B\"&D$14))))","v":""},{"$f":"IF(ISNA(Lists!$J15),\"\",IF(INDIRECT(\"'\"&Lists!$J15&\"'!\"&\"B\"&E$14)=\"\",\"\",(INDIRECT(\"'\"&Lists!$J15&\"'!\"&\"B\"&E$14))))","v":""},{"$f":"IF(ISNA(Lists!$J15),\"\",IF(INDIRECT(\"'\"&Lists!$J15&\"'!\"&\"B\"&F$14)=\"\",\"\",(INDIRECT(\"'\"&Lists!$J15&\"'!\"&\"B\"&F$14))))","v":""},{"$f":"IF(ISNA(Lists!$J15),\"\",IF((INDIRECT(\"'\"&Lists!$J15&\"'!\"&Lists!$K15&G$14))=\"\",\"\",(INDIRECT(\"'\"&Lists!$J15&\"'!\"&Lists!$K15&G$14))))","v":""},{"$f":"IF(ISNA(Lists!$J15),\"\",IF((INDIRECT(\"'\"&Lists!$J15&\"'!\"&Lists!$K15&H$14))=\"\",\"\",(INDIRECT(\"'\"&Lists!$J15&\"'!\"&Lists!$K15&H$14))))","v":""},{"$f":"IF(ISNA(Lists!$J15),\"\",IF((INDIRECT(\"'\"&Lists!$J15&\"'!\"&Lists!$K15&I$14))=\"\",\"\",(INDIRECT(\"'\"&Lists!$J15&\"'!\"&Lists!$K15&I$14))))","v":""},{"$f":"IF(ISNA(Lists!$J15),\"\",IF((INDIRECT(\"'\"&Lists!$J15&\"'!\"&Lists!$K15&J$14))=\"\",\"\",(INDIRECT(\"'\"&Lists!$J15&\"'!\"&Lists!$K15&J$14))))","v":""},{"$f":"IF(ISNA(Lists!$J15),\"\",IF((INDIRECT(\"'\"&Lists!$J15&\"'!\"&Lists!$K15&K$14))=\"\",\"\",(INDIRECT(\"'\"&Lists!$J15&\"'!\"&Lists!$K15&K$14))))","v":""},{"$f":"IF(ISNA(Lists!$J15),\"\",IF((INDIRECT(\"'\"&Lists!$J15&\"'!\"&Lists!$K15&L$14))=\"\",\"\",(INDIRECT(\"'\"&Lists!$J15&\"'!\"&Lists!$K15&L$14))))","v":""},{"$f":"IF(ISNA(Lists!$J15),\"\",IF((INDIRECT(\"'\"&Lists!$J15&\"'!\"&Lists!$K15&M$14))=\"\",\"\",(INDIRECT(\"'\"&Lists!$J15&\"'!\"&Lists!$K15&M$14))))","v":""},{"$f":"IF(ISNA(Lists!$J15),\"\",IF((INDIRECT(\"'\"&Lists!$J15&\"'!\"&Lists!$K15&N$14))=\"\",\"\",(INDIRECT(\"'\"&Lists!$J15&\"'!\"&Lists!$K15&N$14))))","v":""},{"$f":"IF(ISNA(Lists!$J15),\"\",IF((INDIRECT(\"'\"&Lists!$J15&\"'!\"&Lists!$K15&O$14))=\"\",\"\",(INDIRECT(\"'\"&Lists!$J15&\"'!\"&Lists!$K15&O$14))))","v":""},{"$f":"IF(ISNA(Lists!$J15),\"\",IF((INDIRECT(\"'\"&Lists!$J15&\"'!\"&Lists!$K15&P$14))=\"\",\"\",(INDIRECT(\"'\"&Lists!$J15&\"'!\"&Lists!$K15&P$14))))","v":""},{"$f":"IF(ISNA(Lists!$J15),\"\",IF((INDIRECT(\"'\"&Lists!$J15&\"'!\"&Lists!$K15&Q$14))=\"\",\"\",(INDIRECT(\"'\"&Lists!$J15&\"'!\"&Lists!$K15&Q$14))))","v":""},{"$f":"IF(ISNA(Lists!$J15),\"\",IF((INDIRECT(\"'\"&Lists!$J15&\"'!\"&Lists!$K15&R$14))=\"\",\"\",(INDIRECT(\"'\"&Lists!$J15&\"'!\"&Lists!$K15&R$14))))","v":""},{"$f":"IF(ISNA(Lists!$J15),\"\",IF((INDIRECT(\"'\"&Lists!$J15&\"'!\"&Lists!$K15&S$14))=\"\",\"\",(INDIRECT(\"'\"&Lists!$J15&\"'!\"&Lists!$K15&S$14))))","v":""},{"$f":"IF(ISNA(Lists!$J15),\"\",IF((INDIRECT(\"'\"&Lists!$J15&\"'!\"&Lists!$K15&T$14))=\"\",\"\",(INDIRECT(\"'\"&Lists!$J15&\"'!\"&Lists!$K15&T$14))))","v":""},{"$f":"IF(ISNA(Lists!$J15),\"\",IF((INDIRECT(\"'\"&Lists!$J15&\"'!\"&Lists!$L15&U$14))=\"\",\"\",(INDIRECT(\"'\"&Lists!$J15&\"'!\"&Lists!$L15&U$14))))","v":""},{"$f":"IF(ISNA(Lists!$J15),\"\",IF((INDIRECT(\"'\"&Lists!$J15&\"'!\"&Lists!$L15&V$14))=\"\",\"\",(INDIRECT(\"'\"&Lists!$J15&\"'!\"&Lists!$L15&V$14))))","v":""},{"$f":"IF(ISNA(Lists!$J15),\"\",IF((INDIRECT(\"'\"&Lists!$J15&\"'!\"&Lists!$L15&W$14))=\"\",\"\",(INDIRECT(\"'\"&Lists!$J15&\"'!\"&Lists!$L15&W$14))))","v":""},{"$f":"IF(ISNA(Lists!$J15),\"\",IF((INDIRECT(\"'\"&Lists!$J15&\"'!\"&Lists!$L15&X$14))=\"\",\"\",(INDIRECT(\"'\"&Lists!$J15&\"'!\"&Lists!$L15&X$14))))","v":""},{"$f":"IF(ISNA(Lists!$J15),\"\",IF((INDIRECT(\"'\"&Lists!$J15&\"'!\"&Lists!$L15&Y$14))=\"\",\"\",(INDIRECT(\"'\"&Lists!$J15&\"'!\"&Lists!$L15&Y$14))))","v":""},{"$f":"IF(ISNA(Lists!$J15),\"\",IF((INDIRECT(\"'\"&Lists!$J15&\"'!\"&Lists!$L15&Z$14))=\"\",\"\",(INDIRECT(\"'\"&Lists!$J15&\"'!\"&Lists!$L15&Z$14))))","v":""},{"$f":"IF(ISNA(Lists!$J15),\"\",IF((INDIRECT(\"'\"&Lists!$J15&\"'!\"&Lists!$L15&AA$14))=\"\",\"\",(INDIRECT(\"'\"&Lists!$J15&\"'!\"&Lists!$L15&AA$14))))","v":""},{"$f":"IF(ISNA(Lists!$J15),\"\",IF((INDIRECT(\"'\"&Lists!$J15&\"'!\"&Lists!$K15&AB$14))=\"\",\"\",(INDIRECT(\"'\"&Lists!$J15&\"'!\"&Lists!$K15&AB$14))))","v":""},{"$f":"IF(ISNA(Lists!$J15),\"\",IF((INDIRECT(\"'\"&Lists!$J15&\"'!\"&Lists!$K15&AC$14))=\"\",\"\",(INDIRECT(\"'\"&Lists!$J15&\"'!\"&Lists!$K15&AC$14))))","v":""},{"$f":"IF(ISNA(Lists!$J15),\"\",IF((INDIRECT(\"'\"&Lists!$J15&\"'!\"&Lists!$K15&AD$14))=\"\",\"\",(INDIRECT(\"'\"&Lists!$J15&\"'!\"&Lists!$K15&AD$14))))","v":""},{"$f":"IF(ISNA(Lists!$J15),\"\",IF((INDIRECT(\"'\"&Lists!$J15&\"'!\"&Lists!$K15&AE$14))=\"\",\"\",(INDIRECT(\"'\"&Lists!$J15&\"'!\"&Lists!$K15&AE$14))))","v":""},{"$f":"IF(ISNA(Lists!$J15),\"\",IF((INDIRECT(\"'\"&Lists!$J15&\"'!\"&Lists!$K15&AF$14))=\"\",\"\",(INDIRECT(\"'\"&Lists!$J15&\"'!\"&Lists!$K15&AF$14))))","v":""},{"$f":"IF(ISNA(Lists!$J15),\"\",IF((INDIRECT(\"'\"&Lists!$J15&\"'!\"&Lists!$K15&AG$14))=\"\",\"\",(INDIRECT(\"'\"&Lists!$J15&\"'!\"&Lists!$K15&AG$14))))","v":""},{"$f":"IF(ISNA(Lists!$J15),\"\",IF((INDIRECT(\"'\"&Lists!$J15&\"'!\"&Lists!$K15&AH$14))=\"\",\"\",(INDIRECT(\"'\"&Lists!$J15&\"'!\"&Lists!$K15&AH$14))))","v":""},{"$f":"IF(ISNA(Lists!$J15),\"\",IF((INDIRECT(\"'\"&Lists!$J15&\"'!\"&Lists!$K15&AI$14))=\"\",\"\",(INDIRECT(\"'\"&Lists!$J15&\"'!\"&Lists!$K15&AI$14))))","v":""},{"$f":"IF(ISNA(Lists!$J15),\"\",IF((INDIRECT(\"'\"&Lists!$J15&\"'!\"&Lists!$K15&AJ$14))=\"\",\"\",(INDIRECT(\"'\"&Lists!$J15&\"'!\"&Lists!$K15&AJ$14))))","v":""},{"$f":"IF(ISNA(Lists!$J15),\"\",IF((INDIRECT(\"'\"&Lists!$J15&\"'!\"&Lists!$K15&AK$14))=\"\",\"\",(INDIRECT(\"'\"&Lists!$J15&\"'!\"&Lists!$K15&AK$14))))","v":""}]
[{"$f":"IF(B29=\"\",\"\",' Facility_Info upload'!$A$24)","v":""},{"$f":"IF(ISNA(Lists!$J16),\"\",IF(INDIRECT(\"'\"&Lists!$J16&\"'!\"&\"B\"&B$14)=\"\",\"\",(INDIRECT(\"'\"&Lists!$J16&\"'!\"&\"B\"&B$14))))","v":""},{"$f":"IF(ISNA(Lists!$J16),\"\",IF(INDIRECT(\"'\"&Lists!$J16&\"'!\"&\"B\"&C$14)=\"\",\"\",(INDIRECT(\"'\"&Lists!$J16&\"'!\"&\"B\"&C$14))))","v":""},{"$f":"IF(ISNA(Lists!$J16),\"\",IF(INDIRECT(\"'\"&Lists!$J16&\"'!\"&\"B\"&D$14)=\"\",\"\",(INDIRECT(\"'\"&Lists!$J16&\"'!\"&\"B\"&D$14))))","v":""},{"$f":"IF(ISNA(Lists!$J16),\"\",IF(INDIRECT(\"'\"&Lists!$J16&\"'!\"&\"B\"&E$14)=\"\",\"\",(INDIRECT(\"'\"&Lists!$J16&\"'!\"&\"B\"&E$14))))","v":""},{"$f":"IF(ISNA(Lists!$J16),\"\",IF(INDIRECT(\"'\"&Lists!$J16&\"'!\"&\"B\"&F$14)=\"\",\"\",(INDIRECT(\"'\"&Lists!$J16&\"'!\"&\"B\"&F$14))))","v":""},{"$f":"IF(ISNA(Lists!$J16),\"\",IF((INDIRECT(\"'\"&Lists!$J16&\"'!\"&Lists!$K16&G$14))=\"\",\"\",(INDIRECT(\"'\"&Lists!$J16&\"'!\"&Lists!$K16&G$14))))","v":""},{"$f":"IF(ISNA(Lists!$J16),\"\",IF((INDIRECT(\"'\"&Lists!$J16&\"'!\"&Lists!$K16&H$14))=\"\",\"\",(INDIRECT(\"'\"&Lists!$J16&\"'!\"&Lists!$K16&H$14))))","v":""},{"$f":"IF(ISNA(Lists!$J16),\"\",IF((INDIRECT(\"'\"&Lists!$J16&\"'!\"&Lists!$K16&I$14))=\"\",\"\",(INDIRECT(\"'\"&Lists!$J16&\"'!\"&Lists!$K16&I$14))))","v":""},{"$f":"IF(ISNA(Lists!$J16),\"\",IF((INDIRECT(\"'\"&Lists!$J16&\"'!\"&Lists!$K16&J$14))=\"\",\"\",(INDIRECT(\"'\"&Lists!$J16&\"'!\"&Lists!$K16&J$14))))","v":""},{"$f":"IF(ISNA(Lists!$J16),\"\",IF((INDIRECT(\"'\"&Lists!$J16&\"'!\"&Lists!$K16&K$14))=\"\",\"\",(INDIRECT(\"'\"&Lists!$J16&\"'!\"&Lists!$K16&K$14))))","v":""},{"$f":"IF(ISNA(Lists!$J16),\"\",IF((INDIRECT(\"'\"&Lists!$J16&\"'!\"&Lists!$K16&L$14))=\"\",\"\",(INDIRECT(\"'\"&Lists!$J16&\"'!\"&Lists!$K16&L$14))))","v":""},{"$f":"IF(ISNA(Lists!$J16),\"\",IF((INDIRECT(\"'\"&Lists!$J16&\"'!\"&Lists!$K16&M$14))=\"\",\"\",(INDIRECT(\"'\"&Lists!$J16&\"'!\"&Lists!$K16&M$14))))","v":""},{"$f":"IF(ISNA(Lists!$J16),\"\",IF((INDIRECT(\"'\"&Lists!$J16&\"'!\"&Lists!$K16&N$14))=\"\",\"\",(INDIRECT(\"'\"&Lists!$J16&\"'!\"&Lists!$K16&N$14))))","v":""},{"$f":"IF(ISNA(Lists!$J16),\"\",IF((INDIRECT(\"'\"&Lists!$J16&\"'!\"&Lists!$K16&O$14))=\"\",\"\",(INDIRECT(\"'\"&Lists!$J16&\"'!\"&Lists!$K16&O$14))))","v":""},{"$f":"IF(ISNA(Lists!$J16),\"\",IF((INDIRECT(\"'\"&Lists!$J16&\"'!\"&Lists!$K16&P$14))=\"\",\"\",(INDIRECT(\"'\"&Lists!$J16&\"'!\"&Lists!$K16&P$14))))","v":""},{"$f":"IF(ISNA(Lists!$J16),\"\",IF((INDIRECT(\"'\"&Lists!$J16&\"'!\"&Lists!$K16&Q$14))=\"\",\"\",(INDIRECT(\"'\"&Lists!$J16&\"'!\"&Lists!$K16&Q$14))))","v":""},{"$f":"IF(ISNA(Lists!$J16),\"\",IF((INDIRECT(\"'\"&Lists!$J16&\"'!\"&Lists!$K16&R$14))=\"\",\"\",(INDIRECT(\"'\"&Lists!$J16&\"'!\"&Lists!$K16&R$14))))","v":""},{"$f":"IF(ISNA(Lists!$J16),\"\",IF((INDIRECT(\"'\"&Lists!$J16&\"'!\"&Lists!$K16&S$14))=\"\",\"\",(INDIRECT(\"'\"&Lists!$J16&\"'!\"&Lists!$K16&S$14))))","v":""},{"$f":"IF(ISNA(Lists!$J16),\"\",IF((INDIRECT(\"'\"&Lists!$J16&\"'!\"&Lists!$K16&T$14))=\"\",\"\",(INDIRECT(\"'\"&Lists!$J16&\"'!\"&Lists!$K16&T$14))))","v":""},{"$f":"IF(ISNA(Lists!$J16),\"\",IF((INDIRECT(\"'\"&Lists!$J16&\"'!\"&Lists!$L16&U$14))=\"\",\"\",(INDIRECT(\"'\"&Lists!$J16&\"'!\"&Lists!$L16&U$14))))","v":""},{"$f":"IF(ISNA(Lists!$J16),\"\",IF((INDIRECT(\"'\"&Lists!$J16&\"'!\"&Lists!$L16&V$14))=\"\",\"\",(INDIRECT(\"'\"&Lists!$J16&\"'!\"&Lists!$L16&V$14))))","v":""},{"$f":"IF(ISNA(Lists!$J16),\"\",IF((INDIRECT(\"'\"&Lists!$J16&\"'!\"&Lists!$L16&W$14))=\"\",\"\",(INDIRECT(\"'\"&Lists!$J16&\"'!\"&Lists!$L16&W$14))))","v":""},{"$f":"IF(ISNA(Lists!$J16),\"\",IF((INDIRECT(\"'\"&Lists!$J16&\"'!\"&Lists!$L16&X$14))=\"\",\"\",(INDIRECT(\"'\"&Lists!$J16&\"'!\"&Lists!$L16&X$14))))","v":""},{"$f":"IF(ISNA(Lists!$J16),\"\",IF((INDIRECT(\"'\"&Lists!$J16&\"'!\"&Lists!$L16&Y$14))=\"\",\"\",(INDIRECT(\"'\"&Lists!$J16&\"'!\"&Lists!$L16&Y$14))))","v":""},{"$f":"IF(ISNA(Lists!$J16),\"\",IF((INDIRECT(\"'\"&Lists!$J16&\"'!\"&Lists!$L16&Z$14))=\"\",\"\",(INDIRECT(\"'\"&Lists!$J16&\"'!\"&Lists!$L16&Z$14))))","v":""},{"$f":"IF(ISNA(Lists!$J16),\"\",IF((INDIRECT(\"'\"&Lists!$J16&\"'!\"&Lists!$L16&AA$14))=\"\",\"\",(INDIRECT(\"'\"&Lists!$J16&\"'!\"&Lists!$L16&AA$14))))","v":""},{"$f":"IF(ISNA(Lists!$J16),\"\",IF((INDIRECT(\"'\"&Lists!$J16&\"'!\"&Lists!$K16&AB$14))=\"\",\"\",(INDIRECT(\"'\"&Lists!$J16&\"'!\"&Lists!$K16&AB$14))))","v":""},{"$f":"IF(ISNA(Lists!$J16),\"\",IF((INDIRECT(\"'\"&Lists!$J16&\"'!\"&Lists!$K16&AC$14))=\"\",\"\",(INDIRECT(\"'\"&Lists!$J16&\"'!\"&Lists!$K16&AC$14))))","v":""},{"$f":"IF(ISNA(Lists!$J16),\"\",IF((INDIRECT(\"'\"&Lists!$J16&\"'!\"&Lists!$K16&AD$14))=\"\",\"\",(INDIRECT(\"'\"&Lists!$J16&\"'!\"&Lists!$K16&AD$14))))","v":""},{"$f":"IF(ISNA(Lists!$J16),\"\",IF((INDIRECT(\"'\"&Lists!$J16&\"'!\"&Lists!$K16&AE$14))=\"\",\"\",(INDIRECT(\"'\"&Lists!$J16&\"'!\"&Lists!$K16&AE$14))))","v":""},{"$f":"IF(ISNA(Lists!$J16),\"\",IF((INDIRECT(\"'\"&Lists!$J16&\"'!\"&Lists!$K16&AF$14))=\"\",\"\",(INDIRECT(\"'\"&Lists!$J16&\"'!\"&Lists!$K16&AF$14))))","v":""},{"$f":"IF(ISNA(Lists!$J16),\"\",IF((INDIRECT(\"'\"&Lists!$J16&\"'!\"&Lists!$K16&AG$14))=\"\",\"\",(INDIRECT(\"'\"&Lists!$J16&\"'!\"&Lists!$K16&AG$14))))","v":""},{"$f":"IF(ISNA(Lists!$J16),\"\",IF((INDIRECT(\"'\"&Lists!$J16&\"'!\"&Lists!$K16&AH$14))=\"\",\"\",(INDIRECT(\"'\"&Lists!$J16&\"'!\"&Lists!$K16&AH$14))))","v":""},{"$f":"IF(ISNA(Lists!$J16),\"\",IF((INDIRECT(\"'\"&Lists!$J16&\"'!\"&Lists!$K16&AI$14))=\"\",\"\",(INDIRECT(\"'\"&Lists!$J16&\"'!\"&Lists!$K16&AI$14))))","v":""},{"$f":"IF(ISNA(Lists!$J16),\"\",IF((INDIRECT(\"'\"&Lists!$J16&\"'!\"&Lists!$K16&AJ$14))=\"\",\"\",(INDIRECT(\"'\"&Lists!$J16&\"'!\"&Lists!$K16&AJ$14))))","v":""},{"$f":"IF(ISNA(Lists!$J16),\"\",IF((INDIRECT(\"'\"&Lists!$J16&\"'!\"&Lists!$K16&AK$14))=\"\",\"\",(INDIRECT(\"'\"&Lists!$J16&\"'!\"&Lists!$K16&AK$14))))","v":""}]
[{"$f":"IF(B30=\"\",\"\",' Facility_Info upload'!$A$24)","v":""},{"$f":"IF(ISNA(Lists!$J17),\"\",IF(INDIRECT(\"'\"&Lists!$J17&\"'!\"&\"B\"&B$14)=\"\",\"\",(INDIRECT(\"'\"&Lists!$J17&\"'!\"&\"B\"&B$14))))","v":""},{"$f":"IF(ISNA(Lists!$J17),\"\",IF(INDIRECT(\"'\"&Lists!$J17&\"'!\"&\"B\"&C$14)=\"\",\"\",(INDIRECT(\"'\"&Lists!$J17&\"'!\"&\"B\"&C$14))))","v":""},{"$f":"IF(ISNA(Lists!$J17),\"\",IF(INDIRECT(\"'\"&Lists!$J17&\"'!\"&\"B\"&D$14)=\"\",\"\",(INDIRECT(\"'\"&Lists!$J17&\"'!\"&\"B\"&D$14))))","v":""},{"$f":"IF(ISNA(Lists!$J17),\"\",IF(INDIRECT(\"'\"&Lists!$J17&\"'!\"&\"B\"&E$14)=\"\",\"\",(INDIRECT(\"'\"&Lists!$J17&\"'!\"&\"B\"&E$14))))","v":""},{"$f":"IF(ISNA(Lists!$J17),\"\",IF(INDIRECT(\"'\"&Lists!$J17&\"'!\"&\"B\"&F$14)=\"\",\"\",(INDIRECT(\"'\"&Lists!$J17&\"'!\"&\"B\"&F$14))))","v":""},{"$f":"IF(ISNA(Lists!$J17),\"\",IF((INDIRECT(\"'\"&Lists!$J17&\"'!\"&Lists!$K17&G$14))=\"\",\"\",(INDIRECT(\"'\"&Lists!$J17&\"'!\"&Lists!$K17&G$14))))","v":""},{"$f":"IF(ISNA(Lists!$J17),\"\",IF((INDIRECT(\"'\"&Lists!$J17&\"'!\"&Lists!$K17&H$14))=\"\",\"\",(INDIRECT(\"'\"&Lists!$J17&\"'!\"&Lists!$K17&H$14))))","v":""},{"$f":"IF(ISNA(Lists!$J17),\"\",IF((INDIRECT(\"'\"&Lists!$J17&\"'!\"&Lists!$K17&I$14))=\"\",\"\",(INDIRECT(\"'\"&Lists!$J17&\"'!\"&Lists!$K17&I$14))))","v":""},{"$f":"IF(ISNA(Lists!$J17),\"\",IF((INDIRECT(\"'\"&Lists!$J17&\"'!\"&Lists!$K17&J$14))=\"\",\"\",(INDIRECT(\"'\"&Lists!$J17&\"'!\"&Lists!$K17&J$14))))","v":""},{"$f":"IF(ISNA(Lists!$J17),\"\",IF((INDIRECT(\"'\"&Lists!$J17&\"'!\"&Lists!$K17&K$14))=\"\",\"\",(INDIRECT(\"'\"&Lists!$J17&\"'!\"&Lists!$K17&K$14))))","v":""},{"$f":"IF(ISNA(Lists!$J17),\"\",IF((INDIRECT(\"'\"&Lists!$J17&\"'!\"&Lists!$K17&L$14))=\"\",\"\",(INDIRECT(\"'\"&Lists!$J17&\"'!\"&Lists!$K17&L$14))))","v":""},{"$f":"IF(ISNA(Lists!$J17),\"\",IF((INDIRECT(\"'\"&Lists!$J17&\"'!\"&Lists!$K17&M$14))=\"\",\"\",(INDIRECT(\"'\"&Lists!$J17&\"'!\"&Lists!$K17&M$14))))","v":""},{"$f":"IF(ISNA(Lists!$J17),\"\",IF((INDIRECT(\"'\"&Lists!$J17&\"'!\"&Lists!$K17&N$14))=\"\",\"\",(INDIRECT(\"'\"&Lists!$J17&\"'!\"&Lists!$K17&N$14))))","v":""},{"$f":"IF(ISNA(Lists!$J17),\"\",IF((INDIRECT(\"'\"&Lists!$J17&\"'!\"&Lists!$K17&O$14))=\"\",\"\",(INDIRECT(\"'\"&Lists!$J17&\"'!\"&Lists!$K17&O$14))))","v":""},{"$f":"IF(ISNA(Lists!$J17),\"\",IF((INDIRECT(\"'\"&Lists!$J17&\"'!\"&Lists!$K17&P$14))=\"\",\"\",(INDIRECT(\"'\"&Lists!$J17&\"'!\"&Lists!$K17&P$14))))","v":""},{"$f":"IF(ISNA(Lists!$J17),\"\",IF((INDIRECT(\"'\"&Lists!$J17&\"'!\"&Lists!$K17&Q$14))=\"\",\"\",(INDIRECT(\"'\"&Lists!$J17&\"'!\"&Lists!$K17&Q$14))))","v":""},{"$f":"IF(ISNA(Lists!$J17),\"\",IF((INDIRECT(\"'\"&Lists!$J17&\"'!\"&Lists!$K17&R$14))=\"\",\"\",(INDIRECT(\"'\"&Lists!$J17&\"'!\"&Lists!$K17&R$14))))","v":""},{"$f":"IF(ISNA(Lists!$J17),\"\",IF((INDIRECT(\"'\"&Lists!$J17&\"'!\"&Lists!$K17&S$14))=\"\",\"\",(INDIRECT(\"'\"&Lists!$J17&\"'!\"&Lists!$K17&S$14))))","v":""},{"$f":"IF(ISNA(Lists!$J17),\"\",IF((INDIRECT(\"'\"&Lists!$J17&\"'!\"&Lists!$K17&T$14))=\"\",\"\",(INDIRECT(\"'\"&Lists!$J17&\"'!\"&Lists!$K17&T$14))))","v":""},{"$f":"IF(ISNA(Lists!$J17),\"\",IF((INDIRECT(\"'\"&Lists!$J17&\"'!\"&Lists!$L17&U$14))=\"\",\"\",(INDIRECT(\"'\"&Lists!$J17&\"'!\"&Lists!$L17&U$14))))","v":""},{"$f":"IF(ISNA(Lists!$J17),\"\",IF((INDIRECT(\"'\"&Lists!$J17&\"'!\"&Lists!$L17&V$14))=\"\",\"\",(INDIRECT(\"'\"&Lists!$J17&\"'!\"&Lists!$L17&V$14))))","v":""},{"$f":"IF(ISNA(Lists!$J17),\"\",IF((INDIRECT(\"'\"&Lists!$J17&\"'!\"&Lists!$L17&W$14))=\"\",\"\",(INDIRECT(\"'\"&Lists!$J17&\"'!\"&Lists!$L17&W$14))))","v":""},{"$f":"IF(ISNA(Lists!$J17),\"\",IF((INDIRECT(\"'\"&Lists!$J17&\"'!\"&Lists!$L17&X$14))=\"\",\"\",(INDIRECT(\"'\"&Lists!$J17&\"'!\"&Lists!$L17&X$14))))","v":""},{"$f":"IF(ISNA(Lists!$J17),\"\",IF((INDIRECT(\"'\"&Lists!$J17&\"'!\"&Lists!$L17&Y$14))=\"\",\"\",(INDIRECT(\"'\"&Lists!$J17&\"'!\"&Lists!$L17&Y$14))))","v":""},{"$f":"IF(ISNA(Lists!$J17),\"\",IF((INDIRECT(\"'\"&Lists!$J17&\"'!\"&Lists!$L17&Z$14))=\"\",\"\",(INDIRECT(\"'\"&Lists!$J17&\"'!\"&Lists!$L17&Z$14))))","v":""},{"$f":"IF(ISNA(Lists!$J17),\"\",IF((INDIRECT(\"'\"&Lists!$J17&\"'!\"&Lists!$L17&AA$14))=\"\",\"\",(INDIRECT(\"'\"&Lists!$J17&\"'!\"&Lists!$L17&AA$14))))","v":""},{"$f":"IF(ISNA(Lists!$J17),\"\",IF((INDIRECT(\"'\"&Lists!$J17&\"'!\"&Lists!$K17&AB$14))=\"\",\"\",(INDIRECT(\"'\"&Lists!$J17&\"'!\"&Lists!$K17&AB$14))))","v":""},{"$f":"IF(ISNA(Lists!$J17),\"\",IF((INDIRECT(\"'\"&Lists!$J17&\"'!\"&Lists!$K17&AC$14))=\"\",\"\",(INDIRECT(\"'\"&Lists!$J17&\"'!\"&Lists!$K17&AC$14))))","v":""},{"$f":"IF(ISNA(Lists!$J17),\"\",IF((INDIRECT(\"'\"&Lists!$J17&\"'!\"&Lists!$K17&AD$14))=\"\",\"\",(INDIRECT(\"'\"&Lists!$J17&\"'!\"&Lists!$K17&AD$14))))","v":""},{"$f":"IF(ISNA(Lists!$J17),\"\",IF((INDIRECT(\"'\"&Lists!$J17&\"'!\"&Lists!$K17&AE$14))=\"\",\"\",(INDIRECT(\"'\"&Lists!$J17&\"'!\"&Lists!$K17&AE$14))))","v":""},{"$f":"IF(ISNA(Lists!$J17),\"\",IF((INDIRECT(\"'\"&Lists!$J17&\"'!\"&Lists!$K17&AF$14))=\"\",\"\",(INDIRECT(\"'\"&Lists!$J17&\"'!\"&Lists!$K17&AF$14))))","v":""},{"$f":"IF(ISNA(Lists!$J17),\"\",IF((INDIRECT(\"'\"&Lists!$J17&\"'!\"&Lists!$K17&AG$14))=\"\",\"\",(INDIRECT(\"'\"&Lists!$J17&\"'!\"&Lists!$K17&AG$14))))","v":""},{"$f":"IF(ISNA(Lists!$J17),\"\",IF((INDIRECT(\"'\"&Lists!$J17&\"'!\"&Lists!$K17&AH$14))=\"\",\"\",(INDIRECT(\"'\"&Lists!$J17&\"'!\"&Lists!$K17&AH$14))))","v":""},{"$f":"IF(ISNA(Lists!$J17),\"\",IF((INDIRECT(\"'\"&Lists!$J17&\"'!\"&Lists!$K17&AI$14))=\"\",\"\",(INDIRECT(\"'\"&Lists!$J17&\"'!\"&Lists!$K17&AI$14))))","v":""},{"$f":"IF(ISNA(Lists!$J17),\"\",IF((INDIRECT(\"'\"&Lists!$J17&\"'!\"&Lists!$K17&AJ$14))=\"\",\"\",(INDIRECT(\"'\"&Lists!$J17&\"'!\"&Lists!$K17&AJ$14))))","v":""},{"$f":"IF(ISNA(Lists!$J17),\"\",IF((INDIRECT(\"'\"&Lists!$J17&\"'!\"&Lists!$K17&AK$14))=\"\",\"\",(INDIRECT(\"'\"&Lists!$J17&\"'!\"&Lists!$K17&AK$14))))","v":""}]
[{"$f":"IF(B31=\"\",\"\",' Facility_Info upload'!$A$24)","v":""},{"$f":"IF(ISNA(Lists!$J18),\"\",IF(INDIRECT(\"'\"&Lists!$J18&\"'!\"&\"B\"&B$14)=\"\",\"\",(INDIRECT(\"'\"&Lists!$J18&\"'!\"&\"B\"&B$14))))","v":""},{"$f":"IF(ISNA(Lists!$J18),\"\",IF(INDIRECT(\"'\"&Lists!$J18&\"'!\"&\"B\"&C$14)=\"\",\"\",(INDIRECT(\"'\"&Lists!$J18&\"'!\"&\"B\"&C$14))))","v":""},{"$f":"IF(ISNA(Lists!$J18),\"\",IF(INDIRECT(\"'\"&Lists!$J18&\"'!\"&\"B\"&D$14)=\"\",\"\",(INDIRECT(\"'\"&Lists!$J18&\"'!\"&\"B\"&D$14))))","v":""},{"$f":"IF(ISNA(Lists!$J18),\"\",IF(INDIRECT(\"'\"&Lists!$J18&\"'!\"&\"B\"&E$14)=\"\",\"\",(INDIRECT(\"'\"&Lists!$J18&\"'!\"&\"B\"&E$14))))","v":""},{"$f":"IF(ISNA(Lists!$J18),\"\",IF(INDIRECT(\"'\"&Lists!$J18&\"'!\"&\"B\"&F$14)=\"\",\"\",(INDIRECT(\"'\"&Lists!$J18&\"'!\"&\"B\"&F$14))))","v":""},{"$f":"IF(ISNA(Lists!$J18),\"\",IF((INDIRECT(\"'\"&Lists!$J18&\"'!\"&Lists!$K18&G$14))=\"\",\"\",(INDIRECT(\"'\"&Lists!$J18&\"'!\"&Lists!$K18&G$14))))","v":""},{"$f":"IF(ISNA(Lists!$J18),\"\",IF((INDIRECT(\"'\"&Lists!$J18&\"'!\"&Lists!$K18&H$14))=\"\",\"\",(INDIRECT(\"'\"&Lists!$J18&\"'!\"&Lists!$K18&H$14))))","v":""},{"$f":"IF(ISNA(Lists!$J18),\"\",IF((INDIRECT(\"'\"&Lists!$J18&\"'!\"&Lists!$K18&I$14))=\"\",\"\",(INDIRECT(\"'\"&Lists!$J18&\"'!\"&Lists!$K18&I$14))))","v":""},{"$f":"IF(ISNA(Lists!$J18),\"\",IF((INDIRECT(\"'\"&Lists!$J18&\"'!\"&Lists!$K18&J$14))=\"\",\"\",(INDIRECT(\"'\"&Lists!$J18&\"'!\"&Lists!$K18&J$14))))","v":""},{"$f":"IF(ISNA(Lists!$J18),\"\",IF((INDIRECT(\"'\"&Lists!$J18&\"'!\"&Lists!$K18&K$14))=\"\",\"\",(INDIRECT(\"'\"&Lists!$J18&\"'!\"&Lists!$K18&K$14))))","v":""},{"$f":"IF(ISNA(Lists!$J18),\"\",IF((INDIRECT(\"'\"&Lists!$J18&\"'!\"&Lists!$K18&L$14))=\"\",\"\",(INDIRECT(\"'\"&Lists!$J18&\"'!\"&Lists!$K18&L$14))))","v":""},{"$f":"IF(ISNA(Lists!$J18),\"\",IF((INDIRECT(\"'\"&Lists!$J18&\"'!\"&Lists!$K18&M$14))=\"\",\"\",(INDIRECT(\"'\"&Lists!$J18&\"'!\"&Lists!$K18&M$14))))","v":""},{"$f":"IF(ISNA(Lists!$J18),\"\",IF((INDIRECT(\"'\"&Lists!$J18&\"'!\"&Lists!$K18&N$14))=\"\",\"\",(INDIRECT(\"'\"&Lists!$J18&\"'!\"&Lists!$K18&N$14))))","v":""},{"$f":"IF(ISNA(Lists!$J18),\"\",IF((INDIRECT(\"'\"&Lists!$J18&\"'!\"&Lists!$K18&O$14))=\"\",\"\",(INDIRECT(\"'\"&Lists!$J18&\"'!\"&Lists!$K18&O$14))))","v":""},{"$f":"IF(ISNA(Lists!$J18),\"\",IF((INDIRECT(\"'\"&Lists!$J18&\"'!\"&Lists!$K18&P$14))=\"\",\"\",(INDIRECT(\"'\"&Lists!$J18&\"'!\"&Lists!$K18&P$14))))","v":""},{"$f":"IF(ISNA(Lists!$J18),\"\",IF((INDIRECT(\"'\"&Lists!$J18&\"'!\"&Lists!$K18&Q$14))=\"\",\"\",(INDIRECT(\"'\"&Lists!$J18&\"'!\"&Lists!$K18&Q$14))))","v":""},{"$f":"IF(ISNA(Lists!$J18),\"\",IF((INDIRECT(\"'\"&Lists!$J18&\"'!\"&Lists!$K18&R$14))=\"\",\"\",(INDIRECT(\"'\"&Lists!$J18&\"'!\"&Lists!$K18&R$14))))","v":""},{"$f":"IF(ISNA(Lists!$J18),\"\",IF((INDIRECT(\"'\"&Lists!$J18&\"'!\"&Lists!$K18&S$14))=\"\",\"\",(INDIRECT(\"'\"&Lists!$J18&\"'!\"&Lists!$K18&S$14))))","v":""},{"$f":"IF(ISNA(Lists!$J18),\"\",IF((INDIRECT(\"'\"&Lists!$J18&\"'!\"&Lists!$K18&T$14))=\"\",\"\",(INDIRECT(\"'\"&Lists!$J18&\"'!\"&Lists!$K18&T$14))))","v":""},{"$f":"IF(ISNA(Lists!$J18),\"\",IF((INDIRECT(\"'\"&Lists!$J18&\"'!\"&Lists!$L18&U$14))=\"\",\"\",(INDIRECT(\"'\"&Lists!$J18&\"'!\"&Lists!$L18&U$14))))","v":""},{"$f":"IF(ISNA(Lists!$J18),\"\",IF((INDIRECT(\"'\"&Lists!$J18&\"'!\"&Lists!$L18&V$14))=\"\",\"\",(INDIRECT(\"'\"&Lists!$J18&\"'!\"&Lists!$L18&V$14))))","v":""},{"$f":"IF(ISNA(Lists!$J18),\"\",IF((INDIRECT(\"'\"&Lists!$J18&\"'!\"&Lists!$L18&W$14))=\"\",\"\",(INDIRECT(\"'\"&Lists!$J18&\"'!\"&Lists!$L18&W$14))))","v":""},{"$f":"IF(ISNA(Lists!$J18),\"\",IF((INDIRECT(\"'\"&Lists!$J18&\"'!\"&Lists!$L18&X$14))=\"\",\"\",(INDIRECT(\"'\"&Lists!$J18&\"'!\"&Lists!$L18&X$14))))","v":""},{"$f":"IF(ISNA(Lists!$J18),\"\",IF((INDIRECT(\"'\"&Lists!$J18&\"'!\"&Lists!$L18&Y$14))=\"\",\"\",(INDIRECT(\"'\"&Lists!$J18&\"'!\"&Lists!$L18&Y$14))))","v":""},{"$f":"IF(ISNA(Lists!$J18),\"\",IF((INDIRECT(\"'\"&Lists!$J18&\"'!\"&Lists!$L18&Z$14))=\"\",\"\",(INDIRECT(\"'\"&Lists!$J18&\"'!\"&Lists!$L18&Z$14))))","v":""},{"$f":"IF(ISNA(Lists!$J18),\"\",IF((INDIRECT(\"'\"&Lists!$J18&\"'!\"&Lists!$L18&AA$14))=\"\",\"\",(INDIRECT(\"'\"&Lists!$J18&\"'!\"&Lists!$L18&AA$14))))","v":""},{"$f":"IF(ISNA(Lists!$J18),\"\",IF((INDIRECT(\"'\"&Lists!$J18&\"'!\"&Lists!$K18&AB$14))=\"\",\"\",(INDIRECT(\"'\"&Lists!$J18&\"'!\"&Lists!$K18&AB$14))))","v":""},{"$f":"IF(ISNA(Lists!$J18),\"\",IF((INDIRECT(\"'\"&Lists!$J18&\"'!\"&Lists!$K18&AC$14))=\"\",\"\",(INDIRECT(\"'\"&Lists!$J18&\"'!\"&Lists!$K18&AC$14))))","v":""},{"$f":"IF(ISNA(Lists!$J18),\"\",IF((INDIRECT(\"'\"&Lists!$J18&\"'!\"&Lists!$K18&AD$14))=\"\",\"\",(INDIRECT(\"'\"&Lists!$J18&\"'!\"&Lists!$K18&AD$14))))","v":""},{"$f":"IF(ISNA(Lists!$J18),\"\",IF((INDIRECT(\"'\"&Lists!$J18&\"'!\"&Lists!$K18&AE$14))=\"\",\"\",(INDIRECT(\"'\"&Lists!$J18&\"'!\"&Lists!$K18&AE$14))))","v":""},{"$f":"IF(ISNA(Lists!$J18),\"\",IF((INDIRECT(\"'\"&Lists!$J18&\"'!\"&Lists!$K18&AF$14))=\"\",\"\",(INDIRECT(\"'\"&Lists!$J18&\"'!\"&Lists!$K18&AF$14))))","v":""},{"$f":"IF(ISNA(Lists!$J18),\"\",IF((INDIRECT(\"'\"&Lists!$J18&\"'!\"&Lists!$K18&AG$14))=\"\",\"\",(INDIRECT(\"'\"&Lists!$J18&\"'!\"&Lists!$K18&AG$14))))","v":""},{"$f":"IF(ISNA(Lists!$J18),\"\",IF((INDIRECT(\"'\"&Lists!$J18&\"'!\"&Lists!$K18&AH$14))=\"\",\"\",(INDIRECT(\"'\"&Lists!$J18&\"'!\"&Lists!$K18&AH$14))))","v":""},{"$f":"IF(ISNA(Lists!$J18),\"\",IF((INDIRECT(\"'\"&Lists!$J18&\"'!\"&Lists!$K18&AI$14))=\"\",\"\",(INDIRECT(\"'\"&Lists!$J18&\"'!\"&Lists!$K18&AI$14))))","v":""},{"$f":"IF(ISNA(Lists!$J18),\"\",IF((INDIRECT(\"'\"&Lists!$J18&\"'!\"&Lists!$K18&AJ$14))=\"\",\"\",(INDIRECT(\"'\"&Lists!$J18&\"'!\"&Lists!$K18&AJ$14))))","v":""},{"$f":"IF(ISNA(Lists!$J18),\"\",IF((INDIRECT(\"'\"&Lists!$J18&\"'!\"&Lists!$K18&AK$14))=\"\",\"\",(INDIRECT(\"'\"&Lists!$J18&\"'!\"&Lists!$K18&AK$14))))","v":""}]
[{"$f":"IF(B32=\"\",\"\",' Facility_Info upload'!$A$24)","v":""},{"$f":"IF(ISNA(Lists!$J19),\"\",IF(INDIRECT(\"'\"&Lists!$J19&\"'!\"&\"B\"&B$14)=\"\",\"\",(INDIRECT(\"'\"&Lists!$J19&\"'!\"&\"B\"&B$14))))","v":""},{"$f":"IF(ISNA(Lists!$J19),\"\",IF(INDIRECT(\"'\"&Lists!$J19&\"'!\"&\"B\"&C$14)=\"\",\"\",(INDIRECT(\"'\"&Lists!$J19&\"'!\"&\"B\"&C$14))))","v":""},{"$f":"IF(ISNA(Lists!$J19),\"\",IF(INDIRECT(\"'\"&Lists!$J19&\"'!\"&\"B\"&D$14)=\"\",\"\",(INDIRECT(\"'\"&Lists!$J19&\"'!\"&\"B\"&D$14))))","v":""},{"$f":"IF(ISNA(Lists!$J19),\"\",IF(INDIRECT(\"'\"&Lists!$J19&\"'!\"&\"B\"&E$14)=\"\",\"\",(INDIRECT(\"'\"&Lists!$J19&\"'!\"&\"B\"&E$14))))","v":""},{"$f":"IF(ISNA(Lists!$J19),\"\",IF(INDIRECT(\"'\"&Lists!$J19&\"'!\"&\"B\"&F$14)=\"\",\"\",(INDIRECT(\"'\"&Lists!$J19&\"'!\"&\"B\"&F$14))))","v":""},{"$f":"IF(ISNA(Lists!$J19),\"\",IF((INDIRECT(\"'\"&Lists!$J19&\"'!\"&Lists!$K19&G$14))=\"\",\"\",(INDIRECT(\"'\"&Lists!$J19&\"'!\"&Lists!$K19&G$14))))","v":""},{"$f":"IF(ISNA(Lists!$J19),\"\",IF((INDIRECT(\"'\"&Lists!$J19&\"'!\"&Lists!$K19&H$14))=\"\",\"\",(INDIRECT(\"'\"&Lists!$J19&\"'!\"&Lists!$K19&H$14))))","v":""},{"$f":"IF(ISNA(Lists!$J19),\"\",IF((INDIRECT(\"'\"&Lists!$J19&\"'!\"&Lists!$K19&I$14))=\"\",\"\",(INDIRECT(\"'\"&Lists!$J19&\"'!\"&Lists!$K19&I$14))))","v":""},{"$f":"IF(ISNA(Lists!$J19),\"\",IF((INDIRECT(\"'\"&Lists!$J19&\"'!\"&Lists!$K19&J$14))=\"\",\"\",(INDIRECT(\"'\"&Lists!$J19&\"'!\"&Lists!$K19&J$14))))","v":""},{"$f":"IF(ISNA(Lists!$J19),\"\",IF((INDIRECT(\"'\"&Lists!$J19&\"'!\"&Lists!$K19&K$14))=\"\",\"\",(INDIRECT(\"'\"&Lists!$J19&\"'!\"&Lists!$K19&K$14))))","v":""},{"$f":"IF(ISNA(Lists!$J19),\"\",IF((INDIRECT(\"'\"&Lists!$J19&\"'!\"&Lists!$K19&L$14))=\"\",\"\",(INDIRECT(\"'\"&Lists!$J19&\"'!\"&Lists!$K19&L$14))))","v":""},{"$f":"IF(ISNA(Lists!$J19),\"\",IF((INDIRECT(\"'\"&Lists!$J19&\"'!\"&Lists!$K19&M$14))=\"\",\"\",(INDIRECT(\"'\"&Lists!$J19&\"'!\"&Lists!$K19&M$14))))","v":""},{"$f":"IF(ISNA(Lists!$J19),\"\",IF((INDIRECT(\"'\"&Lists!$J19&\"'!\"&Lists!$K19&N$14))=\"\",\"\",(INDIRECT(\"'\"&Lists!$J19&\"'!\"&Lists!$K19&N$14))))","v":""},{"$f":"IF(ISNA(Lists!$J19),\"\",IF((INDIRECT(\"'\"&Lists!$J19&\"'!\"&Lists!$K19&O$14))=\"\",\"\",(INDIRECT(\"'\"&Lists!$J19&\"'!\"&Lists!$K19&O$14))))","v":""},{"$f":"IF(ISNA(Lists!$J19),\"\",IF((INDIRECT(\"'\"&Lists!$J19&\"'!\"&Lists!$K19&P$14))=\"\",\"\",(INDIRECT(\"'\"&Lists!$J19&\"'!\"&Lists!$K19&P$14))))","v":""},{"$f":"IF(ISNA(Lists!$J19),\"\",IF((INDIRECT(\"'\"&Lists!$J19&\"'!\"&Lists!$K19&Q$14))=\"\",\"\",(INDIRECT(\"'\"&Lists!$J19&\"'!\"&Lists!$K19&Q$14))))","v":""},{"$f":"IF(ISNA(Lists!$J19),\"\",IF((INDIRECT(\"'\"&Lists!$J19&\"'!\"&Lists!$K19&R$14))=\"\",\"\",(INDIRECT(\"'\"&Lists!$J19&\"'!\"&Lists!$K19&R$14))))","v":""},{"$f":"IF(ISNA(Lists!$J19),\"\",IF((INDIRECT(\"'\"&Lists!$J19&\"'!\"&Lists!$K19&S$14))=\"\",\"\",(INDIRECT(\"'\"&Lists!$J19&\"'!\"&Lists!$K19&S$14))))","v":""},{"$f":"IF(ISNA(Lists!$J19),\"\",IF((INDIRECT(\"'\"&Lists!$J19&\"'!\"&Lists!$K19&T$14))=\"\",\"\",(INDIRECT(\"'\"&Lists!$J19&\"'!\"&Lists!$K19&T$14))))","v":""},{"$f":"IF(ISNA(Lists!$J19),\"\",IF((INDIRECT(\"'\"&Lists!$J19&\"'!\"&Lists!$L19&U$14))=\"\",\"\",(INDIRECT(\"'\"&Lists!$J19&\"'!\"&Lists!$L19&U$14))))","v":""},{"$f":"IF(ISNA(Lists!$J19),\"\",IF((INDIRECT(\"'\"&Lists!$J19&\"'!\"&Lists!$L19&V$14))=\"\",\"\",(INDIRECT(\"'\"&Lists!$J19&\"'!\"&Lists!$L19&V$14))))","v":""},{"$f":"IF(ISNA(Lists!$J19),\"\",IF((INDIRECT(\"'\"&Lists!$J19&\"'!\"&Lists!$L19&W$14))=\"\",\"\",(INDIRECT(\"'\"&Lists!$J19&\"'!\"&Lists!$L19&W$14))))","v":""},{"$f":"IF(ISNA(Lists!$J19),\"\",IF((INDIRECT(\"'\"&Lists!$J19&\"'!\"&Lists!$L19&X$14))=\"\",\"\",(INDIRECT(\"'\"&Lists!$J19&\"'!\"&Lists!$L19&X$14))))","v":""},{"$f":"IF(ISNA(Lists!$J19),\"\",IF((INDIRECT(\"'\"&Lists!$J19&\"'!\"&Lists!$L19&Y$14))=\"\",\"\",(INDIRECT(\"'\"&Lists!$J19&\"'!\"&Lists!$L19&Y$14))))","v":""},{"$f":"IF(ISNA(Lists!$J19),\"\",IF((INDIRECT(\"'\"&Lists!$J19&\"'!\"&Lists!$L19&Z$14))=\"\",\"\",(INDIRECT(\"'\"&Lists!$J19&\"'!\"&Lists!$L19&Z$14))))","v":""},{"$f":"IF(ISNA(Lists!$J19),\"\",IF((INDIRECT(\"'\"&Lists!$J19&\"'!\"&Lists!$L19&AA$14))=\"\",\"\",(INDIRECT(\"'\"&Lists!$J19&\"'!\"&Lists!$L19&AA$14))))","v":""},{"$f":"IF(ISNA(Lists!$J19),\"\",IF((INDIRECT(\"'\"&Lists!$J19&\"'!\"&Lists!$K19&AB$14))=\"\",\"\",(INDIRECT(\"'\"&Lists!$J19&\"'!\"&Lists!$K19&AB$14))))","v":""},{"$f":"IF(ISNA(Lists!$J19),\"\",IF((INDIRECT(\"'\"&Lists!$J19&\"'!\"&Lists!$K19&AC$14))=\"\",\"\",(INDIRECT(\"'\"&Lists!$J19&\"'!\"&Lists!$K19&AC$14))))","v":""},{"$f":"IF(ISNA(Lists!$J19),\"\",IF((INDIRECT(\"'\"&Lists!$J19&\"'!\"&Lists!$K19&AD$14))=\"\",\"\",(INDIRECT(\"'\"&Lists!$J19&\"'!\"&Lists!$K19&AD$14))))","v":""},{"$f":"IF(ISNA(Lists!$J19),\"\",IF((INDIRECT(\"'\"&Lists!$J19&\"'!\"&Lists!$K19&AE$14))=\"\",\"\",(INDIRECT(\"'\"&Lists!$J19&\"'!\"&Lists!$K19&AE$14))))","v":""},{"$f":"IF(ISNA(Lists!$J19),\"\",IF((INDIRECT(\"'\"&Lists!$J19&\"'!\"&Lists!$K19&AF$14))=\"\",\"\",(INDIRECT(\"'\"&Lists!$J19&\"'!\"&Lists!$K19&AF$14))))","v":""},{"$f":"IF(ISNA(Lists!$J19),\"\",IF((INDIRECT(\"'\"&Lists!$J19&\"'!\"&Lists!$K19&AG$14))=\"\",\"\",(INDIRECT(\"'\"&Lists!$J19&\"'!\"&Lists!$K19&AG$14))))","v":""},{"$f":"IF(ISNA(Lists!$J19),\"\",IF((INDIRECT(\"'\"&Lists!$J19&\"'!\"&Lists!$K19&AH$14))=\"\",\"\",(INDIRECT(\"'\"&Lists!$J19&\"'!\"&Lists!$K19&AH$14))))","v":""},{"$f":"IF(ISNA(Lists!$J19),\"\",IF((INDIRECT(\"'\"&Lists!$J19&\"'!\"&Lists!$K19&AI$14))=\"\",\"\",(INDIRECT(\"'\"&Lists!$J19&\"'!\"&Lists!$K19&AI$14))))","v":""},{"$f":"IF(ISNA(Lists!$J19),\"\",IF((INDIRECT(\"'\"&Lists!$J19&\"'!\"&Lists!$K19&AJ$14))=\"\",\"\",(INDIRECT(\"'\"&Lists!$J19&\"'!\"&Lists!$K19&AJ$14))))","v":""},{"$f":"IF(ISNA(Lists!$J19),\"\",IF((INDIRECT(\"'\"&Lists!$J19&\"'!\"&Lists!$K19&AK$14))=\"\",\"\",(INDIRECT(\"'\"&Lists!$J19&\"'!\"&Lists!$K19&AK$14))))","v":""}]
[{"$f":"IF(B33=\"\",\"\",' Facility_Info upload'!$A$24)","v":""},{"$f":"IF(ISNA(Lists!$J20),\"\",IF(INDIRECT(\"'\"&Lists!$J20&\"'!\"&\"B\"&B$14)=\"\",\"\",(INDIRECT(\"'\"&Lists!$J20&\"'!\"&\"B\"&B$14))))","v":""},{"$f":"IF(ISNA(Lists!$J20),\"\",IF(INDIRECT(\"'\"&Lists!$J20&\"'!\"&\"B\"&C$14)=\"\",\"\",(INDIRECT(\"'\"&Lists!$J20&\"'!\"&\"B\"&C$14))))","v":""},{"$f":"IF(ISNA(Lists!$J20),\"\",IF(INDIRECT(\"'\"&Lists!$J20&\"'!\"&\"B\"&D$14)=\"\",\"\",(INDIRECT(\"'\"&Lists!$J20&\"'!\"&\"B\"&D$14))))","v":""},{"$f":"IF(ISNA(Lists!$J20),\"\",IF(INDIRECT(\"'\"&Lists!$J20&\"'!\"&\"B\"&E$14)=\"\",\"\",(INDIRECT(\"'\"&Lists!$J20&\"'!\"&\"B\"&E$14))))","v":""},{"$f":"IF(ISNA(Lists!$J20),\"\",IF(INDIRECT(\"'\"&Lists!$J20&\"'!\"&\"B\"&F$14)=\"\",\"\",(INDIRECT(\"'\"&Lists!$J20&\"'!\"&\"B\"&F$14))))","v":""},{"$f":"IF(ISNA(Lists!$J20),\"\",IF((INDIRECT(\"'\"&Lists!$J20&\"'!\"&Lists!$K20&G$14))=\"\",\"\",(INDIRECT(\"'\"&Lists!$J20&\"'!\"&Lists!$K20&G$14))))","v":""},{"$f":"IF(ISNA(Lists!$J20),\"\",IF((INDIRECT(\"'\"&Lists!$J20&\"'!\"&Lists!$K20&H$14))=\"\",\"\",(INDIRECT(\"'\"&Lists!$J20&\"'!\"&Lists!$K20&H$14))))","v":""},{"$f":"IF(ISNA(Lists!$J20),\"\",IF((INDIRECT(\"'\"&Lists!$J20&\"'!\"&Lists!$K20&I$14))=\"\",\"\",(INDIRECT(\"'\"&Lists!$J20&\"'!\"&Lists!$K20&I$14))))","v":""},{"$f":"IF(ISNA(Lists!$J20),\"\",IF((INDIRECT(\"'\"&Lists!$J20&\"'!\"&Lists!$K20&J$14))=\"\",\"\",(INDIRECT(\"'\"&Lists!$J20&\"'!\"&Lists!$K20&J$14))))","v":""},{"$f":"IF(ISNA(Lists!$J20),\"\",IF((INDIRECT(\"'\"&Lists!$J20&\"'!\"&Lists!$K20&K$14))=\"\",\"\",(INDIRECT(\"'\"&Lists!$J20&\"'!\"&Lists!$K20&K$14))))","v":""},{"$f":"IF(ISNA(Lists!$J20),\"\",IF((INDIRECT(\"'\"&Lists!$J20&\"'!\"&Lists!$K20&L$14))=\"\",\"\",(INDIRECT(\"'\"&Lists!$J20&\"'!\"&Lists!$K20&L$14))))","v":""},{"$f":"IF(ISNA(Lists!$J20),\"\",IF((INDIRECT(\"'\"&Lists!$J20&\"'!\"&Lists!$K20&M$14))=\"\",\"\",(INDIRECT(\"'\"&Lists!$J20&\"'!\"&Lists!$K20&M$14))))","v":""},{"$f":"IF(ISNA(Lists!$J20),\"\",IF((INDIRECT(\"'\"&Lists!$J20&\"'!\"&Lists!$K20&N$14))=\"\",\"\",(INDIRECT(\"'\"&Lists!$J20&\"'!\"&Lists!$K20&N$14))))","v":""},{"$f":"IF(ISNA(Lists!$J20),\"\",IF((INDIRECT(\"'\"&Lists!$J20&\"'!\"&Lists!$K20&O$14))=\"\",\"\",(INDIRECT(\"'\"&Lists!$J20&\"'!\"&Lists!$K20&O$14))))","v":""},{"$f":"IF(ISNA(Lists!$J20),\"\",IF((INDIRECT(\"'\"&Lists!$J20&\"'!\"&Lists!$K20&P$14))=\"\",\"\",(INDIRECT(\"'\"&Lists!$J20&\"'!\"&Lists!$K20&P$14))))","v":""},{"$f":"IF(ISNA(Lists!$J20),\"\",IF((INDIRECT(\"'\"&Lists!$J20&\"'!\"&Lists!$K20&Q$14))=\"\",\"\",(INDIRECT(\"'\"&Lists!$J20&\"'!\"&Lists!$K20&Q$14))))","v":""},{"$f":"IF(ISNA(Lists!$J20),\"\",IF((INDIRECT(\"'\"&Lists!$J20&\"'!\"&Lists!$K20&R$14))=\"\",\"\",(INDIRECT(\"'\"&Lists!$J20&\"'!\"&Lists!$K20&R$14))))","v":""},{"$f":"IF(ISNA(Lists!$J20),\"\",IF((INDIRECT(\"'\"&Lists!$J20&\"'!\"&Lists!$K20&S$14))=\"\",\"\",(INDIRECT(\"'\"&Lists!$J20&\"'!\"&Lists!$K20&S$14))))","v":""},{"$f":"IF(ISNA(Lists!$J20),\"\",IF((INDIRECT(\"'\"&Lists!$J20&\"'!\"&Lists!$K20&T$14))=\"\",\"\",(INDIRECT(\"'\"&Lists!$J20&\"'!\"&Lists!$K20&T$14))))","v":""},{"$f":"IF(ISNA(Lists!$J20),\"\",IF((INDIRECT(\"'\"&Lists!$J20&\"'!\"&Lists!$L20&U$14))=\"\",\"\",(INDIRECT(\"'\"&Lists!$J20&\"'!\"&Lists!$L20&U$14))))","v":""},{"$f":"IF(ISNA(Lists!$J20),\"\",IF((INDIRECT(\"'\"&Lists!$J20&\"'!\"&Lists!$L20&V$14))=\"\",\"\",(INDIRECT(\"'\"&Lists!$J20&\"'!\"&Lists!$L20&V$14))))","v":""},{"$f":"IF(ISNA(Lists!$J20),\"\",IF((INDIRECT(\"'\"&Lists!$J20&\"'!\"&Lists!$L20&W$14))=\"\",\"\",(INDIRECT(\"'\"&Lists!$J20&\"'!\"&Lists!$L20&W$14))))","v":""},{"$f":"IF(ISNA(Lists!$J20),\"\",IF((INDIRECT(\"'\"&Lists!$J20&\"'!\"&Lists!$L20&X$14))=\"\",\"\",(INDIRECT(\"'\"&Lists!$J20&\"'!\"&Lists!$L20&X$14))))","v":""},{"$f":"IF(ISNA(Lists!$J20),\"\",IF((INDIRECT(\"'\"&Lists!$J20&\"'!\"&Lists!$L20&Y$14))=\"\",\"\",(INDIRECT(\"'\"&Lists!$J20&\"'!\"&Lists!$L20&Y$14))))","v":""},{"$f":"IF(ISNA(Lists!$J20),\"\",IF((INDIRECT(\"'\"&Lists!$J20&\"'!\"&Lists!$L20&Z$14))=\"\",\"\",(INDIRECT(\"'\"&Lists!$J20&\"'!\"&Lists!$L20&Z$14))))","v":""},{"$f":"IF(ISNA(Lists!$J20),\"\",IF((INDIRECT(\"'\"&Lists!$J20&\"'!\"&Lists!$L20&AA$14))=\"\",\"\",(INDIRECT(\"'\"&Lists!$J20&\"'!\"&Lists!$L20&AA$14))))","v":""},{"$f":"IF(ISNA(Lists!$J20),\"\",IF((INDIRECT(\"'\"&Lists!$J20&\"'!\"&Lists!$K20&AB$14))=\"\",\"\",(INDIRECT(\"'\"&Lists!$J20&\"'!\"&Lists!$K20&AB$14))))","v":""},{"$f":"IF(ISNA(Lists!$J20),\"\",IF((INDIRECT(\"'\"&Lists!$J20&\"'!\"&Lists!$K20&AC$14))=\"\",\"\",(INDIRECT(\"'\"&Lists!$J20&\"'!\"&Lists!$K20&AC$14))))","v":""},{"$f":"IF(ISNA(Lists!$J20),\"\",IF((INDIRECT(\"'\"&Lists!$J20&\"'!\"&Lists!$K20&AD$14))=\"\",\"\",(INDIRECT(\"'\"&Lists!$J20&\"'!\"&Lists!$K20&AD$14))))","v":""},{"$f":"IF(ISNA(Lists!$J20),\"\",IF((INDIRECT(\"'\"&Lists!$J20&\"'!\"&Lists!$K20&AE$14))=\"\",\"\",(INDIRECT(\"'\"&Lists!$J20&\"'!\"&Lists!$K20&AE$14))))","v":""},{"$f":"IF(ISNA(Lists!$J20),\"\",IF((INDIRECT(\"'\"&Lists!$J20&\"'!\"&Lists!$K20&AF$14))=\"\",\"\",(INDIRECT(\"'\"&Lists!$J20&\"'!\"&Lists!$K20&AF$14))))","v":""},{"$f":"IF(ISNA(Lists!$J20),\"\",IF((INDIRECT(\"'\"&Lists!$J20&\"'!\"&Lists!$K20&AG$14))=\"\",\"\",(INDIRECT(\"'\"&Lists!$J20&\"'!\"&Lists!$K20&AG$14))))","v":""},{"$f":"IF(ISNA(Lists!$J20),\"\",IF((INDIRECT(\"'\"&Lists!$J20&\"'!\"&Lists!$K20&AH$14))=\"\",\"\",(INDIRECT(\"'\"&Lists!$J20&\"'!\"&Lists!$K20&AH$14))))","v":""},{"$f":"IF(ISNA(Lists!$J20),\"\",IF((INDIRECT(\"'\"&Lists!$J20&\"'!\"&Lists!$K20&AI$14))=\"\",\"\",(INDIRECT(\"'\"&Lists!$J20&\"'!\"&Lists!$K20&AI$14))))","v":""},{"$f":"IF(ISNA(Lists!$J20),\"\",IF((INDIRECT(\"'\"&Lists!$J20&\"'!\"&Lists!$K20&AJ$14))=\"\",\"\",(INDIRECT(\"'\"&Lists!$J20&\"'!\"&Lists!$K20&AJ$14))))","v":""},{"$f":"IF(ISNA(Lists!$J20),\"\",IF((INDIRECT(\"'\"&Lists!$J20&\"'!\"&Lists!$K20&AK$14))=\"\",\"\",(INDIRECT(\"'\"&Lists!$J20&\"'!\"&Lists!$K20&AK$14))))","v":""}]
[{"$f":"IF(B34=\"\",\"\",' Facility_Info upload'!$A$24)","v":""},{"$f":"IF(ISNA(Lists!$J21),\"\",IF(INDIRECT(\"'\"&Lists!$J21&\"'!\"&\"B\"&B$14)=\"\",\"\",(INDIRECT(\"'\"&Lists!$J21&\"'!\"&\"B\"&B$14))))","v":""},{"$f":"IF(ISNA(Lists!$J21),\"\",IF(INDIRECT(\"'\"&Lists!$J21&\"'!\"&\"B\"&C$14)=\"\",\"\",(INDIRECT(\"'\"&Lists!$J21&\"'!\"&\"B\"&C$14))))","v":""},{"$f":"IF(ISNA(Lists!$J21),\"\",IF(INDIRECT(\"'\"&Lists!$J21&\"'!\"&\"B\"&D$14)=\"\",\"\",(INDIRECT(\"'\"&Lists!$J21&\"'!\"&\"B\"&D$14))))","v":""},{"$f":"IF(ISNA(Lists!$J21),\"\",IF(INDIRECT(\"'\"&Lists!$J21&\"'!\"&\"B\"&E$14)=\"\",\"\",(INDIRECT(\"'\"&Lists!$J21&\"'!\"&\"B\"&E$14))))","v":""},{"$f":"IF(ISNA(Lists!$J21),\"\",IF(INDIRECT(\"'\"&Lists!$J21&\"'!\"&\"B\"&F$14)=\"\",\"\",(INDIRECT(\"'\"&Lists!$J21&\"'!\"&\"B\"&F$14))))","v":""},{"$f":"IF(ISNA(Lists!$J21),\"\",IF((INDIRECT(\"'\"&Lists!$J21&\"'!\"&Lists!$K21&G$14))=\"\",\"\",(INDIRECT(\"'\"&Lists!$J21&\"'!\"&Lists!$K21&G$14))))","v":""},{"$f":"IF(ISNA(Lists!$J21),\"\",IF((INDIRECT(\"'\"&Lists!$J21&\"'!\"&Lists!$K21&H$14))=\"\",\"\",(INDIRECT(\"'\"&Lists!$J21&\"'!\"&Lists!$K21&H$14))))","v":""},{"$f":"IF(ISNA(Lists!$J21),\"\",IF((INDIRECT(\"'\"&Lists!$J21&\"'!\"&Lists!$K21&I$14))=\"\",\"\",(INDIRECT(\"'\"&Lists!$J21&\"'!\"&Lists!$K21&I$14))))","v":""},{"$f":"IF(ISNA(Lists!$J21),\"\",IF((INDIRECT(\"'\"&Lists!$J21&\"'!\"&Lists!$K21&J$14))=\"\",\"\",(INDIRECT(\"'\"&Lists!$J21&\"'!\"&Lists!$K21&J$14))))","v":""},{"$f":"IF(ISNA(Lists!$J21),\"\",IF((INDIRECT(\"'\"&Lists!$J21&\"'!\"&Lists!$K21&K$14))=\"\",\"\",(INDIRECT(\"'\"&Lists!$J21&\"'!\"&Lists!$K21&K$14))))","v":""},{"$f":"IF(ISNA(Lists!$J21),\"\",IF((INDIRECT(\"'\"&Lists!$J21&\"'!\"&Lists!$K21&L$14))=\"\",\"\",(INDIRECT(\"'\"&Lists!$J21&\"'!\"&Lists!$K21&L$14))))","v":""},{"$f":"IF(ISNA(Lists!$J21),\"\",IF((INDIRECT(\"'\"&Lists!$J21&\"'!\"&Lists!$K21&M$14))=\"\",\"\",(INDIRECT(\"'\"&Lists!$J21&\"'!\"&Lists!$K21&M$14))))","v":""},{"$f":"IF(ISNA(Lists!$J21),\"\",IF((INDIRECT(\"'\"&Lists!$J21&\"'!\"&Lists!$K21&N$14))=\"\",\"\",(INDIRECT(\"'\"&Lists!$J21&\"'!\"&Lists!$K21&N$14))))","v":""},{"$f":"IF(ISNA(Lists!$J21),\"\",IF((INDIRECT(\"'\"&Lists!$J21&\"'!\"&Lists!$K21&O$14))=\"\",\"\",(INDIRECT(\"'\"&Lists!$J21&\"'!\"&Lists!$K21&O$14))))","v":""},{"$f":"IF(ISNA(Lists!$J21),\"\",IF((INDIRECT(\"'\"&Lists!$J21&\"'!\"&Lists!$K21&P$14))=\"\",\"\",(INDIRECT(\"'\"&Lists!$J21&\"'!\"&Lists!$K21&P$14))))","v":""},{"$f":"IF(ISNA(Lists!$J21),\"\",IF((INDIRECT(\"'\"&Lists!$J21&\"'!\"&Lists!$K21&Q$14))=\"\",\"\",(INDIRECT(\"'\"&Lists!$J21&\"'!\"&Lists!$K21&Q$14))))","v":""},{"$f":"IF(ISNA(Lists!$J21),\"\",IF((INDIRECT(\"'\"&Lists!$J21&\"'!\"&Lists!$K21&R$14))=\"\",\"\",(INDIRECT(\"'\"&Lists!$J21&\"'!\"&Lists!$K21&R$14))))","v":""},{"$f":"IF(ISNA(Lists!$J21),\"\",IF((INDIRECT(\"'\"&Lists!$J21&\"'!\"&Lists!$K21&S$14))=\"\",\"\",(INDIRECT(\"'\"&Lists!$J21&\"'!\"&Lists!$K21&S$14))))","v":""},{"$f":"IF(ISNA(Lists!$J21),\"\",IF((INDIRECT(\"'\"&Lists!$J21&\"'!\"&Lists!$K21&T$14))=\"\",\"\",(INDIRECT(\"'\"&Lists!$J21&\"'!\"&Lists!$K21&T$14))))","v":""},{"$f":"IF(ISNA(Lists!$J21),\"\",IF((INDIRECT(\"'\"&Lists!$J21&\"'!\"&Lists!$L21&U$14))=\"\",\"\",(INDIRECT(\"'\"&Lists!$J21&\"'!\"&Lists!$L21&U$14))))","v":""},{"$f":"IF(ISNA(Lists!$J21),\"\",IF((INDIRECT(\"'\"&Lists!$J21&\"'!\"&Lists!$L21&V$14))=\"\",\"\",(INDIRECT(\"'\"&Lists!$J21&\"'!\"&Lists!$L21&V$14))))","v":""},{"$f":"IF(ISNA(Lists!$J21),\"\",IF((INDIRECT(\"'\"&Lists!$J21&\"'!\"&Lists!$L21&W$14))=\"\",\"\",(INDIRECT(\"'\"&Lists!$J21&\"'!\"&Lists!$L21&W$14))))","v":""},{"$f":"IF(ISNA(Lists!$J21),\"\",IF((INDIRECT(\"'\"&Lists!$J21&\"'!\"&Lists!$L21&X$14))=\"\",\"\",(INDIRECT(\"'\"&Lists!$J21&\"'!\"&Lists!$L21&X$14))))","v":""},{"$f":"IF(ISNA(Lists!$J21),\"\",IF((INDIRECT(\"'\"&Lists!$J21&\"'!\"&Lists!$L21&Y$14))=\"\",\"\",(INDIRECT(\"'\"&Lists!$J21&\"'!\"&Lists!$L21&Y$14))))","v":""},{"$f":"IF(ISNA(Lists!$J21),\"\",IF((INDIRECT(\"'\"&Lists!$J21&\"'!\"&Lists!$L21&Z$14))=\"\",\"\",(INDIRECT(\"'\"&Lists!$J21&\"'!\"&Lists!$L21&Z$14))))","v":""},{"$f":"IF(ISNA(Lists!$J21),\"\",IF((INDIRECT(\"'\"&Lists!$J21&\"'!\"&Lists!$L21&AA$14))=\"\",\"\",(INDIRECT(\"'\"&Lists!$J21&\"'!\"&Lists!$L21&AA$14))))","v":""},{"$f":"IF(ISNA(Lists!$J21),\"\",IF((INDIRECT(\"'\"&Lists!$J21&\"'!\"&Lists!$K21&AB$14))=\"\",\"\",(INDIRECT(\"'\"&Lists!$J21&\"'!\"&Lists!$K21&AB$14))))","v":""},{"$f":"IF(ISNA(Lists!$J21),\"\",IF((INDIRECT(\"'\"&Lists!$J21&\"'!\"&Lists!$K21&AC$14))=\"\",\"\",(INDIRECT(\"'\"&Lists!$J21&\"'!\"&Lists!$K21&AC$14))))","v":""},{"$f":"IF(ISNA(Lists!$J21),\"\",IF((INDIRECT(\"'\"&Lists!$J21&\"'!\"&Lists!$K21&AD$14))=\"\",\"\",(INDIRECT(\"'\"&Lists!$J21&\"'!\"&Lists!$K21&AD$14))))","v":""},{"$f":"IF(ISNA(Lists!$J21),\"\",IF((INDIRECT(\"'\"&Lists!$J21&\"'!\"&Lists!$K21&AE$14))=\"\",\"\",(INDIRECT(\"'\"&Lists!$J21&\"'!\"&Lists!$K21&AE$14))))","v":""},{"$f":"IF(ISNA(Lists!$J21),\"\",IF((INDIRECT(\"'\"&Lists!$J21&\"'!\"&Lists!$K21&AF$14))=\"\",\"\",(INDIRECT(\"'\"&Lists!$J21&\"'!\"&Lists!$K21&AF$14))))","v":""},{"$f":"IF(ISNA(Lists!$J21),\"\",IF((INDIRECT(\"'\"&Lists!$J21&\"'!\"&Lists!$K21&AG$14))=\"\",\"\",(INDIRECT(\"'\"&Lists!$J21&\"'!\"&Lists!$K21&AG$14))))","v":""},{"$f":"IF(ISNA(Lists!$J21),\"\",IF((INDIRECT(\"'\"&Lists!$J21&\"'!\"&Lists!$K21&AH$14))=\"\",\"\",(INDIRECT(\"'\"&Lists!$J21&\"'!\"&Lists!$K21&AH$14))))","v":""},{"$f":"IF(ISNA(Lists!$J21),\"\",IF((INDIRECT(\"'\"&Lists!$J21&\"'!\"&Lists!$K21&AI$14))=\"\",\"\",(INDIRECT(\"'\"&Lists!$J21&\"'!\"&Lists!$K21&AI$14))))","v":""},{"$f":"IF(ISNA(Lists!$J21),\"\",IF((INDIRECT(\"'\"&Lists!$J21&\"'!\"&Lists!$K21&AJ$14))=\"\",\"\",(INDIRECT(\"'\"&Lists!$J21&\"'!\"&Lists!$K21&AJ$14))))","v":""},{"$f":"IF(ISNA(Lists!$J21),\"\",IF((INDIRECT(\"'\"&Lists!$J21&\"'!\"&Lists!$K21&AK$14))=\"\",\"\",(INDIRECT(\"'\"&Lists!$J21&\"'!\"&Lists!$K21&AK$14))))","v":""}]
[{"$f":"IF(B35=\"\",\"\",' Facility_Info upload'!$A$24)","v":""},{"$f":"IF(ISNA(Lists!$J22),\"\",IF(INDIRECT(\"'\"&Lists!$J22&\"'!\"&\"B\"&B$14)=\"\",\"\",(INDIRECT(\"'\"&Lists!$J22&\"'!\"&\"B\"&B$14))))","v":""},{"$f":"IF(ISNA(Lists!$J22),\"\",IF(INDIRECT(\"'\"&Lists!$J22&\"'!\"&\"B\"&C$14)=\"\",\"\",(INDIRECT(\"'\"&Lists!$J22&\"'!\"&\"B\"&C$14))))","v":""},{"$f":"IF(ISNA(Lists!$J22),\"\",IF(INDIRECT(\"'\"&Lists!$J22&\"'!\"&\"B\"&D$14)=\"\",\"\",(INDIRECT(\"'\"&Lists!$J22&\"'!\"&\"B\"&D$14))))","v":""},{"$f":"IF(ISNA(Lists!$J22),\"\",IF(INDIRECT(\"'\"&Lists!$J22&\"'!\"&\"B\"&E$14)=\"\",\"\",(INDIRECT(\"'\"&Lists!$J22&\"'!\"&\"B\"&E$14))))","v":""},{"$f":"IF(ISNA(Lists!$J22),\"\",IF(INDIRECT(\"'\"&Lists!$J22&\"'!\"&\"B\"&F$14)=\"\",\"\",(INDIRECT(\"'\"&Lists!$J22&\"'!\"&\"B\"&F$14))))","v":""},{"$f":"IF(ISNA(Lists!$J22),\"\",IF((INDIRECT(\"'\"&Lists!$J22&\"'!\"&Lists!$K22&G$14))=\"\",\"\",(INDIRECT(\"'\"&Lists!$J22&\"'!\"&Lists!$K22&G$14))))","v":""},{"$f":"IF(ISNA(Lists!$J22),\"\",IF((INDIRECT(\"'\"&Lists!$J22&\"'!\"&Lists!$K22&H$14))=\"\",\"\",(INDIRECT(\"'\"&Lists!$J22&\"'!\"&Lists!$K22&H$14))))","v":""},{"$f":"IF(ISNA(Lists!$J22),\"\",IF((INDIRECT(\"'\"&Lists!$J22&\"'!\"&Lists!$K22&I$14))=\"\",\"\",(INDIRECT(\"'\"&Lists!$J22&\"'!\"&Lists!$K22&I$14))))","v":""},{"$f":"IF(ISNA(Lists!$J22),\"\",IF((INDIRECT(\"'\"&Lists!$J22&\"'!\"&Lists!$K22&J$14))=\"\",\"\",(INDIRECT(\"'\"&Lists!$J22&\"'!\"&Lists!$K22&J$14))))","v":""},{"$f":"IF(ISNA(Lists!$J22),\"\",IF((INDIRECT(\"'\"&Lists!$J22&\"'!\"&Lists!$K22&K$14))=\"\",\"\",(INDIRECT(\"'\"&Lists!$J22&\"'!\"&Lists!$K22&K$14))))","v":""},{"$f":"IF(ISNA(Lists!$J22),\"\",IF((INDIRECT(\"'\"&Lists!$J22&\"'!\"&Lists!$K22&L$14))=\"\",\"\",(INDIRECT(\"'\"&Lists!$J22&\"'!\"&Lists!$K22&L$14))))","v":""},{"$f":"IF(ISNA(Lists!$J22),\"\",IF((INDIRECT(\"'\"&Lists!$J22&\"'!\"&Lists!$K22&M$14))=\"\",\"\",(INDIRECT(\"'\"&Lists!$J22&\"'!\"&Lists!$K22&M$14))))","v":""},{"$f":"IF(ISNA(Lists!$J22),\"\",IF((INDIRECT(\"'\"&Lists!$J22&\"'!\"&Lists!$K22&N$14))=\"\",\"\",(INDIRECT(\"'\"&Lists!$J22&\"'!\"&Lists!$K22&N$14))))","v":""},{"$f":"IF(ISNA(Lists!$J22),\"\",IF((INDIRECT(\"'\"&Lists!$J22&\"'!\"&Lists!$K22&O$14))=\"\",\"\",(INDIRECT(\"'\"&Lists!$J22&\"'!\"&Lists!$K22&O$14))))","v":""},{"$f":"IF(ISNA(Lists!$J22),\"\",IF((INDIRECT(\"'\"&Lists!$J22&\"'!\"&Lists!$K22&P$14))=\"\",\"\",(INDIRECT(\"'\"&Lists!$J22&\"'!\"&Lists!$K22&P$14))))","v":""},{"$f":"IF(ISNA(Lists!$J22),\"\",IF((INDIRECT(\"'\"&Lists!$J22&\"'!\"&Lists!$K22&Q$14))=\"\",\"\",(INDIRECT(\"'\"&Lists!$J22&\"'!\"&Lists!$K22&Q$14))))","v":""},{"$f":"IF(ISNA(Lists!$J22),\"\",IF((INDIRECT(\"'\"&Lists!$J22&\"'!\"&Lists!$K22&R$14))=\"\",\"\",(INDIRECT(\"'\"&Lists!$J22&\"'!\"&Lists!$K22&R$14))))","v":""},{"$f":"IF(ISNA(Lists!$J22),\"\",IF((INDIRECT(\"'\"&Lists!$J22&\"'!\"&Lists!$K22&S$14))=\"\",\"\",(INDIRECT(\"'\"&Lists!$J22&\"'!\"&Lists!$K22&S$14))))","v":""},{"$f":"IF(ISNA(Lists!$J22),\"\",IF((INDIRECT(\"'\"&Lists!$J22&\"'!\"&Lists!$K22&T$14))=\"\",\"\",(INDIRECT(\"'\"&Lists!$J22&\"'!\"&Lists!$K22&T$14))))","v":""},{"$f":"IF(ISNA(Lists!$J22),\"\",IF((INDIRECT(\"'\"&Lists!$J22&\"'!\"&Lists!$L22&U$14))=\"\",\"\",(INDIRECT(\"'\"&Lists!$J22&\"'!\"&Lists!$L22&U$14))))","v":""},{"$f":"IF(ISNA(Lists!$J22),\"\",IF((INDIRECT(\"'\"&Lists!$J22&\"'!\"&Lists!$L22&V$14))=\"\",\"\",(INDIRECT(\"'\"&Lists!$J22&\"'!\"&Lists!$L22&V$14))))","v":""},{"$f":"IF(ISNA(Lists!$J22),\"\",IF((INDIRECT(\"'\"&Lists!$J22&\"'!\"&Lists!$L22&W$14))=\"\",\"\",(INDIRECT(\"'\"&Lists!$J22&\"'!\"&Lists!$L22&W$14))))","v":""},{"$f":"IF(ISNA(Lists!$J22),\"\",IF((INDIRECT(\"'\"&Lists!$J22&\"'!\"&Lists!$L22&X$14))=\"\",\"\",(INDIRECT(\"'\"&Lists!$J22&\"'!\"&Lists!$L22&X$14))))","v":""},{"$f":"IF(ISNA(Lists!$J22),\"\",IF((INDIRECT(\"'\"&Lists!$J22&\"'!\"&Lists!$L22&Y$14))=\"\",\"\",(INDIRECT(\"'\"&Lists!$J22&\"'!\"&Lists!$L22&Y$14))))","v":""},{"$f":"IF(ISNA(Lists!$J22),\"\",IF((INDIRECT(\"'\"&Lists!$J22&\"'!\"&Lists!$L22&Z$14))=\"\",\"\",(INDIRECT(\"'\"&Lists!$J22&\"'!\"&Lists!$L22&Z$14))))","v":""},{"$f":"IF(ISNA(Lists!$J22),\"\",IF((INDIRECT(\"'\"&Lists!$J22&\"'!\"&Lists!$L22&AA$14))=\"\",\"\",(INDIRECT(\"'\"&Lists!$J22&\"'!\"&Lists!$L22&AA$14))))","v":""},{"$f":"IF(ISNA(Lists!$J22),\"\",IF((INDIRECT(\"'\"&Lists!$J22&\"'!\"&Lists!$K22&AB$14))=\"\",\"\",(INDIRECT(\"'\"&Lists!$J22&\"'!\"&Lists!$K22&AB$14))))","v":""},{"$f":"IF(ISNA(Lists!$J22),\"\",IF((INDIRECT(\"'\"&Lists!$J22&\"'!\"&Lists!$K22&AC$14))=\"\",\"\",(INDIRECT(\"'\"&Lists!$J22&\"'!\"&Lists!$K22&AC$14))))","v":""},{"$f":"IF(ISNA(Lists!$J22),\"\",IF((INDIRECT(\"'\"&Lists!$J22&\"'!\"&Lists!$K22&AD$14))=\"\",\"\",(INDIRECT(\"'\"&Lists!$J22&\"'!\"&Lists!$K22&AD$14))))","v":""},{"$f":"IF(ISNA(Lists!$J22),\"\",IF((INDIRECT(\"'\"&Lists!$J22&\"'!\"&Lists!$K22&AE$14))=\"\",\"\",(INDIRECT(\"'\"&Lists!$J22&\"'!\"&Lists!$K22&AE$14))))","v":""},{"$f":"IF(ISNA(Lists!$J22),\"\",IF((INDIRECT(\"'\"&Lists!$J22&\"'!\"&Lists!$K22&AF$14))=\"\",\"\",(INDIRECT(\"'\"&Lists!$J22&\"'!\"&Lists!$K22&AF$14))))","v":""},{"$f":"IF(ISNA(Lists!$J22),\"\",IF((INDIRECT(\"'\"&Lists!$J22&\"'!\"&Lists!$K22&AG$14))=\"\",\"\",(INDIRECT(\"'\"&Lists!$J22&\"'!\"&Lists!$K22&AG$14))))","v":""},{"$f":"IF(ISNA(Lists!$J22),\"\",IF((INDIRECT(\"'\"&Lists!$J22&\"'!\"&Lists!$K22&AH$14))=\"\",\"\",(INDIRECT(\"'\"&Lists!$J22&\"'!\"&Lists!$K22&AH$14))))","v":""},{"$f":"IF(ISNA(Lists!$J22),\"\",IF((INDIRECT(\"'\"&Lists!$J22&\"'!\"&Lists!$K22&AI$14))=\"\",\"\",(INDIRECT(\"'\"&Lists!$J22&\"'!\"&Lists!$K22&AI$14))))","v":""},{"$f":"IF(ISNA(Lists!$J22),\"\",IF((INDIRECT(\"'\"&Lists!$J22&\"'!\"&Lists!$K22&AJ$14))=\"\",\"\",(INDIRECT(\"'\"&Lists!$J22&\"'!\"&Lists!$K22&AJ$14))))","v":""},{"$f":"IF(ISNA(Lists!$J22),\"\",IF((INDIRECT(\"'\"&Lists!$J22&\"'!\"&Lists!$K22&AK$14))=\"\",\"\",(INDIRECT(\"'\"&Lists!$J22&\"'!\"&Lists!$K22&AK$14))))","v":""}]
[{"$f":"IF(B36=\"\",\"\",' Facility_Info upload'!$A$24)","v":""},{"$f":"IF(ISNA(Lists!$J23),\"\",IF(INDIRECT(\"'\"&Lists!$J23&\"'!\"&\"B\"&B$14)=\"\",\"\",(INDIRECT(\"'\"&Lists!$J23&\"'!\"&\"B\"&B$14))))","v":""},{"$f":"IF(ISNA(Lists!$J23),\"\",IF(INDIRECT(\"'\"&Lists!$J23&\"'!\"&\"B\"&C$14)=\"\",\"\",(INDIRECT(\"'\"&Lists!$J23&\"'!\"&\"B\"&C$14))))","v":""},{"$f":"IF(ISNA(Lists!$J23),\"\",IF(INDIRECT(\"'\"&Lists!$J23&\"'!\"&\"B\"&D$14)=\"\",\"\",(INDIRECT(\"'\"&Lists!$J23&\"'!\"&\"B\"&D$14))))","v":""},{"$f":"IF(ISNA(Lists!$J23),\"\",IF(INDIRECT(\"'\"&Lists!$J23&\"'!\"&\"B\"&E$14)=\"\",\"\",(INDIRECT(\"'\"&Lists!$J23&\"'!\"&\"B\"&E$14))))","v":""},{"$f":"IF(ISNA(Lists!$J23),\"\",IF(INDIRECT(\"'\"&Lists!$J23&\"'!\"&\"B\"&F$14)=\"\",\"\",(INDIRECT(\"'\"&Lists!$J23&\"'!\"&\"B\"&F$14))))","v":""},{"$f":"IF(ISNA(Lists!$J23),\"\",IF((INDIRECT(\"'\"&Lists!$J23&\"'!\"&Lists!$K23&G$14))=\"\",\"\",(INDIRECT(\"'\"&Lists!$J23&\"'!\"&Lists!$K23&G$14))))","v":""},{"$f":"IF(ISNA(Lists!$J23),\"\",IF((INDIRECT(\"'\"&Lists!$J23&\"'!\"&Lists!$K23&H$14))=\"\",\"\",(INDIRECT(\"'\"&Lists!$J23&\"'!\"&Lists!$K23&H$14))))","v":""},{"$f":"IF(ISNA(Lists!$J23),\"\",IF((INDIRECT(\"'\"&Lists!$J23&\"'!\"&Lists!$K23&I$14))=\"\",\"\",(INDIRECT(\"'\"&Lists!$J23&\"'!\"&Lists!$K23&I$14))))","v":""},{"$f":"IF(ISNA(Lists!$J23),\"\",IF((INDIRECT(\"'\"&Lists!$J23&\"'!\"&Lists!$K23&J$14))=\"\",\"\",(INDIRECT(\"'\"&Lists!$J23&\"'!\"&Lists!$K23&J$14))))","v":""},{"$f":"IF(ISNA(Lists!$J23),\"\",IF((INDIRECT(\"'\"&Lists!$J23&\"'!\"&Lists!$K23&K$14))=\"\",\"\",(INDIRECT(\"'\"&Lists!$J23&\"'!\"&Lists!$K23&K$14))))","v":""},{"$f":"IF(ISNA(Lists!$J23),\"\",IF((INDIRECT(\"'\"&Lists!$J23&\"'!\"&Lists!$K23&L$14))=\"\",\"\",(INDIRECT(\"'\"&Lists!$J23&\"'!\"&Lists!$K23&L$14))))","v":""},{"$f":"IF(ISNA(Lists!$J23),\"\",IF((INDIRECT(\"'\"&Lists!$J23&\"'!\"&Lists!$K23&M$14))=\"\",\"\",(INDIRECT(\"'\"&Lists!$J23&\"'!\"&Lists!$K23&M$14))))","v":""},{"$f":"IF(ISNA(Lists!$J23),\"\",IF((INDIRECT(\"'\"&Lists!$J23&\"'!\"&Lists!$K23&N$14))=\"\",\"\",(INDIRECT(\"'\"&Lists!$J23&\"'!\"&Lists!$K23&N$14))))","v":""},{"$f":"IF(ISNA(Lists!$J23),\"\",IF((INDIRECT(\"'\"&Lists!$J23&\"'!\"&Lists!$K23&O$14))=\"\",\"\",(INDIRECT(\"'\"&Lists!$J23&\"'!\"&Lists!$K23&O$14))))","v":""},{"$f":"IF(ISNA(Lists!$J23),\"\",IF((INDIRECT(\"'\"&Lists!$J23&\"'!\"&Lists!$K23&P$14))=\"\",\"\",(INDIRECT(\"'\"&Lists!$J23&\"'!\"&Lists!$K23&P$14))))","v":""},{"$f":"IF(ISNA(Lists!$J23),\"\",IF((INDIRECT(\"'\"&Lists!$J23&\"'!\"&Lists!$K23&Q$14))=\"\",\"\",(INDIRECT(\"'\"&Lists!$J23&\"'!\"&Lists!$K23&Q$14))))","v":""},{"$f":"IF(ISNA(Lists!$J23),\"\",IF((INDIRECT(\"'\"&Lists!$J23&\"'!\"&Lists!$K23&R$14))=\"\",\"\",(INDIRECT(\"'\"&Lists!$J23&\"'!\"&Lists!$K23&R$14))))","v":""},{"$f":"IF(ISNA(Lists!$J23),\"\",IF((INDIRECT(\"'\"&Lists!$J23&\"'!\"&Lists!$K23&S$14))=\"\",\"\",(INDIRECT(\"'\"&Lists!$J23&\"'!\"&Lists!$K23&S$14))))","v":""},{"$f":"IF(ISNA(Lists!$J23),\"\",IF((INDIRECT(\"'\"&Lists!$J23&\"'!\"&Lists!$K23&T$14))=\"\",\"\",(INDIRECT(\"'\"&Lists!$J23&\"'!\"&Lists!$K23&T$14))))","v":""},{"$f":"IF(ISNA(Lists!$J23),\"\",IF((INDIRECT(\"'\"&Lists!$J23&\"'!\"&Lists!$L23&U$14))=\"\",\"\",(INDIRECT(\"'\"&Lists!$J23&\"'!\"&Lists!$L23&U$14))))","v":""},{"$f":"IF(ISNA(Lists!$J23),\"\",IF((INDIRECT(\"'\"&Lists!$J23&\"'!\"&Lists!$L23&V$14))=\"\",\"\",(INDIRECT(\"'\"&Lists!$J23&\"'!\"&Lists!$L23&V$14))))","v":""},{"$f":"IF(ISNA(Lists!$J23),\"\",IF((INDIRECT(\"'\"&Lists!$J23&\"'!\"&Lists!$L23&W$14))=\"\",\"\",(INDIRECT(\"'\"&Lists!$J23&\"'!\"&Lists!$L23&W$14))))","v":""},{"$f":"IF(ISNA(Lists!$J23),\"\",IF((INDIRECT(\"'\"&Lists!$J23&\"'!\"&Lists!$L23&X$14))=\"\",\"\",(INDIRECT(\"'\"&Lists!$J23&\"'!\"&Lists!$L23&X$14))))","v":""},{"$f":"IF(ISNA(Lists!$J23),\"\",IF((INDIRECT(\"'\"&Lists!$J23&\"'!\"&Lists!$L23&Y$14))=\"\",\"\",(INDIRECT(\"'\"&Lists!$J23&\"'!\"&Lists!$L23&Y$14))))","v":""},{"$f":"IF(ISNA(Lists!$J23),\"\",IF((INDIRECT(\"'\"&Lists!$J23&\"'!\"&Lists!$L23&Z$14))=\"\",\"\",(INDIRECT(\"'\"&Lists!$J23&\"'!\"&Lists!$L23&Z$14))))","v":""},{"$f":"IF(ISNA(Lists!$J23),\"\",IF((INDIRECT(\"'\"&Lists!$J23&\"'!\"&Lists!$L23&AA$14))=\"\",\"\",(INDIRECT(\"'\"&Lists!$J23&\"'!\"&Lists!$L23&AA$14))))","v":""},{"$f":"IF(ISNA(Lists!$J23),\"\",IF((INDIRECT(\"'\"&Lists!$J23&\"'!\"&Lists!$K23&AB$14))=\"\",\"\",(INDIRECT(\"'\"&Lists!$J23&\"'!\"&Lists!$K23&AB$14))))","v":""},{"$f":"IF(ISNA(Lists!$J23),\"\",IF((INDIRECT(\"'\"&Lists!$J23&\"'!\"&Lists!$K23&AC$14))=\"\",\"\",(INDIRECT(\"'\"&Lists!$J23&\"'!\"&Lists!$K23&AC$14))))","v":""},{"$f":"IF(ISNA(Lists!$J23),\"\",IF((INDIRECT(\"'\"&Lists!$J23&\"'!\"&Lists!$K23&AD$14))=\"\",\"\",(INDIRECT(\"'\"&Lists!$J23&\"'!\"&Lists!$K23&AD$14))))","v":""},{"$f":"IF(ISNA(Lists!$J23),\"\",IF((INDIRECT(\"'\"&Lists!$J23&\"'!\"&Lists!$K23&AE$14))=\"\",\"\",(INDIRECT(\"'\"&Lists!$J23&\"'!\"&Lists!$K23&AE$14))))","v":""},{"$f":"IF(ISNA(Lists!$J23),\"\",IF((INDIRECT(\"'\"&Lists!$J23&\"'!\"&Lists!$K23&AF$14))=\"\",\"\",(INDIRECT(\"'\"&Lists!$J23&\"'!\"&Lists!$K23&AF$14))))","v":""},{"$f":"IF(ISNA(Lists!$J23),\"\",IF((INDIRECT(\"'\"&Lists!$J23&\"'!\"&Lists!$K23&AG$14))=\"\",\"\",(INDIRECT(\"'\"&Lists!$J23&\"'!\"&Lists!$K23&AG$14))))","v":""},{"$f":"IF(ISNA(Lists!$J23),\"\",IF((INDIRECT(\"'\"&Lists!$J23&\"'!\"&Lists!$K23&AH$14))=\"\",\"\",(INDIRECT(\"'\"&Lists!$J23&\"'!\"&Lists!$K23&AH$14))))","v":""},{"$f":"IF(ISNA(Lists!$J23),\"\",IF((INDIRECT(\"'\"&Lists!$J23&\"'!\"&Lists!$K23&AI$14))=\"\",\"\",(INDIRECT(\"'\"&Lists!$J23&\"'!\"&Lists!$K23&AI$14))))","v":""},{"$f":"IF(ISNA(Lists!$J23),\"\",IF((INDIRECT(\"'\"&Lists!$J23&\"'!\"&Lists!$K23&AJ$14))=\"\",\"\",(INDIRECT(\"'\"&Lists!$J23&\"'!\"&Lists!$K23&AJ$14))))","v":""},{"$f":"IF(ISNA(Lists!$J23),\"\",IF((INDIRECT(\"'\"&Lists!$J23&\"'!\"&Lists!$K23&AK$14))=\"\",\"\",(INDIRECT(\"'\"&Lists!$J23&\"'!\"&Lists!$K23&AK$14))))","v":""}]
[{"$f":"IF(B37=\"\",\"\",' Facility_Info upload'!$A$24)","v":""},{"$f":"IF(ISNA(Lists!$J24),\"\",IF(INDIRECT(\"'\"&Lists!$J24&\"'!\"&\"B\"&B$14)=\"\",\"\",(INDIRECT(\"'\"&Lists!$J24&\"'!\"&\"B\"&B$14))))","v":""},{"$f":"IF(ISNA(Lists!$J24),\"\",IF(INDIRECT(\"'\"&Lists!$J24&\"'!\"&\"B\"&C$14)=\"\",\"\",(INDIRECT(\"'\"&Lists!$J24&\"'!\"&\"B\"&C$14))))","v":""},{"$f":"IF(ISNA(Lists!$J24),\"\",IF(INDIRECT(\"'\"&Lists!$J24&\"'!\"&\"B\"&D$14)=\"\",\"\",(INDIRECT(\"'\"&Lists!$J24&\"'!\"&\"B\"&D$14))))","v":""},{"$f":"IF(ISNA(Lists!$J24),\"\",IF(INDIRECT(\"'\"&Lists!$J24&\"'!\"&\"B\"&E$14)=\"\",\"\",(INDIRECT(\"'\"&Lists!$J24&\"'!\"&\"B\"&E$14))))","v":""},{"$f":"IF(ISNA(Lists!$J24),\"\",IF(INDIRECT(\"'\"&Lists!$J24&\"'!\"&\"B\"&F$14)=\"\",\"\",(INDIRECT(\"'\"&Lists!$J24&\"'!\"&\"B\"&F$14))))","v":""},{"$f":"IF(ISNA(Lists!$J24),\"\",IF((INDIRECT(\"'\"&Lists!$J24&\"'!\"&Lists!$K24&G$14))=\"\",\"\",(INDIRECT(\"'\"&Lists!$J24&\"'!\"&Lists!$K24&G$14))))","v":""},{"$f":"IF(ISNA(Lists!$J24),\"\",IF((INDIRECT(\"'\"&Lists!$J24&\"'!\"&Lists!$K24&H$14))=\"\",\"\",(INDIRECT(\"'\"&Lists!$J24&\"'!\"&Lists!$K24&H$14))))","v":""},{"$f":"IF(ISNA(Lists!$J24),\"\",IF((INDIRECT(\"'\"&Lists!$J24&\"'!\"&Lists!$K24&I$14))=\"\",\"\",(INDIRECT(\"'\"&Lists!$J24&\"'!\"&Lists!$K24&I$14))))","v":""},{"$f":"IF(ISNA(Lists!$J24),\"\",IF((INDIRECT(\"'\"&Lists!$J24&\"'!\"&Lists!$K24&J$14))=\"\",\"\",(INDIRECT(\"'\"&Lists!$J24&\"'!\"&Lists!$K24&J$14))))","v":""},{"$f":"IF(ISNA(Lists!$J24),\"\",IF((INDIRECT(\"'\"&Lists!$J24&\"'!\"&Lists!$K24&K$14))=\"\",\"\",(INDIRECT(\"'\"&Lists!$J24&\"'!\"&Lists!$K24&K$14))))","v":""},{"$f":"IF(ISNA(Lists!$J24),\"\",IF((INDIRECT(\"'\"&Lists!$J24&\"'!\"&Lists!$K24&L$14))=\"\",\"\",(INDIRECT(\"'\"&Lists!$J24&\"'!\"&Lists!$K24&L$14))))","v":""},{"$f":"IF(ISNA(Lists!$J24),\"\",IF((INDIRECT(\"'\"&Lists!$J24&\"'!\"&Lists!$K24&M$14))=\"\",\"\",(INDIRECT(\"'\"&Lists!$J24&\"'!\"&Lists!$K24&M$14))))","v":""},{"$f":"IF(ISNA(Lists!$J24),\"\",IF((INDIRECT(\"'\"&Lists!$J24&\"'!\"&Lists!$K24&N$14))=\"\",\"\",(INDIRECT(\"'\"&Lists!$J24&\"'!\"&Lists!$K24&N$14))))","v":""},{"$f":"IF(ISNA(Lists!$J24),\"\",IF((INDIRECT(\"'\"&Lists!$J24&\"'!\"&Lists!$K24&O$14))=\"\",\"\",(INDIRECT(\"'\"&Lists!$J24&\"'!\"&Lists!$K24&O$14))))","v":""},{"$f":"IF(ISNA(Lists!$J24),\"\",IF((INDIRECT(\"'\"&Lists!$J24&\"'!\"&Lists!$K24&P$14))=\"\",\"\",(INDIRECT(\"'\"&Lists!$J24&\"'!\"&Lists!$K24&P$14))))","v":""},{"$f":"IF(ISNA(Lists!$J24),\"\",IF((INDIRECT(\"'\"&Lists!$J24&\"'!\"&Lists!$K24&Q$14))=\"\",\"\",(INDIRECT(\"'\"&Lists!$J24&\"'!\"&Lists!$K24&Q$14))))","v":""},{"$f":"IF(ISNA(Lists!$J24),\"\",IF((INDIRECT(\"'\"&Lists!$J24&\"'!\"&Lists!$K24&R$14))=\"\",\"\",(INDIRECT(\"'\"&Lists!$J24&\"'!\"&Lists!$K24&R$14))))","v":""},{"$f":"IF(ISNA(Lists!$J24),\"\",IF((INDIRECT(\"'\"&Lists!$J24&\"'!\"&Lists!$K24&S$14))=\"\",\"\",(INDIRECT(\"'\"&Lists!$J24&\"'!\"&Lists!$K24&S$14))))","v":""},{"$f":"IF(ISNA(Lists!$J24),\"\",IF((INDIRECT(\"'\"&Lists!$J24&\"'!\"&Lists!$K24&T$14))=\"\",\"\",(INDIRECT(\"'\"&Lists!$J24&\"'!\"&Lists!$K24&T$14))))","v":""},{"$f":"IF(ISNA(Lists!$J24),\"\",IF((INDIRECT(\"'\"&Lists!$J24&\"'!\"&Lists!$L24&U$14))=\"\",\"\",(INDIRECT(\"'\"&Lists!$J24&\"'!\"&Lists!$L24&U$14))))","v":""},{"$f":"IF(ISNA(Lists!$J24),\"\",IF((INDIRECT(\"'\"&Lists!$J24&\"'!\"&Lists!$L24&V$14))=\"\",\"\",(INDIRECT(\"'\"&Lists!$J24&\"'!\"&Lists!$L24&V$14))))","v":""},{"$f":"IF(ISNA(Lists!$J24),\"\",IF((INDIRECT(\"'\"&Lists!$J24&\"'!\"&Lists!$L24&W$14))=\"\",\"\",(INDIRECT(\"'\"&Lists!$J24&\"'!\"&Lists!$L24&W$14))))","v":""},{"$f":"IF(ISNA(Lists!$J24),\"\",IF((INDIRECT(\"'\"&Lists!$J24&\"'!\"&Lists!$L24&X$14))=\"\",\"\",(INDIRECT(\"'\"&Lists!$J24&\"'!\"&Lists!$L24&X$14))))","v":""},{"$f":"IF(ISNA(Lists!$J24),\"\",IF((INDIRECT(\"'\"&Lists!$J24&\"'!\"&Lists!$L24&Y$14))=\"\",\"\",(INDIRECT(\"'\"&Lists!$J24&\"'!\"&Lists!$L24&Y$14))))","v":""},{"$f":"IF(ISNA(Lists!$J24),\"\",IF((INDIRECT(\"'\"&Lists!$J24&\"'!\"&Lists!$L24&Z$14))=\"\",\"\",(INDIRECT(\"'\"&Lists!$J24&\"'!\"&Lists!$L24&Z$14))))","v":""},{"$f":"IF(ISNA(Lists!$J24),\"\",IF((INDIRECT(\"'\"&Lists!$J24&\"'!\"&Lists!$L24&AA$14))=\"\",\"\",(INDIRECT(\"'\"&Lists!$J24&\"'!\"&Lists!$L24&AA$14))))","v":""},{"$f":"IF(ISNA(Lists!$J24),\"\",IF((INDIRECT(\"'\"&Lists!$J24&\"'!\"&Lists!$K24&AB$14))=\"\",\"\",(INDIRECT(\"'\"&Lists!$J24&\"'!\"&Lists!$K24&AB$14))))","v":""},{"$f":"IF(ISNA(Lists!$J24),\"\",IF((INDIRECT(\"'\"&Lists!$J24&\"'!\"&Lists!$K24&AC$14))=\"\",\"\",(INDIRECT(\"'\"&Lists!$J24&\"'!\"&Lists!$K24&AC$14))))","v":""},{"$f":"IF(ISNA(Lists!$J24),\"\",IF((INDIRECT(\"'\"&Lists!$J24&\"'!\"&Lists!$K24&AD$14))=\"\",\"\",(INDIRECT(\"'\"&Lists!$J24&\"'!\"&Lists!$K24&AD$14))))","v":""},{"$f":"IF(ISNA(Lists!$J24),\"\",IF((INDIRECT(\"'\"&Lists!$J24&\"'!\"&Lists!$K24&AE$14))=\"\",\"\",(INDIRECT(\"'\"&Lists!$J24&\"'!\"&Lists!$K24&AE$14))))","v":""},{"$f":"IF(ISNA(Lists!$J24),\"\",IF((INDIRECT(\"'\"&Lists!$J24&\"'!\"&Lists!$K24&AF$14))=\"\",\"\",(INDIRECT(\"'\"&Lists!$J24&\"'!\"&Lists!$K24&AF$14))))","v":""},{"$f":"IF(ISNA(Lists!$J24),\"\",IF((INDIRECT(\"'\"&Lists!$J24&\"'!\"&Lists!$K24&AG$14))=\"\",\"\",(INDIRECT(\"'\"&Lists!$J24&\"'!\"&Lists!$K24&AG$14))))","v":""},{"$f":"IF(ISNA(Lists!$J24),\"\",IF((INDIRECT(\"'\"&Lists!$J24&\"'!\"&Lists!$K24&AH$14))=\"\",\"\",(INDIRECT(\"'\"&Lists!$J24&\"'!\"&Lists!$K24&AH$14))))","v":""},{"$f":"IF(ISNA(Lists!$J24),\"\",IF((INDIRECT(\"'\"&Lists!$J24&\"'!\"&Lists!$K24&AI$14))=\"\",\"\",(INDIRECT(\"'\"&Lists!$J24&\"'!\"&Lists!$K24&AI$14))))","v":""},{"$f":"IF(ISNA(Lists!$J24),\"\",IF((INDIRECT(\"'\"&Lists!$J24&\"'!\"&Lists!$K24&AJ$14))=\"\",\"\",(INDIRECT(\"'\"&Lists!$J24&\"'!\"&Lists!$K24&AJ$14))))","v":""},{"$f":"IF(ISNA(Lists!$J24),\"\",IF((INDIRECT(\"'\"&Lists!$J24&\"'!\"&Lists!$K24&AK$14))=\"\",\"\",(INDIRECT(\"'\"&Lists!$J24&\"'!\"&Lists!$K24&AK$14))))","v":""}]
[{"$f":"IF(B38=\"\",\"\",' Facility_Info upload'!$A$24)","v":""},{"$f":"IF(ISNA(Lists!$J25),\"\",IF(INDIRECT(\"'\"&Lists!$J25&\"'!\"&\"B\"&B$14)=\"\",\"\",(INDIRECT(\"'\"&Lists!$J25&\"'!\"&\"B\"&B$14))))","v":""},{"$f":"IF(ISNA(Lists!$J25),\"\",IF(INDIRECT(\"'\"&Lists!$J25&\"'!\"&\"B\"&C$14)=\"\",\"\",(INDIRECT(\"'\"&Lists!$J25&\"'!\"&\"B\"&C$14))))","v":""},{"$f":"IF(ISNA(Lists!$J25),\"\",IF(INDIRECT(\"'\"&Lists!$J25&\"'!\"&\"B\"&D$14)=\"\",\"\",(INDIRECT(\"'\"&Lists!$J25&\"'!\"&\"B\"&D$14))))","v":""},{"$f":"IF(ISNA(Lists!$J25),\"\",IF(INDIRECT(\"'\"&Lists!$J25&\"'!\"&\"B\"&E$14)=\"\",\"\",(INDIRECT(\"'\"&Lists!$J25&\"'!\"&\"B\"&E$14))))","v":""},{"$f":"IF(ISNA(Lists!$J25),\"\",IF(INDIRECT(\"'\"&Lists!$J25&\"'!\"&\"B\"&F$14)=\"\",\"\",(INDIRECT(\"'\"&Lists!$J25&\"'!\"&\"B\"&F$14))))","v":""},{"$f":"IF(ISNA(Lists!$J25),\"\",IF((INDIRECT(\"'\"&Lists!$J25&\"'!\"&Lists!$K25&G$14))=\"\",\"\",(INDIRECT(\"'\"&Lists!$J25&\"'!\"&Lists!$K25&G$14))))","v":""},{"$f":"IF(ISNA(Lists!$J25),\"\",IF((INDIRECT(\"'\"&Lists!$J25&\"'!\"&Lists!$K25&H$14))=\"\",\"\",(INDIRECT(\"'\"&Lists!$J25&\"'!\"&Lists!$K25&H$14))))","v":""},{"$f":"IF(ISNA(Lists!$J25),\"\",IF((INDIRECT(\"'\"&Lists!$J25&\"'!\"&Lists!$K25&I$14))=\"\",\"\",(INDIRECT(\"'\"&Lists!$J25&\"'!\"&Lists!$K25&I$14))))","v":""},{"$f":"IF(ISNA(Lists!$J25),\"\",IF((INDIRECT(\"'\"&Lists!$J25&\"'!\"&Lists!$K25&J$14))=\"\",\"\",(INDIRECT(\"'\"&Lists!$J25&\"'!\"&Lists!$K25&J$14))))","v":""},{"$f":"IF(ISNA(Lists!$J25),\"\",IF((INDIRECT(\"'\"&Lists!$J25&\"'!\"&Lists!$K25&K$14))=\"\",\"\",(INDIRECT(\"'\"&Lists!$J25&\"'!\"&Lists!$K25&K$14))))","v":""},{"$f":"IF(ISNA(Lists!$J25),\"\",IF((INDIRECT(\"'\"&Lists!$J25&\"'!\"&Lists!$K25&L$14))=\"\",\"\",(INDIRECT(\"'\"&Lists!$J25&\"'!\"&Lists!$K25&L$14))))","v":""},{"$f":"IF(ISNA(Lists!$J25),\"\",IF((INDIRECT(\"'\"&Lists!$J25&\"'!\"&Lists!$K25&M$14))=\"\",\"\",(INDIRECT(\"'\"&Lists!$J25&\"'!\"&Lists!$K25&M$14))))","v":""},{"$f":"IF(ISNA(Lists!$J25),\"\",IF((INDIRECT(\"'\"&Lists!$J25&\"'!\"&Lists!$K25&N$14))=\"\",\"\",(INDIRECT(\"'\"&Lists!$J25&\"'!\"&Lists!$K25&N$14))))","v":""},{"$f":"IF(ISNA(Lists!$J25),\"\",IF((INDIRECT(\"'\"&Lists!$J25&\"'!\"&Lists!$K25&O$14))=\"\",\"\",(INDIRECT(\"'\"&Lists!$J25&\"'!\"&Lists!$K25&O$14))))","v":""},{"$f":"IF(ISNA(Lists!$J25),\"\",IF((INDIRECT(\"'\"&Lists!$J25&\"'!\"&Lists!$K25&P$14))=\"\",\"\",(INDIRECT(\"'\"&Lists!$J25&\"'!\"&Lists!$K25&P$14))))","v":""},{"$f":"IF(ISNA(Lists!$J25),\"\",IF((INDIRECT(\"'\"&Lists!$J25&\"'!\"&Lists!$K25&Q$14))=\"\",\"\",(INDIRECT(\"'\"&Lists!$J25&\"'!\"&Lists!$K25&Q$14))))","v":""},{"$f":"IF(ISNA(Lists!$J25),\"\",IF((INDIRECT(\"'\"&Lists!$J25&\"'!\"&Lists!$K25&R$14))=\"\",\"\",(INDIRECT(\"'\"&Lists!$J25&\"'!\"&Lists!$K25&R$14))))","v":""},{"$f":"IF(ISNA(Lists!$J25),\"\",IF((INDIRECT(\"'\"&Lists!$J25&\"'!\"&Lists!$K25&S$14))=\"\",\"\",(INDIRECT(\"'\"&Lists!$J25&\"'!\"&Lists!$K25&S$14))))","v":""},{"$f":"IF(ISNA(Lists!$J25),\"\",IF((INDIRECT(\"'\"&Lists!$J25&\"'!\"&Lists!$K25&T$14))=\"\",\"\",(INDIRECT(\"'\"&Lists!$J25&\"'!\"&Lists!$K25&T$14))))","v":""},{"$f":"IF(ISNA(Lists!$J25),\"\",IF((INDIRECT(\"'\"&Lists!$J25&\"'!\"&Lists!$L25&U$14))=\"\",\"\",(INDIRECT(\"'\"&Lists!$J25&\"'!\"&Lists!$L25&U$14))))","v":""},{"$f":"IF(ISNA(Lists!$J25),\"\",IF((INDIRECT(\"'\"&Lists!$J25&\"'!\"&Lists!$L25&V$14))=\"\",\"\",(INDIRECT(\"'\"&Lists!$J25&\"'!\"&Lists!$L25&V$14))))","v":""},{"$f":"IF(ISNA(Lists!$J25),\"\",IF((INDIRECT(\"'\"&Lists!$J25&\"'!\"&Lists!$L25&W$14))=\"\",\"\",(INDIRECT(\"'\"&Lists!$J25&\"'!\"&Lists!$L25&W$14))))","v":""},{"$f":"IF(ISNA(Lists!$J25),\"\",IF((INDIRECT(\"'\"&Lists!$J25&\"'!\"&Lists!$L25&X$14))=\"\",\"\",(INDIRECT(\"'\"&Lists!$J25&\"'!\"&Lists!$L25&X$14))))","v":""},{"$f":"IF(ISNA(Lists!$J25),\"\",IF((INDIRECT(\"'\"&Lists!$J25&\"'!\"&Lists!$L25&Y$14))=\"\",\"\",(INDIRECT(\"'\"&Lists!$J25&\"'!\"&Lists!$L25&Y$14))))","v":""},{"$f":"IF(ISNA(Lists!$J25),\"\",IF((INDIRECT(\"'\"&Lists!$J25&\"'!\"&Lists!$L25&Z$14))=\"\",\"\",(INDIRECT(\"'\"&Lists!$J25&\"'!\"&Lists!$L25&Z$14))))","v":""},{"$f":"IF(ISNA(Lists!$J25),\"\",IF((INDIRECT(\"'\"&Lists!$J25&\"'!\"&Lists!$L25&AA$14))=\"\",\"\",(INDIRECT(\"'\"&Lists!$J25&\"'!\"&Lists!$L25&AA$14))))","v":""},{"$f":"IF(ISNA(Lists!$J25),\"\",IF((INDIRECT(\"'\"&Lists!$J25&\"'!\"&Lists!$K25&AB$14))=\"\",\"\",(INDIRECT(\"'\"&Lists!$J25&\"'!\"&Lists!$K25&AB$14))))","v":""},{"$f":"IF(ISNA(Lists!$J25),\"\",IF((INDIRECT(\"'\"&Lists!$J25&\"'!\"&Lists!$K25&AC$14))=\"\",\"\",(INDIRECT(\"'\"&Lists!$J25&\"'!\"&Lists!$K25&AC$14))))","v":""},{"$f":"IF(ISNA(Lists!$J25),\"\",IF((INDIRECT(\"'\"&Lists!$J25&\"'!\"&Lists!$K25&AD$14))=\"\",\"\",(INDIRECT(\"'\"&Lists!$J25&\"'!\"&Lists!$K25&AD$14))))","v":""},{"$f":"IF(ISNA(Lists!$J25),\"\",IF((INDIRECT(\"'\"&Lists!$J25&\"'!\"&Lists!$K25&AE$14))=\"\",\"\",(INDIRECT(\"'\"&Lists!$J25&\"'!\"&Lists!$K25&AE$14))))","v":""},{"$f":"IF(ISNA(Lists!$J25),\"\",IF((INDIRECT(\"'\"&Lists!$J25&\"'!\"&Lists!$K25&AF$14))=\"\",\"\",(INDIRECT(\"'\"&Lists!$J25&\"'!\"&Lists!$K25&AF$14))))","v":""},{"$f":"IF(ISNA(Lists!$J25),\"\",IF((INDIRECT(\"'\"&Lists!$J25&\"'!\"&Lists!$K25&AG$14))=\"\",\"\",(INDIRECT(\"'\"&Lists!$J25&\"'!\"&Lists!$K25&AG$14))))","v":""},{"$f":"IF(ISNA(Lists!$J25),\"\",IF((INDIRECT(\"'\"&Lists!$J25&\"'!\"&Lists!$K25&AH$14))=\"\",\"\",(INDIRECT(\"'\"&Lists!$J25&\"'!\"&Lists!$K25&AH$14))))","v":""},{"$f":"IF(ISNA(Lists!$J25),\"\",IF((INDIRECT(\"'\"&Lists!$J25&\"'!\"&Lists!$K25&AI$14))=\"\",\"\",(INDIRECT(\"'\"&Lists!$J25&\"'!\"&Lists!$K25&AI$14))))","v":""},{"$f":"IF(ISNA(Lists!$J25),\"\",IF((INDIRECT(\"'\"&Lists!$J25&\"'!\"&Lists!$K25&AJ$14))=\"\",\"\",(INDIRECT(\"'\"&Lists!$J25&\"'!\"&Lists!$K25&AJ$14))))","v":""},{"$f":"IF(ISNA(Lists!$J25),\"\",IF((INDIRECT(\"'\"&Lists!$J25&\"'!\"&Lists!$K25&AK$14))=\"\",\"\",(INDIRECT(\"'\"&Lists!$J25&\"'!\"&Lists!$K25&AK$14))))","v":""}]
[{"$f":"IF(B39=\"\",\"\",' Facility_Info upload'!$A$24)","v":""},{"$f":"IF(ISNA(Lists!$J26),\"\",IF(INDIRECT(\"'\"&Lists!$J26&\"'!\"&\"B\"&B$14)=\"\",\"\",(INDIRECT(\"'\"&Lists!$J26&\"'!\"&\"B\"&B$14))))","v":""},{"$f":"IF(ISNA(Lists!$J26),\"\",IF(INDIRECT(\"'\"&Lists!$J26&\"'!\"&\"B\"&C$14)=\"\",\"\",(INDIRECT(\"'\"&Lists!$J26&\"'!\"&\"B\"&C$14))))","v":""},{"$f":"IF(ISNA(Lists!$J26),\"\",IF(INDIRECT(\"'\"&Lists!$J26&\"'!\"&\"B\"&D$14)=\"\",\"\",(INDIRECT(\"'\"&Lists!$J26&\"'!\"&\"B\"&D$14))))","v":""},{"$f":"IF(ISNA(Lists!$J26),\"\",IF(INDIRECT(\"'\"&Lists!$J26&\"'!\"&\"B\"&E$14)=\"\",\"\",(INDIRECT(\"'\"&Lists!$J26&\"'!\"&\"B\"&E$14))))","v":""},{"$f":"IF(ISNA(Lists!$J26),\"\",IF(INDIRECT(\"'\"&Lists!$J26&\"'!\"&\"B\"&F$14)=\"\",\"\",(INDIRECT(\"'\"&Lists!$J26&\"'!\"&\"B\"&F$14))))","v":""},{"$f":"IF(ISNA(Lists!$J26),\"\",IF((INDIRECT(\"'\"&Lists!$J26&\"'!\"&Lists!$K26&G$14))=\"\",\"\",(INDIRECT(\"'\"&Lists!$J26&\"'!\"&Lists!$K26&G$14))))","v":""},{"$f":"IF(ISNA(Lists!$J26),\"\",IF((INDIRECT(\"'\"&Lists!$J26&\"'!\"&Lists!$K26&H$14))=\"\",\"\",(INDIRECT(\"'\"&Lists!$J26&\"'!\"&Lists!$K26&H$14))))","v":""},{"$f":"IF(ISNA(Lists!$J26),\"\",IF((INDIRECT(\"'\"&Lists!$J26&\"'!\"&Lists!$K26&I$14))=\"\",\"\",(INDIRECT(\"'\"&Lists!$J26&\"'!\"&Lists!$K26&I$14))))","v":""},{"$f":"IF(ISNA(Lists!$J26),\"\",IF((INDIRECT(\"'\"&Lists!$J26&\"'!\"&Lists!$K26&J$14))=\"\",\"\",(INDIRECT(\"'\"&Lists!$J26&\"'!\"&Lists!$K26&J$14))))","v":""},{"$f":"IF(ISNA(Lists!$J26),\"\",IF((INDIRECT(\"'\"&Lists!$J26&\"'!\"&Lists!$K26&K$14))=\"\",\"\",(INDIRECT(\"'\"&Lists!$J26&\"'!\"&Lists!$K26&K$14))))","v":""},{"$f":"IF(ISNA(Lists!$J26),\"\",IF((INDIRECT(\"'\"&Lists!$J26&\"'!\"&Lists!$K26&L$14))=\"\",\"\",(INDIRECT(\"'\"&Lists!$J26&\"'!\"&Lists!$K26&L$14))))","v":""},{"$f":"IF(ISNA(Lists!$J26),\"\",IF((INDIRECT(\"'\"&Lists!$J26&\"'!\"&Lists!$K26&M$14))=\"\",\"\",(INDIRECT(\"'\"&Lists!$J26&\"'!\"&Lists!$K26&M$14))))","v":""},{"$f":"IF(ISNA(Lists!$J26),\"\",IF((INDIRECT(\"'\"&Lists!$J26&\"'!\"&Lists!$K26&N$14))=\"\",\"\",(INDIRECT(\"'\"&Lists!$J26&\"'!\"&Lists!$K26&N$14))))","v":""},{"$f":"IF(ISNA(Lists!$J26),\"\",IF((INDIRECT(\"'\"&Lists!$J26&\"'!\"&Lists!$K26&O$14))=\"\",\"\",(INDIRECT(\"'\"&Lists!$J26&\"'!\"&Lists!$K26&O$14))))","v":""},{"$f":"IF(ISNA(Lists!$J26),\"\",IF((INDIRECT(\"'\"&Lists!$J26&\"'!\"&Lists!$K26&P$14))=\"\",\"\",(INDIRECT(\"'\"&Lists!$J26&\"'!\"&Lists!$K26&P$14))))","v":""},{"$f":"IF(ISNA(Lists!$J26),\"\",IF((INDIRECT(\"'\"&Lists!$J26&\"'!\"&Lists!$K26&Q$14))=\"\",\"\",(INDIRECT(\"'\"&Lists!$J26&\"'!\"&Lists!$K26&Q$14))))","v":""},{"$f":"IF(ISNA(Lists!$J26),\"\",IF((INDIRECT(\"'\"&Lists!$J26&\"'!\"&Lists!$K26&R$14))=\"\",\"\",(INDIRECT(\"'\"&Lists!$J26&\"'!\"&Lists!$K26&R$14))))","v":""},{"$f":"IF(ISNA(Lists!$J26),\"\",IF((INDIRECT(\"'\"&Lists!$J26&\"'!\"&Lists!$K26&S$14))=\"\",\"\",(INDIRECT(\"'\"&Lists!$J26&\"'!\"&Lists!$K26&S$14))))","v":""},{"$f":"IF(ISNA(Lists!$J26),\"\",IF((INDIRECT(\"'\"&Lists!$J26&\"'!\"&Lists!$K26&T$14))=\"\",\"\",(INDIRECT(\"'\"&Lists!$J26&\"'!\"&Lists!$K26&T$14))))","v":""},{"$f":"IF(ISNA(Lists!$J26),\"\",IF((INDIRECT(\"'\"&Lists!$J26&\"'!\"&Lists!$L26&U$14))=\"\",\"\",(INDIRECT(\"'\"&Lists!$J26&\"'!\"&Lists!$L26&U$14))))","v":""},{"$f":"IF(ISNA(Lists!$J26),\"\",IF((INDIRECT(\"'\"&Lists!$J26&\"'!\"&Lists!$L26&V$14))=\"\",\"\",(INDIRECT(\"'\"&Lists!$J26&\"'!\"&Lists!$L26&V$14))))","v":""},{"$f":"IF(ISNA(Lists!$J26),\"\",IF((INDIRECT(\"'\"&Lists!$J26&\"'!\"&Lists!$L26&W$14))=\"\",\"\",(INDIRECT(\"'\"&Lists!$J26&\"'!\"&Lists!$L26&W$14))))","v":""},{"$f":"IF(ISNA(Lists!$J26),\"\",IF((INDIRECT(\"'\"&Lists!$J26&\"'!\"&Lists!$L26&X$14))=\"\",\"\",(INDIRECT(\"'\"&Lists!$J26&\"'!\"&Lists!$L26&X$14))))","v":""},{"$f":"IF(ISNA(Lists!$J26),\"\",IF((INDIRECT(\"'\"&Lists!$J26&\"'!\"&Lists!$L26&Y$14))=\"\",\"\",(INDIRECT(\"'\"&Lists!$J26&\"'!\"&Lists!$L26&Y$14))))","v":""},{"$f":"IF(ISNA(Lists!$J26),\"\",IF((INDIRECT(\"'\"&Lists!$J26&\"'!\"&Lists!$L26&Z$14))=\"\",\"\",(INDIRECT(\"'\"&Lists!$J26&\"'!\"&Lists!$L26&Z$14))))","v":""},{"$f":"IF(ISNA(Lists!$J26),\"\",IF((INDIRECT(\"'\"&Lists!$J26&\"'!\"&Lists!$L26&AA$14))=\"\",\"\",(INDIRECT(\"'\"&Lists!$J26&\"'!\"&Lists!$L26&AA$14))))","v":""},{"$f":"IF(ISNA(Lists!$J26),\"\",IF((INDIRECT(\"'\"&Lists!$J26&\"'!\"&Lists!$K26&AB$14))=\"\",\"\",(INDIRECT(\"'\"&Lists!$J26&\"'!\"&Lists!$K26&AB$14))))","v":""},{"$f":"IF(ISNA(Lists!$J26),\"\",IF((INDIRECT(\"'\"&Lists!$J26&\"'!\"&Lists!$K26&AC$14))=\"\",\"\",(INDIRECT(\"'\"&Lists!$J26&\"'!\"&Lists!$K26&AC$14))))","v":""},{"$f":"IF(ISNA(Lists!$J26),\"\",IF((INDIRECT(\"'\"&Lists!$J26&\"'!\"&Lists!$K26&AD$14))=\"\",\"\",(INDIRECT(\"'\"&Lists!$J26&\"'!\"&Lists!$K26&AD$14))))","v":""},{"$f":"IF(ISNA(Lists!$J26),\"\",IF((INDIRECT(\"'\"&Lists!$J26&\"'!\"&Lists!$K26&AE$14))=\"\",\"\",(INDIRECT(\"'\"&Lists!$J26&\"'!\"&Lists!$K26&AE$14))))","v":""},{"$f":"IF(ISNA(Lists!$J26),\"\",IF((INDIRECT(\"'\"&Lists!$J26&\"'!\"&Lists!$K26&AF$14))=\"\",\"\",(INDIRECT(\"'\"&Lists!$J26&\"'!\"&Lists!$K26&AF$14))))","v":""},{"$f":"IF(ISNA(Lists!$J26),\"\",IF((INDIRECT(\"'\"&Lists!$J26&\"'!\"&Lists!$K26&AG$14))=\"\",\"\",(INDIRECT(\"'\"&Lists!$J26&\"'!\"&Lists!$K26&AG$14))))","v":""},{"$f":"IF(ISNA(Lists!$J26),\"\",IF((INDIRECT(\"'\"&Lists!$J26&\"'!\"&Lists!$K26&AH$14))=\"\",\"\",(INDIRECT(\"'\"&Lists!$J26&\"'!\"&Lists!$K26&AH$14))))","v":""},{"$f":"IF(ISNA(Lists!$J26),\"\",IF((INDIRECT(\"'\"&Lists!$J26&\"'!\"&Lists!$K26&AI$14))=\"\",\"\",(INDIRECT(\"'\"&Lists!$J26&\"'!\"&Lists!$K26&AI$14))))","v":""},{"$f":"IF(ISNA(Lists!$J26),\"\",IF((INDIRECT(\"'\"&Lists!$J26&\"'!\"&Lists!$K26&AJ$14))=\"\",\"\",(INDIRECT(\"'\"&Lists!$J26&\"'!\"&Lists!$K26&AJ$14))))","v":""},{"$f":"IF(ISNA(Lists!$J26),\"\",IF((INDIRECT(\"'\"&Lists!$J26&\"'!\"&Lists!$K26&AK$14))=\"\",\"\",(INDIRECT(\"'\"&Lists!$J26&\"'!\"&Lists!$K26&AK$14))))","v":""}]
[{"$f":"IF(B40=\"\",\"\",' Facility_Info upload'!$A$24)","v":""},{"$f":"IF(ISNA(Lists!$J27),\"\",IF(INDIRECT(\"'\"&Lists!$J27&\"'!\"&\"B\"&B$14)=\"\",\"\",(INDIRECT(\"'\"&Lists!$J27&\"'!\"&\"B\"&B$14))))","v":""},{"$f":"IF(ISNA(Lists!$J27),\"\",IF(INDIRECT(\"'\"&Lists!$J27&\"'!\"&\"B\"&C$14)=\"\",\"\",(INDIRECT(\"'\"&Lists!$J27&\"'!\"&\"B\"&C$14))))","v":""},{"$f":"IF(ISNA(Lists!$J27),\"\",IF(INDIRECT(\"'\"&Lists!$J27&\"'!\"&\"B\"&D$14)=\"\",\"\",(INDIRECT(\"'\"&Lists!$J27&\"'!\"&\"B\"&D$14))))","v":""},{"$f":"IF(ISNA(Lists!$J27),\"\",IF(INDIRECT(\"'\"&Lists!$J27&\"'!\"&\"B\"&E$14)=\"\",\"\",(INDIRECT(\"'\"&Lists!$J27&\"'!\"&\"B\"&E$14))))","v":""},{"$f":"IF(ISNA(Lists!$J27),\"\",IF(INDIRECT(\"'\"&Lists!$J27&\"'!\"&\"B\"&F$14)=\"\",\"\",(INDIRECT(\"'\"&Lists!$J27&\"'!\"&\"B\"&F$14))))","v":""},{"$f":"IF(ISNA(Lists!$J27),\"\",IF((INDIRECT(\"'\"&Lists!$J27&\"'!\"&Lists!$K27&G$14))=\"\",\"\",(INDIRECT(\"'\"&Lists!$J27&\"'!\"&Lists!$K27&G$14))))","v":""},{"$f":"IF(ISNA(Lists!$J27),\"\",IF((INDIRECT(\"'\"&Lists!$J27&\"'!\"&Lists!$K27&H$14))=\"\",\"\",(INDIRECT(\"'\"&Lists!$J27&\"'!\"&Lists!$K27&H$14))))","v":""},{"$f":"IF(ISNA(Lists!$J27),\"\",IF((INDIRECT(\"'\"&Lists!$J27&\"'!\"&Lists!$K27&I$14))=\"\",\"\",(INDIRECT(\"'\"&Lists!$J27&\"'!\"&Lists!$K27&I$14))))","v":""},{"$f":"IF(ISNA(Lists!$J27),\"\",IF((INDIRECT(\"'\"&Lists!$J27&\"'!\"&Lists!$K27&J$14))=\"\",\"\",(INDIRECT(\"'\"&Lists!$J27&\"'!\"&Lists!$K27&J$14))))","v":""},{"$f":"IF(ISNA(Lists!$J27),\"\",IF((INDIRECT(\"'\"&Lists!$J27&\"'!\"&Lists!$K27&K$14))=\"\",\"\",(INDIRECT(\"'\"&Lists!$J27&\"'!\"&Lists!$K27&K$14))))","v":""},{"$f":"IF(ISNA(Lists!$J27),\"\",IF((INDIRECT(\"'\"&Lists!$J27&\"'!\"&Lists!$K27&L$14))=\"\",\"\",(INDIRECT(\"'\"&Lists!$J27&\"'!\"&Lists!$K27&L$14))))","v":""},{"$f":"IF(ISNA(Lists!$J27),\"\",IF((INDIRECT(\"'\"&Lists!$J27&\"'!\"&Lists!$K27&M$14))=\"\",\"\",(INDIRECT(\"'\"&Lists!$J27&\"'!\"&Lists!$K27&M$14))))","v":""},{"$f":"IF(ISNA(Lists!$J27),\"\",IF((INDIRECT(\"'\"&Lists!$J27&\"'!\"&Lists!$K27&N$14))=\"\",\"\",(INDIRECT(\"'\"&Lists!$J27&\"'!\"&Lists!$K27&N$14))))","v":""},{"$f":"IF(ISNA(Lists!$J27),\"\",IF((INDIRECT(\"'\"&Lists!$J27&\"'!\"&Lists!$K27&O$14))=\"\",\"\",(INDIRECT(\"'\"&Lists!$J27&\"'!\"&Lists!$K27&O$14))))","v":""},{"$f":"IF(ISNA(Lists!$J27),\"\",IF((INDIRECT(\"'\"&Lists!$J27&\"'!\"&Lists!$K27&P$14))=\"\",\"\",(INDIRECT(\"'\"&Lists!$J27&\"'!\"&Lists!$K27&P$14))))","v":""},{"$f":"IF(ISNA(Lists!$J27),\"\",IF((INDIRECT(\"'\"&Lists!$J27&\"'!\"&Lists!$K27&Q$14))=\"\",\"\",(INDIRECT(\"'\"&Lists!$J27&\"'!\"&Lists!$K27&Q$14))))","v":""},{"$f":"IF(ISNA(Lists!$J27),\"\",IF((INDIRECT(\"'\"&Lists!$J27&\"'!\"&Lists!$K27&R$14))=\"\",\"\",(INDIRECT(\"'\"&Lists!$J27&\"'!\"&Lists!$K27&R$14))))","v":""},{"$f":"IF(ISNA(Lists!$J27),\"\",IF((INDIRECT(\"'\"&Lists!$J27&\"'!\"&Lists!$K27&S$14))=\"\",\"\",(INDIRECT(\"'\"&Lists!$J27&\"'!\"&Lists!$K27&S$14))))","v":""},{"$f":"IF(ISNA(Lists!$J27),\"\",IF((INDIRECT(\"'\"&Lists!$J27&\"'!\"&Lists!$K27&T$14))=\"\",\"\",(INDIRECT(\"'\"&Lists!$J27&\"'!\"&Lists!$K27&T$14))))","v":""},{"$f":"IF(ISNA(Lists!$J27),\"\",IF((INDIRECT(\"'\"&Lists!$J27&\"'!\"&Lists!$L27&U$14))=\"\",\"\",(INDIRECT(\"'\"&Lists!$J27&\"'!\"&Lists!$L27&U$14))))","v":""},{"$f":"IF(ISNA(Lists!$J27),\"\",IF((INDIRECT(\"'\"&Lists!$J27&\"'!\"&Lists!$L27&V$14))=\"\",\"\",(INDIRECT(\"'\"&Lists!$J27&\"'!\"&Lists!$L27&V$14))))","v":""},{"$f":"IF(ISNA(Lists!$J27),\"\",IF((INDIRECT(\"'\"&Lists!$J27&\"'!\"&Lists!$L27&W$14))=\"\",\"\",(INDIRECT(\"'\"&Lists!$J27&\"'!\"&Lists!$L27&W$14))))","v":""},{"$f":"IF(ISNA(Lists!$J27),\"\",IF((INDIRECT(\"'\"&Lists!$J27&\"'!\"&Lists!$L27&X$14))=\"\",\"\",(INDIRECT(\"'\"&Lists!$J27&\"'!\"&Lists!$L27&X$14))))","v":""},{"$f":"IF(ISNA(Lists!$J27),\"\",IF((INDIRECT(\"'\"&Lists!$J27&\"'!\"&Lists!$L27&Y$14))=\"\",\"\",(INDIRECT(\"'\"&Lists!$J27&\"'!\"&Lists!$L27&Y$14))))","v":""},{"$f":"IF(ISNA(Lists!$J27),\"\",IF((INDIRECT(\"'\"&Lists!$J27&\"'!\"&Lists!$L27&Z$14))=\"\",\"\",(INDIRECT(\"'\"&Lists!$J27&\"'!\"&Lists!$L27&Z$14))))","v":""},{"$f":"IF(ISNA(Lists!$J27),\"\",IF((INDIRECT(\"'\"&Lists!$J27&\"'!\"&Lists!$L27&AA$14))=\"\",\"\",(INDIRECT(\"'\"&Lists!$J27&\"'!\"&Lists!$L27&AA$14))))","v":""},{"$f":"IF(ISNA(Lists!$J27),\"\",IF((INDIRECT(\"'\"&Lists!$J27&\"'!\"&Lists!$K27&AB$14))=\"\",\"\",(INDIRECT(\"'\"&Lists!$J27&\"'!\"&Lists!$K27&AB$14))))","v":""},{"$f":"IF(ISNA(Lists!$J27),\"\",IF((INDIRECT(\"'\"&Lists!$J27&\"'!\"&Lists!$K27&AC$14))=\"\",\"\",(INDIRECT(\"'\"&Lists!$J27&\"'!\"&Lists!$K27&AC$14))))","v":""},{"$f":"IF(ISNA(Lists!$J27),\"\",IF((INDIRECT(\"'\"&Lists!$J27&\"'!\"&Lists!$K27&AD$14))=\"\",\"\",(INDIRECT(\"'\"&Lists!$J27&\"'!\"&Lists!$K27&AD$14))))","v":""},{"$f":"IF(ISNA(Lists!$J27),\"\",IF((INDIRECT(\"'\"&Lists!$J27&\"'!\"&Lists!$K27&AE$14))=\"\",\"\",(INDIRECT(\"'\"&Lists!$J27&\"'!\"&Lists!$K27&AE$14))))","v":""},{"$f":"IF(ISNA(Lists!$J27),\"\",IF((INDIRECT(\"'\"&Lists!$J27&\"'!\"&Lists!$K27&AF$14))=\"\",\"\",(INDIRECT(\"'\"&Lists!$J27&\"'!\"&Lists!$K27&AF$14))))","v":""},{"$f":"IF(ISNA(Lists!$J27),\"\",IF((INDIRECT(\"'\"&Lists!$J27&\"'!\"&Lists!$K27&AG$14))=\"\",\"\",(INDIRECT(\"'\"&Lists!$J27&\"'!\"&Lists!$K27&AG$14))))","v":""},{"$f":"IF(ISNA(Lists!$J27),\"\",IF((INDIRECT(\"'\"&Lists!$J27&\"'!\"&Lists!$K27&AH$14))=\"\",\"\",(INDIRECT(\"'\"&Lists!$J27&\"'!\"&Lists!$K27&AH$14))))","v":""},{"$f":"IF(ISNA(Lists!$J27),\"\",IF((INDIRECT(\"'\"&Lists!$J27&\"'!\"&Lists!$K27&AI$14))=\"\",\"\",(INDIRECT(\"'\"&Lists!$J27&\"'!\"&Lists!$K27&AI$14))))","v":""},{"$f":"IF(ISNA(Lists!$J27),\"\",IF((INDIRECT(\"'\"&Lists!$J27&\"'!\"&Lists!$K27&AJ$14))=\"\",\"\",(INDIRECT(\"'\"&Lists!$J27&\"'!\"&Lists!$K27&AJ$14))))","v":""},{"$f":"IF(ISNA(Lists!$J27),\"\",IF((INDIRECT(\"'\"&Lists!$J27&\"'!\"&Lists!$K27&AK$14))=\"\",\"\",(INDIRECT(\"'\"&Lists!$J27&\"'!\"&Lists!$K27&AK$14))))","v":""}]
[{"$f":"IF(B41=\"\",\"\",' Facility_Info upload'!$A$24)","v":""},{"$f":"IF(ISNA(Lists!$J28),\"\",IF(INDIRECT(\"'\"&Lists!$J28&\"'!\"&\"B\"&B$14)=\"\",\"\",(INDIRECT(\"'\"&Lists!$J28&\"'!\"&\"B\"&B$14))))","v":""},{"$f":"IF(ISNA(Lists!$J28),\"\",IF(INDIRECT(\"'\"&Lists!$J28&\"'!\"&\"B\"&C$14)=\"\",\"\",(INDIRECT(\"'\"&Lists!$J28&\"'!\"&\"B\"&C$14))))","v":""},{"$f":"IF(ISNA(Lists!$J28),\"\",IF(INDIRECT(\"'\"&Lists!$J28&\"'!\"&\"B\"&D$14)=\"\",\"\",(INDIRECT(\"'\"&Lists!$J28&\"'!\"&\"B\"&D$14))))","v":""},{"$f":"IF(ISNA(Lists!$J28),\"\",IF(INDIRECT(\"'\"&Lists!$J28&\"'!\"&\"B\"&E$14)=\"\",\"\",(INDIRECT(\"'\"&Lists!$J28&\"'!\"&\"B\"&E$14))))","v":""},{"$f":"IF(ISNA(Lists!$J28),\"\",IF(INDIRECT(\"'\"&Lists!$J28&\"'!\"&\"B\"&F$14)=\"\",\"\",(INDIRECT(\"'\"&Lists!$J28&\"'!\"&\"B\"&F$14))))","v":""},{"$f":"IF(ISNA(Lists!$J28),\"\",IF((INDIRECT(\"'\"&Lists!$J28&\"'!\"&Lists!$K28&G$14))=\"\",\"\",(INDIRECT(\"'\"&Lists!$J28&\"'!\"&Lists!$K28&G$14))))","v":""},{"$f":"IF(ISNA(Lists!$J28),\"\",IF((INDIRECT(\"'\"&Lists!$J28&\"'!\"&Lists!$K28&H$14))=\"\",\"\",(INDIRECT(\"'\"&Lists!$J28&\"'!\"&Lists!$K28&H$14))))","v":""},{"$f":"IF(ISNA(Lists!$J28),\"\",IF((INDIRECT(\"'\"&Lists!$J28&\"'!\"&Lists!$K28&I$14))=\"\",\"\",(INDIRECT(\"'\"&Lists!$J28&\"'!\"&Lists!$K28&I$14))))","v":""},{"$f":"IF(ISNA(Lists!$J28),\"\",IF((INDIRECT(\"'\"&Lists!$J28&\"'!\"&Lists!$K28&J$14))=\"\",\"\",(INDIRECT(\"'\"&Lists!$J28&\"'!\"&Lists!$K28&J$14))))","v":""},{"$f":"IF(ISNA(Lists!$J28),\"\",IF((INDIRECT(\"'\"&Lists!$J28&\"'!\"&Lists!$K28&K$14))=\"\",\"\",(INDIRECT(\"'\"&Lists!$J28&\"'!\"&Lists!$K28&K$14))))","v":""},{"$f":"IF(ISNA(Lists!$J28),\"\",IF((INDIRECT(\"'\"&Lists!$J28&\"'!\"&Lists!$K28&L$14))=\"\",\"\",(INDIRECT(\"'\"&Lists!$J28&\"'!\"&Lists!$K28&L$14))))","v":""},{"$f":"IF(ISNA(Lists!$J28),\"\",IF((INDIRECT(\"'\"&Lists!$J28&\"'!\"&Lists!$K28&M$14))=\"\",\"\",(INDIRECT(\"'\"&Lists!$J28&\"'!\"&Lists!$K28&M$14))))","v":""},{"$f":"IF(ISNA(Lists!$J28),\"\",IF((INDIRECT(\"'\"&Lists!$J28&\"'!\"&Lists!$K28&N$14))=\"\",\"\",(INDIRECT(\"'\"&Lists!$J28&\"'!\"&Lists!$K28&N$14))))","v":""},{"$f":"IF(ISNA(Lists!$J28),\"\",IF((INDIRECT(\"'\"&Lists!$J28&\"'!\"&Lists!$K28&O$14))=\"\",\"\",(INDIRECT(\"'\"&Lists!$J28&\"'!\"&Lists!$K28&O$14))))","v":""},{"$f":"IF(ISNA(Lists!$J28),\"\",IF((INDIRECT(\"'\"&Lists!$J28&\"'!\"&Lists!$K28&P$14))=\"\",\"\",(INDIRECT(\"'\"&Lists!$J28&\"'!\"&Lists!$K28&P$14))))","v":""},{"$f":"IF(ISNA(Lists!$J28),\"\",IF((INDIRECT(\"'\"&Lists!$J28&\"'!\"&Lists!$K28&Q$14))=\"\",\"\",(INDIRECT(\"'\"&Lists!$J28&\"'!\"&Lists!$K28&Q$14))))","v":""},{"$f":"IF(ISNA(Lists!$J28),\"\",IF((INDIRECT(\"'\"&Lists!$J28&\"'!\"&Lists!$K28&R$14))=\"\",\"\",(INDIRECT(\"'\"&Lists!$J28&\"'!\"&Lists!$K28&R$14))))","v":""},{"$f":"IF(ISNA(Lists!$J28),\"\",IF((INDIRECT(\"'\"&Lists!$J28&\"'!\"&Lists!$K28&S$14))=\"\",\"\",(INDIRECT(\"'\"&Lists!$J28&\"'!\"&Lists!$K28&S$14))))","v":""},{"$f":"IF(ISNA(Lists!$J28),\"\",IF((INDIRECT(\"'\"&Lists!$J28&\"'!\"&Lists!$K28&T$14))=\"\",\"\",(INDIRECT(\"'\"&Lists!$J28&\"'!\"&Lists!$K28&T$14))))","v":""},{"$f":"IF(ISNA(Lists!$J28),\"\",IF((INDIRECT(\"'\"&Lists!$J28&\"'!\"&Lists!$L28&U$14))=\"\",\"\",(INDIRECT(\"'\"&Lists!$J28&\"'!\"&Lists!$L28&U$14))))","v":""},{"$f":"IF(ISNA(Lists!$J28),\"\",IF((INDIRECT(\"'\"&Lists!$J28&\"'!\"&Lists!$L28&V$14))=\"\",\"\",(INDIRECT(\"'\"&Lists!$J28&\"'!\"&Lists!$L28&V$14))))","v":""},{"$f":"IF(ISNA(Lists!$J28),\"\",IF((INDIRECT(\"'\"&Lists!$J28&\"'!\"&Lists!$L28&W$14))=\"\",\"\",(INDIRECT(\"'\"&Lists!$J28&\"'!\"&Lists!$L28&W$14))))","v":""},{"$f":"IF(ISNA(Lists!$J28),\"\",IF((INDIRECT(\"'\"&Lists!$J28&\"'!\"&Lists!$L28&X$14))=\"\",\"\",(INDIRECT(\"'\"&Lists!$J28&\"'!\"&Lists!$L28&X$14))))","v":""},{"$f":"IF(ISNA(Lists!$J28),\"\",IF((INDIRECT(\"'\"&Lists!$J28&\"'!\"&Lists!$L28&Y$14))=\"\",\"\",(INDIRECT(\"'\"&Lists!$J28&\"'!\"&Lists!$L28&Y$14))))","v":""},{"$f":"IF(ISNA(Lists!$J28),\"\",IF((INDIRECT(\"'\"&Lists!$J28&\"'!\"&Lists!$L28&Z$14))=\"\",\"\",(INDIRECT(\"'\"&Lists!$J28&\"'!\"&Lists!$L28&Z$14))))","v":""},{"$f":"IF(ISNA(Lists!$J28),\"\",IF((INDIRECT(\"'\"&Lists!$J28&\"'!\"&Lists!$L28&AA$14))=\"\",\"\",(INDIRECT(\"'\"&Lists!$J28&\"'!\"&Lists!$L28&AA$14))))","v":""},{"$f":"IF(ISNA(Lists!$J28),\"\",IF((INDIRECT(\"'\"&Lists!$J28&\"'!\"&Lists!$K28&AB$14))=\"\",\"\",(INDIRECT(\"'\"&Lists!$J28&\"'!\"&Lists!$K28&AB$14))))","v":""},{"$f":"IF(ISNA(Lists!$J28),\"\",IF((INDIRECT(\"'\"&Lists!$J28&\"'!\"&Lists!$K28&AC$14))=\"\",\"\",(INDIRECT(\"'\"&Lists!$J28&\"'!\"&Lists!$K28&AC$14))))","v":""},{"$f":"IF(ISNA(Lists!$J28),\"\",IF((INDIRECT(\"'\"&Lists!$J28&\"'!\"&Lists!$K28&AD$14))=\"\",\"\",(INDIRECT(\"'\"&Lists!$J28&\"'!\"&Lists!$K28&AD$14))))","v":""},{"$f":"IF(ISNA(Lists!$J28),\"\",IF((INDIRECT(\"'\"&Lists!$J28&\"'!\"&Lists!$K28&AE$14))=\"\",\"\",(INDIRECT(\"'\"&Lists!$J28&\"'!\"&Lists!$K28&AE$14))))","v":""},{"$f":"IF(ISNA(Lists!$J28),\"\",IF((INDIRECT(\"'\"&Lists!$J28&\"'!\"&Lists!$K28&AF$14))=\"\",\"\",(INDIRECT(\"'\"&Lists!$J28&\"'!\"&Lists!$K28&AF$14))))","v":""},{"$f":"IF(ISNA(Lists!$J28),\"\",IF((INDIRECT(\"'\"&Lists!$J28&\"'!\"&Lists!$K28&AG$14))=\"\",\"\",(INDIRECT(\"'\"&Lists!$J28&\"'!\"&Lists!$K28&AG$14))))","v":""},{"$f":"IF(ISNA(Lists!$J28),\"\",IF((INDIRECT(\"'\"&Lists!$J28&\"'!\"&Lists!$K28&AH$14))=\"\",\"\",(INDIRECT(\"'\"&Lists!$J28&\"'!\"&Lists!$K28&AH$14))))","v":""},{"$f":"IF(ISNA(Lists!$J28),\"\",IF((INDIRECT(\"'\"&Lists!$J28&\"'!\"&Lists!$K28&AI$14))=\"\",\"\",(INDIRECT(\"'\"&Lists!$J28&\"'!\"&Lists!$K28&AI$14))))","v":""},{"$f":"IF(ISNA(Lists!$J28),\"\",IF((INDIRECT(\"'\"&Lists!$J28&\"'!\"&Lists!$K28&AJ$14))=\"\",\"\",(INDIRECT(\"'\"&Lists!$J28&\"'!\"&Lists!$K28&AJ$14))))","v":""},{"$f":"IF(ISNA(Lists!$J28),\"\",IF((INDIRECT(\"'\"&Lists!$J28&\"'!\"&Lists!$K28&AK$14))=\"\",\"\",(INDIRECT(\"'\"&Lists!$J28&\"'!\"&Lists!$K28&AK$14))))","v":""}]
[{"$f":"IF(B42=\"\",\"\",' Facility_Info upload'!$A$24)","v":""},{"$f":"IF(ISNA(Lists!$J29),\"\",IF(INDIRECT(\"'\"&Lists!$J29&\"'!\"&\"B\"&B$14)=\"\",\"\",(INDIRECT(\"'\"&Lists!$J29&\"'!\"&\"B\"&B$14))))","v":""},{"$f":"IF(ISNA(Lists!$J29),\"\",IF(INDIRECT(\"'\"&Lists!$J29&\"'!\"&\"B\"&C$14)=\"\",\"\",(INDIRECT(\"'\"&Lists!$J29&\"'!\"&\"B\"&C$14))))","v":""},{"$f":"IF(ISNA(Lists!$J29),\"\",IF(INDIRECT(\"'\"&Lists!$J29&\"'!\"&\"B\"&D$14)=\"\",\"\",(INDIRECT(\"'\"&Lists!$J29&\"'!\"&\"B\"&D$14))))","v":""},{"$f":"IF(ISNA(Lists!$J29),\"\",IF(INDIRECT(\"'\"&Lists!$J29&\"'!\"&\"B\"&E$14)=\"\",\"\",(INDIRECT(\"'\"&Lists!$J29&\"'!\"&\"B\"&E$14))))","v":""},{"$f":"IF(ISNA(Lists!$J29),\"\",IF(INDIRECT(\"'\"&Lists!$J29&\"'!\"&\"B\"&F$14)=\"\",\"\",(INDIRECT(\"'\"&Lists!$J29&\"'!\"&\"B\"&F$14))))","v":""},{"$f":"IF(ISNA(Lists!$J29),\"\",IF((INDIRECT(\"'\"&Lists!$J29&\"'!\"&Lists!$K29&G$14))=\"\",\"\",(INDIRECT(\"'\"&Lists!$J29&\"'!\"&Lists!$K29&G$14))))","v":""},{"$f":"IF(ISNA(Lists!$J29),\"\",IF((INDIRECT(\"'\"&Lists!$J29&\"'!\"&Lists!$K29&H$14))=\"\",\"\",(INDIRECT(\"'\"&Lists!$J29&\"'!\"&Lists!$K29&H$14))))","v":""},{"$f":"IF(ISNA(Lists!$J29),\"\",IF((INDIRECT(\"'\"&Lists!$J29&\"'!\"&Lists!$K29&I$14))=\"\",\"\",(INDIRECT(\"'\"&Lists!$J29&\"'!\"&Lists!$K29&I$14))))","v":""},{"$f":"IF(ISNA(Lists!$J29),\"\",IF((INDIRECT(\"'\"&Lists!$J29&\"'!\"&Lists!$K29&J$14))=\"\",\"\",(INDIRECT(\"'\"&Lists!$J29&\"'!\"&Lists!$K29&J$14))))","v":""},{"$f":"IF(ISNA(Lists!$J29),\"\",IF((INDIRECT(\"'\"&Lists!$J29&\"'!\"&Lists!$K29&K$14))=\"\",\"\",(INDIRECT(\"'\"&Lists!$J29&\"'!\"&Lists!$K29&K$14))))","v":""},{"$f":"IF(ISNA(Lists!$J29),\"\",IF((INDIRECT(\"'\"&Lists!$J29&\"'!\"&Lists!$K29&L$14))=\"\",\"\",(INDIRECT(\"'\"&Lists!$J29&\"'!\"&Lists!$K29&L$14))))","v":""},{"$f":"IF(ISNA(Lists!$J29),\"\",IF((INDIRECT(\"'\"&Lists!$J29&\"'!\"&Lists!$K29&M$14))=\"\",\"\",(INDIRECT(\"'\"&Lists!$J29&\"'!\"&Lists!$K29&M$14))))","v":""},{"$f":"IF(ISNA(Lists!$J29),\"\",IF((INDIRECT(\"'\"&Lists!$J29&\"'!\"&Lists!$K29&N$14))=\"\",\"\",(INDIRECT(\"'\"&Lists!$J29&\"'!\"&Lists!$K29&N$14))))","v":""},{"$f":"IF(ISNA(Lists!$J29),\"\",IF((INDIRECT(\"'\"&Lists!$J29&\"'!\"&Lists!$K29&O$14))=\"\",\"\",(INDIRECT(\"'\"&Lists!$J29&\"'!\"&Lists!$K29&O$14))))","v":""},{"$f":"IF(ISNA(Lists!$J29),\"\",IF((INDIRECT(\"'\"&Lists!$J29&\"'!\"&Lists!$K29&P$14))=\"\",\"\",(INDIRECT(\"'\"&Lists!$J29&\"'!\"&Lists!$K29&P$14))))","v":""},{"$f":"IF(ISNA(Lists!$J29),\"\",IF((INDIRECT(\"'\"&Lists!$J29&\"'!\"&Lists!$K29&Q$14))=\"\",\"\",(INDIRECT(\"'\"&Lists!$J29&\"'!\"&Lists!$K29&Q$14))))","v":""},{"$f":"IF(ISNA(Lists!$J29),\"\",IF((INDIRECT(\"'\"&Lists!$J29&\"'!\"&Lists!$K29&R$14))=\"\",\"\",(INDIRECT(\"'\"&Lists!$J29&\"'!\"&Lists!$K29&R$14))))","v":""},{"$f":"IF(ISNA(Lists!$J29),\"\",IF((INDIRECT(\"'\"&Lists!$J29&\"'!\"&Lists!$K29&S$14))=\"\",\"\",(INDIRECT(\"'\"&Lists!$J29&\"'!\"&Lists!$K29&S$14))))","v":""},{"$f":"IF(ISNA(Lists!$J29),\"\",IF((INDIRECT(\"'\"&Lists!$J29&\"'!\"&Lists!$K29&T$14))=\"\",\"\",(INDIRECT(\"'\"&Lists!$J29&\"'!\"&Lists!$K29&T$14))))","v":""},{"$f":"IF(ISNA(Lists!$J29),\"\",IF((INDIRECT(\"'\"&Lists!$J29&\"'!\"&Lists!$L29&U$14))=\"\",\"\",(INDIRECT(\"'\"&Lists!$J29&\"'!\"&Lists!$L29&U$14))))","v":""},{"$f":"IF(ISNA(Lists!$J29),\"\",IF((INDIRECT(\"'\"&Lists!$J29&\"'!\"&Lists!$L29&V$14))=\"\",\"\",(INDIRECT(\"'\"&Lists!$J29&\"'!\"&Lists!$L29&V$14))))","v":""},{"$f":"IF(ISNA(Lists!$J29),\"\",IF((INDIRECT(\"'\"&Lists!$J29&\"'!\"&Lists!$L29&W$14))=\"\",\"\",(INDIRECT(\"'\"&Lists!$J29&\"'!\"&Lists!$L29&W$14))))","v":""},{"$f":"IF(ISNA(Lists!$J29),\"\",IF((INDIRECT(\"'\"&Lists!$J29&\"'!\"&Lists!$L29&X$14))=\"\",\"\",(INDIRECT(\"'\"&Lists!$J29&\"'!\"&Lists!$L29&X$14))))","v":""},{"$f":"IF(ISNA(Lists!$J29),\"\",IF((INDIRECT(\"'\"&Lists!$J29&\"'!\"&Lists!$L29&Y$14))=\"\",\"\",(INDIRECT(\"'\"&Lists!$J29&\"'!\"&Lists!$L29&Y$14))))","v":""},{"$f":"IF(ISNA(Lists!$J29),\"\",IF((INDIRECT(\"'\"&Lists!$J29&\"'!\"&Lists!$L29&Z$14))=\"\",\"\",(INDIRECT(\"'\"&Lists!$J29&\"'!\"&Lists!$L29&Z$14))))","v":""},{"$f":"IF(ISNA(Lists!$J29),\"\",IF((INDIRECT(\"'\"&Lists!$J29&\"'!\"&Lists!$L29&AA$14))=\"\",\"\",(INDIRECT(\"'\"&Lists!$J29&\"'!\"&Lists!$L29&AA$14))))","v":""},{"$f":"IF(ISNA(Lists!$J29),\"\",IF((INDIRECT(\"'\"&Lists!$J29&\"'!\"&Lists!$K29&AB$14))=\"\",\"\",(INDIRECT(\"'\"&Lists!$J29&\"'!\"&Lists!$K29&AB$14))))","v":""},{"$f":"IF(ISNA(Lists!$J29),\"\",IF((INDIRECT(\"'\"&Lists!$J29&\"'!\"&Lists!$K29&AC$14))=\"\",\"\",(INDIRECT(\"'\"&Lists!$J29&\"'!\"&Lists!$K29&AC$14))))","v":""},{"$f":"IF(ISNA(Lists!$J29),\"\",IF((INDIRECT(\"'\"&Lists!$J29&\"'!\"&Lists!$K29&AD$14))=\"\",\"\",(INDIRECT(\"'\"&Lists!$J29&\"'!\"&Lists!$K29&AD$14))))","v":""},{"$f":"IF(ISNA(Lists!$J29),\"\",IF((INDIRECT(\"'\"&Lists!$J29&\"'!\"&Lists!$K29&AE$14))=\"\",\"\",(INDIRECT(\"'\"&Lists!$J29&\"'!\"&Lists!$K29&AE$14))))","v":""},{"$f":"IF(ISNA(Lists!$J29),\"\",IF((INDIRECT(\"'\"&Lists!$J29&\"'!\"&Lists!$K29&AF$14))=\"\",\"\",(INDIRECT(\"'\"&Lists!$J29&\"'!\"&Lists!$K29&AF$14))))","v":""},{"$f":"IF(ISNA(Lists!$J29),\"\",IF((INDIRECT(\"'\"&Lists!$J29&\"'!\"&Lists!$K29&AG$14))=\"\",\"\",(INDIRECT(\"'\"&Lists!$J29&\"'!\"&Lists!$K29&AG$14))))","v":""},{"$f":"IF(ISNA(Lists!$J29),\"\",IF((INDIRECT(\"'\"&Lists!$J29&\"'!\"&Lists!$K29&AH$14))=\"\",\"\",(INDIRECT(\"'\"&Lists!$J29&\"'!\"&Lists!$K29&AH$14))))","v":""},{"$f":"IF(ISNA(Lists!$J29),\"\",IF((INDIRECT(\"'\"&Lists!$J29&\"'!\"&Lists!$K29&AI$14))=\"\",\"\",(INDIRECT(\"'\"&Lists!$J29&\"'!\"&Lists!$K29&AI$14))))","v":""},{"$f":"IF(ISNA(Lists!$J29),\"\",IF((INDIRECT(\"'\"&Lists!$J29&\"'!\"&Lists!$K29&AJ$14))=\"\",\"\",(INDIRECT(\"'\"&Lists!$J29&\"'!\"&Lists!$K29&AJ$14))))","v":""},{"$f":"IF(ISNA(Lists!$J29),\"\",IF((INDIRECT(\"'\"&Lists!$J29&\"'!\"&Lists!$K29&AK$14))=\"\",\"\",(INDIRECT(\"'\"&Lists!$J29&\"'!\"&Lists!$K29&AK$14))))","v":""}]
[{"$f":"IF(B43=\"\",\"\",' Facility_Info upload'!$A$24)","v":""},{"$f":"IF(ISNA(Lists!$J30),\"\",IF(INDIRECT(\"'\"&Lists!$J30&\"'!\"&\"B\"&B$14)=\"\",\"\",(INDIRECT(\"'\"&Lists!$J30&\"'!\"&\"B\"&B$14))))","v":""},{"$f":"IF(ISNA(Lists!$J30),\"\",IF(INDIRECT(\"'\"&Lists!$J30&\"'!\"&\"B\"&C$14)=\"\",\"\",(INDIRECT(\"'\"&Lists!$J30&\"'!\"&\"B\"&C$14))))","v":""},{"$f":"IF(ISNA(Lists!$J30),\"\",IF(INDIRECT(\"'\"&Lists!$J30&\"'!\"&\"B\"&D$14)=\"\",\"\",(INDIRECT(\"'\"&Lists!$J30&\"'!\"&\"B\"&D$14))))","v":""},{"$f":"IF(ISNA(Lists!$J30),\"\",IF(INDIRECT(\"'\"&Lists!$J30&\"'!\"&\"B\"&E$14)=\"\",\"\",(INDIRECT(\"'\"&Lists!$J30&\"'!\"&\"B\"&E$14))))","v":""},{"$f":"IF(ISNA(Lists!$J30),\"\",IF(INDIRECT(\"'\"&Lists!$J30&\"'!\"&\"B\"&F$14)=\"\",\"\",(INDIRECT(\"'\"&Lists!$J30&\"'!\"&\"B\"&F$14))))","v":""},{"$f":"IF(ISNA(Lists!$J30),\"\",IF((INDIRECT(\"'\"&Lists!$J30&\"'!\"&Lists!$K30&G$14))=\"\",\"\",(INDIRECT(\"'\"&Lists!$J30&\"'!\"&Lists!$K30&G$14))))","v":""},{"$f":"IF(ISNA(Lists!$J30),\"\",IF((INDIRECT(\"'\"&Lists!$J30&\"'!\"&Lists!$K30&H$14))=\"\",\"\",(INDIRECT(\"'\"&Lists!$J30&\"'!\"&Lists!$K30&H$14))))","v":""},{"$f":"IF(ISNA(Lists!$J30),\"\",IF((INDIRECT(\"'\"&Lists!$J30&\"'!\"&Lists!$K30&I$14))=\"\",\"\",(INDIRECT(\"'\"&Lists!$J30&\"'!\"&Lists!$K30&I$14))))","v":""},{"$f":"IF(ISNA(Lists!$J30),\"\",IF((INDIRECT(\"'\"&Lists!$J30&\"'!\"&Lists!$K30&J$14))=\"\",\"\",(INDIRECT(\"'\"&Lists!$J30&\"'!\"&Lists!$K30&J$14))))","v":""},{"$f":"IF(ISNA(Lists!$J30),\"\",IF((INDIRECT(\"'\"&Lists!$J30&\"'!\"&Lists!$K30&K$14))=\"\",\"\",(INDIRECT(\"'\"&Lists!$J30&\"'!\"&Lists!$K30&K$14))))","v":""},{"$f":"IF(ISNA(Lists!$J30),\"\",IF((INDIRECT(\"'\"&Lists!$J30&\"'!\"&Lists!$K30&L$14))=\"\",\"\",(INDIRECT(\"'\"&Lists!$J30&\"'!\"&Lists!$K30&L$14))))","v":""},{"$f":"IF(ISNA(Lists!$J30),\"\",IF((INDIRECT(\"'\"&Lists!$J30&\"'!\"&Lists!$K30&M$14))=\"\",\"\",(INDIRECT(\"'\"&Lists!$J30&\"'!\"&Lists!$K30&M$14))))","v":""},{"$f":"IF(ISNA(Lists!$J30),\"\",IF((INDIRECT(\"'\"&Lists!$J30&\"'!\"&Lists!$K30&N$14))=\"\",\"\",(INDIRECT(\"'\"&Lists!$J30&\"'!\"&Lists!$K30&N$14))))","v":""},{"$f":"IF(ISNA(Lists!$J30),\"\",IF((INDIRECT(\"'\"&Lists!$J30&\"'!\"&Lists!$K30&O$14))=\"\",\"\",(INDIRECT(\"'\"&Lists!$J30&\"'!\"&Lists!$K30&O$14))))","v":""},{"$f":"IF(ISNA(Lists!$J30),\"\",IF((INDIRECT(\"'\"&Lists!$J30&\"'!\"&Lists!$K30&P$14))=\"\",\"\",(INDIRECT(\"'\"&Lists!$J30&\"'!\"&Lists!$K30&P$14))))","v":""},{"$f":"IF(ISNA(Lists!$J30),\"\",IF((INDIRECT(\"'\"&Lists!$J30&\"'!\"&Lists!$K30&Q$14))=\"\",\"\",(INDIRECT(\"'\"&Lists!$J30&\"'!\"&Lists!$K30&Q$14))))","v":""},{"$f":"IF(ISNA(Lists!$J30),\"\",IF((INDIRECT(\"'\"&Lists!$J30&\"'!\"&Lists!$K30&R$14))=\"\",\"\",(INDIRECT(\"'\"&Lists!$J30&\"'!\"&Lists!$K30&R$14))))","v":""},{"$f":"IF(ISNA(Lists!$J30),\"\",IF((INDIRECT(\"'\"&Lists!$J30&\"'!\"&Lists!$K30&S$14))=\"\",\"\",(INDIRECT(\"'\"&Lists!$J30&\"'!\"&Lists!$K30&S$14))))","v":""},{"$f":"IF(ISNA(Lists!$J30),\"\",IF((INDIRECT(\"'\"&Lists!$J30&\"'!\"&Lists!$K30&T$14))=\"\",\"\",(INDIRECT(\"'\"&Lists!$J30&\"'!\"&Lists!$K30&T$14))))","v":""},{"$f":"IF(ISNA(Lists!$J30),\"\",IF((INDIRECT(\"'\"&Lists!$J30&\"'!\"&Lists!$L30&U$14))=\"\",\"\",(INDIRECT(\"'\"&Lists!$J30&\"'!\"&Lists!$L30&U$14))))","v":""},{"$f":"IF(ISNA(Lists!$J30),\"\",IF((INDIRECT(\"'\"&Lists!$J30&\"'!\"&Lists!$L30&V$14))=\"\",\"\",(INDIRECT(\"'\"&Lists!$J30&\"'!\"&Lists!$L30&V$14))))","v":""},{"$f":"IF(ISNA(Lists!$J30),\"\",IF((INDIRECT(\"'\"&Lists!$J30&\"'!\"&Lists!$L30&W$14))=\"\",\"\",(INDIRECT(\"'\"&Lists!$J30&\"'!\"&Lists!$L30&W$14))))","v":""},{"$f":"IF(ISNA(Lists!$J30),\"\",IF((INDIRECT(\"'\"&Lists!$J30&\"'!\"&Lists!$L30&X$14))=\"\",\"\",(INDIRECT(\"'\"&Lists!$J30&\"'!\"&Lists!$L30&X$14))))","v":""},{"$f":"IF(ISNA(Lists!$J30),\"\",IF((INDIRECT(\"'\"&Lists!$J30&\"'!\"&Lists!$L30&Y$14))=\"\",\"\",(INDIRECT(\"'\"&Lists!$J30&\"'!\"&Lists!$L30&Y$14))))","v":""},{"$f":"IF(ISNA(Lists!$J30),\"\",IF((INDIRECT(\"'\"&Lists!$J30&\"'!\"&Lists!$L30&Z$14))=\"\",\"\",(INDIRECT(\"'\"&Lists!$J30&\"'!\"&Lists!$L30&Z$14))))","v":""},{"$f":"IF(ISNA(Lists!$J30),\"\",IF((INDIRECT(\"'\"&Lists!$J30&\"'!\"&Lists!$L30&AA$14))=\"\",\"\",(INDIRECT(\"'\"&Lists!$J30&\"'!\"&Lists!$L30&AA$14))))","v":""},{"$f":"IF(ISNA(Lists!$J30),\"\",IF((INDIRECT(\"'\"&Lists!$J30&\"'!\"&Lists!$K30&AB$14))=\"\",\"\",(INDIRECT(\"'\"&Lists!$J30&\"'!\"&Lists!$K30&AB$14))))","v":""},{"$f":"IF(ISNA(Lists!$J30),\"\",IF((INDIRECT(\"'\"&Lists!$J30&\"'!\"&Lists!$K30&AC$14))=\"\",\"\",(INDIRECT(\"'\"&Lists!$J30&\"'!\"&Lists!$K30&AC$14))))","v":""},{"$f":"IF(ISNA(Lists!$J30),\"\",IF((INDIRECT(\"'\"&Lists!$J30&\"'!\"&Lists!$K30&AD$14))=\"\",\"\",(INDIRECT(\"'\"&Lists!$J30&\"'!\"&Lists!$K30&AD$14))))","v":""},{"$f":"IF(ISNA(Lists!$J30),\"\",IF((INDIRECT(\"'\"&Lists!$J30&\"'!\"&Lists!$K30&AE$14))=\"\",\"\",(INDIRECT(\"'\"&Lists!$J30&\"'!\"&Lists!$K30&AE$14))))","v":""},{"$f":"IF(ISNA(Lists!$J30),\"\",IF((INDIRECT(\"'\"&Lists!$J30&\"'!\"&Lists!$K30&AF$14))=\"\",\"\",(INDIRECT(\"'\"&Lists!$J30&\"'!\"&Lists!$K30&AF$14))))","v":""},{"$f":"IF(ISNA(Lists!$J30),\"\",IF((INDIRECT(\"'\"&Lists!$J30&\"'!\"&Lists!$K30&AG$14))=\"\",\"\",(INDIRECT(\"'\"&Lists!$J30&\"'!\"&Lists!$K30&AG$14))))","v":""},{"$f":"IF(ISNA(Lists!$J30),\"\",IF((INDIRECT(\"'\"&Lists!$J30&\"'!\"&Lists!$K30&AH$14))=\"\",\"\",(INDIRECT(\"'\"&Lists!$J30&\"'!\"&Lists!$K30&AH$14))))","v":""},{"$f":"IF(ISNA(Lists!$J30),\"\",IF((INDIRECT(\"'\"&Lists!$J30&\"'!\"&Lists!$K30&AI$14))=\"\",\"\",(INDIRECT(\"'\"&Lists!$J30&\"'!\"&Lists!$K30&AI$14))))","v":""},{"$f":"IF(ISNA(Lists!$J30),\"\",IF((INDIRECT(\"'\"&Lists!$J30&\"'!\"&Lists!$K30&AJ$14))=\"\",\"\",(INDIRECT(\"'\"&Lists!$J30&\"'!\"&Lists!$K30&AJ$14))))","v":""},{"$f":"IF(ISNA(Lists!$J30),\"\",IF((INDIRECT(\"'\"&Lists!$J30&\"'!\"&Lists!$K30&AK$14))=\"\",\"\",(INDIRECT(\"'\"&Lists!$J30&\"'!\"&Lists!$K30&AK$14))))","v":""}]
[{"$f":"IF(B44=\"\",\"\",' Facility_Info upload'!$A$24)","v":""},{"$f":"IF(ISNA(Lists!$J31),\"\",IF(INDIRECT(\"'\"&Lists!$J31&\"'!\"&\"B\"&B$14)=\"\",\"\",(INDIRECT(\"'\"&Lists!$J31&\"'!\"&\"B\"&B$14))))","v":""},{"$f":"IF(ISNA(Lists!$J31),\"\",IF(INDIRECT(\"'\"&Lists!$J31&\"'!\"&\"B\"&C$14)=\"\",\"\",(INDIRECT(\"'\"&Lists!$J31&\"'!\"&\"B\"&C$14))))","v":""},{"$f":"IF(ISNA(Lists!$J31),\"\",IF(INDIRECT(\"'\"&Lists!$J31&\"'!\"&\"B\"&D$14)=\"\",\"\",(INDIRECT(\"'\"&Lists!$J31&\"'!\"&\"B\"&D$14))))","v":""},{"$f":"IF(ISNA(Lists!$J31),\"\",IF(INDIRECT(\"'\"&Lists!$J31&\"'!\"&\"B\"&E$14)=\"\",\"\",(INDIRECT(\"'\"&Lists!$J31&\"'!\"&\"B\"&E$14))))","v":""},{"$f":"IF(ISNA(Lists!$J31),\"\",IF(INDIRECT(\"'\"&Lists!$J31&\"'!\"&\"B\"&F$14)=\"\",\"\",(INDIRECT(\"'\"&Lists!$J31&\"'!\"&\"B\"&F$14))))","v":""},{"$f":"IF(ISNA(Lists!$J31),\"\",IF((INDIRECT(\"'\"&Lists!$J31&\"'!\"&Lists!$K31&G$14))=\"\",\"\",(INDIRECT(\"'\"&Lists!$J31&\"'!\"&Lists!$K31&G$14))))","v":""},{"$f":"IF(ISNA(Lists!$J31),\"\",IF((INDIRECT(\"'\"&Lists!$J31&\"'!\"&Lists!$K31&H$14))=\"\",\"\",(INDIRECT(\"'\"&Lists!$J31&\"'!\"&Lists!$K31&H$14))))","v":""},{"$f":"IF(ISNA(Lists!$J31),\"\",IF((INDIRECT(\"'\"&Lists!$J31&\"'!\"&Lists!$K31&I$14))=\"\",\"\",(INDIRECT(\"'\"&Lists!$J31&\"'!\"&Lists!$K31&I$14))))","v":""},{"$f":"IF(ISNA(Lists!$J31),\"\",IF((INDIRECT(\"'\"&Lists!$J31&\"'!\"&Lists!$K31&J$14))=\"\",\"\",(INDIRECT(\"'\"&Lists!$J31&\"'!\"&Lists!$K31&J$14))))","v":""},{"$f":"IF(ISNA(Lists!$J31),\"\",IF((INDIRECT(\"'\"&Lists!$J31&\"'!\"&Lists!$K31&K$14))=\"\",\"\",(INDIRECT(\"'\"&Lists!$J31&\"'!\"&Lists!$K31&K$14))))","v":""},{"$f":"IF(ISNA(Lists!$J31),\"\",IF((INDIRECT(\"'\"&Lists!$J31&\"'!\"&Lists!$K31&L$14))=\"\",\"\",(INDIRECT(\"'\"&Lists!$J31&\"'!\"&Lists!$K31&L$14))))","v":""},{"$f":"IF(ISNA(Lists!$J31),\"\",IF((INDIRECT(\"'\"&Lists!$J31&\"'!\"&Lists!$K31&M$14))=\"\",\"\",(INDIRECT(\"'\"&Lists!$J31&\"'!\"&Lists!$K31&M$14))))","v":""},{"$f":"IF(ISNA(Lists!$J31),\"\",IF((INDIRECT(\"'\"&Lists!$J31&\"'!\"&Lists!$K31&N$14))=\"\",\"\",(INDIRECT(\"'\"&Lists!$J31&\"'!\"&Lists!$K31&N$14))))","v":""},{"$f":"IF(ISNA(Lists!$J31),\"\",IF((INDIRECT(\"'\"&Lists!$J31&\"'!\"&Lists!$K31&O$14))=\"\",\"\",(INDIRECT(\"'\"&Lists!$J31&\"'!\"&Lists!$K31&O$14))))","v":""},{"$f":"IF(ISNA(Lists!$J31),\"\",IF((INDIRECT(\"'\"&Lists!$J31&\"'!\"&Lists!$K31&P$14))=\"\",\"\",(INDIRECT(\"'\"&Lists!$J31&\"'!\"&Lists!$K31&P$14))))","v":""},{"$f":"IF(ISNA(Lists!$J31),\"\",IF((INDIRECT(\"'\"&Lists!$J31&\"'!\"&Lists!$K31&Q$14))=\"\",\"\",(INDIRECT(\"'\"&Lists!$J31&\"'!\"&Lists!$K31&Q$14))))","v":""},{"$f":"IF(ISNA(Lists!$J31),\"\",IF((INDIRECT(\"'\"&Lists!$J31&\"'!\"&Lists!$K31&R$14))=\"\",\"\",(INDIRECT(\"'\"&Lists!$J31&\"'!\"&Lists!$K31&R$14))))","v":""},{"$f":"IF(ISNA(Lists!$J31),\"\",IF((INDIRECT(\"'\"&Lists!$J31&\"'!\"&Lists!$K31&S$14))=\"\",\"\",(INDIRECT(\"'\"&Lists!$J31&\"'!\"&Lists!$K31&S$14))))","v":""},{"$f":"IF(ISNA(Lists!$J31),\"\",IF((INDIRECT(\"'\"&Lists!$J31&\"'!\"&Lists!$K31&T$14))=\"\",\"\",(INDIRECT(\"'\"&Lists!$J31&\"'!\"&Lists!$K31&T$14))))","v":""},{"$f":"IF(ISNA(Lists!$J31),\"\",IF((INDIRECT(\"'\"&Lists!$J31&\"'!\"&Lists!$L31&U$14))=\"\",\"\",(INDIRECT(\"'\"&Lists!$J31&\"'!\"&Lists!$L31&U$14))))","v":""},{"$f":"IF(ISNA(Lists!$J31),\"\",IF((INDIRECT(\"'\"&Lists!$J31&\"'!\"&Lists!$L31&V$14))=\"\",\"\",(INDIRECT(\"'\"&Lists!$J31&\"'!\"&Lists!$L31&V$14))))","v":""},{"$f":"IF(ISNA(Lists!$J31),\"\",IF((INDIRECT(\"'\"&Lists!$J31&\"'!\"&Lists!$L31&W$14))=\"\",\"\",(INDIRECT(\"'\"&Lists!$J31&\"'!\"&Lists!$L31&W$14))))","v":""},{"$f":"IF(ISNA(Lists!$J31),\"\",IF((INDIRECT(\"'\"&Lists!$J31&\"'!\"&Lists!$L31&X$14))=\"\",\"\",(INDIRECT(\"'\"&Lists!$J31&\"'!\"&Lists!$L31&X$14))))","v":""},{"$f":"IF(ISNA(Lists!$J31),\"\",IF((INDIRECT(\"'\"&Lists!$J31&\"'!\"&Lists!$L31&Y$14))=\"\",\"\",(INDIRECT(\"'\"&Lists!$J31&\"'!\"&Lists!$L31&Y$14))))","v":""},{"$f":"IF(ISNA(Lists!$J31),\"\",IF((INDIRECT(\"'\"&Lists!$J31&\"'!\"&Lists!$L31&Z$14))=\"\",\"\",(INDIRECT(\"'\"&Lists!$J31&\"'!\"&Lists!$L31&Z$14))))","v":""},{"$f":"IF(ISNA(Lists!$J31),\"\",IF((INDIRECT(\"'\"&Lists!$J31&\"'!\"&Lists!$L31&AA$14))=\"\",\"\",(INDIRECT(\"'\"&Lists!$J31&\"'!\"&Lists!$L31&AA$14))))","v":""},{"$f":"IF(ISNA(Lists!$J31),\"\",IF((INDIRECT(\"'\"&Lists!$J31&\"'!\"&Lists!$K31&AB$14))=\"\",\"\",(INDIRECT(\"'\"&Lists!$J31&\"'!\"&Lists!$K31&AB$14))))","v":""},{"$f":"IF(ISNA(Lists!$J31),\"\",IF((INDIRECT(\"'\"&Lists!$J31&\"'!\"&Lists!$K31&AC$14))=\"\",\"\",(INDIRECT(\"'\"&Lists!$J31&\"'!\"&Lists!$K31&AC$14))))","v":""},{"$f":"IF(ISNA(Lists!$J31),\"\",IF((INDIRECT(\"'\"&Lists!$J31&\"'!\"&Lists!$K31&AD$14))=\"\",\"\",(INDIRECT(\"'\"&Lists!$J31&\"'!\"&Lists!$K31&AD$14))))","v":""},{"$f":"IF(ISNA(Lists!$J31),\"\",IF((INDIRECT(\"'\"&Lists!$J31&\"'!\"&Lists!$K31&AE$14))=\"\",\"\",(INDIRECT(\"'\"&Lists!$J31&\"'!\"&Lists!$K31&AE$14))))","v":""},{"$f":"IF(ISNA(Lists!$J31),\"\",IF((INDIRECT(\"'\"&Lists!$J31&\"'!\"&Lists!$K31&AF$14))=\"\",\"\",(INDIRECT(\"'\"&Lists!$J31&\"'!\"&Lists!$K31&AF$14))))","v":""},{"$f":"IF(ISNA(Lists!$J31),\"\",IF((INDIRECT(\"'\"&Lists!$J31&\"'!\"&Lists!$K31&AG$14))=\"\",\"\",(INDIRECT(\"'\"&Lists!$J31&\"'!\"&Lists!$K31&AG$14))))","v":""},{"$f":"IF(ISNA(Lists!$J31),\"\",IF((INDIRECT(\"'\"&Lists!$J31&\"'!\"&Lists!$K31&AH$14))=\"\",\"\",(INDIRECT(\"'\"&Lists!$J31&\"'!\"&Lists!$K31&AH$14))))","v":""},{"$f":"IF(ISNA(Lists!$J31),\"\",IF((INDIRECT(\"'\"&Lists!$J31&\"'!\"&Lists!$K31&AI$14))=\"\",\"\",(INDIRECT(\"'\"&Lists!$J31&\"'!\"&Lists!$K31&AI$14))))","v":""},{"$f":"IF(ISNA(Lists!$J31),\"\",IF((INDIRECT(\"'\"&Lists!$J31&\"'!\"&Lists!$K31&AJ$14))=\"\",\"\",(INDIRECT(\"'\"&Lists!$J31&\"'!\"&Lists!$K31&AJ$14))))","v":""},{"$f":"IF(ISNA(Lists!$J31),\"\",IF((INDIRECT(\"'\"&Lists!$J31&\"'!\"&Lists!$K31&AK$14))=\"\",\"\",(INDIRECT(\"'\"&Lists!$J31&\"'!\"&Lists!$K31&AK$14))))","v":""}]
[{"$f":"IF(B45=\"\",\"\",' Facility_Info upload'!$A$24)","v":""},{"$f":"IF(ISNA(Lists!$J32),\"\",IF(INDIRECT(\"'\"&Lists!$J32&\"'!\"&\"B\"&B$14)=\"\",\"\",(INDIRECT(\"'\"&Lists!$J32&\"'!\"&\"B\"&B$14))))","v":""},{"$f":"IF(ISNA(Lists!$J32),\"\",IF(INDIRECT(\"'\"&Lists!$J32&\"'!\"&\"B\"&C$14)=\"\",\"\",(INDIRECT(\"'\"&Lists!$J32&\"'!\"&\"B\"&C$14))))","v":""},{"$f":"IF(ISNA(Lists!$J32),\"\",IF(INDIRECT(\"'\"&Lists!$J32&\"'!\"&\"B\"&D$14)=\"\",\"\",(INDIRECT(\"'\"&Lists!$J32&\"'!\"&\"B\"&D$14))))","v":""},{"$f":"IF(ISNA(Lists!$J32),\"\",IF(INDIRECT(\"'\"&Lists!$J32&\"'!\"&\"B\"&E$14)=\"\",\"\",(INDIRECT(\"'\"&Lists!$J32&\"'!\"&\"B\"&E$14))))","v":""},{"$f":"IF(ISNA(Lists!$J32),\"\",IF(INDIRECT(\"'\"&Lists!$J32&\"'!\"&\"B\"&F$14)=\"\",\"\",(INDIRECT(\"'\"&Lists!$J32&\"'!\"&\"B\"&F$14))))","v":""},{"$f":"IF(ISNA(Lists!$J32),\"\",IF((INDIRECT(\"'\"&Lists!$J32&\"'!\"&Lists!$K32&G$14))=\"\",\"\",(INDIRECT(\"'\"&Lists!$J32&\"'!\"&Lists!$K32&G$14))))","v":""},{"$f":"IF(ISNA(Lists!$J32),\"\",IF((INDIRECT(\"'\"&Lists!$J32&\"'!\"&Lists!$K32&H$14))=\"\",\"\",(INDIRECT(\"'\"&Lists!$J32&\"'!\"&Lists!$K32&H$14))))","v":""},{"$f":"IF(ISNA(Lists!$J32),\"\",IF((INDIRECT(\"'\"&Lists!$J32&\"'!\"&Lists!$K32&I$14))=\"\",\"\",(INDIRECT(\"'\"&Lists!$J32&\"'!\"&Lists!$K32&I$14))))","v":""},{"$f":"IF(ISNA(Lists!$J32),\"\",IF((INDIRECT(\"'\"&Lists!$J32&\"'!\"&Lists!$K32&J$14))=\"\",\"\",(INDIRECT(\"'\"&Lists!$J32&\"'!\"&Lists!$K32&J$14))))","v":""},{"$f":"IF(ISNA(Lists!$J32),\"\",IF((INDIRECT(\"'\"&Lists!$J32&\"'!\"&Lists!$K32&K$14))=\"\",\"\",(INDIRECT(\"'\"&Lists!$J32&\"'!\"&Lists!$K32&K$14))))","v":""},{"$f":"IF(ISNA(Lists!$J32),\"\",IF((INDIRECT(\"'\"&Lists!$J32&\"'!\"&Lists!$K32&L$14))=\"\",\"\",(INDIRECT(\"'\"&Lists!$J32&\"'!\"&Lists!$K32&L$14))))","v":""},{"$f":"IF(ISNA(Lists!$J32),\"\",IF((INDIRECT(\"'\"&Lists!$J32&\"'!\"&Lists!$K32&M$14))=\"\",\"\",(INDIRECT(\"'\"&Lists!$J32&\"'!\"&Lists!$K32&M$14))))","v":""},{"$f":"IF(ISNA(Lists!$J32),\"\",IF((INDIRECT(\"'\"&Lists!$J32&\"'!\"&Lists!$K32&N$14))=\"\",\"\",(INDIRECT(\"'\"&Lists!$J32&\"'!\"&Lists!$K32&N$14))))","v":""},{"$f":"IF(ISNA(Lists!$J32),\"\",IF((INDIRECT(\"'\"&Lists!$J32&\"'!\"&Lists!$K32&O$14))=\"\",\"\",(INDIRECT(\"'\"&Lists!$J32&\"'!\"&Lists!$K32&O$14))))","v":""},{"$f":"IF(ISNA(Lists!$J32),\"\",IF((INDIRECT(\"'\"&Lists!$J32&\"'!\"&Lists!$K32&P$14))=\"\",\"\",(INDIRECT(\"'\"&Lists!$J32&\"'!\"&Lists!$K32&P$14))))","v":""},{"$f":"IF(ISNA(Lists!$J32),\"\",IF((INDIRECT(\"'\"&Lists!$J32&\"'!\"&Lists!$K32&Q$14))=\"\",\"\",(INDIRECT(\"'\"&Lists!$J32&\"'!\"&Lists!$K32&Q$14))))","v":""},{"$f":"IF(ISNA(Lists!$J32),\"\",IF((INDIRECT(\"'\"&Lists!$J32&\"'!\"&Lists!$K32&R$14))=\"\",\"\",(INDIRECT(\"'\"&Lists!$J32&\"'!\"&Lists!$K32&R$14))))","v":""},{"$f":"IF(ISNA(Lists!$J32),\"\",IF((INDIRECT(\"'\"&Lists!$J32&\"'!\"&Lists!$K32&S$14))=\"\",\"\",(INDIRECT(\"'\"&Lists!$J32&\"'!\"&Lists!$K32&S$14))))","v":""},{"$f":"IF(ISNA(Lists!$J32),\"\",IF((INDIRECT(\"'\"&Lists!$J32&\"'!\"&Lists!$K32&T$14))=\"\",\"\",(INDIRECT(\"'\"&Lists!$J32&\"'!\"&Lists!$K32&T$14))))","v":""},{"$f":"IF(ISNA(Lists!$J32),\"\",IF((INDIRECT(\"'\"&Lists!$J32&\"'!\"&Lists!$L32&U$14))=\"\",\"\",(INDIRECT(\"'\"&Lists!$J32&\"'!\"&Lists!$L32&U$14))))","v":""},{"$f":"IF(ISNA(Lists!$J32),\"\",IF((INDIRECT(\"'\"&Lists!$J32&\"'!\"&Lists!$L32&V$14))=\"\",\"\",(INDIRECT(\"'\"&Lists!$J32&\"'!\"&Lists!$L32&V$14))))","v":""},{"$f":"IF(ISNA(Lists!$J32),\"\",IF((INDIRECT(\"'\"&Lists!$J32&\"'!\"&Lists!$L32&W$14))=\"\",\"\",(INDIRECT(\"'\"&Lists!$J32&\"'!\"&Lists!$L32&W$14))))","v":""},{"$f":"IF(ISNA(Lists!$J32),\"\",IF((INDIRECT(\"'\"&Lists!$J32&\"'!\"&Lists!$L32&X$14))=\"\",\"\",(INDIRECT(\"'\"&Lists!$J32&\"'!\"&Lists!$L32&X$14))))","v":""},{"$f":"IF(ISNA(Lists!$J32),\"\",IF((INDIRECT(\"'\"&Lists!$J32&\"'!\"&Lists!$L32&Y$14))=\"\",\"\",(INDIRECT(\"'\"&Lists!$J32&\"'!\"&Lists!$L32&Y$14))))","v":""},{"$f":"IF(ISNA(Lists!$J32),\"\",IF((INDIRECT(\"'\"&Lists!$J32&\"'!\"&Lists!$L32&Z$14))=\"\",\"\",(INDIRECT(\"'\"&Lists!$J32&\"'!\"&Lists!$L32&Z$14))))","v":""},{"$f":"IF(ISNA(Lists!$J32),\"\",IF((INDIRECT(\"'\"&Lists!$J32&\"'!\"&Lists!$L32&AA$14))=\"\",\"\",(INDIRECT(\"'\"&Lists!$J32&\"'!\"&Lists!$L32&AA$14))))","v":""},{"$f":"IF(ISNA(Lists!$J32),\"\",IF((INDIRECT(\"'\"&Lists!$J32&\"'!\"&Lists!$K32&AB$14))=\"\",\"\",(INDIRECT(\"'\"&Lists!$J32&\"'!\"&Lists!$K32&AB$14))))","v":""},{"$f":"IF(ISNA(Lists!$J32),\"\",IF((INDIRECT(\"'\"&Lists!$J32&\"'!\"&Lists!$K32&AC$14))=\"\",\"\",(INDIRECT(\"'\"&Lists!$J32&\"'!\"&Lists!$K32&AC$14))))","v":""},{"$f":"IF(ISNA(Lists!$J32),\"\",IF((INDIRECT(\"'\"&Lists!$J32&\"'!\"&Lists!$K32&AD$14))=\"\",\"\",(INDIRECT(\"'\"&Lists!$J32&\"'!\"&Lists!$K32&AD$14))))","v":""},{"$f":"IF(ISNA(Lists!$J32),\"\",IF((INDIRECT(\"'\"&Lists!$J32&\"'!\"&Lists!$K32&AE$14))=\"\",\"\",(INDIRECT(\"'\"&Lists!$J32&\"'!\"&Lists!$K32&AE$14))))","v":""},{"$f":"IF(ISNA(Lists!$J32),\"\",IF((INDIRECT(\"'\"&Lists!$J32&\"'!\"&Lists!$K32&AF$14))=\"\",\"\",(INDIRECT(\"'\"&Lists!$J32&\"'!\"&Lists!$K32&AF$14))))","v":""},{"$f":"IF(ISNA(Lists!$J32),\"\",IF((INDIRECT(\"'\"&Lists!$J32&\"'!\"&Lists!$K32&AG$14))=\"\",\"\",(INDIRECT(\"'\"&Lists!$J32&\"'!\"&Lists!$K32&AG$14))))","v":""},{"$f":"IF(ISNA(Lists!$J32),\"\",IF((INDIRECT(\"'\"&Lists!$J32&\"'!\"&Lists!$K32&AH$14))=\"\",\"\",(INDIRECT(\"'\"&Lists!$J32&\"'!\"&Lists!$K32&AH$14))))","v":""},{"$f":"IF(ISNA(Lists!$J32),\"\",IF((INDIRECT(\"'\"&Lists!$J32&\"'!\"&Lists!$K32&AI$14))=\"\",\"\",(INDIRECT(\"'\"&Lists!$J32&\"'!\"&Lists!$K32&AI$14))))","v":""},{"$f":"IF(ISNA(Lists!$J32),\"\",IF((INDIRECT(\"'\"&Lists!$J32&\"'!\"&Lists!$K32&AJ$14))=\"\",\"\",(INDIRECT(\"'\"&Lists!$J32&\"'!\"&Lists!$K32&AJ$14))))","v":""},{"$f":"IF(ISNA(Lists!$J32),\"\",IF((INDIRECT(\"'\"&Lists!$J32&\"'!\"&Lists!$K32&AK$14))=\"\",\"\",(INDIRECT(\"'\"&Lists!$J32&\"'!\"&Lists!$K32&AK$14))))","v":""}]
[{"$f":"IF(B46=\"\",\"\",' Facility_Info upload'!$A$24)","v":""},{"$f":"IF(ISNA(Lists!$J33),\"\",IF(INDIRECT(\"'\"&Lists!$J33&\"'!\"&\"B\"&B$14)=\"\",\"\",(INDIRECT(\"'\"&Lists!$J33&\"'!\"&\"B\"&B$14))))","v":""},{"$f":"IF(ISNA(Lists!$J33),\"\",IF(INDIRECT(\"'\"&Lists!$J33&\"'!\"&\"B\"&C$14)=\"\",\"\",(INDIRECT(\"'\"&Lists!$J33&\"'!\"&\"B\"&C$14))))","v":""},{"$f":"IF(ISNA(Lists!$J33),\"\",IF(INDIRECT(\"'\"&Lists!$J33&\"'!\"&\"B\"&D$14)=\"\",\"\",(INDIRECT(\"'\"&Lists!$J33&\"'!\"&\"B\"&D$14))))","v":""},{"$f":"IF(ISNA(Lists!$J33),\"\",IF(INDIRECT(\"'\"&Lists!$J33&\"'!\"&\"B\"&E$14)=\"\",\"\",(INDIRECT(\"'\"&Lists!$J33&\"'!\"&\"B\"&E$14))))","v":""},{"$f":"IF(ISNA(Lists!$J33),\"\",IF(INDIRECT(\"'\"&Lists!$J33&\"'!\"&\"B\"&F$14)=\"\",\"\",(INDIRECT(\"'\"&Lists!$J33&\"'!\"&\"B\"&F$14))))","v":""},{"$f":"IF(ISNA(Lists!$J33),\"\",IF((INDIRECT(\"'\"&Lists!$J33&\"'!\"&Lists!$K33&G$14))=\"\",\"\",(INDIRECT(\"'\"&Lists!$J33&\"'!\"&Lists!$K33&G$14))))","v":""},{"$f":"IF(ISNA(Lists!$J33),\"\",IF((INDIRECT(\"'\"&Lists!$J33&\"'!\"&Lists!$K33&H$14))=\"\",\"\",(INDIRECT(\"'\"&Lists!$J33&\"'!\"&Lists!$K33&H$14))))","v":""},{"$f":"IF(ISNA(Lists!$J33),\"\",IF((INDIRECT(\"'\"&Lists!$J33&\"'!\"&Lists!$K33&I$14))=\"\",\"\",(INDIRECT(\"'\"&Lists!$J33&\"'!\"&Lists!$K33&I$14))))","v":""},{"$f":"IF(ISNA(Lists!$J33),\"\",IF((INDIRECT(\"'\"&Lists!$J33&\"'!\"&Lists!$K33&J$14))=\"\",\"\",(INDIRECT(\"'\"&Lists!$J33&\"'!\"&Lists!$K33&J$14))))","v":""},{"$f":"IF(ISNA(Lists!$J33),\"\",IF((INDIRECT(\"'\"&Lists!$J33&\"'!\"&Lists!$K33&K$14))=\"\",\"\",(INDIRECT(\"'\"&Lists!$J33&\"'!\"&Lists!$K33&K$14))))","v":""},{"$f":"IF(ISNA(Lists!$J33),\"\",IF((INDIRECT(\"'\"&Lists!$J33&\"'!\"&Lists!$K33&L$14))=\"\",\"\",(INDIRECT(\"'\"&Lists!$J33&\"'!\"&Lists!$K33&L$14))))","v":""},{"$f":"IF(ISNA(Lists!$J33),\"\",IF((INDIRECT(\"'\"&Lists!$J33&\"'!\"&Lists!$K33&M$14))=\"\",\"\",(INDIRECT(\"'\"&Lists!$J33&\"'!\"&Lists!$K33&M$14))))","v":""},{"$f":"IF(ISNA(Lists!$J33),\"\",IF((INDIRECT(\"'\"&Lists!$J33&\"'!\"&Lists!$K33&N$14))=\"\",\"\",(INDIRECT(\"'\"&Lists!$J33&\"'!\"&Lists!$K33&N$14))))","v":""},{"$f":"IF(ISNA(Lists!$J33),\"\",IF((INDIRECT(\"'\"&Lists!$J33&\"'!\"&Lists!$K33&O$14))=\"\",\"\",(INDIRECT(\"'\"&Lists!$J33&\"'!\"&Lists!$K33&O$14))))","v":""},{"$f":"IF(ISNA(Lists!$J33),\"\",IF((INDIRECT(\"'\"&Lists!$J33&\"'!\"&Lists!$K33&P$14))=\"\",\"\",(INDIRECT(\"'\"&Lists!$J33&\"'!\"&Lists!$K33&P$14))))","v":""},{"$f":"IF(ISNA(Lists!$J33),\"\",IF((INDIRECT(\"'\"&Lists!$J33&\"'!\"&Lists!$K33&Q$14))=\"\",\"\",(INDIRECT(\"'\"&Lists!$J33&\"'!\"&Lists!$K33&Q$14))))","v":""},{"$f":"IF(ISNA(Lists!$J33),\"\",IF((INDIRECT(\"'\"&Lists!$J33&\"'!\"&Lists!$K33&R$14))=\"\",\"\",(INDIRECT(\"'\"&Lists!$J33&\"'!\"&Lists!$K33&R$14))))","v":""},{"$f":"IF(ISNA(Lists!$J33),\"\",IF((INDIRECT(\"'\"&Lists!$J33&\"'!\"&Lists!$K33&S$14))=\"\",\"\",(INDIRECT(\"'\"&Lists!$J33&\"'!\"&Lists!$K33&S$14))))","v":""},{"$f":"IF(ISNA(Lists!$J33),\"\",IF((INDIRECT(\"'\"&Lists!$J33&\"'!\"&Lists!$K33&T$14))=\"\",\"\",(INDIRECT(\"'\"&Lists!$J33&\"'!\"&Lists!$K33&T$14))))","v":""},{"$f":"IF(ISNA(Lists!$J33),\"\",IF((INDIRECT(\"'\"&Lists!$J33&\"'!\"&Lists!$L33&U$14))=\"\",\"\",(INDIRECT(\"'\"&Lists!$J33&\"'!\"&Lists!$L33&U$14))))","v":""},{"$f":"IF(ISNA(Lists!$J33),\"\",IF((INDIRECT(\"'\"&Lists!$J33&\"'!\"&Lists!$L33&V$14))=\"\",\"\",(INDIRECT(\"'\"&Lists!$J33&\"'!\"&Lists!$L33&V$14))))","v":""},{"$f":"IF(ISNA(Lists!$J33),\"\",IF((INDIRECT(\"'\"&Lists!$J33&\"'!\"&Lists!$L33&W$14))=\"\",\"\",(INDIRECT(\"'\"&Lists!$J33&\"'!\"&Lists!$L33&W$14))))","v":""},{"$f":"IF(ISNA(Lists!$J33),\"\",IF((INDIRECT(\"'\"&Lists!$J33&\"'!\"&Lists!$L33&X$14))=\"\",\"\",(INDIRECT(\"'\"&Lists!$J33&\"'!\"&Lists!$L33&X$14))))","v":""},{"$f":"IF(ISNA(Lists!$J33),\"\",IF((INDIRECT(\"'\"&Lists!$J33&\"'!\"&Lists!$L33&Y$14))=\"\",\"\",(INDIRECT(\"'\"&Lists!$J33&\"'!\"&Lists!$L33&Y$14))))","v":""},{"$f":"IF(ISNA(Lists!$J33),\"\",IF((INDIRECT(\"'\"&Lists!$J33&\"'!\"&Lists!$L33&Z$14))=\"\",\"\",(INDIRECT(\"'\"&Lists!$J33&\"'!\"&Lists!$L33&Z$14))))","v":""},{"$f":"IF(ISNA(Lists!$J33),\"\",IF((INDIRECT(\"'\"&Lists!$J33&\"'!\"&Lists!$L33&AA$14))=\"\",\"\",(INDIRECT(\"'\"&Lists!$J33&\"'!\"&Lists!$L33&AA$14))))","v":""},{"$f":"IF(ISNA(Lists!$J33),\"\",IF((INDIRECT(\"'\"&Lists!$J33&\"'!\"&Lists!$K33&AB$14))=\"\",\"\",(INDIRECT(\"'\"&Lists!$J33&\"'!\"&Lists!$K33&AB$14))))","v":""},{"$f":"IF(ISNA(Lists!$J33),\"\",IF((INDIRECT(\"'\"&Lists!$J33&\"'!\"&Lists!$K33&AC$14))=\"\",\"\",(INDIRECT(\"'\"&Lists!$J33&\"'!\"&Lists!$K33&AC$14))))","v":""},{"$f":"IF(ISNA(Lists!$J33),\"\",IF((INDIRECT(\"'\"&Lists!$J33&\"'!\"&Lists!$K33&AD$14))=\"\",\"\",(INDIRECT(\"'\"&Lists!$J33&\"'!\"&Lists!$K33&AD$14))))","v":""},{"$f":"IF(ISNA(Lists!$J33),\"\",IF((INDIRECT(\"'\"&Lists!$J33&\"'!\"&Lists!$K33&AE$14))=\"\",\"\",(INDIRECT(\"'\"&Lists!$J33&\"'!\"&Lists!$K33&AE$14))))","v":""},{"$f":"IF(ISNA(Lists!$J33),\"\",IF((INDIRECT(\"'\"&Lists!$J33&\"'!\"&Lists!$K33&AF$14))=\"\",\"\",(INDIRECT(\"'\"&Lists!$J33&\"'!\"&Lists!$K33&AF$14))))","v":""},{"$f":"IF(ISNA(Lists!$J33),\"\",IF((INDIRECT(\"'\"&Lists!$J33&\"'!\"&Lists!$K33&AG$14))=\"\",\"\",(INDIRECT(\"'\"&Lists!$J33&\"'!\"&Lists!$K33&AG$14))))","v":""},{"$f":"IF(ISNA(Lists!$J33),\"\",IF((INDIRECT(\"'\"&Lists!$J33&\"'!\"&Lists!$K33&AH$14))=\"\",\"\",(INDIRECT(\"'\"&Lists!$J33&\"'!\"&Lists!$K33&AH$14))))","v":""},{"$f":"IF(ISNA(Lists!$J33),\"\",IF((INDIRECT(\"'\"&Lists!$J33&\"'!\"&Lists!$K33&AI$14))=\"\",\"\",(INDIRECT(\"'\"&Lists!$J33&\"'!\"&Lists!$K33&AI$14))))","v":""},{"$f":"IF(ISNA(Lists!$J33),\"\",IF((INDIRECT(\"'\"&Lists!$J33&\"'!\"&Lists!$K33&AJ$14))=\"\",\"\",(INDIRECT(\"'\"&Lists!$J33&\"'!\"&Lists!$K33&AJ$14))))","v":""},{"$f":"IF(ISNA(Lists!$J33),\"\",IF((INDIRECT(\"'\"&Lists!$J33&\"'!\"&Lists!$K33&AK$14))=\"\",\"\",(INDIRECT(\"'\"&Lists!$J33&\"'!\"&Lists!$K33&AK$14))))","v":""}]
[{"$f":"IF(B47=\"\",\"\",' Facility_Info upload'!$A$24)","v":""},{"$f":"IF(ISNA(Lists!$J34),\"\",IF(INDIRECT(\"'\"&Lists!$J34&\"'!\"&\"B\"&B$14)=\"\",\"\",(INDIRECT(\"'\"&Lists!$J34&\"'!\"&\"B\"&B$14))))","v":""},{"$f":"IF(ISNA(Lists!$J34),\"\",IF(INDIRECT(\"'\"&Lists!$J34&\"'!\"&\"B\"&C$14)=\"\",\"\",(INDIRECT(\"'\"&Lists!$J34&\"'!\"&\"B\"&C$14))))","v":""},{"$f":"IF(ISNA(Lists!$J34),\"\",IF(INDIRECT(\"'\"&Lists!$J34&\"'!\"&\"B\"&D$14)=\"\",\"\",(INDIRECT(\"'\"&Lists!$J34&\"'!\"&\"B\"&D$14))))","v":""},{"$f":"IF(ISNA(Lists!$J34),\"\",IF(INDIRECT(\"'\"&Lists!$J34&\"'!\"&\"B\"&E$14)=\"\",\"\",(INDIRECT(\"'\"&Lists!$J34&\"'!\"&\"B\"&E$14))))","v":""},{"$f":"IF(ISNA(Lists!$J34),\"\",IF(INDIRECT(\"'\"&Lists!$J34&\"'!\"&\"B\"&F$14)=\"\",\"\",(INDIRECT(\"'\"&Lists!$J34&\"'!\"&\"B\"&F$14))))","v":""},{"$f":"IF(ISNA(Lists!$J34),\"\",IF((INDIRECT(\"'\"&Lists!$J34&\"'!\"&Lists!$K34&G$14))=\"\",\"\",(INDIRECT(\"'\"&Lists!$J34&\"'!\"&Lists!$K34&G$14))))","v":""},{"$f":"IF(ISNA(Lists!$J34),\"\",IF((INDIRECT(\"'\"&Lists!$J34&\"'!\"&Lists!$K34&H$14))=\"\",\"\",(INDIRECT(\"'\"&Lists!$J34&\"'!\"&Lists!$K34&H$14))))","v":""},{"$f":"IF(ISNA(Lists!$J34),\"\",IF((INDIRECT(\"'\"&Lists!$J34&\"'!\"&Lists!$K34&I$14))=\"\",\"\",(INDIRECT(\"'\"&Lists!$J34&\"'!\"&Lists!$K34&I$14))))","v":""},{"$f":"IF(ISNA(Lists!$J34),\"\",IF((INDIRECT(\"'\"&Lists!$J34&\"'!\"&Lists!$K34&J$14))=\"\",\"\",(INDIRECT(\"'\"&Lists!$J34&\"'!\"&Lists!$K34&J$14))))","v":""},{"$f":"IF(ISNA(Lists!$J34),\"\",IF((INDIRECT(\"'\"&Lists!$J34&\"'!\"&Lists!$K34&K$14))=\"\",\"\",(INDIRECT(\"'\"&Lists!$J34&\"'!\"&Lists!$K34&K$14))))","v":""},{"$f":"IF(ISNA(Lists!$J34),\"\",IF((INDIRECT(\"'\"&Lists!$J34&\"'!\"&Lists!$K34&L$14))=\"\",\"\",(INDIRECT(\"'\"&Lists!$J34&\"'!\"&Lists!$K34&L$14))))","v":""},{"$f":"IF(ISNA(Lists!$J34),\"\",IF((INDIRECT(\"'\"&Lists!$J34&\"'!\"&Lists!$K34&M$14))=\"\",\"\",(INDIRECT(\"'\"&Lists!$J34&\"'!\"&Lists!$K34&M$14))))","v":""},{"$f":"IF(ISNA(Lists!$J34),\"\",IF((INDIRECT(\"'\"&Lists!$J34&\"'!\"&Lists!$K34&N$14))=\"\",\"\",(INDIRECT(\"'\"&Lists!$J34&\"'!\"&Lists!$K34&N$14))))","v":""},{"$f":"IF(ISNA(Lists!$J34),\"\",IF((INDIRECT(\"'\"&Lists!$J34&\"'!\"&Lists!$K34&O$14))=\"\",\"\",(INDIRECT(\"'\"&Lists!$J34&\"'!\"&Lists!$K34&O$14))))","v":""},{"$f":"IF(ISNA(Lists!$J34),\"\",IF((INDIRECT(\"'\"&Lists!$J34&\"'!\"&Lists!$K34&P$14))=\"\",\"\",(INDIRECT(\"'\"&Lists!$J34&\"'!\"&Lists!$K34&P$14))))","v":""},{"$f":"IF(ISNA(Lists!$J34),\"\",IF((INDIRECT(\"'\"&Lists!$J34&\"'!\"&Lists!$K34&Q$14))=\"\",\"\",(INDIRECT(\"'\"&Lists!$J34&\"'!\"&Lists!$K34&Q$14))))","v":""},{"$f":"IF(ISNA(Lists!$J34),\"\",IF((INDIRECT(\"'\"&Lists!$J34&\"'!\"&Lists!$K34&R$14))=\"\",\"\",(INDIRECT(\"'\"&Lists!$J34&\"'!\"&Lists!$K34&R$14))))","v":""},{"$f":"IF(ISNA(Lists!$J34),\"\",IF((INDIRECT(\"'\"&Lists!$J34&\"'!\"&Lists!$K34&S$14))=\"\",\"\",(INDIRECT(\"'\"&Lists!$J34&\"'!\"&Lists!$K34&S$14))))","v":""},{"$f":"IF(ISNA(Lists!$J34),\"\",IF((INDIRECT(\"'\"&Lists!$J34&\"'!\"&Lists!$K34&T$14))=\"\",\"\",(INDIRECT(\"'\"&Lists!$J34&\"'!\"&Lists!$K34&T$14))))","v":""},{"$f":"IF(ISNA(Lists!$J34),\"\",IF((INDIRECT(\"'\"&Lists!$J34&\"'!\"&Lists!$L34&U$14))=\"\",\"\",(INDIRECT(\"'\"&Lists!$J34&\"'!\"&Lists!$L34&U$14))))","v":""},{"$f":"IF(ISNA(Lists!$J34),\"\",IF((INDIRECT(\"'\"&Lists!$J34&\"'!\"&Lists!$L34&V$14))=\"\",\"\",(INDIRECT(\"'\"&Lists!$J34&\"'!\"&Lists!$L34&V$14))))","v":""},{"$f":"IF(ISNA(Lists!$J34),\"\",IF((INDIRECT(\"'\"&Lists!$J34&\"'!\"&Lists!$L34&W$14))=\"\",\"\",(INDIRECT(\"'\"&Lists!$J34&\"'!\"&Lists!$L34&W$14))))","v":""},{"$f":"IF(ISNA(Lists!$J34),\"\",IF((INDIRECT(\"'\"&Lists!$J34&\"'!\"&Lists!$L34&X$14))=\"\",\"\",(INDIRECT(\"'\"&Lists!$J34&\"'!\"&Lists!$L34&X$14))))","v":""},{"$f":"IF(ISNA(Lists!$J34),\"\",IF((INDIRECT(\"'\"&Lists!$J34&\"'!\"&Lists!$L34&Y$14))=\"\",\"\",(INDIRECT(\"'\"&Lists!$J34&\"'!\"&Lists!$L34&Y$14))))","v":""},{"$f":"IF(ISNA(Lists!$J34),\"\",IF((INDIRECT(\"'\"&Lists!$J34&\"'!\"&Lists!$L34&Z$14))=\"\",\"\",(INDIRECT(\"'\"&Lists!$J34&\"'!\"&Lists!$L34&Z$14))))","v":""},{"$f":"IF(ISNA(Lists!$J34),\"\",IF((INDIRECT(\"'\"&Lists!$J34&\"'!\"&Lists!$L34&AA$14))=\"\",\"\",(INDIRECT(\"'\"&Lists!$J34&\"'!\"&Lists!$L34&AA$14))))","v":""},{"$f":"IF(ISNA(Lists!$J34),\"\",IF((INDIRECT(\"'\"&Lists!$J34&\"'!\"&Lists!$K34&AB$14))=\"\",\"\",(INDIRECT(\"'\"&Lists!$J34&\"'!\"&Lists!$K34&AB$14))))","v":""},{"$f":"IF(ISNA(Lists!$J34),\"\",IF((INDIRECT(\"'\"&Lists!$J34&\"'!\"&Lists!$K34&AC$14))=\"\",\"\",(INDIRECT(\"'\"&Lists!$J34&\"'!\"&Lists!$K34&AC$14))))","v":""},{"$f":"IF(ISNA(Lists!$J34),\"\",IF((INDIRECT(\"'\"&Lists!$J34&\"'!\"&Lists!$K34&AD$14))=\"\",\"\",(INDIRECT(\"'\"&Lists!$J34&\"'!\"&Lists!$K34&AD$14))))","v":""},{"$f":"IF(ISNA(Lists!$J34),\"\",IF((INDIRECT(\"'\"&Lists!$J34&\"'!\"&Lists!$K34&AE$14))=\"\",\"\",(INDIRECT(\"'\"&Lists!$J34&\"'!\"&Lists!$K34&AE$14))))","v":""},{"$f":"IF(ISNA(Lists!$J34),\"\",IF((INDIRECT(\"'\"&Lists!$J34&\"'!\"&Lists!$K34&AF$14))=\"\",\"\",(INDIRECT(\"'\"&Lists!$J34&\"'!\"&Lists!$K34&AF$14))))","v":""},{"$f":"IF(ISNA(Lists!$J34),\"\",IF((INDIRECT(\"'\"&Lists!$J34&\"'!\"&Lists!$K34&AG$14))=\"\",\"\",(INDIRECT(\"'\"&Lists!$J34&\"'!\"&Lists!$K34&AG$14))))","v":""},{"$f":"IF(ISNA(Lists!$J34),\"\",IF((INDIRECT(\"'\"&Lists!$J34&\"'!\"&Lists!$K34&AH$14))=\"\",\"\",(INDIRECT(\"'\"&Lists!$J34&\"'!\"&Lists!$K34&AH$14))))","v":""},{"$f":"IF(ISNA(Lists!$J34),\"\",IF((INDIRECT(\"'\"&Lists!$J34&\"'!\"&Lists!$K34&AI$14))=\"\",\"\",(INDIRECT(\"'\"&Lists!$J34&\"'!\"&Lists!$K34&AI$14))))","v":""},{"$f":"IF(ISNA(Lists!$J34),\"\",IF((INDIRECT(\"'\"&Lists!$J34&\"'!\"&Lists!$K34&AJ$14))=\"\",\"\",(INDIRECT(\"'\"&Lists!$J34&\"'!\"&Lists!$K34&AJ$14))))","v":""},{"$f":"IF(ISNA(Lists!$J34),\"\",IF((INDIRECT(\"'\"&Lists!$J34&\"'!\"&Lists!$K34&AK$14))=\"\",\"\",(INDIRECT(\"'\"&Lists!$J34&\"'!\"&Lists!$K34&AK$14))))","v":""}]
[{"$f":"IF(B48=\"\",\"\",' Facility_Info upload'!$A$24)","v":""},{"$f":"IF(ISNA(Lists!$J35),\"\",IF(INDIRECT(\"'\"&Lists!$J35&\"'!\"&\"B\"&B$14)=\"\",\"\",(INDIRECT(\"'\"&Lists!$J35&\"'!\"&\"B\"&B$14))))","v":""},{"$f":"IF(ISNA(Lists!$J35),\"\",IF(INDIRECT(\"'\"&Lists!$J35&\"'!\"&\"B\"&C$14)=\"\",\"\",(INDIRECT(\"'\"&Lists!$J35&\"'!\"&\"B\"&C$14))))","v":""},{"$f":"IF(ISNA(Lists!$J35),\"\",IF(INDIRECT(\"'\"&Lists!$J35&\"'!\"&\"B\"&D$14)=\"\",\"\",(INDIRECT(\"'\"&Lists!$J35&\"'!\"&\"B\"&D$14))))","v":""},{"$f":"IF(ISNA(Lists!$J35),\"\",IF(INDIRECT(\"'\"&Lists!$J35&\"'!\"&\"B\"&E$14)=\"\",\"\",(INDIRECT(\"'\"&Lists!$J35&\"'!\"&\"B\"&E$14))))","v":""},{"$f":"IF(ISNA(Lists!$J35),\"\",IF(INDIRECT(\"'\"&Lists!$J35&\"'!\"&\"B\"&F$14)=\"\",\"\",(INDIRECT(\"'\"&Lists!$J35&\"'!\"&\"B\"&F$14))))","v":""},{"$f":"IF(ISNA(Lists!$J35),\"\",IF((INDIRECT(\"'\"&Lists!$J35&\"'!\"&Lists!$K35&G$14))=\"\",\"\",(INDIRECT(\"'\"&Lists!$J35&\"'!\"&Lists!$K35&G$14))))","v":""},{"$f":"IF(ISNA(Lists!$J35),\"\",IF((INDIRECT(\"'\"&Lists!$J35&\"'!\"&Lists!$K35&H$14))=\"\",\"\",(INDIRECT(\"'\"&Lists!$J35&\"'!\"&Lists!$K35&H$14))))","v":""},{"$f":"IF(ISNA(Lists!$J35),\"\",IF((INDIRECT(\"'\"&Lists!$J35&\"'!\"&Lists!$K35&I$14))=\"\",\"\",(INDIRECT(\"'\"&Lists!$J35&\"'!\"&Lists!$K35&I$14))))","v":""},{"$f":"IF(ISNA(Lists!$J35),\"\",IF((INDIRECT(\"'\"&Lists!$J35&\"'!\"&Lists!$K35&J$14))=\"\",\"\",(INDIRECT(\"'\"&Lists!$J35&\"'!\"&Lists!$K35&J$14))))","v":""},{"$f":"IF(ISNA(Lists!$J35),\"\",IF((INDIRECT(\"'\"&Lists!$J35&\"'!\"&Lists!$K35&K$14))=\"\",\"\",(INDIRECT(\"'\"&Lists!$J35&\"'!\"&Lists!$K35&K$14))))","v":""},{"$f":"IF(ISNA(Lists!$J35),\"\",IF((INDIRECT(\"'\"&Lists!$J35&\"'!\"&Lists!$K35&L$14))=\"\",\"\",(INDIRECT(\"'\"&Lists!$J35&\"'!\"&Lists!$K35&L$14))))","v":""},{"$f":"IF(ISNA(Lists!$J35),\"\",IF((INDIRECT(\"'\"&Lists!$J35&\"'!\"&Lists!$K35&M$14))=\"\",\"\",(INDIRECT(\"'\"&Lists!$J35&\"'!\"&Lists!$K35&M$14))))","v":""},{"$f":"IF(ISNA(Lists!$J35),\"\",IF((INDIRECT(\"'\"&Lists!$J35&\"'!\"&Lists!$K35&N$14))=\"\",\"\",(INDIRECT(\"'\"&Lists!$J35&\"'!\"&Lists!$K35&N$14))))","v":""},{"$f":"IF(ISNA(Lists!$J35),\"\",IF((INDIRECT(\"'\"&Lists!$J35&\"'!\"&Lists!$K35&O$14))=\"\",\"\",(INDIRECT(\"'\"&Lists!$J35&\"'!\"&Lists!$K35&O$14))))","v":""},{"$f":"IF(ISNA(Lists!$J35),\"\",IF((INDIRECT(\"'\"&Lists!$J35&\"'!\"&Lists!$K35&P$14))=\"\",\"\",(INDIRECT(\"'\"&Lists!$J35&\"'!\"&Lists!$K35&P$14))))","v":""},{"$f":"IF(ISNA(Lists!$J35),\"\",IF((INDIRECT(\"'\"&Lists!$J35&\"'!\"&Lists!$K35&Q$14))=\"\",\"\",(INDIRECT(\"'\"&Lists!$J35&\"'!\"&Lists!$K35&Q$14))))","v":""},{"$f":"IF(ISNA(Lists!$J35),\"\",IF((INDIRECT(\"'\"&Lists!$J35&\"'!\"&Lists!$K35&R$14))=\"\",\"\",(INDIRECT(\"'\"&Lists!$J35&\"'!\"&Lists!$K35&R$14))))","v":""},{"$f":"IF(ISNA(Lists!$J35),\"\",IF((INDIRECT(\"'\"&Lists!$J35&\"'!\"&Lists!$K35&S$14))=\"\",\"\",(INDIRECT(\"'\"&Lists!$J35&\"'!\"&Lists!$K35&S$14))))","v":""},{"$f":"IF(ISNA(Lists!$J35),\"\",IF((INDIRECT(\"'\"&Lists!$J35&\"'!\"&Lists!$K35&T$14))=\"\",\"\",(INDIRECT(\"'\"&Lists!$J35&\"'!\"&Lists!$K35&T$14))))","v":""},{"$f":"IF(ISNA(Lists!$J35),\"\",IF((INDIRECT(\"'\"&Lists!$J35&\"'!\"&Lists!$L35&U$14))=\"\",\"\",(INDIRECT(\"'\"&Lists!$J35&\"'!\"&Lists!$L35&U$14))))","v":""},{"$f":"IF(ISNA(Lists!$J35),\"\",IF((INDIRECT(\"'\"&Lists!$J35&\"'!\"&Lists!$L35&V$14))=\"\",\"\",(INDIRECT(\"'\"&Lists!$J35&\"'!\"&Lists!$L35&V$14))))","v":""},{"$f":"IF(ISNA(Lists!$J35),\"\",IF((INDIRECT(\"'\"&Lists!$J35&\"'!\"&Lists!$L35&W$14))=\"\",\"\",(INDIRECT(\"'\"&Lists!$J35&\"'!\"&Lists!$L35&W$14))))","v":""},{"$f":"IF(ISNA(Lists!$J35),\"\",IF((INDIRECT(\"'\"&Lists!$J35&\"'!\"&Lists!$L35&X$14))=\"\",\"\",(INDIRECT(\"'\"&Lists!$J35&\"'!\"&Lists!$L35&X$14))))","v":""},{"$f":"IF(ISNA(Lists!$J35),\"\",IF((INDIRECT(\"'\"&Lists!$J35&\"'!\"&Lists!$L35&Y$14))=\"\",\"\",(INDIRECT(\"'\"&Lists!$J35&\"'!\"&Lists!$L35&Y$14))))","v":""},{"$f":"IF(ISNA(Lists!$J35),\"\",IF((INDIRECT(\"'\"&Lists!$J35&\"'!\"&Lists!$L35&Z$14))=\"\",\"\",(INDIRECT(\"'\"&Lists!$J35&\"'!\"&Lists!$L35&Z$14))))","v":""},{"$f":"IF(ISNA(Lists!$J35),\"\",IF((INDIRECT(\"'\"&Lists!$J35&\"'!\"&Lists!$L35&AA$14))=\"\",\"\",(INDIRECT(\"'\"&Lists!$J35&\"'!\"&Lists!$L35&AA$14))))","v":""},{"$f":"IF(ISNA(Lists!$J35),\"\",IF((INDIRECT(\"'\"&Lists!$J35&\"'!\"&Lists!$K35&AB$14))=\"\",\"\",(INDIRECT(\"'\"&Lists!$J35&\"'!\"&Lists!$K35&AB$14))))","v":""},{"$f":"IF(ISNA(Lists!$J35),\"\",IF((INDIRECT(\"'\"&Lists!$J35&\"'!\"&Lists!$K35&AC$14))=\"\",\"\",(INDIRECT(\"'\"&Lists!$J35&\"'!\"&Lists!$K35&AC$14))))","v":""},{"$f":"IF(ISNA(Lists!$J35),\"\",IF((INDIRECT(\"'\"&Lists!$J35&\"'!\"&Lists!$K35&AD$14))=\"\",\"\",(INDIRECT(\"'\"&Lists!$J35&\"'!\"&Lists!$K35&AD$14))))","v":""},{"$f":"IF(ISNA(Lists!$J35),\"\",IF((INDIRECT(\"'\"&Lists!$J35&\"'!\"&Lists!$K35&AE$14))=\"\",\"\",(INDIRECT(\"'\"&Lists!$J35&\"'!\"&Lists!$K35&AE$14))))","v":""},{"$f":"IF(ISNA(Lists!$J35),\"\",IF((INDIRECT(\"'\"&Lists!$J35&\"'!\"&Lists!$K35&AF$14))=\"\",\"\",(INDIRECT(\"'\"&Lists!$J35&\"'!\"&Lists!$K35&AF$14))))","v":""},{"$f":"IF(ISNA(Lists!$J35),\"\",IF((INDIRECT(\"'\"&Lists!$J35&\"'!\"&Lists!$K35&AG$14))=\"\",\"\",(INDIRECT(\"'\"&Lists!$J35&\"'!\"&Lists!$K35&AG$14))))","v":""},{"$f":"IF(ISNA(Lists!$J35),\"\",IF((INDIRECT(\"'\"&Lists!$J35&\"'!\"&Lists!$K35&AH$14))=\"\",\"\",(INDIRECT(\"'\"&Lists!$J35&\"'!\"&Lists!$K35&AH$14))))","v":""},{"$f":"IF(ISNA(Lists!$J35),\"\",IF((INDIRECT(\"'\"&Lists!$J35&\"'!\"&Lists!$K35&AI$14))=\"\",\"\",(INDIRECT(\"'\"&Lists!$J35&\"'!\"&Lists!$K35&AI$14))))","v":""},{"$f":"IF(ISNA(Lists!$J35),\"\",IF((INDIRECT(\"'\"&Lists!$J35&\"'!\"&Lists!$K35&AJ$14))=\"\",\"\",(INDIRECT(\"'\"&Lists!$J35&\"'!\"&Lists!$K35&AJ$14))))","v":""},{"$f":"IF(ISNA(Lists!$J35),\"\",IF((INDIRECT(\"'\"&Lists!$J35&\"'!\"&Lists!$K35&AK$14))=\"\",\"\",(INDIRECT(\"'\"&Lists!$J35&\"'!\"&Lists!$K35&AK$14))))","v":""}]
[{"$f":"IF(B49=\"\",\"\",' Facility_Info upload'!$A$24)","v":""},{"$f":"IF(ISNA(Lists!$J36),\"\",IF(INDIRECT(\"'\"&Lists!$J36&\"'!\"&\"B\"&B$14)=\"\",\"\",(INDIRECT(\"'\"&Lists!$J36&\"'!\"&\"B\"&B$14))))","v":""},{"$f":"IF(ISNA(Lists!$J36),\"\",IF(INDIRECT(\"'\"&Lists!$J36&\"'!\"&\"B\"&C$14)=\"\",\"\",(INDIRECT(\"'\"&Lists!$J36&\"'!\"&\"B\"&C$14))))","v":""},{"$f":"IF(ISNA(Lists!$J36),\"\",IF(INDIRECT(\"'\"&Lists!$J36&\"'!\"&\"B\"&D$14)=\"\",\"\",(INDIRECT(\"'\"&Lists!$J36&\"'!\"&\"B\"&D$14))))","v":""},{"$f":"IF(ISNA(Lists!$J36),\"\",IF(INDIRECT(\"'\"&Lists!$J36&\"'!\"&\"B\"&E$14)=\"\",\"\",(INDIRECT(\"'\"&Lists!$J36&\"'!\"&\"B\"&E$14))))","v":""},{"$f":"IF(ISNA(Lists!$J36),\"\",IF(INDIRECT(\"'\"&Lists!$J36&\"'!\"&\"B\"&F$14)=\"\",\"\",(INDIRECT(\"'\"&Lists!$J36&\"'!\"&\"B\"&F$14))))","v":""},{"$f":"IF(ISNA(Lists!$J36),\"\",IF((INDIRECT(\"'\"&Lists!$J36&\"'!\"&Lists!$K36&G$14))=\"\",\"\",(INDIRECT(\"'\"&Lists!$J36&\"'!\"&Lists!$K36&G$14))))","v":""},{"$f":"IF(ISNA(Lists!$J36),\"\",IF((INDIRECT(\"'\"&Lists!$J36&\"'!\"&Lists!$K36&H$14))=\"\",\"\",(INDIRECT(\"'\"&Lists!$J36&\"'!\"&Lists!$K36&H$14))))","v":""},{"$f":"IF(ISNA(Lists!$J36),\"\",IF((INDIRECT(\"'\"&Lists!$J36&\"'!\"&Lists!$K36&I$14))=\"\",\"\",(INDIRECT(\"'\"&Lists!$J36&\"'!\"&Lists!$K36&I$14))))","v":""},{"$f":"IF(ISNA(Lists!$J36),\"\",IF((INDIRECT(\"'\"&Lists!$J36&\"'!\"&Lists!$K36&J$14))=\"\",\"\",(INDIRECT(\"'\"&Lists!$J36&\"'!\"&Lists!$K36&J$14))))","v":""},{"$f":"IF(ISNA(Lists!$J36),\"\",IF((INDIRECT(\"'\"&Lists!$J36&\"'!\"&Lists!$K36&K$14))=\"\",\"\",(INDIRECT(\"'\"&Lists!$J36&\"'!\"&Lists!$K36&K$14))))","v":""},{"$f":"IF(ISNA(Lists!$J36),\"\",IF((INDIRECT(\"'\"&Lists!$J36&\"'!\"&Lists!$K36&L$14))=\"\",\"\",(INDIRECT(\"'\"&Lists!$J36&\"'!\"&Lists!$K36&L$14))))","v":""},{"$f":"IF(ISNA(Lists!$J36),\"\",IF((INDIRECT(\"'\"&Lists!$J36&\"'!\"&Lists!$K36&M$14))=\"\",\"\",(INDIRECT(\"'\"&Lists!$J36&\"'!\"&Lists!$K36&M$14))))","v":""},{"$f":"IF(ISNA(Lists!$J36),\"\",IF((INDIRECT(\"'\"&Lists!$J36&\"'!\"&Lists!$K36&N$14))=\"\",\"\",(INDIRECT(\"'\"&Lists!$J36&\"'!\"&Lists!$K36&N$14))))","v":""},{"$f":"IF(ISNA(Lists!$J36),\"\",IF((INDIRECT(\"'\"&Lists!$J36&\"'!\"&Lists!$K36&O$14))=\"\",\"\",(INDIRECT(\"'\"&Lists!$J36&\"'!\"&Lists!$K36&O$14))))","v":""},{"$f":"IF(ISNA(Lists!$J36),\"\",IF((INDIRECT(\"'\"&Lists!$J36&\"'!\"&Lists!$K36&P$14))=\"\",\"\",(INDIRECT(\"'\"&Lists!$J36&\"'!\"&Lists!$K36&P$14))))","v":""},{"$f":"IF(ISNA(Lists!$J36),\"\",IF((INDIRECT(\"'\"&Lists!$J36&\"'!\"&Lists!$K36&Q$14))=\"\",\"\",(INDIRECT(\"'\"&Lists!$J36&\"'!\"&Lists!$K36&Q$14))))","v":""},{"$f":"IF(ISNA(Lists!$J36),\"\",IF((INDIRECT(\"'\"&Lists!$J36&\"'!\"&Lists!$K36&R$14))=\"\",\"\",(INDIRECT(\"'\"&Lists!$J36&\"'!\"&Lists!$K36&R$14))))","v":""},{"$f":"IF(ISNA(Lists!$J36),\"\",IF((INDIRECT(\"'\"&Lists!$J36&\"'!\"&Lists!$K36&S$14))=\"\",\"\",(INDIRECT(\"'\"&Lists!$J36&\"'!\"&Lists!$K36&S$14))))","v":""},{"$f":"IF(ISNA(Lists!$J36),\"\",IF((INDIRECT(\"'\"&Lists!$J36&\"'!\"&Lists!$K36&T$14))=\"\",\"\",(INDIRECT(\"'\"&Lists!$J36&\"'!\"&Lists!$K36&T$14))))","v":""},{"$f":"IF(ISNA(Lists!$J36),\"\",IF((INDIRECT(\"'\"&Lists!$J36&\"'!\"&Lists!$L36&U$14))=\"\",\"\",(INDIRECT(\"'\"&Lists!$J36&\"'!\"&Lists!$L36&U$14))))","v":""},{"$f":"IF(ISNA(Lists!$J36),\"\",IF((INDIRECT(\"'\"&Lists!$J36&\"'!\"&Lists!$L36&V$14))=\"\",\"\",(INDIRECT(\"'\"&Lists!$J36&\"'!\"&Lists!$L36&V$14))))","v":""},{"$f":"IF(ISNA(Lists!$J36),\"\",IF((INDIRECT(\"'\"&Lists!$J36&\"'!\"&Lists!$L36&W$14))=\"\",\"\",(INDIRECT(\"'\"&Lists!$J36&\"'!\"&Lists!$L36&W$14))))","v":""},{"$f":"IF(ISNA(Lists!$J36),\"\",IF((INDIRECT(\"'\"&Lists!$J36&\"'!\"&Lists!$L36&X$14))=\"\",\"\",(INDIRECT(\"'\"&Lists!$J36&\"'!\"&Lists!$L36&X$14))))","v":""},{"$f":"IF(ISNA(Lists!$J36),\"\",IF((INDIRECT(\"'\"&Lists!$J36&\"'!\"&Lists!$L36&Y$14))=\"\",\"\",(INDIRECT(\"'\"&Lists!$J36&\"'!\"&Lists!$L36&Y$14))))","v":""},{"$f":"IF(ISNA(Lists!$J36),\"\",IF((INDIRECT(\"'\"&Lists!$J36&\"'!\"&Lists!$L36&Z$14))=\"\",\"\",(INDIRECT(\"'\"&Lists!$J36&\"'!\"&Lists!$L36&Z$14))))","v":""},{"$f":"IF(ISNA(Lists!$J36),\"\",IF((INDIRECT(\"'\"&Lists!$J36&\"'!\"&Lists!$L36&AA$14))=\"\",\"\",(INDIRECT(\"'\"&Lists!$J36&\"'!\"&Lists!$L36&AA$14))))","v":""},{"$f":"IF(ISNA(Lists!$J36),\"\",IF((INDIRECT(\"'\"&Lists!$J36&\"'!\"&Lists!$K36&AB$14))=\"\",\"\",(INDIRECT(\"'\"&Lists!$J36&\"'!\"&Lists!$K36&AB$14))))","v":""},{"$f":"IF(ISNA(Lists!$J36),\"\",IF((INDIRECT(\"'\"&Lists!$J36&\"'!\"&Lists!$K36&AC$14))=\"\",\"\",(INDIRECT(\"'\"&Lists!$J36&\"'!\"&Lists!$K36&AC$14))))","v":""},{"$f":"IF(ISNA(Lists!$J36),\"\",IF((INDIRECT(\"'\"&Lists!$J36&\"'!\"&Lists!$K36&AD$14))=\"\",\"\",(INDIRECT(\"'\"&Lists!$J36&\"'!\"&Lists!$K36&AD$14))))","v":""},{"$f":"IF(ISNA(Lists!$J36),\"\",IF((INDIRECT(\"'\"&Lists!$J36&\"'!\"&Lists!$K36&AE$14))=\"\",\"\",(INDIRECT(\"'\"&Lists!$J36&\"'!\"&Lists!$K36&AE$14))))","v":""},{"$f":"IF(ISNA(Lists!$J36),\"\",IF((INDIRECT(\"'\"&Lists!$J36&\"'!\"&Lists!$K36&AF$14))=\"\",\"\",(INDIRECT(\"'\"&Lists!$J36&\"'!\"&Lists!$K36&AF$14))))","v":""},{"$f":"IF(ISNA(Lists!$J36),\"\",IF((INDIRECT(\"'\"&Lists!$J36&\"'!\"&Lists!$K36&AG$14))=\"\",\"\",(INDIRECT(\"'\"&Lists!$J36&\"'!\"&Lists!$K36&AG$14))))","v":""},{"$f":"IF(ISNA(Lists!$J36),\"\",IF((INDIRECT(\"'\"&Lists!$J36&\"'!\"&Lists!$K36&AH$14))=\"\",\"\",(INDIRECT(\"'\"&Lists!$J36&\"'!\"&Lists!$K36&AH$14))))","v":""},{"$f":"IF(ISNA(Lists!$J36),\"\",IF((INDIRECT(\"'\"&Lists!$J36&\"'!\"&Lists!$K36&AI$14))=\"\",\"\",(INDIRECT(\"'\"&Lists!$J36&\"'!\"&Lists!$K36&AI$14))))","v":""},{"$f":"IF(ISNA(Lists!$J36),\"\",IF((INDIRECT(\"'\"&Lists!$J36&\"'!\"&Lists!$K36&AJ$14))=\"\",\"\",(INDIRECT(\"'\"&Lists!$J36&\"'!\"&Lists!$K36&AJ$14))))","v":""},{"$f":"IF(ISNA(Lists!$J36),\"\",IF((INDIRECT(\"'\"&Lists!$J36&\"'!\"&Lists!$K36&AK$14))=\"\",\"\",(INDIRECT(\"'\"&Lists!$J36&\"'!\"&Lists!$K36&AK$14))))","v":""}]
[{"$f":"IF(B50=\"\",\"\",' Facility_Info upload'!$A$24)","v":""},{"$f":"IF(ISNA(Lists!$J37),\"\",IF(INDIRECT(\"'\"&Lists!$J37&\"'!\"&\"B\"&B$14)=\"\",\"\",(INDIRECT(\"'\"&Lists!$J37&\"'!\"&\"B\"&B$14))))","v":""},{"$f":"IF(ISNA(Lists!$J37),\"\",IF(INDIRECT(\"'\"&Lists!$J37&\"'!\"&\"B\"&C$14)=\"\",\"\",(INDIRECT(\"'\"&Lists!$J37&\"'!\"&\"B\"&C$14))))","v":""},{"$f":"IF(ISNA(Lists!$J37),\"\",IF(INDIRECT(\"'\"&Lists!$J37&\"'!\"&\"B\"&D$14)=\"\",\"\",(INDIRECT(\"'\"&Lists!$J37&\"'!\"&\"B\"&D$14))))","v":""},{"$f":"IF(ISNA(Lists!$J37),\"\",IF(INDIRECT(\"'\"&Lists!$J37&\"'!\"&\"B\"&E$14)=\"\",\"\",(INDIRECT(\"'\"&Lists!$J37&\"'!\"&\"B\"&E$14))))","v":""},{"$f":"IF(ISNA(Lists!$J37),\"\",IF(INDIRECT(\"'\"&Lists!$J37&\"'!\"&\"B\"&F$14)=\"\",\"\",(INDIRECT(\"'\"&Lists!$J37&\"'!\"&\"B\"&F$14))))","v":""},{"$f":"IF(ISNA(Lists!$J37),\"\",IF((INDIRECT(\"'\"&Lists!$J37&\"'!\"&Lists!$K37&G$14))=\"\",\"\",(INDIRECT(\"'\"&Lists!$J37&\"'!\"&Lists!$K37&G$14))))","v":""},{"$f":"IF(ISNA(Lists!$J37),\"\",IF((INDIRECT(\"'\"&Lists!$J37&\"'!\"&Lists!$K37&H$14))=\"\",\"\",(INDIRECT(\"'\"&Lists!$J37&\"'!\"&Lists!$K37&H$14))))","v":""},{"$f":"IF(ISNA(Lists!$J37),\"\",IF((INDIRECT(\"'\"&Lists!$J37&\"'!\"&Lists!$K37&I$14))=\"\",\"\",(INDIRECT(\"'\"&Lists!$J37&\"'!\"&Lists!$K37&I$14))))","v":""},{"$f":"IF(ISNA(Lists!$J37),\"\",IF((INDIRECT(\"'\"&Lists!$J37&\"'!\"&Lists!$K37&J$14))=\"\",\"\",(INDIRECT(\"'\"&Lists!$J37&\"'!\"&Lists!$K37&J$14))))","v":""},{"$f":"IF(ISNA(Lists!$J37),\"\",IF((INDIRECT(\"'\"&Lists!$J37&\"'!\"&Lists!$K37&K$14))=\"\",\"\",(INDIRECT(\"'\"&Lists!$J37&\"'!\"&Lists!$K37&K$14))))","v":""},{"$f":"IF(ISNA(Lists!$J37),\"\",IF((INDIRECT(\"'\"&Lists!$J37&\"'!\"&Lists!$K37&L$14))=\"\",\"\",(INDIRECT(\"'\"&Lists!$J37&\"'!\"&Lists!$K37&L$14))))","v":""},{"$f":"IF(ISNA(Lists!$J37),\"\",IF((INDIRECT(\"'\"&Lists!$J37&\"'!\"&Lists!$K37&M$14))=\"\",\"\",(INDIRECT(\"'\"&Lists!$J37&\"'!\"&Lists!$K37&M$14))))","v":""},{"$f":"IF(ISNA(Lists!$J37),\"\",IF((INDIRECT(\"'\"&Lists!$J37&\"'!\"&Lists!$K37&N$14))=\"\",\"\",(INDIRECT(\"'\"&Lists!$J37&\"'!\"&Lists!$K37&N$14))))","v":""},{"$f":"IF(ISNA(Lists!$J37),\"\",IF((INDIRECT(\"'\"&Lists!$J37&\"'!\"&Lists!$K37&O$14))=\"\",\"\",(INDIRECT(\"'\"&Lists!$J37&\"'!\"&Lists!$K37&O$14))))","v":""},{"$f":"IF(ISNA(Lists!$J37),\"\",IF((INDIRECT(\"'\"&Lists!$J37&\"'!\"&Lists!$K37&P$14))=\"\",\"\",(INDIRECT(\"'\"&Lists!$J37&\"'!\"&Lists!$K37&P$14))))","v":""},{"$f":"IF(ISNA(Lists!$J37),\"\",IF((INDIRECT(\"'\"&Lists!$J37&\"'!\"&Lists!$K37&Q$14))=\"\",\"\",(INDIRECT(\"'\"&Lists!$J37&\"'!\"&Lists!$K37&Q$14))))","v":""},{"$f":"IF(ISNA(Lists!$J37),\"\",IF((INDIRECT(\"'\"&Lists!$J37&\"'!\"&Lists!$K37&R$14))=\"\",\"\",(INDIRECT(\"'\"&Lists!$J37&\"'!\"&Lists!$K37&R$14))))","v":""},{"$f":"IF(ISNA(Lists!$J37),\"\",IF((INDIRECT(\"'\"&Lists!$J37&\"'!\"&Lists!$K37&S$14))=\"\",\"\",(INDIRECT(\"'\"&Lists!$J37&\"'!\"&Lists!$K37&S$14))))","v":""},{"$f":"IF(ISNA(Lists!$J37),\"\",IF((INDIRECT(\"'\"&Lists!$J37&\"'!\"&Lists!$K37&T$14))=\"\",\"\",(INDIRECT(\"'\"&Lists!$J37&\"'!\"&Lists!$K37&T$14))))","v":""},{"$f":"IF(ISNA(Lists!$J37),\"\",IF((INDIRECT(\"'\"&Lists!$J37&\"'!\"&Lists!$L37&U$14))=\"\",\"\",(INDIRECT(\"'\"&Lists!$J37&\"'!\"&Lists!$L37&U$14))))","v":""},{"$f":"IF(ISNA(Lists!$J37),\"\",IF((INDIRECT(\"'\"&Lists!$J37&\"'!\"&Lists!$L37&V$14))=\"\",\"\",(INDIRECT(\"'\"&Lists!$J37&\"'!\"&Lists!$L37&V$14))))","v":""},{"$f":"IF(ISNA(Lists!$J37),\"\",IF((INDIRECT(\"'\"&Lists!$J37&\"'!\"&Lists!$L37&W$14))=\"\",\"\",(INDIRECT(\"'\"&Lists!$J37&\"'!\"&Lists!$L37&W$14))))","v":""},{"$f":"IF(ISNA(Lists!$J37),\"\",IF((INDIRECT(\"'\"&Lists!$J37&\"'!\"&Lists!$L37&X$14))=\"\",\"\",(INDIRECT(\"'\"&Lists!$J37&\"'!\"&Lists!$L37&X$14))))","v":""},{"$f":"IF(ISNA(Lists!$J37),\"\",IF((INDIRECT(\"'\"&Lists!$J37&\"'!\"&Lists!$L37&Y$14))=\"\",\"\",(INDIRECT(\"'\"&Lists!$J37&\"'!\"&Lists!$L37&Y$14))))","v":""},{"$f":"IF(ISNA(Lists!$J37),\"\",IF((INDIRECT(\"'\"&Lists!$J37&\"'!\"&Lists!$L37&Z$14))=\"\",\"\",(INDIRECT(\"'\"&Lists!$J37&\"'!\"&Lists!$L37&Z$14))))","v":""},{"$f":"IF(ISNA(Lists!$J37),\"\",IF((INDIRECT(\"'\"&Lists!$J37&\"'!\"&Lists!$L37&AA$14))=\"\",\"\",(INDIRECT(\"'\"&Lists!$J37&\"'!\"&Lists!$L37&AA$14))))","v":""},{"$f":"IF(ISNA(Lists!$J37),\"\",IF((INDIRECT(\"'\"&Lists!$J37&\"'!\"&Lists!$K37&AB$14))=\"\",\"\",(INDIRECT(\"'\"&Lists!$J37&\"'!\"&Lists!$K37&AB$14))))","v":""},{"$f":"IF(ISNA(Lists!$J37),\"\",IF((INDIRECT(\"'\"&Lists!$J37&\"'!\"&Lists!$K37&AC$14))=\"\",\"\",(INDIRECT(\"'\"&Lists!$J37&\"'!\"&Lists!$K37&AC$14))))","v":""},{"$f":"IF(ISNA(Lists!$J37),\"\",IF((INDIRECT(\"'\"&Lists!$J37&\"'!\"&Lists!$K37&AD$14))=\"\",\"\",(INDIRECT(\"'\"&Lists!$J37&\"'!\"&Lists!$K37&AD$14))))","v":""},{"$f":"IF(ISNA(Lists!$J37),\"\",IF((INDIRECT(\"'\"&Lists!$J37&\"'!\"&Lists!$K37&AE$14))=\"\",\"\",(INDIRECT(\"'\"&Lists!$J37&\"'!\"&Lists!$K37&AE$14))))","v":""},{"$f":"IF(ISNA(Lists!$J37),\"\",IF((INDIRECT(\"'\"&Lists!$J37&\"'!\"&Lists!$K37&AF$14))=\"\",\"\",(INDIRECT(\"'\"&Lists!$J37&\"'!\"&Lists!$K37&AF$14))))","v":""},{"$f":"IF(ISNA(Lists!$J37),\"\",IF((INDIRECT(\"'\"&Lists!$J37&\"'!\"&Lists!$K37&AG$14))=\"\",\"\",(INDIRECT(\"'\"&Lists!$J37&\"'!\"&Lists!$K37&AG$14))))","v":""},{"$f":"IF(ISNA(Lists!$J37),\"\",IF((INDIRECT(\"'\"&Lists!$J37&\"'!\"&Lists!$K37&AH$14))=\"\",\"\",(INDIRECT(\"'\"&Lists!$J37&\"'!\"&Lists!$K37&AH$14))))","v":""},{"$f":"IF(ISNA(Lists!$J37),\"\",IF((INDIRECT(\"'\"&Lists!$J37&\"'!\"&Lists!$K37&AI$14))=\"\",\"\",(INDIRECT(\"'\"&Lists!$J37&\"'!\"&Lists!$K37&AI$14))))","v":""},{"$f":"IF(ISNA(Lists!$J37),\"\",IF((INDIRECT(\"'\"&Lists!$J37&\"'!\"&Lists!$K37&AJ$14))=\"\",\"\",(INDIRECT(\"'\"&Lists!$J37&\"'!\"&Lists!$K37&AJ$14))))","v":""},{"$f":"IF(ISNA(Lists!$J37),\"\",IF((INDIRECT(\"'\"&Lists!$J37&\"'!\"&Lists!$K37&AK$14))=\"\",\"\",(INDIRECT(\"'\"&Lists!$J37&\"'!\"&Lists!$K37&AK$14))))","v":""}]
[{"$f":"IF(B51=\"\",\"\",' Facility_Info upload'!$A$24)","v":""},{"$f":"IF(ISNA(Lists!$J38),\"\",IF(INDIRECT(\"'\"&Lists!$J38&\"'!\"&\"B\"&B$14)=\"\",\"\",(INDIRECT(\"'\"&Lists!$J38&\"'!\"&\"B\"&B$14))))","v":""},{"$f":"IF(ISNA(Lists!$J38),\"\",IF(INDIRECT(\"'\"&Lists!$J38&\"'!\"&\"B\"&C$14)=\"\",\"\",(INDIRECT(\"'\"&Lists!$J38&\"'!\"&\"B\"&C$14))))","v":""},{"$f":"IF(ISNA(Lists!$J38),\"\",IF(INDIRECT(\"'\"&Lists!$J38&\"'!\"&\"B\"&D$14)=\"\",\"\",(INDIRECT(\"'\"&Lists!$J38&\"'!\"&\"B\"&D$14))))","v":""},{"$f":"IF(ISNA(Lists!$J38),\"\",IF(INDIRECT(\"'\"&Lists!$J38&\"'!\"&\"B\"&E$14)=\"\",\"\",(INDIRECT(\"'\"&Lists!$J38&\"'!\"&\"B\"&E$14))))","v":""},{"$f":"IF(ISNA(Lists!$J38),\"\",IF(INDIRECT(\"'\"&Lists!$J38&\"'!\"&\"B\"&F$14)=\"\",\"\",(INDIRECT(\"'\"&Lists!$J38&\"'!\"&\"B\"&F$14))))","v":""},{"$f":"IF(ISNA(Lists!$J38),\"\",IF((INDIRECT(\"'\"&Lists!$J38&\"'!\"&Lists!$K38&G$14))=\"\",\"\",(INDIRECT(\"'\"&Lists!$J38&\"'!\"&Lists!$K38&G$14))))","v":""},{"$f":"IF(ISNA(Lists!$J38),\"\",IF((INDIRECT(\"'\"&Lists!$J38&\"'!\"&Lists!$K38&H$14))=\"\",\"\",(INDIRECT(\"'\"&Lists!$J38&\"'!\"&Lists!$K38&H$14))))","v":""},{"$f":"IF(ISNA(Lists!$J38),\"\",IF((INDIRECT(\"'\"&Lists!$J38&\"'!\"&Lists!$K38&I$14))=\"\",\"\",(INDIRECT(\"'\"&Lists!$J38&\"'!\"&Lists!$K38&I$14))))","v":""},{"$f":"IF(ISNA(Lists!$J38),\"\",IF((INDIRECT(\"'\"&Lists!$J38&\"'!\"&Lists!$K38&J$14))=\"\",\"\",(INDIRECT(\"'\"&Lists!$J38&\"'!\"&Lists!$K38&J$14))))","v":""},{"$f":"IF(ISNA(Lists!$J38),\"\",IF((INDIRECT(\"'\"&Lists!$J38&\"'!\"&Lists!$K38&K$14))=\"\",\"\",(INDIRECT(\"'\"&Lists!$J38&\"'!\"&Lists!$K38&K$14))))","v":""},{"$f":"IF(ISNA(Lists!$J38),\"\",IF((INDIRECT(\"'\"&Lists!$J38&\"'!\"&Lists!$K38&L$14))=\"\",\"\",(INDIRECT(\"'\"&Lists!$J38&\"'!\"&Lists!$K38&L$14))))","v":""},{"$f":"IF(ISNA(Lists!$J38),\"\",IF((INDIRECT(\"'\"&Lists!$J38&\"'!\"&Lists!$K38&M$14))=\"\",\"\",(INDIRECT(\"'\"&Lists!$J38&\"'!\"&Lists!$K38&M$14))))","v":""},{"$f":"IF(ISNA(Lists!$J38),\"\",IF((INDIRECT(\"'\"&Lists!$J38&\"'!\"&Lists!$K38&N$14))=\"\",\"\",(INDIRECT(\"'\"&Lists!$J38&\"'!\"&Lists!$K38&N$14))))","v":""},{"$f":"IF(ISNA(Lists!$J38),\"\",IF((INDIRECT(\"'\"&Lists!$J38&\"'!\"&Lists!$K38&O$14))=\"\",\"\",(INDIRECT(\"'\"&Lists!$J38&\"'!\"&Lists!$K38&O$14))))","v":""},{"$f":"IF(ISNA(Lists!$J38),\"\",IF((INDIRECT(\"'\"&Lists!$J38&\"'!\"&Lists!$K38&P$14))=\"\",\"\",(INDIRECT(\"'\"&Lists!$J38&\"'!\"&Lists!$K38&P$14))))","v":""},{"$f":"IF(ISNA(Lists!$J38),\"\",IF((INDIRECT(\"'\"&Lists!$J38&\"'!\"&Lists!$K38&Q$14))=\"\",\"\",(INDIRECT(\"'\"&Lists!$J38&\"'!\"&Lists!$K38&Q$14))))","v":""},{"$f":"IF(ISNA(Lists!$J38),\"\",IF((INDIRECT(\"'\"&Lists!$J38&\"'!\"&Lists!$K38&R$14))=\"\",\"\",(INDIRECT(\"'\"&Lists!$J38&\"'!\"&Lists!$K38&R$14))))","v":""},{"$f":"IF(ISNA(Lists!$J38),\"\",IF((INDIRECT(\"'\"&Lists!$J38&\"'!\"&Lists!$K38&S$14))=\"\",\"\",(INDIRECT(\"'\"&Lists!$J38&\"'!\"&Lists!$K38&S$14))))","v":""},{"$f":"IF(ISNA(Lists!$J38),\"\",IF((INDIRECT(\"'\"&Lists!$J38&\"'!\"&Lists!$K38&T$14))=\"\",\"\",(INDIRECT(\"'\"&Lists!$J38&\"'!\"&Lists!$K38&T$14))))","v":""},{"$f":"IF(ISNA(Lists!$J38),\"\",IF((INDIRECT(\"'\"&Lists!$J38&\"'!\"&Lists!$L38&U$14))=\"\",\"\",(INDIRECT(\"'\"&Lists!$J38&\"'!\"&Lists!$L38&U$14))))","v":""},{"$f":"IF(ISNA(Lists!$J38),\"\",IF((INDIRECT(\"'\"&Lists!$J38&\"'!\"&Lists!$L38&V$14))=\"\",\"\",(INDIRECT(\"'\"&Lists!$J38&\"'!\"&Lists!$L38&V$14))))","v":""},{"$f":"IF(ISNA(Lists!$J38),\"\",IF((INDIRECT(\"'\"&Lists!$J38&\"'!\"&Lists!$L38&W$14))=\"\",\"\",(INDIRECT(\"'\"&Lists!$J38&\"'!\"&Lists!$L38&W$14))))","v":""},{"$f":"IF(ISNA(Lists!$J38),\"\",IF((INDIRECT(\"'\"&Lists!$J38&\"'!\"&Lists!$L38&X$14))=\"\",\"\",(INDIRECT(\"'\"&Lists!$J38&\"'!\"&Lists!$L38&X$14))))","v":""},{"$f":"IF(ISNA(Lists!$J38),\"\",IF((INDIRECT(\"'\"&Lists!$J38&\"'!\"&Lists!$L38&Y$14))=\"\",\"\",(INDIRECT(\"'\"&Lists!$J38&\"'!\"&Lists!$L38&Y$14))))","v":""},{"$f":"IF(ISNA(Lists!$J38),\"\",IF((INDIRECT(\"'\"&Lists!$J38&\"'!\"&Lists!$L38&Z$14))=\"\",\"\",(INDIRECT(\"'\"&Lists!$J38&\"'!\"&Lists!$L38&Z$14))))","v":""},{"$f":"IF(ISNA(Lists!$J38),\"\",IF((INDIRECT(\"'\"&Lists!$J38&\"'!\"&Lists!$L38&AA$14))=\"\",\"\",(INDIRECT(\"'\"&Lists!$J38&\"'!\"&Lists!$L38&AA$14))))","v":""},{"$f":"IF(ISNA(Lists!$J38),\"\",IF((INDIRECT(\"'\"&Lists!$J38&\"'!\"&Lists!$K38&AB$14))=\"\",\"\",(INDIRECT(\"'\"&Lists!$J38&\"'!\"&Lists!$K38&AB$14))))","v":""},{"$f":"IF(ISNA(Lists!$J38),\"\",IF((INDIRECT(\"'\"&Lists!$J38&\"'!\"&Lists!$K38&AC$14))=\"\",\"\",(INDIRECT(\"'\"&Lists!$J38&\"'!\"&Lists!$K38&AC$14))))","v":""},{"$f":"IF(ISNA(Lists!$J38),\"\",IF((INDIRECT(\"'\"&Lists!$J38&\"'!\"&Lists!$K38&AD$14))=\"\",\"\",(INDIRECT(\"'\"&Lists!$J38&\"'!\"&Lists!$K38&AD$14))))","v":""},{"$f":"IF(ISNA(Lists!$J38),\"\",IF((INDIRECT(\"'\"&Lists!$J38&\"'!\"&Lists!$K38&AE$14))=\"\",\"\",(INDIRECT(\"'\"&Lists!$J38&\"'!\"&Lists!$K38&AE$14))))","v":""},{"$f":"IF(ISNA(Lists!$J38),\"\",IF((INDIRECT(\"'\"&Lists!$J38&\"'!\"&Lists!$K38&AF$14))=\"\",\"\",(INDIRECT(\"'\"&Lists!$J38&\"'!\"&Lists!$K38&AF$14))))","v":""},{"$f":"IF(ISNA(Lists!$J38),\"\",IF((INDIRECT(\"'\"&Lists!$J38&\"'!\"&Lists!$K38&AG$14))=\"\",\"\",(INDIRECT(\"'\"&Lists!$J38&\"'!\"&Lists!$K38&AG$14))))","v":""},{"$f":"IF(ISNA(Lists!$J38),\"\",IF((INDIRECT(\"'\"&Lists!$J38&\"'!\"&Lists!$K38&AH$14))=\"\",\"\",(INDIRECT(\"'\"&Lists!$J38&\"'!\"&Lists!$K38&AH$14))))","v":""},{"$f":"IF(ISNA(Lists!$J38),\"\",IF((INDIRECT(\"'\"&Lists!$J38&\"'!\"&Lists!$K38&AI$14))=\"\",\"\",(INDIRECT(\"'\"&Lists!$J38&\"'!\"&Lists!$K38&AI$14))))","v":""},{"$f":"IF(ISNA(Lists!$J38),\"\",IF((INDIRECT(\"'\"&Lists!$J38&\"'!\"&Lists!$K38&AJ$14))=\"\",\"\",(INDIRECT(\"'\"&Lists!$J38&\"'!\"&Lists!$K38&AJ$14))))","v":""},{"$f":"IF(ISNA(Lists!$J38),\"\",IF((INDIRECT(\"'\"&Lists!$J38&\"'!\"&Lists!$K38&AK$14))=\"\",\"\",(INDIRECT(\"'\"&Lists!$J38&\"'!\"&Lists!$K38&AK$14))))","v":""}]
[{"$f":"IF(B52=\"\",\"\",' Facility_Info upload'!$A$24)","v":""},{"$f":"IF(ISNA(Lists!$J39),\"\",IF(INDIRECT(\"'\"&Lists!$J39&\"'!\"&\"B\"&B$14)=\"\",\"\",(INDIRECT(\"'\"&Lists!$J39&\"'!\"&\"B\"&B$14))))","v":""},{"$f":"IF(ISNA(Lists!$J39),\"\",IF(INDIRECT(\"'\"&Lists!$J39&\"'!\"&\"B\"&C$14)=\"\",\"\",(INDIRECT(\"'\"&Lists!$J39&\"'!\"&\"B\"&C$14))))","v":""},{"$f":"IF(ISNA(Lists!$J39),\"\",IF(INDIRECT(\"'\"&Lists!$J39&\"'!\"&\"B\"&D$14)=\"\",\"\",(INDIRECT(\"'\"&Lists!$J39&\"'!\"&\"B\"&D$14))))","v":""},{"$f":"IF(ISNA(Lists!$J39),\"\",IF(INDIRECT(\"'\"&Lists!$J39&\"'!\"&\"B\"&E$14)=\"\",\"\",(INDIRECT(\"'\"&Lists!$J39&\"'!\"&\"B\"&E$14))))","v":""},{"$f":"IF(ISNA(Lists!$J39),\"\",IF(INDIRECT(\"'\"&Lists!$J39&\"'!\"&\"B\"&F$14)=\"\",\"\",(INDIRECT(\"'\"&Lists!$J39&\"'!\"&\"B\"&F$14))))","v":""},{"$f":"IF(ISNA(Lists!$J39),\"\",IF((INDIRECT(\"'\"&Lists!$J39&\"'!\"&Lists!$K39&G$14))=\"\",\"\",(INDIRECT(\"'\"&Lists!$J39&\"'!\"&Lists!$K39&G$14))))","v":""},{"$f":"IF(ISNA(Lists!$J39),\"\",IF((INDIRECT(\"'\"&Lists!$J39&\"'!\"&Lists!$K39&H$14))=\"\",\"\",(INDIRECT(\"'\"&Lists!$J39&\"'!\"&Lists!$K39&H$14))))","v":""},{"$f":"IF(ISNA(Lists!$J39),\"\",IF((INDIRECT(\"'\"&Lists!$J39&\"'!\"&Lists!$K39&I$14))=\"\",\"\",(INDIRECT(\"'\"&Lists!$J39&\"'!\"&Lists!$K39&I$14))))","v":""},{"$f":"IF(ISNA(Lists!$J39),\"\",IF((INDIRECT(\"'\"&Lists!$J39&\"'!\"&Lists!$K39&J$14))=\"\",\"\",(INDIRECT(\"'\"&Lists!$J39&\"'!\"&Lists!$K39&J$14))))","v":""},{"$f":"IF(ISNA(Lists!$J39),\"\",IF((INDIRECT(\"'\"&Lists!$J39&\"'!\"&Lists!$K39&K$14))=\"\",\"\",(INDIRECT(\"'\"&Lists!$J39&\"'!\"&Lists!$K39&K$14))))","v":""},{"$f":"IF(ISNA(Lists!$J39),\"\",IF((INDIRECT(\"'\"&Lists!$J39&\"'!\"&Lists!$K39&L$14))=\"\",\"\",(INDIRECT(\"'\"&Lists!$J39&\"'!\"&Lists!$K39&L$14))))","v":""},{"$f":"IF(ISNA(Lists!$J39),\"\",IF((INDIRECT(\"'\"&Lists!$J39&\"'!\"&Lists!$K39&M$14))=\"\",\"\",(INDIRECT(\"'\"&Lists!$J39&\"'!\"&Lists!$K39&M$14))))","v":""},{"$f":"IF(ISNA(Lists!$J39),\"\",IF((INDIRECT(\"'\"&Lists!$J39&\"'!\"&Lists!$K39&N$14))=\"\",\"\",(INDIRECT(\"'\"&Lists!$J39&\"'!\"&Lists!$K39&N$14))))","v":""},{"$f":"IF(ISNA(Lists!$J39),\"\",IF((INDIRECT(\"'\"&Lists!$J39&\"'!\"&Lists!$K39&O$14))=\"\",\"\",(INDIRECT(\"'\"&Lists!$J39&\"'!\"&Lists!$K39&O$14))))","v":""},{"$f":"IF(ISNA(Lists!$J39),\"\",IF((INDIRECT(\"'\"&Lists!$J39&\"'!\"&Lists!$K39&P$14))=\"\",\"\",(INDIRECT(\"'\"&Lists!$J39&\"'!\"&Lists!$K39&P$14))))","v":""},{"$f":"IF(ISNA(Lists!$J39),\"\",IF((INDIRECT(\"'\"&Lists!$J39&\"'!\"&Lists!$K39&Q$14))=\"\",\"\",(INDIRECT(\"'\"&Lists!$J39&\"'!\"&Lists!$K39&Q$14))))","v":""},{"$f":"IF(ISNA(Lists!$J39),\"\",IF((INDIRECT(\"'\"&Lists!$J39&\"'!\"&Lists!$K39&R$14))=\"\",\"\",(INDIRECT(\"'\"&Lists!$J39&\"'!\"&Lists!$K39&R$14))))","v":""},{"$f":"IF(ISNA(Lists!$J39),\"\",IF((INDIRECT(\"'\"&Lists!$J39&\"'!\"&Lists!$K39&S$14))=\"\",\"\",(INDIRECT(\"'\"&Lists!$J39&\"'!\"&Lists!$K39&S$14))))","v":""},{"$f":"IF(ISNA(Lists!$J39),\"\",IF((INDIRECT(\"'\"&Lists!$J39&\"'!\"&Lists!$K39&T$14))=\"\",\"\",(INDIRECT(\"'\"&Lists!$J39&\"'!\"&Lists!$K39&T$14))))","v":""},{"$f":"IF(ISNA(Lists!$J39),\"\",IF((INDIRECT(\"'\"&Lists!$J39&\"'!\"&Lists!$L39&U$14))=\"\",\"\",(INDIRECT(\"'\"&Lists!$J39&\"'!\"&Lists!$L39&U$14))))","v":""},{"$f":"IF(ISNA(Lists!$J39),\"\",IF((INDIRECT(\"'\"&Lists!$J39&\"'!\"&Lists!$L39&V$14))=\"\",\"\",(INDIRECT(\"'\"&Lists!$J39&\"'!\"&Lists!$L39&V$14))))","v":""},{"$f":"IF(ISNA(Lists!$J39),\"\",IF((INDIRECT(\"'\"&Lists!$J39&\"'!\"&Lists!$L39&W$14))=\"\",\"\",(INDIRECT(\"'\"&Lists!$J39&\"'!\"&Lists!$L39&W$14))))","v":""},{"$f":"IF(ISNA(Lists!$J39),\"\",IF((INDIRECT(\"'\"&Lists!$J39&\"'!\"&Lists!$L39&X$14))=\"\",\"\",(INDIRECT(\"'\"&Lists!$J39&\"'!\"&Lists!$L39&X$14))))","v":""},{"$f":"IF(ISNA(Lists!$J39),\"\",IF((INDIRECT(\"'\"&Lists!$J39&\"'!\"&Lists!$L39&Y$14))=\"\",\"\",(INDIRECT(\"'\"&Lists!$J39&\"'!\"&Lists!$L39&Y$14))))","v":""},{"$f":"IF(ISNA(Lists!$J39),\"\",IF((INDIRECT(\"'\"&Lists!$J39&\"'!\"&Lists!$L39&Z$14))=\"\",\"\",(INDIRECT(\"'\"&Lists!$J39&\"'!\"&Lists!$L39&Z$14))))","v":""},{"$f":"IF(ISNA(Lists!$J39),\"\",IF((INDIRECT(\"'\"&Lists!$J39&\"'!\"&Lists!$L39&AA$14))=\"\",\"\",(INDIRECT(\"'\"&Lists!$J39&\"'!\"&Lists!$L39&AA$14))))","v":""},{"$f":"IF(ISNA(Lists!$J39),\"\",IF((INDIRECT(\"'\"&Lists!$J39&\"'!\"&Lists!$K39&AB$14))=\"\",\"\",(INDIRECT(\"'\"&Lists!$J39&\"'!\"&Lists!$K39&AB$14))))","v":""},{"$f":"IF(ISNA(Lists!$J39),\"\",IF((INDIRECT(\"'\"&Lists!$J39&\"'!\"&Lists!$K39&AC$14))=\"\",\"\",(INDIRECT(\"'\"&Lists!$J39&\"'!\"&Lists!$K39&AC$14))))","v":""},{"$f":"IF(ISNA(Lists!$J39),\"\",IF((INDIRECT(\"'\"&Lists!$J39&\"'!\"&Lists!$K39&AD$14))=\"\",\"\",(INDIRECT(\"'\"&Lists!$J39&\"'!\"&Lists!$K39&AD$14))))","v":""},{"$f":"IF(ISNA(Lists!$J39),\"\",IF((INDIRECT(\"'\"&Lists!$J39&\"'!\"&Lists!$K39&AE$14))=\"\",\"\",(INDIRECT(\"'\"&Lists!$J39&\"'!\"&Lists!$K39&AE$14))))","v":""},{"$f":"IF(ISNA(Lists!$J39),\"\",IF((INDIRECT(\"'\"&Lists!$J39&\"'!\"&Lists!$K39&AF$14))=\"\",\"\",(INDIRECT(\"'\"&Lists!$J39&\"'!\"&Lists!$K39&AF$14))))","v":""},{"$f":"IF(ISNA(Lists!$J39),\"\",IF((INDIRECT(\"'\"&Lists!$J39&\"'!\"&Lists!$K39&AG$14))=\"\",\"\",(INDIRECT(\"'\"&Lists!$J39&\"'!\"&Lists!$K39&AG$14))))","v":""},{"$f":"IF(ISNA(Lists!$J39),\"\",IF((INDIRECT(\"'\"&Lists!$J39&\"'!\"&Lists!$K39&AH$14))=\"\",\"\",(INDIRECT(\"'\"&Lists!$J39&\"'!\"&Lists!$K39&AH$14))))","v":""},{"$f":"IF(ISNA(Lists!$J39),\"\",IF((INDIRECT(\"'\"&Lists!$J39&\"'!\"&Lists!$K39&AI$14))=\"\",\"\",(INDIRECT(\"'\"&Lists!$J39&\"'!\"&Lists!$K39&AI$14))))","v":""},{"$f":"IF(ISNA(Lists!$J39),\"\",IF((INDIRECT(\"'\"&Lists!$J39&\"'!\"&Lists!$K39&AJ$14))=\"\",\"\",(INDIRECT(\"'\"&Lists!$J39&\"'!\"&Lists!$K39&AJ$14))))","v":""},{"$f":"IF(ISNA(Lists!$J39),\"\",IF((INDIRECT(\"'\"&Lists!$J39&\"'!\"&Lists!$K39&AK$14))=\"\",\"\",(INDIRECT(\"'\"&Lists!$J39&\"'!\"&Lists!$K39&AK$14))))","v":""}]
[{"$f":"IF(B53=\"\",\"\",' Facility_Info upload'!$A$24)","v":""},{"$f":"IF(ISNA(Lists!$J40),\"\",IF(INDIRECT(\"'\"&Lists!$J40&\"'!\"&\"B\"&B$14)=\"\",\"\",(INDIRECT(\"'\"&Lists!$J40&\"'!\"&\"B\"&B$14))))","v":""},{"$f":"IF(ISNA(Lists!$J40),\"\",IF(INDIRECT(\"'\"&Lists!$J40&\"'!\"&\"B\"&C$14)=\"\",\"\",(INDIRECT(\"'\"&Lists!$J40&\"'!\"&\"B\"&C$14))))","v":""},{"$f":"IF(ISNA(Lists!$J40),\"\",IF(INDIRECT(\"'\"&Lists!$J40&\"'!\"&\"B\"&D$14)=\"\",\"\",(INDIRECT(\"'\"&Lists!$J40&\"'!\"&\"B\"&D$14))))","v":""},{"$f":"IF(ISNA(Lists!$J40),\"\",IF(INDIRECT(\"'\"&Lists!$J40&\"'!\"&\"B\"&E$14)=\"\",\"\",(INDIRECT(\"'\"&Lists!$J40&\"'!\"&\"B\"&E$14))))","v":""},{"$f":"IF(ISNA(Lists!$J40),\"\",IF(INDIRECT(\"'\"&Lists!$J40&\"'!\"&\"B\"&F$14)=\"\",\"\",(INDIRECT(\"'\"&Lists!$J40&\"'!\"&\"B\"&F$14))))","v":""},{"$f":"IF(ISNA(Lists!$J40),\"\",IF((INDIRECT(\"'\"&Lists!$J40&\"'!\"&Lists!$K40&G$14))=\"\",\"\",(INDIRECT(\"'\"&Lists!$J40&\"'!\"&Lists!$K40&G$14))))","v":""},{"$f":"IF(ISNA(Lists!$J40),\"\",IF((INDIRECT(\"'\"&Lists!$J40&\"'!\"&Lists!$K40&H$14))=\"\",\"\",(INDIRECT(\"'\"&Lists!$J40&\"'!\"&Lists!$K40&H$14))))","v":""},{"$f":"IF(ISNA(Lists!$J40),\"\",IF((INDIRECT(\"'\"&Lists!$J40&\"'!\"&Lists!$K40&I$14))=\"\",\"\",(INDIRECT(\"'\"&Lists!$J40&\"'!\"&Lists!$K40&I$14))))","v":""},{"$f":"IF(ISNA(Lists!$J40),\"\",IF((INDIRECT(\"'\"&Lists!$J40&\"'!\"&Lists!$K40&J$14))=\"\",\"\",(INDIRECT(\"'\"&Lists!$J40&\"'!\"&Lists!$K40&J$14))))","v":""},{"$f":"IF(ISNA(Lists!$J40),\"\",IF((INDIRECT(\"'\"&Lists!$J40&\"'!\"&Lists!$K40&K$14))=\"\",\"\",(INDIRECT(\"'\"&Lists!$J40&\"'!\"&Lists!$K40&K$14))))","v":""},{"$f":"IF(ISNA(Lists!$J40),\"\",IF((INDIRECT(\"'\"&Lists!$J40&\"'!\"&Lists!$K40&L$14))=\"\",\"\",(INDIRECT(\"'\"&Lists!$J40&\"'!\"&Lists!$K40&L$14))))","v":""},{"$f":"IF(ISNA(Lists!$J40),\"\",IF((INDIRECT(\"'\"&Lists!$J40&\"'!\"&Lists!$K40&M$14))=\"\",\"\",(INDIRECT(\"'\"&Lists!$J40&\"'!\"&Lists!$K40&M$14))))","v":""},{"$f":"IF(ISNA(Lists!$J40),\"\",IF((INDIRECT(\"'\"&Lists!$J40&\"'!\"&Lists!$K40&N$14))=\"\",\"\",(INDIRECT(\"'\"&Lists!$J40&\"'!\"&Lists!$K40&N$14))))","v":""},{"$f":"IF(ISNA(Lists!$J40),\"\",IF((INDIRECT(\"'\"&Lists!$J40&\"'!\"&Lists!$K40&O$14))=\"\",\"\",(INDIRECT(\"'\"&Lists!$J40&\"'!\"&Lists!$K40&O$14))))","v":""},{"$f":"IF(ISNA(Lists!$J40),\"\",IF((INDIRECT(\"'\"&Lists!$J40&\"'!\"&Lists!$K40&P$14))=\"\",\"\",(INDIRECT(\"'\"&Lists!$J40&\"'!\"&Lists!$K40&P$14))))","v":""},{"$f":"IF(ISNA(Lists!$J40),\"\",IF((INDIRECT(\"'\"&Lists!$J40&\"'!\"&Lists!$K40&Q$14))=\"\",\"\",(INDIRECT(\"'\"&Lists!$J40&\"'!\"&Lists!$K40&Q$14))))","v":""},{"$f":"IF(ISNA(Lists!$J40),\"\",IF((INDIRECT(\"'\"&Lists!$J40&\"'!\"&Lists!$K40&R$14))=\"\",\"\",(INDIRECT(\"'\"&Lists!$J40&\"'!\"&Lists!$K40&R$14))))","v":""},{"$f":"IF(ISNA(Lists!$J40),\"\",IF((INDIRECT(\"'\"&Lists!$J40&\"'!\"&Lists!$K40&S$14))=\"\",\"\",(INDIRECT(\"'\"&Lists!$J40&\"'!\"&Lists!$K40&S$14))))","v":""},{"$f":"IF(ISNA(Lists!$J40),\"\",IF((INDIRECT(\"'\"&Lists!$J40&\"'!\"&Lists!$K40&T$14))=\"\",\"\",(INDIRECT(\"'\"&Lists!$J40&\"'!\"&Lists!$K40&T$14))))","v":""},{"$f":"IF(ISNA(Lists!$J40),\"\",IF((INDIRECT(\"'\"&Lists!$J40&\"'!\"&Lists!$L40&U$14))=\"\",\"\",(INDIRECT(\"'\"&Lists!$J40&\"'!\"&Lists!$L40&U$14))))","v":""},{"$f":"IF(ISNA(Lists!$J40),\"\",IF((INDIRECT(\"'\"&Lists!$J40&\"'!\"&Lists!$L40&V$14))=\"\",\"\",(INDIRECT(\"'\"&Lists!$J40&\"'!\"&Lists!$L40&V$14))))","v":""},{"$f":"IF(ISNA(Lists!$J40),\"\",IF((INDIRECT(\"'\"&Lists!$J40&\"'!\"&Lists!$L40&W$14))=\"\",\"\",(INDIRECT(\"'\"&Lists!$J40&\"'!\"&Lists!$L40&W$14))))","v":""},{"$f":"IF(ISNA(Lists!$J40),\"\",IF((INDIRECT(\"'\"&Lists!$J40&\"'!\"&Lists!$L40&X$14))=\"\",\"\",(INDIRECT(\"'\"&Lists!$J40&\"'!\"&Lists!$L40&X$14))))","v":""},{"$f":"IF(ISNA(Lists!$J40),\"\",IF((INDIRECT(\"'\"&Lists!$J40&\"'!\"&Lists!$L40&Y$14))=\"\",\"\",(INDIRECT(\"'\"&Lists!$J40&\"'!\"&Lists!$L40&Y$14))))","v":""},{"$f":"IF(ISNA(Lists!$J40),\"\",IF((INDIRECT(\"'\"&Lists!$J40&\"'!\"&Lists!$L40&Z$14))=\"\",\"\",(INDIRECT(\"'\"&Lists!$J40&\"'!\"&Lists!$L40&Z$14))))","v":""},{"$f":"IF(ISNA(Lists!$J40),\"\",IF((INDIRECT(\"'\"&Lists!$J40&\"'!\"&Lists!$L40&AA$14))=\"\",\"\",(INDIRECT(\"'\"&Lists!$J40&\"'!\"&Lists!$L40&AA$14))))","v":""},{"$f":"IF(ISNA(Lists!$J40),\"\",IF((INDIRECT(\"'\"&Lists!$J40&\"'!\"&Lists!$K40&AB$14))=\"\",\"\",(INDIRECT(\"'\"&Lists!$J40&\"'!\"&Lists!$K40&AB$14))))","v":""},{"$f":"IF(ISNA(Lists!$J40),\"\",IF((INDIRECT(\"'\"&Lists!$J40&\"'!\"&Lists!$K40&AC$14))=\"\",\"\",(INDIRECT(\"'\"&Lists!$J40&\"'!\"&Lists!$K40&AC$14))))","v":""},{"$f":"IF(ISNA(Lists!$J40),\"\",IF((INDIRECT(\"'\"&Lists!$J40&\"'!\"&Lists!$K40&AD$14))=\"\",\"\",(INDIRECT(\"'\"&Lists!$J40&\"'!\"&Lists!$K40&AD$14))))","v":""},{"$f":"IF(ISNA(Lists!$J40),\"\",IF((INDIRECT(\"'\"&Lists!$J40&\"'!\"&Lists!$K40&AE$14))=\"\",\"\",(INDIRECT(\"'\"&Lists!$J40&\"'!\"&Lists!$K40&AE$14))))","v":""},{"$f":"IF(ISNA(Lists!$J40),\"\",IF((INDIRECT(\"'\"&Lists!$J40&\"'!\"&Lists!$K40&AF$14))=\"\",\"\",(INDIRECT(\"'\"&Lists!$J40&\"'!\"&Lists!$K40&AF$14))))","v":""},{"$f":"IF(ISNA(Lists!$J40),\"\",IF((INDIRECT(\"'\"&Lists!$J40&\"'!\"&Lists!$K40&AG$14))=\"\",\"\",(INDIRECT(\"'\"&Lists!$J40&\"'!\"&Lists!$K40&AG$14))))","v":""},{"$f":"IF(ISNA(Lists!$J40),\"\",IF((INDIRECT(\"'\"&Lists!$J40&\"'!\"&Lists!$K40&AH$14))=\"\",\"\",(INDIRECT(\"'\"&Lists!$J40&\"'!\"&Lists!$K40&AH$14))))","v":""},{"$f":"IF(ISNA(Lists!$J40),\"\",IF((INDIRECT(\"'\"&Lists!$J40&\"'!\"&Lists!$K40&AI$14))=\"\",\"\",(INDIRECT(\"'\"&Lists!$J40&\"'!\"&Lists!$K40&AI$14))))","v":""},{"$f":"IF(ISNA(Lists!$J40),\"\",IF((INDIRECT(\"'\"&Lists!$J40&\"'!\"&Lists!$K40&AJ$14))=\"\",\"\",(INDIRECT(\"'\"&Lists!$J40&\"'!\"&Lists!$K40&AJ$14))))","v":""},{"$f":"IF(ISNA(Lists!$J40),\"\",IF((INDIRECT(\"'\"&Lists!$J40&\"'!\"&Lists!$K40&AK$14))=\"\",\"\",(INDIRECT(\"'\"&Lists!$J40&\"'!\"&Lists!$K40&AK$14))))","v":""}]
[{"$f":"IF(B54=\"\",\"\",' Facility_Info upload'!$A$24)","v":""},{"$f":"IF(ISNA(Lists!$J41),\"\",IF(INDIRECT(\"'\"&Lists!$J41&\"'!\"&\"B\"&B$14)=\"\",\"\",(INDIRECT(\"'\"&Lists!$J41&\"'!\"&\"B\"&B$14))))","v":""},{"$f":"IF(ISNA(Lists!$J41),\"\",IF(INDIRECT(\"'\"&Lists!$J41&\"'!\"&\"B\"&C$14)=\"\",\"\",(INDIRECT(\"'\"&Lists!$J41&\"'!\"&\"B\"&C$14))))","v":""},{"$f":"IF(ISNA(Lists!$J41),\"\",IF(INDIRECT(\"'\"&Lists!$J41&\"'!\"&\"B\"&D$14)=\"\",\"\",(INDIRECT(\"'\"&Lists!$J41&\"'!\"&\"B\"&D$14))))","v":""},{"$f":"IF(ISNA(Lists!$J41),\"\",IF(INDIRECT(\"'\"&Lists!$J41&\"'!\"&\"B\"&E$14)=\"\",\"\",(INDIRECT(\"'\"&Lists!$J41&\"'!\"&\"B\"&E$14))))","v":""},{"$f":"IF(ISNA(Lists!$J41),\"\",IF(INDIRECT(\"'\"&Lists!$J41&\"'!\"&\"B\"&F$14)=\"\",\"\",(INDIRECT(\"'\"&Lists!$J41&\"'!\"&\"B\"&F$14))))","v":""},{"$f":"IF(ISNA(Lists!$J41),\"\",IF((INDIRECT(\"'\"&Lists!$J41&\"'!\"&Lists!$K41&G$14))=\"\",\"\",(INDIRECT(\"'\"&Lists!$J41&\"'!\"&Lists!$K41&G$14))))","v":""},{"$f":"IF(ISNA(Lists!$J41),\"\",IF((INDIRECT(\"'\"&Lists!$J41&\"'!\"&Lists!$K41&H$14))=\"\",\"\",(INDIRECT(\"'\"&Lists!$J41&\"'!\"&Lists!$K41&H$14))))","v":""},{"$f":"IF(ISNA(Lists!$J41),\"\",IF((INDIRECT(\"'\"&Lists!$J41&\"'!\"&Lists!$K41&I$14))=\"\",\"\",(INDIRECT(\"'\"&Lists!$J41&\"'!\"&Lists!$K41&I$14))))","v":""},{"$f":"IF(ISNA(Lists!$J41),\"\",IF((INDIRECT(\"'\"&Lists!$J41&\"'!\"&Lists!$K41&J$14))=\"\",\"\",(INDIRECT(\"'\"&Lists!$J41&\"'!\"&Lists!$K41&J$14))))","v":""},{"$f":"IF(ISNA(Lists!$J41),\"\",IF((INDIRECT(\"'\"&Lists!$J41&\"'!\"&Lists!$K41&K$14))=\"\",\"\",(INDIRECT(\"'\"&Lists!$J41&\"'!\"&Lists!$K41&K$14))))","v":""},{"$f":"IF(ISNA(Lists!$J41),\"\",IF((INDIRECT(\"'\"&Lists!$J41&\"'!\"&Lists!$K41&L$14))=\"\",\"\",(INDIRECT(\"'\"&Lists!$J41&\"'!\"&Lists!$K41&L$14))))","v":""},{"$f":"IF(ISNA(Lists!$J41),\"\",IF((INDIRECT(\"'\"&Lists!$J41&\"'!\"&Lists!$K41&M$14))=\"\",\"\",(INDIRECT(\"'\"&Lists!$J41&\"'!\"&Lists!$K41&M$14))))","v":""},{"$f":"IF(ISNA(Lists!$J41),\"\",IF((INDIRECT(\"'\"&Lists!$J41&\"'!\"&Lists!$K41&N$14))=\"\",\"\",(INDIRECT(\"'\"&Lists!$J41&\"'!\"&Lists!$K41&N$14))))","v":""},{"$f":"IF(ISNA(Lists!$J41),\"\",IF((INDIRECT(\"'\"&Lists!$J41&\"'!\"&Lists!$K41&O$14))=\"\",\"\",(INDIRECT(\"'\"&Lists!$J41&\"'!\"&Lists!$K41&O$14))))","v":""},{"$f":"IF(ISNA(Lists!$J41),\"\",IF((INDIRECT(\"'\"&Lists!$J41&\"'!\"&Lists!$K41&P$14))=\"\",\"\",(INDIRECT(\"'\"&Lists!$J41&\"'!\"&Lists!$K41&P$14))))","v":""},{"$f":"IF(ISNA(Lists!$J41),\"\",IF((INDIRECT(\"'\"&Lists!$J41&\"'!\"&Lists!$K41&Q$14))=\"\",\"\",(INDIRECT(\"'\"&Lists!$J41&\"'!\"&Lists!$K41&Q$14))))","v":""},{"$f":"IF(ISNA(Lists!$J41),\"\",IF((INDIRECT(\"'\"&Lists!$J41&\"'!\"&Lists!$K41&R$14))=\"\",\"\",(INDIRECT(\"'\"&Lists!$J41&\"'!\"&Lists!$K41&R$14))))","v":""},{"$f":"IF(ISNA(Lists!$J41),\"\",IF((INDIRECT(\"'\"&Lists!$J41&\"'!\"&Lists!$K41&S$14))=\"\",\"\",(INDIRECT(\"'\"&Lists!$J41&\"'!\"&Lists!$K41&S$14))))","v":""},{"$f":"IF(ISNA(Lists!$J41),\"\",IF((INDIRECT(\"'\"&Lists!$J41&\"'!\"&Lists!$K41&T$14))=\"\",\"\",(INDIRECT(\"'\"&Lists!$J41&\"'!\"&Lists!$K41&T$14))))","v":""},{"$f":"IF(ISNA(Lists!$J41),\"\",IF((INDIRECT(\"'\"&Lists!$J41&\"'!\"&Lists!$L41&U$14))=\"\",\"\",(INDIRECT(\"'\"&Lists!$J41&\"'!\"&Lists!$L41&U$14))))","v":""},{"$f":"IF(ISNA(Lists!$J41),\"\",IF((INDIRECT(\"'\"&Lists!$J41&\"'!\"&Lists!$L41&V$14))=\"\",\"\",(INDIRECT(\"'\"&Lists!$J41&\"'!\"&Lists!$L41&V$14))))","v":""},{"$f":"IF(ISNA(Lists!$J41),\"\",IF((INDIRECT(\"'\"&Lists!$J41&\"'!\"&Lists!$L41&W$14))=\"\",\"\",(INDIRECT(\"'\"&Lists!$J41&\"'!\"&Lists!$L41&W$14))))","v":""},{"$f":"IF(ISNA(Lists!$J41),\"\",IF((INDIRECT(\"'\"&Lists!$J41&\"'!\"&Lists!$L41&X$14))=\"\",\"\",(INDIRECT(\"'\"&Lists!$J41&\"'!\"&Lists!$L41&X$14))))","v":""},{"$f":"IF(ISNA(Lists!$J41),\"\",IF((INDIRECT(\"'\"&Lists!$J41&\"'!\"&Lists!$L41&Y$14))=\"\",\"\",(INDIRECT(\"'\"&Lists!$J41&\"'!\"&Lists!$L41&Y$14))))","v":""},{"$f":"IF(ISNA(Lists!$J41),\"\",IF((INDIRECT(\"'\"&Lists!$J41&\"'!\"&Lists!$L41&Z$14))=\"\",\"\",(INDIRECT(\"'\"&Lists!$J41&\"'!\"&Lists!$L41&Z$14))))","v":""},{"$f":"IF(ISNA(Lists!$J41),\"\",IF((INDIRECT(\"'\"&Lists!$J41&\"'!\"&Lists!$L41&AA$14))=\"\",\"\",(INDIRECT(\"'\"&Lists!$J41&\"'!\"&Lists!$L41&AA$14))))","v":""},{"$f":"IF(ISNA(Lists!$J41),\"\",IF((INDIRECT(\"'\"&Lists!$J41&\"'!\"&Lists!$K41&AB$14))=\"\",\"\",(INDIRECT(\"'\"&Lists!$J41&\"'!\"&Lists!$K41&AB$14))))","v":""},{"$f":"IF(ISNA(Lists!$J41),\"\",IF((INDIRECT(\"'\"&Lists!$J41&\"'!\"&Lists!$K41&AC$14))=\"\",\"\",(INDIRECT(\"'\"&Lists!$J41&\"'!\"&Lists!$K41&AC$14))))","v":""},{"$f":"IF(ISNA(Lists!$J41),\"\",IF((INDIRECT(\"'\"&Lists!$J41&\"'!\"&Lists!$K41&AD$14))=\"\",\"\",(INDIRECT(\"'\"&Lists!$J41&\"'!\"&Lists!$K41&AD$14))))","v":""},{"$f":"IF(ISNA(Lists!$J41),\"\",IF((INDIRECT(\"'\"&Lists!$J41&\"'!\"&Lists!$K41&AE$14))=\"\",\"\",(INDIRECT(\"'\"&Lists!$J41&\"'!\"&Lists!$K41&AE$14))))","v":""},{"$f":"IF(ISNA(Lists!$J41),\"\",IF((INDIRECT(\"'\"&Lists!$J41&\"'!\"&Lists!$K41&AF$14))=\"\",\"\",(INDIRECT(\"'\"&Lists!$J41&\"'!\"&Lists!$K41&AF$14))))","v":""},{"$f":"IF(ISNA(Lists!$J41),\"\",IF((INDIRECT(\"'\"&Lists!$J41&\"'!\"&Lists!$K41&AG$14))=\"\",\"\",(INDIRECT(\"'\"&Lists!$J41&\"'!\"&Lists!$K41&AG$14))))","v":""},{"$f":"IF(ISNA(Lists!$J41),\"\",IF((INDIRECT(\"'\"&Lists!$J41&\"'!\"&Lists!$K41&AH$14))=\"\",\"\",(INDIRECT(\"'\"&Lists!$J41&\"'!\"&Lists!$K41&AH$14))))","v":""},{"$f":"IF(ISNA(Lists!$J41),\"\",IF((INDIRECT(\"'\"&Lists!$J41&\"'!\"&Lists!$K41&AI$14))=\"\",\"\",(INDIRECT(\"'\"&Lists!$J41&\"'!\"&Lists!$K41&AI$14))))","v":""},{"$f":"IF(ISNA(Lists!$J41),\"\",IF((INDIRECT(\"'\"&Lists!$J41&\"'!\"&Lists!$K41&AJ$14))=\"\",\"\",(INDIRECT(\"'\"&Lists!$J41&\"'!\"&Lists!$K41&AJ$14))))","v":""},{"$f":"IF(ISNA(Lists!$J41),\"\",IF((INDIRECT(\"'\"&Lists!$J41&\"'!\"&Lists!$K41&AK$14))=\"\",\"\",(INDIRECT(\"'\"&Lists!$J41&\"'!\"&Lists!$K41&AK$14))))","v":""}]

{"sheet":"COMS1","index":7,"n_rows":49,"n_cols":9,"rows_kept":49,"cut":false,"hidden":true,"merged":[]}
["Summary Report – Gaseous and Opacity Excess Emissions and Continuous Monitoring System Performance"]
["Continuous Opacity Monitoring Systems and ESP Parameter Monitoring -- 40 CFR Part 63, Subpart MM"]
[null,null,null,"Tab Name:",{"$f":"MID(CELL(\"filename\",A1),FIND(\"]\",CELL(\"filename\",A1))+1,255)","v":"COMS1"}]
["Company and Site Name",{"$f":"' Facility_Info upload'!$B$24&\"--\"&' Facility_Info upload'!$C$24","v":"0--0"}]
["Reporting period dates (beginning date, ending date)",{"$f":"' Facility_Info upload'!$N$24&\" - \"&' Facility_Info upload'!$O$24","v":" - "}]
["Process Unit ID",{"$f":"INDEX(Unit_Info!$U$43:$U$62,MATCH(COMS1!$E$3,Unit_Info!$T$43:$T$62,0))","v":{"$error":"#N/A"}}]
["Process Unit Type",{"$f":"INDEX(Unit_Info!$V$43:$V$62,MATCH(COMS1!$E$3,Unit_Info!$T$43:$T$62,0))","v":{"$error":"#N/A"}}]
["Process Unit Description",{"$f":"INDEX(Unit_Info!$W$43:$W$62,MATCH(COMS1!$E$3,Unit_Info!$T$43:$T$62,0))","v":{"$error":"#N/A"}}]
["Air Pollution Control Device Type",{"$f":"INDEX(Unit_Info!$X$43:$X$62,MATCH(COMS1!$E$3,Unit_Info!$T$43:$T$62,0))","v":{"$error":"#N/A"}}]
["Total Source Operating Time* (minutes)"]
["*Includes all process unit operating time during the reporting period including startup/shutdown, malfunction, and all times when CMS are inoperative or producing invalid readings."]
["Emission Data Summary -- Opacity [§63.867(c)(1)(iv) and (vii)]"]
["Index Number",{"$f":"IF(B14=\"\",\"\",1)","v":""},null,{"$f":"IF(D14=\"\",\"\",B13+1)","v":""},null,{"$f":"IF(F14=\"\",\"\",MAX(B13:D13)+1)","v":""},null,{"$f":"IF(H14=\"\",\"\",MAX(B13:F13)+1)","v":""}]
["Process Unit Emission Point"]
["Operating parameter"]
["Opacity limit, %"]
["Mark with an \"X\" if no excess emissions or exceedances of a parameter have occurred during the reporting period. [§63.10(e)(3)(v)]"]
["Mark with an \"X\" if the CMS has not been inoperative, out of control, repaired, or adjusted during the reporting period. [§63.10(e)(3)(v)]"]
[null,"Duration","Count","Duration","Count","Duration","Count","Duration","Count"]
["1. Duration of excess emissions in reporting period due to:1","Minutes","6-min averages","Minutes","6-min averages","Minutes","6-min averages","Minutes","6-min averages"]
["a. Startup/Shutdown"]
["b. Control Equipment Problems"]
["c. Process Problems"]
["d. Other known causes"]
["e. Unknown causes"]
["2. Total duration of excess emissions",{"$f":"SUM(B21:B25)","v":0},{"$f":"SUM(C21:C25)-IF(B15=\"scrubber pressure drop\",C21,0)","v":0},{"$f":"SUM(D21:D25)","v":0},{"$f":"SUM(E21:E25)-IF(D15=\"scrubber pressure drop\",E21,0)","v":0},{"$f":"SUM(F21:F25)","v":0},{"$f":"SUM(G21:G25)-IF(F15=\"scrubber pressure drop\",G21,0)","v":0},{"$f":"SUM(H21:H25)","v":0},{"$f":"SUM(I21:I25)-IF(H15=\"scrubber pressure drop\",I21,0)","v":0}]
["3. (Total duration of excess emissions) / (Total Source Operating Time) x (100) %2",{"$f":"IF($B$10>0,B26/$B$10,0)","v":0},{"$f":"IF($B$10>0,C26/($B$10/6),0)","v":0},{"$f":"IF($B$10>0,D26/$B$10,0)","v":0},{"$f":"IF($B$10>0,E26/($B$10/6),0)","v":0},{"$f":"IF($B$10>0,F26/$B$10,0)","v":0},{"$f":"IF($B$10>0,G26/($B$10/6),0)","v":0},{"$f":"IF($B$10>0,H26/$B$10,0)","v":0},{"$f":"IF($B$10>0,I26/($B$10/6),0)","v":0}]
["Do excess emissions equal or exceed 1% of operating time?2",{"$f":"IF(B27>=0.01,\"Yes-Use detail form\",\"No\")","v":"No"},null,{"$f":"IF(D27>=0.01,\"Yes-Use detail form\",\"No\")","v":"No"},null,{"$f":"IF(F27>=0.01,\"Yes-Use detail form\",\"No\")","v":"No"},null,{"$f":"IF(H27>=0.01,\"Yes-Use detail form\",\"No\")","v":"No"}]
["Is the opacity violation level triggered?\nViolation level (count) = 2% or more of 6-min averages for recovery furnaces, or 3% or more of 6-min averages for lime kilns  [§63.864(k)(2)(i)-(ii)]",null,{"$f":"IF(C27>=VLOOKUP($B$15,Violations!$A$21:$D$22,4,FALSE),\"Yes-Use detail and failure forms\",\"No\")","v":{"$error":"#N/A"}},null,{"$f":"IF(E27>=VLOOKUP($D$15,Violations!$A$21:$D$22,4,FALSE),\"Yes-Use detail and failure forms\",\"No\")","v":{"$error":"#N/A"}},null,{"$f":"IF(G27>=VLOOKUP($F$15,Violations!$A$21:$D$22,4,FALSE),\"Yes-Use detail and failure forms\",\"No\")","v":{"$error":"#N/A"}},null,{"$f":"IF(I27>=VLOOKUP($H$15,Violations!$A$21:$D$22,4,FALSE),\"Yes-Use detail and failure forms\",\"No\")","v":{"$error":"#N/A"}}]
[" CMS Performance Summary [§63.867(c)(1)(viii)]"]
["Operating parameter",{"$f":"B15","v":0},null,{"$f":"D15","v":0},null,{"$f":"F15","v":0},null,{"$f":"H15","v":0}]
[null,"Duration",null,"Duration",null,"Duration",null,"Duration"]
["1. CMS downtime in reporting period due to:",{"$f":"B20","v":"Minutes"},null,{"$f":"D20","v":"Minutes"},null,{"$f":"F20","v":"Minutes"},null,{"$f":"H20","v":"Minutes"}]
["a. Monitoring equipment malfunctions"]
["b. Non-monitor equipment malfunctions"]
["c. Quality assurance/quality control calibration"]
["d. Other known causes"]
["e. Unknown causes"]
["2. Total CMS downtime",{"$f":"SUM(B34:B38)","v":0},null,0,null,0,null,0]
["3. (Total CMS downtime) / (Total Source Operating Time) x (100) %2",{"$f":"IF($B$10>0,B39/$B$10,0)","v":0},null,{"$f":"IF($B$10>0,D39/$B$10,0)","v":0},null,{"$f":"IF($B$10>0,F39/$B$10,0)","v":0},null,{"$f":"IF($B$10>0,H39/$B$10,0)","v":0}]
["Is total CMS downtime greater than 5% of total source operating time?2",{"$f":"IF(B40>0.05,\"Yes-Use detail report\",\"No\")","v":"No"},null,{"$f":"IF(D40>0.05,\"Yes-Use detail report\",\"No\")","v":"No"},null,{"$f":"IF(F40>0.05,\"Yes-Use detail report\",\"No\")","v":"No"},null,{"$f":"IF(H40>0.05,\"Yes-Use detail report\",\"No\")","v":"No"}]
["If detailed reporting is required, enter the type and/or filename of the detailed report provided"]
["1. Enter the duration of excess emissions and number of averaging periods recorded as excess emissions, excluding:  "]
["● Monitoring data recorded during periods of unavoidable CMS breakdowns, out-of-control periods, repairs, maintenance periods, calibration checks, and zero (low-level) and high level adjustments [§63.864(h)]"]
["● Monitoring data recorded during periods when spent liquor solids (for recovery furnaces) or lime mud (for kilns) is not fired. [§63.864(k)(1), (k)(2)]"]
["2. If the total duration of excess emissions is 1% or greater of the total operating time, or the total CMS downtime is 5% or greater of the total operating time, both the Summary Report and the Excess Emissions and "]
["Continuous Monitoring Systems Performance Report must be submitted for this CMS and process unit. See the orange CMS Performance Detail and Excess Emissions Detail tabs to complete the Excess Emissions and "]
["Continuous Monitoring Systems Performance Report. [§63.867(c)(1) and (3)]"]
["Count: Enter the number of 6-minute averaging periods recorded as excess emissions during the semiannual reporting period. "]

{"sheet":"COMS2","index":8,"n_rows":49,"n_cols":9,"rows_kept":49,"cut":false,"hidden":true,"merged":[]}
["Summary Report – Gaseous and Opacity Excess Emissions and Continuous Monitoring System Performance"]
["Continuous Opacity Monitoring Systems and ESP Parameter Monitoring -- 40 CFR Part 63, Subpart MM"]
[null,null,null,"Tab Name:",{"$f":"MID(CELL(\"filename\",A1),FIND(\"]\",CELL(\"filename\",A1))+1,255)","v":"COMS2"}]
["Company and Site Name",{"$f":"' Facility_Info upload'!$B$24&\"--\"&' Facility_Info upload'!$C$24","v":"0--0"}]
["Reporting period dates (beginning date, ending date)",{"$f":"' Facility_Info upload'!$N$24&\" - \"&' Facility_Info upload'!$O$24","v":" - "}]
["Process Unit ID",{"$f":"INDEX(Unit_Info!$U$43:$U$62,MATCH(COMS2!$E$3,Unit_Info!$T$43:$T$62,0))","v":{"$error":"#N/A"}}]
["Process Unit Type",{"$f":"INDEX(Unit_Info!$V$43:$V$62,MATCH(COMS2!$E$3,Unit_Info!$T$43:$T$62,0))","v":{"$error":"#N/A"}}]
["Process Unit Description",{"$f":"INDEX(Unit_Info!$W$43:$W$62,MATCH(COMS2!$E$3,Unit_Info!$T$43:$T$62,0))","v":{"$error":"#N/A"}}]
["Air Pollution Control Device Type",{"$f":"INDEX(Unit_Info!$X$43:$X$62,MATCH(COMS2!$E$3,Unit_Info!$T$43:$T$62,0))","v":{"$error":"#N/A"}}]
["Total Source Operating Time* (minutes)"]
["*Includes all process unit operating time during the reporting period including startup/shutdown, malfunction, and all times when CMS are inoperative or producing invalid readings."]
["Emission Data Summary -- Opacity [§63.867(c)(1)(iv) and (vii)]"]
["Index Number",{"$f":"IF(B14=\"\",\"\",MAX(COMS1!B13:H13)+1)","v":""},null,{"$f":"IF(D14=\"\",\"\",B13+1)","v":""},null,{"$f":"IF(F14=\"\",\"\",MAX(B13:D13)+1)","v":""},null,{"$f":"IF(H14=\"\",\"\",MAX(B13:F13)+1)","v":""}]
["Process Unit Emission Point"]
["Operating parameter"]
["Opacity limit, %"]
["Mark with an \"X\" if no excess emissions or exceedances of a parameter have occurred during the reporting period. [§63.10(e)(3)(v)]"]
["Mark with an \"X\" if the CMS has not been inoperative, out of control, repaired, or adjusted during the reporting period. [§63.10(e)(3)(v)]"]
[null,"Duration","Count","Duration","Count","Duration","Count","Duration","Count"]
["1. Duration of excess emissions in reporting period due to:1","Minutes","6-min averages","Minutes","6-min averages","Minutes","6-min averages","Minutes","6-min averages"]
["a. Startup/Shutdown"]
["b. Control Equipment Problems"]
["c. Process Problems"]
["d. Other known causes"]
["e. Unknown causes"]
["2. Total duration of excess emissions",{"$f":"SUM(B21:B25)","v":0},{"$f":"SUM(C21:C25)-IF(B15=\"scrubber pressure drop\",C21,0)","v":0},{"$f":"SUM(D21:D25)","v":0},{"$f":"SUM(E21:E25)-IF(D15=\"scrubber pressure drop\",E21,0)","v":0},{"$f":"SUM(F21:F25)","v":0},{"$f":"SUM(G21:G25)-IF(F15=\"scrubber pressure drop\",G21,0)","v":0},{"$f":"SUM(H21:H25)","v":0},{"$f":"SUM(I21:I25)-IF(H15=\"scrubber pressure drop\",I21,0)","v":0}]
["3. (Total duration of excess emissions) / (Total Source Operating Time) x (100) %2",{"$f":"IF($B$10>0,B26/$B$10,0)","v":0},{"$f":"IF($B$10>0,C26/($B$10/6),0)","v":0},{"$f":"IF($B$10>0,D26/$B$10,0)","v":0},{"$f":"IF($B$10>0,E26/($B$10/6),0)","v":0},{"$f":"IF($B$10>0,F26/$B$10,0)","v":0},{"$f":"IF($B$10>0,G26/($B$10/6),0)","v":0},{"$f":"IF($B$10>0,H26/$B$10,0)","v":0},{"$f":"IF($B$10>0,I26/($B$10/6),0)","v":0}]
["Do excess emissions equal or exceed 1% of operating time?2",{"$f":"IF(B27>=0.01,\"Yes-Use detail form\",\"No\")","v":"No"},null,{"$f":"IF(D27>=0.01,\"Yes-Use detail form\",\"No\")","v":"No"},null,{"$f":"IF(F27>=0.01,\"Yes-Use detail form\",\"No\")","v":"No"},null,{"$f":"IF(H27>=0.01,\"Yes-Use detail form\",\"No\")","v":"No"}]
["Is the opacity violation level triggered?\nViolation level (count) = 2% or more of 6-min averages for recovery furnaces, or 3% or more of 6-min averages for lime kilns  [§63.864(k)(2)(i)-(ii)]",null,{"$f":"IF(C27>=VLOOKUP($B$15,Violations!$A$21:$D$22,4,FALSE),\"Yes-Use detail and failure forms\",\"No\")","v":{"$error":"#N/A"}},null,{"$f":"IF(E27>=VLOOKUP($D$15,Violations!$A$21:$D$22,4,FALSE),\"Yes-Use detail and failure forms\",\"No\")","v":{"$error":"#N/A"}},null,{"$f":"IF(G27>=VLOOKUP($F$15,Violations!$A$21:$D$22,4,FALSE),\"Yes-Use detail and failure forms\",\"No\")","v":{"$error":"#N/A"}},null,{"$f":"IF(I27>=VLOOKUP($H$15,Violations!$A$21:$D$22,4,FALSE),\"Yes-Use detail and failure forms\",\"No\")","v":{"$error":"#N/A"}}]
[" CMS Performance Summary [§63.867(c)(1)(viii)]"]
["Operating parameter",{"$f":"B15","v":0},null,{"$f":"D15","v":0},null,{"$f":"F15","v":0},null,{"$f":"H15","v":0}]
[null,"Duration",null,"Duration",null,"Duration",null,"Duration"]
["1. CMS downtime in reporting period due to:",{"$f":"B20","v":"Minutes"},null,{"$f":"D20","v":"Minutes"},null,{"$f":"F20","v":"Minutes"},null,{"$f":"H20","v":"Minutes"}]
["a. Monitoring equipment malfunctions"]
["b. Non-monitor equipment malfunctions"]
["c. Quality assurance/quality control calibration"]
["d. Other known causes"]
["e. Unknown causes"]
["2. Total CMS downtime",{"$f":"SUM(B34:B38)","v":0},null,0,null,0,null,0]
["3. (Total CMS downtime) / (Total Source Operating Time) x (100) %2",{"$f":"IF($B$10>0,B39/$B$10,0)","v":0},null,{"$f":"IF($B$10>0,D39/$B$10,0)","v":0},null,{"$f":"IF($B$10>0,F39/$B$10,0)","v":0},null,{"$f":"IF($B$10>0,H39/$B$10,0)","v":0}]
["Is total CMS downtime greater than 5% of total source operating time?2",{"$f":"IF(B40>0.05,\"Yes-Use detail report\",\"No\")","v":"No"},null,{"$f":"IF(D40>0.05,\"Yes-Use detail report\",\"No\")","v":"No"},null,{"$f":"IF(F40>0.05,\"Yes-Use detail report\",\"No\")","v":"No"},null,{"$f":"IF(H40>0.05,\"Yes-Use detail report\",\"No\")","v":"No"}]
["If detailed reporting is required, enter the type and/or filename of the detailed report provided"]
["1. Enter the duration of excess emissions and number of averaging periods recorded as excess emissions, excluding:  "]
["● Monitoring data recorded during periods of unavoidable CMS breakdowns, out-of-control periods, repairs, maintenance periods, calibration checks, and zero (low-level) and high level adjustments [§63.864(h)]"]
["● Monitoring data recorded during periods when spent liquor solids (for recovery furnaces) or lime mud (for kilns) is not fired. [§63.864(k)(1), (k)(2)]"]
["2. If the total duration of excess emissions is 1% or greater of the total operating time, or the total CMS downtime is 5% or greater of the total operating time, both the Summary Report and the Excess Emissions and "]
["Continuous Monitoring Systems Performance Report must be submitted for this CMS and process unit. See the orange CMS Performance Detail and Excess Emissions Detail tabs to complete the Excess Emissions and "]
["Continuous Monitoring Systems Performance Report. [§63.867(c)(1) and (3)]"]
["Count: Enter the number of 6-minute averaging periods recorded as excess emissions during the semiannual reporting period. "]

{"sheet":"COMS3","index":9,"n_rows":49,"n_cols":9,"rows_kept":49,"cut":false,"hidden":true,"merged":[]}
["Summary Report – Gaseous and Opacity Excess Emissions and Continuous Monitoring System Performance"]
["Continuous Opacity Monitoring Systems and ESP Parameter Monitoring -- 40 CFR Part 63, Subpart MM"]
[null,null,null,"Tab Name:",{"$f":"MID(CELL(\"filename\",A1),FIND(\"]\",CELL(\"filename\",A1))+1,255)","v":"COMS3"}]
["Company and Site Name",{"$f":"' Facility_Info upload'!$B$24&\"--\"&' Facility_Info upload'!$C$24","v":"0--0"}]
["Reporting period dates (beginning date, ending date)",{"$f":"' Facility_Info upload'!$N$24&\" - \"&' Facility_Info upload'!$O$24","v":" - "}]
["Process Unit ID",{"$f":"INDEX(Unit_Info!$U$43:$U$62,MATCH(COMS3!$E$3,Unit_Info!$T$43:$T$62,0))","v":{"$error":"#N/A"}}]
["Process Unit Type",{"$f":"INDEX(Unit_Info!$V$43:$V$62,MATCH(COMS3!$E$3,Unit_Info!$T$43:$T$62,0))","v":{"$error":"#N/A"}}]
["Process Unit Description",{"$f":"INDEX(Unit_Info!$W$43:$W$62,MATCH(COMS3!$E$3,Unit_Info!$T$43:$T$62,0))","v":{"$error":"#N/A"}}]
["Air Pollution Control Device Type",{"$f":"INDEX(Unit_Info!$X$43:$X$62,MATCH(COMS3!$E$3,Unit_Info!$T$43:$T$62,0))","v":{"$error":"#N/A"}}]
["Total Source Operating Time* (minutes)"]
["*Includes all process unit operating time during the reporting period including startup/shutdown, malfunction, and all times when CMS are inoperative or producing invalid readings."]
["Emission Data Summary -- Opacity [§63.867(c)(1)(iv) and (vii)]"]
["Index Number",{"$f":"IF(B14=\"\",\"\",MAX(COMS1!B13:H13,COMS2!B13:H13)+1)","v":""},null,{"$f":"IF(D14=\"\",\"\",B13+1)","v":""},null,{"$f":"IF(F14=\"\",\"\",MAX(B13:D13)+1)","v":""},null,{"$f":"IF(H14=\"\",\"\",MAX(B13:F13)+1)","v":""}]
["Process Unit Emission Point"]
["Operating parameter"]
["Opacity limit, %"]
["Mark with an \"X\" if no excess emissions or exceedances of a parameter have occurred during the reporting period. [§63.10(e)(3)(v)]"]
["Mark with an \"X\" if the CMS has not been inoperative, out of control, repaired, or adjusted during the reporting period. [§63.10(e)(3)(v)]"]
[null,"Duration","Count","Duration","Count","Duration","Count","Duration","Count"]
["1. Duration of excess emissions in reporting period due to:1","Minutes","6-min averages","Minutes","6-min averages","Minutes","6-min averages","Minutes","6-min averages"]
["a. Startup/Shutdown"]
["b. Control Equipment Problems"]
["c. Process Problems"]
["d. Other known causes"]
["e. Unknown causes"]
["2. Total duration of excess emissions",{"$f":"SUM(B21:B25)","v":0},{"$f":"SUM(C21:C25)-IF(B15=\"scrubber pressure drop\",C21,0)","v":0},{"$f":"SUM(D21:D25)","v":0},{"$f":"SUM(E21:E25)-IF(D15=\"scrubber pressure drop\",E21,0)","v":0},{"$f":"SUM(F21:F25)","v":0},{"$f":"SUM(G21:G25)-IF(F15=\"scrubber pressure drop\",G21,0)","v":0},{"$f":"SUM(H21:H25)","v":0},{"$f":"SUM(I21:I25)-IF(H15=\"scrubber pressure drop\",I21,0)","v":0}]
["3. (Total duration of excess emissions) / (Total Source Operating Time) x (100) %2",{"$f":"IF($B$10>0,B26/$B$10,0)","v":0},{"$f":"IF($B$10>0,C26/($B$10/6),0)","v":0},{"$f":"IF($B$10>0,D26/$B$10,0)","v":0},{"$f":"IF($B$10>0,E26/($B$10/6),0)","v":0},{"$f":"IF($B$10>0,F26/$B$10,0)","v":0},{"$f":"IF($B$10>0,G26/($B$10/6),0)","v":0},{"$f":"IF($B$10>0,H26/$B$10,0)","v":0},{"$f":"IF($B$10>0,I26/($B$10/6),0)","v":0}]
["Do excess emissions equal or exceed 1% of operating time?2",{"$f":"IF(B27>=0.01,\"Yes-Use detail form\",\"No\")","v":"No"},null,{"$f":"IF(D27>=0.01,\"Yes-Use detail form\",\"No\")","v":"No"},null,{"$f":"IF(F27>=0.01,\"Yes-Use detail form\",\"No\")","v":"No"},null,{"$f":"IF(H27>=0.01,\"Yes-Use detail form\",\"No\")","v":"No"}]
["Is the opacity violation level triggered?\nViolation level (count) = 2% or more of 6-min averages for recovery furnaces, or 3% or more of 6-min averages for lime kilns  [§63.864(k)(2)(i)-(ii)]",null,{"$f":"IF(C27>=VLOOKUP($B$15,Violations!$A$21:$D$22,4,FALSE),\"Yes-Use detail and failure forms\",\"No\")","v":{"$error":"#N/A"}},null,{"$f":"IF(E27>=VLOOKUP($D$15,Violations!$A$21:$D$22,4,FALSE),\"Yes-Use detail and failure forms\",\"No\")","v":{"$error":"#N/A"}},null,{"$f":"IF(G27>=VLOOKUP($F$15,Violations!$A$21:$D$22,4,FALSE),\"Yes-Use detail and failure forms\",\"No\")","v":{"$error":"#N/A"}},null,{"$f":"IF(I27>=VLOOKUP($H$15,Violations!$A$21:$D$22,4,FALSE),\"Yes-Use detail and failure forms\",\"No\")","v":{"$error":"#N/A"}}]
[" CMS Performance Summary [§63.867(c)(1)(viii)]"]
["Operating parameter",{"$f":"B15","v":0},null,{"$f":"D15","v":0},null,{"$f":"F15","v":0},null,{"$f":"H15","v":0}]
[null,"Duration",null,"Duration",null,"Duration",null,"Duration"]
["1. CMS downtime in reporting period due to:",{"$f":"B20","v":"Minutes"},null,{"$f":"D20","v":"Minutes"},null,{"$f":"F20","v":"Minutes"},null,{"$f":"H20","v":"Minutes"}]
["a. Monitoring equipment malfunctions"]
["b. Non-monitor equipment malfunctions"]
["c. Quality assurance/quality control calibration"]
["d. Other known causes"]
["e. Unknown causes"]
["2. Total CMS downtime",{"$f":"SUM(B34:B38)","v":0},null,0,null,0,null,0]
["3. (Total CMS downtime) / (Total Source Operating Time) x (100) %2",{"$f":"IF($B$10>0,B39/$B$10,0)","v":0},null,{"$f":"IF($B$10>0,D39/$B$10,0)","v":0},null,{"$f":"IF($B$10>0,F39/$B$10,0)","v":0},null,{"$f":"IF($B$10>0,H39/$B$10,0)","v":0}]
["Is total CMS downtime greater than 5% of total source operating time?2",{"$f":"IF(B40>0.05,\"Yes-Use detail report\",\"No\")","v":"No"},null,{"$f":"IF(D40>0.05,\"Yes-Use detail report\",\"No\")","v":"No"},null,{"$f":"IF(F40>0.05,\"Yes-Use detail report\",\"No\")","v":"No"},null,{"$f":"IF(H40>0.05,\"Yes-Use detail report\",\"No\")","v":"No"}]
["If detailed reporting is required, enter the type and/or filename of the detailed report provided"]
["1. Enter the duration of excess emissions and number of averaging periods recorded as excess emissions, excluding:  "]
["● Monitoring data recorded during periods of unavoidable CMS breakdowns, out-of-control periods, repairs, maintenance periods, calibration checks, and zero (low-level) and high level adjustments [§63.864(h)]"]
["● Monitoring data recorded during periods when spent liquor solids (for recovery furnaces) or lime mud (for kilns) is not fired. [§63.864(k)(1), (k)(2)]"]
["2. If the total duration of excess emissions is 1% or greater of the total operating time, or the total CMS downtime is 5% or greater of the total operating time, both the Summary Report and the Excess Emissions and "]
["Continuous Monitoring Systems Performance Report must be submitted for this CMS and process unit. See the orange CMS Performance Detail and Excess Emissions Detail tabs to complete the Excess Emissions and "]
["Continuous Monitoring Systems Performance Report. [§63.867(c)(1) and (3)]"]
["Count: Enter the number of 6-minute averaging periods recorded as excess emissions during the semiannual reporting period. "]

{"sheet":"COMS4","index":10,"n_rows":49,"n_cols":9,"rows_kept":49,"cut":false,"hidden":true,"merged":[]}
["Summary Report – Gaseous and Opacity Excess Emissions and Continuous Monitoring System Performance"]
["Continuous Opacity Monitoring Systems and ESP Parameter Monitoring -- 40 CFR Part 63, Subpart MM"]
[null,null,null,"Tab Name:",{"$f":"MID(CELL(\"filename\",A1),FIND(\"]\",CELL(\"filename\",A1))+1,255)","v":"COMS4"}]
["Company and Site Name",{"$f":"' Facility_Info upload'!$B$24&\"--\"&' Facility_Info upload'!$C$24","v":"0--0"}]
["Reporting period dates (beginning date, ending date)",{"$f":"' Facility_Info upload'!$N$24&\" - \"&' Facility_Info upload'!$O$24","v":" - "}]
["Process Unit ID",{"$f":"INDEX(Unit_Info!$U$43:$U$62,MATCH(COMS4!$E$3,Unit_Info!$T$43:$T$62,0))","v":{"$error":"#N/A"}}]
["Process Unit Type",{"$f":"INDEX(Unit_Info!$V$43:$V$62,MATCH(COMS4!$E$3,Unit_Info!$T$43:$T$62,0))","v":{"$error":"#N/A"}}]
["Process Unit Description",{"$f":"INDEX(Unit_Info!$W$43:$W$62,MATCH(COMS4!$E$3,Unit_Info!$T$43:$T$62,0))","v":{"$error":"#N/A"}}]
["Air Pollution Control Device Type",{"$f":"INDEX(Unit_Info!$X$43:$X$62,MATCH(COMS4!$E$3,Unit_Info!$T$43:$T$62,0))","v":{"$error":"#N/A"}}]
["Total Source Operating Time* (minutes)"]
["*Includes all process unit operating time during the reporting period including startup/shutdown, malfunction, and all times when CMS are inoperative or producing invalid readings."]
["Emission Data Summary -- Opacity [§63.867(c)(1)(iv) and (vii)]"]
["Index Number",{"$f":"IF(B14=\"\",\"\",MAX(COMS1!B13:H13,COMS2!B13:H13,COMS3!B13:H13)+1)","v":""},null,{"$f":"IF(D14=\"\",\"\",B13+1)","v":""},null,{"$f":"IF(F14=\"\",\"\",MAX(B13:D13)+1)","v":""},null,{"$f":"IF(H14=\"\",\"\",MAX(B13:F13)+1)","v":""}]
["Process Unit Emission Point"]
["Operating parameter"]
["Opacity limit, %"]
["Mark with an \"X\" if no excess emissions or exceedances of a parameter have occurred during the reporting period. [§63.10(e)(3)(v)]"]
["Mark with an \"X\" if the CMS has not been inoperative, out of control, repaired, or adjusted during the reporting period. [§63.10(e)(3)(v)]"]
[null,"Duration","Count","Duration","Count","Duration","Count","Duration","Count"]
["1. Duration of excess emissions in reporting period due to:1","Minutes","6-min averages","Minutes","6-min averages","Minutes","6-min averages","Minutes","6-min averages"]
["a. Startup/Shutdown"]
["b. Control Equipment Problems"]
["c. Process Problems"]
["d. Other known causes"]
["e. Unknown causes"]
["2. Total duration of excess emissions",{"$f":"SUM(B21:B25)","v":0},{"$f":"SUM(C21:C25)-IF(B15=\"scrubber pressure drop\",C21,0)","v":0},{"$f":"SUM(D21:D25)","v":0},{"$f":"SUM(E21:E25)-IF(D15=\"scrubber pressure drop\",E21,0)","v":0},{"$f":"SUM(F21:F25)","v":0},{"$f":"SUM(G21:G25)-IF(F15=\"scrubber pressure drop\",G21,0)","v":0},{"$f":"SUM(H21:H25)","v":0},{"$f":"SUM(I21:I25)-IF(H15=\"scrubber pressure drop\",I21,0)","v":0}]
["3. (Total duration of excess emissions) / (Total Source Operating Time) x (100) %2",{"$f":"IF($B$10>0,B26/$B$10,0)","v":0},{"$f":"IF($B$10>0,C26/($B$10/6),0)","v":0},{"$f":"IF($B$10>0,D26/$B$10,0)","v":0},{"$f":"IF($B$10>0,E26/($B$10/6),0)","v":0},{"$f":"IF($B$10>0,F26/$B$10,0)","v":0},{"$f":"IF($B$10>0,G26/($B$10/6),0)","v":0},{"$f":"IF($B$10>0,H26/$B$10,0)","v":0},{"$f":"IF($B$10>0,I26/($B$10/6),0)","v":0}]
["Do excess emissions equal or exceed 1% of operating time?2",{"$f":"IF(B27>=0.01,\"Yes-Use detail form\",\"No\")","v":"No"},null,{"$f":"IF(D27>=0.01,\"Yes-Use detail form\",\"No\")","v":"No"},null,{"$f":"IF(F27>=0.01,\"Yes-Use detail form\",\"No\")","v":"No"},null,{"$f":"IF(H27>=0.01,\"Yes-Use detail form\",\"No\")","v":"No"}]
["Is the opacity violation level triggered?\nViolation level (count) = 2% or more of 6-min averages for recovery furnaces, or 3% or more of 6-min averages for lime kilns  [§63.864(k)(2)(i)-(ii)]",null,{"$f":"IF(C27>=VLOOKUP($B$15,Violations!$A$21:$D$22,4,FALSE),\"Yes-Use detail and failure forms\",\"No\")","v":{"$error":"#N/A"}},null,{"$f":"IF(E27>=VLOOKUP($D$15,Violations!$A$21:$D$22,4,FALSE),\"Yes-Use detail and failure forms\",\"No\")","v":{"$error":"#N/A"}},null,{"$f":"IF(G27>=VLOOKUP($F$15,Violations!$A$21:$D$22,4,FALSE),\"Yes-Use detail and failure forms\",\"No\")","v":{"$error":"#N/A"}},null,{"$f":"IF(I27>=VLOOKUP($H$15,Violations!$A$21:$D$22,4,FALSE),\"Yes-Use detail and failure forms\",\"No\")","v":{"$error":"#N/A"}}]
[" CMS Performance Summary [§63.867(c)(1)(viii)]"]
["Operating parameter",{"$f":"B15","v":0},null,{"$f":"D15","v":0},null,{"$f":"F15","v":0},null,{"$f":"H15","v":0}]
[null,"Duration",null,"Duration",null,"Duration",null,"Duration"]
["1. CMS downtime in reporting period due to:",{"$f":"B20","v":"Minutes"},null,{"$f":"D20","v":"Minutes"},null,{"$f":"F20","v":"Minutes"},null,{"$f":"H20","v":"Minutes"}]
["a. Monitoring equipment malfunctions"]
["b. Non-monitor equipment malfunctions"]
["c. Quality assurance/quality control calibration"]
["d. Other known causes"]
["e. Unknown causes"]
["2. Total CMS downtime",{"$f":"SUM(B34:B38)","v":0},null,0,null,0,null,0]
["3. (Total CMS downtime) / (Total Source Operating Time) x (100) %2",{"$f":"IF($B$10>0,B39/$B$10,0)","v":0},null,{"$f":"IF($B$10>0,D39/$B$10,0)","v":0},null,{"$f":"IF($B$10>0,F39/$B$10,0)","v":0},null,{"$f":"IF($B$10>0,H39/$B$10,0)","v":0}]
["Is total CMS downtime greater than 5% of total source operating time?2",{"$f":"IF(B40>0.05,\"Yes-Use detail report\",\"No\")","v":"No"},null,{"$f":"IF(D40>0.05,\"Yes-Use detail report\",\"No\")","v":"No"},null,{"$f":"IF(F40>0.05,\"Yes-Use detail report\",\"No\")","v":"No"},null,{"$f":"IF(H40>0.05,\"Yes-Use detail report\",\"No\")","v":"No"}]
["If detailed reporting is required, enter the type and/or filename of the detailed report provided"]
["1. Enter the duration of excess emissions and number of averaging periods recorded as excess emissions, excluding:  "]
["● Monitoring data recorded during periods of unavoidable CMS breakdowns, out-of-control periods, repairs, maintenance periods, calibration checks, and zero (low-level) and high level adjustments [§63.864(h)]"]
["● Monitoring data recorded during periods when spent liquor solids (for recovery furnaces) or lime mud (for kilns) is not fired. [§63.864(k)(1), (k)(2)]"]
["2. If the total duration of excess emissions is 1% or greater of the total operating time, or the total CMS downtime is 5% or greater of the total operating time, both the Summary Report and the Excess Emissions and "]
["Continuous Monitoring Systems Performance Report must be submitted for this CMS and process unit. See the orange CMS Performance Detail and Excess Emissions Detail tabs to complete the Excess Emissions and "]
["Continuous Monitoring Systems Performance Report. [§63.867(c)(1) and (3)]"]
["Count: Enter the number of 6-minute averaging periods recorded as excess emissions during the semiannual reporting period. "]

{"sheet":"COMS5","index":11,"n_rows":49,"n_cols":9,"rows_kept":49,"cut":false,"hidden":true,"merged":[]}
["Summary Report – Gaseous and Opacity Excess Emissions and Continuous Monitoring System Performance"]
["Continuous Opacity Monitoring Systems and ESP Parameter Monitoring -- 40 CFR Part 63, Subpart MM"]
[null,null,null,"Tab Name:",{"$f":"MID(CELL(\"filename\",A1),FIND(\"]\",CELL(\"filename\",A1))+1,255)","v":"COMS5"}]
["Company and Site Name",{"$f":"' Facility_Info upload'!$B$24&\"--\"&' Facility_Info upload'!$C$24","v":"0--0"}]
["Reporting period dates (beginning date, ending date)",{"$f":"' Facility_Info upload'!$N$24&\" - \"&' Facility_Info upload'!$O$24","v":" - "}]
["Process Unit ID",{"$f":"INDEX(Unit_Info!$U$43:$U$62,MATCH(COMS5!$E$3,Unit_Info!$T$43:$T$62,0))","v":{"$error":"#N/A"}}]
["Process Unit Type",{"$f":"INDEX(Unit_Info!$V$43:$V$62,MATCH(COMS5!$E$3,Unit_Info!$T$43:$T$62,0))","v":{"$error":"#N/A"}}]
["Process Unit Description",{"$f":"INDEX(Unit_Info!$W$43:$W$62,MATCH(COMS5!$E$3,Unit_Info!$T$43:$T$62,0))","v":{"$error":"#N/A"}}]
["Air Pollution Control Device Type",{"$f":"INDEX(Unit_Info!$X$43:$X$62,MATCH(COMS5!$E$3,Unit_Info!$T$43:$T$62,0))","v":{"$error":"#N/A"}}]
["Total Source Operating Time* (minutes)"]
["*Includes all process unit operating time during the reporting period including startup/shutdown, malfunction, and all times when CMS are inoperative or producing invalid readings."]
["Emission Data Summary -- Opacity [§63.867(c)(1)(iv) and (vii)]"]
["Index Number",{"$f":"IF(B14=\"\",\"\",MAX(COMS1!B13:H13,COMS2!B13:H13,COMS3!B13:H13,COMS4!B13:H13)+1)","v":""},null,{"$f":"IF(D14=\"\",\"\",B13+1)","v":""},null,{"$f":"IF(F14=\"\",\"\",MAX(B13:D13)+1)","v":""},null,{"$f":"IF(H14=\"\",\"\",MAX(B13:F13)+1)","v":""}]
["Process Unit Emission Point"]
["Operating parameter"]
["Opacity limit, %"]
["Mark with an \"X\" if no excess emissions or exceedances of a parameter have occurred during the reporting period. [§63.10(e)(3)(v)]"]
["Mark with an \"X\" if the CMS has not been inoperative, out of control, repaired, or adjusted during the reporting period. [§63.10(e)(3)(v)]"]
[null,"Duration","Count","Duration","Count","Duration","Count","Duration","Count"]
["1. Duration of excess emissions in reporting period due to:1","Minutes","6-min averages","Minutes","6-min averages","Minutes","6-min averages","Minutes","6-min averages"]
["a. Startup/Shutdown"]
["b. Control Equipment Problems"]
["c. Process Problems"]
["d. Other known causes"]
["e. Unknown causes"]
["2. Total duration of excess emissions",{"$f":"SUM(B21:B25)","v":0},{"$f":"SUM(C21:C25)-IF(B15=\"scrubber pressure drop\",C21,0)","v":0},{"$f":"SUM(D21:D25)","v":0},{"$f":"SUM(E21:E25)-IF(D15=\"scrubber pressure drop\",E21,0)","v":0},{"$f":"SUM(F21:F25)","v":0},{"$f":"SUM(G21:G25)-IF(F15=\"scrubber pressure drop\",G21,0)","v":0},{"$f":"SUM(H21:H25)","v":0},{"$f":"SUM(I21:I25)-IF(H15=\"scrubber pressure drop\",I21,0)","v":0}]
["3. (Total duration of excess emissions) / (Total Source Operating Time) x (100) %2",{"$f":"IF($B$10>0,B26/$B$10,0)","v":0},{"$f":"IF($B$10>0,C26/($B$10/6),0)","v":0},{"$f":"IF($B$10>0,D26/$B$10,0)","v":0},{"$f":"IF($B$10>0,E26/($B$10/6),0)","v":0},{"$f":"IF($B$10>0,F26/$B$10,0)","v":0},{"$f":"IF($B$10>0,G26/($B$10/6),0)","v":0},{"$f":"IF($B$10>0,H26/$B$10,0)","v":0},{"$f":"IF($B$10>0,I26/($B$10/6),0)","v":0}]
["Do excess emissions equal or exceed 1% of operating time?2",{"$f":"IF(B27>=0.01,\"Yes-Use detail form\",\"No\")","v":"No"},null,{"$f":"IF(D27>=0.01,\"Yes-Use detail form\",\"No\")","v":"No"},null,{"$f":"IF(F27>=0.01,\"Yes-Use detail form\",\"No\")","v":"No"},null,{"$f":"IF(H27>=0.01,\"Yes-Use detail form\",\"No\")","v":"No"}]
["Is the opacity violation level triggered?\nViolation level (count) = 2% or more of 6-min averages for recovery furnaces, or 3% or more of 6-min averages for lime kilns  [§63.864(k)(2)(i)-(ii)]",null,{"$f":"IF(C27>=VLOOKUP($B$15,Violations!$A$21:$D$22,4,FALSE),\"Yes-Use detail and failure forms\",\"No\")","v":{"$error":"#N/A"}},null,{"$f":"IF(E27>=VLOOKUP($D$15,Violations!$A$21:$D$22,4,FALSE),\"Yes-Use detail and failure forms\",\"No\")","v":{"$error":"#N/A"}},null,{"$f":"IF(G27>=VLOOKUP($F$15,Violations!$A$21:$D$22,4,FALSE),\"Yes-Use detail and failure forms\",\"No\")","v":{"$error":"#N/A"}},null,{"$f":"IF(I27>=VLOOKUP($H$15,Violations!$A$21:$D$22,4,FALSE),\"Yes-Use detail and failure forms\",\"No\")","v":{"$error":"#N/A"}}]
[" CMS Performance Summary [§63.867(c)(1)(viii)]"]
["Operating parameter",{"$f":"B15","v":0},null,{"$f":"D15","v":0},null,{"$f":"F15","v":0},null,{"$f":"H15","v":0}]
[null,"Duration",null,"Duration",null,"Duration",null,"Duration"]
["1. CMS downtime in reporting period due to:",{"$f":"B20","v":"Minutes"},null,{"$f":"D20","v":"Minutes"},null,{"$f":"F20","v":"Minutes"},null,{"$f":"H20","v":"Minutes"}]
["a. Monitoring equipment malfunctions"]
["b. Non-monitor equipment malfunctions"]
["c. Quality assurance/quality control calibration"]
["d. Other known causes"]
["e. Unknown causes"]
["2. Total CMS downtime",{"$f":"SUM(B34:B38)","v":0},null,0,null,0,null,0]
["3. (Total CMS downtime) / (Total Source Operating Time) x (100) %2",{"$f":"IF($B$10>0,B39/$B$10,0)","v":0},null,{"$f":"IF($B$10>0,D39/$B$10,0)","v":0},null,{"$f":"IF($B$10>0,F39/$B$10,0)","v":0},null,{"$f":"IF($B$10>0,H39/$B$10,0)","v":0}]
["Is total CMS downtime greater than 5% of total source operating time?2",{"$f":"IF(B40>0.05,\"Yes-Use detail report\",\"No\")","v":"No"},null,{"$f":"IF(D40>0.05,\"Yes-Use detail report\",\"No\")","v":"No"},null,{"$f":"IF(F40>0.05,\"Yes-Use detail report\",\"No\")","v":"No"},null,{"$f":"IF(H40>0.05,\"Yes-Use detail report\",\"No\")","v":"No"}]
["If detailed reporting is required, enter the type and/or filename of the detailed report provided"]
["1. Enter the duration of excess emissions and number of averaging periods recorded as excess emissions, excluding:  "]
["● Monitoring data recorded during periods of unavoidable CMS breakdowns, out-of-control periods, repairs, maintenance periods, calibration checks, and zero (low-level) and high level adjustments [§63.864(h)]"]
["● Monitoring data recorded during periods when spent liquor solids (for recovery furnaces) or lime mud (for kilns) is not fired. [§63.864(k)(1), (k)(2)]"]
["2. If the total duration of excess emissions is 1% or greater of the total operating time, or the total CMS downtime is 5% or greater of the total operating time, both the Summary Report and the Excess Emissions and "]
["Continuous Monitoring Systems Performance Report must be submitted for this CMS and process unit. See the orange CMS Performance Detail and Excess Emissions Detail tabs to complete the Excess Emissions and "]
["Continuous Monitoring Systems Performance Report. [§63.867(c)(1) and (3)]"]
["Count: Enter the number of 6-minute averaging periods recorded as excess emissions during the semiannual reporting period. "]

{"sheet":"COMS6","index":12,"n_rows":49,"n_cols":9,"rows_kept":49,"cut":false,"hidden":true,"merged":[]}
["Summary Report – Gaseous and Opacity Excess Emissions and Continuous Monitoring System Performance"]
["Continuous Opacity Monitoring Systems and ESP Parameter Monitoring -- 40 CFR Part 63, Subpart MM"]
[null,null,null,"Tab Name:",{"$f":"MID(CELL(\"filename\",A1),FIND(\"]\",CELL(\"filename\",A1))+1,255)","v":"COMS6"}]
["Company and Site Name",{"$f":"' Facility_Info upload'!$B$24&\"--\"&' Facility_Info upload'!$C$24","v":"0--0"}]
["Reporting period dates (beginning date, ending date)",{"$f":"' Facility_Info upload'!$N$24&\" - \"&' Facility_Info upload'!$O$24","v":" - "}]
["Process Unit ID",{"$f":"INDEX(Unit_Info!$U$43:$U$62,MATCH(COMS6!$E$3,Unit_Info!$T$43:$T$62,0))","v":{"$error":"#N/A"}}]
["Process Unit Type",{"$f":"INDEX(Unit_Info!$V$43:$V$62,MATCH(COMS6!$E$3,Unit_Info!$T$43:$T$62,0))","v":{"$error":"#N/A"}}]
["Process Unit Description",{"$f":"INDEX(Unit_Info!$W$43:$W$62,MATCH(COMS6!$E$3,Unit_Info!$T$43:$T$62,0))","v":{"$error":"#N/A"}}]
["Air Pollution Control Device Type",{"$f":"INDEX(Unit_Info!$X$43:$X$62,MATCH(COMS6!$E$3,Unit_Info!$T$43:$T$62,0))","v":{"$error":"#N/A"}}]
["Total Source Operating Time* (minutes)"]
["*Includes all process unit operating time during the reporting period including startup/shutdown, malfunction, and all times when CMS are inoperative or producing invalid readings."]
["Emission Data Summary -- Opacity [§63.867(c)(1)(iv) and (vii)]"]
["Index Number",{"$f":"IF(B14=\"\",\"\",MAX(COMS1!B13:H13,COMS2!B13:H13,COMS3!B13:H13,COMS4!B13:H13,COMS5!B13:H13)+1)","v":""},null,{"$f":"IF(D14=\"\",\"\",B13+1)","v":""},null,{"$f":"IF(F14=\"\",\"\",MAX(B13:D13)+1)","v":""},null,{"$f":"IF(H14=\"\",\"\",MAX(B13:F13)+1)","v":""}]
["Process Unit Emission Point"]
["Operating parameter"]
["Opacity limit, %"]
["Mark with an \"X\" if no excess emissions or exceedances of a parameter have occurred during the reporting period. [§63.10(e)(3)(v)]"]
["Mark with an \"X\" if the CMS has not been inoperative, out of control, repaired, or adjusted during the reporting period. [§63.10(e)(3)(v)]"]
[null,"Duration","Count","Duration","Count","Duration","Count","Duration","Count"]
["1. Duration of excess emissions in reporting period due to:1","Minutes","6-min averages","Minutes","6-min averages","Minutes","6-min averages","Minutes","6-min averages"]
["a. Startup/Shutdown"]
["b. Control Equipment Problems"]
["c. Process Problems"]
["d. Other known causes"]
["e. Unknown causes"]
["2. Total duration of excess emissions",{"$f":"SUM(B21:B25)","v":0},{"$f":"SUM(C21:C25)-IF(B15=\"scrubber pressure drop\",C21,0)","v":0},{"$f":"SUM(D21:D25)","v":0},{"$f":"SUM(E21:E25)-IF(D15=\"scrubber pressure drop\",E21,0)","v":0},{"$f":"SUM(F21:F25)","v":0},{"$f":"SUM(G21:G25)-IF(F15=\"scrubber pressure drop\",G21,0)","v":0},{"$f":"SUM(H21:H25)","v":0},{"$f":"SUM(I21:I25)-IF(H15=\"scrubber pressure drop\",I21,0)","v":0}]
["3. (Total duration of excess emissions) / (Total Source Operating Time) x (100) %2",{"$f":"IF($B$10>0,B26/$B$10,0)","v":0},{"$f":"IF($B$10>0,C26/($B$10/6),0)","v":0},{"$f":"IF($B$10>0,D26/$B$10,0)","v":0},{"$f":"IF($B$10>0,E26/($B$10/6),0)","v":0},{"$f":"IF($B$10>0,F26/$B$10,0)","v":0},{"$f":"IF($B$10>0,G26/($B$10/6),0)","v":0},{"$f":"IF($B$10>0,H26/$B$10,0)","v":0},{"$f":"IF($B$10>0,I26/($B$10/6),0)","v":0}]
["Do excess emissions equal or exceed 1% of operating time?2",{"$f":"IF(B27>=0.01,\"Yes-Use detail form\",\"No\")","v":"No"},null,{"$f":"IF(D27>=0.01,\"Yes-Use detail form\",\"No\")","v":"No"},null,{"$f":"IF(F27>=0.01,\"Yes-Use detail form\",\"No\")","v":"No"},null,{"$f":"IF(H27>=0.01,\"Yes-Use detail form\",\"No\")","v":"No"}]
["Is the opacity violation level triggered?\nViolation level (count) = 2% or more of 6-min averages for recovery furnaces, or 3% or more of 6-min averages for lime kilns  [§63.864(k)(2)(i)-(ii)]",null,{"$f":"IF(C27>=VLOOKUP($B$15,Violations!$A$21:$D$22,4,FALSE),\"Yes-Use detail and failure forms\",\"No\")","v":{"$error":"#N/A"}},null,{"$f":"IF(E27>=VLOOKUP($D$15,Violations!$A$21:$D$22,4,FALSE),\"Yes-Use detail and failure forms\",\"No\")","v":{"$error":"#N/A"}},null,{"$f":"IF(G27>=VLOOKUP($F$15,Violations!$A$21:$D$22,4,FALSE),\"Yes-Use detail and failure forms\",\"No\")","v":{"$error":"#N/A"}},null,{"$f":"IF(I27>=VLOOKUP($H$15,Violations!$A$21:$D$22,4,FALSE),\"Yes-Use detail and failure forms\",\"No\")","v":{"$error":"#N/A"}}]
[" CMS Performance Summary [§63.867(c)(1)(viii)]"]
["Operating parameter",{"$f":"B15","v":0},null,{"$f":"D15","v":0},null,{"$f":"F15","v":0},null,{"$f":"H15","v":0}]
[null,"Duration",null,"Duration",null,"Duration",null,"Duration"]
["1. CMS downtime in reporting period due to:",{"$f":"B20","v":"Minutes"},null,{"$f":"D20","v":"Minutes"},null,{"$f":"F20","v":"Minutes"},null,{"$f":"H20","v":"Minutes"}]
["a. Monitoring equipment malfunctions"]
["b. Non-monitor equipment malfunctions"]
["c. Quality assurance/quality control calibration"]
["d. Other known causes"]
["e. Unknown causes"]
["2. Total CMS downtime",{"$f":"SUM(B34:B38)","v":0},null,0,null,0,null,0]
["3. (Total CMS downtime) / (Total Source Operating Time) x (100) %2",{"$f":"IF($B$10>0,B39/$B$10,0)","v":0},null,{"$f":"IF($B$10>0,D39/$B$10,0)","v":0},null,{"$f":"IF($B$10>0,F39/$B$10,0)","v":0},null,{"$f":"IF($B$10>0,H39/$B$10,0)","v":0}]
["Is total CMS downtime greater than 5% of total source operating time?2",{"$f":"IF(B40>0.05,\"Yes-Use detail report\",\"No\")","v":"No"},null,{"$f":"IF(D40>0.05,\"Yes-Use detail report\",\"No\")","v":"No"},null,{"$f":"IF(F40>0.05,\"Yes-Use detail report\",\"No\")","v":"No"},null,{"$f":"IF(H40>0.05,\"Yes-Use detail report\",\"No\")","v":"No"}]
["If detailed reporting is required, enter the type and/or filename of the detailed report provided"]
["1. Enter the duration of excess emissions and number of averaging periods recorded as excess emissions, excluding:  "]
["● Monitoring data recorded during periods of unavoidable CMS breakdowns, out-of-control periods, repairs, maintenance periods, calibration checks, and zero (low-level) and high level adjustments [§63.864(h)]"]
["● Monitoring data recorded during periods when spent liquor solids (for recovery furnaces) or lime mud (for kilns) is not fired. [§63.864(k)(1), (k)(2)]"]
["2. If the total duration of excess emissions is 1% or greater of the total operating time, or the total CMS downtime is 5% or greater of the total operating time, both the Summary Report and the Excess Emissions and "]
["Continuous Monitoring Systems Performance Report must be submitted for this CMS and process unit. See the orange CMS Performance Detail and Excess Emissions Detail tabs to complete the Excess Emissions and "]
["Continuous Monitoring Systems Performance Report. [§63.867(c)(1) and (3)]"]
["Count: Enter the number of 6-minute averaging periods recorded as excess emissions during the semiannual reporting period. "]

{"sheet":"COMS7","index":13,"n_rows":49,"n_cols":9,"rows_kept":49,"cut":false,"hidden":true,"merged":[]}
["Summary Report – Gaseous and Opacity Excess Emissions and Continuous Monitoring System Performance"]
["Continuous Opacity Monitoring Systems and ESP Parameter Monitoring -- 40 CFR Part 63, Subpart MM"]
[null,null,null,"Tab Name:",{"$f":"MID(CELL(\"filename\",A1),FIND(\"]\",CELL(\"filename\",A1))+1,255)","v":"COMS7"}]
["Company and Site Name",{"$f":"' Facility_Info upload'!$B$24&\"--\"&' Facility_Info upload'!$C$24","v":"0--0"}]
["Reporting period dates (beginning date, ending date)",{"$f":"' Facility_Info upload'!$N$24&\" - \"&' Facility_Info upload'!$O$24","v":" - "}]
["Process Unit ID",{"$f":"INDEX(Unit_Info!$U$43:$U$62,MATCH(COMS7!$E$3,Unit_Info!$T$43:$T$62,0))","v":{"$error":"#N/A"}}]
["Process Unit Type",{"$f":"INDEX(Unit_Info!$V$43:$V$62,MATCH(COMS7!$E$3,Unit_Info!$T$43:$T$62,0))","v":{"$error":"#N/A"}}]
["Process Unit Description",{"$f":"INDEX(Unit_Info!$W$43:$W$62,MATCH(COMS7!$E$3,Unit_Info!$T$43:$T$62,0))","v":{"$error":"#N/A"}}]
["Air Pollution Control Device Type",{"$f":"INDEX(Unit_Info!$X$43:$X$62,MATCH(COMS7!$E$3,Unit_Info!$T$43:$T$62,0))","v":{"$error":"#N/A"}}]
["Total Source Operating Time* (minutes)"]
["*Includes all process unit operating time during the reporting period including startup/shutdown, malfunction, and all times when CMS are inoperative or producing invalid readings."]
["Emission Data Summary -- Opacity [§63.867(c)(1)(iv) and (vii)]"]
["Index Number",{"$f":"IF(B14=\"\",\"\",MAX(COMS1!B13:H13,COMS2!B13:H13,COMS3!B13:H13,COMS4!B13:H13,COMS5!B13:H13,COMS6!B13:H13)+1)","v":""},null,{"$f":"IF(D14=\"\",\"\",B13+1)","v":""},null,{"$f":"IF(F14=\"\",\"\",MAX(B13:D13)+1)","v":""},null,{"$f":"IF(H14=\"\",\"\",MAX(B13:F13)+1)","v":""}]
["Process Unit Emission Point"]
["Operating parameter"]
["Opacity limit, %"]
["Mark with an \"X\" if no excess emissions or exceedances of a parameter have occurred during the reporting period. [§63.10(e)(3)(v)]"]
["Mark with an \"X\" if the CMS has not been inoperative, out of control, repaired, or adjusted during the reporting period. [§63.10(e)(3)(v)]"]
[null,"Duration","Count","Duration","Count","Duration","Count","Duration","Count"]
["1. Duration of excess emissions in reporting period due to:1","Minutes","6-min averages","Minutes","6-min averages","Minutes","6-min averages","Minutes","6-min averages"]
["a. Startup/Shutdown"]
["b. Control Equipment Problems"]
["c. Process Problems"]
["d. Other known causes"]
["e. Unknown causes"]
["2. Total duration of excess emissions",{"$f":"SUM(B21:B25)","v":0},{"$f":"SUM(C21:C25)-IF(B15=\"scrubber pressure drop\",C21,0)","v":0},{"$f":"SUM(D21:D25)","v":0},{"$f":"SUM(E21:E25)-IF(D15=\"scrubber pressure drop\",E21,0)","v":0},{"$f":"SUM(F21:F25)","v":0},{"$f":"SUM(G21:G25)-IF(F15=\"scrubber pressure drop\",G21,0)","v":0},{"$f":"SUM(H21:H25)","v":0},{"$f":"SUM(I21:I25)-IF(H15=\"scrubber pressure drop\",I21,0)","v":0}]
["3. (Total duration of excess emissions) / (Total Source Operating Time) x (100) %2",{"$f":"IF($B$10>0,B26/$B$10,0)","v":0},{"$f":"IF($B$10>0,C26/($B$10/6),0)","v":0},{"$f":"IF($B$10>0,D26/$B$10,0)","v":0},{"$f":"IF($B$10>0,E26/($B$10/6),0)","v":0},{"$f":"IF($B$10>0,F26/$B$10,0)","v":0},{"$f":"IF($B$10>0,G26/($B$10/6),0)","v":0},{"$f":"IF($B$10>0,H26/$B$10,0)","v":0},{"$f":"IF($B$10>0,I26/($B$10/6),0)","v":0}]
["Do excess emissions equal or exceed 1% of operating time?2",{"$f":"IF(B27>=0.01,\"Yes-Use detail form\",\"No\")","v":"No"},null,{"$f":"IF(D27>=0.01,\"Yes-Use detail form\",\"No\")","v":"No"},null,{"$f":"IF(F27>=0.01,\"Yes-Use detail form\",\"No\")","v":"No"},null,{"$f":"IF(H27>=0.01,\"Yes-Use detail form\",\"No\")","v":"No"}]
["Is the opacity violation level triggered?\nViolation level (count) = 2% or more of 6-min averages for recovery furnaces, or 3% or more of 6-min averages for lime kilns  [§63.864(k)(2)(i)-(ii)]",null,{"$f":"IF(C27>=VLOOKUP($B$15,Violations!$A$21:$D$22,4,FALSE),\"Yes-Use detail and failure forms\",\"No\")","v":{"$error":"#N/A"}},null,{"$f":"IF(E27>=VLOOKUP($D$15,Violations!$A$21:$D$22,4,FALSE),\"Yes-Use detail and failure forms\",\"No\")","v":{"$error":"#N/A"}},null,{"$f":"IF(G27>=VLOOKUP($F$15,Violations!$A$21:$D$22,4,FALSE),\"Yes-Use detail and failure forms\",\"No\")","v":{"$error":"#N/A"}},null,{"$f":"IF(I27>=VLOOKUP($H$15,Violations!$A$21:$D$22,4,FALSE),\"Yes-Use detail and failure forms\",\"No\")","v":{"$error":"#N/A"}}]
[" CMS Performance Summary [§63.867(c)(1)(viii)]"]
["Operating parameter",{"$f":"B15","v":0},null,{"$f":"D15","v":0},null,{"$f":"F15","v":0},null,{"$f":"H15","v":0}]
[null,"Duration",null,"Duration",null,"Duration",null,"Duration"]
["1. CMS downtime in reporting period due to:",{"$f":"B20","v":"Minutes"},null,{"$f":"D20","v":"Minutes"},null,{"$f":"F20","v":"Minutes"},null,{"$f":"H20","v":"Minutes"}]
["a. Monitoring equipment malfunctions"]
["b. Non-monitor equipment malfunctions"]
["c. Quality assurance/quality control calibration"]
["d. Other known causes"]
["e. Unknown causes"]
["2. Total CMS downtime",{"$f":"SUM(B34:B38)","v":0},null,0,null,0,null,0]
["3. (Total CMS downtime) / (Total Source Operating Time) x (100) %2",{"$f":"IF($B$10>0,B39/$B$10,0)","v":0},null,{"$f":"IF($B$10>0,D39/$B$10,0)","v":0},null,{"$f":"IF($B$10>0,F39/$B$10,0)","v":0},null,{"$f":"IF($B$10>0,H39/$B$10,0)","v":0}]
["Is total CMS downtime greater than 5% of total source operating time?2",{"$f":"IF(B40>0.05,\"Yes-Use detail report\",\"No\")","v":"No"},null,{"$f":"IF(D40>0.05,\"Yes-Use detail report\",\"No\")","v":"No"},null,{"$f":"IF(F40>0.05,\"Yes-Use detail report\",\"No\")","v":"No"},null,{"$f":"IF(H40>0.05,\"Yes-Use detail report\",\"No\")","v":"No"}]
["If detailed reporting is required, enter the type and/or filename of the detailed report provided"]
["1. Enter the duration of excess emissions and number of averaging periods recorded as excess emissions, excluding:  "]
["● Monitoring data recorded during periods of unavoidable CMS breakdowns, out-of-control periods, repairs, maintenance periods, calibration checks, and zero (low-level) and high level adjustments [§63.864(h)]"]
["● Monitoring data recorded during periods when spent liquor solids (for recovery furnaces) or lime mud (for kilns) is not fired. [§63.864(k)(1), (k)(2)]"]
["2. If the total duration of excess emissions is 1% or greater of the total operating time, or the total CMS downtime is 5% or greater of the total operating time, both the Summary Report and the Excess Emissions and "]
["Continuous Monitoring Systems Performance Report must be submitted for this CMS and process unit. See the orange CMS Performance Detail and Excess Emissions Detail tabs to complete the Excess Emissions and "]
["Continuous Monitoring Systems Performance Report. [§63.867(c)(1) and (3)]"]
["Count: Enter the number of 6-minute averaging periods recorded as excess emissions during the semiannual reporting period. "]

{"sheet":"COMS8","index":14,"n_rows":49,"n_cols":9,"rows_kept":49,"cut":false,"hidden":true,"merged":[]}
["Summary Report – Gaseous and Opacity Excess Emissions and Continuous Monitoring System Performance"]
["Continuous Opacity Monitoring Systems and ESP Parameter Monitoring -- 40 CFR Part 63, Subpart MM"]
[null,null,null,"Tab Name:",{"$f":"MID(CELL(\"filename\",A1),FIND(\"]\",CELL(\"filename\",A1))+1,255)","v":"COMS8"}]
["Company and Site Name",{"$f":"' Facility_Info upload'!$B$24&\"--\"&' Facility_Info upload'!$C$24","v":"0--0"}]
["Reporting period dates (beginning date, ending date)",{"$f":"' Facility_Info upload'!$N$24&\" - \"&' Facility_Info upload'!$O$24","v":" - "}]
["Process Unit ID",{"$f":"INDEX(Unit_Info!$U$43:$U$62,MATCH(COMS8!$E$3,Unit_Info!$T$43:$T$62,0))","v":{"$error":"#N/A"}}]
["Process Unit Type",{"$f":"INDEX(Unit_Info!$V$43:$V$62,MATCH(COMS8!$E$3,Unit_Info!$T$43:$T$62,0))","v":{"$error":"#N/A"}}]
["Process Unit Description",{"$f":"INDEX(Unit_Info!$W$43:$W$62,MATCH(COMS8!$E$3,Unit_Info!$T$43:$T$62,0))","v":{"$error":"#N/A"}}]
["Air Pollution Control Device Type",{"$f":"INDEX(Unit_Info!$X$43:$X$62,MATCH(COMS8!$E$3,Unit_Info!$T$43:$T$62,0))","v":{"$error":"#N/A"}}]
["Total Source Operating Time* (minutes)"]
["*Includes all process unit operating time during the reporting period including startup/shutdown, malfunction, and all times when CMS are inoperative or producing invalid readings."]
["Emission Data Summary -- Opacity [§63.867(c)(1)(iv) and (vii)]"]
["Index Number",{"$f":"IF(B14=\"\",\"\",MAX(COMS1!B13:H13,COMS2!B13:H13,COMS3!B13:H13,COMS4!B13:H13,COMS5!B13:H13,COMS6!B13:H13,COMS7!B13:H13)+1)","v":""},null,{"$f":"IF(D14=\"\",\"\",B13+1)","v":""},null,{"$f":"IF(F14=\"\",\"\",MAX(B13:D13)+1)","v":""},null,{"$f":"IF(H14=\"\",\"\",MAX(B13:F13)+1)","v":""}]
["Process Unit Emission Point"]
["Operating parameter"]
["Opacity limit, %"]
["Mark with an \"X\" if no excess emissions or exceedances of a parameter have occurred during the reporting period. [§63.10(e)(3)(v)]"]
["Mark with an \"X\" if the CMS has not been inoperative, out of control, repaired, or adjusted during the reporting period. [§63.10(e)(3)(v)]"]
[null,"Duration","Count","Duration","Count","Duration","Count","Duration","Count"]
["1. Duration of excess emissions in reporting period due to:1","Minutes","6-min averages","Minutes","6-min averages","Minutes","6-min averages","Minutes","6-min averages"]
["a. Startup/Shutdown"]
["b. Control Equipment Problems"]
["c. Process Problems"]
["d. Other known causes"]
["e. Unknown causes"]
["2. Total duration of excess emissions",{"$f":"SUM(B21:B25)","v":0},{"$f":"SUM(C21:C25)-IF(B15=\"scrubber pressure drop\",C21,0)","v":0},{"$f":"SUM(D21:D25)","v":0},{"$f":"SUM(E21:E25)-IF(D15=\"scrubber pressure drop\",E21,0)","v":0},{"$f":"SUM(F21:F25)","v":0},{"$f":"SUM(G21:G25)-IF(F15=\"scrubber pressure drop\",G21,0)","v":0},{"$f":"SUM(H21:H25)","v":0},{"$f":"SUM(I21:I25)-IF(H15=\"scrubber pressure drop\",I21,0)","v":0}]
["3. (Total duration of excess emissions) / (Total Source Operating Time) x (100) %2",{"$f":"IF($B$10>0,B26/$B$10,0)","v":0},{"$f":"IF($B$10>0,C26/($B$10/6),0)","v":0},{"$f":"IF($B$10>0,D26/$B$10,0)","v":0},{"$f":"IF($B$10>0,E26/($B$10/6),0)","v":0},{"$f":"IF($B$10>0,F26/$B$10,0)","v":0},{"$f":"IF($B$10>0,G26/($B$10/6),0)","v":0},{"$f":"IF($B$10>0,H26/$B$10,0)","v":0},{"$f":"IF($B$10>0,I26/($B$10/6),0)","v":0}]
["Do excess emissions equal or exceed 1% of operating time?2",{"$f":"IF(B27>=0.01,\"Yes-Use detail form\",\"No\")","v":"No"},null,{"$f":"IF(D27>=0.01,\"Yes-Use detail form\",\"No\")","v":"No"},null,{"$f":"IF(F27>=0.01,\"Yes-Use detail form\",\"No\")","v":"No"},null,{"$f":"IF(H27>=0.01,\"Yes-Use detail form\",\"No\")","v":"No"}]
["Is the opacity violation level triggered?\nViolation level (count) = 2% or more of 6-min averages for recovery furnaces, or 3% or more of 6-min averages for lime kilns  [§63.864(k)(2)(i)-(ii)]",null,{"$f":"IF(C27>=VLOOKUP($B$15,Violations!$A$21:$D$22,4,FALSE),\"Yes-Use detail and failure forms\",\"No\")","v":{"$error":"#N/A"}},null,{"$f":"IF(E27>=VLOOKUP($D$15,Violations!$A$21:$D$22,4,FALSE),\"Yes-Use detail and failure forms\",\"No\")","v":{"$error":"#N/A"}},null,{"$f":"IF(G27>=VLOOKUP($F$15,Violations!$A$21:$D$22,4,FALSE),\"Yes-Use detail and failure forms\",\"No\")","v":{"$error":"#N/A"}},null,{"$f":"IF(I27>=VLOOKUP($H$15,Violations!$A$21:$D$22,4,FALSE),\"Yes-Use detail and failure forms\",\"No\")","v":{"$error":"#N/A"}}]
[" CMS Performance Summary [§63.867(c)(1)(viii)]"]
["Operating parameter",{"$f":"B15","v":0},null,{"$f":"D15","v":0},null,{"$f":"F15","v":0},null,{"$f":"H15","v":0}]
[null,"Duration",null,"Duration",null,"Duration",null,"Duration"]
["1. CMS downtime in reporting period due to:",{"$f":"B20","v":"Minutes"},null,{"$f":"D20","v":"Minutes"},null,{"$f":"F20","v":"Minutes"},null,{"$f":"H20","v":"Minutes"}]
["a. Monitoring equipment malfunctions"]
["b. Non-monitor equipment malfunctions"]
["c. Quality assurance/quality control calibration"]
["d. Other known causes"]
["e. Unknown causes"]
["2. Total CMS downtime",{"$f":"SUM(B34:B38)","v":0},null,0,null,0,null,0]
["3. (Total CMS downtime) / (Total Source Operating Time) x (100) %2",{"$f":"IF($B$10>0,B39/$B$10,0)","v":0},null,{"$f":"IF($B$10>0,D39/$B$10,0)","v":0},null,{"$f":"IF($B$10>0,F39/$B$10,0)","v":0},null,{"$f":"IF($B$10>0,H39/$B$10,0)","v":0}]
["Is total CMS downtime greater than 5% of total source operating time?2",{"$f":"IF(B40>0.05,\"Yes-Use detail report\",\"No\")","v":"No"},null,{"$f":"IF(D40>0.05,\"Yes-Use detail report\",\"No\")","v":"No"},null,{"$f":"IF(F40>0.05,\"Yes-Use detail report\",\"No\")","v":"No"},null,{"$f":"IF(H40>0.05,\"Yes-Use detail report\",\"No\")","v":"No"}]
["If detailed reporting is required, enter the type and/or filename of the detailed report provided"]
["1. Enter the duration of excess emissions and number of averaging periods recorded as excess emissions, excluding:  "]
["● Monitoring data recorded during periods of unavoidable CMS breakdowns, out-of-control periods, repairs, maintenance periods, calibration checks, and zero (low-level) and high level adjustments [§63.864(h)]"]
["● Monitoring data recorded during periods when spent liquor solids (for recovery furnaces) or lime mud (for kilns) is not fired. [§63.864(k)(1), (k)(2)]"]
["2. If the total duration of excess emissions is 1% or greater of the total operating time, or the total CMS downtime is 5% or greater of the total operating time, both the Summary Report and the Excess Emissions and "]
["Continuous Monitoring Systems Performance Report must be submitted for this CMS and process unit. See the orange CMS Performance Detail and Excess Emissions Detail tabs to complete the Excess Emissions and "]
["Continuous Monitoring Systems Performance Report. [§63.867(c)(1) and (3)]"]
["Count: Enter the number of 6-minute averaging periods recorded as excess emissions during the semiannual reporting period. "]

{"sheet":"COMS9","index":15,"n_rows":49,"n_cols":9,"rows_kept":49,"cut":false,"hidden":true,"merged":[]}
["Summary Report – Gaseous and Opacity Excess Emissions and Continuous Monitoring System Performance"]
["Continuous Opacity Monitoring Systems and ESP Parameter Monitoring -- 40 CFR Part 63, Subpart MM"]
[null,null,null,"Tab Name:",{"$f":"MID(CELL(\"filename\",A1),FIND(\"]\",CELL(\"filename\",A1))+1,255)","v":"COMS9"}]
["Company and Site Name",{"$f":"' Facility_Info upload'!$B$24&\"--\"&' Facility_Info upload'!$C$24","v":"0--0"}]
["Reporting period dates (beginning date, ending date)",{"$f":"' Facility_Info upload'!$N$24&\" - \"&' Facility_Info upload'!$O$24","v":" - "}]
["Process Unit ID",{"$f":"INDEX(Unit_Info!$U$43:$U$62,MATCH(COMS9!$E$3,Unit_Info!$T$43:$T$62,0))","v":{"$error":"#N/A"}}]
["Process Unit Type",{"$f":"INDEX(Unit_Info!$V$43:$V$62,MATCH(COMS9!$E$3,Unit_Info!$T$43:$T$62,0))","v":{"$error":"#N/A"}}]
["Process Unit Description",{"$f":"INDEX(Unit_Info!$W$43:$W$62,MATCH(COMS9!$E$3,Unit_Info!$T$43:$T$62,0))","v":{"$error":"#N/A"}}]
["Air Pollution Control Device Type",{"$f":"INDEX(Unit_Info!$X$43:$X$62,MATCH(COMS9!$E$3,Unit_Info!$T$43:$T$62,0))","v":{"$error":"#N/A"}}]
["Total Source Operating Time* (minutes)"]
["*Includes all process unit operating time during the reporting period including startup/shutdown, malfunction, and all times when CMS are inoperative or producing invalid readings."]
["Emission Data Summary -- Opacity [§63.867(c)(1)(iv) and (vii)]"]
["Index Number",{"$f":"IF(B14=\"\",\"\",MAX(COMS1!B13:H13,COMS2!B13:H13,COMS3!B13:H13,COMS4!B13:H13,COMS5!B13:H13,COMS6!B13:H13,COMS7!B13:H13,COMS8!B13:H13)+1)","v":""},null,{"$f":"IF(D14=\"\",\"\",B13+1)","v":""},null,{"$f":"IF(F14=\"\",\"\",MAX(B13:D13)+1)","v":""},null,{"$f":"IF(H14=\"\",\"\",MAX(B13:F13)+1)","v":""}]
["Process Unit Emission Point"]
["Operating parameter"]
["Opacity limit, %"]
["Mark with an \"X\" if no excess emissions or exceedances of a parameter have occurred during the reporting period. [§63.10(e)(3)(v)]"]
["Mark with an \"X\" if the CMS has not been inoperative, out of control, repaired, or adjusted during the reporting period. [§63.10(e)(3)(v)]"]
[null,"Duration","Count","Duration","Count","Duration","Count","Duration","Count"]
["1. Duration of excess emissions in reporting period due to:1","Minutes","6-min averages","Minutes","6-min averages","Minutes","6-min averages","Minutes","6-min averages"]
["a. Startup/Shutdown"]
["b. Control Equipment Problems"]
["c. Process Problems"]
["d. Other known causes"]
["e. Unknown causes"]
["2. Total duration of excess emissions",{"$f":"SUM(B21:B25)","v":0},{"$f":"SUM(C21:C25)-IF(B15=\"scrubber pressure drop\",C21,0)","v":0},{"$f":"SUM(D21:D25)","v":0},{"$f":"SUM(E21:E25)-IF(D15=\"scrubber pressure drop\",E21,0)","v":0},{"$f":"SUM(F21:F25)","v":0},{"$f":"SUM(G21:G25)-IF(F15=\"scrubber pressure drop\",G21,0)","v":0},{"$f":"SUM(H21:H25)","v":0},{"$f":"SUM(I21:I25)-IF(H15=\"scrubber pressure drop\",I21,0)","v":0}]
["3. (Total duration of excess emissions) / (Total Source Operating Time) x (100) %2",{"$f":"IF($B$10>0,B26/$B$10,0)","v":0},{"$f":"IF($B$10>0,C26/($B$10/6),0)","v":0},{"$f":"IF($B$10>0,D26/$B$10,0)","v":0},{"$f":"IF($B$10>0,E26/($B$10/6),0)","v":0},{"$f":"IF($B$10>0,F26/$B$10,0)","v":0},{"$f":"IF($B$10>0,G26/($B$10/6),0)","v":0},{"$f":"IF($B$10>0,H26/$B$10,0)","v":0},{"$f":"IF($B$10>0,I26/($B$10/6),0)","v":0}]
["Do excess emissions equal or exceed 1% of operating time?2",{"$f":"IF(B27>=0.01,\"Yes-Use detail form\",\"No\")","v":"No"},null,{"$f":"IF(D27>=0.01,\"Yes-Use detail form\",\"No\")","v":"No"},null,{"$f":"IF(F27>=0.01,\"Yes-Use detail form\",\"No\")","v":"No"},null,{"$f":"IF(H27>=0.01,\"Yes-Use detail form\",\"No\")","v":"No"}]
["Is the opacity violation level triggered?\nViolation level (count) = 2% or more of 6-min averages for recovery furnaces, or 3% or more of 6-min averages for lime kilns  [§63.864(k)(2)(i)-(ii)]",null,{"$f":"IF(C27>=VLOOKUP($B$15,Violations!$A$21:$D$22,4,FALSE),\"Yes-Use detail and failure forms\",\"No\")","v":{"$error":"#N/A"}},null,{"$f":"IF(E27>=VLOOKUP($D$15,Violations!$A$21:$D$22,4,FALSE),\"Yes-Use detail and failure forms\",\"No\")","v":{"$error":"#N/A"}},null,{"$f":"IF(G27>=VLOOKUP($F$15,Violations!$A$21:$D$22,4,FALSE),\"Yes-Use detail and failure forms\",\"No\")","v":{"$error":"#N/A"}},null,{"$f":"IF(I27>=VLOOKUP($H$15,Violations!$A$21:$D$22,4,FALSE),\"Yes-Use detail and failure forms\",\"No\")","v":{"$error":"#N/A"}}]
[" CMS Performance Summary [§63.867(c)(1)(viii)]"]
["Operating parameter",{"$f":"B15","v":0},null,{"$f":"D15","v":0},null,{"$f":"F15","v":0},null,{"$f":"H15","v":0}]
[null,"Duration",null,"Duration",null,"Duration",null,"Duration"]
["1. CMS downtime in reporting period due to:",{"$f":"B20","v":"Minutes"},null,{"$f":"D20","v":"Minutes"},null,{"$f":"F20","v":"Minutes"},null,{"$f":"H20","v":"Minutes"}]
["a. Monitoring equipment malfunctions"]
["b. Non-monitor equipment malfunctions"]
["c. Quality assurance/quality control calibration"]
["d. Other known causes"]
["e. Unknown causes"]
["2. Total CMS downtime",{"$f":"SUM(B34:B38)","v":0},null,0,null,0,null,0]
["3. (Total CMS downtime) / (Total Source Operating Time) x (100) %2",{"$f":"IF($B$10>0,B39/$B$10,0)","v":0},null,{"$f":"IF($B$10>0,D39/$B$10,0)","v":0},null,{"$f":"IF($B$10>0,F39/$B$10,0)","v":0},null,{"$f":"IF($B$10>0,H39/$B$10,0)","v":0}]
["Is total CMS downtime greater than 5% of total source operating time?2",{"$f":"IF(B40>0.05,\"Yes-Use detail report\",\"No\")","v":"No"},null,{"$f":"IF(D40>0.05,\"Yes-Use detail report\",\"No\")","v":"No"},null,{"$f":"IF(F40>0.05,\"Yes-Use detail report\",\"No\")","v":"No"},null,{"$f":"IF(H40>0.05,\"Yes-Use detail report\",\"No\")","v":"No"}]
["If detailed reporting is required, enter the type and/or filename of the detailed report provided"]
["1. Enter the duration of excess emissions and number of averaging periods recorded as excess emissions, excluding:  "]
["● Monitoring data recorded during periods of unavoidable CMS breakdowns, out-of-control periods, repairs, maintenance periods, calibration checks, and zero (low-level) and high level adjustments [§63.864(h)]"]
["● Monitoring data recorded during periods when spent liquor solids (for recovery furnaces) or lime mud (for kilns) is not fired. [§63.864(k)(1), (k)(2)]"]
["2. If the total duration of excess emissions is 1% or greater of the total operating time, or the total CMS downtime is 5% or greater of the total operating time, both the Summary Report and the Excess Emissions and "]
["Continuous Monitoring Systems Performance Report must be submitted for this CMS and process unit. See the orange CMS Performance Detail and Excess Emissions Detail tabs to complete the Excess Emissions and "]
["Continuous Monitoring Systems Performance Report. [§63.867(c)(1) and (3)]"]
["Count: Enter the number of 6-minute averaging periods recorded as excess emissions during the semiannual reporting period. "]

{"sheet":"COMS10","index":16,"n_rows":49,"n_cols":9,"rows_kept":49,"cut":false,"hidden":true,"merged":[]}
["Summary Report – Gaseous and Opacity Excess Emissions and Continuous Monitoring System Performance"]
["Continuous Opacity Monitoring Systems and ESP Parameter Monitoring -- 40 CFR Part 63, Subpart MM"]
[null,null,null,"Tab Name:",{"$f":"MID(CELL(\"filename\",A1),FIND(\"]\",CELL(\"filename\",A1))+1,255)","v":"COMS10"}]
["Company and Site Name",{"$f":"' Facility_Info upload'!$B$24&\"--\"&' Facility_Info upload'!$C$24","v":"0--0"}]
["Reporting period dates (beginning date, ending date)",{"$f":"' Facility_Info upload'!$N$24&\" - \"&' Facility_Info upload'!$O$24","v":" - "}]
["Process Unit ID",{"$f":"INDEX(Unit_Info!$U$43:$U$62,MATCH(COMS10!$E$3,Unit_Info!$T$43:$T$62,0))","v":{"$error":"#N/A"}}]
["Process Unit Type",{"$f":"INDEX(Unit_Info!$V$43:$V$62,MATCH(COMS10!$E$3,Unit_Info!$T$43:$T$62,0))","v":{"$error":"#N/A"}}]
["Process Unit Description",{"$f":"INDEX(Unit_Info!$W$43:$W$62,MATCH(COMS10!$E$3,Unit_Info!$T$43:$T$62,0))","v":{"$error":"#N/A"}}]
["Air Pollution Control Device Type",{"$f":"INDEX(Unit_Info!$X$43:$X$62,MATCH(COMS10!$E$3,Unit_Info!$T$43:$T$62,0))","v":{"$error":"#N/A"}}]
["Total Source Operating Time* (minutes)"]
["*Includes all process unit operating time during the reporting period including startup/shutdown, malfunction, and all times when CMS are inoperative or producing invalid readings."]
["Emission Data Summary -- Opacity [§63.867(c)(1)(iv) and (vii)]"]
["Index Number",{"$f":"IF(B14=\"\",\"\",MAX(COMS1!B13:H13,COMS2!B13:H13,COMS3!B13:H13,COMS4!B13:H13,COMS5!B13:H13,COMS6!B13:H13,COMS7!B13:H13,COMS8!B13:H13,COMS9!B13:H13)+1)","v":""},null,{"$f":"IF(D14=\"\",\"\",B13+1)","v":""},null,{"$f":"IF(F14=\"\",\"\",MAX(B13:D13)+1)","v":""},null,{"$f":"IF(H14=\"\",\"\",MAX(B13:F13)+1)","v":""}]
["Process Unit Emission Point"]
["Operating parameter"]
["Opacity limit, %"]
["Mark with an \"X\" if no excess emissions or exceedances of a parameter have occurred during the reporting period. [§63.10(e)(3)(v)]"]
["Mark with an \"X\" if the CMS has not been inoperative, out of control, repaired, or adjusted during the reporting period. [§63.10(e)(3)(v)]"]
[null,"Duration","Count","Duration","Count","Duration","Count","Duration","Count"]
["1. Duration of excess emissions in reporting period due to:1","Minutes","6-min averages","Minutes","6-min averages","Minutes","6-min averages","Minutes","6-min averages"]
["a. Startup/Shutdown"]
["b. Control Equipment Problems"]
["c. Process Problems"]
["d. Other known causes"]
["e. Unknown causes"]
["2. Total duration of excess emissions",{"$f":"SUM(B21:B25)","v":0},{"$f":"SUM(C21:C25)-IF(B15=\"scrubber pressure drop\",C21,0)","v":0},{"$f":"SUM(D21:D25)","v":0},{"$f":"SUM(E21:E25)-IF(D15=\"scrubber pressure drop\",E21,0)","v":0},{"$f":"SUM(F21:F25)","v":0},{"$f":"SUM(G21:G25)-IF(F15=\"scrubber pressure drop\",G21,0)","v":0},{"$f":"SUM(H21:H25)","v":0},{"$f":"SUM(I21:I25)-IF(H15=\"scrubber pressure drop\",I21,0)","v":0}]
["3. (Total duration of excess emissions) / (Total Source Operating Time) x (100) %2",{"$f":"IF($B$10>0,B26/$B$10,0)","v":0},{"$f":"IF($B$10>0,C26/($B$10/6),0)","v":0},{"$f":"IF($B$10>0,D26/$B$10,0)","v":0},{"$f":"IF($B$10>0,E26/($B$10/6),0)","v":0},{"$f":"IF($B$10>0,F26/$B$10,0)","v":0},{"$f":"IF($B$10>0,G26/($B$10/6),0)","v":0},{"$f":"IF($B$10>0,H26/$B$10,0)","v":0},{"$f":"IF($B$10>0,I26/($B$10/6),0)","v":0}]
["Do excess emissions equal or exceed 1% of operating time?2",{"$f":"IF(B27>=0.01,\"Yes-Use detail form\",\"No\")","v":"No"},null,{"$f":"IF(D27>=0.01,\"Yes-Use detail form\",\"No\")","v":"No"},null,{"$f":"IF(F27>=0.01,\"Yes-Use detail form\",\"No\")","v":"No"},null,{"$f":"IF(H27>=0.01,\"Yes-Use detail form\",\"No\")","v":"No"}]
["Is the opacity violation level triggered?\nViolation level (count) = 2% or more of 6-min averages for recovery furnaces, or 3% or more of 6-min averages for lime kilns  [§63.864(k)(2)(i)-(ii)]",null,{"$f":"IF(C27>=VLOOKUP($B$15,Violations!$A$21:$D$22,4,FALSE),\"Yes-Use detail and failure forms\",\"No\")","v":{"$error":"#N/A"}},null,{"$f":"IF(E27>=VLOOKUP($D$15,Violations!$A$21:$D$22,4,FALSE),\"Yes-Use detail and failure forms\",\"No\")","v":{"$error":"#N/A"}},null,{"$f":"IF(G27>=VLOOKUP($F$15,Violations!$A$21:$D$22,4,FALSE),\"Yes-Use detail and failure forms\",\"No\")","v":{"$error":"#N/A"}},null,{"$f":"IF(I27>=VLOOKUP($H$15,Violations!$A$21:$D$22,4,FALSE),\"Yes-Use detail and failure forms\",\"No\")","v":{"$error":"#N/A"}}]
[" CMS Performance Summary [§63.867(c)(1)(viii)]"]
["Operating parameter",{"$f":"B15","v":0},null,{"$f":"D15","v":0},null,{"$f":"F15","v":0},null,{"$f":"H15","v":0}]
[null,"Duration",null,"Duration",null,"Duration",null,"Duration"]
["1. CMS downtime in reporting period due to:",{"$f":"B20","v":"Minutes"},null,{"$f":"D20","v":"Minutes"},null,{"$f":"F20","v":"Minutes"},null,{"$f":"H20","v":"Minutes"}]
["a. Monitoring equipment malfunctions"]
["b. Non-monitor equipment malfunctions"]
["c. Quality assurance/quality control calibration"]
["d. Other known causes"]
["e. Unknown causes"]
["2. Total CMS downtime",{"$f":"SUM(B34:B38)","v":0},null,0,null,0,null,0]
["3. (Total CMS downtime) / (Total Source Operating Time) x (100) %2",{"$f":"IF($B$10>0,B39/$B$10,0)","v":0},null,{"$f":"IF($B$10>0,D39/$B$10,0)","v":0},null,{"$f":"IF($B$10>0,F39/$B$10,0)","v":0},null,{"$f":"IF($B$10>0,H39/$B$10,0)","v":0}]
["Is total CMS downtime greater than 5% of total source operating time?2",{"$f":"IF(B40>0.05,\"Yes-Use detail report\",\"No\")","v":"No"},null,{"$f":"IF(D40>0.05,\"Yes-Use detail report\",\"No\")","v":"No"},null,{"$f":"IF(F40>0.05,\"Yes-Use detail report\",\"No\")","v":"No"},null,{"$f":"IF(H40>0.05,\"Yes-Use detail report\",\"No\")","v":"No"}]
["If detailed reporting is required, enter the type and/or filename of the detailed report provided"]
["1. Enter the duration of excess emissions and number of averaging periods recorded as excess emissions, excluding:  "]
["● Monitoring data recorded during periods of unavoidable CMS breakdowns, out-of-control periods, repairs, maintenance periods, calibration checks, and zero (low-level) and high level adjustments [§63.864(h)]"]
["● Monitoring data recorded during periods when spent liquor solids (for recovery furnaces) or lime mud (for kilns) is not fired. [§63.864(k)(1), (k)(2)]"]
["2. If the total duration of excess emissions is 1% or greater of the total operating time, or the total CMS downtime is 5% or greater of the total operating time, both the Summary Report and the Excess Emissions and "]
["Continuous Monitoring Systems Performance Report must be submitted for this CMS and process unit. See the orange CMS Performance Detail and Excess Emissions Detail tabs to complete the Excess Emissions and "]
["Continuous Monitoring Systems Performance Report. [§63.867(c)(1) and (3)]"]
["Count: Enter the number of 6-minute averaging periods recorded as excess emissions during the semiannual reporting period. "]

{"sheet":"CPMS1","index":17,"n_rows":53,"n_cols":9,"rows_kept":53,"cut":false,"hidden":true,"merged":[]}
["Summary Report – Gaseous and Opacity Excess Emissions and Continuous Monitoring System Performance"]
["Continuous Parameter Monitoring Systems -- 40 CFR Part 63, Subpart MM"]
[null,null,null,"Tab Name:",{"$f":"MID(CELL(\"filename\",A1),FIND(\"]\",CELL(\"filename\",A1))+1,255)","v":"CPMS1"}]
["Company and Site Name",{"$f":"' Facility_Info upload'!$B$24&\"--\"&' Facility_Info upload'!$C$24","v":"0--0"}]
["Reporting period dates (beginning date, ending date)",{"$f":"' Facility_Info upload'!$N$24&\" - \"&' Facility_Info upload'!$O$24","v":" - "}]
["Process Unit ID",{"$f":"INDEX(Unit_Info!$U$43:$U$62,MATCH(CPMS1!$E$3,Unit_Info!$T$43:$T$62,0))","v":{"$error":"#N/A"}}]
["Process Unit Type",{"$f":"INDEX(Unit_Info!$V$43:$V$62,MATCH(CPMS1!$E$3,Unit_Info!$T$43:$T$62,0))","v":{"$error":"#N/A"}}]
["Process Unit Description",{"$f":"INDEX(Unit_Info!$W$43:$W$62,MATCH(CPMS1!$E$3,Unit_Info!$T$43:$T$62,0))","v":{"$error":"#N/A"}}]
["Air Pollution Control Device Type",{"$f":"INDEX(Unit_Info!$X$43:$X$62,MATCH(CPMS1!$E$3,Unit_Info!$T$43:$T$62,0))","v":{"$error":"#N/A"}}]
["Total Source Operating Time* (hours)"]
["*Includes all process unit operating time during the reporting period including startup/shutdown, malfunction, and all times when CMS are inoperative or producing invalid readings."]
["Emission Data Summary [§63.867(c)(1)(iv) and (vii)]"]
["Index Number",{"$f":"IF(B14=\"\",\"\",1)","v":""},null,{"$f":"IF(D14=\"\",\"\",B13+1)","v":""},null,{"$f":"IF(F14=\"\",\"\",MAX(B13:D13)+1)","v":""},null,{"$f":"IF(H14=\"\",\"\",MAX(B13:F13)+1)","v":""}]
["Operating parameter"]
["Averaging period"]
["Operating parameter limit (numerical value)"]
["   Operating limit units (text)"]
["Mark with an \"X\" if no excess emissions or exceedances of a parameter have occurred during the reporting period. [§63.10(e)(3)(v)]"]
["Mark with an \"X\" if the CMS has not been inoperative, out of control, repaired, or adjusted during the reporting period. [§63.10(e)(3)(v)]"]
[null,"Duration","Count","Duration","Count","Duration","Count","Duration","Count"]
["1. Duration of excess emissions in reporting period due to:1","Hours","No. of Averages4","Hours","No. of Averages4","Hours","No. of Averages4","Hours","No. of Averages4"]
["a. Startup/Shutdown"]
["b. Control Equipment Problems"]
["c. Process Problems"]
["d. Other known causes"]
["e. Unknown causes"]
["2. Total duration of excess emissions2",{"$f":"SUM(B22:B26)-IF(B14=\"scrubber pressure drop\",B22,0)","v":0},{"$f":"SUM(C22:C26)-IF(B14=\"scrubber pressure drop\",C22,0)","v":0},{"$f":"SUM(D22:D26)-IF(D14=\"scrubber pressure drop\",D22,0)","v":0},{"$f":"SUM(E22:E26)-IF(D14=\"scrubber pressure drop\",E22,0)","v":0},{"$f":"SUM(F22:F26)-IF(F14=\"scrubber pressure drop\",F22,0)","v":0},{"$f":"SUM(G22:G26)-IF(F14=\"scrubber pressure drop\",G22,0)","v":0},{"$f":"SUM(H22:H26)-IF(H14=\"scrubber pressure drop\",H22,0)","v":0},{"$f":"SUM(I22:I26)-IF(H14=\"scrubber pressure drop\",I22,0)","v":0}]
["3. (Total duration of excess emissions) / (Total Source Operating Time) x (100) %3",{"$f":"IF($B$10>0,B27/$B$10,0)","v":0},null,{"$f":"IF($B$10>0,D27/$B$10,0)","v":0},null,{"$f":"IF($B$10>0,F27/$B$10,0)","v":0},null,{"$f":"IF($B$10>0,H27/$B$10,0)","v":0}]
["Do excess emissions in row 3 exceed 1% of operating time?",{"$f":"IF(B28>0.01,\"Yes-Use detail form\",\"No\")","v":"No"},null,{"$f":"IF(D28>0.01,\"Yes-Use detail form\",\"No\")","v":"No"},null,{"$f":"IF(F28>0.01,\"Yes-Use detail form\",\"No\")","v":"No"},null,{"$f":"IF(H28>0.01,\"Yes-Use detail form\",\"No\")","v":"No"}]
["Is the violation level triggered in line 2 above?  \nViolation level: Six or more 3-hour average parameter values or any 3-hour average RTO temperature per semiannual period.",null,{"$f":"IF(B14=\"RTO temperature (1-hr)\",\"Not Applicable\",IF(C27<VLOOKUP(B14,Violations!$A$6:$D$10,4,FALSE),\"No\",\"Yes-Use detail and failure form\"))","v":{"$error":"#N/A"}},null,{"$f":"IF(D14=\"RTO temperature (1-hr)\",\"Not Applicable\",IF(E27<VLOOKUP(D14,Violations!$A$6:$D$10,4,FALSE),\"No\",\"Yes-Use detail and failure form\"))","v":{"$error":"#N/A"}},null,{"$f":"IF(F14=\"RTO temperature (1-hr)\",\"Not Applicable\",IF(G27<VLOOKUP(F14,Violations!$A$6:$D$10,4,FALSE),\"No\",\"Yes-Use detail and failure form\"))","v":{"$error":"#N/A"}},null,{"$f":"IF(H14=\"RTO temperature (1-hr)\",\"Not Applicable\",IF(I27<VLOOKUP(H14,Violations!$A$6:$D$10,4,FALSE),\"No\",\"Yes-Use detail and failure form\"))","v":{"$error":"#N/A"}}]
["CMS Performance Summary [§63.867(c)(1)(viii)]"]
["Operating parameter",{"$f":"B14","v":0},null,{"$f":"D14","v":0},null,{"$f":"F14","v":0},null,{"$f":"H14","v":0}]
[null,"Duration",null,"Duration",null,"Duration",null,"Duration"]
["1. CMS downtime in reporting period due to:","Hours",null,"Hours",null,"Hours",null,"Hours"]
["a. Monitoring equipment malfunctions"]
["b. Non-monitor equipment malfunctions"]
["c. Quality assurance/quality control calibration"]
["d. Other known causes"]
["e. Unknown causes"]
["2. Total CMS downtime",{"$f":"SUM(B35:B39)","v":0},null,0,null,0,null,0]
["3. (Total CMS downtime) / (Total Source Operating Time) x (100) %3",{"$f":"IF($B$10>0,B40/$B$10,0)","v":0},null,{"$f":"IF($B$10>0,D40/$B$10,0)","v":0},null,{"$f":"IF($B$10>0,F40/$B$10,0)","v":0},null,{"$f":"IF($B$10>0,H40/$B$10,0)","v":0}]
["Is total CMS downtime greater than 5% of total source operating time?",{"$f":"IF(B41>0.05,\"Yes-Use detail form\",\"No\")","v":"No"},null,{"$f":"IF(D41>0.05,\"Yes-Use detail form\",\"No\")","v":"No"},null,{"$f":"IF(F41>0.05,\"Yes-Use detail form\",\"No\")","v":"No"},null,{"$f":"IF(H41>0.05,\"Yes-Use detail form\",\"No\")","v":"No"}]
["If detailed reporting is required, enter the type and/or filename of the detailed report provided"]
["1. Enter the duration of excess emissions and number of averaging periods recorded as excess emissions, excluding:  "]
["● Monitoring data recorded during periods of unavoidable CMS breakdowns, out-of-control periods, repairs, maintenance periods, calibration checks, and zero (low-level) and high level adjustments [§63.864(h)]"]
["● Monitoring data recorded during periods when spent liquor solids (for recovery furnaces) or lime mud (for kilns) is not fired. [§63.864(k)(1), (k)(2)]"]
["2. Excludes periods of startup/shutdown for scrubber pressure drop."]
["3. If the total duration of excess emissions is 1% or greater of the total operating time, or the total CMS downtime is 5% or greater of the total operating time, both the Summary Report and the Excess Emissions "]
["and Continuous Monitoring Systems Performance Report must be submitted for this CMS and process unit. See the orange CMS Performance Detail and Excess Emissions Detail tabs to complete the Excess "]
["Emissions and Continuous Monitoring Systems Performance Report. [§63.867(c)(1) and (3)]"]
["4. Count: Enter the number of averaging periods recorded as excess emissions during the semiannual reporting period. No more than one exceedance will be attributed in any given 24-hour period as specified in §63.864(k)(3); "]
["thus, you are only required to enter one 3-hour average exceedance for a given 24-hour period."]
["Note: It is possible that the duration hours reported may exceed the hours associated with the count of averaging periods due the provision in §63.864(k)(3). "]

{"sheet":"CPMS2","index":18,"n_rows":53,"n_cols":9,"rows_kept":53,"cut":false,"hidden":true,"merged":[]}
["Summary Report – Gaseous and Opacity Excess Emissions and Continuous Monitoring System Performance"]
["Continuous Parameter Monitoring Systems -- 40 CFR Part 63, Subpart MM"]
[null,null,null,"Tab Name:",{"$f":"MID(CELL(\"filename\",A1),FIND(\"]\",CELL(\"filename\",A1))+1,255)","v":"CPMS2"}]
["Company and Site Name",{"$f":"' Facility_Info upload'!$B$24&\"--\"&' Facility_Info upload'!$C$24","v":"0--0"}]
["Reporting period dates (beginning date, ending date)",{"$f":"' Facility_Info upload'!$N$24&\" - \"&' Facility_Info upload'!$O$24","v":" - "}]
["Process Unit ID",{"$f":"INDEX(Unit_Info!$U$43:$U$62,MATCH(CPMS2!$E$3,Unit_Info!$T$43:$T$62,0))","v":{"$error":"#N/A"}}]
["Process Unit Type",{"$f":"INDEX(Unit_Info!$V$43:$V$62,MATCH(CPMS2!$E$3,Unit_Info!$T$43:$T$62,0))","v":{"$error":"#N/A"}}]
["Process Unit Description",{"$f":"INDEX(Unit_Info!$W$43:$W$62,MATCH(CPMS2!$E$3,Unit_Info!$T$43:$T$62,0))","v":{"$error":"#N/A"}}]
["Air Pollution Control Device Type",{"$f":"INDEX(Unit_Info!$X$43:$X$62,MATCH(CPMS2!$E$3,Unit_Info!$T$43:$T$62,0))","v":{"$error":"#N/A"}}]
["Total Source Operating Time* (hours)"]
["*Includes all process unit operating time during the reporting period including startup/shutdown, malfunction, and all times when CMS are inoperative or producing invalid readings."]
["Emission Data Summary [§63.867(c)(1)(iv) and (vii)]"]
["Index Number",{"$f":"IF(B14=\"\",\"\",MAX(CPMS1!B13:H13)+1)","v":""},null,{"$f":"IF(D14=\"\",\"\",B13+1)","v":""},null,{"$f":"IF(F14=\"\",\"\",MAX(B13:D13)+1)","v":""},null,{"$f":"IF(H14=\"\",\"\",MAX(B13:F13)+1)","v":""}]
["Operating parameter"]
["Averaging period"]
["Operating parameter limit (numerical value)"]
["   Operating limit units (text)"]
["Mark with an \"X\" if no excess emissions or exceedances of a parameter have occurred during the reporting period. [§63.10(e)(3)(v)]"]
["Mark with an \"X\" if the CMS has not been inoperative, out of control, repaired, or adjusted during the reporting period. [§63.10(e)(3)(v)]"]
[null,"Duration","Count","Duration","Count","Duration","Count","Duration","Count"]
["1. Duration of excess emissions in reporting period due to:1","Hours","No. of Averages4","Hours","No. of Averages4","Hours","No. of Averages4","Hours","No. of Averages4"]
["a. Startup/Shutdown"]
["b. Control Equipment Problems"]
["c. Process Problems"]
["d. Other known causes"]
["e. Unknown causes"]
["2. Total duration of excess emissions2",{"$f":"SUM(B22:B26)-IF(B14=\"scrubber pressure drop\",B22,0)","v":0},{"$f":"SUM(C22:C26)-IF(B14=\"scrubber pressure drop\",C22,0)","v":0},{"$f":"SUM(D22:D26)-IF(D14=\"scrubber pressure drop\",D22,0)","v":0},{"$f":"SUM(E22:E26)-IF(D14=\"scrubber pressure drop\",E22,0)","v":0},{"$f":"SUM(F22:F26)-IF(F14=\"scrubber pressure drop\",F22,0)","v":0},{"$f":"SUM(G22:G26)-IF(F14=\"scrubber pressure drop\",G22,0)","v":0},{"$f":"SUM(H22:H26)-IF(H14=\"scrubber pressure drop\",H22,0)","v":0},{"$f":"SUM(I22:I26)-IF(H14=\"scrubber pressure drop\",I22,0)","v":0}]
["3. (Total duration of excess emissions) / (Total Source Operating Time) x (100) %3",{"$f":"IF($B$10>0,B27/$B$10,0)","v":0},null,{"$f":"IF($B$10>0,D27/$B$10,0)","v":0},null,{"$f":"IF($B$10>0,F27/$B$10,0)","v":0},null,{"$f":"IF($B$10>0,H27/$B$10,0)","v":0}]
["Do excess emissions in row 3 exceed 1% of operating time?",{"$f":"IF(B28>0.01,\"Yes-Use detail form\",\"No\")","v":"No"},null,{"$f":"IF(D28>0.01,\"Yes-Use detail form\",\"No\")","v":"No"},null,{"$f":"IF(F28>0.01,\"Yes-Use detail form\",\"No\")","v":"No"},null,{"$f":"IF(H28>0.01,\"Yes-Use detail form\",\"No\")","v":"No"}]
["Is the violation level triggered in line 2 above?  \nViolation level: Six or more 3-hour average parameter values or any 3-hour average RTO temperature per semiannual period.",null,{"$f":"IF(C27<VLOOKUP(B14,Violations!$A$6:$D$10,4,FALSE),\"No\",\"Yes-Use detail and failure form\")","v":{"$error":"#N/A"}},null,{"$f":"IF(E27<VLOOKUP(D14,Violations!$A$6:$D$10,4,FALSE),\"No\",\"Yes-Use detail and failure form\")","v":{"$error":"#N/A"}},null,{"$f":"IF(G27<VLOOKUP(F14,Violations!$A$6:$D$10,4,FALSE),\"No\",\"Yes-Use detail and failure form\")","v":{"$error":"#N/A"}},null,{"$f":"IF(I27<VLOOKUP(H14,Violations!$A$6:$D$10,4,FALSE),\"No\",\"Yes-Use detail and failure form\")","v":{"$error":"#N/A"}}]
["CMS Performance Summary [§63.867(c)(1)(viii)]"]
["Operating parameter",{"$f":"B14","v":0},null,{"$f":"D14","v":0},null,{"$f":"F14","v":0},null,{"$f":"H14","v":0}]
[null,"Duration",null,"Duration",null,"Duration",null,"Duration"]
["1. CMS downtime in reporting period due to:","Hours",null,"Hours",null,"Hours",null,"Hours"]
["a. Monitoring equipment malfunctions"]
["b. Non-monitor equipment malfunctions"]
["c. Quality assurance/quality control calibration"]
["d. Other known causes"]
["e. Unknown causes"]
["2. Total CMS downtime",{"$f":"SUM(B35:B39)","v":0},null,0,null,0,null,0]
["3. (Total CMS downtime) / (Total Source Operating Time) x (100) %3",{"$f":"IF($B$10>0,B40/$B$10,0)","v":0},null,{"$f":"IF($B$10>0,D40/$B$10,0)","v":0},null,{"$f":"IF($B$10>0,F40/$B$10,0)","v":0},null,{"$f":"IF($B$10>0,H40/$B$10,0)","v":0}]
["Is total CMS downtime greater than 5% of total source operating time?",{"$f":"IF(B41>0.05,\"Yes-Use detail form\",\"No\")","v":"No"},null,{"$f":"IF(D41>0.05,\"Yes-Use detail form\",\"No\")","v":"No"},null,{"$f":"IF(F41>0.05,\"Yes-Use detail form\",\"No\")","v":"No"},null,{"$f":"IF(H41>0.05,\"Yes-Use detail form\",\"No\")","v":"No"}]
["If detailed reporting is required, enter the type and/or filename of the detailed report provided"]
["1. Enter the duration of excess emissions and number of averaging periods recorded as excess emissions, excluding:  "]
["● Monitoring data recorded during periods of unavoidable CMS breakdowns, out-of-control periods, repairs, maintenance periods, calibration checks, and zero (low-level) and high level adjustments [§63.864(h)]"]
["● Monitoring data recorded during periods when spent liquor solids (for recovery furnaces) or lime mud (for kilns) is not fired. [§63.864(k)(1), (k)(2)]"]
["2. Excludes periods of startup/shutdown for scrubber pressure drop."]
["3. If the total duration of excess emissions is 1% or greater of the total operating time, or the total CMS downtime is 5% or greater of the total operating time, both the Summary Report and the Excess Emissions "]
["and Continuous Monitoring Systems Performance Report must be submitted for this CMS and process unit. See the orange CMS Performance Detail and Excess Emissions Detail tabs to complete the Excess "]
["Emissions and Continuous Monitoring Systems Performance Report. [§63.867(c)(1) and (3)]"]
["4. Count: Enter the number of averaging periods recorded as excess emissions during the semiannual reporting period. No more than one exceedance will be attributed in any given 24-hour period as specified in §63.864(k)(3); "]
["thus, you are only required to enter one 3-hour average exceedance for a given 24-hour period."]
["Note: It is possible that the duration hours reported may exceed the hours associated with the count of averaging periods due the provision in §63.864(k)(3). "]

{"sheet":"CPMS3","index":19,"n_rows":53,"n_cols":9,"rows_kept":53,"cut":false,"hidden":true,"merged":[]}
["Summary Report – Gaseous and Opacity Excess Emissions and Continuous Monitoring System Performance"]
["Continuous Parameter Monitoring Systems -- 40 CFR Part 63, Subpart MM"]
[null,null,null,"Tab Name:",{"$f":"MID(CELL(\"filename\",A1),FIND(\"]\",CELL(\"filename\",A1))+1,255)","v":"CPMS3"}]
["Company and Site Name",{"$f":"' Facility_Info upload'!$B$24&\"--\"&' Facility_Info upload'!$C$24","v":"0--0"}]
["Reporting period dates (beginning date, ending date)",{"$f":"' Facility_Info upload'!$N$24&\" - \"&' Facility_Info upload'!$O$24","v":" - "}]
["Process Unit ID",{"$f":"INDEX(Unit_Info!$U$43:$U$62,MATCH(CPMS3!$E$3,Unit_Info!$T$43:$T$62,0))","v":{"$error":"#N/A"}}]
["Process Unit Type",{"$f":"INDEX(Unit_Info!$V$43:$V$62,MATCH(CPMS3!$E$3,Unit_Info!$T$43:$T$62,0))","v":{"$error":"#N/A"}}]
["Process Unit Description",{"$f":"INDEX(Unit_Info!$W$43:$W$62,MATCH(CPMS3!$E$3,Unit_Info!$T$43:$T$62,0))","v":{"$error":"#N/A"}}]
["Air Pollution Control Device Type",{"$f":"INDEX(Unit_Info!$X$43:$X$62,MATCH(CPMS3!$E$3,Unit_Info!$T$43:$T$62,0))","v":{"$error":"#N/A"}}]
["Total Source Operating Time* (hours)"]
["*Includes all process unit operating time during the reporting period including startup/shutdown, malfunction, and all times when CMS are inoperative or producing invalid readings."]
["Emission Data Summary [§63.867(c)(1)(iv) and (vii)]"]
["Index Number",{"$f":"IF(B14=\"\",\"\",MAX(CPMS1!B13:H13,CPMS2!B13:H13)+1)","v":""},null,{"$f":"IF(D14=\"\",\"\",B13+1)","v":""},null,{"$f":"IF(F14=\"\",\"\",MAX(B13:D13)+1)","v":""},null,{"$f":"IF(H14=\"\",\"\",MAX(B13:F13)+1)","v":""}]
["Operating parameter"]
["Averaging period"]
["Operating parameter limit (numerical value)"]
["   Operating limit units (text)"]
["Mark with an \"X\" if no excess emissions or exceedances of a parameter have occurred during the reporting period. [§63.10(e)(3)(v)]"]
["Mark with an \"X\" if the CMS has not been inoperative, out of control, repaired, or adjusted during the reporting period. [§63.10(e)(3)(v)]"]
[null,"Duration","Count","Duration","Count","Duration","Count","Duration","Count"]
["1. Duration of excess emissions in reporting period due to:1","Hours","No. of Averages4","Hours","No. of Averages4","Hours","No. of Averages4","Hours","No. of Averages4"]
["a. Startup/Shutdown"]
["b. Control Equipment Problems"]
["c. Process Problems"]
["d. Other known causes"]
["e. Unknown causes"]
["2. Total duration of excess emissions2",{"$f":"SUM(B22:B26)-IF(B14=\"scrubber pressure drop\",B22,0)","v":0},{"$f":"SUM(C22:C26)-IF(B14=\"scrubber pressure drop\",C22,0)","v":0},{"$f":"SUM(D22:D26)-IF(D14=\"scrubber pressure drop\",D22,0)","v":0},{"$f":"SUM(E22:E26)-IF(D14=\"scrubber pressure drop\",E22,0)","v":0},{"$f":"SUM(F22:F26)-IF(F14=\"scrubber pressure drop\",F22,0)","v":0},{"$f":"SUM(G22:G26)-IF(F14=\"scrubber pressure drop\",G22,0)","v":0},{"$f":"SUM(H22:H26)-IF(H14=\"scrubber pressure drop\",H22,0)","v":0},{"$f":"SUM(I22:I26)-IF(H14=\"scrubber pressure drop\",I22,0)","v":0}]
["3. (Total duration of excess emissions) / (Total Source Operating Time) x (100) %3",{"$f":"IF($B$10>0,B27/$B$10,0)","v":0},null,{"$f":"IF($B$10>0,D27/$B$10,0)","v":0},null,{"$f":"IF($B$10>0,F27/$B$10,0)","v":0},null,{"$f":"IF($B$10>0,H27/$B$10,0)","v":0}]
["Do excess emissions in row 3 exceed 1% of operating time?",{"$f":"IF(B28>0.01,\"Yes-Use detail form\",\"No\")","v":"No"},null,{"$f":"IF(D28>0.01,\"Yes-Use detail form\",\"No\")","v":"No"},null,{"$f":"IF(F28>0.01,\"Yes-Use detail form\",\"No\")","v":"No"},null,{"$f":"IF(H28>0.01,\"Yes-Use detail form\",\"No\")","v":"No"}]
["Is the violation level triggered in line 2 above?  \nViolation level: Six or more 3-hour average parameter values or any 3-hour average RTO temperature per semiannual period.",null,{"$f":"IF(C27<VLOOKUP(B14,Violations!$A$6:$D$10,4,FALSE),\"No\",\"Yes-Use detail and failure form\")","v":{"$error":"#N/A"}},null,{"$f":"IF(E27<VLOOKUP(D14,Violations!$A$6:$D$10,4,FALSE),\"No\",\"Yes-Use detail and failure form\")","v":{"$error":"#N/A"}},null,{"$f":"IF(G27<VLOOKUP(F14,Violations!$A$6:$D$10,4,FALSE),\"No\",\"Yes-Use detail and failure form\")","v":{"$error":"#N/A"}},null,{"$f":"IF(I27<VLOOKUP(H14,Violations!$A$6:$D$10,4,FALSE),\"No\",\"Yes-Use detail and failure form\")","v":{"$error":"#N/A"}}]
["CMS Performance Summary [§63.867(c)(1)(viii)]"]
["Operating parameter",{"$f":"B14","v":0},null,{"$f":"D14","v":0},null,{"$f":"F14","v":0},null,{"$f":"H14","v":0}]
[null,"Duration",null,"Duration",null,"Duration",null,"Duration"]
["1. CMS downtime in reporting period due to:","Hours",null,"Hours",null,"Hours",null,"Hours"]
["a. Monitoring equipment malfunctions"]
["b. Non-monitor equipment malfunctions"]
["c. Quality assurance/quality control calibration"]
["d. Other known causes"]
["e. Unknown causes"]
["2. Total CMS downtime",{"$f":"SUM(B35:B39)","v":0},null,0,null,0,null,0]
["3. (Total CMS downtime) / (Total Source Operating Time) x (100) %3",{"$f":"IF($B$10>0,B40/$B$10,0)","v":0},null,{"$f":"IF($B$10>0,D40/$B$10,0)","v":0},null,{"$f":"IF($B$10>0,F40/$B$10,0)","v":0},null,{"$f":"IF($B$10>0,H40/$B$10,0)","v":0}]
["Is total CMS downtime greater than 5% of total source operating time?",{"$f":"IF(B41>0.05,\"Yes-Use detail form\",\"No\")","v":"No"},null,{"$f":"IF(D41>0.05,\"Yes-Use detail form\",\"No\")","v":"No"},null,{"$f":"IF(F41>0.05,\"Yes-Use detail form\",\"No\")","v":"No"},null,{"$f":"IF(H41>0.05,\"Yes-Use detail form\",\"No\")","v":"No"}]
["If detailed reporting is required, enter the type and/or filename of the detailed report provided"]
["1. Enter the duration of excess emissions and number of averaging periods recorded as excess emissions, excluding:  "]
["● Monitoring data recorded during periods of unavoidable CMS breakdowns, out-of-control periods, repairs, maintenance periods, calibration checks, and zero (low-level) and high level adjustments [§63.864(h)]"]
["● Monitoring data recorded during periods when spent liquor solids (for recovery furnaces) or lime mud (for kilns) is not fired. [§63.864(k)(1), (k)(2)]"]
["2. Excludes periods of startup/shutdown for scrubber pressure drop."]
["3. If the total duration of excess emissions is 1% or greater of the total operating time, or the total CMS downtime is 5% or greater of the total operating time, both the Summary Report and the Excess Emissions "]
["and Continuous Monitoring Systems Performance Report must be submitted for this CMS and process unit. See the orange CMS Performance Detail and Excess Emissions Detail tabs to complete the Excess "]
["Emissions and Continuous Monitoring Systems Performance Report. [§63.867(c)(1) and (3)]"]
["4. Count: Enter the number of averaging periods recorded as excess emissions during the semiannual reporting period. No more than one exceedance will be attributed in any given 24-hour period as specified in §63.864(k)(3); "]
["thus, you are only required to enter one 3-hour average exceedance for a given 24-hour period."]
["Note: It is possible that the duration hours reported may exceed the hours associated with the count of averaging periods due the provision in §63.864(k)(3). "]

{"sheet":"CPMS4","index":20,"n_rows":53,"n_cols":9,"rows_kept":53,"cut":false,"hidden":true,"merged":[]}
["Summary Report – Gaseous and Opacity Excess Emissions and Continuous Monitoring System Performance"]
["Continuous Parameter Monitoring Systems -- 40 CFR Part 63, Subpart MM"]
[null,null,null,"Tab Name:",{"$f":"MID(CELL(\"filename\",A1),FIND(\"]\",CELL(\"filename\",A1))+1,255)","v":"CPMS4"}]
["Company and Site Name",{"$f":"' Facility_Info upload'!$B$24&\"--\"&' Facility_Info upload'!$C$24","v":"0--0"}]
["Reporting period dates (beginning date, ending date)",{"$f":"' Facility_Info upload'!$N$24&\" - \"&' Facility_Info upload'!$O$24","v":" - "}]
["Process Unit ID",{"$f":"INDEX(Unit_Info!$U$43:$U$62,MATCH(CPMS4!$E$3,Unit_Info!$T$43:$T$62,0))","v":{"$error":"#N/A"}}]
["Process Unit Type",{"$f":"INDEX(Unit_Info!$V$43:$V$62,MATCH(CPMS4!$E$3,Unit_Info!$T$43:$T$62,0))","v":{"$error":"#N/A"}}]
["Process Unit Description",{"$f":"INDEX(Unit_Info!$W$43:$W$62,MATCH(CPMS4!$E$3,Unit_Info!$T$43:$T$62,0))","v":{"$error":"#N/A"}}]
["Air Pollution Control Device Type",{"$f":"INDEX(Unit_Info!$X$43:$X$62,MATCH(CPMS4!$E$3,Unit_Info!$T$43:$T$62,0))","v":{"$error":"#N/A"}}]
["Total Source Operating Time* (hours)"]
["*Includes all process unit operating time during the reporting period including startup/shutdown, malfunction, and all times when CMS are inoperative or producing invalid readings."]
["Emission Data Summary [§63.867(c)(1)(iv) and (vii)]"]
["Index Number",{"$f":"IF(B14=\"\",\"\",MAX(CPMS1!B13:H13,CPMS2!B13:H13,CPMS3!B13:H13)+1)","v":""},null,{"$f":"IF(D14=\"\",\"\",B13+1)","v":""},null,{"$f":"IF(F14=\"\",\"\",MAX(B13:D13)+1)","v":""},null,{"$f":"IF(H14=\"\",\"\",MAX(B13:F13)+1)","v":""}]
["Operating parameter"]
["Averaging period"]
["Operating parameter limit (numerical value)"]
["   Operating limit units (text)"]
["Mark with an \"X\" if no excess emissions or exceedances of a parameter have occurred during the reporting period. [§63.10(e)(3)(v)]"]
["Mark with an \"X\" if the CMS has not been inoperative, out of control, repaired, or adjusted during the reporting period. [§63.10(e)(3)(v)]"]
[null,"Duration","Count","Duration","Count","Duration","Count","Duration","Count"]
["1. Duration of excess emissions in reporting period due to:1","Hours","No. of Averages4","Hours","No. of Averages4","Hours","No. of Averages4","Hours","No. of Averages4"]
["a. Startup/Shutdown"]
["b. Control Equipment Problems"]
["c. Process Problems"]
["d. Other known causes"]
["e. Unknown causes"]
["2. Total duration of excess emissions2",{"$f":"SUM(B22:B26)-IF(B14=\"scrubber pressure drop\",B22,0)","v":0},{"$f":"SUM(C22:C26)-IF(B14=\"scrubber pressure drop\",C22,0)","v":0},{"$f":"SUM(D22:D26)-IF(D14=\"scrubber pressure drop\",D22,0)","v":0},{"$f":"SUM(E22:E26)-IF(D14=\"scrubber pressure drop\",E22,0)","v":0},{"$f":"SUM(F22:F26)-IF(F14=\"scrubber pressure drop\",F22,0)","v":0},{"$f":"SUM(G22:G26)-IF(F14=\"scrubber pressure drop\",G22,0)","v":0},{"$f":"SUM(H22:H26)-IF(H14=\"scrubber pressure drop\",H22,0)","v":0},{"$f":"SUM(I22:I26)-IF(H14=\"scrubber pressure drop\",I22,0)","v":0}]
["3. (Total duration of excess emissions) / (Total Source Operating Time) x (100) %3",{"$f":"IF($B$10>0,B27/$B$10,0)","v":0},null,{"$f":"IF($B$10>0,D27/$B$10,0)","v":0},null,{"$f":"IF($B$10>0,F27/$B$10,0)","v":0},null,{"$f":"IF($B$10>0,H27/$B$10,0)","v":0}]
["Do excess emissions in row 3 exceed 1% of operating time?",{"$f":"IF(B28>0.01,\"Yes-Use detail form\",\"No\")","v":"No"},null,{"$f":"IF(D28>0.01,\"Yes-Use detail form\",\"No\")","v":"No"},null,{"$f":"IF(F28>0.01,\"Yes-Use detail form\",\"No\")","v":"No"},null,{"$f":"IF(H28>0.01,\"Yes-Use detail form\",\"No\")","v":"No"}]
["Is the violation level triggered in line 2 above?  \nViolation level: Six or more 3-hour average parameter values or any 3-hour average RTO temperature per semiannual period.",null,{"$f":"IF(C27<VLOOKUP(B14,Violations!$A$6:$D$10,4,FALSE),\"No\",\"Yes-Use detail and failure form\")","v":{"$error":"#N/A"}},null,{"$f":"IF(E27<VLOOKUP(D14,Violations!$A$6:$D$10,4,FALSE),\"No\",\"Yes-Use detail and failure form\")","v":{"$error":"#N/A"}},null,{"$f":"IF(G27<VLOOKUP(F14,Violations!$A$6:$D$10,4,FALSE),\"No\",\"Yes-Use detail and failure form\")","v":{"$error":"#N/A"}},null,{"$f":"IF(I27<VLOOKUP(H14,Violations!$A$6:$D$10,4,FALSE),\"No\",\"Yes-Use detail and failure form\")","v":{"$error":"#N/A"}}]
["CMS Performance Summary [§63.867(c)(1)(viii)]"]
["Operating parameter",{"$f":"B14","v":0},null,{"$f":"D14","v":0},null,{"$f":"F14","v":0},null,{"$f":"H14","v":0}]
[null,"Duration",null,"Duration",null,"Duration",null,"Duration"]
["1. CMS downtime in reporting period due to:","Hours",null,"Hours",null,"Hours",null,"Hours"]
["a. Monitoring equipment malfunctions"]
["b. Non-monitor equipment malfunctions"]
["c. Quality assurance/quality control calibration"]
["d. Other known causes"]
["e. Unknown causes"]
["2. Total CMS downtime",{"$f":"SUM(B35:B39)","v":0},null,0,null,0,null,0]
["3. (Total CMS downtime) / (Total Source Operating Time) x (100) %3",{"$f":"IF($B$10>0,B40/$B$10,0)","v":0},null,{"$f":"IF($B$10>0,D40/$B$10,0)","v":0},null,{"$f":"IF($B$10>0,F40/$B$10,0)","v":0},null,{"$f":"IF($B$10>0,H40/$B$10,0)","v":0}]
["Is total CMS downtime greater than 5% of total source operating time?",{"$f":"IF(B41>0.05,\"Yes-Use detail form\",\"No\")","v":"No"},null,{"$f":"IF(D41>0.05,\"Yes-Use detail form\",\"No\")","v":"No"},null,{"$f":"IF(F41>0.05,\"Yes-Use detail form\",\"No\")","v":"No"},null,{"$f":"IF(H41>0.05,\"Yes-Use detail form\",\"No\")","v":"No"}]
["If detailed reporting is required, enter the type and/or filename of the detailed report provided"]
["1. Enter the duration of excess emissions and number of averaging periods recorded as excess emissions, excluding:  "]
["● Monitoring data recorded during periods of unavoidable CMS breakdowns, out-of-control periods, repairs, maintenance periods, calibration checks, and zero (low-level) and high level adjustments [§63.864(h)]"]
["● Monitoring data recorded during periods when spent liquor solids (for recovery furnaces) or lime mud (for kilns) is not fired. [§63.864(k)(1), (k)(2)]"]
["2. Excludes periods of startup/shutdown for scrubber pressure drop."]
["3. If the total duration of excess emissions is 1% or greater of the total operating time, or the total CMS downtime is 5% or greater of the total operating time, both the Summary Report and the Excess Emissions "]
["and Continuous Monitoring Systems Performance Report must be submitted for this CMS and process unit. See the orange CMS Performance Detail and Excess Emissions Detail tabs to complete the Excess "]
["Emissions and Continuous Monitoring Systems Performance Report. [§63.867(c)(1) and (3)]"]
["4. Count: Enter the number of averaging periods recorded as excess emissions during the semiannual reporting period. No more than one exceedance will be attributed in any given 24-hour period as specified in §63.864(k)(3); "]
["thus, you are only required to enter one 3-hour average exceedance for a given 24-hour period."]
["Note: It is possible that the duration hours reported may exceed the hours associated with the count of averaging periods due the provision in §63.864(k)(3). "]

{"sheet":"CPMS5","index":21,"n_rows":53,"n_cols":9,"rows_kept":53,"cut":false,"hidden":true,"merged":[]}
["Summary Report – Gaseous and Opacity Excess Emissions and Continuous Monitoring System Performance"]
["Continuous Parameter Monitoring Systems -- 40 CFR Part 63, Subpart MM"]
[null,null,null,"Tab Name:",{"$f":"MID(CELL(\"filename\",A1),FIND(\"]\",CELL(\"filename\",A1))+1,255)","v":"CPMS5"}]
["Company and Site Name",{"$f":"' Facility_Info upload'!$B$24&\"--\"&' Facility_Info upload'!$C$24","v":"0--0"}]
["Reporting period dates (beginning date, ending date)",{"$f":"' Facility_Info upload'!$N$24&\" - \"&' Facility_Info upload'!$O$24","v":" - "}]
["Process Unit ID",{"$f":"INDEX(Unit_Info!$U$43:$U$62,MATCH(CPMS5!$E$3,Unit_Info!$T$43:$T$62,0))","v":{"$error":"#N/A"}}]
["Process Unit Type",{"$f":"INDEX(Unit_Info!$V$43:$V$62,MATCH(CPMS5!$E$3,Unit_Info!$T$43:$T$62,0))","v":{"$error":"#N/A"}}]
["Process Unit Description",{"$f":"INDEX(Unit_Info!$W$43:$W$62,MATCH(CPMS5!$E$3,Unit_Info!$T$43:$T$62,0))","v":{"$error":"#N/A"}}]
["Air Pollution Control Device Type",{"$f":"INDEX(Unit_Info!$X$43:$X$62,MATCH(CPMS5!$E$3,Unit_Info!$T$43:$T$62,0))","v":{"$error":"#N/A"}}]
["Total Source Operating Time* (hours)"]
["*Includes all process unit operating time during the reporting period including startup/shutdown, malfunction, and all times when CMS are inoperative or producing invalid readings."]
["Emission Data Summary [§63.867(c)(1)(iv) and (vii)]"]
["Index Number",{"$f":"IF(B14=\"\",\"\",MAX(CPMS1!B13:H13,CPMS2!B13:H13,CPMS3!B13:H13,CPMS4!B13:H13)+1)","v":""},null,{"$f":"IF(D14=\"\",\"\",B13+1)","v":""},null,{"$f":"IF(F14=\"\",\"\",MAX(B13:D13)+1)","v":""},null,{"$f":"IF(H14=\"\",\"\",MAX(B13:F13)+1)","v":""}]
["Operating parameter"]
["Averaging period"]
["Operating parameter limit (numerical value)"]
["   Operating limit units (text)"]
["Mark with an \"X\" if no excess emissions or exceedances of a parameter have occurred during the reporting period. [§63.10(e)(3)(v)]"]
["Mark with an \"X\" if the CMS has not been inoperative, out of control, repaired, or adjusted during the reporting period. [§63.10(e)(3)(v)]"]
[null,"Duration","Count","Duration","Count","Duration","Count","Duration","Count"]
["1. Duration of excess emissions in reporting period due to:1","Hours","No. of Averages4","Hours","No. of Averages4","Hours","No. of Averages4","Hours","No. of Averages4"]
["a. Startup/Shutdown"]
["b. Control Equipment Problems"]
["c. Process Problems"]
["d. Other known causes"]
["e. Unknown causes"]
["2. Total duration of excess emissions2",{"$f":"SUM(B22:B26)-IF(B14=\"scrubber pressure drop\",B22,0)","v":0},{"$f":"SUM(C22:C26)-IF(B14=\"scrubber pressure drop\",C22,0)","v":0},{"$f":"SUM(D22:D26)-IF(D14=\"scrubber pressure drop\",D22,0)","v":0},{"$f":"SUM(E22:E26)-IF(D14=\"scrubber pressure drop\",E22,0)","v":0},{"$f":"SUM(F22:F26)-IF(F14=\"scrubber pressure drop\",F22,0)","v":0},{"$f":"SUM(G22:G26)-IF(F14=\"scrubber pressure drop\",G22,0)","v":0},{"$f":"SUM(H22:H26)-IF(H14=\"scrubber pressure drop\",H22,0)","v":0},{"$f":"SUM(I22:I26)-IF(H14=\"scrubber pressure drop\",I22,0)","v":0}]
["3. (Total duration of excess emissions) / (Total Source Operating Time) x (100) %3",{"$f":"IF($B$10>0,B27/$B$10,0)","v":0},null,{"$f":"IF($B$10>0,D27/$B$10,0)","v":0},null,{"$f":"IF($B$10>0,F27/$B$10,0)","v":0},null,{"$f":"IF($B$10>0,H27/$B$10,0)","v":0}]
["Do excess emissions in row 3 exceed 1% of operating time?",{"$f":"IF(B28>0.01,\"Yes-Use detail form\",\"No\")","v":"No"},null,{"$f":"IF(D28>0.01,\"Yes-Use detail form\",\"No\")","v":"No"},null,{"$f":"IF(F28>0.01,\"Yes-Use detail form\",\"No\")","v":"No"},null,{"$f":"IF(H28>0.01,\"Yes-Use detail form\",\"No\")","v":"No"}]
["Is the violation level triggered in line 2 above?  \nViolation level: Six or more 3-hour average parameter values or any 3-hour average RTO temperature per semiannual period.",null,{"$f":"IF(C27<VLOOKUP(B14,Violations!$A$6:$D$10,4,FALSE),\"No\",\"Yes-Use detail and failure form\")","v":{"$error":"#N/A"}},null,{"$f":"IF(E27<VLOOKUP(D14,Violations!$A$6:$D$10,4,FALSE),\"No\",\"Yes-Use detail and failure form\")","v":{"$error":"#N/A"}},null,{"$f":"IF(G27<VLOOKUP(F14,Violations!$A$6:$D$10,4,FALSE),\"No\",\"Yes-Use detail and failure form\")","v":{"$error":"#N/A"}},null,{"$f":"IF(I27<VLOOKUP(H14,Violations!$A$6:$D$10,4,FALSE),\"No\",\"Yes-Use detail and failure form\")","v":{"$error":"#N/A"}}]
["CMS Performance Summary [§63.867(c)(1)(viii)]"]
["Operating parameter",{"$f":"B14","v":0},null,{"$f":"D14","v":0},null,{"$f":"F14","v":0},null,{"$f":"H14","v":0}]
[null,"Duration",null,"Duration",null,"Duration",null,"Duration"]
["1. CMS downtime in reporting period due to:","Hours",null,"Hours",null,"Hours",null,"Hours"]
["a. Monitoring equipment malfunctions"]
["b. Non-monitor equipment malfunctions"]
["c. Quality assurance/quality control calibration"]
["d. Other known causes"]
["e. Unknown causes"]
["2. Total CMS downtime",{"$f":"SUM(B35:B39)","v":0},null,0,null,0,null,0]
["3. (Total CMS downtime) / (Total Source Operating Time) x (100) %3",{"$f":"IF($B$10>0,B40/$B$10,0)","v":0},null,{"$f":"IF($B$10>0,D40/$B$10,0)","v":0},null,{"$f":"IF($B$10>0,F40/$B$10,0)","v":0},null,{"$f":"IF($B$10>0,H40/$B$10,0)","v":0}]
["Is total CMS downtime greater than 5% of total source operating time?",{"$f":"IF(B41>0.05,\"Yes-Use detail form\",\"No\")","v":"No"},null,{"$f":"IF(D41>0.05,\"Yes-Use detail form\",\"No\")","v":"No"},null,{"$f":"IF(F41>0.05,\"Yes-Use detail form\",\"No\")","v":"No"},null,{"$f":"IF(H41>0.05,\"Yes-Use detail form\",\"No\")","v":"No"}]
["If detailed reporting is required, enter the type and/or filename of the detailed report provided"]
["1. Enter the duration of excess emissions and number of averaging periods recorded as excess emissions, excluding:  "]
["● Monitoring data recorded during periods of unavoidable CMS breakdowns, out-of-control periods, repairs, maintenance periods, calibration checks, and zero (low-level) and high level adjustments [§63.864(h)]"]
["● Monitoring data recorded during periods when spent liquor solids (for recovery furnaces) or lime mud (for kilns) is not fired. [§63.864(k)(1), (k)(2)]"]
["2. Excludes periods of startup/shutdown for scrubber pressure drop."]
["3. If the total duration of excess emissions is 1% or greater of the total operating time, or the total CMS downtime is 5% or greater of the total operating time, both the Summary Report and the Excess Emissions "]
["and Continuous Monitoring Systems Performance Report must be submitted for this CMS and process unit. See the orange CMS Performance Detail and Excess Emissions Detail tabs to complete the Excess "]
["Emissions and Continuous Monitoring Systems Performance Report. [§63.867(c)(1) and (3)]"]
["4. Count: Enter the number of averaging periods recorded as excess emissions during the semiannual reporting period. No more than one exceedance will be attributed in any given 24-hour period as specified in §63.864(k)(3); "]
["thus, you are only required to enter one 3-hour average exceedance for a given 24-hour period."]
["Note: It is possible that the duration hours reported may exceed the hours associated with the count of averaging periods due the provision in §63.864(k)(3). "]

{"sheet":"CPMS6","index":22,"n_rows":53,"n_cols":9,"rows_kept":53,"cut":false,"hidden":true,"merged":[]}
["Summary Report – Gaseous and Opacity Excess Emissions and Continuous Monitoring System Performance"]
["Continuous Parameter Monitoring Systems -- 40 CFR Part 63, Subpart MM"]
[null,null,null,"Tab Name:",{"$f":"MID(CELL(\"filename\",A1),FIND(\"]\",CELL(\"filename\",A1))+1,255)","v":"CPMS6"}]
["Company and Site Name",{"$f":"' Facility_Info upload'!$B$24&\"--\"&' Facility_Info upload'!$C$24","v":"0--0"}]
["Reporting period dates (beginning date, ending date)",{"$f":"' Facility_Info upload'!$N$24&\" - \"&' Facility_Info upload'!$O$24","v":" - "}]
["Process Unit ID",{"$f":"INDEX(Unit_Info!$U$43:$U$62,MATCH(CPMS6!$E$3,Unit_Info!$T$43:$T$62,0))","v":{"$error":"#N/A"}}]
["Process Unit Type",{"$f":"INDEX(Unit_Info!$V$43:$V$62,MATCH(CPMS6!$E$3,Unit_Info!$T$43:$T$62,0))","v":{"$error":"#N/A"}}]
["Process Unit Description",{"$f":"INDEX(Unit_Info!$W$43:$W$62,MATCH(CPMS6!$E$3,Unit_Info!$T$43:$T$62,0))","v":{"$error":"#N/A"}}]
["Air Pollution Control Device Type",{"$f":"INDEX(Unit_Info!$X$43:$X$62,MATCH(CPMS6!$E$3,Unit_Info!$T$43:$T$62,0))","v":{"$error":"#N/A"}}]
["Total Source Operating Time* (hours)"]
["*Includes all process unit operating time during the reporting period including startup/shutdown, malfunction, and all times when CMS are inoperative or producing invalid readings."]
["Emission Data Summary [§63.867(c)(1)(iv) and (vii)]"]
["Index Number",{"$f":"IF(B14=\"\",\"\",MAX(CPMS1!B13:H13,CPMS2!B13:H13,CPMS3!B13:H13,CPMS4!B13:H13,CPMS5!B13:H13)+1)","v":""},null,{"$f":"IF(D14=\"\",\"\",B13+1)","v":""},null,{"$f":"IF(F14=\"\",\"\",MAX(B13:D13)+1)","v":""},null,{"$f":"IF(H14=\"\",\"\",MAX(B13:F13)+1)","v":""}]
["Operating parameter"]
["Averaging period"]
["Operating parameter limit (numerical value)"]
["   Operating limit units (text)"]
["Mark with an \"X\" if no excess emissions or exceedances of a parameter have occurred during the reporting period. [§63.10(e)(3)(v)]"]
["Mark with an \"X\" if the CMS has not been inoperative, out of control, repaired, or adjusted during the reporting period. [§63.10(e)(3)(v)]"]
[null,"Duration","Count","Duration","Count","Duration","Count","Duration","Count"]
["1. Duration of excess emissions in reporting period due to:1","Hours","No. of Averages4","Hours","No. of Averages4","Hours","No. of Averages4","Hours","No. of Averages4"]
["a. Startup/Shutdown"]
["b. Control Equipment Problems"]
["c. Process Problems"]
["d. Other known causes"]
["e. Unknown causes"]
["2. Total duration of excess emissions2",{"$f":"SUM(B22:B26)-IF(B14=\"scrubber pressure drop\",B22,0)","v":0},{"$f":"SUM(C22:C26)-IF(B14=\"scrubber pressure drop\",C22,0)","v":0},{"$f":"SUM(D22:D26)-IF(D14=\"scrubber pressure drop\",D22,0)","v":0},{"$f":"SUM(E22:E26)-IF(D14=\"scrubber pressure drop\",E22,0)","v":0},{"$f":"SUM(F22:F26)-IF(F14=\"scrubber pressure drop\",F22,0)","v":0},{"$f":"SUM(G22:G26)-IF(F14=\"scrubber pressure drop\",G22,0)","v":0},{"$f":"SUM(H22:H26)-IF(H14=\"scrubber pressure drop\",H22,0)","v":0},{"$f":"SUM(I22:I26)-IF(H14=\"scrubber pressure drop\",I22,0)","v":0}]
["3. (Total duration of excess emissions) / (Total Source Operating Time) x (100) %3",{"$f":"IF($B$10>0,B27/$B$10,0)","v":0},null,{"$f":"IF($B$10>0,D27/$B$10,0)","v":0},null,{"$f":"IF($B$10>0,F27/$B$10,0)","v":0},null,{"$f":"IF($B$10>0,H27/$B$10,0)","v":0}]
["Do excess emissions in row 3 exceed 1% of operating time?",{"$f":"IF(B28>0.01,\"Yes-Use detail form\",\"No\")","v":"No"},null,{"$f":"IF(D28>0.01,\"Yes-Use detail form\",\"No\")","v":"No"},null,{"$f":"IF(F28>0.01,\"Yes-Use detail form\",\"No\")","v":"No"},null,{"$f":"IF(H28>0.01,\"Yes-Use detail form\",\"No\")","v":"No"}]
["Is the violation level triggered in line 2 above?  \nViolation level: Six or more 3-hour average parameter values or any 3-hour average RTO temperature per semiannual period.",null,{"$f":"IF(C27<VLOOKUP(B14,Violations!$A$6:$D$10,4,FALSE),\"No\",\"Yes-Use detail and failure form\")","v":{"$error":"#N/A"}},null,{"$f":"IF(E27<VLOOKUP(D14,Violations!$A$6:$D$10,4,FALSE),\"No\",\"Yes-Use detail and failure form\")","v":{"$error":"#N/A"}},null,{"$f":"IF(G27<VLOOKUP(F14,Violations!$A$6:$D$10,4,FALSE),\"No\",\"Yes-Use detail and failure form\")","v":{"$error":"#N/A"}},null,{"$f":"IF(I27<VLOOKUP(H14,Violations!$A$6:$D$10,4,FALSE),\"No\",\"Yes-Use detail and failure form\")","v":{"$error":"#N/A"}}]
["CMS Performance Summary [§63.867(c)(1)(viii)]"]
["Operating parameter",{"$f":"B14","v":0},null,{"$f":"D14","v":0},null,{"$f":"F14","v":0},null,{"$f":"H14","v":0}]
[null,"Duration",null,"Duration",null,"Duration",null,"Duration"]
["1. CMS downtime in reporting period due to:","Hours",null,"Hours",null,"Hours",null,"Hours"]
["a. Monitoring equipment malfunctions"]
["b. Non-monitor equipment malfunctions"]
["c. Quality assurance/quality control calibration"]
["d. Other known causes"]
["e. Unknown causes"]
["2. Total CMS downtime",{"$f":"SUM(B35:B39)","v":0},null,0,null,0,null,0]
["3. (Total CMS downtime) / (Total Source Operating Time) x (100) %3",{"$f":"IF($B$10>0,B40/$B$10,0)","v":0},null,{"$f":"IF($B$10>0,D40/$B$10,0)","v":0},null,{"$f":"IF($B$10>0,F40/$B$10,0)","v":0},null,{"$f":"IF($B$10>0,H40/$B$10,0)","v":0}]
["Is total CMS downtime greater than 5% of total source operating time?",{"$f":"IF(B41>0.05,\"Yes-Use detail form\",\"No\")","v":"No"},null,{"$f":"IF(D41>0.05,\"Yes-Use detail form\",\"No\")","v":"No"},null,{"$f":"IF(F41>0.05,\"Yes-Use detail form\",\"No\")","v":"No"},null,{"$f":"IF(H41>0.05,\"Yes-Use detail form\",\"No\")","v":"No"}]
["If detailed reporting is required, enter the type and/or filename of the detailed report provided"]
["1. Enter the duration of excess emissions and number of averaging periods recorded as excess emissions, excluding:  "]
["● Monitoring data recorded during periods of unavoidable CMS breakdowns, out-of-control periods, repairs, maintenance periods, calibration checks, and zero (low-level) and high level adjustments [§63.864(h)]"]
["● Monitoring data recorded during periods when spent liquor solids (for recovery furnaces) or lime mud (for kilns) is not fired. [§63.864(k)(1), (k)(2)]"]
["2. Excludes periods of startup/shutdown for scrubber pressure drop."]
["3. If the total duration of excess emissions is 1% or greater of the total operating time, or the total CMS downtime is 5% or greater of the total operating time, both the Summary Report and the Excess Emissions "]
["and Continuous Monitoring Systems Performance Report must be submitted for this CMS and process unit. See the orange CMS Performance Detail and Excess Emissions Detail tabs to complete the Excess "]
["Emissions and Continuous Monitoring Systems Performance Report. [§63.867(c)(1) and (3)]"]
["4. Count: Enter the number of averaging periods recorded as excess emissions during the semiannual reporting period. No more than one exceedance will be attributed in any given 24-hour period as specified in §63.864(k)(3); "]
["thus, you are only required to enter one 3-hour average exceedance for a given 24-hour period."]
["Note: It is possible that the duration hours reported may exceed the hours associated with the count of averaging periods due the provision in §63.864(k)(3). "]

{"sheet":"CPMS7","index":23,"n_rows":53,"n_cols":9,"rows_kept":53,"cut":false,"hidden":true,"merged":[]}
["Summary Report – Gaseous and Opacity Excess Emissions and Continuous Monitoring System Performance"]
["Continuous Parameter Monitoring Systems -- 40 CFR Part 63, Subpart MM"]
[null,null,null,"Tab Name:",{"$f":"MID(CELL(\"filename\",A1),FIND(\"]\",CELL(\"filename\",A1))+1,255)","v":"CPMS7"}]
["Company and Site Name",{"$f":"' Facility_Info upload'!$B$24&\"--\"&' Facility_Info upload'!$C$24","v":"0--0"}]
["Reporting period dates (beginning date, ending date)",{"$f":"' Facility_Info upload'!$N$24&\" - \"&' Facility_Info upload'!$O$24","v":" - "}]
["Process Unit ID",{"$f":"INDEX(Unit_Info!$U$43:$U$62,MATCH(CPMS7!$E$3,Unit_Info!$T$43:$T$62,0))","v":{"$error":"#N/A"}}]
["Process Unit Type",{"$f":"INDEX(Unit_Info!$V$43:$V$62,MATCH(CPMS7!$E$3,Unit_Info!$T$43:$T$62,0))","v":{"$error":"#N/A"}}]
["Process Unit Description",{"$f":"INDEX(Unit_Info!$W$43:$W$62,MATCH(CPMS7!$E$3,Unit_Info!$T$43:$T$62,0))","v":{"$error":"#N/A"}}]
["Air Pollution Control Device Type",{"$f":"INDEX(Unit_Info!$X$43:$X$62,MATCH(CPMS7!$E$3,Unit_Info!$T$43:$T$62,0))","v":{"$error":"#N/A"}}]
["Total Source Operating Time* (hours)"]
["*Includes all process unit operating time during the reporting period including startup/shutdown, malfunction, and all times when CMS are inoperative or producing invalid readings."]
["Emission Data Summary [§63.867(c)(1)(iv) and (vii)]"]
["Index Number",{"$f":"IF(B14=\"\",\"\",MAX(CPMS1!B13:H13,CPMS2!B13:H13,CPMS3!B13:H13,CPMS4!B13:H13,CPMS5!B13:H13,CPMS6!B13:H13)+1)","v":""},null,{"$f":"IF(D14=\"\",\"\",B13+1)","v":""},null,{"$f":"IF(F14=\"\",\"\",MAX(B13:D13)+1)","v":""},null,{"$f":"IF(H14=\"\",\"\",MAX(B13:F13)+1)","v":""}]
["Operating parameter"]
["Averaging period"]
["Operating parameter limit (numerical value)"]
["   Operating limit units (text)"]
["Mark with an \"X\" if no excess emissions or exceedances of a parameter have occurred during the reporting period. [§63.10(e)(3)(v)]"]
["Mark with an \"X\" if the CMS has not been inoperative, out of control, repaired, or adjusted during the reporting period. [§63.10(e)(3)(v)]"]
[null,"Duration","Count","Duration","Count","Duration","Count","Duration","Count"]
["1. Duration of excess emissions in reporting period due to:1","Hours","No. of Averages4","Hours","No. of Averages4","Hours","No. of Averages4","Hours","No. of Averages4"]
["a. Startup/Shutdown"]
["b. Control Equipment Problems"]
["c. Process Problems"]
["d. Other known causes"]
["e. Unknown causes"]
["2. Total duration of excess emissions2",{"$f":"SUM(B22:B26)-IF(B14=\"scrubber pressure drop\",B22,0)","v":0},{"$f":"SUM(C22:C26)-IF(B14=\"scrubber pressure drop\",C22,0)","v":0},{"$f":"SUM(D22:D26)-IF(D14=\"scrubber pressure drop\",D22,0)","v":0},{"$f":"SUM(E22:E26)-IF(D14=\"scrubber pressure drop\",E22,0)","v":0},{"$f":"SUM(F22:F26)-IF(F14=\"scrubber pressure drop\",F22,0)","v":0},{"$f":"SUM(G22:G26)-IF(F14=\"scrubber pressure drop\",G22,0)","v":0},{"$f":"SUM(H22:H26)-IF(H14=\"scrubber pressure drop\",H22,0)","v":0},{"$f":"SUM(I22:I26)-IF(H14=\"scrubber pressure drop\",I22,0)","v":0}]
["3. (Total duration of excess emissions) / (Total Source Operating Time) x (100) %3",{"$f":"IF($B$10>0,B27/$B$10,0)","v":0},null,{"$f":"IF($B$10>0,D27/$B$10,0)","v":0},null,{"$f":"IF($B$10>0,F27/$B$10,0)","v":0},null,{"$f":"IF($B$10>0,H27/$B$10,0)","v":0}]
["Do excess emissions in row 3 exceed 1% of operating time?",{"$f":"IF(B28>0.01,\"Yes-Use detail form\",\"No\")","v":"No"},null,{"$f":"IF(D28>0.01,\"Yes-Use detail form\",\"No\")","v":"No"},null,{"$f":"IF(F28>0.01,\"Yes-Use detail form\",\"No\")","v":"No"},null,{"$f":"IF(H28>0.01,\"Yes-Use detail form\",\"No\")","v":"No"}]
["Is the violation level triggered in line 2 above?  \nViolation level: Six or more 3-hour average parameter values or any 3-hour average RTO temperature per semiannual period.",null,{"$f":"IF(C27<VLOOKUP(B14,Violations!$A$6:$D$10,4,FALSE),\"No\",\"Yes-Use detail and failure form\")","v":{"$error":"#N/A"}},null,{"$f":"IF(E27<VLOOKUP(D14,Violations!$A$6:$D$10,4,FALSE),\"No\",\"Yes-Use detail and failure form\")","v":{"$error":"#N/A"}},null,{"$f":"IF(G27<VLOOKUP(F14,Violations!$A$6:$D$10,4,FALSE),\"No\",\"Yes-Use detail and failure form\")","v":{"$error":"#N/A"}},null,{"$f":"IF(I27<VLOOKUP(H14,Violations!$A$6:$D$10,4,FALSE),\"No\",\"Yes-Use detail and failure form\")","v":{"$error":"#N/A"}}]
["CMS Performance Summary [§63.867(c)(1)(viii)]"]
["Operating parameter",{"$f":"B14","v":0},null,{"$f":"D14","v":0},null,{"$f":"F14","v":0},null,{"$f":"H14","v":0}]
[null,"Duration",null,"Duration",null,"Duration",null,"Duration"]
["1. CMS downtime in reporting period due to:","Hours",null,"Hours",null,"Hours",null,"Hours"]
["a. Monitoring equipment malfunctions"]
["b. Non-monitor equipment malfunctions"]
["c. Quality assurance/quality control calibration"]
["d. Other known causes"]
["e. Unknown causes"]
["2. Total CMS downtime",{"$f":"SUM(B35:B39)","v":0},null,0,null,0,null,0]
["3. (Total CMS downtime) / (Total Source Operating Time) x (100) %3",{"$f":"IF($B$10>0,B40/$B$10,0)","v":0},null,{"$f":"IF($B$10>0,D40/$B$10,0)","v":0},null,{"$f":"IF($B$10>0,F40/$B$10,0)","v":0},null,{"$f":"IF($B$10>0,H40/$B$10,0)","v":0}]
["Is total CMS downtime greater than 5% of total source operating time?",{"$f":"IF(B41>0.05,\"Yes-Use detail form\",\"No\")","v":"No"},null,{"$f":"IF(D41>0.05,\"Yes-Use detail form\",\"No\")","v":"No"},null,{"$f":"IF(F41>0.05,\"Yes-Use detail form\",\"No\")","v":"No"},null,{"$f":"IF(H41>0.05,\"Yes-Use detail form\",\"No\")","v":"No"}]
["If detailed reporting is required, enter the type and/or filename of the detailed report provided"]
["1. Enter the duration of excess emissions and number of averaging periods recorded as excess emissions, excluding:  "]
["● Monitoring data recorded during periods of unavoidable CMS breakdowns, out-of-control periods, repairs, maintenance periods, calibration checks, and zero (low-level) and high level adjustments [§63.864(h)]"]
["● Monitoring data recorded during periods when spent liquor solids (for recovery furnaces) or lime mud (for kilns) is not fired. [§63.864(k)(1), (k)(2)]"]
["2. Excludes periods of startup/shutdown for scrubber pressure drop."]
["3. If the total duration of excess emissions is 1% or greater of the total operating time, or the total CMS downtime is 5% or greater of the total operating time, both the Summary Report and the Excess Emissions "]
["and Continuous Monitoring Systems Performance Report must be submitted for this CMS and process unit. See the orange CMS Performance Detail and Excess Emissions Detail tabs to complete the Excess "]
["Emissions and Continuous Monitoring Systems Performance Report. [§63.867(c)(1) and (3)]"]
["4. Count: Enter the number of averaging periods recorded as excess emissions during the semiannual reporting period. No more than one exceedance will be attributed in any given 24-hour period as specified in §63.864(k)(3); "]
["thus, you are only required to enter one 3-hour average exceedance for a given 24-hour period."]
["Note: It is possible that the duration hours reported may exceed the hours associated with the count of averaging periods due the provision in §63.864(k)(3). "]

{"sheet":"CPMS8","index":24,"n_rows":53,"n_cols":9,"rows_kept":53,"cut":false,"hidden":true,"merged":[]}
["Summary Report – Gaseous and Opacity Excess Emissions and Continuous Monitoring System Performance"]
["Continuous Parameter Monitoring Systems -- 40 CFR Part 63, Subpart MM"]
[null,null,null,"Tab Name:",{"$f":"MID(CELL(\"filename\",A1),FIND(\"]\",CELL(\"filename\",A1))+1,255)","v":"CPMS8"}]
["Company and Site Name",{"$f":"' Facility_Info upload'!$B$24&\"--\"&' Facility_Info upload'!$C$24","v":"0--0"}]
["Reporting period dates (beginning date, ending date)",{"$f":"' Facility_Info upload'!$N$24&\" - \"&' Facility_Info upload'!$O$24","v":" - "}]
["Process Unit ID",{"$f":"INDEX(Unit_Info!$U$43:$U$62,MATCH(CPMS8!$E$3,Unit_Info!$T$43:$T$62,0))","v":{"$error":"#N/A"}}]
["Process Unit Type",{"$f":"INDEX(Unit_Info!$V$43:$V$62,MATCH(CPMS8!$E$3,Unit_Info!$T$43:$T$62,0))","v":{"$error":"#N/A"}}]
["Process Unit Description",{"$f":"INDEX(Unit_Info!$W$43:$W$62,MATCH(CPMS8!$E$3,Unit_Info!$T$43:$T$62,0))","v":{"$error":"#N/A"}}]
["Air Pollution Control Device Type",{"$f":"INDEX(Unit_Info!$X$43:$X$62,MATCH(CPMS8!$E$3,Unit_Info!$T$43:$T$62,0))","v":{"$error":"#N/A"}}]
["Total Source Operating Time* (hours)"]
["*Includes all process unit operating time during the reporting period including startup/shutdown, malfunction, and all times when CMS are inoperative or producing invalid readings."]
["Emission Data Summary [§63.867(c)(1)(iv) and (vii)]"]
["Index Number",{"$f":"IF(B14=\"\",\"\",MAX(CPMS1!B13:H13,CPMS2!B13:H13,CPMS3!B13:H13,CPMS4!B13:H13,CPMS5!B13:H13,CPMS6!B13:H13,CPMS7!B13:H13)+1)","v":""},null,{"$f":"IF(D14=\"\",\"\",B13+1)","v":""},null,{"$f":"IF(F14=\"\",\"\",MAX(B13:D13)+1)","v":""},null,{"$f":"IF(H14=\"\",\"\",MAX(B13:F13)+1)","v":""}]
["Operating parameter"]
["Averaging period"]
["Operating parameter limit (numerical value)"]
["   Operating limit units (text)"]
["Mark with an \"X\" if no excess emissions or exceedances of a parameter have occurred during the reporting period. [§63.10(e)(3)(v)]"]
["Mark with an \"X\" if the CMS has not been inoperative, out of control, repaired, or adjusted during the reporting period. [§63.10(e)(3)(v)]"]
[null,"Duration","Count","Duration","Count","Duration","Count","Duration","Count"]
["1. Duration of excess emissions in reporting period due to:1","Hours","No. of Averages4","Hours","No. of Averages4","Hours","No. of Averages4","Hours","No. of Averages4"]
["a. Startup/Shutdown"]
["b. Control Equipment Problems"]
["c. Process Problems"]
["d. Other known causes"]
["e. Unknown causes"]
["2. Total duration of excess emissions2",{"$f":"SUM(B22:B26)-IF(B14=\"scrubber pressure drop\",B22,0)","v":0},{"$f":"SUM(C22:C26)-IF(B14=\"scrubber pressure drop\",C22,0)","v":0},{"$f":"SUM(D22:D26)-IF(D14=\"scrubber pressure drop\",D22,0)","v":0},{"$f":"SUM(E22:E26)-IF(D14=\"scrubber pressure drop\",E22,0)","v":0},{"$f":"SUM(F22:F26)-IF(F14=\"scrubber pressure drop\",F22,0)","v":0},{"$f":"SUM(G22:G26)-IF(F14=\"scrubber pressure drop\",G22,0)","v":0},{"$f":"SUM(H22:H26)-IF(H14=\"scrubber pressure drop\",H22,0)","v":0},{"$f":"SUM(I22:I26)-IF(H14=\"scrubber pressure drop\",I22,0)","v":0}]
["3. (Total duration of excess emissions) / (Total Source Operating Time) x (100) %3",{"$f":"IF($B$10>0,B27/$B$10,0)","v":0},null,{"$f":"IF($B$10>0,D27/$B$10,0)","v":0},null,{"$f":"IF($B$10>0,F27/$B$10,0)","v":0},null,{"$f":"IF($B$10>0,H27/$B$10,0)","v":0}]
["Do excess emissions in row 3 exceed 1% of operating time?",{"$f":"IF(B28>0.01,\"Yes-Use detail form\",\"No\")","v":"No"},null,{"$f":"IF(D28>0.01,\"Yes-Use detail form\",\"No\")","v":"No"},null,{"$f":"IF(F28>0.01,\"Yes-Use detail form\",\"No\")","v":"No"},null,{"$f":"IF(H28>0.01,\"Yes-Use detail form\",\"No\")","v":"No"}]
["Is the violation level triggered in line 2 above?  \nViolation level: Six or more 3-hour average parameter values or any 3-hour average RTO temperature per semiannual period.",null,{"$f":"IF(C27<VLOOKUP(B14,Violations!$A$6:$D$10,4,FALSE),\"No\",\"Yes-Use detail and failure form\")","v":{"$error":"#N/A"}},null,{"$f":"IF(E27<VLOOKUP(D14,Violations!$A$6:$D$10,4,FALSE),\"No\",\"Yes-Use detail and failure form\")","v":{"$error":"#N/A"}},null,{"$f":"IF(G27<VLOOKUP(F14,Violations!$A$6:$D$10,4,FALSE),\"No\",\"Yes-Use detail and failure form\")","v":{"$error":"#N/A"}},null,{"$f":"IF(I27<VLOOKUP(H14,Violations!$A$6:$D$10,4,FALSE),\"No\",\"Yes-Use detail and failure form\")","v":{"$error":"#N/A"}}]
["CMS Performance Summary [§63.867(c)(1)(viii)]"]
["Operating parameter",{"$f":"B14","v":0},null,{"$f":"D14","v":0},null,{"$f":"F14","v":0},null,{"$f":"H14","v":0}]
[null,"Duration",null,"Duration",null,"Duration",null,"Duration"]
["1. CMS downtime in reporting period due to:","Hours",null,"Hours",null,"Hours",null,"Hours"]
["a. Monitoring equipment malfunctions"]
["b. Non-monitor equipment malfunctions"]
["c. Quality assurance/quality control calibration"]
["d. Other known causes"]
["e. Unknown causes"]
["2. Total CMS downtime",{"$f":"SUM(B35:B39)","v":0},null,0,null,0,null,0]
["3. (Total CMS downtime) / (Total Source Operating Time) x (100) %3",{"$f":"IF($B$10>0,B40/$B$10,0)","v":0},null,{"$f":"IF($B$10>0,D40/$B$10,0)","v":0},null,{"$f":"IF($B$10>0,F40/$B$10,0)","v":0},null,{"$f":"IF($B$10>0,H40/$B$10,0)","v":0}]
["Is total CMS downtime greater than 5% of total source operating time?",{"$f":"IF(B41>0.05,\"Yes-Use detail form\",\"No\")","v":"No"},null,{"$f":"IF(D41>0.05,\"Yes-Use detail form\",\"No\")","v":"No"},null,{"$f":"IF(F41>0.05,\"Yes-Use detail form\",\"No\")","v":"No"},null,{"$f":"IF(H41>0.05,\"Yes-Use detail form\",\"No\")","v":"No"}]
["If detailed reporting is required, enter the type and/or filename of the detailed report provided"]
["1. Enter the duration of excess emissions and number of averaging periods recorded as excess emissions, excluding:  "]
["● Monitoring data recorded during periods of unavoidable CMS breakdowns, out-of-control periods, repairs, maintenance periods, calibration checks, and zero (low-level) and high level adjustments [§63.864(h)]"]
["● Monitoring data recorded during periods when spent liquor solids (for recovery furnaces) or lime mud (for kilns) is not fired. [§63.864(k)(1), (k)(2)]"]
["2. Excludes periods of startup/shutdown for scrubber pressure drop."]
["3. If the total duration of excess emissions is 1% or greater of the total operating time, or the total CMS downtime is 5% or greater of the total operating time, both the Summary Report and the Excess Emissions "]
["and Continuous Monitoring Systems Performance Report must be submitted for this CMS and process unit. See the orange CMS Performance Detail and Excess Emissions Detail tabs to complete the Excess "]
["Emissions and Continuous Monitoring Systems Performance Report. [§63.867(c)(1) and (3)]"]
["4. Count: Enter the number of averaging periods recorded as excess emissions during the semiannual reporting period. No more than one exceedance will be attributed in any given 24-hour period as specified in §63.864(k)(3); "]
["thus, you are only required to enter one 3-hour average exceedance for a given 24-hour period."]
["Note: It is possible that the duration hours reported may exceed the hours associated with the count of averaging periods due the provision in §63.864(k)(3). "]

{"sheet":"CPMS9","index":25,"n_rows":53,"n_cols":9,"rows_kept":53,"cut":false,"hidden":true,"merged":[]}
["Summary Report – Gaseous and Opacity Excess Emissions and Continuous Monitoring System Performance"]
["Continuous Parameter Monitoring Systems -- 40 CFR Part 63, Subpart MM"]
[null,null,null,"Tab Name:",{"$f":"MID(CELL(\"filename\",A1),FIND(\"]\",CELL(\"filename\",A1))+1,255)","v":"CPMS9"}]
["Company and Site Name",{"$f":"' Facility_Info upload'!$B$24&\"--\"&' Facility_Info upload'!$C$24","v":"0--0"}]
["Reporting period dates (beginning date, ending date)",{"$f":"' Facility_Info upload'!$N$24&\" - \"&' Facility_Info upload'!$O$24","v":" - "}]
["Process Unit ID",{"$f":"INDEX(Unit_Info!$U$43:$U$62,MATCH(CPMS9!$E$3,Unit_Info!$T$43:$T$62,0))","v":{"$error":"#N/A"}}]
["Process Unit Type",{"$f":"INDEX(Unit_Info!$V$43:$V$62,MATCH(CPMS9!$E$3,Unit_Info!$T$43:$T$62,0))","v":{"$error":"#N/A"}}]
["Process Unit Description",{"$f":"INDEX(Unit_Info!$W$43:$W$62,MATCH(CPMS9!$E$3,Unit_Info!$T$43:$T$62,0))","v":{"$error":"#N/A"}}]
["Air Pollution Control Device Type",{"$f":"INDEX(Unit_Info!$X$43:$X$62,MATCH(CPMS9!$E$3,Unit_Info!$T$43:$T$62,0))","v":{"$error":"#N/A"}}]
["Total Source Operating Time* (hours)"]
["*Includes all process unit operating time during the reporting period including startup/shutdown, malfunction, and all times when CMS are inoperative or producing invalid readings."]
["Emission Data Summary [§63.867(c)(1)(iv) and (vii)]"]
["Index Number",{"$f":"IF(B14=\"\",\"\",MAX(CPMS1!B13:H13,CPMS2!B13:H13,CPMS3!B13:H13,CPMS4!B13:H13,CPMS5!B13:H13,CPMS6!B13:H13,CPMS7!B13:H13,CPMS8!B13:H13)+1)","v":""},null,{"$f":"IF(D14=\"\",\"\",B13+1)","v":""},null,{"$f":"IF(F14=\"\",\"\",MAX(B13:D13)+1)","v":""},null,{"$f":"IF(H14=\"\",\"\",MAX(B13:F13)+1)","v":""}]
["Operating parameter"]
["Averaging period"]
["Operating parameter limit (numerical value)"]
["   Operating limit units (text)"]
["Mark with an \"X\" if no excess emissions or exceedances of a parameter have occurred during the reporting period. [§63.10(e)(3)(v)]"]
["Mark with an \"X\" if the CMS has not been inoperative, out of control, repaired, or adjusted during the reporting period. [§63.10(e)(3)(v)]"]
[null,"Duration","Count","Duration","Count","Duration","Count","Duration","Count"]
["1. Duration of excess emissions in reporting period due to:1","Hours","No. of Averages4","Hours","No. of Averages4","Hours","No. of Averages4","Hours","No. of Averages4"]
["a. Startup/Shutdown"]
["b. Control Equipment Problems"]
["c. Process Problems"]
["d. Other known causes"]
["e. Unknown causes"]
["2. Total duration of excess emissions2",{"$f":"SUM(B22:B26)-IF(B14=\"scrubber pressure drop\",B22,0)","v":0},{"$f":"SUM(C22:C26)-IF(B14=\"scrubber pressure drop\",C22,0)","v":0},{"$f":"SUM(D22:D26)-IF(D14=\"scrubber pressure drop\",D22,0)","v":0},{"$f":"SUM(E22:E26)-IF(D14=\"scrubber pressure drop\",E22,0)","v":0},{"$f":"SUM(F22:F26)-IF(F14=\"scrubber pressure drop\",F22,0)","v":0},{"$f":"SUM(G22:G26)-IF(F14=\"scrubber pressure drop\",G22,0)","v":0},{"$f":"SUM(H22:H26)-IF(H14=\"scrubber pressure drop\",H22,0)","v":0},{"$f":"SUM(I22:I26)-IF(H14=\"scrubber pressure drop\",I22,0)","v":0}]
["3. (Total duration of excess emissions) / (Total Source Operating Time) x (100) %3",{"$f":"IF($B$10>0,B27/$B$10,0)","v":0},null,{"$f":"IF($B$10>0,D27/$B$10,0)","v":0},null,{"$f":"IF($B$10>0,F27/$B$10,0)","v":0},null,{"$f":"IF($B$10>0,H27/$B$10,0)","v":0}]
["Do excess emissions in row 3 exceed 1% of operating time?",{"$f":"IF(B28>0.01,\"Yes-Use detail form\",\"No\")","v":"No"},null,{"$f":"IF(D28>0.01,\"Yes-Use detail form\",\"No\")","v":"No"},null,{"$f":"IF(F28>0.01,\"Yes-Use detail form\",\"No\")","v":"No"},null,{"$f":"IF(H28>0.01,\"Yes-Use detail form\",\"No\")","v":"No"}]
["Is the violation level triggered in line 2 above?  \nViolation level: Six or more 3-hour average parameter values or any 3-hour average RTO temperature per semiannual period.",null,{"$f":"IF(C27<VLOOKUP(B14,Violations!$A$6:$D$10,4,FALSE),\"No\",\"Yes-Use detail and failure form\")","v":{"$error":"#N/A"}},null,{"$f":"IF(E27<VLOOKUP(D14,Violations!$A$6:$D$10,4,FALSE),\"No\",\"Yes-Use detail and failure form\")","v":{"$error":"#N/A"}},null,{"$f":"IF(G27<VLOOKUP(F14,Violations!$A$6:$D$10,4,FALSE),\"No\",\"Yes-Use detail and failure form\")","v":{"$error":"#N/A"}},null,{"$f":"IF(I27<VLOOKUP(H14,Violations!$A$6:$D$10,4,FALSE),\"No\",\"Yes-Use detail and failure form\")","v":{"$error":"#N/A"}}]
["CMS Performance Summary [§63.867(c)(1)(viii)]"]
["Operating parameter",{"$f":"B14","v":0},null,{"$f":"D14","v":0},null,{"$f":"F14","v":0},null,{"$f":"H14","v":0}]
[null,"Duration",null,"Duration",null,"Duration",null,"Duration"]
["1. CMS downtime in reporting period due to:","Hours",null,"Hours",null,"Hours",null,"Hours"]
["a. Monitoring equipment malfunctions"]
["b. Non-monitor equipment malfunctions"]
["c. Quality assurance/quality control calibration"]
["d. Other known causes"]
["e. Unknown causes"]
["2. Total CMS downtime",{"$f":"SUM(B35:B39)","v":0},null,0,null,0,null,0]
["3. (Total CMS downtime) / (Total Source Operating Time) x (100) %3",{"$f":"IF($B$10>0,B40/$B$10,0)","v":0},null,{"$f":"IF($B$10>0,D40/$B$10,0)","v":0},null,{"$f":"IF($B$10>0,F40/$B$10,0)","v":0},null,{"$f":"IF($B$10>0,H40/$B$10,0)","v":0}]
["Is total CMS downtime greater than 5% of total source operating time?",{"$f":"IF(B41>0.05,\"Yes-Use detail form\",\"No\")","v":"No"},null,{"$f":"IF(D41>0.05,\"Yes-Use detail form\",\"No\")","v":"No"},null,{"$f":"IF(F41>0.05,\"Yes-Use detail form\",\"No\")","v":"No"},null,{"$f":"IF(H41>0.05,\"Yes-Use detail form\",\"No\")","v":"No"}]
["If detailed reporting is required, enter the type and/or filename of the detailed report provided"]
["1. Enter the duration of excess emissions and number of averaging periods recorded as excess emissions, excluding:  "]
["● Monitoring data recorded during periods of unavoidable CMS breakdowns, out-of-control periods, repairs, maintenance periods, calibration checks, and zero (low-level) and high level adjustments [§63.864(h)]"]
["● Monitoring data recorded during periods when spent liquor solids (for recovery furnaces) or lime mud (for kilns) is not fired. [§63.864(k)(1), (k)(2)]"]
["2. Excludes periods of startup/shutdown for scrubber pressure drop."]
["3. If the total duration of excess emissions is 1% or greater of the total operating time, or the total CMS downtime is 5% or greater of the total operating time, both the Summary Report and the Excess Emissions "]
["and Continuous Monitoring Systems Performance Report must be submitted for this CMS and process unit. See the orange CMS Performance Detail and Excess Emissions Detail tabs to complete the Excess "]
["Emissions and Continuous Monitoring Systems Performance Report. [§63.867(c)(1) and (3)]"]
["4. Count: Enter the number of averaging periods recorded as excess emissions during the semiannual reporting period. No more than one exceedance will be attributed in any given 24-hour period as specified in §63.864(k)(3); "]
["thus, you are only required to enter one 3-hour average exceedance for a given 24-hour period."]
["Note: It is possible that the duration hours reported may exceed the hours associated with the count of averaging periods due the provision in §63.864(k)(3). "]

{"sheet":"CPMS10","index":26,"n_rows":53,"n_cols":9,"rows_kept":53,"cut":false,"hidden":true,"merged":[]}
["Summary Report – Gaseous and Opacity Excess Emissions and Continuous Monitoring System Performance"]
["Continuous Parameter Monitoring Systems -- 40 CFR Part 63, Subpart MM"]
[null,null,null,"Tab Name:",{"$f":"MID(CELL(\"filename\",A1),FIND(\"]\",CELL(\"filename\",A1))+1,255)","v":"CPMS10"}]
["Company and Site Name",{"$f":"' Facility_Info upload'!$B$24&\"--\"&' Facility_Info upload'!$C$24","v":"0--0"}]
["Reporting period dates (beginning date, ending date)",{"$f":"' Facility_Info upload'!$N$24&\" - \"&' Facility_Info upload'!$O$24","v":" - "}]
["Process Unit ID",{"$f":"INDEX(Unit_Info!$U$43:$U$62,MATCH(CPMS10!$E$3,Unit_Info!$T$43:$T$62,0))","v":{"$error":"#N/A"}}]
["Process Unit Type",{"$f":"INDEX(Unit_Info!$V$43:$V$62,MATCH(CPMS10!$E$3,Unit_Info!$T$43:$T$62,0))","v":{"$error":"#N/A"}}]
["Process Unit Description",{"$f":"INDEX(Unit_Info!$W$43:$W$62,MATCH(CPMS10!$E$3,Unit_Info!$T$43:$T$62,0))","v":{"$error":"#N/A"}}]
["Air Pollution Control Device Type",{"$f":"INDEX(Unit_Info!$X$43:$X$62,MATCH(CPMS10!$E$3,Unit_Info!$T$43:$T$62,0))","v":{"$error":"#N/A"}}]
["Total Source Operating Time* (hours)"]
["*Includes all process unit operating time during the reporting period including startup/shutdown, malfunction, and all times when CMS are inoperative or producing invalid readings."]
["Emission Data Summary [§63.867(c)(1)(iv) and (vii)]"]
["Index Number",{"$f":"IF(B14=\"\",\"\",MAX(CPMS1!B13:H13,CPMS2!B13:H13,CPMS3!B13:H13,CPMS4!B13:H13,CPMS5!B13:H13,CPMS6!B13:H13,CPMS7!B13:H13,CPMS8!B13:H13,CPMS9!B13:H13)+1)","v":""},null,{"$f":"IF(D14=\"\",\"\",B13+1)","v":""},null,{"$f":"IF(F14=\"\",\"\",MAX(B13:D13)+1)","v":""},null,{"$f":"IF(H14=\"\",\"\",MAX(B13:F13)+1)","v":""}]
["Operating parameter"]
["Averaging period"]
["Operating parameter limit (numerical value)"]
["   Operating limit units (text)"]
["Mark with an \"X\" if no excess emissions or exceedances of a parameter have occurred during the reporting period. [§63.10(e)(3)(v)]"]
["Mark with an \"X\" if the CMS has not been inoperative, out of control, repaired, or adjusted during the reporting period. [§63.10(e)(3)(v)]"]
[null,"Duration","Count","Duration","Count","Duration","Count","Duration","Count"]
["1. Duration of excess emissions in reporting period due to:1","Hours","No. of Averages4","Hours","No. of Averages4","Hours","No. of Averages4","Hours","No. of Averages4"]
["a. Startup/Shutdown"]
["b. Control Equipment Problems"]
["c. Process Problems"]
["d. Other known causes"]
["e. Unknown causes"]
["2. Total duration of excess emissions2",{"$f":"SUM(B22:B26)-IF(B14=\"scrubber pressure drop\",B22,0)","v":0},{"$f":"SUM(C22:C26)-IF(B14=\"scrubber pressure drop\",C22,0)","v":0},{"$f":"SUM(D22:D26)-IF(D14=\"scrubber pressure drop\",D22,0)","v":0},{"$f":"SUM(E22:E26)-IF(D14=\"scrubber pressure drop\",E22,0)","v":0},{"$f":"SUM(F22:F26)-IF(F14=\"scrubber pressure drop\",F22,0)","v":0},{"$f":"SUM(G22:G26)-IF(F14=\"scrubber pressure drop\",G22,0)","v":0},{"$f":"SUM(H22:H26)-IF(H14=\"scrubber pressure drop\",H22,0)","v":0},{"$f":"SUM(I22:I26)-IF(H14=\"scrubber pressure drop\",I22,0)","v":0}]
["3. (Total duration of excess emissions) / (Total Source Operating Time) x (100) %3",{"$f":"IF($B$10>0,B27/$B$10,0)","v":0},null,{"$f":"IF($B$10>0,D27/$B$10,0)","v":0},null,{"$f":"IF($B$10>0,F27/$B$10,0)","v":0},null,{"$f":"IF($B$10>0,H27/$B$10,0)","v":0}]
["Do excess emissions in row 3 exceed 1% of operating time?",{"$f":"IF(B28>0.01,\"Yes-Use detail form\",\"No\")","v":"No"},null,{"$f":"IF(D28>0.01,\"Yes-Use detail form\",\"No\")","v":"No"},null,{"$f":"IF(F28>0.01,\"Yes-Use detail form\",\"No\")","v":"No"},null,{"$f":"IF(H28>0.01,\"Yes-Use detail form\",\"No\")","v":"No"}]
["Is the violation level triggered in line 2 above?  \nViolation level: Six or more 3-hour average parameter values or any 3-hour average RTO temperature per semiannual period.",null,{"$f":"IF(C27<VLOOKUP(B14,Violations!$A$6:$D$10,4,FALSE),\"No\",\"Yes-Use detail and failure form\")","v":{"$error":"#N/A"}},null,{"$f":"IF(E27<VLOOKUP(D14,Violations!$A$6:$D$10,4,FALSE),\"No\",\"Yes-Use detail and failure form\")","v":{"$error":"#N/A"}},null,{"$f":"IF(G27<VLOOKUP(F14,Violations!$A$6:$D$10,4,FALSE),\"No\",\"Yes-Use detail and failure form\")","v":{"$error":"#N/A"}},null,{"$f":"IF(I27<VLOOKUP(H14,Violations!$A$6:$D$10,4,FALSE),\"No\",\"Yes-Use detail and failure form\")","v":{"$error":"#N/A"}}]
["CMS Performance Summary [§63.867(c)(1)(viii)]"]
["Operating parameter",{"$f":"B14","v":0},null,{"$f":"D14","v":0},null,{"$f":"F14","v":0},null,{"$f":"H14","v":0}]
[null,"Duration",null,"Duration",null,"Duration",null,"Duration"]
["1. CMS downtime in reporting period due to:","Hours",null,"Hours",null,"Hours",null,"Hours"]
["a. Monitoring equipment malfunctions"]
["b. Non-monitor equipment malfunctions"]
["c. Quality assurance/quality control calibration"]
["d. Other known causes"]
["e. Unknown causes"]
["2. Total CMS downtime",{"$f":"SUM(B35:B39)","v":0},null,0,null,0,null,0]
["3. (Total CMS downtime) / (Total Source Operating Time) x (100) %3",{"$f":"IF($B$10>0,B40/$B$10,0)","v":0},null,{"$f":"IF($B$10>0,D40/$B$10,0)","v":0},null,{"$f":"IF($B$10>0,F40/$B$10,0)","v":0},null,{"$f":"IF($B$10>0,H40/$B$10,0)","v":0}]
["Is total CMS downtime greater than 5% of total source operating time?",{"$f":"IF(B41>0.05,\"Yes-Use detail form\",\"No\")","v":"No"},null,{"$f":"IF(D41>0.05,\"Yes-Use detail form\",\"No\")","v":"No"},null,{"$f":"IF(F41>0.05,\"Yes-Use detail form\",\"No\")","v":"No"},null,{"$f":"IF(H41>0.05,\"Yes-Use detail form\",\"No\")","v":"No"}]
["If detailed reporting is required, enter the type and/or filename of the detailed report provided"]
["1. Enter the duration of excess emissions and number of averaging periods recorded as excess emissions, excluding:  "]
["● Monitoring data recorded during periods of unavoidable CMS breakdowns, out-of-control periods, repairs, maintenance periods, calibration checks, and zero (low-level) and high level adjustments [§63.864(h)]"]
["● Monitoring data recorded during periods when spent liquor solids (for recovery furnaces) or lime mud (for kilns) is not fired. [§63.864(k)(1), (k)(2)]"]
["2. Excludes periods of startup/shutdown for scrubber pressure drop."]
["3. If the total duration of excess emissions is 1% or greater of the total operating time, or the total CMS downtime is 5% or greater of the total operating time, both the Summary Report and the Excess Emissions "]
["and Continuous Monitoring Systems Performance Report must be submitted for this CMS and process unit. See the orange CMS Performance Detail and Excess Emissions Detail tabs to complete the Excess "]
["Emissions and Continuous Monitoring Systems Performance Report. [§63.867(c)(1) and (3)]"]
["4. Count: Enter the number of averaging periods recorded as excess emissions during the semiannual reporting period. No more than one exceedance will be attributed in any given 24-hour period as specified in §63.864(k)(3); "]
["thus, you are only required to enter one 3-hour average exceedance for a given 24-hour period."]
["Note: It is possible that the duration hours reported may exceed the hours associated with the count of averaging periods due the provision in §63.864(k)(3). "]

{"sheet":"CMS_Process_Control_Changes","index":27,"n_rows":13,"n_cols":1,"rows_kept":13,"cut":false,"hidden":false,"merged":[]}
[{"$f":"Welcome!B6","v":"OMB Control Number: 2060-077       Expiration Date: 12/31/2021"}]
[{"$f":"+Welcome!$B$2","v":"63.860(c) Excess Emissions Report"}]
[{"$f":"+Welcome!$B$3","v":"63.867(d)(2)"}]
[{"$f":"+Welcome!$B$4","v":"v1.00"}]
[{"$f":"+Welcome!$B$5","v":"2019-02-26"}]
[]
["CMS, Process, and Control Changes"]
["Description of changes to CMS, processes, or controls since last reporting period."]
[]
["Describe any CMS, process, or control changes which have occurred since the last reporting period. [§63.867(c)(1)(ix)]"]
[]
[]
["CmsChangesDesc"]

{"sheet":"CMS Detail","index":28,"n_rows":123,"n_cols":8,"rows_kept":123,"cut":false,"hidden":false,"merged":[]}
[{"$f":"Welcome!B6","v":"OMB Control Number: 2060-077       Expiration Date: 12/31/2021"}]
["Excess Emissions and Continuous Monitoring System Performance Report"]
["CMS Performance Detail Report -- 40 CFR Part 63, Subpart MM"]
["Submit this CMS Detail Report (and the corresponding Excess Emissions Detail Report)* with your Summary Report when [§63.867(c)(3)]:"]
["● Total CMS downtime is greater than 5 percent of the total source operating time during the reporting period, or "]
["● The CMS shows excess emissions for more than 1 percent of the operating time in the reporting period, or"]
["● There was a violation according to 40 CFR 63.864(k)(2) of subpart MM. "]
["  *You may upload the required information into CEDRI using a separate file or alternative file format that differs from this tab if desired."]
[]
["Company and Site Name",null,null,null,null,{"$f":"' Facility_Info upload'!$B$24&\"--\"&' Facility_Info upload'!$C$24","v":"0--0"}]
["Reporting period dates (beginning date, ending date)",null,null,null,null,{"$f":"' Facility_Info upload'!$N$24&\" - \"&' Facility_Info upload'!$O$24","v":" - "}]
["Process Unit ID"]
["Process Unit Type"]
["Process Unit Description",null,null,null,null,{"$f":"IFERROR(VLOOKUP($F$12,Unit_Info!$B$24:$D$33,3,FALSE),\"\")","v":""}]
["Air Pollution Control Device Type"]
["Process Unit Emission Point"]
["Operating parameter"]
[]
["CMS Details:"]
["[§63.867(c)(3)(i)-(ii)]",null,null,null,null,"[§63.867(c)(3)(iv)]","[§63.867(c)(3)(v)-(vi)]","[§63.867(c)(1)(viii)]"]
["Start date*","Start time","End date*","End time","Duration (hours)","Cause of the event","Corrective action, preventative measure, CMS repair, or CMS adjustment","Type of CMS inoperative or out of control period"]
[]
[]
[]
[]
[]
[]
[]
[]
[]
[]
[]
[]
[]
[]
[]
[]
[]
[]
[]
[]
[]
[]
[]
[]
[]
[]
[]
[]
[]
[]
[]
[]
[]
[]
[]
[]
[]
[]
[]
[]
[]
[]
[]
[]
[]
[]
[]
[]
[]
[]
[]
[]
[]
[]
[]
[]
[]
[]
[]
[]
[]
[]
[]
[]
[]
[]
[]
[]
[]
[]
[]
[]
[]
[]
[]
[]
[]
[]
[]
[]
[]
[]
[]
[]
[]
[]
[]
[]
[]
[]
[]
[]
[]
[]
[]
[]
[]
[]
[]
[]
[null,null,"Total duration:",null,{"$f":"SUM(E22:E121)","v":0}]
["*Date and time fields can be combined if necessary (e.g., if combined in facility records).",null,null,null,null,null,"Insert or hide rows in this table as needed."]

{"sheet":"EE Detail","index":29,"n_rows":59,"n_cols":8,"rows_kept":59,"cut":false,"hidden":false,"merged":[]}
[{"$f":"Welcome!B6","v":"OMB Control Number: 2060-077       Expiration Date: 12/31/2021"}]
["Excess Emissions and Continuous Monitoring System Performance Report"]
["Excess Emissions Detail Report -- 40 CFR Part 63, Subpart MM"]
["Submit this Excess Emissions Detail Report (and the corresponding CMS Performance Detail Report)* with your Summary Report when [§63.867(c)(3)]:"]
["● Total CMS downtime is greater than 5 percent of the total source operating time during the reporting period, or "]
["● The CMS shows excess emissions for more than 1 percent of the operating time in the reporting period, or"]
["● There was a violation according to 40 CFR 63.864(k)(2) of subpart MM. "]
["Reporting monitoring exceedances does not constitute a violation of the applicable standard unless the criteria in §63.864(k)(2) and (k)(3) are reached."]
["  *You may upload the required information into CEDRI using a separate file or alternative file format that differs from this tab if desired."]
[]
["Company and Site Name",null,{"$f":"' Facility_Info upload'!$B$24&\"--\"&' Facility_Info upload'!$C$24","v":"0--0"}]
["Reporting period dates",null,{"$f":"' Facility_Info upload'!$N$24&\" - \"&' Facility_Info upload'!$O$24","v":" - "}]
["Process Unit ID"]
["Process Unit Type"]
["Process Unit Description",null,{"$f":"IFERROR(VLOOKUP($C$13,Unit_Info!$B$24:$D$33,3,FALSE),\"\")","v":""}]
["APCD Type"]
["Process Unit Emission Point"]
["Operating parameter"]
[]
["Report excess emissions in the table below, including periods when opacity limits are exceeded or times when operating parameter limits are not met. Insert or hide rows in this table as needed."]
["§63.867(c)(3)(iii)(A)(5), (C)(3), (D)(3), and (E)(4); (c)(3)(iv); and (c)(3)(v)"]
["Start date/time","End date/time","Excess emission duration","Duration units","Cause of the exceeedance","Corrective action or preventative measure","Type of exceedance","Excluded data1"]
[]
[]
[]
[]
[]
[]
[]
[]
[]
[]
[]
[]
[]
[]
[]
[]
[]
[]
[]
[]
[]
[]
[]
[]
[]
[]
[]
[]
[]
[]
[]
[null,"Total duration:",{"$f":"SUM(C23:C53)","v":0}]
[null,"Total duration minus excluded data1",{"$f":"SUMIF(H23:H53,\"\",C23:C53)","v":0}]
[]
["1. Data from the following periods are excluded from data averages:"]
["● Monitoring data recorded during periods of unavoidable CMS breakdowns, out-of-control periods, repairs, maintenance periods, calibration checks, and zero (low-level) and high level adjustments [§63.864(h)]"]
["● Monitoring data recorded during periods when spent liquor solids (for recovery furnaces) or lime mud (for kilns) is not fired. [§63.864(k)(1), (k)(2)]"]

{"sheet":"Failures","index":30,"n_rows":56,"n_cols":12,"rows_kept":56,"cut":false,"hidden":false,"merged":[]}
[{"$f":"Welcome!B6","v":"OMB Control Number: 2060-077       Expiration Date: 12/31/2021"}]
["Excess Emissions and Continuous Monitoring System Performance Report"]
["Report of Failure to Meet Standards -- 40 CFR Part 63, Subpart MM"]
["Report failures to meet applicable standards in the table below.* [§63.867(c)(4)]"]
["Failures include violations of the emission limits or operating limits under subpart MM."]
["  *You may upload the required information into CEDRI using a separate file or alternative file format that differs from this tab if desired."]
["Company and Site Name",null,{"$f":"' Facility_Info upload'!$B$24&\"--\"&' Facility_Info upload'!$C$24","v":"0--0"}]
["Reporting period dates",null,{"$f":"' Facility_Info upload'!$N$24&\" - \"&' Facility_Info upload'!$O$24","v":" - "}]
["Process Unit ID"]
["Process Unit Type"]
["Process Unit Description",null,{"$f":"IFERROR(VLOOKUP($C$9,Unit_Info!$B$24:$D$33,3,FALSE),\"\")","v":""}]
["APCD Type"]
["Process Unit Emission Point"]
[]
[null,null,null,null,null,null,"Estimate the quantity of each regulated pollutant emitted over any emission limit:3"]
[null,null,null,null,null,null,"Pollutant 13",null,null,"Pollutant 23"]
["Emission Limit or Operating Limit in Violation1","Start Date2","Start Time2","Duration","Duration units","Method used to estimate emissions over any emission limit3","Emission Limit Failed","Units of emission limit","Magnitude of excess emissions (pounds)","Emission Limit Failed","Units of emission limit","Magnitude of excess emissions (pounds)"]
[]
[]
[]
[]
[]
[]
[]
[]
[]
[]
[]
[]
[]
[]
[]
[]
[]
[]
[]
[]
[]
[]
[]
[]
[]
[]
[]
[]
[]
[]
[]
[null,null,null,null,null,null,null,"Total (lbs):",{"$f":"SUM(I18:I48)","v":0},null,"Total (lbs):",{"$f":"SUM(L18:L48)","v":0}]
[null,null,null,null,null,null,null,"Total (tons):",{"$f":"I49/2000","v":0},null,"Total (tons):",{"$f":"L49/2000","v":0}]
["1. When the violation involves a specific number of operating limits, you would record the duration for all of the parameter averages in excess of the operating limit, including the first operating parameter or opacity averages recorded before"]
[" a violation is triggered. For example, if your process unit has a 3% opacity monitoring allowance but 4% of 6-minute opacity averages exceed the opacity limit, you would record all 4% of the opacity averages in exceedance in the table. "]
["Similarly, for process units with no more than 6 parameter averages in separate 24-hour periods allowed to be incurred before a violation is triggered, you would record the first 6 and all other parameter average exceedances "]
["regardless of the 24-hour period in which they occurred."]
["2. Date and time fields can be combined if necessary (e.g., if combined in facility records)."]
["3. These columns apply if you had a failure of one of the subpart MM emission limits for PM (metal HAP), methanol, or total hydrocarbon (THC)."]

{"sheet":"Certification","index":31,"n_rows":25,"n_cols":6,"rows_kept":25,"cut":false,"hidden":false,"merged":[]}
["DO NOT REMOVE OR EDIT INFORMATION IN ROWS 1 THROUGH 5\nFOR INTERNAL USE ONLY"]
["Template Name",{"$f":"Welcome!B2","v":"63.860(c) Excess Emissions Report"}]
["CitationID",{"$f":"+Welcome!B3","v":"63.867(d)(2)"}]
["Template Version",{"$f":"+Welcome!B4","v":"v1.00"}]
["Last Updated Date",{"$f":"+Welcome!B5","v":"2019-02-26"}]
["Excess Emissions and Continuous Monitoring System Performance Report"]
["Certification"]
["Complete this form when you have completed the semiannual compliance report."]
[" §63.867(c)(1)(x) Statement by a responsible official with that official's name, title, and signature, certifying the truth, accuracy, and completeness of the content of the report."]
["* Required Field"]
["Instruction:","By signing the box below, you agree that this certification statement is true (Type Name):","\"I certify that the information provided in this semiannual compliance report spreadsheet template are (to the best of my knowledge) true, accurate, and complete.\""]
["Field:","Signature *","Official's Name *","Title *","Company","Date Signed"]
["XML Tag:"]
[]
[]
[]
[]
[]
[]
[]
[]
[]
[]
[1]
[" "]

{"sheet":"Revisions","index":32,"n_rows":2,"n_cols":2,"rows_kept":2,"cut":false,"hidden":true,"merged":[]}
["Date","Description"]
["2019-03-14","Updated State dropdown to include VI, PR, AS, MP, and GU"]

{"sheet":"Violations","index":33,"n_rows":23,"n_cols":4,"rows_kept":23,"cut":false,"hidden":true,"merged":[]}
[]
["Blue = Cells used in VLOOKUP function in CPMS or COMS tabs"]
[]
["Corrective Action and Violation Levels for CPMS -- Lookup Table"]
["Parameters","Corrective action during times when spent liquor or lime mud is fired - §63.864(k)(1)","Violation levels - No. of averaging periods during times when spent liquor or lime mud is fired within the semiannual reporting period - §63.864(k)(2)","Lookup violation limit (must have less than….)"]
["Scrubber liquid flow","Any 3-hour average is below the minimum limit","6 or more 3-hour averages are below the minimum limit",6]
["Scrubber pressure drop","Any 3-hour average is below the minimum limit except during S/S","6 or more 3-hour averages are below the minimum limit except during S/S",6]
["SDT scrubber fan amperage","Any 3-hour average is below the minimum limit","6 or more 3-hour averages are below the minimum limit",6]
["RTO temperature (3-hr)","Any 1-hour average is below the minimum limit","Any 3-hour average falls below the minimum limit",1]
["Alternative parameter (3-hr)","Any 3-hour average does not meet the operating limit","6 or more 3-hour averages do not meet the limit",6]
["RTO temperature (1-hr)","Any 1-hour average is below the minimum limit","Not applicable"]
["Hog fuel dryer at Cosmopolis, WA mill","Bag leak detection system alarm sounds","Corrective action is not initiated within 1 hour of alarm and the alarm is engaged for more than 5% of total operating time"]
[]
[]
[]
[]
[]
[]
["Violation Levels for COMS + Semiannual ESP Parameters -- Lookup Table"]
["Parameters","Corrective action during times when spent liquor or lime mud is fired - §63.864(k)(1)","Violation levels - No. of averaging periods during times when spent liquor or lime mud is fired within the semiannual reporting period - §63.864(k)(2)","Lookup violation limit"]
["Recovery furnace opacity","The average of ten consecutive 6-minute averages result in a measurement greater than 20 percent opacity","Opacity greater than 35% (for existing) or 20% (for new) for 2% or more of operating time*",0.02]
["Lime kiln opacity","The average of ten consecutive 6-minute averages result in a measurement greater than 20 percent opacity","Opacity greater than 20% for 3% or more of operating time*",0.03]
["*Applies for recovery furnaces and lime kilns with ESP control."]

{"sheet":"Lists","index":34,"n_rows":41,"n_cols":12,"rows_kept":41,"cut":false,"hidden":true,"merged":[]}
[]
["COMS1",1,{"$f":"INDEX(COMSLIST,MATCH(1,--(COUNTIF(INDIRECT(\"'\"&COMSLIST&\"'!$B$15:$i$15\"),B2)),0))","v":{"$error":"#N/A"}},{"$f":"MID(ADDRESS(1,MATCH(B2,INDIRECT(\"'\"&C2&\"'!$a$15:$i$15\"),0),1),2,1)","v":{"$error":"#N/A"}},{"$f":"+IF(D2=\"B\",\"C\",IF(D2=\"D\",\"E\",IF(D2=\"F\",\"G\",IF(D2=\"H\",\"I\",\"\"))))","v":{"$error":"#N/A"}},null,null,"CPMS1",1,{"$f":"INDEX(CPMSList,MATCH(1,--(COUNTIF(INDIRECT(\"'\"&CPMSList&\"'!$B$14:$i$14\"),I2)),0))","v":{"$error":"#N/A"}},{"$f":"MID(ADDRESS(1,MATCH(I2,INDIRECT(\"'\"&J2&\"'!$a$14:$i$14\"),0),1),2,1)","v":{"$error":"#N/A"}},{"$f":"+IF(K2=\"B\",\"C\",IF(K2=\"D\",\"E\",IF(K2=\"F\",\"G\",IF(K2=\"H\",\"I\",\"\"))))","v":{"$error":"#N/A"}}]
["COMS2",2,{"$f":"INDEX(COMSLIST,MATCH(1,--(COUNTIF(INDIRECT(\"'\"&COMSLIST&\"'!$B$15:$i$15\"),B3)),0))","v":{"$error":"#N/A"}},{"$f":"MID(ADDRESS(1,MATCH(B3,INDIRECT(\"'\"&C3&\"'!$a$15:$i$15\"),0),1),2,1)","v":{"$error":"#N/A"}},{"$f":"+IF(D3=\"B\",\"C\",IF(D3=\"D\",\"E\",IF(D3=\"F\",\"G\",IF(D3=\"H\",\"I\",\"\"))))","v":{"$error":"#N/A"}},null,null,"CPMS2",2,{"$f":"INDEX(CPMSList,MATCH(1,--(COUNTIF(INDIRECT(\"'\"&CPMSList&\"'!$B$14:$i$14\"),I3)),0))","v":{"$error":"#N/A"}},{"$f":"MID(ADDRESS(1,MATCH(I3,INDIRECT(\"'\"&J3&\"'!$a$14:$i$14\"),0),1),2,1)","v":{"$error":"#N/A"}},{"$f":"+IF(K3=\"B\",\"C\",IF(K3=\"D\",\"E\",IF(K3=\"F\",\"G\",IF(K3=\"H\",\"I\",\"\"))))","v":{"$error":"#N/A"}}]
["COMS3",3,{"$f":"INDEX(COMSLIST,MATCH(1,--(COUNTIF(INDIRECT(\"'\"&COMSLIST&\"'!$B$15:$i$15\"),B4)),0))","v":{"$error":"#N/A"}},{"$error":"#N/A"},{"$error":"#N/A"},null,null,"CPMS3",3,{"$f":"INDEX(CPMSList,MATCH(1,--(COUNTIF(INDIRECT(\"'\"&CPMSList&\"'!$B$14:$i$14\"),I4)),0))","v":{"$error":"#N/A"}},{"$f":"MID(ADDRESS(1,MATCH(I4,INDIRECT(\"'\"&J4&\"'!$a$14:$i$14\"),0),1),2,1)","v":{"$error":"#N/A"}},{"$error":"#N/A"}]
["COMS4",4,{"$f":"INDEX(COMSLIST,MATCH(1,--(COUNTIF(INDIRECT(\"'\"&COMSLIST&\"'!$B$15:$i$15\"),B5)),0))","v":{"$error":"#N/A"}},{"$error":"#N/A"},{"$error":"#N/A"},null,null,"CPMS4",4,{"$f":"INDEX(CPMSList,MATCH(1,--(COUNTIF(INDIRECT(\"'\"&CPMSList&\"'!$B$14:$i$14\"),I5)),0))","v":{"$error":"#N/A"}},{"$f":"MID(ADDRESS(1,MATCH(I5,INDIRECT(\"'\"&J5&\"'!$a$14:$i$14\"),0),1),2,1)","v":{"$error":"#N/A"}},{"$error":"#N/A"}]
["COMS5",5,{"$f":"INDEX(COMSLIST,MATCH(1,--(COUNTIF(INDIRECT(\"'\"&COMSLIST&\"'!$B$15:$i$15\"),B6)),0))","v":{"$error":"#N/A"}},{"$error":"#N/A"},{"$error":"#N/A"},null,null,"CPMS5",5,{"$f":"INDEX(CPMSList,MATCH(1,--(COUNTIF(INDIRECT(\"'\"&CPMSList&\"'!$B$14:$i$14\"),I6)),0))","v":{"$error":"#N/A"}},{"$f":"MID(ADDRESS(1,MATCH(I6,INDIRECT(\"'\"&J6&\"'!$a$14:$i$14\"),0),1),2,1)","v":{"$error":"#N/A"}},{"$error":"#N/A"}]
["COMS6",6,{"$f":"INDEX(COMSLIST,MATCH(1,--(COUNTIF(INDIRECT(\"'\"&COMSLIST&\"'!$B$15:$i$15\"),B7)),0))","v":{"$error":"#N/A"}},{"$error":"#N/A"},{"$error":"#N/A"},null,null,"CPMS6",6,{"$f":"INDEX(CPMSList,MATCH(1,--(COUNTIF(INDIRECT(\"'\"&CPMSList&\"'!$B$14:$i$14\"),I7)),0))","v":{"$error":"#N/A"}},{"$f":"MID(ADDRESS(1,MATCH(I7,INDIRECT(\"'\"&J7&\"'!$a$14:$i$14\"),0),1),2,1)","v":{"$error":"#N/A"}},{"$error":"#N/A"}]
["COMS7",7,{"$f":"INDEX(COMSLIST,MATCH(1,--(COUNTIF(INDIRECT(\"'\"&COMSLIST&\"'!$B$15:$i$15\"),B8)),0))","v":{"$error":"#N/A"}},{"$error":"#N/A"},{"$error":"#N/A"},null,null,"CPMS7",7,{"$f":"INDEX(CPMSList,MATCH(1,--(COUNTIF(INDIRECT(\"'\"&CPMSList&\"'!$B$14:$i$14\"),I8)),0))","v":{"$error":"#N/A"}},{"$f":"MID(ADDRESS(1,MATCH(I8,INDIRECT(\"'\"&J8&\"'!$a$14:$i$14\"),0),1),2,1)","v":{"$error":"#N/A"}},{"$error":"#N/A"}]
["COMS8",8,{"$f":"INDEX(COMSLIST,MATCH(1,--(COUNTIF(INDIRECT(\"'\"&COMSLIST&\"'!$B$15:$i$15\"),B9)),0))","v":{"$error":"#N/A"}},{"$error":"#N/A"},{"$error":"#N/A"},null,null,"CPMS8",8,{"$f":"INDEX(CPMSList,MATCH(1,--(COUNTIF(INDIRECT(\"'\"&CPMSList&\"'!$B$14:$i$14\"),I9)),0))","v":{"$error":"#N/A"}},{"$f":"MID(ADDRESS(1,MATCH(I9,INDIRECT(\"'\"&J9&\"'!$a$14:$i$14\"),0),1),2,1)","v":{"$error":"#N/A"}},{"$error":"#N/A"}]
["COMS9",9,{"$f":"INDEX(COMSLIST,MATCH(1,--(COUNTIF(INDIRECT(\"'\"&COMSLIST&\"'!$B$15:$i$15\"),B10)),0))","v":{"$error":"#N/A"}},{"$error":"#N/A"},{"$error":"#N/A"},null,null,"CPMS9",9,{"$f":"INDEX(CPMSList,MATCH(1,--(COUNTIF(INDIRECT(\"'\"&CPMSList&\"'!$B$14:$i$14\"),I10)),0))","v":{"$error":"#N/A"}},{"$f":"MID(ADDRESS(1,MATCH(I10,INDIRECT(\"'\"&J10&\"'!$a$14:$i$14\"),0),1),2,1)","v":{"$error":"#N/A"}},{"$error":"#N/A"}]
["COMS10",10,{"$f":"INDEX(COMSLIST,MATCH(1,--(COUNTIF(INDIRECT(\"'\"&COMSLIST&\"'!$B$15:$i$15\"),B11)),0))","v":{"$error":"#N/A"}},{"$error":"#N/A"},{"$error":"#N/A"},null,null,"CPMS10",10,{"$f":"INDEX(CPMSList,MATCH(1,--(COUNTIF(INDIRECT(\"'\"&CPMSList&\"'!$B$14:$i$14\"),I11)),0))","v":{"$error":"#N/A"}},{"$f":"MID(ADDRESS(1,MATCH(I11,INDIRECT(\"'\"&J11&\"'!$a$14:$i$14\"),0),1),2,1)","v":{"$error":"#N/A"}},{"$error":"#N/A"}]
[null,11,{"$f":"INDEX(COMSLIST,MATCH(1,--(COUNTIF(INDIRECT(\"'\"&COMSLIST&\"'!$B$15:$i$15\"),B12)),0))","v":{"$error":"#N/A"}},{"$error":"#N/A"},{"$error":"#N/A"},null,null,null,11,{"$f":"INDEX(CPMSList,MATCH(1,--(COUNTIF(INDIRECT(\"'\"&CPMSList&\"'!$B$14:$i$14\"),I12)),0))","v":{"$error":"#N/A"}},{"$f":"MID(ADDRESS(1,MATCH(I12,INDIRECT(\"'\"&J12&\"'!$a$14:$i$14\"),0),1),2,1)","v":{"$error":"#N/A"}},{"$error":"#N/A"}]
[null,12,{"$f":"INDEX(COMSLIST,MATCH(1,--(COUNTIF(INDIRECT(\"'\"&COMSLIST&\"'!$B$15:$i$15\"),B13)),0))","v":{"$error":"#N/A"}},{"$error":"#N/A"},{"$error":"#N/A"},null,null,null,12,{"$f":"INDEX(CPMSList,MATCH(1,--(COUNTIF(INDIRECT(\"'\"&CPMSList&\"'!$B$14:$i$14\"),I13)),0))","v":{"$error":"#N/A"}},{"$f":"MID(ADDRESS(1,MATCH(I13,INDIRECT(\"'\"&J13&\"'!$a$14:$i$14\"),0),1),2,1)","v":{"$error":"#N/A"}},{"$error":"#N/A"}]
[null,13,{"$f":"INDEX(COMSLIST,MATCH(1,--(COUNTIF(INDIRECT(\"'\"&COMSLIST&\"'!$B$15:$i$15\"),B14)),0))","v":{"$error":"#N/A"}},{"$error":"#N/A"},{"$error":"#N/A"},null,null,null,13,{"$f":"INDEX(CPMSList,MATCH(1,--(COUNTIF(INDIRECT(\"'\"&CPMSList&\"'!$B$14:$i$14\"),I14)),0))","v":{"$error":"#N/A"}},{"$f":"MID(ADDRESS(1,MATCH(I14,INDIRECT(\"'\"&J14&\"'!$a$14:$i$14\"),0),1),2,1)","v":{"$error":"#N/A"}},{"$error":"#N/A"}]
[null,14,{"$f":"INDEX(COMSLIST,MATCH(1,--(COUNTIF(INDIRECT(\"'\"&COMSLIST&\"'!$B$15:$i$15\"),B15)),0))","v":{"$error":"#N/A"}},{"$error":"#N/A"},{"$error":"#N/A"},null,null,null,14,{"$f":"INDEX(CPMSList,MATCH(1,--(COUNTIF(INDIRECT(\"'\"&CPMSList&\"'!$B$14:$i$14\"),I15)),0))","v":{"$error":"#N/A"}},{"$f":"MID(ADDRESS(1,MATCH(I15,INDIRECT(\"'\"&J15&\"'!$a$14:$i$14\"),0),1),2,1)","v":{"$error":"#N/A"}},{"$error":"#N/A"}]
[null,15,{"$f":"INDEX(COMSLIST,MATCH(1,--(COUNTIF(INDIRECT(\"'\"&COMSLIST&\"'!$B$15:$i$15\"),B16)),0))","v":{"$error":"#N/A"}},{"$error":"#N/A"},{"$error":"#N/A"},null,null,null,15,{"$f":"INDEX(CPMSList,MATCH(1,--(COUNTIF(INDIRECT(\"'\"&CPMSList&\"'!$B$14:$i$14\"),I16)),0))","v":{"$error":"#N/A"}},{"$f":"MID(ADDRESS(1,MATCH(I16,INDIRECT(\"'\"&J16&\"'!$a$14:$i$14\"),0),1),2,1)","v":{"$error":"#N/A"}},{"$error":"#N/A"}]
[null,16,{"$f":"INDEX(COMSLIST,MATCH(1,--(COUNTIF(INDIRECT(\"'\"&COMSLIST&\"'!$B$15:$i$15\"),B17)),0))","v":{"$error":"#N/A"}},{"$error":"#N/A"},{"$error":"#N/A"},null,null,null,16,{"$f":"INDEX(CPMSList,MATCH(1,--(COUNTIF(INDIRECT(\"'\"&CPMSList&\"'!$B$14:$i$14\"),I17)),0))","v":{"$error":"#N/A"}},{"$f":"MID(ADDRESS(1,MATCH(I17,INDIRECT(\"'\"&J17&\"'!$a$14:$i$14\"),0),1),2,1)","v":{"$error":"#N/A"}},{"$error":"#N/A"}]
[null,17,{"$f":"INDEX(COMSLIST,MATCH(1,--(COUNTIF(INDIRECT(\"'\"&COMSLIST&\"'!$B$15:$i$15\"),B18)),0))","v":{"$error":"#N/A"}},{"$error":"#N/A"},{"$error":"#N/A"},null,null,null,17,{"$f":"INDEX(CPMSList,MATCH(1,--(COUNTIF(INDIRECT(\"'\"&CPMSList&\"'!$B$14:$i$14\"),I18)),0))","v":{"$error":"#N/A"}},{"$f":"MID(ADDRESS(1,MATCH(I18,INDIRECT(\"'\"&J18&\"'!$a$14:$i$14\"),0),1),2,1)","v":{"$error":"#N/A"}},{"$error":"#N/A"}]
[null,18,{"$f":"INDEX(COMSLIST,MATCH(1,--(COUNTIF(INDIRECT(\"'\"&COMSLIST&\"'!$B$15:$i$15\"),B19)),0))","v":{"$error":"#N/A"}},{"$error":"#N/A"},{"$error":"#N/A"},null,null,null,18,{"$f":"INDEX(CPMSList,MATCH(1,--(COUNTIF(INDIRECT(\"'\"&CPMSList&\"'!$B$14:$i$14\"),I19)),0))","v":{"$error":"#N/A"}},{"$f":"MID(ADDRESS(1,MATCH(I19,INDIRECT(\"'\"&J19&\"'!$a$14:$i$14\"),0),1),2,1)","v":{"$error":"#N/A"}},{"$error":"#N/A"}]
[null,19,{"$f":"INDEX(COMSLIST,MATCH(1,--(COUNTIF(INDIRECT(\"'\"&COMSLIST&\"'!$B$15:$i$15\"),B20)),0))","v":{"$error":"#N/A"}},{"$error":"#N/A"},{"$error":"#N/A"},null,null,null,19,{"$f":"INDEX(CPMSList,MATCH(1,--(COUNTIF(INDIRECT(\"'\"&CPMSList&\"'!$B$14:$i$14\"),I20)),0))","v":{"$error":"#N/A"}},{"$f":"MID(ADDRESS(1,MATCH(I20,INDIRECT(\"'\"&J20&\"'!$a$14:$i$14\"),0),1),2,1)","v":{"$error":"#N/A"}},{"$error":"#N/A"}]
[null,20,{"$f":"INDEX(COMSLIST,MATCH(1,--(COUNTIF(INDIRECT(\"'\"&COMSLIST&\"'!$B$15:$i$15\"),B21)),0))","v":{"$error":"#N/A"}},{"$error":"#N/A"},{"$error":"#N/A"},null,null,null,20,{"$f":"INDEX(CPMSList,MATCH(1,--(COUNTIF(INDIRECT(\"'\"&CPMSList&\"'!$B$14:$i$14\"),I21)),0))","v":{"$error":"#N/A"}},{"$f":"MID(ADDRESS(1,MATCH(I21,INDIRECT(\"'\"&J21&\"'!$a$14:$i$14\"),0),1),2,1)","v":{"$error":"#N/A"}},{"$error":"#N/A"}]
[null,21,{"$f":"INDEX(COMSLIST,MATCH(1,--(COUNTIF(INDIRECT(\"'\"&COMSLIST&\"'!$B$15:$i$15\"),B22)),0))","v":{"$error":"#N/A"}},{"$error":"#N/A"},{"$error":"#N/A"},null,null,null,21,{"$f":"INDEX(CPMSList,MATCH(1,--(COUNTIF(INDIRECT(\"'\"&CPMSList&\"'!$B$14:$i$14\"),I22)),0))","v":{"$error":"#N/A"}},{"$f":"MID(ADDRESS(1,MATCH(I22,INDIRECT(\"'\"&J22&\"'!$a$14:$i$14\"),0),1),2,1)","v":{"$error":"#N/A"}},{"$error":"#N/A"}]
[null,22,{"$f":"INDEX(COMSLIST,MATCH(1,--(COUNTIF(INDIRECT(\"'\"&COMSLIST&\"'!$B$15:$i$15\"),B23)),0))","v":{"$error":"#N/A"}},{"$error":"#N/A"},{"$error":"#N/A"},null,null,null,22,{"$f":"INDEX(CPMSList,MATCH(1,--(COUNTIF(INDIRECT(\"'\"&CPMSList&\"'!$B$14:$i$14\"),I23)),0))","v":{"$error":"#N/A"}},{"$f":"MID(ADDRESS(1,MATCH(I23,INDIRECT(\"'\"&J23&\"'!$a$14:$i$14\"),0),1),2,1)","v":{"$error":"#N/A"}},{"$error":"#N/A"}]
[null,23,{"$f":"INDEX(COMSLIST,MATCH(1,--(COUNTIF(INDIRECT(\"'\"&COMSLIST&\"'!$B$15:$i$15\"),B24)),0))","v":{"$error":"#N/A"}},{"$error":"#N/A"},{"$error":"#N/A"},null,null,null,23,{"$f":"INDEX(CPMSList,MATCH(1,--(COUNTIF(INDIRECT(\"'\"&CPMSList&\"'!$B$14:$i$14\"),I24)),0))","v":{"$error":"#N/A"}},{"$f":"MID(ADDRESS(1,MATCH(I24,INDIRECT(\"'\"&J24&\"'!$a$14:$i$14\"),0),1),2,1)","v":{"$error":"#N/A"}},{"$error":"#N/A"}]
[null,24,{"$f":"INDEX(COMSLIST,MATCH(1,--(COUNTIF(INDIRECT(\"'\"&COMSLIST&\"'!$B$15:$i$15\"),B25)),0))","v":{"$error":"#N/A"}},{"$error":"#N/A"},{"$error":"#N/A"},null,null,null,24,{"$f":"INDEX(CPMSList,MATCH(1,--(COUNTIF(INDIRECT(\"'\"&CPMSList&\"'!$B$14:$i$14\"),I25)),0))","v":{"$error":"#N/A"}},{"$f":"MID(ADDRESS(1,MATCH(I25,INDIRECT(\"'\"&J25&\"'!$a$14:$i$14\"),0),1),2,1)","v":{"$error":"#N/A"}},{"$error":"#N/A"}]
[null,25,{"$f":"INDEX(COMSLIST,MATCH(1,--(COUNTIF(INDIRECT(\"'\"&COMSLIST&\"'!$B$15:$i$15\"),B26)),0))","v":{"$error":"#N/A"}},{"$error":"#N/A"},{"$error":"#N/A"},null,null,null,25,{"$f":"INDEX(CPMSList,MATCH(1,--(COUNTIF(INDIRECT(\"'\"&CPMSList&\"'!$B$14:$i$14\"),I26)),0))","v":{"$error":"#N/A"}},{"$f":"MID(ADDRESS(1,MATCH(I26,INDIRECT(\"'\"&J26&\"'!$a$14:$i$14\"),0),1),2,1)","v":{"$error":"#N/A"}},{"$error":"#N/A"}]
[null,26,{"$f":"INDEX(COMSLIST,MATCH(1,--(COUNTIF(INDIRECT(\"'\"&COMSLIST&\"'!$B$15:$i$15\"),B27)),0))","v":{"$error":"#N/A"}},{"$error":"#N/A"},{"$error":"#N/A"},null,null,null,26,{"$f":"INDEX(CPMSList,MATCH(1,--(COUNTIF(INDIRECT(\"'\"&CPMSList&\"'!$B$14:$i$14\"),I27)),0))","v":{"$error":"#N/A"}},{"$f":"MID(ADDRESS(1,MATCH(I27,INDIRECT(\"'\"&J27&\"'!$a$14:$i$14\"),0),1),2,1)","v":{"$error":"#N/A"}},{"$error":"#N/A"}]
[null,27,{"$f":"INDEX(COMSLIST,MATCH(1,--(COUNTIF(INDIRECT(\"'\"&COMSLIST&\"'!$B$15:$i$15\"),B28)),0))","v":{"$error":"#N/A"}},{"$error":"#N/A"},{"$error":"#N/A"},null,null,null,27,{"$f":"INDEX(CPMSList,MATCH(1,--(COUNTIF(INDIRECT(\"'\"&CPMSList&\"'!$B$14:$i$14\"),I28)),0))","v":{"$error":"#N/A"}},{"$f":"MID(ADDRESS(1,MATCH(I28,INDIRECT(\"'\"&J28&\"'!$a$14:$i$14\"),0),1),2,1)","v":{"$error":"#N/A"}},{"$error":"#N/A"}]
[null,28,{"$f":"INDEX(COMSLIST,MATCH(1,--(COUNTIF(INDIRECT(\"'\"&COMSLIST&\"'!$B$15:$i$15\"),B29)),0))","v":{"$error":"#N/A"}},{"$error":"#N/A"},{"$error":"#N/A"},null,null,null,28,{"$f":"INDEX(CPMSList,MATCH(1,--(COUNTIF(INDIRECT(\"'\"&CPMSList&\"'!$B$14:$i$14\"),I29)),0))","v":{"$error":"#N/A"}},{"$f":"MID(ADDRESS(1,MATCH(I29,INDIRECT(\"'\"&J29&\"'!$a$14:$i$14\"),0),1),2,1)","v":{"$error":"#N/A"}},{"$error":"#N/A"}]
[null,29,{"$f":"INDEX(COMSLIST,MATCH(1,--(COUNTIF(INDIRECT(\"'\"&COMSLIST&\"'!$B$15:$i$15\"),B30)),0))","v":{"$error":"#N/A"}},{"$error":"#N/A"},{"$error":"#N/A"},null,null,null,29,{"$f":"INDEX(CPMSList,MATCH(1,--(COUNTIF(INDIRECT(\"'\"&CPMSList&\"'!$B$14:$i$14\"),I30)),0))","v":{"$error":"#N/A"}},{"$f":"MID(ADDRESS(1,MATCH(I30,INDIRECT(\"'\"&J30&\"'!$a$14:$i$14\"),0),1),2,1)","v":{"$error":"#N/A"}},{"$error":"#N/A"}]
[null,30,{"$f":"INDEX(COMSLIST,MATCH(1,--(COUNTIF(INDIRECT(\"'\"&COMSLIST&\"'!$B$15:$i$15\"),B31)),0))","v":{"$error":"#N/A"}},{"$error":"#N/A"},{"$error":"#N/A"},null,null,null,30,{"$f":"INDEX(CPMSList,MATCH(1,--(COUNTIF(INDIRECT(\"'\"&CPMSList&\"'!$B$14:$i$14\"),I31)),0))","v":{"$error":"#N/A"}},{"$f":"MID(ADDRESS(1,MATCH(I31,INDIRECT(\"'\"&J31&\"'!$a$14:$i$14\"),0),1),2,1)","v":{"$error":"#N/A"}},{"$error":"#N/A"}]
[null,31,{"$f":"INDEX(COMSLIST,MATCH(1,--(COUNTIF(INDIRECT(\"'\"&COMSLIST&\"'!$B$15:$i$15\"),B32)),0))","v":{"$error":"#N/A"}},{"$error":"#N/A"},{"$error":"#N/A"},null,null,null,31,{"$f":"INDEX(CPMSList,MATCH(1,--(COUNTIF(INDIRECT(\"'\"&CPMSList&\"'!$B$14:$i$14\"),I32)),0))","v":{"$error":"#N/A"}},{"$f":"MID(ADDRESS(1,MATCH(I32,INDIRECT(\"'\"&J32&\"'!$a$14:$i$14\"),0),1),2,1)","v":{"$error":"#N/A"}},{"$error":"#N/A"}]
[null,32,{"$f":"INDEX(COMSLIST,MATCH(1,--(COUNTIF(INDIRECT(\"'\"&COMSLIST&\"'!$B$15:$i$15\"),B33)),0))","v":{"$error":"#N/A"}},{"$error":"#N/A"},{"$error":"#N/A"},null,null,null,32,{"$f":"INDEX(CPMSList,MATCH(1,--(COUNTIF(INDIRECT(\"'\"&CPMSList&\"'!$B$14:$i$14\"),I33)),0))","v":{"$error":"#N/A"}},{"$f":"MID(ADDRESS(1,MATCH(I33,INDIRECT(\"'\"&J33&\"'!$a$14:$i$14\"),0),1),2,1)","v":{"$error":"#N/A"}},{"$error":"#N/A"}]
[null,33,{"$f":"INDEX(COMSLIST,MATCH(1,--(COUNTIF(INDIRECT(\"'\"&COMSLIST&\"'!$B$15:$i$15\"),B34)),0))","v":{"$error":"#N/A"}},{"$error":"#N/A"},{"$error":"#N/A"},null,null,null,33,{"$f":"INDEX(CPMSList,MATCH(1,--(COUNTIF(INDIRECT(\"'\"&CPMSList&\"'!$B$14:$i$14\"),I34)),0))","v":{"$error":"#N/A"}},{"$f":"MID(ADDRESS(1,MATCH(I34,INDIRECT(\"'\"&J34&\"'!$a$14:$i$14\"),0),1),2,1)","v":{"$error":"#N/A"}},{"$error":"#N/A"}]
[null,34,{"$f":"INDEX(COMSLIST,MATCH(1,--(COUNTIF(INDIRECT(\"'\"&COMSLIST&\"'!$B$15:$i$15\"),B35)),0))","v":{"$error":"#N/A"}},{"$error":"#N/A"},{"$error":"#N/A"},null,null,null,34,{"$f":"INDEX(CPMSList,MATCH(1,--(COUNTIF(INDIRECT(\"'\"&CPMSList&\"'!$B$14:$i$14\"),I35)),0))","v":{"$error":"#N/A"}},{"$f":"MID(ADDRESS(1,MATCH(I35,INDIRECT(\"'\"&J35&\"'!$a$14:$i$14\"),0),1),2,1)","v":{"$error":"#N/A"}},{"$error":"#N/A"}]
[null,35,{"$f":"INDEX(COMSLIST,MATCH(1,--(COUNTIF(INDIRECT(\"'\"&COMSLIST&\"'!$B$15:$i$15\"),B36)),0))","v":{"$error":"#N/A"}},{"$error":"#N/A"},{"$error":"#N/A"},null,null,null,35,{"$f":"INDEX(CPMSList,MATCH(1,--(COUNTIF(INDIRECT(\"'\"&CPMSList&\"'!$B$14:$i$14\"),I36)),0))","v":{"$error":"#N/A"}},{"$f":"MID(ADDRESS(1,MATCH(I36,INDIRECT(\"'\"&J36&\"'!$a$14:$i$14\"),0),1),2,1)","v":{"$error":"#N/A"}},{"$error":"#N/A"}]
[null,36,{"$f":"INDEX(COMSLIST,MATCH(1,--(COUNTIF(INDIRECT(\"'\"&COMSLIST&\"'!$B$15:$i$15\"),B37)),0))","v":{"$error":"#N/A"}},{"$error":"#N/A"},{"$error":"#N/A"},null,null,null,36,{"$f":"INDEX(CPMSList,MATCH(1,--(COUNTIF(INDIRECT(\"'\"&CPMSList&\"'!$B$14:$i$14\"),I37)),0))","v":{"$error":"#N/A"}},{"$f":"MID(ADDRESS(1,MATCH(I37,INDIRECT(\"'\"&J37&\"'!$a$14:$i$14\"),0),1),2,1)","v":{"$error":"#N/A"}},{"$error":"#N/A"}]
[null,37,{"$f":"INDEX(COMSLIST,MATCH(1,--(COUNTIF(INDIRECT(\"'\"&COMSLIST&\"'!$B$15:$i$15\"),B38)),0))","v":{"$error":"#N/A"}},{"$error":"#N/A"},{"$error":"#N/A"},null,null,null,37,{"$f":"INDEX(CPMSList,MATCH(1,--(COUNTIF(INDIRECT(\"'\"&CPMSList&\"'!$B$14:$i$14\"),I38)),0))","v":{"$error":"#N/A"}},{"$f":"MID(ADDRESS(1,MATCH(I38,INDIRECT(\"'\"&J38&\"'!$a$14:$i$14\"),0),1),2,1)","v":{"$error":"#N/A"}},{"$error":"#N/A"}]
[null,38,{"$f":"INDEX(COMSLIST,MATCH(1,--(COUNTIF(INDIRECT(\"'\"&COMSLIST&\"'!$B$15:$i$15\"),B39)),0))","v":{"$error":"#N/A"}},{"$error":"#N/A"},{"$error":"#N/A"},null,null,null,38,{"$f":"INDEX(CPMSList,MATCH(1,--(COUNTIF(INDIRECT(\"'\"&CPMSList&\"'!$B$14:$i$14\"),I39)),0))","v":{"$error":"#N/A"}},{"$f":"MID(ADDRESS(1,MATCH(I39,INDIRECT(\"'\"&J39&\"'!$a$14:$i$14\"),0),1),2,1)","v":{"$error":"#N/A"}},{"$error":"#N/A"}]
[null,39,{"$f":"INDEX(COMSLIST,MATCH(1,--(COUNTIF(INDIRECT(\"'\"&COMSLIST&\"'!$B$15:$i$15\"),B40)),0))","v":{"$error":"#N/A"}},{"$error":"#N/A"},{"$error":"#N/A"},null,null,null,39,{"$f":"INDEX(CPMSList,MATCH(1,--(COUNTIF(INDIRECT(\"'\"&CPMSList&\"'!$B$14:$i$14\"),I40)),0))","v":{"$error":"#N/A"}},{"$f":"MID(ADDRESS(1,MATCH(I40,INDIRECT(\"'\"&J40&\"'!$a$14:$i$14\"),0),1),2,1)","v":{"$error":"#N/A"}},{"$error":"#N/A"}]
[null,40,{"$f":"INDEX(COMSLIST,MATCH(1,--(COUNTIF(INDIRECT(\"'\"&COMSLIST&\"'!$B$15:$i$15\"),B41)),0))","v":{"$error":"#N/A"}},{"$error":"#N/A"},{"$error":"#N/A"},null,null,null,40,{"$f":"INDEX(CPMSList,MATCH(1,--(COUNTIF(INDIRECT(\"'\"&CPMSList&\"'!$B$14:$i$14\"),I41)),0))","v":{"$error":"#N/A"}},{"$f":"MID(ADDRESS(1,MATCH(I41,INDIRECT(\"'\"&J41&\"'!$a$14:$i$14\"),0),1),2,1)","v":{"$error":"#N/A"}},{"$error":"#N/A"}]

{"sheet":"dropdown menus","index":35,"n_rows":160,"n_cols":2,"rows_kept":160,"cut":false,"hidden":true,"merged":[]}
[1,"Process Unit Type (CPMS)"]
[2,"Recovery Furnace"]
[3,"Smelt Dissolving Tank"]
[4,"Lime Kiln"]
[5,"Sulfite Combustion Unit"]
[6,"Semichemical Combustion Unit"]
[7]
[8,"APCD"]
[9,"ESP"]
[10,"Wet Scrubber"]
[11,"ESP and Wet Scrubber"]
[12,"RTO"]
[13,"Other: {specify}"]
[14]
[15,"Generic Y/N/NA"]
[16,"Yes"]
[17,"No"]
[18,"N/A"]
[19]
[20,"Exceedance Reasons"]
[21,"Startup/shutdown"]
[22,"Control equipment problems"]
[23,"Process problems"]
[24,"Other known causes"]
[25,"Other unknown causes"]
[26]
[27,"CMS Downtime Reasons"]
[28,"Monitoring equipment malfunction"]
[29,"Non-monitoring equipment malfunction"]
[30,"Quality assurance"]
[31,"Quality control calibration"]
[32,"Other known cause"]
[33,"Other unknown cause"]
[34]
[35,"Parameters"]
[36,"Scrubber liquid flow"]
[37,"Scrubber pressure drop"]
[38,"SDT scrubber fan amperage"]
[39,"RTO temperature (1-hr)"]
[40,"RTO temperature (3-hr)"]
[41,"Alternative parameter (3-hr)"]
[42,"Opacity"]
[43]
[44,"Averaging time"]
[45,"3-hour"]
[46,"1-hour"]
[47]
[48,"Averaging period basis"]
[49,"Hours"]
[50,"Minutes"]
[51]
[52,"Forced blank cell"]
[53]
[54]
[55,"Process Unit Type (COMS)"]
[56,"Recovery Furnace"]
[57,"Lime Kiln"]
[58]
[59,"APCD (COMS)"]
[60,"Electrostatic Precipitator (ESP)"]
[61]
[62,"Parameters (COMS)"]
[63,"Recovery furnace opacity"]
[64,"Lime kiln opacity"]
[65]
[66,"Averaging period (COMS)"]
[67,"6-minute"]
[68]
[69,"PM limit units"]
[70,"gr/dscf @ 8% O2"]
[71,"gr/dscf @ 10% O2"]
[72,"lb/ton BLS"]
[73]
[74,"Gaseous organic HAP units"]
[75,"lb/ton BLS (as THC)"]
[76,"lb/ton BLS (as methanol)"]
[77]
[78,"Standards (Failures)"]
[79,"PM (metal HAP)"]
[80,"Methanol"]
[81,"THC"]
[82]
[83,"Units of standard (Failures)"]
[84,"gr/dscf @ 8% O2"]
[85,"gr/dscf @ 10% O2"]
[86,"%-reduction"]
[87,"lb/ton BLS"]
[88]
[89,"Duration units"]
[90,"minutes"]
[91,"hours"]
[92]
[93,"Emission or Parameter Limits (Failures)"]
[94,"Scrubber liquid flow"]
[95,"Scrubber pressure drop"]
[96,"SDT scrubber fan amperage"]
[97,"RTO temperature"]
[98,"Alternative parameter"]
[99,"Opacity"]
[100,"PM emission limit"]
[101,"Methanol emission limit"]
[102,"THC emission limit"]
[103]
[104]
[105,"User-Specified Menu: Process Unit"]
[106,{"$f":"IF(Unit_Info!B24=\"\",\"\",Unit_Info!B24)","v":""}]
[107,{"$f":"IF(Unit_Info!B25=\"\",\"\",Unit_Info!B25)","v":""}]
[108,{"$f":"IF(Unit_Info!B26=\"\",\"\",Unit_Info!B26)","v":""}]
[109,{"$f":"IF(Unit_Info!B27=\"\",\"\",Unit_Info!B27)","v":""}]
[110,{"$f":"IF(Unit_Info!B28=\"\",\"\",Unit_Info!B28)","v":""}]
[111,{"$f":"IF(Unit_Info!B29=\"\",\"\",Unit_Info!B29)","v":""}]
[112,{"$f":"IF(Unit_Info!B30=\"\",\"\",Unit_Info!B30)","v":""}]
[113,{"$f":"IF(Unit_Info!B31=\"\",\"\",Unit_Info!B31)","v":""}]
[114,{"$f":"IF(Unit_Info!B32=\"\",\"\",Unit_Info!B32)","v":""}]
[115,{"$f":"IF(Unit_Info!B33=\"\",\"\",Unit_Info!B33)","v":""}]
[126]
[127,"Mark with an X"]
[128,"X"]
[129]
[130,"User-Specified Menu: Process Unit Emission Point"]
[131,{"$f":"IF(Monitoring_Equipment!B23=\"\",\"\",Monitoring_Equipment!B23)","v":""}]
[132,{"$f":"IF(Monitoring_Equipment!B24=\"\",\"\",Monitoring_Equipment!B24)","v":""}]
[133,{"$f":"IF(Monitoring_Equipment!B25=\"\",\"\",Monitoring_Equipment!B25)","v":""}]
[134,{"$f":"IF(Monitoring_Equipment!B26=\"\",\"\",Monitoring_Equipment!B26)","v":""}]
[135,{"$f":"IF(Monitoring_Equipment!B27=\"\",\"\",Monitoring_Equipment!B27)","v":""}]
[136,{"$f":"IF(Monitoring_Equipment!B28=\"\",\"\",Monitoring_Equipment!B28)","v":""}]
[137,{"$f":"IF(Monitoring_Equipment!B29=\"\",\"\",Monitoring_Equipment!B29)","v":""}]
[138,{"$f":"IF(Monitoring_Equipment!B30=\"\",\"\",Monitoring_Equipment!B30)","v":""}]
[139,{"$f":"IF(Monitoring_Equipment!B31=\"\",\"\",Monitoring_Equipment!B31)","v":""}]
[140,{"$f":"IF(Monitoring_Equipment!B32=\"\",\"\",Monitoring_Equipment!B32)","v":""}]
[141,{"$f":"IF(Monitoring_Equipment!B33=\"\",\"\",Monitoring_Equipment!B33)","v":""}]
[142,{"$f":"IF(Monitoring_Equipment!B34=\"\",\"\",Monitoring_Equipment!B34)","v":""}]
[143,{"$f":"IF(Monitoring_Equipment!B35=\"\",\"\",Monitoring_Equipment!B35)","v":""}]
[144,{"$f":"IF(Monitoring_Equipment!B36=\"\",\"\",Monitoring_Equipment!B36)","v":""}]
[145,{"$f":"IF(Monitoring_Equipment!B37=\"\",\"\",Monitoring_Equipment!B37)","v":""}]
[146,{"$f":"IF(Monitoring_Equipment!B38=\"\",\"\",Monitoring_Equipment!B38)","v":""}]
[147,{"$f":"IF(Monitoring_Equipment!B39=\"\",\"\",Monitoring_Equipment!B39)","v":""}]
[148,{"$f":"IF(Monitoring_Equipment!B40=\"\",\"\",Monitoring_Equipment!B40)","v":""}]
[149,{"$f":"IF(Monitoring_Equipment!B41=\"\",\"\",Monitoring_Equipment!B41)","v":""}]
[150,{"$f":"IF(Monitoring_Equipment!B42=\"\",\"\",Monitoring_Equipment!B42)","v":""}]
[151,{"$f":"IF(Monitoring_Equipment!B43=\"\",\"\",Monitoring_Equipment!B43)","v":""}]
[152,{"$f":"IF(Monitoring_Equipment!B44=\"\",\"\",Monitoring_Equipment!B44)","v":""}]
[153,{"$f":"IF(Monitoring_Equipment!B45=\"\",\"\",Monitoring_Equipment!B45)","v":""}]
[154,{"$f":"IF(Monitoring_Equipment!B46=\"\",\"\",Monitoring_Equipment!B46)","v":""}]
[155,{"$f":"IF(Monitoring_Equipment!B47=\"\",\"\",Monitoring_Equipment!B47)","v":""}]
[156,{"$f":"IF(Monitoring_Equipment!B48=\"\",\"\",Monitoring_Equipment!B48)","v":""}]
[157,{"$f":"IF(Monitoring_Equipment!B49=\"\",\"\",Monitoring_Equipment!B49)","v":""}]
[158,{"$f":"IF(Monitoring_Equipment!B50=\"\",\"\",Monitoring_Equipment!B50)","v":""}]
[159,{"$f":"IF(Monitoring_Equipment!B51=\"\",\"\",Monitoring_Equipment!B51)","v":""}]
[160,{"$f":"IF(Monitoring_Equipment!B52=\"\",\"\",Monitoring_Equipment!B52)","v":""}]
[161]
[162,"Detailed report type"]
[163,"orange tabs in this workbook"]
[164,"separate file: {enter name}"]
[165]
[166]
[167]
[168]
[169]
[170]