{"text_format":"1","workbook":"xlsx","n_sheets":6,"sheets":["Read Me","Summary_SW","Summary_SW_15","Daily Calcs","PWC Summary","PWC Daily CSV"],"not_rendered":{"charts":0,"images":0,"macros":1,"external_links":0,"defined_names":0,"comments":0,"pivot_tables":1},"unopened":[],"bounds":{"document_bytes":16777216,"sheet_cells":100000,"rows_first":2000,"rows_last":500,"rows_between":2000,"halvings":0,"cell_chars":16384,"cell_head_chars":4096},"cells_cut":0,"cells_raw":0,"read":"whole","date_system":"1900"}

{"sheet":"Read Me","index":0,"n_rows":23,"n_cols":2,"rows_kept":23,"cut":false,"hidden":false,"merged":[[0,0,0,9]]}
["PWC Edge of Field Calculator"]
[]
["The Edge-of-Field Calculator tool will use the runoff files from PWC runs (ZTS files) and estimate"]
["the concentrations of the pesticide in the runoff. The tool will generate a summary file and time series"]
["file, similar to the ones generated by the PWC, as well as generate summary statistics for all of the runs evaluated and"]
["store the results in the Summary_ESA and Summary_ESA_15 worksheets for use in the PWC Postprocessor tool for"]
["Endangered Species assessments."]
[]
["To start the tool, press Ctrl-Q and follow directions."]
[]
["Worksheets"]
[null,"Summary_ESA - worksheet that provides 1-in-10 year summary statistics for the EOF runs done."]
[null,"Summary_ESA_15 - worksheet that provides 1-in-15 year summary statistics for the EOF runs done."]
[null,"Daily Calcs - worksheet that calculates the edge-of-field EECs and statistics for a particular run."]
[null,"Water EECs are estimated using the dissolved runoff amount (RFLX) from the ZTS file."]
[null,"Benthic EECs are estimated using the runoff and eroded amounts (RFLX + EFLX) from the ZTS file."]
[null,"PWC Summary - worksheet that provides summary of the statistics for a particular run, similar to the"]
[null,"\"Custom_15_Parent.txt\" file generated by PWC. This worksheet is exported as a text file for each run."]
[null,"Note: Unlike the PWC, the EOF Calculator does not estimate 4-day, 21-day, 60-day, 90-day, or Yearly averages,"]
[null,"as flow and volume are not constant with edge-of-field runoff. Rather the runoff is based on daily precipitation,"]
[null,"which is either present or not."]
[null,"PWC Daily CSV - worksheet that provides the daily EECs for a particular run, similar to the"]
[null,"\"Custom_Parent_daily.csv\" file generated by the PWC. This worksheet is exported as a csv file for each run."]

{"sheet":"Summary_SW","index":1,"n_rows":1,"n_cols":12,"rows_kept":1,"cut":false,"hidden":false,"merged":[]}
["Line","Batch Run ID","Peak","1-day","Yr","overall","4-day","21-day","60-day","90-day","PW_pk","PW_21"]

{"sheet":"Summary_SW_15","index":2,"n_rows":1,"n_cols":12,"rows_kept":1,"cut":false,"hidden":false,"merged":[]}
["Line","Batch Run ID","Peak","1-day","Yr","overall","4-day","21-day","60-day","90-day","PW_pk","PW_21"]

{"sheet":"Daily Calcs","index":3,"n_rows":10958,"n_cols":21,"rows_kept":4500,"cut":true,"hidden":false,"merged":[],"bounds":{"rows_first":2000,"rows_last":500,"rows_between":2000,"halvings":0}}
["Year","Month","Day","RUNF0 cm/d","ESLS0","RFLX1 g/cm2/d","EFLX1 g/cm2/d","DCON1","INFL0","EOF ug/l, Dissolve","EOF ug/l, Eroded"]
[1961,1,1,0,0,0,0,0,0,{"$f":"IF(D2=0,0,(F2)/D2*1000000*1000)","v":0},{"$f":"IF(D2=0,0,(F2+G2)/D2*1000000*1000)","v":0},null,"Row Labels","Max of EOF ug/l, Dissolve","Max of EOF ug/l, Eroded",null,"Prob","Max Peak, EOF Dissolved","Max Peak, EOF Eroded"]
[1961,1,2,0,0,0,0,0,0,{"$f":"IF(D3=0,0,(F3)/D3*1000000*1000)","v":0},{"$f":"IF(D3=0,0,(F3+G3)/D3*1000000*1000)","v":0},null,1961,20.2139696815841,20.328127946616377,null,{"$f":"1/(30+1)","v":3.2258064516129031E-2},{"$f":"LARGE(N3:N32,1)","v":31.702506624961991},{"$f":"LARGE(O3:O32,1)","v":31.936031104739563}]
[1961,1,3,0,0,0,0,0,0,0,0,null,1962,31.666732696802821,31.903906342854878,null,{"$f":"Q3*2","v":6.4516129032258063E-2},{"$f":"LARGE(N3:N32,2)","v":31.666732696802821},{"$f":"LARGE(O3:O32,2)","v":31.903906342854878}]
[1961,1,4,0,0,0,0,0,0,0,0,null,1963,20.472032538527557,20.61202283667301,null,{"$f":"Q3*3","v":9.6774193548387094E-2},{"$f":"LARGE(N3:N32,3)","v":30.582310932063724},{"$f":"LARGE(O3:O32,3)","v":30.799798571690165}]
[1961,1,5,0,0,0,0,0,0,0,0,null,1964,17.240336732274127,17.426001897083236,null,{"$f":"Q3*4","v":0.12903225806451613},{"$f":"LARGE(N3:N32,4)","v":26.769037656903762},{"$f":"LARGE(O3:O32,4)","v":27.028594142259415}]
[1961,1,6,0,0,0,0,0,0,0,0,null,1965,22.098540917741595,22.321454853034467]
[1961,1,7,0,0,0,0,0,0,0,0,null,1966,17.60309582890228,17.66183091102446,null,"1-in-10 yr (ug/L)",{"$f":"ROUND(SLOPE(R5:R6,$Q5:$Q6)*0.1+INTERCEPT(R5:R6,$Q5:$Q6),0)","v":30},{"$f":"ROUND(SLOPE(S5:S6,$Q5:$Q6)*0.1+INTERCEPT(S5:S6,$Q5:$Q6),0)","v":30}]
[1961,1,8,0,0,0,0,0,0,0,0,null,1967,26.407156839177169,26.623493251828705,null,"1-in-15 yr (ug/L)",{"$f":"ROUND(SLOPE(R4:R5,$Q4:$Q5)*0.067+INTERCEPT(R4:R5,$Q4:$Q5),0)","v":32},{"$f":"ROUND(SLOPE(S4:S5,$Q4:$Q5)*0.067+INTERCEPT(S4:S5,$Q4:$Q5),0)","v":32}]
[1961,1,9,0,0,0,0,0,0,0,0,null,1968,19.646149548375078,19.732455535897195]
[1961,1,10,0,0,0,0,0,0,0,0,null,1969,25.673992948766035,25.846163078538748]
[1961,1,11,0,0,0,0,0,0,0,0,null,1970,24.095394736842103,24.237580128205128,null,"Benthic Conversion Factor",null,null,null,6.81]
[1961,1,12,0,0,0,0,0,0,0,0,null,1971,22.401089823483382,22.617361815599551,null,"Benthic Mass Fraction in Pore Water",null,null,null,5.4379999999999998E-2]
[1961,1,13,4.1576000000000002E-2,0.21587999999999999,0,0,0,0,0,0,null,1972,24.508684952027679,24.62830723686557]
[1961,1,14,0.18393999999999999,2.4994000000000001,0,0,0,0,0,0,null,1973,25.691538745246664,25.830431520177033]
[1961,1,15,0,0,0,0,0,0,0,0,null,1974,23.865608190178722,24.078398837411068]
[1961,1,16,0,0,0,0,0,0,0,0,null,1975,26.769037656903762,27.028594142259415]
[1961,1,17,0,0,0,0,0,0,0,0,null,1976,23.377399138268704,23.577036819428127]
[1961,1,18,0,0,0,0,0,0,0,0,null,1977,25.219990501997373,25.370338296505292]
[1961,1,19,0.27081,4.1997999999999998,0,0,0,0,0,0,null,1978,25.296691671475283,25.500697249471056]
[1961,1,20,0,0,0,0,0,0,0,0,null,1979,25.829538426941024,26.081733850565016]
[1961,1,21,0,0,0,0,0,0,0,0,null,1980,19.495247148288971,19.527460076045628]
[1961,1,22,0,0,0,0,0,0,0,0,null,1981,30.582310932063724,30.799798571690165]
[1961,1,23,0,0,0,0,0,0,0,0,null,1982,20.487841715752907,20.591037355887831]
[1961,1,24,0,0,0,0,0,0,0,0,null,1983,25.181147665087703,25.374152661518824]
[1961,1,25,0,0,0,0,0,0,0,0,null,1984,18.069244604316545,18.31511241007194]
[1961,1,26,0,0,0,0,0,0,0,0,null,1985,22.319869410067572,22.615234226710196]
[1961,1,27,0,0,0,0,0,0,0,0,null,1986,24.537444933920707,24.840220264317178]
[1961,1,28,0,0,0,0,0,0,0,0,null,1987,31.702506624961991,31.936031104739563]
[1961,1,29,0,0,0,0,0,0,0,0,null,1988,16.776031434184674,16.859361493123771]
[1961,1,30,0,0,0,0,0,0,0,0,null,1989,17.691770050672723,17.736136641621528]
[1961,1,31,0,0,0,0,0,0,0,0,null,1990,18.82281919710233,18.970140356172653]
[1961,2,1,0,0,0,0,0,0,0,0,null,"Grand Total",31.702506624961991,31.936031104739563]
[1961,2,2,0,0,0,0,0,0,0,0]
[1961,2,3,0,0,0,0,0,0,0,0]
[1961,2,4,0,0,0,0,0,0,0,0]
[1961,2,5,0,0,0,0,0,0,0,0]
[1961,2,6,0,0,0,0,0,0,0,0]
[1961,2,7,0.37530999999999998,5.3125,0,0,0,0,0,0]
[1961,2,8,0,0,0,0,0,0,0,0]
[1961,2,9,0,0,0,0,0,0,0,0]
[1961,2,10,0,0,0,0,0,0,0,0]
[1961,2,11,0,0,0,0,0,0,0,0]
[1961,2,12,0,0,0,0,0,0,0,0]
[1961,2,13,0,0,0,0,0,0,0,0]
[1961,2,14,0,0,0,0,0,0,0,0]
[1961,2,15,0,0,0,0,0,0,0,0]
[1961,2,16,0,0,0,0,0,0,0,0]
[1961,2,17,0,0,0,0,0,0,0,0]
[1961,2,18,1.3896999999999999,37.781999999999996,0,0,0,0.27322000000000002,0,0]
[1961,2,19,2.0405000000000002,79.271000000000001,0,0,0,1.5790999999999999,0,0]
[1961,2,20,1.0772999999999999,33.648000000000003,0,0,0,2.7006000000000001,0,0]
[1961,2,21,1.1978,38.835000000000001,0,0,0,3.8592,0,0]
[1961,2,22,2.0282999999999999E-5,1.4379000000000001E-5,0,0,0,4.1284000000000001,0,0]
[1961,2,23,0.79901,22.439,0,0,0,4.8489000000000004,0,0]
[1961,2,24,7.7686000000000002,450.7,0,0,0,6.444,0,0]
[1961,2,25,3.4066000000000001,154.33000000000001,0,0,0,7.6634000000000002,0,0]
[1961,2,26,0,0,0,0,0,7.6634000000000002,0,0]
[1961,2,27,0,0,0,0,0,7.6634000000000002,0,0]
[1961,2,28,0,0,0,0,0,7.6634000000000002,0,0]
[1961,3,1,0,0,0,0,0,7.6634000000000002,0,0]
[1961,3,2,0,0,0,0,0,7.6634000000000002,0,0]
[1961,3,3,0,0,0,0,0,7.6634000000000002,0,0]
[1961,3,4,0,0,0,0,0,7.6634000000000002,0,0]
[1961,3,5,0,0,0,0,0,7.6634000000000002,0,0]
[1961,3,6,1.268,35.645000000000003,0,0,0,8.0679999999999996,0,0]
[1961,3,7,0.59640000000000004,15.814,0,0,0,8.8480000000000008,{"$f":"IF(D67=0,0,(F67)/D67*1000000*1000)","v":0},{"$f":"IF(D67=0,0,(F67+G67)/D67*1000000*1000)","v":0}]
[1961,3,8,0.30137000000000003,6.2007000000000003,0,0,0,9.0145999999999997,0,0]
[1961,3,9,0,0,0,0,0,9.0145999999999997,0,0]
[1961,3,10,0,0,0,0,0,9.0145999999999997,0,0]
[1961,3,11,0,0,0,0,0,9.0145999999999997,0,0]
[1961,3,12,0,0,0,0,0,9.0145999999999997,0,0]
[1961,3,13,1.3743E-2,6.6152000000000002E-2,0,0,0,9.0145999999999997,0,0]
[1961,3,14,0,0,0,0,0,9.0145999999999997,0,0]
[1961,3,15,0,0,0,0,0,9.0145999999999997,0,0]
[1961,3,16,0,0,0,0,0,9.0145999999999997,0,0]
[1961,3,17,0,0,0,0,0,9.0145999999999997,0,0]
[1961,3,18,4.1761999999999997E-3,1.3975E-2,0,0,0,9.0145999999999997,0,0]
[1961,3,19,0,0,0,0,0,9.0145999999999997,0,0]
[1961,3,20,0,0,0,0,0,9.0145999999999997,0,0]
[1961,3,21,0.39046999999999998,8.6080000000000005,0,0,0,9.0145999999999997,0,0]
[1961,3,22,0,0,0,0,0,9.0145999999999997,0,0]
[1961,3,23,0,0,0,0,0,9.0145999999999997,0,0]
[1961,3,24,0,0,0,0,0,9.0145999999999997,0,0]
[1961,3,25,0,0,0,0,0,9.0145999999999997,0,0]
[1961,3,26,0,0,0,0,0,9.0145999999999997,0,0]
[1961,3,27,0,0,0,0,0,9.0145999999999997,0,0]
[1961,3,28,0,0,0,0,0,9.0145999999999997,0,0]
[1961,3,29,0,0,0,0,0,9.0145999999999997,0,0]
[1961,3,30,0,0,0,0,0,9.0145999999999997,0,0]
[1961,3,31,4.5690999999999997,231.88,0,0,0,9.0907,0,0]
[1961,4,1,0,0,0,0,0,9.0907,0,0]
[1961,4,2,0,0,0,0,0,9.0907,0,0]
[1961,4,3,0.15096000000000001,2.1381999999999999,0,0,0,9.0907,0,0]
[1961,4,4,0,0,0,0,0,9.0907,0,0]
[1961,4,5,0,0,0,0,0,9.0907,0,0]
[1961,4,6,0,0,0,0,0,9.0907,0,0]
[1961,4,7,0,0,0,0,0,9.0907,0,0]
[1961,4,8,0,0,0,0,0,9.0907,0,0]
[1961,4,9,0.22466,3.2019000000000002,0,0,0,9.0907,0,0]
[1961,4,10,0,0,0,0,0,9.0907,0,0]
[1961,4,11,0,0,0,0,0,9.0907,0,0]
[1961,4,12,1.9615,86.906000000000006,0,0,0,9.1758000000000006,0,0]
[1961,4,13,0,0,0,0,0,9.1758000000000006,0,0]
[1961,4,14,0,0,0,0,0,9.1758000000000006,0,0]
[1961,4,15,0.62609999999999999,18.22,0,0,0,9.6265000000000001,0,0]
[1961,4,16,0,0,0,0,0,9.6265000000000001,0,0]
[1961,4,17,0,0,0,0,0,9.6265000000000001,0,0]
[1961,4,18,0,0,0,0,0,9.6265000000000001,0,0]
[1961,4,19,0,0,0,0,0,9.6265000000000001,0,0]
[1961,4,20,0,0,0,0,0,9.6265000000000001,0,0]
[1961,4,21,0,0,0,0,0,9.6265000000000001,0,0]
[1961,4,22,0,0,0,0,0,9.6265000000000001,0,0]
[1961,4,23,0,0,0,0,0,9.6265000000000001,0,0]
[1961,4,24,0,0,0,0,0,9.6265000000000001,0,0]
[1961,4,25,0,0,0,0,0,9.6265000000000001,0,0]
[1961,4,26,0,0,0,0,0,9.6265000000000001,0,0]
[1961,4,27,0.95330999999999999,31.31,0,0,0,9.6265000000000001,0,0]
[1961,4,28,0,0,0,0,0,9.6265000000000001,0,0]
[1961,4,29,0,0,0,0,0,9.6265000000000001,0,0]
[1961,4,30,0,0,0,0,0,9.6265000000000001,0,0]
[1961,5,1,1.4185E-2,7.8341999999999995E-2,0,0,0,9.6265000000000001,0,0]
[1961,5,2,0,0,0,0,0,9.6265000000000001,0,0]
[1961,5,3,0,0,0,0,0,9.6265000000000001,0,0]
[1961,5,4,0,0,0,0,0,9.6265000000000001,0,0]
[1961,5,5,0,0,0,0,0,9.6265000000000001,0,0]
[1961,5,6,0,0,0,0,0,9.6265000000000001,0,0]
[1961,5,7,0,0,0,0,0,9.6265000000000001,0,0]
[1961,5,8,0,0,0,0,0,9.6265000000000001,0,0]
[1961,5,9,0,0,0,0,0,9.6265000000000001,0,0]
[1961,5,10,0.35881999999999997,8.3399000000000001,0,0,0,9.6265000000000001,{"$f":"IF(D131=0,0,(F131)/D131*1000000*1000)","v":0},{"$f":"IF(D131=0,0,(F131+G131)/D131*1000000*1000)","v":0}]
[1961,5,11,0.62234,19.536999999999999,0,0,0,9.6265000000000001,0,0]
[1961,5,12,0,0,0,0,0,9.6265000000000001,0,0]
[1961,5,13,0,0,0,0,0,9.6265000000000001,0,0]
[1961,5,14,0,0,0,0,0,9.6265000000000001,0,0]
[1961,5,15,0,0,0,0,0,9.6265000000000001,0,0]
[1961,5,16,0,0,0,0,0,9.6265000000000001,0,0]
[1961,5,17,0,0,0,0,0,9.6265000000000001,0,0]
[1961,5,18,0,0,0,0,0,9.6265000000000001,0,0]
[1961,5,19,0,0,0,0,0,9.6265000000000001,0,0]
[1961,5,20,0,0,0,0,0,9.6265000000000001,0,0]
[1961,5,21,0,0,0,0,0,9.6265000000000001,0,0]
[1961,5,22,0.182,1.8662000000000001,0,0,0,9.6265000000000001,0,0]
[1961,5,23,5.0577999999999998E-2,0.43112,0,0,0,9.6265000000000001,0,0]
[1961,5,24,0,0,0,0,0,9.6265000000000001,0,0]
[1961,5,25,7.4187999999999997E-3,3.1569E-2,0,0,0,9.6265000000000001,0,0]
[1961,5,26,0,0,0,0,0,9.6265000000000001,0,0]
[1961,5,27,0,0,0,0,0,9.6265000000000001,0,0]
[1961,5,28,0,0,0,0,0,9.6265000000000001,0,0]
[1961,5,29,0,0,0,0,0,9.6265000000000001,0,0]
[1961,5,30,0,0,0,0,0,9.6265000000000001,0,0]
[1961,5,31,0,0,0,0,0,9.6265000000000001,0,0]
[1961,6,1,0,0,0,0,0,9.6265000000000001,0,0]
[1961,6,2,0,0,0,0,0,9.6265000000000001,0,0]
[1961,6,3,0,0,0,0,0,9.6265000000000001,0,0]
[1961,6,4,0,0,0,0,0,9.6265000000000001,0,0]
[1961,6,5,0,0,0,0,0,9.6265000000000001,0,0]
[1961,6,6,0,0,0,0,0,9.6265000000000001,0,0]
[1961,6,7,0,0,0,0,0,9.6265000000000001,0,0]
[1961,6,8,0,0,0,0,0,9.6265000000000001,0,0]
[1961,6,9,0,0,0,0,0,9.6265000000000001,0,0]
[1961,6,10,0,0,0,0,0,9.6265000000000001,0,0]
[1961,6,11,0,0,0,0,0,9.6265000000000001,0,0]
[1961,6,12,0,0,0,0,0,9.6265000000000001,0,0]
[1961,6,13,0,0,0,0,0,9.6265000000000001,0,0]
[1961,6,14,0,0,0,0,0,9.6265000000000001,0,0]
[1961,6,15,6.2737000000000001E-2,0.32495000000000002,0,0,0,9.6265000000000001,0,0]
[1961,6,16,0,0,0,0,0,9.6265000000000001,0,0]
[1961,6,17,0,0,0,0,0,9.6265000000000001,0,0]
[1961,6,18,0,0,0,0,0,9.6265000000000001,0,0]
[1961,6,19,0,0,0,0,0,9.6265000000000001,0,0]
[1961,6,20,3.0771000000000002,48.771999999999998,0,0,0,9.6265000000000001,0,0]
[1961,6,21,2.0949,31.567,0,0,0,9.6265000000000001,0,0]
[1961,6,22,0,0,0,0,0,9.6265000000000001,0,0]
[1961,6,23,0.90468999999999999,9.8623999999999992,0,0,0,9.6265000000000001,0,0]
[1961,6,24,0,0,0,0,0,9.6265000000000001,0,0]
[1961,6,25,0,0,0,0,0,9.6265000000000001,0,0]
[1961,6,26,1.1569,13.962999999999999,0,0,0,9.9558,0,0]
[1961,6,27,1.6536,23.212,0,0,0,10.760999999999999,0,0]
[1961,6,28,0,0,0,0,0,10.760999999999999,0,0]
[1961,6,29,0,0,0,0,0,10.760999999999999,0,0]
[1961,6,30,0,0,0,0,0,10.760999999999999,0,0]
[1961,7,1,0,0,0,0,0,10.760999999999999,0,0]
[1961,7,2,0,0,0,0,0,10.760999999999999,0,0]
[1961,7,3,0,0,0,0,0,10.760999999999999,0,0]
[1961,7,4,0,0,0,0,0,10.760999999999999,0,0]
[1961,7,5,0,0,0,0,0,10.760999999999999,0,0]
[1961,7,6,0,0,0,0,0,10.760999999999999,0,0]
[1961,7,7,0.21398,0.62675000000000003,0,0,0,10.760999999999999,0,0]
[1961,7,8,0,0,0,0,0,10.760999999999999,0,0]
[1961,7,9,0,0,0,0,0,10.760999999999999,0,0]
[1961,7,10,0,0,0,0,0,10.760999999999999,0,0]
[1961,7,11,3.6066000000000001E-2,5.9799999999999999E-2,0,0,0,10.760999999999999,0,0]
[1961,7,12,0,0,0,0,0,10.760999999999999,0,0]
[1961,7,13,0.25773000000000001,1.3301000000000001,0,0,0,10.760999999999999,{"$f":"IF(D195=0,0,(F195)/D195*1000000*1000)","v":0},{"$f":"IF(D195=0,0,(F195+G195)/D195*1000000*1000)","v":0}]
[1961,7,14,0,0,0,0,0,10.760999999999999,0,0]
[1961,7,15,0,0,0,0,0,10.760999999999999,0,0]
[1961,7,16,0,0,0,0,0,10.760999999999999,0,0]
[1961,7,17,0,0,0,0,0,10.760999999999999,0,0]
[1961,7,18,0,0,0,0,0,10.760999999999999,0,0]
[1961,7,19,4.2283000000000002E-4,1.9741E-4,6.9552999999999997E-12,4.5979E-14,0,10.760999999999999,16.4494004682733,16.558141569898069]
[1961,7,20,0,0,0,0,0,10.760999999999999,0,0]
[1961,7,21,0,0,0,0,0,10.760999999999999,0,0]
[1961,7,22,0,0,0,0,0,10.760999999999999,0,0]
[1961,7,23,0,0,0,0,0,10.760999999999999,0,0]
[1961,7,24,0,0,0,0,0,10.760999999999999,0,0]
[1961,7,25,0,0,0,0,0,10.760999999999999,0,0]
[1961,7,26,0,0,0,0,0,10.760999999999999,0,0]
[1961,7,27,0,0,0,0,0,10.760999999999999,0,0]
[1961,7,28,0,0,0,0,0,10.760999999999999,0,0]
[1961,7,29,0,0,0,0,0,10.760999999999999,0,0]
[1961,7,30,0,0,0,0,0,10.760999999999999,0,0]
[1961,7,31,0,0,0,0,0,10.760999999999999,0,0]
[1961,8,1,0,0,0,0,0,10.760999999999999,0,0]
[1961,8,2,0,0,0,0,0,10.760999999999999,0,0]
[1961,8,3,0,0,0,0,0,10.760999999999999,0,0]
[1961,8,4,0,0,0,0,0,10.760999999999999,0,0]
[1961,8,5,0,0,0,0,0,10.760999999999999,0,0]
[1961,8,6,1.3787,14.442,2.7869E-8,1.5739000000000001E-10,0,10.760999999999999,20.2139696815841,20.328127946616377]
[1961,8,7,2.9714000000000001E-2,7.0971000000000006E-2,5.4592000000000001E-10,1.3442000000000001E-12,0,10.760999999999999,18.372484350811067,18.417722285791211]
[1961,8,8,0.1135,0.56583000000000006,1.8354999999999999E-9,3.7293000000000003E-12,0,10.760999999999999,16.171806167400881,16.204663436123344]
[1961,8,9,0,0,0,0,0,10.760999999999999,0,0]
[1961,8,10,0,0,0,0,0,10.760999999999999,0,0]
[1961,8,11,0,0,0,0,0,10.760999999999999,0,0]
[1961,8,12,0,0,0,0,0,10.760999999999999,0,0]
[1961,8,13,0,0,0,0,0,10.760999999999999,0,0]
[1961,8,14,0,0,0,0,0,10.760999999999999,0,0]
[1961,8,15,0,0,0,0,0,10.760999999999999,0,0]
[1961,8,16,0,0,0,0,0,10.760999999999999,0,0]
[1961,8,17,0,0,0,0,0,10.760999999999999,0,0]
[1961,8,18,0,0,0,0,0,10.760999999999999,0,0]
[1961,8,19,0,0,0,0,0,10.760999999999999,0,0]
[1961,8,20,0,0,0,0,0,10.760999999999999,0,0]
[1961,8,21,0,0,0,0,0,10.760999999999999,0,0]
[1961,8,22,0,0,0,0,0,10.760999999999999,0,0]
[1961,8,23,4.2236000000000003E-2,0.1288,5.0790999999999996E-10,2.8250000000000001E-13,0,10.760999999999999,12.025523250307794,12.032211857183443]
[1961,8,24,1.1648000000000001,18.899000000000001,1.0894E-8,5.6344999999999999E-12,0,10.760999999999999,9.3526785714285712,9.357515882554944]
[1961,8,25,0,0,0,0,0,10.760999999999999,0,0]
[1961,8,26,0,0,0,0,0,10.760999999999999,0,0]
[1961,8,27,0,0,0,0,0,10.760999999999999,0,0]
[1961,8,28,0,0,0,0,0,10.760999999999999,0,0]
[1961,8,29,0,0,0,0,0,10.760999999999999,0,0]
[1961,8,30,0.28661999999999999,2.359,2.0035E-9,3.0813999999999999E-13,0,10.760999999999999,6.9900914102295726,6.9911664922196639]
[1961,8,31,0.58516999999999997,7.4939,3.2867999999999999E-9,3.2582000000000002E-13,0,10.760999999999999,5.6168292974691125,5.6173860929302597]
[1961,9,1,0,0,0,0,0,10.760999999999999,0,0]
[1961,9,2,0,0,0,0,0,10.760999999999999,0,0]
[1961,9,3,0,0,0,0,0,10.760999999999999,0,0]
[1961,9,4,0,0,0,0,0,10.760999999999999,0,0]
[1961,9,5,0.51390999999999998,5.8567,1.9581000000000001E-9,6.0030999999999994E-14,0,10.760999999999999,3.8102002296121893,3.8103170418944963]
[1961,9,6,0,0,0,0,0,10.760999999999999,0,0]
[1961,9,7,0,0,0,0,0,10.760999999999999,0,0]
[1961,9,8,0,0,0,0,0,10.760999999999999,0,0]
[1961,9,9,0,0,0,0,0,10.760999999999999,0,0]
[1961,9,10,0,0,0,0,0,10.760999999999999,0,0]
[1961,9,11,0,0,0,0,0,10.760999999999999,0,0]
[1961,9,12,0,0,0,0,0,10.760999999999999,0,0]
[1961,9,13,0,0,0,0,0,10.760999999999999,0,0]
[1961,9,14,0.24698000000000001,1.6592,6.2244999999999995E-10,5.8124000000000003E-15,0,10.760999999999999,2.5202445542149157,2.5202680881043]
[1961,9,15,0,0,0,0,0,10.760999999999999,{"$f":"IF(D259=0,0,(F259)/D259*1000000*1000)","v":0},{"$f":"IF(D259=0,0,(F259+G259)/D259*1000000*1000)","v":0}]
[1961,9,16,0,0,0,0,0,10.760999999999999,0,0]
[1961,9,17,0,0,0,0,0,10.760999999999999,0,0]
[1961,9,18,0,0,0,0,0,10.760999999999999,0,0]
[1961,9,19,0,0,0,0,0,10.760999999999999,0,0]
[1961,9,20,0,0,0,0,0,10.760999999999999,0,0]
[1961,9,21,0,0,0,0,0,10.760999999999999,0,0]
[1961,9,22,0,0,0,0,0,10.760999999999999,0,0]
[1961,9,23,0,0,0,0,0,10.760999999999999,0,0]
[1961,9,24,0,0,0,0,0,10.760999999999999,0,0]
[1961,9,25,0,0,0,0,0,10.760999999999999,0,0]
[1961,9,26,0,0,0,0,0,10.760999999999999,0,0]
[1961,9,27,0,0,0,0,0,10.760999999999999,0,0]
[1961,9,28,0,0,0,0,0,10.760999999999999,0,0]
[1961,9,29,0,0,0,0,0,10.760999999999999,0,0]
[1961,9,30,0,0,0,0,0,10.760999999999999,0,0]
[1961,10,1,0,0,0,0,0,10.760999999999999,0,0]
[1961,10,2,0,0,0,0,0,10.760999999999999,0,0]
[1961,10,3,0,0,0,0,0,10.760999999999999,0,0]
[1961,10,4,0,0,0,0,0,10.760999999999999,0,0]
[1961,10,5,0,0,0,0,0,10.760999999999999,0,0]
[1961,10,6,0,0,0,0,0,10.760999999999999,0,0]
[1961,10,7,0,0,0,0,0,10.760999999999999,0,0]
[1961,10,8,0,0,0,0,0,10.760999999999999,0,0]
[1961,10,9,0,0,0,0,0,10.760999999999999,0,0]
[1961,10,10,0,0,0,0,0,10.760999999999999,0,0]
[1961,10,11,0,0,0,0,0,10.760999999999999,0,0]
[1961,10,12,0,0,0,0,0,10.760999999999999,0,0]
[1961,10,13,0,0,0,0,0,10.760999999999999,0,0]
[1961,10,14,0,0,0,0,0,10.760999999999999,0,0]
[1961,10,15,0,0,0,0,0,10.760999999999999,0,0]
[1961,10,16,0,0,0,0,0,10.760999999999999,0,0]
[1961,10,17,0,0,0,0,0,10.760999999999999,0,0]
[1961,10,18,0,0,0,0,0,10.760999999999999,0,0]
[1961,10,19,0,0,0,0,0,10.760999999999999,0,0]
[1961,10,20,0,0,0,0,0,10.760999999999999,0,0]
[1961,10,21,0,0,0,0,0,10.760999999999999,0,0]
[1961,10,22,0,0,0,0,0,10.760999999999999,0,0]
[1961,10,23,0,0,0,0,0,10.760999999999999,0,0]
[1961,10,24,0,0,0,0,0,10.760999999999999,0,0]
[1961,10,25,0,0,0,0,0,10.760999999999999,0,0]
[1961,10,26,0,0,0,0,0,10.760999999999999,0,0]
[1961,10,27,0,0,0,0,0,10.760999999999999,0,0]
[1961,10,28,0,0,0,0,0,10.760999999999999,0,0]
[1961,10,29,0,0,0,0,0,10.760999999999999,0,0]
[1961,10,30,0,0,0,0,0,10.760999999999999,0,0]
[1961,10,31,0,0,0,0,0,10.760999999999999,0,0]
[1961,11,1,0,0,0,0,0,10.760999999999999,0,0]
[1961,11,2,0,0,0,0,0,10.760999999999999,0,0]
[1961,11,3,0,0,0,0,0,10.760999999999999,0,0]
[1961,11,4,0,0,0,0,0,10.760999999999999,0,0]
[1961,11,5,0,0,0,0,0,10.760999999999999,0,0]
[1961,11,6,0,0,0,0,0,10.760999999999999,0,0]
[1961,11,7,0,0,0,0,0,10.760999999999999,0,0]
[1961,11,8,0,0,0,0,0,10.760999999999999,0,0]
[1961,11,9,0,0,0,0,0,10.760999999999999,0,0]
[1961,11,10,0,0,0,0,0,10.760999999999999,0,0]
[1961,11,11,0,0,0,0,0,10.760999999999999,0,0]
[1961,11,12,0,0,0,0,0,10.760999999999999,0,0]
[1961,11,13,0,0,0,0,0,10.760999999999999,0,0]
[1961,11,14,0,0,0,0,0,10.760999999999999,0,0]
[1961,11,15,0.18140000000000001,1.7956000000000001,2.1885E-10,2.3479000000000001E-16,0,10.760999999999999,1.2064498346196251,1.2064511289415654]
[1961,11,16,0,0,0,0,0,10.760999999999999,0,0]
[1961,11,17,0,0,0,0,0,10.760999999999999,0,0]
[1961,11,18,0,0,0,0,0,10.760999999999999,{"$f":"IF(D323=0,0,(F323)/D323*1000000*1000)","v":0},{"$f":"IF(D323=0,0,(F323+G323)/D323*1000000*1000)","v":0}]
[1961,11,19,0,0,0,0,0,10.760999999999999,0,0]
[1961,11,20,0,0,0,0,0,10.760999999999999,0,0]
[1961,11,21,0,0,0,0,0,10.760999999999999,0,0]
[1961,11,22,0,0,0,0,0,10.760999999999999,0,0]
[1961,11,23,1.2755000000000001,28.731000000000002,8.6211000000000003E-10,4.2113999999999998E-16,0,10.760999999999999,0.67589964719717754,0.67589997737357899]
[1961,11,24,0,0,0,0,0,10.760999999999999,0,0]
[1961,11,25,0,0,0,0,0,10.760999999999999,0,0]
[1961,11,26,0,0,0,0,0,10.760999999999999,0,0]
[1961,11,27,0,0,0,0,0,10.760999999999999,0,0]
[1961,11,28,0,0,0,0,0,10.760999999999999,0,0]
[1961,11,29,0,0,0,0,0,10.760999999999999,0,0]
[1961,11,30,0,0,0,0,0,10.760999999999999,0,0]
[1961,12,1,0,0,0,0,0,10.760999999999999,0,0]
[1961,12,2,0,0,0,0,0,10.760999999999999,0,0]
[1961,12,3,0,0,0,0,0,10.760999999999999,0,0]
[1961,12,4,0,0,0,0,0,10.760999999999999,0,0]
[1961,12,5,0,0,0,0,0,10.760999999999999,0,0]
[1961,12,6,7.6297000000000004E-2,0.45787,3.5263999999999998E-11,4.3696999999999999E-18,0,10.760999999999999,0.46219379529994625,0.46219385257218498]
[1961,12,7,0,0,0,0,0,10.760999999999999,0,0]
[1961,12,8,0,0,0,0,0,10.760999999999999,0,0]
[1961,12,9,0,0,0,0,0,10.760999999999999,0,0]
[1961,12,10,3.1320999999999999,102.74,7.7488000000000002E-10,7.5322999999999999E-17,0,10.760999999999999,0.24739950831710356,0.24739953236582485]
[1961,12,11,3.0613999999999999,105.1,4.7107000000000001E-10,2.4320999999999999E-17,7.1331999999999995E-33,11.537000000000001,0.15387404455477888,0.15387405249918337]
[1961,12,12,5.6014999999999997,230.52,5.0684999999999996E-10,1.2854E-17,5.3156999999999997E-25,12.792999999999999,9.0484691600464157E-2,9.0484693895206636E-2]
[1961,12,13,0,0,0,0,5.3142999999999996E-25,12.792999999999999,0,0]
[1961,12,14,0.57733000000000001,11.221,3.4817999999999998E-11,4.4829999999999996E-19,1.0809E-24,13.430999999999999,6.0308662290197976E-2,6.030866306670362E-2]
[1961,12,15,0,0,0,0,1.1786E-24,13.535,0,0]
[1961,12,16,1.8144000000000001E-3,4.1098000000000003E-3,8.7490999999999998E-14,4.4379000000000004E-22,1.4864E-24,13.795,4.8220348324514994E-2,4.8220348569108236E-2]
[1961,12,17,0.77573999999999999,18.184000000000001,2.4531E-11,1.4641E-19,5.5084000000000002E-24,14.712,3.1622708639492618E-2,3.1622708828228534E-2]
[1961,12,18,1.5916999999999999,47.656999999999996,3.0917000000000002E-11,1.1237000000000001E-19,2.3129000000000001E-23,15.669,1.9423886410755799E-2,1.9423886481353275E-2]
[1961,12,19,0,0,0,0,2.3123E-23,15.669,0,0]
[1961,12,20,0,0,0,0,2.3116999999999999E-23,15.669,0,0]
[1961,12,21,0,0,0,0,2.3111000000000001E-23,15.669,0,0]
[1961,12,22,0,0,0,0,2.3104999999999999E-23,15.669,0,0]
[1961,12,23,0,0,0,0,2.3099000000000001E-23,15.669,0,0]
[1961,12,24,0,0,0,0,2.3093E-23,15.669,0,0]
[1961,12,25,0,0,0,0,2.3087999999999999E-23,15.669,0,0]
[1961,12,26,0,0,0,0,2.3082000000000001E-23,15.669,0,0]
[1961,12,27,1.3297E-2,5.1560000000000002E-2,1.8844E-13,1.8804000000000001E-22,2.3076E-23,15.669,1.4171617658118373E-2,1.4171617672259908E-2]
[1961,12,28,0,0,0,0,2.3069999999999999E-23,15.669,0,0]
[1961,12,29,0,0,0,0,2.3064000000000001E-23,15.669,0,0]
[1961,12,30,0,0,0,0,2.3058E-23,15.669,0,0]
[1961,12,31,0,0,0,0,2.3051999999999999E-23,15.669,0,0]
[1962,1,1,0,0,0,0,2.3046000000000001E-23,15.669,0,0]
[1962,1,2,0,0,0,0,2.3039999999999999E-23,15.669,0,0]
[1962,1,3,0,0,0,0,2.3034000000000001E-23,15.669,0,0]
[1962,1,4,0,0,0,0,2.3029E-23,15.669,0,0]
[1962,1,5,0.36812,6.173,2.3708E-12,1.5137000000000001E-21,2.3022999999999999E-23,15.669,6.4402912093882436E-3,6.4402912135002183E-3]
[1962,1,6,0.50756000000000001,10.369,1.9868999999999999E-12,8.7884000000000003E-22,3.4582999999999997E-23,16.088999999999999,3.914611080463393E-3,3.9146110821948917E-3]
[1962,1,7,0,0,0,0,3.4573999999999999E-23,16.088999999999999,0,0]
[1962,1,8,0,0,0,0,3.4565E-23,16.088999999999999,0,0]
[1962,1,9,0.12679000000000001,1.3429,3.2286E-13,6.9949999999999996E-23,4.9937E-23,16.475999999999999,2.5464153324394664E-3,2.5464153329911661E-3]
[1962,1,10,0,0,0,0,4.9924999999999998E-23,16.475999999999999,0,0]
[1962,1,11,0,0,0,0,4.9911999999999998E-23,16.475999999999999,0,0]
[1962,1,12,0,0,0,0,4.9898999999999999E-23,16.475999999999999,0,0]
[1962,1,13,0,0,0,0,4.9885999999999999E-23,16.475999999999999,0,0]
[1962,1,14,0,0,0,0,4.9873999999999997E-23,16.475999999999999,0,0]
[1962,1,15,2.2547000000000001E-2,0.10712000000000001,4.0724000000000001E-14,4.3520999999999999E-24,4.9860999999999998E-23,16.475999999999999,1.8061826407060806E-3,1.8061826408991039E-3]
[1962,1,16,0,0,0,0,4.9847999999999998E-23,16.475999999999999,0,0]
[1962,1,17,0,0,0,0,4.9834999999999999E-23,16.475999999999999,0,0]
[1962,1,18,0.15207000000000001,1.7842,1.724E-13,1.687E-23,4.9823000000000003E-23,16.475999999999999,1.133688432958506E-3,1.1336884330694417E-3]
[1962,1,19,1.2795000000000001,38.223999999999997,7.6433000000000004E-13,6.3995999999999994E-23,8.6765999999999992E-22,17.693999999999999,5.9736615865572484E-4,5.9736615870574137E-4]
[1962,1,20,0,0,0,0,8.6744000000000006E-22,17.693999999999999,0,0]
[1962,1,21,0,0,0,0,8.6722000000000001E-22,17.693999999999999,{"$f":"IF(D387=0,0,(F387)/D387*1000000*1000)","v":0},{"$f":"IF(D387=0,0,(F387+G387)/D387*1000000*1000)","v":0}]
[1962,1,22,0,0,0,0,8.6699999999999995E-22,17.693999999999999,0,0]
[1962,1,23,0.39906999999999998,7.7515999999999998,1.3832000000000001E-13,6.7363000000000007E-24,2.3473E-21,18.512,3.4660585862129455E-4,3.4660585863817455E-4]
[1962,1,24,0,0,0,0,2.3466999999999999E-21,18.512,0,0]
[1962,1,25,0,0,0,0,2.3460999999999999E-21,18.512,0,0]
[1962,1,26,0,0,0,0,2.3454999999999999E-21,18.512,0,0]
[1962,1,27,0.31153999999999998,5.4903000000000004,6.0937999999999997E-14,1.8036E-24,4.9633999999999997E-21,19.198,1.9560249085189704E-4,1.9560249085768635E-4]
[1962,1,28,0.72506000000000004,17.709,7.7934999999999998E-14,1.6687E-24,1.8553E-20,20.158999999999999,1.0748765619397013E-4,1.0748765619627161E-4]
[1962,1,29,0,0,0,0,1.8548E-20,20.158999999999999,0,0]
[1962,1,30,0,0,0,0,1.8543000000000001E-20,20.158999999999999,0,0]
[1962,1,31,0,0,0,0,1.8538000000000001E-20,20.158999999999999,0,0]
[1962,2,1,0,0,0,0,1.8534000000000001E-20,20.158999999999999,0,0]
[1962,2,2,0,0,0,0,1.8529000000000001E-20,20.158999999999999,0,0]
[1962,2,3,0,0,0,0,1.8523999999999999E-20,20.158999999999999,0,0]
[1962,2,4,0,0,0,0,1.8518999999999999E-20,20.158999999999999,0,0]
[1962,2,5,0,0,0,0,1.8514999999999999E-20,20.158999999999999,0,0]
[1962,2,6,0,0,0,0,1.8509999999999999E-20,20.158999999999999,0,0]
[1962,2,7,0,0,0,0,1.8505E-20,20.158999999999999,0,0]
[1962,2,8,0,0,0,0,1.85E-20,20.158999999999999,0,0]
[1962,2,9,0,0,0,0,1.8496E-20,20.158999999999999,0,0]
[1962,2,10,0,0,0,0,1.8491E-20,20.158999999999999,0,0]
[1962,2,11,0,0,0,0,1.8486000000000001E-20,20.158999999999999,0,0]
[1962,2,12,0,0,0,0,1.8482000000000001E-20,20.158999999999999,0,0]
[1962,2,13,0,0,0,0,1.8477000000000001E-20,20.158999999999999,0,0]
[1962,2,14,0,0,0,0,1.8472000000000002E-20,20.158999999999999,0,0]
[1962,2,15,0,0,0,0,1.8466999999999999E-20,20.158999999999999,0,0]
[1962,2,16,0,0,0,0,1.8462999999999999E-20,20.158999999999999,0,0]
[1962,2,17,0,0,0,0,1.8457999999999999E-20,20.158999999999999,0,0]
[1962,2,18,0,0,0,0,1.8453E-20,20.158999999999999,0,0]
[1962,2,19,0,0,0,0,1.8448E-20,20.158999999999999,0,0]
[1962,2,20,0,0,0,0,1.8444E-20,20.158999999999999,0,0]
[1962,2,21,0.31633,5.0029000000000003,8.9136000000000003E-15,3.1712000000000001E-26,1.8439E-20,20.158999999999999,2.8178168368475957E-5,2.8178168368576209E-5]
[1962,2,22,5.2847,273.14,6.3725000000000001E-14,1.941E-25,2.9671000000000001E-20,20.655999999999999,1.2058394989308758E-5,1.2058394989345489E-5]
[1962,2,23,0,0,0,0,3.1360999999999998E-20,20.727,0,0]
[1962,2,24,0.47442000000000001,11.02,2.8223999999999999E-15,4.5517000000000001E-27,6.2163999999999995E-20,21.381,5.9491589730618434E-6,5.9491589730714378E-6]
[1962,2,25,0.11198,1.3391999999999999,4.2858999999999998E-16,4.1101999999999997E-28,1.0485E-19,21.919,3.8273798892659397E-6,3.8273798892696108E-6]
[1962,2,26,0,0,0,0,1.0482E-19,21.919,0,0]
[1962,2,27,0,0,0,0,1.0479E-19,21.919,0,0]
[1962,2,28,0,0,0,0,1.0477E-19,21.919,0,0]
[1962,3,1,0,0,0,0,1.0474000000000001E-19,21.919,0,0]
[1962,3,2,0,0,0,0,1.0471E-19,21.919,0,0]
[1962,3,3,0,0,0,0,1.0469E-19,21.919,0,0]
[1962,3,4,0,0,0,0,1.0466E-19,21.919,0,0]
[1962,3,5,0,0,0,0,1.0463E-19,21.919,0,0]
[1962,3,6,0,0,0,0,1.0461E-19,21.919,0,0]
[1962,3,7,0,0,0,0,1.0458E-19,21.919,0,0]
[1962,3,8,0,0,0,0,1.0455E-19,21.919,0,0]
[1962,3,9,0,0,0,0,1.0453000000000001E-19,21.919,0,0]
[1962,3,10,0.89242999999999995,24.895,1.1276E-15,6.5646999999999999E-28,1.1485000000000001E-19,22.038,1.2635164662774671E-6,1.263516466278203E-6]
[1962,3,11,3.2669999999999999,153.47,1.7823000000000002E-15,7.7631E-28,5.9526999999999999E-18,23.506,5.4554637281910022E-7,5.455463728193377E-7]
[1962,3,12,0,0,0,0,5.9512000000000003E-18,23.506,0,0]
[1962,3,13,0,0,0,0,5.9496000000000003E-18,23.506,0,0]
[1962,3,14,0,0,0,0,5.9481E-18,23.506,0,0]
[1962,3,15,0,0,0,0,5.9465999999999996E-18,23.506,0,0]
[1962,3,16,0,0,0,0,5.9451000000000001E-18,23.506,0,0]
[1962,3,17,0,0,0,0,5.9435E-18,23.506,0,0]
[1962,3,18,0,0,0,0,5.9419999999999997E-18,23.506,0,0]
[1962,3,19,0,0,0,0,5.9405000000000001E-18,23.506,0,0]
[1962,3,20,0,0,0,0,5.9389999999999998E-18,23.506,0,0]
[1962,3,21,0.13395000000000001,1.2444,2.9851999999999998E-17,3.4443999999999998E-30,5.9375000000000002E-18,23.506,2.2285927584919745E-7,2.2285927584922313E-7]
[1962,3,22,0,0,0,0,5.9359000000000001E-18,23.506,0,0]
[1962,3,23,0,0,0,0,5.9343999999999998E-18,23.506,0,0]
[1962,3,24,0,0,0,0,5.9329000000000002E-18,23.506,0,0]
[1962,3,25,0.78383999999999998,21.683,7.3071999999999995E-17,9.2821999999999994E-30,5.9313999999999999E-18,23.506,9.3223106756480904E-8,9.322310675649275E-8]
[1962,3,26,0,0,0,0,5.9299000000000003E-18,23.506,{"$f":"IF(D451=0,0,(F451)/D451*1000000*1000)","v":0},{"$f":"IF(D451=0,0,(F451+G451)/D451*1000000*1000)","v":0}]
[1962,3,27,0,0,0,0,5.9284E-18,23.506,0,0]
[1962,3,28,0,0,0,0,5.9267999999999999E-18,23.506,0,0]
[1962,3,29,0,0,0,0,5.9253000000000004E-18,23.506,0,0]
[1962,3,30,2.4573999999999999E-2,0.15007000000000001,1.2186E-18,5.8953999999999998E-32,5.9238E-18,23.506,4.9588996500366245E-8,4.9588996500368647E-8]
[1962,3,31,1.8651,77.171999999999997,4.146E-17,2.6852E-30,7.5052999999999997E-18,23.821999999999999,2.2229371079298701E-8,2.2229371079300137E-8]
[1962,4,1,0,0,0,0,7.5033000000000007E-18,23.821999999999999,0,0]
[1962,4,2,0,0,0,0,7.5013999999999992E-18,23.821999999999999,0,0]
[1962,4,3,0,0,0,0,7.4994999999999993E-18,23.821999999999999,0,0]
[1962,4,4,0,0,0,0,7.4975999999999993E-18,23.821999999999999,0,0]
[1962,4,5,0,0,0,0,7.4956999999999993E-18,23.821999999999999,0,0]
[1962,4,6,0.52812999999999999,13.834,4.4039000000000001E-18,1.3947E-31,7.4937000000000004E-18,23.821999999999999,8.3386666161740485E-9,8.3386666161743115E-9]
[1962,4,7,0,0,0,0,7.4918000000000005E-18,23.821999999999999,0,0]
[1962,4,8,0,0,0,0,7.4899000000000005E-18,23.821999999999999,0,0]
[1962,4,9,0,0,0,0,7.4880000000000005E-18,23.821999999999999,0,0]
[1962,4,10,0,0,0,0,7.4861000000000006E-18,23.821999999999999,0,0]
[1962,4,11,2.7372999999999998,127.54,6.8153000000000002E-18,1.4721999999999999E-31,1.5080999999999999E-17,24.577999999999999,2.4897892083439885E-9,2.4897892083440427E-9]
[1962,4,12,2.0847000000000002,99.338999999999999,2.2438E-18,3.6352000000000001E-32,9.1603999999999994E-17,25.86,1.0763179354343549E-9,1.0763179354343723E-9]
[1962,4,13,0,0,0,0,9.1581000000000006E-17,25.86,0,0]
[1962,4,14,0,0,0,0,9.1557000000000001E-17,25.86,0,0]
[1962,4,15,0,0,0,0,9.1534E-17,25.86,0,0]
[1962,4,16,0,0,0,0,9.1509999999999995E-17,25.86,0,0]
[1962,4,17,0,0,0,0,9.1486999999999994E-17,25.86,0,0]
[1962,4,18,0,0,0,0,9.1464000000000006E-17,25.86,0,0]
[1962,4,19,0,0,0,0,9.144E-17,25.86,0,0]
[1962,4,20,0,0,0,0,9.1417E-17,25.86,0,0]
[1962,4,21,0,0,0,0,9.1392999999999994E-17,25.86,0,0]
[1962,4,22,0,0,0,0,9.1370000000000006E-17,25.86,0,0]
[1962,4,23,0,0,0,0,9.1347000000000006E-17,25.86,0,0]
[1962,4,24,0,0,0,0,9.1323E-17,25.86,0,0]
[1962,4,25,2.8143E-3,8.7939999999999997E-3,1.4664000000000001E-21,6.6704999999999994E-36,9.13E-17,25.86,5.2105319262338772E-10,5.2105319262338999E-10]
[1962,4,26,6.2965E-3,2.9593000000000001E-2,2.3445000000000002E-21,1.0545E-35,9.1276999999999999E-17,25.86,3.7234971809735571E-10,3.7234971809735731E-10]
[1962,4,27,0,0,0,0,9.1253000000000006E-17,25.86,0,0]
[1962,4,28,0,0,0,0,9.1230000000000005E-17,25.86,0,0]
[1962,4,29,0.57532000000000005,16.748999999999999,9.7121999999999994E-20,5.1243999999999999E-34,9.1207000000000005E-17,25.86,1.6881387749426403E-10,1.6881387749426494E-10]
[1962,4,30,0,0,0,0,9.1182999999999999E-17,25.86,0,0]
[1962,5,1,0,0,0,0,9.1159999999999999E-17,25.86,0,0]
[1962,5,2,0,0,0,0,9.1136999999999998E-17,25.86,0,0]
[1962,5,3,0,0,0,0,9.1113000000000005E-17,25.86,0,0]
[1962,5,4,0,0,0,0,9.1090000000000004E-17,25.86,0,0]
[1962,5,5,0,0,0,0,9.1067000000000004E-17,25.86,0,0]
[1962,5,6,0,0,0,0,9.1042999999999999E-17,25.86,0,0]
[1962,5,7,0,0,0,0,9.1019999999999998E-17,25.86,0,0]
[1962,5,8,0,0,0,0,9.0996999999999997E-17,25.86,0,0]
[1962,5,9,0,0,0,0,9.0973000000000004E-17,25.86,0,0]
[1962,5,10,0,0,0,0,9.0950000000000004E-17,25.86,0,0]
[1962,5,11,0,0,0,0,9.0927000000000003E-17,25.86,0,0]
[1962,5,12,0,0,0,0,9.0904000000000003E-17,25.86,0,0]
[1962,5,13,0,0,0,0,9.0879999999999997E-17,25.86,0,0]
[1962,5,14,0,0,0,0,9.0856999999999997E-17,25.86,0,0]
[1962,5,15,0,0,0,0,9.0833999999999996E-17,25.86,0,0]
[1962,5,16,0,0,0,0,9.0810999999999995E-17,25.86,0,0]
[1962,5,17,0,0,0,0,9.0787000000000002E-17,25.86,0,0]
[1962,5,18,0,0,0,0,9.0764000000000002E-17,25.86,0,0]
[1962,5,19,0,0,0,0,9.0741000000000001E-17,25.86,0,0]
[1962,5,20,0,0,0,0,9.0718000000000001E-17,25.86,0,0]
[1962,5,21,0,0,0,0,9.0695E-17,25.86,0,0]
[1962,5,22,0,0,0,0,9.0670999999999995E-17,25.86,0,0]
[1962,5,23,0,0,0,0,9.0647999999999994E-17,25.86,0,0]
[1962,5,24,0,0,0,0,9.0625000000000006E-17,25.86,0,0]
[1962,5,25,0,0,0,0,9.0602000000000005E-17,25.86,0,0]
[1962,5,26,0,0,0,0,9.0579000000000005E-17,25.86,0,0]
[1962,5,27,0,0,0,0,9.0554999999999999E-17,25.86,0,0]
[1962,5,28,0,0,0,0,9.0531999999999999E-17,25.86,0,0]
[1962,5,29,0,0,0,0,9.0508999999999998E-17,25.86,{"$f":"IF(D515=0,0,(F515)/D515*1000000*1000)","v":0},{"$f":"IF(D515=0,0,(F515+G515)/D515*1000000*1000)","v":0}]
[1962,5,30,0,0,0,0,9.0485999999999998E-17,25.86,0,0]
[1962,5,31,0,0,0,0,9.0462999999999997E-17,25.86,0,0]
[1962,6,1,0,0,0,0,9.0439999999999996E-17,25.86,0,0]
[1962,6,2,0,0,0,0,9.0416999999999996E-17,25.86,0,0]
[1962,6,3,0,0,0,0,9.0393000000000003E-17,25.86,0,0]
[1962,6,4,4.9359E-3,1.2319999999999999E-2,2.1966E-22,1.0159000000000001E-37,9.0370000000000002E-17,25.86,4.4502522336352035E-11,4.4502522336352048E-11]
[1962,6,5,3.2781999999999999E-2,0.15026999999999999,9.7858000000000002E-22,4.1404000000000001E-37,9.0347000000000002E-17,25.86,2.9851137819535108E-11,2.9851137819535121E-11]
[1962,6,6,6.3929999999999998E-4,9.1646000000000002E-4,1.5763E-23,4.9082999999999998E-39,9.0324000000000001E-17,25.86,2.4656655717190678E-11,2.4656655717190688E-11]
[1962,6,7,0,0,0,0,9.0301E-17,25.86,0,0]
[1962,6,8,0.19078999999999999,2.1177000000000001,2.6956999999999998E-21,1.0384000000000001E-36,9.0278E-17,25.86,1.4129147229938677E-11,1.4129147229938682E-11]
[1962,6,9,0,0,0,0,9.0254999999999999E-17,25.86,0,0]
[1962,6,10,0,0,0,0,9.0231999999999999E-17,25.86,0,0]
[1962,6,11,0,0,0,0,9.0208999999999998E-17,25.86,0,0]
[1962,6,12,0.93418000000000001,19.616,4.5837999999999997E-21,1.2008E-36,9.0185999999999998E-17,25.86,4.9067631505705533E-12,4.9067631505705549E-12]
[1962,6,13,4.4153999999999999E-2,0.23064999999999999,1.5005999999999999E-22,1.9951E-38,9.0162000000000004E-17,25.86,3.3985595869003936E-12,3.3985595869003944E-12]
[1962,6,14,0,0,0,0,9.0139000000000004E-17,25.86,0,0]
[1962,6,15,0,0,0,0,9.0116000000000003E-17,25.86,0,0]
[1962,6,16,0,0,0,0,9.0093000000000003E-17,25.86,0,0]
[1962,6,17,0,0,0,0,9.0070000000000002E-17,25.86,0,0]
[1962,6,18,0,0,0,0,9.0047000000000002E-17,25.86,0,0]
[1962,6,19,0.25284000000000001,1.3077000000000001,3.4347999999999998E-22,2.1756000000000001E-38,9.0024000000000001E-17,25.86,1.3584875810789431E-12,1.3584875810789431E-12]
[1962,6,20,3.5202999999999998E-2,8.9958999999999997E-2,3.2968999999999999E-23,1.5132E-39,9.0001000000000001E-17,25.86,9.3653949947447665E-13,9.3653949947447665E-13]
[1962,6,21,0,0,0,0,8.9978E-17,25.86,0,0]
[1962,6,22,0,0,0,0,8.9954999999999999E-17,25.86,0,0]
[1962,6,23,0,0,0,0,8.9931999999999999E-17,25.86,0,0]
[1962,6,24,0,0,0,0,8.9908999999999998E-17,25.86,0,0]
[1962,6,25,0,0,0,0,8.9885999999999998E-17,25.86,0,0]
[1962,6,26,0,0,0,0,8.9862999999999997E-17,25.86,0,0]
[1962,6,27,0.37336999999999998,2.7559999999999998,1.1366999999999999E-22,3.6497000000000003E-39,8.9839999999999997E-17,25.86,3.0444331360312825E-13,3.0444331360312825E-13]
[1962,6,28,0,0,0,0,8.9816999999999996E-17,25.86,0,0]
[1962,6,29,0,0,0,0,8.9793999999999995E-17,25.86,0,0]
[1962,6,30,0,0,0,0,8.9770999999999995E-17,25.86,0,0]
[1962,7,1,0,0,0,0,8.9747999999999994E-17,25.86,0,0]
[1962,7,2,0,0,0,0,8.9725000000000006E-17,25.86,0,0]
[1962,7,3,5.4273000000000002E-2,9.9667000000000006E-2,8.0562000000000001E-24,8.5692999999999997E-41,8.9702000000000005E-17,25.86,1.484384500580399E-13,1.484384500580399E-13]
[1962,7,4,0.76009000000000004,5.8510999999999997,5.824E-23,9.0014999999999993E-40,8.9679000000000005E-17,25.86,7.6622505229643849E-14,7.6622505229643849E-14]
[1962,7,5,0,0,0,0,8.9656000000000004E-17,25.86,0,0]
[1962,7,6,2.3976000000000002,26.38,7.0222999999999995E-23,7.8709999999999992E-40,8.9633000000000004E-17,25.86,2.9288872205538866E-14,2.9288872205538866E-14]
[1962,7,7,0,0,0,0,8.9610000000000003E-17,25.86,0,0]
[1962,7,8,0,0,0,0,8.9587999999999995E-17,25.86,0,0]
[1962,7,9,0,0,0,0,8.9564999999999995E-17,25.86,0,0]
[1962,7,10,0,0,0,0,8.9541999999999994E-17,25.86,0,0]
[1962,7,11,0,0,0,0,8.9519000000000006E-17,25.86,0,0]
[1962,7,12,1.9654999999999999E-2,2.6526999999999998E-2,3.0278999999999999E-25,1.1476E-42,8.9496000000000005E-17,25.86,1.5405240396845588E-14,1.5405240396845588E-14]
[1962,7,13,0,0,0,0,8.9473000000000005E-17,25.86,0,0]
[1962,7,14,0,0,0,0,8.9450000000000004E-17,25.86,0,0]
[1962,7,15,0,0,0,0,8.9427000000000003E-17,25.86,0,0]
[1962,7,16,0,0,0,0,8.9404000000000003E-17,25.86,0,0]
[1962,7,17,0,0,0,0,8.9381000000000002E-17,25.86,0,0]
[1962,7,18,0,0,0,0,8.9358999999999994E-17,25.86,0,0]
[1962,7,19,0,0,0,0,8.9336000000000006E-17,25.86,0,0]
[1962,7,20,0,0,0,0,8.9313000000000005E-17,25.86,0,0]
[1962,7,21,0,0,0,0,8.9290000000000005E-17,25.86,0,0]
[1962,7,22,0,0,0,0,8.9267000000000004E-17,25.86,0,0]
[1962,7,23,0,0,0,0,8.9244000000000004E-17,25.86,0,0]
[1962,7,24,0,0,0,0,8.9221999999999996E-17,25.86,0,0]
[1962,7,25,5.0482000000000001E-3,4.8386000000000002E-3,1.5986E-10,1.1973E-12,8.9198999999999995E-17,25.86,31.666732696802821,31.903906342854878]
[1962,7,26,0,0,0,0,8.9175999999999994E-17,25.86,0,0]
[1962,7,27,0,0,0,0,8.9152999999999994E-17,25.86,0,0]
[1962,7,28,0.11006000000000001,0.29604000000000003,2.8212000000000001E-9,1.2202E-11,8.9130000000000006E-17,25.86,25.633290932218792,25.7441577321461]
[1962,7,29,0,0,0,0,8.9107000000000005E-17,25.86,0,0]
[1962,7,30,1.6936,17.994,3.2619000000000002E-8,9.7725999999999999E-11,8.9084999999999997E-17,25.86,19.26015588096363,19.317858998582899]
[1962,7,31,0,0,0,0,8.9061999999999996E-17,25.86,0,0]
[1962,8,1,0,0,0,0,8.9038999999999996E-17,25.86,{"$f":"IF(D579=0,0,(F579)/D579*1000000*1000)","v":0},{"$f":"IF(D579=0,0,(F579+G579)/D579*1000000*1000)","v":0}]
[1962,8,2,0,0,0,0,8.9015999999999995E-17,25.86,0,0]
[1962,8,3,0,0,0,0,8.8994E-17,25.86,0,0]
[1962,8,4,0,0,0,0,8.8970999999999999E-17,25.86,0,0]
[1962,8,5,0,0,0,0,8.8947999999999998E-17,25.86,0,0]
[1962,8,6,0,0,0,0,8.8924999999999998E-17,25.86,0,0]
[1962,8,7,0,0,0,0,8.8901999999999997E-17,25.86,0,0]
[1962,8,8,0,0,0,0,8.8880000000000002E-17,25.86,0,0]
[1962,8,9,0,0,0,0,8.8857000000000001E-17,25.86,0,0]
[1962,8,10,0,0,0,0,8.8834E-17,25.86,0,0]
[1962,8,11,0,0,0,0,8.8812000000000005E-17,25.86,0,0]
[1962,8,12,0,0,0,0,8.8789000000000004E-17,25.86,0,0]
[1962,8,13,0,0,0,0,8.8766000000000004E-17,25.86,0,0]
[1962,8,14,0,0,0,0,8.8743000000000003E-17,25.86,0,0]
[1962,8,15,0,0,0,0,8.8720999999999995E-17,25.86,0,0]
[1962,8,16,0,0,0,0,8.8697999999999994E-17,25.86,0,0]
[1962,8,17,0,0,0,0,8.8674999999999994E-17,25.86,0,0]
[1962,8,18,0,0,0,0,8.8652999999999998E-17,25.86,0,0]
[1962,8,19,0,0,0,0,8.8629999999999998E-17,25.86,0,0]
[1962,8,20,0,0,0,0,8.8606999999999997E-17,25.86,0,0]
[1962,8,21,0,0,0,0,8.8585000000000001E-17,25.86,0,0]
[1962,8,22,0,0,0,0,8.8562000000000001E-17,25.86,0,0]
[1962,8,23,5.0908000000000002E-2,0.17202000000000001,5.5542000000000003E-10,9.7605000000000004E-14,8.8539E-17,25.86,10.910269505775123,10.912186787931171]
[1962,8,24,0,0,0,0,8.8517000000000004E-17,25.86,0,0]
[1962,8,25,0,0,0,0,8.8494000000000004E-17,25.86,0,0]
[1962,8,26,0,0,0,0,8.8471000000000003E-17,25.86,0,0]
[1962,8,27,0,0,0,0,8.8448999999999995E-17,25.86,0,0]
[1962,8,28,0,0,0,0,8.8425999999999995E-17,25.86,0,0]
[1962,8,29,0,0,0,0,8.8402999999999994E-17,25.86,0,0]
[1962,8,30,0,0,0,0,8.8380999999999998E-17,25.86,0,0]
[1962,8,31,0,0,0,0,8.8357999999999998E-17,25.86,0,0]
[1962,9,1,0,0,0,0,8.8336000000000002E-17,25.86,0,0]
[1962,9,2,0,0,0,0,8.8313000000000001E-17,25.86,0,0]
[1962,9,3,0,0,0,0,8.8290000000000001E-17,25.86,0,0]
[1962,9,4,0,0,0,0,8.8268000000000005E-17,25.86,0,0]
[1962,9,5,0,0,0,0,8.8245000000000005E-17,25.86,0,0]
[1962,9,6,0,0,0,0,8.8222999999999997E-17,25.86,0,0]
[1962,9,7,0,0,0,0,8.8199999999999996E-17,25.86,0,0]
[1962,9,8,0,0,0,0,8.8178E-17,25.86,0,0]
[1962,9,9,0,0,0,0,8.8155E-17,25.86,0,0]
[1962,9,10,0,0,0,0,8.8131999999999999E-17,25.86,0,0]
[1962,9,11,0,0,0,0,8.8110000000000003E-17,25.86,0,0]
[1962,9,12,0,0,0,0,8.8087000000000003E-17,25.86,0,0]
[1962,9,13,0,0,0,0,8.8064999999999995E-17,25.86,0,0]
[1962,9,14,0.17476,0.91715999999999998,1.2561E-9,5.2395999999999997E-14,8.8041999999999994E-17,25.86,7.187571526665141,7.1878713435568784]
[1962,9,15,0,0,0,0,8.8019999999999998E-17,25.86,0,0]
[1962,9,16,0,0,0,0,8.7996999999999998E-17,25.86,0,0]
[1962,9,17,0,0,0,0,8.7975000000000002E-17,25.86,0,0]
[1962,9,18,0,0,0,0,8.7952000000000002E-17,25.86,0,0]
[1962,9,19,0,0,0,0,8.7930000000000006E-17,25.86,0,0]
[1962,9,20,0,0,0,0,8.7907000000000005E-17,25.86,0,0]
[1962,9,21,0,0,0,0,8.7884999999999997E-17,25.86,0,0]
[1962,9,22,0,0,0,0,8.7861999999999997E-17,25.86,0,0]
[1962,9,23,0,0,0,0,8.7840000000000001E-17,25.86,0,0]
[1962,9,24,0,0,0,0,8.7817E-17,25.86,0,0]
[1962,9,25,0,0,0,0,8.7795000000000005E-17,25.86,0,0]
[1962,9,26,2.9557000000000002,69.341999999999999,1.0012000000000001E-8,1.6400000000000001E-13,8.7772000000000004E-17,25.86,3.3873532496532128,3.3874087356632945]
[1962,9,27,0,0,0,0,8.7749999999999996E-17,25.86,0,0]
[1962,9,28,0,0,0,0,8.7726999999999995E-17,25.86,0,0]
[1962,9,29,0,0,0,0,8.7705E-17,25.86,0,0]
[1962,9,30,0,0,0,0,8.7683000000000004E-17,25.86,0,0]
[1962,10,1,0,0,0,0,8.7660000000000003E-17,25.86,0,0]
[1962,10,2,0,0,0,0,8.7637999999999995E-17,25.86,0,0]
[1962,10,3,0.65542999999999996,11.699,1.3972000000000001E-9,7.1188999999999998E-15,8.7614999999999995E-17,25.86,2.1317303144500559,2.1317411758692768]
[1962,10,4,0,0,0,0,8.7592999999999999E-17,25.86,{"$f":"IF(D643=0,0,(F643)/D643*1000000*1000)","v":0},{"$f":"IF(D643=0,0,(F643+G643)/D643*1000000*1000)","v":0}]
[1962,10,5,0,0,0,0,8.7571000000000003E-17,25.86,0,0]
[1962,10,6,0,0,0,0,8.7548000000000003E-17,25.86,0,0]
[1962,10,7,5.1165000000000002E-2,0.25963999999999998,8.9586999999999998E-11,1.5616000000000001E-16,8.7525999999999995E-17,25.86,1.7509430274601776,1.7509460795465648]
[1962,10,8,0,0,0,0,8.7502999999999994E-17,25.86,0,0]
[1962,10,9,0,0,0,0,8.7480999999999999E-17,25.86,0,0]
[1962,10,10,0,0,0,0,8.7459000000000003E-17,25.86,0,0]
[1962,10,11,0,0,0,0,8.7436000000000002E-17,25.86,0,0]
[1962,10,12,0,0,0,0,8.7413999999999994E-17,25.86,0,0]
[1962,10,13,0,0,0,0,8.7391000000000006E-17,25.86,0,0]
[1962,10,14,0,0,0,0,8.7368999999999998E-17,25.86,0,0]
[1962,10,15,0,0,0,0,8.7347000000000002E-17,25.86,0,0]
[1962,10,16,0,0,0,0,8.7324000000000002E-17,25.86,0,0]
[1962,10,17,0,0,0,0,8.7302000000000006E-17,25.86,0,0]
[1962,10,18,0,0,0,0,8.7279999999999998E-17,25.86,0,0]
[1962,10,19,0,0,0,0,8.7256999999999997E-17,25.86,0,0]
[1962,10,20,0,0,0,0,8.7235000000000002E-17,25.86,0,0]
[1962,10,21,0,0,0,0,8.7213000000000006E-17,25.86,0,0]
[1962,10,22,0,0,0,0,8.7190000000000005E-17,25.86,0,0]
[1962,10,23,0,0,0,0,8.7167999999999997E-17,25.86,0,0]
[1962,10,24,0,0,0,0,8.7146000000000001E-17,25.86,0,0]
[1962,10,25,0,0,0,0,8.7124000000000006E-17,25.86,0,0]
[1962,10,26,0,0,0,0,8.7101000000000005E-17,25.86,0,0]
[1962,10,27,0,0,0,0,8.7078999999999997E-17,25.86,0,0]
[1962,10,28,0,0,0,0,8.7057000000000001E-17,25.86,0,0]
[1962,10,29,0,0,0,0,8.7034000000000001E-17,25.86,0,0]
[1962,10,30,0,0,0,0,8.7012000000000005E-17,25.86,0,0]
[1962,10,31,0,0,0,0,8.6989999999999997E-17,25.86,0,0]
[1962,11,1,0,0,0,0,8.6968000000000001E-17,25.86,0,0]
[1962,11,2,0,0,0,0,8.6945000000000001E-17,25.86,0,0]
[1962,11,3,0,0,0,0,8.6923000000000005E-17,25.86,0,0]
[1962,11,4,0,0,0,0,8.6900999999999997E-17,25.86,0,0]
[1962,11,5,0,0,0,0,8.6879000000000001E-17,25.86,0,0]
[1962,11,6,0,0,0,0,8.6856000000000001E-17,25.86,0,0]
[1962,11,7,0,0,0,0,8.6834000000000005E-17,25.86,0,0]
[1962,11,8,9.7433000000000006E-2,0.51454999999999995,9.6280000000000003E-11,3.4451000000000003E-17,8.6811999999999997E-17,25.86,0.98816622704833057,0.98816658063489771]
[1962,11,9,0.77573999999999999,15.106999999999999,5.5396000000000002E-10,2.0597E-16,8.6790000000000001E-17,25.86,0.71410524144687648,0.71410550696109532]
[1962,11,10,0,0,0,0,8.6768000000000005E-17,25.86,0,0]
[1962,11,11,0,0,0,0,8.6745000000000005E-17,25.86,0,0]
[1962,11,12,0.32956000000000002,4.4035000000000002,1.672E-10,2.9533999999999997E-17,8.6722999999999997E-17,25.86,0.50734312416555405,0.50734321378201241]
[1962,11,13,0,0,0,0,8.6701000000000001E-17,25.86,0,0]
[1962,11,14,0,0,0,0,8.6679000000000005E-17,25.86,0,0]
[1962,11,15,0,0,0,0,8.6656999999999997E-17,25.86,0,0]
[1962,11,16,0,0,0,0,8.6633999999999997E-17,25.86,0,0]
[1962,11,17,0,0,0,0,8.6612000000000001E-17,25.86,0,0]
[1962,11,18,0.23938999999999999,2.9108999999999998,8.3067999999999999E-11,6.7592000000000002E-18,8.6590000000000005E-17,25.86,0.34699862149630317,0.34699864973140065]
[1962,11,19,0,0,0,0,8.6567999999999997E-17,25.86,0,0]
[1962,11,20,0.22772999999999999,2.9790000000000001,5.8798999999999998E-11,3.1766999999999998E-18,8.6546000000000002E-17,25.86,0.25819610942783122,0.25819612337724496]
[1962,11,21,6.6477000000000004,270.95,1.0074000000000001E-9,3.1917E-17,1.5227000000000001E-16,26.524000000000001,0.15154113452773138,0.15154113932894084]
[1962,11,22,0,0,0,0,1.5223000000000001E-16,26.524000000000001,0,0]
[1962,11,23,0,0,0,0,1.5218999999999999E-16,26.524000000000001,0,0]
[1962,11,24,0,0,0,0,1.5214999999999999E-16,26.524000000000001,0,0]
[1962,11,25,0,0,0,0,1.5211E-16,26.524000000000001,0,0]
[1962,11,26,0,0,0,0,1.5207E-16,26.524000000000001,0,0]
[1962,11,27,0,0,0,0,1.5203E-16,26.524000000000001,0,0]
[1962,11,28,0,0,0,0,1.52E-16,26.524000000000001,0,0]
[1962,11,29,0,0,0,0,1.5196000000000001E-16,26.524000000000001,0,0]
[1962,11,30,0,0,0,0,1.5192000000000001E-16,26.524000000000001,0,0]
[1962,12,1,0,0,0,0,1.5187999999999999E-16,26.524000000000001,0,0]
[1962,12,2,0,0,0,0,1.5183999999999999E-16,26.524000000000001,0,0]
[1962,12,3,0,0,0,0,1.518E-16,26.524000000000001,0,0]
[1962,12,4,0,0,0,0,1.5176E-16,26.524000000000001,0,0]
[1962,12,5,3.6457999999999998E-4,4.2590999999999999E-4,3.5441000000000001E-14,1.7083000000000001E-22,1.5172E-16,26.524000000000001,9.7210488781611731E-2,9.7210489250178292E-2]
[1962,12,6,0,0,0,0,1.5169000000000001E-16,26.524000000000001,0,0]
[1962,12,7,0,0,0,0,1.5165000000000001E-16,26.524000000000001,{"$f":"IF(D707=0,0,(F707)/D707*1000000*1000)","v":0},{"$f":"IF(D707=0,0,(F707+G707)/D707*1000000*1000)","v":0}]
[1962,12,8,0,0,0,0,1.5161000000000001E-16,26.524000000000001,0,0]
[1962,12,9,0,0,0,0,1.5156999999999999E-16,26.524000000000001,0,0]
[1962,12,10,0,0,0,0,1.5152999999999999E-16,26.524000000000001,0,0]
[1962,12,11,0,0,0,0,1.5149E-16,26.524000000000001,0,0]
[1962,12,12,0,0,0,0,1.5145E-16,26.524000000000001,0,0]
[1962,12,13,0,0,0,0,1.5141E-16,26.524000000000001,0,0]
[1962,12,14,0,0,0,0,1.5138000000000001E-16,26.524000000000001,0,0]
[1962,12,15,0,0,0,0,1.5134000000000001E-16,26.524000000000001,0,0]
[1962,12,16,0,0,0,0,1.5129999999999999E-16,26.524000000000001,0,0]
[1962,12,17,0,0,0,0,1.5125999999999999E-16,26.524000000000001,0,0]
[1962,12,18,0,0,0,0,1.5121999999999999E-16,26.524000000000001,0,0]
[1962,12,19,0,0,0,0,1.5118E-16,26.524000000000001,0,0]
[1962,12,20,0,0,0,0,1.5114E-16,26.524000000000001,0,0]
[1962,12,21,0,0,0,0,1.511E-16,26.524000000000001,0,0]
[1962,12,22,0,0,0,0,1.5107000000000001E-16,26.524000000000001,0,0]
[1962,12,23,0,0,0,0,1.5103000000000001E-16,26.524000000000001,0,0]
[1962,12,24,3.8739000000000003E-2,0.20735999999999999,2.0828999999999999E-12,4.7432999999999997E-21,1.5098999999999999E-16,26.524000000000001,5.3767521102764657E-2,5.376752122520715E-2]
[1962,12,25,0.96,24.248000000000001,3.2889E-11,8.2633999999999998E-20,1.5094999999999999E-16,26.524000000000001,3.4259374999999995E-2,3.4259375086077078E-2]
[1962,12,26,0,0,0,0,1.5091E-16,26.524000000000001,0,0]
[1962,12,27,0,0,0,0,1.5087E-16,26.524000000000001,0,0]
[1962,12,28,0,0,0,0,1.5083E-16,26.524000000000001,0,0]
[1962,12,29,0.63863999999999999,13.675000000000001,1.386E-11,2.0165999999999999E-20,1.508E-16,26.524000000000001,2.1702367531003384E-2,2.1702367562579854E-2]
[1962,12,30,0,0,0,0,1.5076000000000001E-16,26.524000000000001,0,0]
[1962,12,31,0,0,0,0,1.5072000000000001E-16,26.524000000000001,0,0]
[1963,1,1,0,0,0,0,1.5067999999999999E-16,26.524000000000001,0,0]
[1963,1,2,0,0,0,0,1.5063999999999999E-16,26.524000000000001,0,0]
[1963,1,3,0,0,0,0,1.506E-16,26.524000000000001,0,0]
[1963,1,4,0,0,0,0,1.5056E-16,26.524000000000001,0,0]
[1963,1,5,0,0,0,0,1.5053E-16,26.524000000000001,0,0]
[1963,1,6,0,0,0,0,1.5049000000000001E-16,26.524000000000001,0,0]
[1963,1,7,0,0,0,0,1.5045000000000001E-16,26.524000000000001,0,0]
[1963,1,8,0,0,0,0,1.5040999999999999E-16,26.524000000000001,0,0]
[1963,1,9,0,0,0,0,1.5036999999999999E-16,26.524000000000001,0,0]
[1963,1,10,0,0,0,0,1.5032999999999999E-16,26.524000000000001,0,0]
[1963,1,11,0.65517000000000003,11.71,5.9970000000000004E-12,3.7476000000000002E-21,1.568E-16,26.588000000000001,9.1533495123403089E-3,9.1533495180603514E-3]
[1963,1,12,0,0,0,0,1.5676000000000001E-16,26.588000000000001,0,0]
[1963,1,13,0,0,0,0,1.7877999999999999E-16,26.777999999999999,0,0]
[1963,1,14,0,0,0,0,1.7873E-16,26.777999999999999,0,0]
[1963,1,15,0,0,0,0,1.7869E-16,26.777999999999999,0,0]
[1963,1,16,0,0,0,0,1.7864E-16,26.777999999999999,0,0]
[1963,1,17,0,0,0,0,1.7859000000000001E-16,26.777999999999999,0,0]
[1963,1,18,2.3226,81.227999999999994,7.9099000000000005E-12,2.6727999999999999E-21,9.0513999999999995E-16,28.04,3.4056230086971502E-3,3.4056230098479289E-3]
[1963,1,19,0.70320000000000005,16.991,1.3728E-12,2.7788999999999998E-22,2.8273E-15,29.122,1.9522184300341293E-3,1.9522184304293089E-3]
[1963,1,20,0.54129000000000005,11.894,6.1740999999999999E-13,7.9449999999999997E-23,7.4744999999999995E-15,30.12,1.1406270206358884E-3,1.1406270207826674E-3]
[1963,1,21,0,0,0,0,7.4726000000000008E-15,30.12,0,0]
[1963,1,22,0,0,0,0,7.4705999999999996E-15,30.12,0,0]
[1963,1,23,0,0,0,0,7.4686999999999993E-15,30.12,0,0]
[1963,1,24,0,0,0,0,7.4668000000000006E-15,30.12,0,0]
[1963,1,25,0,0,0,0,7.4649000000000003E-15,30.12,0,0]
[1963,1,26,0,0,0,0,7.463E-15,30.12,0,0]
[1963,1,27,0,0,0,0,7.4610999999999997E-15,30.12,0,0]
[1963,1,28,0,0,0,0,7.4591999999999994E-15,30.12,0,0]
[1963,1,29,0,0,0,0,7.4573000000000007E-15,30.12,0,0]
[1963,1,30,0.20118,2.7766999999999999,9.2994000000000002E-14,3.7931999999999999E-24,8.3843999999999995E-15,30.297999999999998,4.6224276767074259E-4,4.6224276768959741E-4]
[1963,1,31,0,0,0,0,8.3823000000000005E-15,30.297999999999998,0,0]
[1963,2,1,1.2428E-2,5.6818E-2,4.2512000000000001E-15,9.4260000000000002E-26,1.0419E-14,30.613,3.4206630189893795E-4,3.4206630190652238E-4]
[1963,2,2,0.24565000000000001,4.2312000000000003,5.1757999999999999E-14,1.2844E-24,2.1358E-14,31.442,2.1069814777121922E-4,2.1069814777644778E-4]
[1963,2,3,1.9092999999999999E-2,0.10013,3.0134E-15,3.7016000000000002E-26,2.4660999999999999E-14,31.658999999999999,1.5782747603833866E-4,1.5782747604027741E-4]
[1963,2,4,0,0,0,0,2.4655E-14,31.658999999999999,0,0]
[1963,2,5,0,0,0,0,2.4649000000000001E-14,31.658999999999999,0,0]
[1963,2,6,0,0,0,0,2.4641999999999999E-14,31.658999999999999,0,0]
[1963,2,7,0,0,0,0,2.4636E-14,31.658999999999999,0,0]
[1963,2,8,0,0,0,0,2.4630000000000001E-14,31.658999999999999,0,0]
[1963,2,9,0,0,0,0,2.4623999999999999E-14,31.658999999999999,{"$f":"IF(D771=0,0,(F771)/D771*1000000*1000)","v":0},{"$f":"IF(D771=0,0,(F771+G771)/D771*1000000*1000)","v":0}]
[1963,2,10,0,0,0,0,2.4617000000000001E-14,31.658999999999999,0,0]
[1963,2,11,0.70750000000000002,14.599,4.1791000000000001E-14,4.2137000000000001E-25,2.8970000000000002E-14,31.902999999999999,5.9068551236749122E-5,5.9068551237344688E-5]
[1963,2,12,0,0,0,0,2.8963E-14,31.902999999999999,0,0]
[1963,2,13,0,0,0,0,2.8955000000000001E-14,31.902999999999999,0,0]
[1963,2,14,0,0,0,0,2.8947999999999999E-14,31.902999999999999,0,0]
[1963,2,15,0,0,0,0,2.8940000000000001E-14,31.902999999999999,0,0]
[1963,2,16,0,0,0,0,2.8932999999999999E-14,31.902999999999999,0,0]
[1963,2,17,0,0,0,0,2.8925999999999997E-14,31.902999999999999,0,0]
[1963,2,18,0,0,0,0,2.8917999999999999E-14,31.902999999999999,0,0]
[1963,2,19,0.61841000000000002,14.739000000000001,1.3204000000000001E-14,6.7271999999999996E-26,3.0058000000000001E-14,31.965,2.1351530537992596E-5,2.1351530538101379E-5]
[1963,2,20,0,0,0,0,3.0050000000000002E-14,31.965,0,0]
[1963,2,21,0,0,0,0,3.0041999999999997E-14,31.965,0,0]
[1963,2,22,0,0,0,0,3.0035000000000002E-14,31.965,0,0]
[1963,2,23,0,0,0,0,3.0027000000000003E-14,31.965,0,0]
[1963,2,24,0,0,0,0,3.0018999999999998E-14,31.965,0,0]
[1963,2,25,0,0,0,0,3.0012000000000003E-14,31.965,0,0]
[1963,2,26,0,0,0,0,3.0003999999999998E-14,31.965,0,0]
[1963,2,27,0,0,0,0,2.9995999999999999E-14,31.965,0,0]
[1963,2,28,0,0,0,0,2.9988999999999997E-14,31.965,0,0]
[1963,3,1,0,0,0,0,2.9980999999999999E-14,31.965,0,0]
[1963,3,2,0,0,0,0,2.9973E-14,31.965,0,0]
[1963,3,3,0,0,0,0,2.9965999999999998E-14,31.965,0,0]
[1963,3,4,0,0,0,0,2.9958E-14,31.965,0,0]
[1963,3,5,1.0727,29.282,5.9472000000000001E-15,1.0371E-26,3.1620999999999998E-14,32.051000000000002,5.5441409527360872E-6,5.5441409527457552E-6]
[1963,3,6,6.7321000000000006E-2,0.58816000000000002,2.5525999999999998E-16,2.3681000000000001E-28,3.6964E-14,32.286000000000001,3.7916846154988777E-6,3.7916846155023958E-6]
[1963,3,7,0,0,0,0,3.6954000000000002E-14,32.286000000000001,0,0]
[1963,3,8,0,0,0,0,3.6945000000000001E-14,32.286000000000001,0,0]
[1963,3,9,0,0,0,0,3.6935999999999999E-14,32.286000000000001,0,0]
[1963,3,10,0,0,0,0,3.6926000000000001E-14,32.286000000000001,0,0]
[1963,3,11,0,0,0,0,3.6916999999999999E-14,32.286000000000001,0,0]
[1963,3,12,2.6564000000000001,106.57,3.3506000000000001E-15,2.9684999999999999E-27,8.9967000000000004E-14,33.250999999999998,1.2613311248305977E-6,1.2613311248317153E-6]
[1963,3,13,0,0,0,0,8.9944000000000005E-14,33.250999999999998,0,0]
[1963,3,14,0,0,0,0,8.9921000000000006E-14,33.250999999999998,0,0]
[1963,3,15,0,0,0,0,8.9897999999999995E-14,33.250999999999998,0,0]
[1963,3,16,0,0,0,0,8.9874999999999996E-14,33.250999999999998,0,0]
[1963,3,17,0.12325,1.2834000000000001,8.5799000000000004E-17,3.1785000000000001E-29,8.9851999999999997E-14,33.250999999999998,6.9613793103448276E-7,6.9613793103474068E-7]
[1963,3,18,0,0,0,0,8.9828999999999998E-14,33.250999999999998,0,0]
[1963,3,19,0,0,0,0,8.9805999999999999E-14,33.250999999999998,0,0]
[1963,3,20,0,0,0,0,8.9783E-14,33.250999999999998,0,0]
[1963,3,21,0,0,0,0,8.9760000000000001E-14,33.250999999999998,0,0]
[1963,3,22,0,0,0,0,8.9737000000000002E-14,33.250999999999998,0,0]
[1963,3,23,0,0,0,0,8.9714000000000003E-14,33.250999999999998,0,0]
[1963,3,24,0,0,0,0,8.9691000000000004E-14,33.250999999999998,0,0]
[1963,3,25,0,0,0,0,8.9668000000000005E-14,33.250999999999998,0,0]
[1963,3,26,0.67995000000000005,14.603,1.3525E-16,2.9581000000000001E-29,8.9645000000000006E-14,33.250999999999998,1.9891168468269725E-7,1.9891168468274076E-7]
[1963,3,27,0,0,0,0,8.9621999999999994E-14,33.250999999999998,0,0]
[1963,3,28,0,0,0,0,8.9598999999999995E-14,33.250999999999998,0,0]
[1963,3,29,0,0,0,0,8.9575999999999996E-14,33.250999999999998,0,0]
[1963,3,30,0,0,0,0,8.9553999999999994E-14,33.250999999999998,0,0]
[1963,3,31,0,0,0,0,8.9530999999999995E-14,33.250999999999998,0,0]
[1963,4,1,0,0,0,0,8.9507999999999996E-14,33.250999999999998,0,0]
[1963,4,2,0,0,0,0,8.9484999999999997E-14,33.250999999999998,0,0]
[1963,4,3,0,0,0,0,8.9461999999999998E-14,33.250999999999998,0,0]
[1963,4,4,0,0,0,0,8.9438999999999999E-14,33.250999999999998,0,0]
[1963,4,5,0,0,0,0,8.9416E-14,33.250999999999998,0,0]
[1963,4,6,4.5178000000000003E-2,0.32224000000000003,3.8592000000000002E-18,3.7912999999999999E-31,8.9393000000000001E-14,33.250999999999998,8.5422108105715168E-8,8.5422108105723559E-8]
[1963,4,7,0,0,0,0,8.9370000000000002E-14,33.250999999999998,0,0]
[1963,4,8,0,0,0,0,8.9348E-14,33.250999999999998,0,0]
[1963,4,9,0,0,0,0,8.9325000000000001E-14,33.250999999999998,0,0]
[1963,4,10,0,0,0,0,8.9302000000000002E-14,33.250999999999998,0,0]
[1963,4,11,0,0,0,0,8.9279000000000003E-14,33.250999999999998,0,0]
[1963,4,12,0,0,0,0,8.9256000000000004E-14,33.250999999999998,0,0]
[1963,4,13,0,0,0,0,8.9233000000000005E-14,33.250999999999998,0,0]
[1963,4,14,0,0,0,0,8.9211000000000002E-14,33.250999999999998,{"$f":"IF(D835=0,0,(F835)/D835*1000000*1000)","v":0},{"$f":"IF(D835=0,0,(F835+G835)/D835*1000000*1000)","v":0}]
[1963,4,15,0,0,0,0,8.9188000000000003E-14,33.250999999999998,0,0]
[1963,4,16,0,0,0,0,8.9165000000000004E-14,33.250999999999998,0,0]
[1963,4,17,0,0,0,0,8.9142000000000005E-14,33.250999999999998,0,0]
[1963,4,18,0,0,0,0,8.9119000000000006E-14,33.250999999999998,0,0]
[1963,4,19,0,0,0,0,8.9095999999999995E-14,33.250999999999998,0,0]
[1963,4,20,0,0,0,0,8.9074000000000005E-14,33.250999999999998,0,0]
[1963,4,21,0,0,0,0,8.9051000000000006E-14,33.250999999999998,0,0]
[1963,4,22,0,0,0,0,8.9027999999999994E-14,33.250999999999998,0,0]
[1963,4,23,0,0,0,0,8.9004999999999995E-14,33.250999999999998,0,0]
[1963,4,24,0,0,0,0,8.8983000000000006E-14,33.250999999999998,0,0]
[1963,4,25,0,0,0,0,8.8959999999999994E-14,33.250999999999998,0,0]
[1963,4,26,0,0,0,0,8.8936999999999995E-14,33.250999999999998,0,0]
[1963,4,27,0,0,0,0,8.8913999999999996E-14,33.250999999999998,0,0]
[1963,4,28,0.61534999999999995,15.813000000000001,8.9649999999999997E-18,4.7796000000000003E-31,8.8891999999999994E-14,33.250999999999998,1.4568944503128303E-8,1.4568944503129079E-8]
[1963,4,29,4.3387000000000002,253.63,2.5569E-17,1.1452999999999999E-30,8.8868999999999995E-14,33.250999999999998,5.8932399105722911E-9,5.893239910572555E-9]
[1963,4,30,1.5128999999999999,63.817,4.0890000000000004E-18,1.2195E-31,1.2602E-13,33.734999999999999,2.7027562958556418E-9,2.7027562958557221E-9]
[1963,5,1,0,0,0,0,1.2599E-13,33.734999999999999,0,0]
[1963,5,2,0,0,0,0,1.2595000000000001E-13,33.734999999999999,0,0]
[1963,5,3,0,0,0,0,1.2592000000000001E-13,33.734999999999999,0,0]
[1963,5,4,0,0,0,0,1.2589000000000001E-13,33.734999999999999,0,0]
[1963,5,5,0,0,0,0,1.2586000000000001E-13,33.734999999999999,0,0]
[1963,5,6,0,0,0,0,1.2583000000000001E-13,33.734999999999999,0,0]
[1963,5,7,0,0,0,0,1.2579000000000001E-13,33.734999999999999,0,0]
[1963,5,8,0,0,0,0,1.2576000000000001E-13,33.734999999999999,0,0]
[1963,5,9,0,0,0,0,1.2573000000000001E-13,33.734999999999999,0,0]
[1963,5,10,0,0,0,0,1.2570000000000001E-13,33.734999999999999,0,0]
[1963,5,11,0,0,0,0,1.2565999999999999E-13,33.734999999999999,0,0]
[1963,5,12,0,0,0,0,1.2562999999999999E-13,33.734999999999999,0,0]
[1963,5,13,0,0,0,0,1.2559999999999999E-13,33.734999999999999,0,0]
[1963,5,14,0.67206999999999995,18.916,5.1937000000000001E-19,6.3891999999999994E-33,1.2556999999999999E-13,33.734999999999999,7.7279152469236848E-10,7.7279152469237789E-10]
[1963,5,15,0,0,0,0,1.2553999999999999E-13,33.734999999999999,0,0]
[1963,5,16,0,0,0,0,1.255E-13,33.734999999999999,0,0]
[1963,5,17,0,0,0,0,1.2546999999999999E-13,33.734999999999999,0,0]
[1963,5,18,0,0,0,0,1.2543999999999999E-13,33.734999999999999,0,0]
[1963,5,19,0,0,0,0,1.2540999999999999E-13,33.734999999999999,0,0]
[1963,5,20,3.5776000000000002E-2,0.22528000000000001,1.4705999999999999E-20,6.0013000000000005E-35,1.2537999999999999E-13,33.734999999999999,4.1105769230769228E-10,4.1105769230769393E-10]
[1963,5,21,0,0,0,0,1.2534E-13,33.734999999999999,0,0]
[1963,5,22,0,0,0,0,1.2531E-13,33.734999999999999,0,0]
[1963,5,23,0,0,0,0,1.2528E-13,33.734999999999999,0,0]
[1963,5,24,0,0,0,0,1.2525E-13,33.734999999999999,0,0]
[1963,5,25,0,0,0,0,1.2522E-13,33.734999999999999,0,0]
[1963,5,26,0.10013,0.86089000000000004,1.9940000000000001E-20,5.8357999999999997E-35,1.2518E-13,33.734999999999999,1.9914111654848699E-10,1.9914111654848754E-10]
[1963,5,27,1.5916999999999999,60.945999999999998,1.5447999999999999E-19,6.2384000000000002E-34,1.2515E-13,33.734999999999999,9.7053464848903694E-11,9.7053464848904081E-11]
[1963,5,28,2.3978999999999999,103.83,1.0876E-19,3.1467999999999998E-34,1.2512E-13,33.734999999999999,4.5356353475958129E-11,4.5356353475958264E-11]
[1963,5,29,0,0,0,0,1.2509E-13,33.734999999999999,0,0]
[1963,5,30,0,0,0,0,1.2505000000000001E-13,33.734999999999999,0,0]
[1963,5,31,0,0,0,0,1.2502000000000001E-13,33.734999999999999,0,0]
[1963,6,1,0,0,0,0,1.2499000000000001E-13,33.734999999999999,0,0]
[1963,6,2,0,0,0,0,1.2496E-13,33.734999999999999,0,0]
[1963,6,3,0,0,0,0,1.2493E-13,33.734999999999999,0,0]
[1963,6,4,0,0,0,0,1.249E-13,33.734999999999999,0,0]
[1963,6,5,0,0,0,0,1.2486000000000001E-13,33.734999999999999,0,0]
[1963,6,6,0,0,0,0,1.2483000000000001E-13,33.734999999999999,0,0]
[1963,6,7,0,0,0,0,1.2480000000000001E-13,33.734999999999999,0,0]
[1963,6,8,0,0,0,0,1.2477000000000001E-13,33.734999999999999,0,0]
[1963,6,9,0,0,0,0,1.2474000000000001E-13,33.734999999999999,0,0]
[1963,6,10,0,0,0,0,1.2469999999999999E-13,33.734999999999999,0,0]
[1963,6,11,0,0,0,0,1.2466999999999999E-13,33.734999999999999,0,0]
[1963,6,12,0,0,0,0,1.2464000000000001E-13,33.734999999999999,0,0]
[1963,6,13,0,0,0,0,1.2461000000000001E-13,33.734999999999999,0,0]
[1963,6,14,0,0,0,0,1.2458000000000001E-13,33.734999999999999,0,0]
[1963,6,15,0,0,0,0,1.2453999999999999E-13,33.734999999999999,0,0]
[1963,6,16,0.71009999999999995,5.6143999999999998,9.4583000000000001E-21,5.9685000000000001E-36,1.2450999999999999E-13,33.734999999999999,1.3319673285452754E-11,1.3319673285452763E-11]
[1963,6,17,1.5476000000000001,21.295999999999999,9.8570000000000002E-21,6.2364999999999998E-36,1.2447999999999999E-13,33.734999999999999,{"$f":"IF(D899=0,0,(F899)/D899*1000000*1000)","v":6.3692168518997156E-12},{"$f":"IF(D899=0,0,(F899+G899)/D899*1000000*1000)","v":6.3692168518997196E-12}]
[1963,6,18,0.40134999999999998,3.4426000000000001,1.4127000000000001E-21,6.4476000000000004E-37,1.8075000000000001E-13,34.247,3.5198704372741998E-12,3.5198704372742014E-12]
[1963,6,19,5.0577999999999998E-2,0.15623999999999999,1.1994E-22,3.1128000000000002E-38,2.3224999999999999E-13,34.612000000000002,2.3713867689509273E-12,2.3713867689509278E-12]
[1963,6,20,0.59997999999999996,5.9500999999999999,7.5411999999999999E-22,2.3937000000000002E-37,3.9160999999999998E-13,35.284999999999997,1.2569085636187873E-12,1.2569085636187878E-12]
[1963,6,21,0.85492999999999997,9.6106999999999996,5.5053000000000001E-22,1.3904E-37,6.2021000000000004E-13,35.896000000000001,6.4394745768659426E-13,6.4394745768659436E-13]
[1963,6,22,1.5916999999999999,22.087,4.7885000000000003E-22,9.6823999999999996E-38,1.5948E-12,36.912999999999997,3.0084186718602757E-13,3.0084186718602757E-13]
[1963,6,23,0,0,0,0,1.5943E-12,36.912999999999997,0,0]
[1963,6,24,0,0,0,0,1.5938999999999999E-12,36.912999999999997,0,0]
[1963,6,25,0.34538999999999997,2.7578,5.2701999999999997E-23,6.9131999999999994E-39,2.2168E-12,37.381999999999998,1.5258693071600221E-13,1.5258693071600221E-13]
[1963,6,26,0.77573999999999999,8.4275000000000002,5.9906000000000001E-23,6.7849000000000004E-39,4.2659000000000002E-12,38.183999999999997,7.7224327738675324E-14,7.7224327738675349E-14]
[1963,6,27,0,0,0,0,4.2648000000000002E-12,38.183999999999997,0,0]
[1963,6,28,1.0328E-3,8.9776000000000005E-4,6.2028000000000005E-26,2.9072000000000003E-42,4.2637999999999997E-12,38.183999999999997,6.0058094500387297E-14,6.0058094500387297E-14]
[1963,6,29,0,0,0,0,4.2626999999999996E-12,38.183999999999997,0,0]
[1963,6,30,0,0,0,0,4.2616000000000003E-12,38.183999999999997,0,0]
[1963,7,1,0.12503,0.40416999999999997,4.2649999999999999E-24,1.6032000000000001E-40,4.2605000000000003E-12,38.183999999999997,3.4111813164840433E-14,3.4111813164840433E-14]
[1963,7,2,0,0,0,0,4.2594000000000002E-12,38.183999999999997,0,0]
[1963,7,3,0,0,0,0,4.2583000000000001E-12,38.183999999999997,0,0]
[1963,7,4,0,0,0,0,4.2572000000000001E-12,38.183999999999997,0,0]
[1963,7,5,0,0,0,0,4.2561E-12,38.183999999999997,0,0]
[1963,7,6,0.85014000000000001,5.4718,8.9730000000000005E-24,2.6729999999999998E-40,4.2549999999999999E-12,38.183999999999997,1.0554732161761594E-14,1.0554732161761594E-14]
[1963,7,7,0.30409999999999998,1.6814,1.8518000000000001E-24,4.8229999999999995E-41,4.2538999999999999E-12,38.183999999999997,6.0894442617560018E-15,6.0894442617560018E-15]
[1963,7,8,0,0,0,0,4.2529000000000002E-12,38.183999999999997,0,0]
[1963,7,9,0,0,0,0,4.2518000000000001E-12,38.183999999999997,0,0]
[1963,7,10,0,0,0,0,4.2507000000000001E-12,38.183999999999997,0,0]
[1963,7,11,0,0,0,0,4.2496E-12,38.183999999999997,0,0]
[1963,7,12,0,0,0,0,4.2484999999999999E-12,38.183999999999997,0,0]
[1963,7,13,0,0,0,0,4.2473999999999999E-12,38.183999999999997,0,0]
[1963,7,14,0,0,0,0,4.2462999999999998E-12,38.183999999999997,0,0]
[1963,7,15,0,0,0,0,4.2451999999999997E-12,38.183999999999997,0,0]
[1963,7,16,0,0,0,0,4.2442E-12,38.183999999999997,0,0]
[1963,7,17,0.96035999999999999,7.0179999999999998,1.2334E-8,1.307E-10,4.2431E-12,38.183999999999997,12.843100503977675,12.979195301761839]
[1963,7,18,0.94369000000000003,8.2928999999999995,9.6956999999999999E-9,5.8254999999999997E-11,4.4062000000000003E-12,38.247,10.274242600854093,10.335973677796733]
[1963,7,19,0,0,0,0,4.4049999999999999E-12,38.247,0,0]
[1963,7,20,0.77066000000000001,6.2426000000000004,6.1667999999999998E-9,1.471E-11,5.4008999999999997E-12,38.555,8.0019723354008239,8.0210598707601282]
[1963,7,21,0,0,0,0,5.3995000000000002E-12,38.555,0,0]
[1963,7,22,0,0,0,0,5.3980999999999998E-12,38.555,0,0]
[1963,7,23,0,0,0,0,5.3967000000000002E-12,38.555,0,0]
[1963,7,24,4.6524000000000001,62.991999999999997,2.2332999999999999E-8,1.6266E-11,9.3512E-12,39.262999999999998,4.8003181153813079,4.8038143753761506]
[1963,7,25,0,0,0,0,9.3489000000000003E-12,39.262999999999998,0,0]
[1963,7,26,0,0,0,0,9.3464999999999994E-12,39.262999999999998,0,0]
[1963,7,27,0,0,0,0,9.3441000000000001E-12,39.262999999999998,0,0]
[1963,7,28,0,0,0,0,9.3416999999999993E-12,39.262999999999998,0,0]
[1963,7,29,2.6799E-2,4.5768999999999997E-2,5.4863E-10,3.7516000000000003E-12,9.3393E-12,39.262999999999998,20.472032538527557,20.61202283667301]
[1963,7,30,0,0,0,0,9.3369000000000007E-12,39.262999999999998,0,0]
[1963,7,31,0,0,0,0,9.3344999999999999E-12,39.262999999999998,0,0]
[1963,8,1,0,0,0,0,9.3321000000000006E-12,39.262999999999998,0,0]
[1963,8,2,0,0,0,0,9.3296999999999997E-12,39.262999999999998,0,0]
[1963,8,3,0,0,0,0,9.3273000000000005E-12,39.262999999999998,0,0]
[1963,8,4,0,0,0,0,9.3250000000000008E-12,39.262999999999998,0,0]
[1963,8,5,0,0,0,0,9.3225999999999999E-12,39.262999999999998,0,0]
[1963,8,6,0,0,0,0,9.3202000000000006E-12,39.262999999999998,0,0]
[1963,8,7,0,0,0,0,9.3177999999999997E-12,39.262999999999998,0,0]
[1963,8,8,0,0,0,0,9.3154000000000005E-12,39.262999999999998,0,0]
[1963,8,9,0,0,0,0,9.3129999999999996E-12,39.262999999999998,0,0]
[1963,8,10,0,0,0,0,9.3106999999999999E-12,39.262999999999998,0,0]
[1963,8,11,0,0,0,0,9.3083000000000006E-12,39.262999999999998,0,0]
[1963,8,12,0,0,0,0,9.3058999999999998E-12,39.262999999999998,0,0]
[1963,8,13,0,0,0,0,9.3035000000000005E-12,39.262999999999998,0,0]
[1963,8,14,0,0,0,0,9.3010999999999996E-12,39.262999999999998,0,0]
[1963,8,15,0,0,0,0,9.2987999999999999E-12,39.262999999999998,0,0]
[1963,8,16,0,0,0,0,9.2964000000000007E-12,39.262999999999998,0,0]
[1963,8,17,0,0,0,0,9.2939999999999998E-12,39.262999999999998,0,0]
[1963,8,18,0,0,0,0,9.2916000000000005E-12,39.262999999999998,0,0]
[1963,8,19,0,0,0,0,9.2891999999999996E-12,39.262999999999998,0,0]
[1963,8,20,0,0,0,0,9.2868999999999999E-12,39.262999999999998,{"$f":"IF(D963=0,0,(F963)/D963*1000000*1000)","v":0},{"$f":"IF(D963=0,0,(F963+G963)/D963*1000000*1000)","v":0}]
[1963,8,21,0,0,0,0,9.2845000000000007E-12,39.262999999999998,0,0]
[1963,8,22,0,0,0,0,9.2820999999999998E-12,39.262999999999998,0,0]
[1963,8,23,0,0,0,0,9.2797000000000005E-12,39.262999999999998,0,0]
[1963,8,24,0,0,0,0,9.2773999999999992E-12,39.262999999999998,0,0]
[1963,8,25,0,0,0,0,9.275E-12,39.262999999999998,0,0]
[1963,8,26,0,0,0,0,9.2726000000000007E-12,39.262999999999998,0,0]
[1963,8,27,0,0,0,0,9.2701999999999998E-12,39.262999999999998,0,0]
[1963,8,28,0,0,0,0,9.2679000000000001E-12,39.262999999999998,0,0]
[1963,8,29,0,0,0,0,9.2654999999999992E-12,39.262999999999998,0,0]
[1963,8,30,0,0,0,0,9.2631E-12,39.262999999999998,0,0]
[1963,8,31,0,0,0,0,9.2608000000000003E-12,39.262999999999998,0,0]
[1963,9,1,0,0,0,0,9.2583999999999994E-12,39.262999999999998,0,0]
[1963,9,2,0,0,0,0,9.2560000000000001E-12,39.262999999999998,0,0]
[1963,9,3,0,0,0,0,9.2537000000000004E-12,39.262999999999998,0,0]
[1963,9,4,1.2928999999999999,18.454000000000001,1.0211E-8,7.9948999999999994E-12,9.2512999999999996E-12,39.262999999999998,7.8977492458813527,7.9039329414494537]
[1963,9,5,0,0,0,0,9.2489000000000003E-12,39.262999999999998,0,0]
[1963,9,6,0,0,0,0,9.2466000000000006E-12,39.262999999999998,0,0]
[1963,9,7,0,0,0,0,9.2441999999999997E-12,39.262999999999998,0,0]
[1963,9,8,0,0,0,0,9.2418000000000005E-12,39.262999999999998,0,0]
[1963,9,9,0,0,0,0,9.2395000000000008E-12,39.262999999999998,0,0]
[1963,9,10,0,0,0,0,9.2370999999999999E-12,39.262999999999998,0,0]
[1963,9,11,0,0,0,0,9.2347000000000006E-12,39.262999999999998,0,0]
[1963,9,12,0,0,0,0,9.2323999999999993E-12,39.262999999999998,0,0]
[1963,9,13,0,0,0,0,9.2300000000000001E-12,39.262999999999998,0,0]
[1963,9,14,0,0,0,0,9.2276000000000008E-12,39.262999999999998,0,0]
[1963,9,15,0,0,0,0,9.2252999999999995E-12,39.262999999999998,0,0]
[1963,9,16,0,0,0,0,9.2229000000000002E-12,39.262999999999998,0,0]
[1963,9,17,0,0,0,0,9.2206000000000005E-12,39.262999999999998,0,0]
[1963,9,18,0,0,0,0,9.2181999999999996E-12,39.262999999999998,0,0]
[1963,9,19,0,0,0,0,9.2158999999999999E-12,39.262999999999998,0,0]
[1963,9,20,0,0,0,0,9.2135000000000007E-12,39.262999999999998,0,0]
[1963,9,21,0,0,0,0,9.2110999999999998E-12,39.262999999999998,0,0]
[1963,9,22,0,0,0,0,9.2088000000000001E-12,39.262999999999998,0,0]
[1963,9,23,0,0,0,0,9.2063999999999992E-12,39.262999999999998,0,0]
[1963,9,24,0,0,0,0,9.2040999999999995E-12,39.262999999999998,0,0]
[1963,9,25,0,0,0,0,9.2017000000000003E-12,39.262999999999998,0,0]
[1963,9,26,0,0,0,0,9.1994000000000006E-12,39.262999999999998,0,0]
[1963,9,27,0,0,0,0,9.1969999999999997E-12,39.262999999999998,0,0]
[1963,9,28,4.3856999999999999,119.12,1.3787E-8,1.4426999999999999E-12,9.1947E-12,39.262999999999998,3.1436258750028503,3.1439548304717606]
[1963,9,29,0,0,0,0,9.1923000000000007E-12,39.262999999999998,0,0]
[1963,9,30,0,0,0,0,9.1898999999999998E-12,39.262999999999998,0,0]
[1963,10,1,0,0,0,0,9.1876000000000002E-12,39.262999999999998,0,0]
[1963,10,2,0,0,0,0,9.1851999999999993E-12,39.262999999999998,0,0]
[1963,10,3,0,0,0,0,9.1828999999999996E-12,39.262999999999998,0,0]
[1963,10,4,0,0,0,0,9.1805000000000003E-12,39.262999999999998,0,0]
[1963,10,5,0,0,0,0,9.1782000000000006E-12,39.262999999999998,0,0]
[1963,10,6,0,0,0,0,9.1758999999999993E-12,39.262999999999998,0,0]
[1963,10,7,0,0,0,0,9.1735E-12,39.262999999999998,0,0]
[1963,10,8,0,0,0,0,9.1712000000000003E-12,39.262999999999998,0,0]
[1963,10,9,0,0,0,0,9.1687999999999995E-12,39.262999999999998,0,0]
[1963,10,10,0,0,0,0,9.1664999999999998E-12,39.262999999999998,0,0]
[1963,10,11,0,0,0,0,9.1641000000000005E-12,39.262999999999998,0,0]
[1963,10,12,0,0,0,0,9.1618000000000008E-12,39.262999999999998,0,0]
[1963,10,13,0,0,0,0,9.1593999999999999E-12,39.262999999999998,0,0]
[1963,10,14,0,0,0,0,9.1571000000000002E-12,39.262999999999998,0,0]
[1963,10,15,0,0,0,0,9.1546999999999994E-12,39.262999999999998,0,0]
[1963,10,16,0,0,0,0,9.1523999999999997E-12,39.262999999999998,0,0]
[1963,10,17,0,0,0,0,9.1501E-12,39.262999999999998,0,0]
[1963,10,18,0,0,0,0,9.1477000000000007E-12,39.262999999999998,0,0]
[1963,10,19,0,0,0,0,9.1453999999999994E-12,39.262999999999998,0,0]
[1963,10,20,0,0,0,0,9.1430000000000001E-12,39.262999999999998,0,0]
[1963,10,21,0,0,0,0,9.1407000000000004E-12,39.262999999999998,0,0]
[1963,10,22,0,0,0,0,9.1384000000000007E-12,39.262999999999998,0,0]
[1963,10,23,0,0,0,0,9.1359999999999998E-12,39.262999999999998,{"$f":"IF(D1027=0,0,(F1027)/D1027*1000000*1000)","v":0},{"$f":"IF(D1027=0,0,(F1027+G1027)/D1027*1000000*1000)","v":0}]
[1963,10,24,0,0,0,0,9.1337000000000001E-12,39.262999999999998,0,0]
[1963,10,25,0,0,0,0,9.1314000000000005E-12,39.262999999999998,0,0]
[1963,10,26,0,0,0,0,9.1289999999999996E-12,39.262999999999998,0,0]
[1963,10,27,0,0,0,0,9.1266999999999999E-12,39.262999999999998,0,0]
[1963,10,28,0,0,0,0,9.1243000000000006E-12,39.262999999999998,0,0]
[1963,10,29,0,0,0,0,9.1219999999999993E-12,39.262999999999998,0,0]
[1963,10,30,0,0,0,0,9.1196999999999996E-12,39.262999999999998,0,0]
[1963,10,31,0,0,0,0,9.1173000000000003E-12,39.262999999999998,0,0]
[1963,11,1,1.9514E-5,8.0006999999999995E-6,4.6533000000000001E-14,7.9195999999999998E-19,9.1150000000000006E-12,39.262999999999998,2.3845956749000718,2.3846362590960339]
[1963,11,2,0,0,0,0,9.1126999999999993E-12,39.262999999999998,0,0]
[1963,11,3,0,0,0,0,9.1103000000000001E-12,39.262999999999998,0,0]
[1963,11,4,0,0,0,0,9.1080000000000004E-12,39.262999999999998,0,0]
[1963,11,5,0.14383000000000001,1.1489,2.6063000000000001E-10,4.0295999999999998E-15,9.1057000000000007E-12,39.262999999999998,1.8120698046304664,1.8120978210387264]
[1963,11,6,0,0,0,0,9.1033999999999994E-12,39.262999999999998,0,0]
[1963,11,7,0,0,0,0,9.1010000000000001E-12,39.262999999999998,0,0]
[1963,11,8,0,0,0,0,9.0987000000000004E-12,39.262999999999998,0,0]
[1963,11,9,0,0,0,0,9.0964000000000007E-12,39.262999999999998,0,0]
[1963,11,10,0,0,0,0,9.0939999999999998E-12,39.262999999999998,0,0]
[1963,11,11,0,0,0,0,9.0917000000000001E-12,39.262999999999998,0,0]
[1963,11,12,0,0,0,0,9.0894000000000004E-12,39.262999999999998,0,0]
[1963,11,13,0,0,0,0,9.0871000000000007E-12,39.262999999999998,0,0]
[1963,11,14,0,0,0,0,9.0846999999999999E-12,39.262999999999998,0,0]
[1963,11,15,0,0,0,0,9.0824000000000002E-12,39.262999999999998,0,0]
[1963,11,16,0,0,0,0,9.0801000000000005E-12,39.262999999999998,0,0]
[1963,11,17,0,0,0,0,9.0778000000000008E-12,39.262999999999998,0,0]
[1963,11,18,0,0,0,0,9.0753999999999999E-12,39.262999999999998,0,0]
[1963,11,19,0,0,0,0,9.0731000000000002E-12,39.262999999999998,0,0]
[1963,11,20,0,0,0,0,9.0708000000000005E-12,39.262999999999998,0,0]
[1963,11,21,0,0,0,0,9.0685000000000008E-12,39.262999999999998,0,0]
[1963,11,22,0,0,0,0,9.0661999999999995E-12,39.262999999999998,0,0]
[1963,11,23,5.9053000000000001E-2,0.29498000000000002,7.5805000000000003E-11,3.8521E-16,9.0638000000000002E-12,39.262999999999998,1.2836773745618344,1.2836838976851304]
[1963,11,24,0,0,0,0,9.0615000000000005E-12,39.262999999999998,0,0]
[1963,11,25,0,0,0,0,9.0591999999999992E-12,39.262999999999998,0,0]
[1963,11,26,0.46922999999999998,7.6562000000000001,4.3828999999999999E-10,1.9034999999999999E-15,9.0568999999999995E-12,39.262999999999998,0.93406218698719168,0.93406624363318647]
[1963,11,27,0,0,0,0,9.0545999999999998E-12,39.262999999999998,0,0]
[1963,11,28,1.7426999999999999,47.533000000000001,1.1157E-9,2.6653999999999999E-15,9.0523000000000001E-12,39.262999999999998,0.64021346186951289,0.64021499133528437]
[1963,11,29,0.62234,11.961,2.9548E-10,3.6641000000000002E-16,1.1661E-11,39.637999999999998,0.47478870071022272,0.47478928947199273]
[1963,11,30,0,0,0,0,1.1658000000000001E-11,39.637999999999998,0,0]
[1963,12,1,0,0,0,0,1.1655000000000001E-11,39.637999999999998,0,0]
[1963,12,2,0.23995,3.3025000000000002,8.5577999999999999E-11,5.6100000000000002E-17,1.4629E-11,39.978999999999999,0.35664930193790373,0.35664953573661184]
[1963,12,3,0,0,0,0,1.4625000000000001E-11,39.978999999999999,0,0]
[1963,12,4,0,0,0,0,1.4620999999999999E-11,39.978999999999999,0,0]
[1963,12,5,0,0,0,0,1.4617999999999999E-11,39.978999999999999,0,0]
[1963,12,6,0,0,0,0,1.4614000000000001E-11,39.978999999999999,0,0]
[1963,12,7,0,0,0,0,1.4609999999999999E-11,39.978999999999999,0,0]
[1963,12,8,6.8929000000000004E-3,2.1118999999999999E-2,2.1033000000000001E-12,5.5608000000000001E-19,1.4606E-11,39.978999999999999,0.30514007166794821,0.30514015234226521]
[1963,12,9,0,0,0,0,1.4603E-11,39.978999999999999,0,0]
[1963,12,10,0,0,0,0,1.4599000000000001E-11,39.978999999999999,0,0]
[1963,12,11,3.7848000000000002,134.47999999999999,6.6123E-10,1.5721999999999999E-16,2.5427999999999999E-11,40.692999999999998,0.17470672162333545,0.17470676316317904]
[1963,12,12,4.4153999999999999E-2,0.25114999999999998,6.3441E-12,5.9814999999999997E-19,3.4547E-11,41.136000000000003,0.14368120668569101,0.14368122023259502]
[1963,12,13,1.2185999999999999,31.5,1.1665999999999999E-10,1.0602E-17,8.4961000000000005E-11,42.134999999999998,9.5732808140489081E-2,9.5732816840636781E-2]
[1963,12,14,6.0865000000000002E-2,0.43720999999999999,4.6921999999999997E-12,1.9482E-19,1.1143E-10,42.534999999999997,7.7091924751499216E-2,7.7091927952353562E-2]
[1963,12,15,0,0,0,0,1.114E-10,42.534999999999997,0,0]
[1963,12,16,0,0,0,0,1.1137999999999999E-10,42.534999999999997,0,0]
[1963,12,17,0,0,0,0,1.1135E-10,42.534999999999997,0,0]
[1963,12,18,0,0,0,0,1.1132E-10,42.534999999999997,0,0]
[1963,12,19,0,0,0,0,1.1129E-10,42.534999999999997,0,0]
[1963,12,20,0,0,0,0,1.1126E-10,42.534999999999997,0,0]
[1963,12,21,0,0,0,0,1.1123E-10,42.534999999999997,0,0]
[1963,12,22,0,0,0,0,1.1121E-10,42.534999999999997,0,0]
[1963,12,23,3.1053000000000001E-2,0.15398999999999999,1.8185999999999999E-12,3.8444999999999998E-20,1.1118E-10,42.534999999999997,5.8564389914017967E-2,5.8564391152062599E-2]
[1963,12,24,0,0,0,0,1.1115E-10,42.534999999999997,0,0]
[1963,12,25,0,0,0,0,1.1112E-10,42.534999999999997,0,0]
[1963,12,26,0,0,0,0,1.1109E-10,42.534999999999997,{"$f":"IF(D1091=0,0,(F1091)/D1091*1000000*1000)","v":0},{"$f":"IF(D1091=0,0,(F1091+G1091)/D1091*1000000*1000)","v":0}]
[1963,12,27,0,0,0,0,1.1106E-10,42.534999999999997,0,0]
[1963,12,28,0,0,0,0,1.1103E-10,42.534999999999997,0,0]
[1963,12,29,0,0,0,0,1.1101E-10,42.534999999999997,0,0]
[1963,12,30,0,0,0,0,1.1098E-10,42.534999999999997,0,0]
[1963,12,31,1.8031999999999999,51.076000000000001,5.3936000000000001E-11,9.6480000000000006E-19,1.1095E-10,42.534999999999997,2.9911268855368239E-2,2.991126939041704E-2]
[1964,1,1,0,0,0,0,1.1231E-10,42.555999999999997,0,0]
[1964,1,2,0,0,0,0,1.1228E-10,42.555999999999997,0,0]
[1964,1,3,0,0,0,0,1.1225E-10,42.555999999999997,0,0]
[1964,1,4,0,0,0,0,1.1222E-10,42.555999999999997,0,0]
[1964,1,5,0,0,0,0,1.1219E-10,42.555999999999997,0,0]
[1964,1,6,0.22313,3.0383,4.1410000000000002E-12,3.4101E-20,1.5447000000000001E-10,43.018000000000001,1.8558687760498363E-2,1.8558687913328552E-2]
[1964,1,7,0,0,0,0,1.5443E-10,43.018000000000001,0,0]
[1964,1,8,0.85063,20.827000000000002,9.3784999999999993E-12,5.4854000000000001E-20,4.4885999999999999E-10,44.136000000000003,1.1025357676075379E-2,1.1025357740561698E-2]
[1964,1,9,0.68872,15.718,4.6066999999999997E-12,1.5946E-20,1.0776999999999999E-9,45.143999999999998,6.6887849924497618E-3,6.6887850156028567E-3]
[1964,1,10,0,0,0,0,1.0774E-9,45.143999999999998,0,0]
[1964,1,11,1.4885999999999999E-5,8.1233999999999992E-6,8.3180000000000003E-17,9.4462999999999998E-26,1.0772E-9,45.143999999999998,5.5878006180303651E-3,5.5878006243761259E-3]
[1964,1,12,5.7599999999999998E-2,0.38585000000000003,2.3492000000000002E-13,2.6980999999999998E-22,1.6064E-9,45.716000000000001,4.0784722222222229E-3,4.0784722269064239E-3]
[1964,1,13,0,0,0,0,1.6209000000000001E-9,45.731999999999999,0,0]
[1964,1,14,0,0,0,0,1.6204999999999999E-9,45.731999999999999,0,0]
[1964,1,15,0,0,0,0,1.6201E-9,45.731999999999999,0,0]
[1964,1,16,0,0,0,0,1.6196999999999999E-9,45.731999999999999,0,0]
[1964,1,17,3.3092000000000003E-2,0.19278000000000001,8.8410999999999996E-14,5.8004000000000004E-23,1.9833E-9,46.051000000000002,2.6716729118820256E-3,2.6716729136348357E-3]
[1964,1,18,0,0,0,0,1.9827999999999998E-9,46.051000000000002,0,0]
[1964,1,19,0,0,0,0,1.9823000000000001E-9,46.051000000000002,0,0]
[1964,1,20,4.3430000000000003E-2,0.27506999999999998,8.5077999999999996E-14,3.8995000000000002E-23,2.2292000000000001E-9,46.244999999999997,1.9589684549850333E-3,1.9589684558829149E-3]
[1964,1,21,0,0,0,0,2.2287E-9,46.244999999999997,0,0]
[1964,1,22,0,0,0,0,2.2281000000000002E-9,46.244999999999997,0,0]
[1964,1,23,0,0,0,0,2.2275E-9,46.244999999999997,0,0]
[1964,1,24,3.1949999999999998,122.09,2.6331000000000002E-12,1.1147E-21,8.4923999999999993E-9,47.588999999999999,8.2413145539906121E-4,8.2413145574795009E-4]
[1964,1,25,0.72506000000000004,17.71,3.4466000000000002E-13,8.6226E-23,1.5644999999999999E-8,48.436,4.753537638264419E-4,4.7535376394536457E-4]
[1964,1,26,0,0,0,0,1.5641000000000001E-8,48.436,0,0]
[1964,1,27,0,0,0,0,1.5637E-8,48.436,0,0]
[1964,1,28,0,0,0,0,1.5632999999999998E-8,48.436,0,0]
[1964,1,29,0,0,0,0,1.5629000000000001E-8,48.436,0,0]
[1964,1,30,0,0,0,0,1.5624999999999999E-8,48.436,0,0]
[1964,1,31,0,0,0,0,1.5621000000000001E-8,48.436,0,0]
[1964,2,1,0,0,0,0,1.5617E-8,48.436,0,0]
[1964,2,2,0,0,0,0,1.5612999999999999E-8,48.436,0,0]
[1964,2,3,0,0,0,0,1.5609000000000001E-8,48.436,0,0]
[1964,2,4,0,0,0,0,1.5605E-8,48.436,0,0]
[1964,2,5,0.40565000000000001,6.9551999999999996,7.8884999999999997E-14,7.0498999999999998E-24,1.5600999999999999E-8,48.436,1.9446567237766546E-4,1.9446567239504473E-4]
[1964,2,6,0,0,0,0,1.5597000000000001E-8,48.436,0,0]
[1964,2,7,0,0,0,0,1.5592999999999999E-8,48.436,0,0]
[1964,2,8,0,0,0,0,1.5589000000000001E-8,48.436,0,0]
[1964,2,9,0,0,0,0,1.5585E-8,48.436,0,0]
[1964,2,10,1.7242E-2,8.5157999999999998E-2,2.0949999999999999E-15,7.6662E-26,1.5582E-8,48.436,1.2150562579747127E-4,1.215056258019175E-4]
[1964,2,11,0,0,0,0,1.5577999999999999E-8,48.436,0,0]
[1964,2,12,0,0,0,0,1.5574000000000001E-8,48.436,0,0]
[1964,2,13,0.39307999999999998,7.7605000000000004,2.6635000000000001E-14,1.0143E-24,1.8936999999999999E-8,48.765999999999998,6.7759743563651162E-5,6.7759743566231576E-5]
[1964,2,14,0,0,0,0,1.8932E-8,48.765999999999998,0,0]
[1964,2,15,0.22747000000000001,3.5914000000000001,9.25E-15,2.2388E-25,2.6886E-8,49.320999999999998,4.0664703037763221E-5,4.066470303874744E-5]
[1964,2,16,0,0,0,0,2.6878999999999999E-8,49.320999999999998,0,0]
[1964,2,17,0,0,0,0,2.6872000000000001E-8,49.320999999999998,0,0]
[1964,2,18,1.4158999999999999,47.052999999999997,2.6682999999999999E-14,4.8398000000000004E-25,6.1123999999999999E-8,50.404000000000003,1.8845257433434565E-5,1.8845257433776383E-5]
[1964,2,19,0,0,0,0,6.1108999999999995E-8,50.404000000000003,0,0]
[1964,2,20,0,0,0,0,6.1093000000000003E-8,50.404000000000003,0,0]
[1964,2,21,0,0,0,0,6.1076999999999998E-8,50.404000000000003,0,0]
[1964,2,22,0,0,0,0,6.1061999999999994E-8,50.404000000000003,0,0]
[1964,2,23,0,0,0,0,6.1046000000000003E-8,50.404000000000003,0,0]
[1964,2,24,0,0,0,0,6.1030999999999999E-8,50.404000000000003,0,0]
[1964,2,25,7.5753000000000001E-2,0.59501000000000004,8.2999999999999998E-16,5.3223E-27,6.1014999999999994E-8,50.404000000000003,1.0956661782371654E-5,1.0956661782441914E-5]
[1964,2,26,0,0,0,0,6.0999000000000002E-8,50.404000000000003,0,0]
[1964,2,27,9.9260999999999997E-5,1.1260999999999999E-4,8.6707E-19,3.6859000000000003E-30,6.0983999999999999E-8,50.404000000000003,8.7352535235389528E-6,8.7352535235760867E-6]
[1964,2,28,0,0,0,0,6.4297999999999998E-8,50.503999999999998,{"$f":"IF(D1155=0,0,(F1155)/D1155*1000000*1000)","v":0},{"$f":"IF(D1155=0,0,(F1155+G1155)/D1155*1000000*1000)","v":0}]
[1964,2,29,0,0,0,0,6.4281000000000005E-8,50.503999999999998,0,0]
[1964,3,1,0,0,0,0,6.4265E-8,50.503999999999998,0,0]
[1964,3,2,2.5320999999999998,109.93,7.7422000000000003E-15,3.7887E-26,1.7812000000000001E-7,51.8,3.0576201571817863E-6,3.0576201571967487E-6]
[1964,3,3,0,0,0,0,1.7807000000000001E-7,51.8,0,0]
[1964,3,4,0.41189999999999999,9.4280000000000008,6.9226000000000003E-16,1.955E-27,2.5656999999999997E-7,52.429000000000002,1.680650643360039E-6,1.6806506433647854E-6]
[1964,3,5,0,0,0,0,2.5651000000000001E-7,52.429000000000002,0,0]
[1964,3,6,0,0,0,0,2.5643999999999999E-7,52.429000000000002,0,0]
[1964,3,7,0,0,0,0,2.5638000000000002E-7,52.429000000000002,0,0]
[1964,3,8,0,0,0,0,2.5631E-7,52.429000000000002,0,0]
[1964,3,9,0,0,0,0,2.5624000000000002E-7,52.429000000000002,0,0]
[1964,3,10,3.3495999999999999E-3,1.0886E-2,3.9178999999999998E-18,4.0398999999999998E-30,2.5618000000000001E-7,52.429000000000002,1.1696620491999045E-6,1.1696620492011105E-6]
[1964,3,11,0,0,0,0,2.5610999999999998E-7,52.429000000000002,0,0]
[1964,3,12,0,0,0,0,2.5605000000000002E-7,52.429000000000002,0,0]
[1964,3,13,0,0,0,0,2.5597999999999999E-7,52.429000000000002,0,0]
[1964,3,14,1.6094999999999999,53.231999999999999,6.5738000000000004E-16,7.5603000000000004E-28,3.1171999999999999E-7,52.8,4.0843740292016156E-7,4.0843740292063129E-7]
[1964,3,15,2.7052999999999998,125.27,4.9427000000000004E-16,4.2957000000000001E-28,7.3490000000000005E-7,54.043999999999997,1.827043211473774E-7,1.8270432114753616E-7]
[1964,3,16,0,0,0,0,7.3470999999999999E-7,54.043999999999997,0,0]
[1964,3,17,0,0,0,0,7.3453E-7,54.043999999999997,0,0]
[1964,3,18,0,0,0,0,7.3434000000000005E-7,54.043999999999997,0,0]
[1964,3,19,0,0,0,0,7.3414999999999999E-7,54.043999999999997,0,0]
[1964,3,20,0,0,0,0,7.3396000000000004E-7,54.043999999999997,0,0]
[1964,3,21,0,0,0,0,7.3376999999999999E-7,54.043999999999997,0,0]
[1964,3,22,0,0,0,0,7.3358999999999999E-7,54.043999999999997,0,0]
[1964,3,23,0,0,0,0,7.3340000000000004E-7,54.043999999999997,0,0]
[1964,3,24,0,0,0,0,7.3320999999999999E-7,54.043999999999997,0,0]
[1964,3,25,3.9376000000000002,191.46,1.4624000000000001E-16,4.1885999999999997E-29,1.1451000000000001E-6,54.837000000000003,3.7139374238114593E-8,3.7139374238125227E-8]
[1964,3,26,0.97482000000000002,32.19,1.7932999999999998E-17,3.4784000000000001E-30,1.7377999999999999E-6,55.603000000000002,1.8396216737448964E-8,1.8396216737452531E-8]
[1964,3,27,0,0,0,0,1.7374000000000001E-6,55.603000000000002,0,0]
[1964,3,28,0,0,0,0,1.7369E-6,55.603000000000002,0,0]
[1964,3,29,0,0,0,0,1.7365E-6,55.603000000000002,0,0]
[1964,3,30,0,0,0,0,1.736E-6,55.603000000000002,0,0]
[1964,3,31,0,0,0,0,1.7356E-6,55.603000000000002,0,0]
[1964,4,1,0,0,0,0,1.7350999999999999E-6,55.603000000000002,0,0]
[1964,4,2,0,0,0,0,1.7347000000000001E-6,55.603000000000002,0,0]
[1964,4,3,0,0,0,0,1.7343000000000001E-6,55.603000000000002,0,0]
[1964,4,4,0,0,0,0,1.7338E-6,55.603000000000002,0,0]
[1964,4,5,0,0,0,0,1.7334E-6,55.603000000000002,0,0]
[1964,4,6,4.9427000000000003,267.16000000000003,2.1051E-17,1.9352999999999999E-30,2.6448999999999999E-6,56.393000000000001,4.2590082343658319E-9,4.259008234366224E-9]
[1964,4,7,0,0,0,0,2.6442E-6,56.393000000000001,0,0]
[1964,4,8,0,0,0,0,2.6435000000000002E-6,56.393000000000001,0,0]
[1964,4,9,0,0,0,0,2.6427999999999999E-6,56.393000000000001,0,0]
[1964,4,10,0,0,0,0,2.6421999999999999E-6,56.393000000000001,0,0]
[1964,4,11,0,0,0,0,2.6415E-6,56.393000000000001,0,0]
[1964,4,12,0.13908000000000001,1.7145999999999999,2.5013000000000001E-19,8.3214000000000003E-33,2.6408000000000002E-6,56.393000000000001,1.7984613172274948E-9,1.798461317227555E-9]
[1964,4,13,1.014,37.753999999999998,8.6899000000000003E-19,3.4123E-32,3.3117E-6,56.862000000000002,8.5699211045364895E-10,8.5699211045368256E-10]
[1964,4,14,0,0,0,0,3.3108000000000001E-6,56.862000000000002,0,0]
[1964,4,15,0,0,0,0,3.3100000000000001E-6,56.862000000000002,0,0]
[1964,4,16,0,0,0,0,3.3090999999999998E-6,56.862000000000002,0,0]
[1964,4,17,0,0,0,0,3.3083000000000002E-6,56.862000000000002,0,0]
[1964,4,18,0,0,0,0,3.3073999999999999E-6,56.862000000000002,0,0]
[1964,4,19,0,0,0,0,3.3065999999999998E-6,56.862000000000002,0,0]
[1964,4,20,0,0,0,0,3.3057E-6,56.862000000000002,0,0]
[1964,4,21,0,0,0,0,3.3048999999999999E-6,56.862000000000002,0,0]
[1964,4,22,0,0,0,0,3.3040999999999998E-6,56.862000000000002,0,0]
[1964,4,23,0,0,0,0,3.3032E-6,56.862000000000002,0,0]
[1964,4,24,0,0,0,0,3.3023999999999999E-6,56.862000000000002,0,0]
[1964,4,25,0.12336999999999999,1.2136,3.9762999999999999E-20,4.8524999999999999E-34,3.3015000000000001E-6,56.862000000000002,3.2230688173786175E-10,3.2230688173786568E-10]
[1964,4,26,0.42908000000000002,11.504,7.2566999999999995E-20,1.1809999999999999E-33,3.3007E-6,56.862000000000002,1.6912230819427611E-10,1.6912230819427885E-10]
[1964,4,27,3.8281000000000001,215.53,2.6031E-19,3.2903000000000001E-33,4.4015000000000001E-6,57.45,6.7999791019043391E-11,6.7999791019044244E-11]
[1964,4,28,6.4746999999999999E-3,3.1060000000000001E-2,3.2359000000000001E-22,1.7456000000000001E-36,4.8668999999999999E-6,57.674999999999997,4.9977605140006489E-11,4.997760514000676E-11]
[1964,4,29,0,0,0,0,4.8655999999999996E-6,57.674999999999997,0,0]
[1964,4,30,0,0,0,0,4.8644000000000004E-6,57.674999999999997,0,0]
[1964,5,1,0,0,0,0,4.8631000000000001E-6,57.674999999999997,0,0]
[1964,5,2,3.6339000000000001,188.05,5.9180000000000005E-20,3.8379000000000001E-34,6.7208000000000001E-6,58.338000000000001,{"$f":"IF(D1219=0,0,(F1219)/D1219*1000000*1000)","v":1.6285533448911638E-11},{"$f":"IF(D1219=0,0,(F1219+G1219)/D1219*1000000*1000)","v":1.6285533448911745E-11}]
[1964,5,3,7.9636999999999999E-2,1.0375000000000001,8.6538E-22,3.2808999999999997E-36,7.6275999999999996E-6,58.625,1.0866557002398383E-11,1.0866557002398423E-11]
[1964,5,4,0,0,0,0,7.6256999999999997E-6,58.625,0,0]
[1964,5,5,0,0,0,0,7.6237000000000004E-6,58.625,0,0]
[1964,5,6,0,0,0,0,7.6217999999999996E-6,58.625,0,0]
[1964,5,7,0,0,0,0,7.6198000000000003E-6,58.625,0,0]
[1964,5,8,0,0,0,0,7.6179000000000004E-6,58.625,0,0]
[1964,5,9,0,0,0,0,7.6159000000000002E-6,58.625,0,0]
[1964,5,10,0,0,0,0,7.6140000000000003E-6,58.625,0,0]
[1964,5,11,0,0,0,0,7.6120000000000001E-6,58.625,0,0]
[1964,5,12,0,0,0,0,7.6101000000000002E-6,58.625,0,0]
[1964,5,13,0,0,0,0,7.6082000000000003E-6,58.625,0,0]
[1964,5,14,0,0,0,0,7.6062000000000001E-6,58.625,0,0]
[1964,5,15,0,0,0,0,7.6043000000000002E-6,58.625,0,0]
[1964,5,16,0,0,0,0,7.6023E-6,58.625,0,0]
[1964,5,17,0,0,0,0,7.6004000000000001E-6,58.625,0,0]
[1964,5,18,0,0,0,0,7.5984E-6,58.625,0,0]
[1964,5,19,0,0,0,0,7.5965E-6,58.625,0,0]
[1964,5,20,0,0,0,0,7.5944999999999999E-6,58.625,0,0]
[1964,5,21,0,0,0,0,7.5925999999999999E-6,58.625,0,0]
[1964,5,22,0,0,0,0,7.5907E-6,58.625,0,0]
[1964,5,23,0,0,0,0,7.5886999999999999E-6,58.625,0,0]
[1964,5,24,0,0,0,0,7.5867999999999999E-6,58.625,0,0]
[1964,5,25,0,0,0,0,7.5847999999999998E-6,58.625,0,0]
[1964,5,26,0,0,0,0,7.5828999999999999E-6,58.625,0,0]
[1964,5,27,0,0,0,0,7.5809999999999999E-6,58.625,0,0]
[1964,5,28,0,0,0,0,7.5789999999999998E-6,58.625,0,0]
[1964,5,29,0,0,0,0,7.5770999999999998E-6,58.625,0,0]
[1964,5,30,0,0,0,0,7.5750999999999997E-6,58.625,0,0]
[1964,5,31,0,0,0,0,7.5731999999999998E-6,58.625,0,0]
[1964,6,1,3.9313000000000001E-2,0.16455,1.9478999999999999E-22,2.0353000000000001E-37,7.5712999999999998E-6,58.625,4.9548495408643453E-12,4.9548495408643509E-12]
[1964,6,2,0,0,0,0,7.5692999999999997E-6,58.625,0,0]
[1964,6,3,0,0,0,0,7.5673999999999997E-6,58.625,0,0]
[1964,6,4,0,0,0,0,7.5653999999999996E-6,58.625,0,0]
[1964,6,5,0,0,0,0,7.5634999999999997E-6,58.625,0,0]
[1964,6,6,0,0,0,0,7.5615999999999997E-6,58.625,0,0]
[1964,6,7,0,0,0,0,7.5595999999999996E-6,58.625,0,0]
[1964,6,8,0,0,0,0,7.5576999999999997E-6,58.625,0,0]
[1964,6,9,0,0,0,0,7.5557999999999997E-6,58.625,0,0]
[1964,6,10,0,0,0,0,7.5538000000000004E-6,58.625,0,0]
[1964,6,11,0,0,0,0,7.5518999999999996E-6,58.625,0,0]
[1964,6,12,0,0,0,0,7.5499999999999997E-6,58.625,0,0]
[1964,6,13,0,0,0,0,7.5480000000000004E-6,58.625,0,0]
[1964,6,14,0,0,0,0,7.5460999999999996E-6,58.625,0,0]
[1964,6,15,0,0,0,0,7.5441999999999997E-6,58.625,0,0]
[1964,6,16,0,0,0,0,7.5422999999999998E-6,58.625,0,0]
[1964,6,17,0,0,0,0,7.5402999999999996E-6,58.625,0,0]
[1964,6,18,0,0,0,0,7.5383999999999997E-6,58.625,0,0]
[1964,6,19,0,0,0,0,7.5364999999999998E-6,58.625,0,0]
[1964,6,20,0,0,0,0,7.5344999999999996E-6,58.625,0,0]
[1964,6,21,0,0,0,0,7.5325999999999997E-6,58.625,0,0]
[1964,6,22,0,0,0,0,7.5306999999999997E-6,58.625,0,0]
[1964,6,23,0.56564000000000003,4.0279999999999996,6.8265999999999997E-22,2.2429000000000002E-37,7.5287999999999998E-6,58.625,1.2068807015062583E-12,1.2068807015062585E-12]
[1964,6,24,0,0,0,0,7.5267999999999997E-6,58.625,0,0]
[1964,6,25,0.21869,1.4038999999999999,1.4665999999999999E-22,3.9788999999999998E-38,7.5248999999999997E-6,58.625,6.7062965842059528E-13,6.7062965842059558E-13]
[1964,6,26,0.24379000000000001,1.7401,9.7346999999999998E-23,2.2574999999999999E-38,7.5229999999999998E-6,58.625,3.9930678042577627E-13,3.9930678042577637E-13]
[1964,6,27,0,0,0,0,7.5210999999999999E-6,58.625,0,0]
[1964,6,28,0,0,0,0,7.5190999999999997E-6,58.625,0,0]
[1964,6,29,0,0,0,0,7.5171999999999998E-6,58.625,0,0]
[1964,6,30,0,0,0,0,7.5152999999999999E-6,58.625,0,0]
[1964,7,1,0.34826000000000001,1.4984999999999999,5.1754000000000002E-23,5.1492999999999997E-39,7.5133999999999999E-6,58.625,1.4860736231551141E-13,1.4860736231551141E-13]
[1964,7,2,0,0,0,0,7.5113999999999998E-6,58.625,0,0]
[1964,7,3,0,0,0,0,7.5094999999999998E-6,58.625,0,0]
[1964,7,4,0,0,0,0,7.5075999999999999E-6,58.625,0,0]
[1964,7,5,0,0,0,0,7.5057E-6,58.625,{"$f":"IF(D1283=0,0,(F1283)/D1283*1000000*1000)","v":0},{"$f":"IF(D1283=0,0,(F1283+G1283)/D1283*1000000*1000)","v":0}]
[1964,7,6,0,0,0,0,7.5038000000000001E-6,58.625,0,0]
[1964,7,7,0,0,0,0,7.5017999999999999E-6,58.625,0,0]
[1964,7,8,0,0,0,0,7.4999E-6,58.625,0,0]
[1964,7,9,0,0,0,0,7.498E-6,58.625,0,0]
[1964,7,10,5.4549E-2,0.10333000000000001,3.2610000000000001E-24,9.8607999999999996E-41,7.4961000000000001E-6,58.625,5.9781114227575214E-14,5.9781114227575214E-14]
[1964,7,11,0.11305999999999999,0.40790999999999999,4.3478E-24,1.5597E-40,7.4942000000000002E-6,58.625,3.8455687245710243E-14,3.8455687245710243E-14]
[1964,7,12,1.1256999999999999,9.9384999999999994,2.1068999999999999E-23,7.6122999999999995E-40,7.4922E-6,58.625,1.8716354268455186E-14,1.8716354268455186E-14]
[1964,7,13,0,0,0,0,7.4903000000000001E-6,58.625,0,0]
[1964,7,14,0,0,0,0,7.4884000000000002E-6,58.625,0,0]
[1964,7,15,0,0,0,0,7.4865000000000002E-6,58.625,0,0]
[1964,7,16,1.6868000000000001E-2,2.4559999999999998E-2,2.9081E-10,3.1318E-12,7.4846000000000003E-6,58.625,17.240336732274127,17.426001897083236]
[1964,7,17,0,0,0,0,7.4827000000000004E-6,58.625,0,0]
[1964,7,18,1.9077999999999999,20.172999999999998,2.3126999999999999E-8,1.8045999999999999E-10,7.4807999999999996E-6,58.625,12.122339867910684,12.216930495859105]
[1964,7,19,1.7787000000000001E-2,2.7969999999999998E-2,1.9846000000000001E-10,5.8187000000000002E-13,7.4788000000000003E-6,58.625,11.157587001742845,11.190300219261257]
[1964,7,20,0.19861000000000001,0.99155000000000004,1.9114999999999999E-9,4.9618000000000001E-12,7.4769000000000004E-6,58.625,9.624389507074163,9.6493721363476155]
[1964,7,21,0,0,0,0,7.4749999999999996E-6,58.625,0,0]
[1964,7,22,2.8178000000000001,34.353999999999999,1.9379999999999999E-8,2.4494999999999999E-11,9.8192000000000008E-6,59.21,6.8777060117822408,6.8863989637305689]
[1964,7,23,8.6485999999999993E-3,1.0954E-2,5.4969999999999999E-11,2.5349000000000001E-14,1.0105999999999999E-5,59.28,6.3559420021737632,6.3588729967856077]
[1964,7,24,6.0865000000000002E-2,0.16239000000000001,3.4594999999999998E-10,1.2363E-13,1.0448999999999999E-5,59.360999999999997,5.6838905775075981,5.6859217941345594]
[1964,7,25,0,0,0,0,1.0447E-5,59.360999999999997,0,0]
[1964,7,26,0,0,0,0,1.0444E-5,59.360999999999997,0,0]
[1964,7,27,0,0,0,0,1.0441E-5,59.360999999999997,0,0]
[1964,7,28,0,0,0,0,1.0438999999999999E-5,59.360999999999997,0,0]
[1964,7,29,0,0,0,0,1.0436E-5,59.360999999999997,0,0]
[1964,7,30,0,0,0,0,1.0433E-5,59.360999999999997,0,0]
[1964,7,31,0,0,0,0,1.0431000000000001E-5,59.360999999999997,0,0]
[1964,8,1,0,0,0,0,1.0428000000000001E-5,59.360999999999997,0,0]
[1964,8,2,0,0,0,0,1.0424999999999999E-5,59.360999999999997,0,0]
[1964,8,3,0,0,0,0,1.0423E-5,59.360999999999997,0,0]
[1964,8,4,0.63356999999999997,4.9890999999999996,9.2330999999999995E-9,4.6802E-11,1.042E-5,59.360999999999997,14.573133197594581,14.64700348817021]
[1964,8,5,0.32294,2.5154999999999998,3.9624000000000003E-9,1.2421E-11,1.0417E-5,59.360999999999997,12.269771474577322,12.308233727627423]
[1964,8,6,0,0,0,0,1.0414999999999999E-5,59.360999999999997,0,0]
[1964,8,7,0,0,0,0,1.0412E-5,59.360999999999997,0,0]
[1964,8,8,0,0,0,0,1.0409E-5,59.360999999999997,0,0]
[1964,8,9,0,0,0,0,1.0407E-5,59.360999999999997,0,0]
[1964,8,10,2.3734000000000002E-2,4.8288999999999999E-2,2.4419999999999999E-10,2.2294000000000001E-13,1.0404000000000001E-5,59.360999999999997,10.28903682480829,10.298430100278081]
[1964,8,11,1.0954999999999999,12.862,8.5527999999999997E-9,6.7353000000000002E-12,1.0400999999999999E-5,59.360999999999997,7.8072113190324064,7.8133594705613874]
[1964,8,12,0,0,0,0,1.0399E-5,59.360999999999997,0,0]
[1964,8,13,0,0,0,0,1.0396E-5,59.360999999999997,0,0]
[1964,8,14,0,0,0,0,1.0393E-5,59.360999999999997,0,0]
[1964,8,15,0,0,0,0,1.0390999999999999E-5,59.360999999999997,0,0]
[1964,8,16,1.7890000000000001E-4,1.1413000000000001E-4,1.2521000000000001E-12,3.2430000000000001E-16,1.0387999999999999E-5,59.360999999999997,6.9988820570150923,7.0006948015651211]
[1964,8,17,0,0,0,0,1.0385E-5,59.360999999999997,0,0]
[1964,8,18,0,0,0,0,1.0383E-5,59.360999999999997,0,0]
[1964,8,19,0,0,0,0,1.0380000000000001E-5,59.360999999999997,0,0]
[1964,8,20,0,0,0,0,1.0377000000000001E-5,59.360999999999997,0,0]
[1964,8,21,0,0,0,0,1.0375E-5,59.360999999999997,0,0]
[1964,8,22,0.40682000000000001,3.4483999999999999,1.8882000000000002E-9,3.0813999999999999E-13,1.0372E-5,59.360999999999997,4.6413647313308104,4.6421221670517676]
[1964,8,23,0,0,0,0,1.0369E-5,59.360999999999997,0,0]
[1964,8,24,0,0,0,0,1.0366999999999999E-5,59.360999999999997,0,0]
[1964,8,25,0,0,0,0,1.0363999999999999E-5,59.360999999999997,0,0]
[1964,8,26,0,0,0,0,1.0361E-5,59.360999999999997,0,0]
[1964,8,27,0,0,0,0,1.0359E-5,59.360999999999997,0,0]
[1964,8,28,0,0,0,0,1.0356E-5,59.360999999999997,0,0]
[1964,8,29,0,0,0,0,1.0353000000000001E-5,59.360999999999997,0,0]
[1964,8,30,0,0,0,0,1.0351E-5,59.360999999999997,0,0]
[1964,8,31,0,0,0,0,1.0348E-5,59.360999999999997,0,0]
[1964,9,1,0,0,0,0,1.0345E-5,59.360999999999997,0,0]
[1964,9,2,0,0,0,0,1.0343000000000001E-5,59.360999999999997,0,0]
[1964,9,3,0,0,0,0,1.0339999999999999E-5,59.360999999999997,0,0]
[1964,9,4,0,0,0,0,1.0338E-5,59.360999999999997,0,0]
[1964,9,5,0,0,0,0,1.0335E-5,59.360999999999997,0,0]
[1964,9,6,0,0,0,0,1.0332E-5,59.360999999999997,0,0]
[1964,9,7,0,0,0,0,1.0329999999999999E-5,59.360999999999997,{"$f":"IF(D1347=0,0,(F1347)/D1347*1000000*1000)","v":0},{"$f":"IF(D1347=0,0,(F1347+G1347)/D1347*1000000*1000)","v":0}]
[1964,9,8,0,0,0,0,1.0327E-5,59.360999999999997,0,0]
[1964,9,9,0,0,0,0,1.0324E-5,59.360999999999997,0,0]
[1964,9,10,0,0,0,0,1.0322E-5,59.360999999999997,0,0]
[1964,9,11,2.3086000000000001E-3,3.0549000000000002E-3,7.8963999999999994E-12,2.3742000000000002E-16,1.0319000000000001E-5,59.360999999999997,3.420427965000433,3.420530806549424]
[1964,9,12,0.94064000000000003,14.292,2.2738000000000002E-9,6.6391000000000005E-14,1.0316000000000001E-5,59.360999999999997,2.4172903555026366,2.4173609361711175]
[1964,9,13,0,0,0,0,1.0314E-5,59.360999999999997,0,0]
[1964,9,14,0,0,0,0,1.0311E-5,59.360999999999997,0,0]
[1964,9,15,0,0,0,0,1.0308E-5,59.360999999999997,0,0]
[1964,9,16,0,0,0,0,1.0305999999999999E-5,59.360999999999997,0,0]
[1964,9,17,0,0,0,0,1.0302999999999999E-5,59.360999999999997,0,0]
[1964,9,18,0,0,0,0,1.0301E-5,59.360999999999997,0,0]
[1964,9,19,0,0,0,0,1.0298E-5,59.360999999999997,0,0]
[1964,9,20,0,0,0,0,1.0295000000000001E-5,59.360999999999997,0,0]
[1964,9,21,0,0,0,0,1.0293E-5,59.360999999999997,0,0]
[1964,9,22,0,0,0,0,1.029E-5,59.360999999999997,0,0]
[1964,9,23,0,0,0,0,1.0287E-5,59.360999999999997,0,0]
[1964,9,24,0,0,0,0,1.0285000000000001E-5,59.360999999999997,0,0]
[1964,9,25,0,0,0,0,1.0282000000000001E-5,59.360999999999997,0,0]
[1964,9,26,0,0,0,0,1.028E-5,59.360999999999997,0,0]
[1964,9,27,0,0,0,0,1.0277E-5,59.360999999999997,0,0]
[1964,9,28,0,0,0,0,1.0274E-5,59.360999999999997,0,0]
[1964,9,29,0,0,0,0,1.0271999999999999E-5,59.360999999999997,0,0]
[1964,9,30,0,0,0,0,1.0268999999999999E-5,59.360999999999997,0,0]
[1964,10,1,0,0,0,0,1.0266E-5,59.360999999999997,0,0]
[1964,10,2,0,0,0,0,1.0264E-5,59.360999999999997,0,0]
[1964,10,3,1.7159000000000001E-2,5.8125999999999997E-2,3.0319999999999998E-11,2.1481000000000001E-16,1.0261000000000001E-5,59.360999999999997,1.7670027390873593,1.767015257882161]
[1964,10,4,0.56391999999999998,9.9629999999999992,7.3900000000000003E-10,5.1115000000000003E-15,1.0258000000000001E-5,59.360999999999997,1.3104695701517948,1.3104786343807633]
[1964,10,5,1.9947999999999999,55.432000000000002,1.8438E-9,6.9159000000000002E-15,1.0256E-5,59.360999999999997,0.92430318828955293,0.9243066552536594]
[1964,10,6,0,0,0,0,1.0253E-5,59.360999999999997,0,0]
[1964,10,7,0,0,0,0,1.0251000000000001E-5,59.360999999999997,0,0]
[1964,10,8,0,0,0,0,1.0248000000000001E-5,59.360999999999997,0,0]
[1964,10,9,0,0,0,0,1.0244999999999999E-5,59.360999999999997,0,0]
[1964,10,10,0,0,0,0,1.0243E-5,59.360999999999997,0,0]
[1964,10,11,0,0,0,0,1.024E-5,59.360999999999997,0,0]
[1964,10,12,0,0,0,0,1.0237999999999999E-5,59.360999999999997,0,0]
[1964,10,13,0,0,0,0,1.0234999999999999E-5,59.360999999999997,0,0]
[1964,10,14,0,0,0,0,1.0232E-5,59.360999999999997,0,0]
[1964,10,15,2.7071999999999998,75.590999999999994,1.1704E-9,1.3679999999999999E-15,1.066E-5,59.46,0.43232860520094568,0.43232911052009454]
[1964,10,16,1.6358999999999999,45.587000000000003,4.8287999999999999E-10,3.2303E-16,1.6653000000000001E-5,60.37,0.29517696680726208,0.29517716427043222]
[1964,10,17,0,0,0,0,1.6648000000000001E-5,60.37,0,0]
[1964,10,18,0,0,0,0,1.6643999999999999E-5,60.37,0,0]
[1964,10,19,0,0,0,0,1.664E-5,60.37,0,0]
[1964,10,20,0,0,0,0,1.6636000000000001E-5,60.37,0,0]
[1964,10,21,0,0,0,0,1.6631000000000001E-5,60.37,0,0]
[1964,10,22,0,0,0,0,1.6626999999999999E-5,60.37,0,0]
[1964,10,23,0,0,0,0,1.6623E-5,60.37,0,0]
[1964,10,24,0,0,0,0,1.6619000000000001E-5,60.37,0,0]
[1964,10,25,0,0,0,0,1.6614000000000001E-5,60.37,0,0]
[1964,10,26,0,0,0,0,1.6609999999999999E-5,60.37,0,0]
[1964,10,27,0,0,0,0,1.6606E-5,60.37,0,0]
[1964,10,28,0,0,0,0,1.6602000000000001E-5,60.37,0,0]
[1964,10,29,0,0,0,0,1.6597000000000001E-5,60.37,0,0]
[1964,10,30,0,0,0,0,1.6592999999999999E-5,60.37,0,0]
[1964,10,31,0,0,0,0,1.6589E-5,60.37,0,0]
[1964,11,1,0,0,0,0,1.6585000000000001E-5,60.37,0,0]
[1964,11,2,0,0,0,0,1.658E-5,60.37,0,0]
[1964,11,3,0,0,0,0,1.6575999999999999E-5,60.37,0,0]
[1964,11,4,0,0,0,0,1.6572E-5,60.37,0,0]
[1964,11,5,0,0,0,0,1.6568000000000001E-5,60.37,0,0]
[1964,11,6,0,0,0,0,1.6563E-5,60.37,0,0]
[1964,11,7,0,0,0,0,1.6558999999999998E-5,60.37,0,0]
[1964,11,8,0,0,0,0,1.6555E-5,60.37,0,0]
[1964,11,9,0,0,0,0,1.6551000000000001E-5,60.37,0,0]
[1964,11,10,0,0,0,0,1.6546E-5,60.37,{"$f":"IF(D1411=0,0,(F1411)/D1411*1000000*1000)","v":0},{"$f":"IF(D1411=0,0,(F1411+G1411)/D1411*1000000*1000)","v":0}]
[1964,11,11,0,0,0,0,1.6541999999999998E-5,60.37,0,0]
[1964,11,12,0,0,0,0,1.6538E-5,60.37,0,0]
[1964,11,13,0,0,0,0,1.6534000000000001E-5,60.37,0,0]
[1964,11,14,0,0,0,0,1.6529E-5,60.37,0,0]
[1964,11,15,0,0,0,0,1.6524999999999998E-5,60.37,0,0]
[1964,11,16,0,0,0,0,1.6521E-5,60.37,0,0]
[1964,11,17,0,0,0,0,1.6517000000000001E-5,60.37,0,0]
[1964,11,18,0,0,0,0,1.6512999999999999E-5,60.37,0,0]
[1964,11,19,1.0921E-2,3.1899999999999998E-2,2.2147999999999998E-12,2.9742999999999999E-19,1.6507999999999998E-5,60.37,0.2028019412141745,0.20280196844886]
[1964,11,20,0,0,0,0,1.6504E-5,60.37,0,0]
[1964,11,21,0,0,0,0,1.6500000000000001E-5,60.37,0,0]
[1964,11,22,0,0,0,0,1.6495999999999999E-5,60.37,0,0]
[1964,11,23,0,0,0,0,1.6490999999999998E-5,60.37,0,0]
[1964,11,24,2.0886,57.444000000000003,2.1638999999999999E-10,2.1053999999999999E-17,1.6487E-5,60.37,0.10360528583740304,0.10360529591783969]
[1964,11,25,0.33567999999999998,5.1589999999999998,2.5363999999999999E-11,1.3942000000000001E-18,1.6483000000000001E-5,60.37,7.5560057197330791E-2,7.5560061350691141E-2]
[1964,11,26,0,0,0,0,1.6478999999999999E-5,60.37,0,0]
[1964,11,27,0,0,0,0,1.6475000000000001E-5,60.37,0,0]
[1964,11,28,0.45587,7.5701999999999998,2.3352E-11,7.4903000000000001E-19,1.8411999999999999E-5,60.637,5.1225129971263737E-2,5.1225131614341807E-2]
[1964,11,29,0,0,0,0,1.8406999999999998E-5,60.637,0,0]
[1964,11,30,0,0,0,0,1.8403E-5,60.637,0,0]
[1964,12,1,0,0,0,0,1.8397999999999999E-5,60.637,0,0]
[1964,12,2,0,0,0,0,1.8393000000000002E-5,60.637,0,0]
[1964,12,3,0,0,0,0,1.8389E-5,60.637,0,0]
[1964,12,4,2.0453000000000001,58.473999999999997,5.5221E-11,9.8281000000000001E-19,2.4913E-5,61.314999999999998,2.6998973255757099E-2,2.6998973736278294E-2]
[1964,12,5,0,0,0,0,2.5485000000000001E-5,61.374000000000002,0,0]
[1964,12,6,0,0,0,0,2.5479000000000001E-5,61.374000000000002,0,0]
[1964,12,7,0,0,0,0,2.5471999999999999E-5,61.374000000000002,0,0]
[1964,12,8,0,0,0,0,2.5465000000000001E-5,61.374000000000002,0,0]
[1964,12,9,0,0,0,0,2.5459000000000001E-5,61.374000000000002,0,0]
[1964,12,10,0,0,0,0,2.5452E-5,61.374000000000002,0,0]
[1964,12,11,0,0,0,0,2.5446E-5,61.374000000000002,0,0]
[1964,12,12,0.11144999999999999,0.90544999999999998,1.9529999999999999E-12,1.1814E-20,2.5439000000000002E-5,61.374000000000002,1.7523553162853298E-2,1.7523553268855987E-2]
[1964,12,13,0,0,0,0,2.5432999999999999E-5,61.374000000000002,0,0]
[1964,12,14,0,0,0,0,2.5426E-5,61.374000000000002,0,0]
[1964,12,15,0,0,0,0,2.5420000000000001E-5,61.374000000000002,0,0]
[1964,12,16,0,0,0,0,2.5412999999999999E-5,61.374000000000002,0,0]
[1964,12,17,0,0,0,0,2.5406999999999999E-5,61.374000000000002,0,0]
[1964,12,18,4.7004999999999998E-3,1.3716000000000001E-2,6.4092000000000001E-14,1.9131999999999999E-22,2.5400000000000001E-5,61.374000000000002,1.3635145197319436E-2,1.3635145238021487E-2]
[1964,12,19,0,0,0,0,2.5394000000000001E-5,61.374000000000002,0,0]
[1964,12,20,0.44434000000000001,8.3058999999999994,3.9146999999999999E-12,1.2465E-20,2.5386999999999999E-5,61.374000000000002,8.8101453841652778E-3,8.8101454122181209E-3]
[1964,12,21,0,0,0,0,2.5381E-5,61.374000000000002,0,0]
[1964,12,22,0,0,0,0,2.5374000000000001E-5,61.374000000000002,0,0]
[1964,12,23,0,0,0,0,2.5367999999999998E-5,61.374000000000002,0,0]
[1964,12,24,0.83896999999999999,20.216000000000001,4.3590999999999999E-12,8.1488999999999993E-21,3.6019000000000002E-5,62.158000000000001,5.1957757726736348E-3,5.195775782386617E-3]
[1964,12,25,0.43532999999999999,8.2986000000000004,1.5043999999999999E-12,1.7496000000000001E-21,4.9855000000000003E-5,62.908999999999999,3.4557691865940779E-3,3.4557691906130978E-3]
[1964,12,26,1.3212999999999999,37.262999999999998,2.7281000000000001E-12,2.1306000000000002E-21,7.7949999999999997E-5,63.917999999999999,2.0647089987133886E-3,2.0647090003258913E-3]
[1964,12,27,0,0,0,0,7.7929999999999994E-5,63.917999999999999,0,0]
[1964,12,28,0,0,0,0,7.7910000000000005E-5,63.917999999999999,0,0]
[1964,12,29,0,0,0,0,7.7890000000000001E-5,63.917999999999999,0,0]
[1964,12,30,0,0,0,0,7.7869999999999998E-5,63.917999999999999,0,0]
[1964,12,31,0,0,0,0,7.7849999999999995E-5,63.917999999999999,0,0]
[1965,1,1,0,0,0,0,7.7830000000000005E-5,63.917999999999999,0,0]
[1965,1,2,4.6344999999999997E-2,0.27746999999999999,6.6474000000000005E-14,1.9649E-23,8.1303000000000004E-5,64.037999999999997,1.434329485381379E-3,1.4343294858053515E-3]
[1965,1,3,0,0,0,0,8.1281999999999999E-5,64.037999999999997,0,0]
[1965,1,4,0,0,0,0,8.1260999999999993E-5,64.037999999999997,0,0]
[1965,1,5,0,0,0,0,8.1241000000000004E-5,64.037999999999997,0,0]
[1965,1,6,0,0,0,0,8.1219999999999998E-5,64.037999999999997,0,0]
[1965,1,7,0,0,0,0,8.1199000000000006E-5,64.037999999999997,0,0]
[1965,1,8,0,0,0,0,8.1178000000000001E-5,64.037999999999997,0,0]
[1965,1,9,0,0,0,0,8.1156999999999996E-5,64.037999999999997,0,0]
[1965,1,10,2.2983E-2,0.10792,2.2682000000000001E-14,4.0444999999999997E-24,8.1137000000000006E-5,64.037999999999997,9.8690336335552375E-4,9.8690336353150169E-4]
[1965,1,11,0,0,0,0,8.1116000000000001E-5,64.037999999999997,0,0]
[1965,1,12,0,0,0,0,8.1094999999999995E-5,64.037999999999997,0,0]
[1965,1,13,0,0,0,0,8.1074000000000003E-5,64.037999999999997,{"$f":"IF(D1475=0,0,(F1475)/D1475*1000000*1000)","v":0},{"$f":"IF(D1475=0,0,(F1475+G1475)/D1475*1000000*1000)","v":0}]
[1965,1,14,0,0,0,0,8.1054E-5,64.037999999999997,0,0]
[1965,1,15,2.7952000000000001E-4,3.6035E-4,2.1747000000000001E-16,2.4442000000000001E-26,8.1032999999999995E-5,64.037999999999997,7.7801230681167721E-4,7.7801230689911996E-4]
[1965,1,16,2.9926999999999999E-2,0.17044000000000001,1.7184000000000002E-14,1.8614000000000001E-24,8.1012000000000003E-5,64.037999999999997,5.741972132188326E-4,5.7419721328103056E-4]
[1965,1,17,0,0,0,0,8.0992E-5,64.037999999999997,0,0]
[1965,1,18,0,0,0,0,8.0970999999999994E-5,64.037999999999997,0,0]
[1965,1,19,0,0,0,0,8.0950000000000003E-5,64.037999999999997,0,0]
[1965,1,20,0,0,0,0,8.0928999999999997E-5,64.037999999999997,0,0]
[1965,1,21,0,0,0,0,8.0908999999999994E-5,64.037999999999997,0,0]
[1965,1,22,0,0,0,0,8.0888000000000002E-5,64.037999999999997,0,0]
[1965,1,23,4.0789999999999997,165.33,8.7556999999999997E-13,8.8377000000000004E-23,1.3852999999999999E-4,65.257999999999996,2.1465310125030649E-4,2.1465310127197277E-4]
[1965,1,24,0,0,0,0,1.3850000000000001E-4,65.257999999999996,0,0]
[1965,1,25,0,0,0,0,1.3846E-4,65.257999999999996,0,0]
[1965,1,26,0,0,0,0,1.3842999999999999E-4,65.257999999999996,0,0]
[1965,1,27,0,0,0,0,1.3839000000000001E-4,65.257999999999996,0,0]
[1965,1,28,0,0,0,0,1.3835E-4,65.257999999999996,0,0]
[1965,1,29,0,0,0,0,1.3831999999999999E-4,65.257999999999996,0,0]
[1965,1,30,0,0,0,0,1.3828000000000001E-4,65.257999999999996,0,0]
[1965,1,31,0,0,0,0,1.3825E-4,65.257999999999996,0,0]
[1965,2,1,3.7963999999999998E-2,0.22849,4.8307000000000002E-15,1.3296E-25,1.3820999999999999E-4,65.257999999999996,1.2724423137709407E-4,1.2724423138059637E-4]
[1965,2,2,0,0,0,0,1.3818000000000001E-4,65.257999999999996,0,0]
[1965,2,3,0,0,0,0,1.3814E-4,65.257999999999996,0,0]
[1965,2,4,0,0,0,0,1.3810999999999999E-4,65.257999999999996,0,0]
[1965,2,5,0,0,0,0,1.3807000000000001E-4,65.257999999999996,0,0]
[1965,2,6,0.94198000000000004,24.387,5.4581000000000002E-14,1.4946E-24,1.4358E-4,65.370999999999995,5.7942843797108217E-5,5.7942843798694872E-5]
[1965,2,7,9.2304999999999998E-2,0.93633999999999995,3.5737999999999998E-15,5.4625999999999997E-26,1.8242000000000001E-4,66.009,3.8717295921131033E-5,3.8717295921722831E-5]
[1965,2,8,0,0,0,0,1.8238E-4,66.009,0,0]
[1965,2,9,7.2422000000000003E-4,1.4154E-3,2.2211999999999999E-17,1.9411000000000001E-28,1.9511999999999999E-4,66.206000000000003,3.0670238325370739E-5,3.0670238325638768E-5]
[1965,2,10,0,0,0,0,1.9506999999999999E-4,66.206000000000003,0,0]
[1965,2,11,0,0,0,0,1.9502000000000001E-4,66.206000000000003,0,0]
[1965,2,12,0.88244,23.675999999999998,1.3551999999999999E-14,1.4939999999999999E-25,2.8383E-4,67.176000000000002,1.5357418068083948E-5,1.5357418068253253E-5]
[1965,2,13,0,0,0,0,2.8374999999999999E-4,67.176000000000002,0,0]
[1965,2,14,0,0,0,0,2.8368000000000002E-4,67.176000000000002,0,0]
[1965,2,15,0,0,0,0,2.8361E-4,67.176000000000002,0,0]
[1965,2,16,0,0,0,0,2.9293E-4,67.275999999999996,0,0]
[1965,2,17,0.79901,22.442,4.8211000000000002E-15,2.8392000000000001E-26,4.4606000000000002E-4,68.384,6.0338418793256661E-6,6.0338418793611991E-6]
[1965,2,18,0,0,0,0,4.4595000000000002E-4,68.384,0,0]
[1965,2,19,0,0,0,0,4.4583999999999997E-4,68.384,0,0]
[1965,2,20,0,0,0,0,4.4571999999999998E-4,68.384,0,0]
[1965,2,21,0,0,0,0,4.4560999999999998E-4,68.384,0,0]
[1965,2,22,0,0,0,0,4.4548999999999999E-4,68.384,0,0]
[1965,2,23,0,0,0,0,4.4537999999999999E-4,68.384,0,0]
[1965,2,24,8.9650999999999995E-2,0.70482,2.7605000000000002E-16,5.6723999999999997E-28,4.4527E-4,68.384,3.0791625302562159E-6,3.0791625302625433E-6]
[1965,2,25,0,0,0,0,4.4515000000000001E-4,68.384,0,0]
[1965,2,26,0,0,0,0,4.4504000000000001E-4,68.384,0,0]
[1965,2,27,0,0,0,0,4.4492000000000002E-4,68.384,0,0]
[1965,2,28,0,0,0,0,4.4481000000000002E-4,68.384,0,0]
[1965,3,1,0,0,0,0,4.4470000000000002E-4,68.384,0,0]
[1965,3,2,0,0,0,0,4.4457999999999998E-4,68.384,0,0]
[1965,3,3,7.7107E-4,1.7094E-3,1.1026999999999999E-18,1.0548999999999999E-30,4.4446999999999998E-4,68.384,1.4300906532480836E-6,1.4300906532494518E-6]
[1965,3,4,0.14635000000000001,2.1371000000000002,1.3103000000000001E-16,1.4938E-28,4.4434999999999999E-4,68.384,8.9531943969935088E-7,8.9531943970037176E-7]
[1965,3,5,0,0,0,0,4.4423999999999999E-4,68.384,0,0]
[1965,3,6,0,0,0,0,4.4412999999999999E-4,68.384,0,0]
[1965,3,7,0,0,0,0,4.4401E-4,68.384,0,0]
[1965,3,8,0,0,0,0,4.439E-4,68.384,0,0]
[1965,3,9,0,0,0,0,4.4379E-4,68.384,0,0]
[1965,3,10,0,0,0,0,4.4367000000000001E-4,68.384,0,0]
[1965,3,11,0,0,0,0,4.4356000000000002E-4,68.384,0,0]
[1965,3,12,0.76841000000000004,19.838000000000001,2.5730000000000001E-16,1.8564000000000001E-28,4.9731999999999999E-4,68.736999999999995,3.3484728204994731E-7,3.3484728205018882E-7]
[1965,3,13,0,0,0,0,4.9719E-4,68.736999999999995,0,0]
[1965,3,14,0,0,0,0,4.9706999999999996E-4,68.736999999999995,0,0]
[1965,3,15,0,0,0,0,4.9693999999999997E-4,68.736999999999995,0,0]
[1965,3,16,0,0,0,0,4.9680999999999998E-4,68.736999999999995,0,0]
[1965,3,17,1.2827999999999999,43.142000000000003,1.7426999999999999E-16,8.9066000000000001E-29,6.3641000000000001E-4,69.466999999999999,1.3585126286248832E-7,1.3585126286255773E-7]
[1965,3,18,0,0,0,0,6.3624999999999999E-4,69.466999999999999,{"$f":"IF(D1539=0,0,(F1539)/D1539*1000000*1000)","v":0},{"$f":"IF(D1539=0,0,(F1539+G1539)/D1539*1000000*1000)","v":0}]
[1965,3,19,0,0,0,0,6.3608999999999996E-4,69.466999999999999,0,0]
[1965,3,20,0,0,0,0,6.3592E-4,69.466999999999999,0,0]
[1965,3,21,0,0,0,0,6.3575999999999997E-4,69.466999999999999,0,0]
[1965,3,22,0,0,0,0,6.3560000000000005E-4,69.466999999999999,0,0]
[1965,3,23,0.24127000000000001,3.7831000000000001,1.4522E-17,3.0385999999999999E-30,6.3544000000000003E-4,69.466999999999999,6.0189828822481045E-8,6.0189828822493632E-8]
[1965,3,24,0.95147000000000004,31.132000000000001,2.8182E-17,5.7325E-30,8.4217000000000005E-4,70.305999999999997,2.9619430985737858E-8,2.9619430985743877E-8]
[1965,3,25,0,0,0,0,8.4196E-4,70.305999999999997,0,0]
[1965,3,26,0.90422999999999998,28.518000000000001,1.2675999999999999E-17,1.7785999999999998E-30,1.1555999999999999E-3,71.262,1.4018557225484665E-8,1.4018557225486632E-8]
[1965,3,27,0,0,0,0,1.1552999999999999E-3,71.262,0,0]
[1965,3,28,0,0,0,0,1.155E-3,71.262,0,0]
[1965,3,29,3.4778999999999997E-2,0.24579999999999999,3.1806E-19,1.9988E-32,1.1823999999999999E-3,71.344999999999999,9.1451738117829721E-9,9.1451738117835478E-9]
[1965,3,30,0,0,0,0,1.1820999999999999E-3,71.344999999999999,0,0]
[1965,3,31,0,0,0,0,1.1818E-3,71.344999999999999,0,0]
[1965,4,1,0,0,0,0,1.1815E-3,71.344999999999999,0,0]
[1965,4,2,0,0,0,0,1.1812000000000001E-3,71.344999999999999,0,0]
[1965,4,3,0.12209,1.5404,6.3538999999999998E-19,3.5993000000000002E-32,1.1808999999999999E-3,71.344999999999999,5.2042755344418047E-9,5.2042755344420992E-9]
[1965,4,4,0.54129000000000005,15.672000000000001,1.4606E-18,8.9101000000000002E-32,1.5805999999999999E-3,72.265000000000001,2.698368711781115E-9,2.6983687117812804E-9]
[1965,4,5,0.42908000000000002,11.398999999999999,6.1668E-19,2.7815999999999998E-32,2.0403999999999999E-3,73.105999999999995,1.4372145054535286E-9,1.4372145054535931E-9]
[1965,4,6,0,0,0,0,2.0398E-3,73.105999999999995,0,0]
[1965,4,7,0,0,0,0,2.0393E-3,73.105999999999995,0,0]
[1965,4,8,0,0,0,0,2.0387999999999999E-3,73.105999999999995,0,0]
[1965,4,9,0,0,0,0,2.0382999999999998E-3,73.105999999999995,0,0]
[1965,4,10,0,0,0,0,2.0378000000000002E-3,73.105999999999995,0,0]
[1965,4,11,0,0,0,0,2.0371999999999999E-3,73.105999999999995,0,0]
[1965,4,12,1.1820000000000001E-3,3.0373000000000002E-3,1.0029999999999999E-21,1.5382E-35,2.0366999999999998E-3,73.105999999999995,8.4856175972927226E-10,8.4856175972928529E-10]
[1965,4,13,0,0,0,0,2.0362000000000002E-3,73.105999999999995,0,0]
[1965,4,14,0,0,0,0,2.0357000000000001E-3,73.105999999999995,0,0]
[1965,4,15,0,0,0,0,2.0352E-3,73.105999999999995,0,0]
[1965,4,16,0,0,0,0,2.0346000000000001E-3,73.105999999999995,0,0]
[1965,4,17,0,0,0,0,2.0341000000000001E-3,73.105999999999995,0,0]
[1965,4,18,0,0,0,0,2.0336E-3,73.105999999999995,0,0]
[1965,4,19,0,0,0,0,2.0330999999999999E-3,73.105999999999995,0,0]
[1965,4,20,0,0,0,0,2.0325999999999999E-3,73.105999999999995,0,0]
[1965,4,21,0,0,0,0,2.032E-3,73.105999999999995,0,0]
[1965,4,22,0,0,0,0,2.0314999999999999E-3,73.105999999999995,0,0]
[1965,4,23,0,0,0,0,2.0309999999999998E-3,73.105999999999995,0,0]
[1965,4,24,0,0,0,0,2.0305000000000002E-3,73.105999999999995,0,0]
[1965,4,25,0,0,0,0,2.0300000000000001E-3,73.105999999999995,0,0]
[1965,4,26,0,0,0,0,2.0294000000000002E-3,73.105999999999995,0,0]
[1965,4,27,3.3852000000000001E-3,1.1545E-2,7.0369000000000004E-22,3.1083E-36,2.0289000000000001E-3,73.105999999999995,2.0787250384024578E-10,2.0787250384024671E-10]
[1965,4,28,0,0,0,0,2.0284000000000001E-3,73.105999999999995,0,0]
[1965,4,29,0,0,0,0,2.0279E-3,73.105999999999995,0,0]
[1965,4,30,0,0,0,0,2.0273999999999999E-3,73.105999999999995,0,0]
[1965,5,1,0,0,0,0,2.0268E-3,73.105999999999995,0,0]
[1965,5,2,0,0,0,0,2.0263E-3,73.105999999999995,0,0]
[1965,5,3,0,0,0,0,2.0257999999999999E-3,73.105999999999995,0,0]
[1965,5,4,0,0,0,0,2.0252999999999998E-3,73.105999999999995,0,0]
[1965,5,5,0,0,0,0,2.0248000000000002E-3,73.105999999999995,0,0]
[1965,5,6,0,0,0,0,2.0243000000000001E-3,73.105999999999995,0,0]
[1965,5,7,0,0,0,0,2.0236999999999998E-3,73.105999999999995,0,0]
[1965,5,8,0,0,0,0,2.0232000000000002E-3,73.105999999999995,0,0]
[1965,5,9,8.8089000000000001E-2,0.78764999999999996,7.7738000000000007E-21,2.5769999999999999E-35,2.0227000000000001E-3,73.105999999999995,8.8249384145580051E-11,8.8249384145580336E-11]
[1965,5,10,0,0,0,0,2.0222E-3,73.105999999999995,0,0]
[1965,5,11,0,0,0,0,2.0217E-3,73.105999999999995,0,0]
[1965,5,12,0,0,0,0,2.0211000000000001E-3,73.105999999999995,0,0]
[1965,5,13,0,0,0,0,2.0206E-3,73.105999999999995,0,0]
[1965,5,14,0,0,0,0,2.0200999999999999E-3,73.105999999999995,0,0]
[1965,5,15,0,0,0,0,2.0195999999999999E-3,73.105999999999995,0,0]
[1965,5,16,0,0,0,0,2.0190999999999998E-3,73.105999999999995,0,0]
[1965,5,17,0,0,0,0,2.0186000000000002E-3,73.105999999999995,0,0]
[1965,5,18,0,0,0,0,2.0179999999999998E-3,73.105999999999995,0,0]
[1965,5,19,0,0,0,0,2.0175000000000002E-3,73.105999999999995,0,0]
[1965,5,20,0.23022999999999999,2.7896999999999998,7.6198999999999997E-21,1.7141999999999999E-35,2.0170000000000001E-3,73.105999999999995,3.30969030969031E-11,3.3096903096903171E-11]
[1965,5,21,1.1509,39.588000000000001,1.9291E-20,5.3563000000000002E-35,2.0165000000000001E-3,73.105999999999995,{"$f":"IF(D1603=0,0,(F1603)/D1603*1000000*1000)","v":1.6761664784082024E-11},{"$f":"IF(D1603=0,0,(F1603+G1603)/D1603*1000000*1000)","v":1.6761664784082066E-11}]
[1965,5,22,0,0,0,0,2.016E-3,73.105999999999995,0,0]
[1965,5,23,0,0,0,0,2.0154999999999999E-3,73.105999999999995,0,0]
[1965,5,24,0,0,0,0,2.0149999999999999E-3,73.105999999999995,0,0]
[1965,5,25,0,0,0,0,2.0144E-3,73.105999999999995,0,0]
[1965,5,26,0,0,0,0,2.0138999999999999E-3,73.105999999999995,0,0]
[1965,5,27,0,0,0,0,2.0133999999999998E-3,73.105999999999995,0,0]
[1965,5,28,0,0,0,0,2.0129000000000002E-3,73.105999999999995,0,0]
[1965,5,29,0,0,0,0,2.0124000000000001E-3,73.105999999999995,0,0]
[1965,5,30,0,0,0,0,2.0119000000000001E-3,73.105999999999995,0,0]
[1965,5,31,0,0,0,0,2.0113000000000002E-3,73.105999999999995,0,0]
[1965,6,1,0,0,0,0,2.0108000000000001E-3,73.105999999999995,0,0]
[1965,6,2,0,0,0,0,2.0103E-3,73.105999999999995,0,0]
[1965,6,3,0,0,0,0,2.0098E-3,73.105999999999995,0,0]
[1965,6,4,0,0,0,0,2.0092999999999999E-3,73.105999999999995,0,0]
[1965,6,5,2.5263000000000001E-2,9.9936999999999998E-2,1.7152000000000001E-22,6.6810999999999997E-38,2.0087999999999998E-3,73.105999999999995,6.7893757669318757E-12,6.7893757669318789E-12]
[1965,6,6,0,0,0,0,2.0083000000000002E-3,73.105999999999995,0,0]
[1965,6,7,3.3956,106.56,8.4948000000000005E-21,4.4693000000000003E-36,2.0076999999999998E-3,73.105999999999995,2.5017080928260103E-12,2.5017080928260115E-12]
[1965,6,8,0,0,0,0,2.0072000000000002E-3,73.105999999999995,0,0]
[1965,6,9,0,0,0,0,2.0067000000000002E-3,73.105999999999995,0,0]
[1965,6,10,1.7815000000000001,45.774999999999999,1.8068E-21,6.5489E-37,2.0062000000000001E-3,73.105999999999995,1.014201515576761E-12,1.0142015155767614E-12]
[1965,6,11,2.0219999999999998,56.292999999999999,9.3924000000000009E-22,2.6401000000000001E-37,2.1833999999999998E-3,73.412999999999997,4.645103857566766E-13,4.645103857566767E-13]
[1965,6,12,0.69813999999999998,13.644,1.6802E-22,3.4599999999999998E-38,2.6538E-3,74.093999999999994,2.4066806084739453E-13,2.4066806084739458E-13]
[1965,6,13,0,0,0,0,2.6530999999999998E-3,74.093999999999994,0,0]
[1965,6,14,0,0,0,0,2.6524000000000001E-3,74.093999999999994,0,0]
[1965,6,15,0.68186000000000002,12.477,7.2527999999999997E-23,9.6425000000000004E-39,2.9510000000000001E-3,74.488,1.0636787610359895E-13,1.0636787610359898E-13]
[1965,6,16,0,0,0,0,2.9502E-3,74.488,0,0]
[1965,6,17,0,0,0,0,2.9494999999999999E-3,74.488,0,0]
[1965,6,18,0,0,0,0,2.9486999999999998E-3,74.488,0,0]
[1965,6,19,0,0,0,0,2.9480000000000001E-3,74.488,0,0]
[1965,6,20,0,0,0,0,2.9472000000000001E-3,74.488,0,0]
[1965,6,21,0,0,0,0,2.9464999999999999E-3,74.488,0,0]
[1965,6,22,0,0,0,0,2.9456999999999999E-3,74.488,0,0]
[1965,6,23,0,0,0,0,2.9448999999999999E-3,74.488,0,0]
[1965,6,24,5.7253999999999996E-4,3.6441000000000002E-4,3.4087E-26,8.8754000000000006E-43,2.9442000000000001E-3,74.488,5.9536451601634822E-14,5.9536451601634822E-14]
[1965,6,25,0,0,0,0,2.9434000000000001E-3,74.488,0,0]
[1965,6,26,0,0,0,0,2.9426999999999999E-3,74.488,0,0]
[1965,6,27,0,0,0,0,2.9418999999999999E-3,74.488,0,0]
[1965,6,28,0,0,0,0,2.9412000000000002E-3,74.488,0,0]
[1965,6,29,0,0,0,0,2.9404000000000001E-3,74.488,0,0]
[1965,6,30,0,0,0,0,2.9397E-3,74.488,0,0]
[1965,7,1,0,0,0,0,2.9388999999999999E-3,74.488,0,0]
[1965,7,2,0,0,0,0,2.9382000000000002E-3,74.488,0,0]
[1965,7,3,0.29582999999999998,1.1603000000000001,4.7402999999999997E-24,7.9757999999999999E-41,2.9374000000000002E-3,74.488,1.6023729844843323E-14,1.6023729844843323E-14]
[1965,7,4,0,0,0,0,2.9367E-3,74.488,0,0]
[1965,7,5,0.76912999999999998,5.6924000000000001,5.7130000000000002E-24,1.0003000000000001E-40,2.9359E-3,74.488,7.4278730513697299E-15,7.4278730513697299E-15]
[1965,7,6,0,0,0,0,2.9351999999999998E-3,74.488,0,0]
[1965,7,7,0,0,0,0,2.9344000000000002E-3,74.488,0,0]
[1965,7,8,0,0,0,0,2.9337E-3,74.488,0,0]
[1965,7,9,0,0,0,0,2.9329E-3,74.488,0,0]
[1965,7,10,0,0,0,0,2.9321999999999998E-3,74.488,0,0]
[1965,7,11,0,0,0,0,2.9313999999999998E-3,74.488,0,0]
[1965,7,12,0,0,0,0,2.9307000000000001E-3,74.488,0,0]
[1965,7,13,0,0,0,0,2.9299E-3,74.488,0,0]
[1965,7,14,0,0,0,0,2.9291999999999999E-3,74.488,0,0]
[1965,7,15,0.21207000000000001,0.75399000000000005,3.1531999999999998E-9,3.0737000000000002E-11,2.9283999999999998E-3,74.488,14.86867543735559,15.013613429527986]
[1965,7,16,0,0,0,0,2.9277000000000001E-3,74.488,0,0]
[1965,7,17,0,0,0,0,2.9269000000000001E-3,74.488,0,0]
[1965,7,18,0,0,0,0,2.9261999999999999E-3,74.488,0,0]
[1965,7,19,0,0,0,0,2.9253999999999999E-3,74.488,0,0]
[1965,7,20,0,0,0,0,2.9247000000000001E-3,74.488,0,0]
[1965,7,21,0,0,0,0,2.9239000000000001E-3,74.488,0,0]
[1965,7,22,0,0,0,0,2.9231999999999999E-3,74.488,0,0]
[1965,7,23,0,0,0,0,2.9223999999999999E-3,74.488,0,0]
[1965,7,24,4.3030000000000004E-3,3.8300999999999999E-3,5.0742999999999997E-11,1.2965000000000001E-13,2.9217000000000002E-3,74.488,{"$f":"IF(D1667=0,0,(F1667)/D1667*1000000*1000)","v":11.792470369509642},{"$f":"IF(D1667=0,0,(F1667+G1667)/D1667*1000000*1000)","v":11.822600511271204}]
[1965,7,25,2.3645,27.048999999999999,5.2251999999999997E-8,5.2708E-10,2.9209000000000001E-3,74.488,22.098540917741595,22.321454853034467]
[1965,7,26,0,0,0,0,2.9202E-3,74.488,0,0]
[1965,7,27,0,0,0,0,2.9193999999999999E-3,74.488,0,0]
[1965,7,28,0,0,0,0,2.9187000000000002E-3,74.488,0,0]
[1965,7,29,0,0,0,0,2.9179000000000002E-3,74.488,0,0]
[1965,7,30,0,0,0,0,2.9172E-3,74.488,0,0]
[1965,7,31,0,0,0,0,2.9164999999999998E-3,74.488,0,0]
[1965,8,1,0,0,0,0,2.9156999999999998E-3,74.488,0,0]
[1965,8,2,0,0,0,0,2.9150000000000001E-3,74.488,0,0]
[1965,8,3,0,0,0,0,2.9142E-3,74.488,0,0]
[1965,8,4,0,0,0,0,2.9134999999999999E-3,74.488,0,0]
[1965,8,5,0,0,0,0,2.9126999999999998E-3,74.488,0,0]
[1965,8,6,0,0,0,0,2.9120000000000001E-3,74.488,0,0]
[1965,8,7,0,0,0,0,2.9112000000000001E-3,74.488,0,0]
[1965,8,8,8.8173999999999995E-3,1.3001E-2,1.5171000000000001E-10,2.8563000000000002E-13,2.9104999999999999E-3,74.488,17.205752262571735,17.238146165536332]
[1965,8,9,0,0,0,0,2.9096999999999999E-3,74.488,0,0]
[1965,8,10,0,0,0,0,2.9090000000000001E-3,74.488,0,0]
[1965,8,11,0,0,0,0,2.9082999999999999E-3,74.488,0,0]
[1965,8,12,0,0,0,0,2.9074999999999999E-3,74.488,0,0]
[1965,8,13,0,0,0,0,2.9068000000000002E-3,74.488,0,0]
[1965,8,14,0,0,0,0,2.9060000000000002E-3,74.488,0,0]
[1965,8,15,0,0,0,0,2.9053E-3,74.488,0,0]
[1965,8,16,0,0,0,0,2.9045E-3,74.488,0,0]
[1965,8,17,0,0,0,0,2.9037999999999998E-3,74.488,0,0]
[1965,8,18,0,0,0,0,2.9030000000000002E-3,74.488,0,0]
[1965,8,19,0,0,0,0,2.9023E-3,74.488,0,0]
[1965,8,20,0,0,0,0,2.9015999999999998E-3,74.488,0,0]
[1965,8,21,0,0,0,0,2.9007999999999998E-3,74.488,0,0]
[1965,8,22,0,0,0,0,2.9001000000000001E-3,74.488,0,0]
[1965,8,23,0,0,0,0,2.8993000000000001E-3,74.488,0,0]
[1965,8,24,0,0,0,0,2.8985999999999999E-3,74.488,0,0]
[1965,8,25,0,0,0,0,2.8979000000000001E-3,74.488,0,0]
[1965,8,26,8.1352999999999995E-2,0.32474999999999998,8.5084000000000003E-10,2.7510000000000001E-13,2.8971000000000001E-3,74.488,10.458618612712502,10.462000172089535]
[1965,8,27,0,0,0,0,2.8963999999999999E-3,74.488,0,0]
[1965,8,28,0,0,0,0,2.8955999999999999E-3,74.488,0,0]
[1965,8,29,0,0,0,0,2.8949000000000002E-3,74.488,0,0]
[1965,8,30,0,0,0,0,2.8941000000000001E-3,74.488,0,0]
[1965,8,31,0,0,0,0,2.8934E-3,74.488,0,0]
[1965,9,1,0,0,0,0,2.8926999999999998E-3,74.488,0,0]
[1965,9,2,9.6364000000000005E-2,0.40942000000000001,7.6701000000000002E-10,1.065E-13,2.8919000000000002E-3,74.488,7.9595076999709438,7.9606128844796809]
[1965,9,3,6.0865000000000002E-2,0.29712,4.281E-10,4.6421999999999999E-14,2.8912E-3,74.488,7.033598948492565,7.0343616528382471]
[1965,9,4,0,0,0,0,2.8904E-3,74.488,0,0]
[1965,9,5,0,0,0,0,2.8896999999999998E-3,74.488,0,0]
[1965,9,6,0,0,0,0,2.8890000000000001E-3,74.488,0,0]
[1965,9,7,0,0,0,0,2.8882000000000001E-3,74.488,0,0]
[1965,9,8,0,0,0,0,2.8874999999999999E-3,74.488,0,0]
[1965,9,9,0,0,0,0,2.8868000000000001E-3,74.488,0,0]
[1965,9,10,2.4323999999999999E-3,3.4803E-3,1.4130000000000001E-11,4.8379000000000002E-16,2.8860000000000001E-3,74.488,5.8090774543660588,5.8092763484624248]
[1965,9,11,0,0,0,0,2.8852999999999999E-3,74.488,0,0]
[1965,9,12,0,0,0,0,2.8844999999999999E-3,74.488,0,0]
[1965,9,13,0,0,0,0,2.8838000000000002E-3,74.488,0,0]
[1965,9,14,0,0,0,0,2.8831E-3,74.488,0,0]
[1965,9,15,0,0,0,0,2.8823E-3,74.488,0,0]
[1965,9,16,0,0,0,0,2.8815999999999998E-3,74.488,0,0]
[1965,9,17,0,0,0,0,2.8809E-3,74.488,0,0]
[1965,9,18,0,0,0,0,2.8801E-3,74.488,0,0]
[1965,9,19,0,0,0,0,2.8793999999999998E-3,74.488,0,0]
[1965,9,20,0,0,0,0,2.8785999999999998E-3,74.488,0,0]
[1965,9,21,0,0,0,0,2.8779000000000001E-3,74.488,0,0]
[1965,9,22,0,0,0,0,2.8771999999999999E-3,74.488,0,0]
[1965,9,23,0,0,0,0,2.8763999999999999E-3,74.488,0,0]
[1965,9,24,0,0,0,0,2.8757000000000001E-3,74.488,0,0]
[1965,9,25,0,0,0,0,2.875E-3,74.488,0,0]
[1965,9,26,0,0,0,0,2.8741999999999999E-3,74.488,{"$f":"IF(D1731=0,0,(F1731)/D1731*1000000*1000)","v":0},{"$f":"IF(D1731=0,0,(F1731+G1731)/D1731*1000000*1000)","v":0}]
[1965,9,27,0,0,0,0,2.8735000000000002E-3,74.488,0,0]
[1965,9,28,0,0,0,0,2.8728E-3,74.488,0,0]
[1965,9,29,0,0,0,0,2.872E-3,74.488,0,0]
[1965,9,30,1.4624999999999999,26.802,4.2932E-9,5.3471999999999998E-14,2.8712999999999998E-3,74.488,2.9355213675213676,2.9355579295726493]
[1965,10,1,2.4904999999999999,73.971000000000004,5.2121000000000002E-9,3.9737999999999997E-14,2.8831999999999998E-3,74.504999999999995,2.0927926119253164,2.0928085677574786]
[1965,10,2,0,0,0,0,2.8823999999999998E-3,74.504999999999995,0,0]
[1965,10,3,0,0,0,0,2.8817000000000001E-3,74.504999999999995,0,0]
[1965,10,4,0,0,0,0,2.8809999999999999E-3,74.504999999999995,0,0]
[1965,10,5,0,0,0,0,2.8801999999999999E-3,74.504999999999995,0,0]
[1965,10,6,0,0,0,0,2.8795000000000001E-3,74.504999999999995,0,0]
[1965,10,7,0,0,0,0,2.8787999999999999E-3,74.504999999999995,0,0]
[1965,10,8,0,0,0,0,2.8779999999999999E-3,74.504999999999995,0,0]
[1965,10,9,0,0,0,0,2.8773000000000002E-3,74.504999999999995,0,0]
[1965,10,10,0,0,0,0,2.8765000000000002E-3,74.504999999999995,0,0]
[1965,10,11,0,0,0,0,2.8758E-3,74.504999999999995,0,0]
[1965,10,12,0,0,0,0,2.8750999999999998E-3,74.504999999999995,0,0]
[1965,10,13,0,0,0,0,2.8743000000000002E-3,74.504999999999995,0,0]
[1965,10,14,0,0,0,0,2.8736E-3,74.504999999999995,0,0]
[1965,10,15,0,0,0,0,2.8728999999999998E-3,74.504999999999995,0,0]
[1965,10,16,0,0,0,0,2.8720999999999998E-3,74.504999999999995,0,0]
[1965,10,17,0,0,0,0,2.8714000000000001E-3,74.504999999999995,0,0]
[1965,10,18,0,0,0,0,2.8706999999999999E-3,74.504999999999995,0,0]
[1965,10,19,0,0,0,0,2.8698999999999999E-3,74.504999999999995,0,0]
[1965,10,20,0,0,0,0,2.8692000000000001E-3,74.504999999999995,0,0]
[1965,10,21,5.3359999999999998E-2,0.28587000000000001,6.1664000000000005E-11,3.6968000000000002E-17,2.8685E-3,74.504999999999995,1.1556221889055476,1.1556228817091456]
[1965,10,22,0,0,0,0,2.8676999999999999E-3,74.504999999999995,0,0]
[1965,10,23,0,0,0,0,2.8670000000000002E-3,74.504999999999995,0,0]
[1965,10,24,0,0,0,0,2.8663E-3,74.504999999999995,0,0]
[1965,10,25,0,0,0,0,2.8655E-3,74.504999999999995,0,0]
[1965,10,26,0,0,0,0,2.8647999999999998E-3,74.504999999999995,0,0]
[1965,10,27,0,0,0,0,2.8641000000000001E-3,74.504999999999995,0,0]
[1965,10,28,0,0,0,0,2.8633E-3,74.504999999999995,0,0]
[1965,10,29,0,0,0,0,2.8625999999999999E-3,74.504999999999995,0,0]
[1965,10,30,0,0,0,0,2.8619000000000001E-3,74.504999999999995,0,0]
[1965,10,31,0,0,0,0,2.8611000000000001E-3,74.504999999999995,0,0]
[1965,11,1,0,0,0,0,2.8603999999999999E-3,74.504999999999995,0,0]
[1965,11,2,0,0,0,0,2.8597000000000002E-3,74.504999999999995,0,0]
[1965,11,3,0,0,0,0,2.8589000000000002E-3,74.504999999999995,0,0]
[1965,11,4,0,0,0,0,2.8582E-3,74.504999999999995,0,0]
[1965,11,5,0,0,0,0,2.8574999999999998E-3,74.504999999999995,0,0]
[1965,11,6,0,0,0,0,2.8567000000000002E-3,74.504999999999995,0,0]
[1965,11,7,0,0,0,0,2.856E-3,74.504999999999995,0,0]
[1965,11,8,0,0,0,0,2.8552999999999999E-3,74.504999999999995,0,0]
[1965,11,9,0,0,0,0,2.8544999999999998E-3,74.504999999999995,0,0]
[1965,11,10,0,0,0,0,2.8538000000000001E-3,74.504999999999995,0,0]
[1965,11,11,0,0,0,0,2.8530999999999999E-3,74.504999999999995,0,0]
[1965,11,12,0,0,0,0,2.8524000000000002E-3,74.504999999999995,0,0]
[1965,11,13,0,0,0,0,2.8516000000000001E-3,74.504999999999995,0,0]
[1965,11,14,0,0,0,0,2.8509E-3,74.504999999999995,0,0]
[1965,11,15,0,0,0,0,2.8502000000000002E-3,74.504999999999995,0,0]
[1965,11,16,0,0,0,0,2.8494000000000002E-3,74.504999999999995,0,0]
[1965,11,17,0,0,0,0,2.8487E-3,74.504999999999995,0,0]
[1965,11,18,0,0,0,0,2.8479999999999998E-3,74.504999999999995,0,0]
[1965,11,19,0,0,0,0,2.8473000000000001E-3,74.504999999999995,0,0]
[1965,11,20,0,0,0,0,2.8465000000000001E-3,74.504999999999995,0,0]
[1965,11,21,0.66283000000000003,9.9202999999999992,3.9014999999999999E-10,9.9012000000000003E-17,2.8457999999999999E-3,74.504999999999995,0.58861246473454731,0.58861261411221577]
[1965,11,22,1.0009999999999999,22.742999999999999,4.1312000000000002E-10,7.3857999999999996E-17,2.8451000000000001E-3,74.504999999999995,0.41270729270729278,0.41270736649150852]
[1965,11,23,0,0,0,0,2.8443000000000001E-3,74.504999999999995,0,0]
[1965,11,24,0,0,0,0,2.8435999999999999E-3,74.504999999999995,0,0]
[1965,11,25,0,0,0,0,2.8429000000000002E-3,74.504999999999995,0,0]
[1965,11,26,0,0,0,0,2.8422E-3,74.504999999999995,0,0]
[1965,11,27,2.0108000000000001E-3,4.1007999999999999E-3,6.8225000000000005E-13,3.5132999999999999E-20,2.8414E-3,74.504999999999995,0.33929281877859557,0.33929283625074602]
[1965,11,28,0,0,0,0,2.8406999999999998E-3,74.504999999999995,0,0]
[1965,11,29,0,0,0,0,2.8400000000000001E-3,74.504999999999995,{"$f":"IF(D1795=0,0,(F1795)/D1795*1000000*1000)","v":0},{"$f":"IF(D1795=0,0,(F1795+G1795)/D1795*1000000*1000)","v":0}]
[1965,11,30,0,0,0,0,2.8392999999999999E-3,74.504999999999995,0,0]
[1965,12,1,0,0,0,0,2.8384999999999999E-3,74.504999999999995,0,0]
[1965,12,2,0,0,0,0,2.8378000000000001E-3,74.504999999999995,0,0]
[1965,12,3,0,0,0,0,2.8371E-3,74.504999999999995,0,0]
[1965,12,4,0,0,0,0,2.8362999999999999E-3,74.504999999999995,0,0]
[1965,12,5,0,0,0,0,2.8356000000000002E-3,74.504999999999995,0,0]
[1965,12,6,0,0,0,0,2.8349E-3,74.504999999999995,0,0]
[1965,12,7,0,0,0,0,2.8341999999999998E-3,74.504999999999995,0,0]
[1965,12,8,0,0,0,0,2.8333999999999998E-3,74.504999999999995,0,0]
[1965,12,9,0,0,0,0,2.8327000000000001E-3,74.504999999999995,0,0]
[1965,12,10,0,0,0,0,2.8319999999999999E-3,74.504999999999995,0,0]
[1965,12,11,0,0,0,0,2.8313000000000001E-3,74.504999999999995,0,0]
[1965,12,12,0.14480999999999999,1,2.9617999999999999E-11,7.6824E-19,2.8305000000000001E-3,74.504999999999995,0.20453007388992475,0.2045300791950832]
[1965,12,13,0,0,0,0,2.8297999999999999E-3,74.504999999999995,0,0]
[1965,12,14,0,0,0,0,2.8291000000000002E-3,74.504999999999995,0,0]
[1965,12,15,9.4311000000000006E-2,0.83733000000000002,1.4527000000000001E-11,3.0333999999999998E-19,2.8284E-3,74.504999999999995,0.15403293359205183,0.15403293680843169]
[1965,12,16,7.9636999999999999E-2,0.71650000000000003,9.6503000000000006E-12,1.465E-19,2.8276999999999998E-3,74.504999999999995,0.12117859788791643,0.1211785997275136]
[1965,12,17,0,0,0,0,2.8268999999999998E-3,74.504999999999995,0,0]
[1965,12,18,0,0,0,0,2.8262000000000001E-3,74.504999999999995,0,0]
[1965,12,19,0,0,0,0,2.8254999999999999E-3,74.504999999999995,0,0]
[1965,12,20,0,0,0,0,2.8248000000000001E-3,74.504999999999995,0,0]
[1965,12,21,0,0,0,0,2.8240000000000001E-3,74.504999999999995,0,0]
[1965,12,22,0,0,0,0,2.8232999999999999E-3,74.504999999999995,0,0]
[1965,12,23,0,0,0,0,2.8226000000000002E-3,74.504999999999995,0,0]
[1965,12,24,0,0,0,0,2.8219E-3,74.504999999999995,0,0]
[1965,12,25,8.1465999999999997E-2,0.58087999999999995,6.5825000000000003E-12,4.0039000000000001E-20,2.8211E-3,74.504999999999995,8.0800579382810017E-2,8.0800579874291123E-2]
[1965,12,26,0,0,0,0,2.8203999999999998E-3,74.504999999999995,0,0]
[1965,12,27,0,0,0,0,2.8197000000000001E-3,74.504999999999995,0,0]
[1965,12,28,0,0,0,0,2.8189999999999999E-3,74.504999999999995,0,0]
[1965,12,29,0,0,0,0,2.8183000000000001E-3,74.504999999999995,0,0]
[1965,12,30,0,0,0,0,2.8175000000000001E-3,74.504999999999995,0,0]
[1965,12,31,0,0,0,0,2.8167999999999999E-3,74.504999999999995,0,0]
[1966,1,1,0,0,0,0,2.8161000000000002E-3,74.504999999999995,0,0]
[1966,1,2,0,0,0,0,2.8154E-3,74.504999999999995,0,0]
[1966,1,3,0.1663,1.9601999999999999,7.5978999999999994E-12,2.5714000000000001E-20,2.8146999999999998E-3,74.504999999999995,4.5687913409500902E-2,4.568791356412507E-2]
[1966,1,4,0,0,0,0,2.8138999999999998E-3,74.504999999999995,0,0]
[1966,1,5,2.6505999999999998,95.366,6.1067000000000002E-11,1.3702000000000001E-19,3.5098999999999998E-3,75.295000000000002,2.3038934580849622E-2,2.3038934632543577E-2]
[1966,1,6,0,0,0,0,3.571E-3,75.364000000000004,0,0]
[1966,1,7,0,0,0,0,3.5701000000000001E-3,75.364000000000004,0,0]
[1966,1,8,0,0,0,0,3.5691999999999998E-3,75.364000000000004,0,0]
[1966,1,9,0,0,0,0,3.5682000000000001E-3,75.364000000000004,0,0]
[1966,1,10,0,0,0,0,3.5672999999999998E-3,75.364000000000004,0,0]
[1966,1,11,0,0,0,0,3.5664E-3,75.364000000000004,0,0]
[1966,1,12,0,0,0,0,3.5655000000000001E-3,75.364000000000004,0,0]
[1966,1,13,1.003E-3,1.8416000000000001E-3,1.6668E-14,9.8261000000000002E-24,3.5645999999999998E-3,75.364000000000004,1.661814556331007E-2,1.6618145573106782E-2]
[1966,1,14,0.51597999999999999,10.452999999999999,5.1058000000000003E-12,3.6447999999999997E-21,3.9484000000000003E-3,75.757000000000005,9.8953447808054588E-3,9.8953447878692979E-3]
[1966,1,15,2.3521999999999998,81.650999999999996,1.205E-11,5.5148E-21,5.8377999999999998E-3,77.132000000000005,5.1228637020661509E-3,5.12286370441068E-3]
[1966,1,16,0,0,0,0,5.8363E-3,77.132000000000005,0,0]
[1966,1,17,0,0,0,0,5.8348000000000002E-3,77.132000000000005,0,0]
[1966,1,18,0,0,0,0,5.8332999999999996E-3,77.132000000000005,0,0]
[1966,1,19,0,0,0,0,5.8317999999999998E-3,77.132000000000005,0,0]
[1966,1,20,0,0,0,0,5.8303000000000001E-3,77.132000000000005,0,0]
[1966,1,21,0,0,0,0,5.8288000000000003E-3,77.132000000000005,0,0]
[1966,1,22,9.8969000000000001E-2,0.79532000000000003,3.1148E-13,4.7417000000000003E-23,5.8272999999999997E-3,77.132000000000005,3.14724812820176E-3,3.1472481286808694E-3]
[1966,1,23,0,0,0,0,5.8259000000000002E-3,77.132000000000005,0,0]
[1966,1,24,0,0,0,0,5.8244000000000004E-3,77.132000000000005,0,0]
[1966,1,25,5.2245E-2,0.34721999999999997,1.1622000000000001E-13,1.2191999999999999E-23,6.2691999999999999E-3,77.436999999999998,2.2245190927361472E-3,2.2245190929695096E-3]
[1966,1,26,6.4746999999999999E-3,2.3295E-2,1.1238E-14,8.5674999999999992E-25,6.8674000000000001E-3,77.814999999999998,1.7356788731524241E-3,1.7356788732847466E-3]
[1966,1,27,0,0,0,0,6.8656000000000003E-3,77.814999999999998,0,0]
[1966,1,28,0,0,0,0,6.8639E-3,77.814999999999998,0,0]
[1966,1,29,6.6808999999999993E-2,0.47366999999999998,7.8603000000000003E-14,4.4703000000000001E-24,7.3730000000000002E-3,78.117000000000004,1.1765331018275982E-3,1.17653310189451E-3]
[1966,1,30,0,0,0,0,7.3711000000000002E-3,78.117000000000004,0,0]
[1966,1,31,0,0,0,0,7.3692000000000002E-3,78.117000000000004,0,0]
[1966,2,1,3.4563000000000003E-2,0.21395,2.9099000000000001E-14,1.2347000000000001E-24,7.9381999999999994E-3,78.433999999999997,{"$f":"IF(D1859=0,0,(F1859)/D1859*1000000*1000)","v":8.4191187107600612E-4},{"$f":"IF(D1859=0,0,(F1859+G1859)/D1859*1000000*1000)","v":8.4191187111172928E-4}]
[1966,2,2,0,0,0,0,7.9361999999999992E-3,78.433999999999997,0,0]
[1966,2,3,0,0,0,0,7.9340999999999995E-3,78.433999999999997,0,0]
[1966,2,4,0,0,0,0,7.9320999999999992E-3,78.433999999999997,0,0]
[1966,2,5,0,0,0,0,7.9301000000000007E-3,78.433999999999997,0,0]
[1966,2,6,0,0,0,0,7.9281000000000004E-3,78.433999999999997,0,0]
[1966,2,7,0,0,0,0,7.9260000000000008E-3,78.433999999999997,0,0]
[1966,2,8,0,0,0,0,7.9240000000000005E-3,78.433999999999997,0,0]
[1966,2,9,0,0,0,0,7.9220000000000002E-3,78.433999999999997,0,0]
[1966,2,10,6.0705000000000002E-2,0.41753000000000001,3.1406999999999999E-14,8.0837000000000002E-25,7.9199000000000006E-3,78.433999999999997,5.1737089201877933E-4,5.1737089203209561E-4]
[1966,2,11,0,0,0,0,7.9179000000000003E-3,78.433999999999997,0,0]
[1966,2,12,3.0531000000000001,126.27,7.3018000000000002E-13,2.1114000000000001E-23,9.9390999999999993E-3,79.358000000000004,2.3916019783171198E-4,2.3916019783862762E-4]
[1966,2,13,3.8563999999999998,171.98,4.2237E-13,7.2054999999999997E-24,1.43E-2,80.819999999999993,1.0952442692666736E-4,1.0952442692853581E-4]
[1966,2,14,0,0,0,0,1.4296E-2,80.819999999999993,0,0]
[1966,2,15,0.25901999999999997,4.4271000000000003,1.6780999999999999E-14,1.5853E-25,1.6747000000000001E-2,81.537999999999997,6.478650297274341E-5,6.4786502973355456E-5]
[1966,2,16,1.1735,37.777999999999999,3.8645999999999999E-14,2.9402E-25,2.1916999999999999E-2,82.744,3.2932253941201538E-5,3.2932253941452084E-5]
[1966,2,17,0,0,0,0,2.1911E-2,82.744,0,0]
[1966,2,18,0,0,0,0,2.1905000000000001E-2,82.744,0,0]
[1966,2,19,0,0,0,0,2.1899999999999999E-2,82.744,0,0]
[1966,2,20,0,0,0,0,2.1894E-2,82.744,0,0]
[1966,2,21,0,0,0,0,2.1888999999999999E-2,82.744,0,0]
[1966,2,22,0,0,0,0,2.1883E-2,82.744,0,0]
[1966,2,23,0,0,0,0,2.1877000000000001E-2,82.744,0,0]
[1966,2,24,0,0,0,0,2.1871999999999999E-2,82.744,0,0]
[1966,2,25,0,0,0,0,2.1866E-2,82.744,0,0]
[1966,2,26,0,0,0,0,2.1860999999999998E-2,82.744,0,0]
[1966,2,27,0,0,0,0,2.1854999999999999E-2,82.744,0,0]
[1966,2,28,0.36535000000000001,6.6623999999999999,4.5467000000000003E-15,1.0603E-26,2.1850000000000001E-2,82.744,1.2444778979061173E-5,1.2444778979090196E-5]
[1966,3,1,0,0,0,0,2.1843999999999999E-2,82.744,0,0]
[1966,3,2,0,0,0,0,2.1838E-2,82.744,0,0]
[1966,3,3,2.3416000000000001,94.977999999999994,1.1536E-14,2.1306999999999999E-26,2.6525E-2,83.676000000000002,4.9265459514861636E-6,4.9265459514952624E-6]
[1966,3,4,0.59640000000000004,15.816000000000001,1.5851000000000001E-15,1.9204E-27,3.1551999999999997E-2,84.539000000000001,2.6577800134138158E-6,2.6577800134170363E-6]
[1966,3,5,0,0,0,0,3.1544000000000003E-2,84.539000000000001,0,0]
[1966,3,6,0,0,0,0,3.1536000000000002E-2,84.539000000000001,0,0]
[1966,3,7,0,0,0,0,3.1528E-2,84.539000000000001,0,0]
[1966,3,8,0,0,0,0,3.1519999999999999E-2,84.539000000000001,0,0]
[1966,3,9,0,0,0,0,3.1511999999999998E-2,84.539000000000001,0,0]
[1966,3,10,0,0,0,0,3.1503999999999997E-2,84.539000000000001,0,0]
[1966,3,11,0,0,0,0,3.1496000000000003E-2,84.539000000000001,0,0]
[1966,3,12,0,0,0,0,3.1488000000000002E-2,84.539000000000001,0,0]
[1966,3,13,0,0,0,0,3.1480000000000001E-2,84.539000000000001,0,0]
[1966,3,14,6.1441000000000003E-2,0.44035999999999997,7.8482999999999998E-17,3.2915000000000002E-29,3.1470999999999999E-2,84.539000000000001,1.2773717875685616E-6,1.2773717875690974E-6]
[1966,3,15,6.7321000000000006E-2,0.58274999999999999,5.7109E-17,2.1462000000000001E-29,3.1462999999999998E-2,84.539000000000001,8.4830884865049537E-7,8.4830884865081407E-7]
[1966,3,16,0,0,0,0,3.1454999999999997E-2,84.539000000000001,0,0]
[1966,3,17,0,0,0,0,3.1447000000000003E-2,84.539000000000001,0,0]
[1966,3,18,0,0,0,0,3.1439000000000002E-2,84.539000000000001,0,0]
[1966,3,19,0,0,0,0,3.1431000000000001E-2,84.539000000000001,0,0]
[1966,3,20,0,0,0,0,3.1423E-2,84.539000000000001,0,0]
[1966,3,21,0,0,0,0,3.1414999999999998E-2,84.539000000000001,0,0]
[1966,3,22,0,0,0,0,3.1406999999999997E-2,84.539000000000001,0,0]
[1966,3,23,5.5931000000000002E-2,0.40914,2.1280000000000001E-17,3.614E-30,3.1399000000000003E-2,84.539000000000001,3.8046879190431067E-7,3.804687919043753E-7]
[1966,3,24,0,0,0,0,3.1391000000000002E-2,84.539000000000001,0,0]
[1966,3,25,0,0,0,0,3.1383000000000001E-2,84.539000000000001,0,0]
[1966,3,26,0,0,0,0,3.1375E-2,84.539000000000001,0,0]
[1966,3,27,0,0,0,0,3.1366999999999999E-2,84.539000000000001,0,0]
[1966,3,28,0,0,0,0,3.1358999999999998E-2,84.539000000000001,0,0]
[1966,3,29,0,0,0,0,3.1350999999999997E-2,84.539000000000001,0,0]
[1966,3,30,0,0,0,0,3.1343000000000003E-2,84.539000000000001,0,0]
[1966,3,31,0,0,0,0,3.1335000000000002E-2,84.539000000000001,0,0]
[1966,4,1,0,0,0,0,3.1327000000000001E-2,84.539000000000001,0,0]
[1966,4,2,0,0,0,0,3.1319E-2,84.539000000000001,0,0]
[1966,4,3,9.2390000000000007E-3,4.0925000000000003E-2,1.6341E-18,1.5005E-31,3.1310999999999999E-2,84.539000000000001,1.7686979110293322E-7,1.7686979110294945E-7]
[1966,4,4,0.89807999999999999,31.143999999999998,7.8703999999999997E-17,1.0606E-29,3.1302999999999997E-2,84.539000000000001,8.7635845358988059E-8,8.7635845358999865E-8]
[1966,4,5,0,0,0,0,3.1295000000000003E-2,84.539000000000001,0,0]
[1966,4,6,0,0,0,0,3.1287000000000002E-2,84.539000000000001,{"$f":"IF(D1923=0,0,(F1923)/D1923*1000000*1000)","v":0},{"$f":"IF(D1923=0,0,(F1923+G1923)/D1923*1000000*1000)","v":0}]
[1966,4,7,0,0,0,0,3.1279000000000001E-2,84.539000000000001,0,0]
[1966,4,8,0,0,0,0,3.1271E-2,84.539000000000001,0,0]
[1966,4,9,0,0,0,0,3.1262999999999999E-2,84.539000000000001,0,0]
[1966,4,10,0,0,0,0,3.1254999999999998E-2,84.539000000000001,0,0]
[1966,4,11,0,0,0,0,3.1247E-2,84.539000000000001,0,0]
[1966,4,12,0,0,0,0,3.1238999999999999E-2,84.539000000000001,0,0]
[1966,4,13,0,0,0,0,3.1230999999999998E-2,84.539000000000001,0,0]
[1966,4,14,0,0,0,0,3.1223000000000001E-2,84.539000000000001,0,0]
[1966,4,15,0,0,0,0,3.1215E-2,84.539000000000001,0,0]
[1966,4,16,0,0,0,0,3.1206999999999999E-2,84.539000000000001,0,0]
[1966,4,17,0,0,0,0,3.1199000000000001E-2,84.539000000000001,0,0]
[1966,4,18,0,0,0,0,3.1191E-2,84.539000000000001,0,0]
[1966,4,19,0,0,0,0,3.1182999999999999E-2,84.539000000000001,0,0]
[1966,4,20,0,0,0,0,3.1175000000000001E-2,84.539000000000001,0,0]
[1966,4,21,0,0,0,0,3.1167E-2,84.539000000000001,0,0]
[1966,4,22,4.4149000000000002E-3,1.8164E-2,1.4867999999999999E-19,4.1877999999999998E-33,3.1158999999999999E-2,84.539000000000001,3.3676866973204369E-8,3.3676866973205322E-8]
[1966,4,23,0,0,0,0,3.1151000000000002E-2,84.539000000000001,0,0]
[1966,4,24,0,0,0,0,3.1143000000000001E-2,84.539000000000001,0,0]
[1966,4,25,0,0,0,0,3.1134999999999999E-2,84.539000000000001,0,0]
[1966,4,26,0.74963999999999997,22.329000000000001,1.0391E-17,3.4279000000000001E-31,3.1126999999999998E-2,84.539000000000001,1.3861320100314817E-8,1.3861320100315274E-8]
[1966,4,27,1.2548999999999999,49.595999999999997,8.0601999999999997E-18,2.1568000000000001E-31,3.1119000000000001E-2,84.539000000000001,6.4229819109092366E-9,6.4229819109094087E-9]
[1966,4,28,0,0,0,0,3.1111E-2,84.539000000000001,0,0]
[1966,4,29,0,0,0,0,3.1102999999999999E-2,84.539000000000001,0,0]
[1966,4,30,0,0,0,0,3.1095000000000001E-2,84.539000000000001,0,0]
[1966,5,1,0,0,0,0,3.1087E-2,84.539000000000001,0,0]
[1966,5,2,0,0,0,0,3.1078999999999999E-2,84.539000000000001,0,0]
[1966,5,3,0,0,0,0,3.1071000000000001E-2,84.539000000000001,0,0]
[1966,5,4,0,0,0,0,3.1063E-2,84.539000000000001,0,0]
[1966,5,5,0,0,0,0,3.1056E-2,84.539000000000001,0,0]
[1966,5,6,0,0,0,0,3.1047999999999999E-2,84.539000000000001,0,0]
[1966,5,7,0,0,0,0,3.1040000000000002E-2,84.539000000000001,0,0]
[1966,5,8,0,0,0,0,3.1032000000000001E-2,84.539000000000001,0,0]
[1966,5,9,0,0,0,0,3.1023999999999999E-2,84.539000000000001,0,0]
[1966,5,10,0,0,0,0,3.1015999999999998E-2,84.539000000000001,0,0]
[1966,5,11,0,0,0,0,3.1008000000000001E-2,84.539000000000001,0,0]
[1966,5,12,0.25520999999999999,3.6425000000000001,6.0371999999999997E-19,5.8998E-33,3.1E-2,84.539000000000001,2.3655812859997647E-9,2.3655812859997878E-9]
[1966,5,13,1.1931,47.052,1.4253E-18,1.6947E-32,3.0991999999999999E-2,84.539000000000001,1.1946190595926577E-9,1.194619059592672E-9]
[1966,5,14,0,0,0,0,3.0984000000000001E-2,84.539000000000001,0,0]
[1966,5,15,0,0,0,0,3.0976E-2,84.539000000000001,0,0]
[1966,5,16,1.1706000000000001,37.270000000000003,5.7987E-19,3.9806999999999998E-33,3.0967999999999999E-2,84.539000000000001,4.9536135315222965E-10,4.9536135315223296E-10]
[1966,5,17,0,0,0,0,3.0960000000000001E-2,84.539000000000001,0,0]
[1966,5,18,0,0,0,0,3.0952E-2,84.539000000000001,0,0]
[1966,5,19,0.54639000000000004,14.45,1.3012E-19,6.1622E-34,3.0943999999999999E-2,84.539000000000001,2.3814491480444364E-10,2.3814491480444483E-10]
[1966,5,20,0,0,0,0,3.0936999999999999E-2,84.539000000000001,0,0]
[1966,5,21,1.9655,78.221000000000004,1.9877000000000001E-19,7.0399000000000002E-34,3.5173000000000003E-2,85.206000000000003,1.0112948359196135E-10,1.0112948359196169E-10]
[1966,5,22,0,0,0,0,3.5164000000000001E-2,85.206000000000003,0,0]
[1966,5,23,0,0,0,0,3.5154999999999999E-2,85.206000000000003,0,0]
[1966,5,24,0,0,0,0,3.5145999999999997E-2,85.206000000000003,0,0]
[1966,5,25,0,0,0,0,3.5137000000000002E-2,85.206000000000003,0,0]
[1966,5,26,0.62331999999999999,15.388,2.7177999999999997E-20,5.7254E-35,3.5128E-2,85.206000000000003,4.3602002181864849E-11,4.3602002181864946E-11]
[1966,5,27,2.9714000000000001E-2,0.19914000000000001,9.1774000000000004E-22,1.0605E-36,3.5917999999999999E-2,85.328999999999994,3.0885777747862963E-11,3.0885777747863002E-11]
[1966,5,28,0,0,0,0,3.5909000000000003E-2,85.328999999999994,0,0]
[1966,5,29,0,0,0,0,3.5900000000000001E-2,85.328999999999994,0,0]
[1966,5,30,0,0,0,0,3.5889999999999998E-2,85.328999999999994,0,0]
[1966,5,31,0,0,0,0,3.5881000000000003E-2,85.328999999999994,0,0]
[1966,6,1,0,0,0,0,3.5872000000000001E-2,85.328999999999994,0,0]
[1966,6,2,0,0,0,0,3.5862999999999999E-2,85.328999999999994,0,0]
[1966,6,3,0,0,0,0,3.5853999999999997E-2,85.328999999999994,0,0]
[1966,6,4,0,0,0,0,3.5845000000000002E-2,85.328999999999994,0,0]
[1966,6,5,0,0,0,0,3.5834999999999999E-2,85.328999999999994,0,0]
[1966,6,6,0,0,0,0,3.5825999999999997E-2,85.328999999999994,0,0]
[1966,6,7,0,0,0,0,3.5817000000000002E-2,85.328999999999994,0,0]
[1966,6,8,0,0,0,0,3.5808E-2,85.328999999999994,0,0]
[1966,6,9,3.1167E-4,3.0563999999999998E-4,5.3448000000000003E-24,2.2518999999999999E-39,3.5798999999999997E-2,85.328999999999994,{"$f":"IF(D1987=0,0,(F1987)/D1987*1000000*1000)","v":1.714890749831553E-11},{"$f":"IF(D1987=0,0,(F1987+G1987)/D1987*1000000*1000)","v":1.7148907498315534E-11}]
[1966,6,10,0,0,0,0,3.5790000000000002E-2,85.328999999999994,0,0]
[1966,6,11,0,0,0,0,3.5779999999999999E-2,85.328999999999994,0,0]
[1966,6,12,0,0,0,0,3.5770999999999997E-2,85.328999999999994,0,0]
[1966,6,13,0,0,0,0,3.5762000000000002E-2,85.328999999999994,0,0]
[1966,6,14,5.6596E-2,0.27388000000000001,4.7049000000000004E-22,1.7597E-37,3.5753E-2,85.328999999999994,8.3131316700826931E-12,8.3131316700826947E-12]
[1966,6,15,4.4153999999999999E-2,0.23064999999999999,2.5665000000000002E-22,8.9145000000000001E-38,3.5743999999999998E-2,85.328999999999994,5.8126104090229661E-12,5.8126104090229686E-12]
[1966,6,16,0,0,0,0,3.5735000000000003E-2,85.328999999999994,0,0]
[1966,6,17,0,0,0,0,3.5726000000000001E-2,85.328999999999994,0,0]
[1966,6,18,0,0,0,0,3.5715999999999998E-2,85.328999999999994,0,0]
[1966,6,19,0,0,0,0,3.5707000000000003E-2,85.328999999999994,0,0]
[1966,6,20,0,0,0,0,3.5698000000000001E-2,85.328999999999994,0,0]
[1966,6,21,0,0,0,0,3.5688999999999999E-2,85.328999999999994,0,0]
[1966,6,22,0,0,0,0,3.5680000000000003E-2,85.328999999999994,0,0]
[1966,6,24,0,0,0,0,3.5661999999999999E-2,85.328999999999994,0,0]
[1966,6,29,1.0834999999999999,10.192,1.4278000000000001E-21,2.2745999999999999E-37,3.5616000000000002E-2,85.328999999999994,1.3177664974619291E-12,1.3177664974619293E-12]
[1966,7,4,1.2617,11.382999999999999,2.6257999999999998E-22,1.6397999999999999E-38,3.5709999999999999E-2,85.350999999999999,2.0811603392248554E-13,2.0811603392248554E-13]
[1966,7,5,0,0,0,0,3.5700000000000003E-2,85.350999999999999,0,0]
[1966,7,11,0,0,0,0,3.5645999999999997E-2,85.350999999999999,0,0]
[1966,7,16,6.4388000000000001E-2,0.14244999999999999,9.2788000000000001E-10,5.5500999999999999E-12,3.56E-2,85.350999999999999,14.410759768901038,14.496957507610114]
[1966,7,21,0,0,0,0,3.5555000000000003E-2,85.350999999999999,0,0]
[1966,7,22,0,0,0,0,3.5545E-2,85.350999999999999,0,0]
[1966,7,30,0,0,0,0,3.5472999999999998E-2,85.350999999999999,0,0]
[1966,8,2,0,0,0,0,3.5445999999999998E-2,85.350999999999999,0,0]
[1966,8,7,0,0,0,0,3.5400000000000001E-2,85.350999999999999,0,0]
[1966,8,8,0,0,0,0,3.5390999999999999E-2,85.350999999999999,0,0]
[1966,8,13,0,0,0,0,3.5346000000000002E-2,85.350999999999999,0,0]
[1966,8,16,0,0,0,0,3.5319000000000003E-2,85.350999999999999,0,0]
[1966,8,24,0,0,0,0,3.5247000000000001E-2,85.350999999999999,0,0]
[1966,8,25,3.9677999999999996E-3,5.9601000000000003E-3,2.2726E-11,6.9046999999999996E-16,3.5237999999999998E-2,85.350999999999999,5.7276072382680585,5.7277812566157573]
[1966,8,30,0,0,0,0,3.5193000000000002E-2,85.350999999999999,0,0]
[1966,9,4,0,0,0,0,3.5147999999999999E-2,85.350999999999999,0,0]
[1966,9,10,0,0,0,0,3.5094E-2,85.350999999999999,0,0]
[1966,9,11,0,0,0,0,3.5084999999999998E-2,85.350999999999999,0,0]
[1966,9,16,0,0,0,0,3.5040000000000002E-2,85.350999999999999,0,0]
[1966,9,23,0,0,0,0,3.4977000000000001E-2,85.350999999999999,0,0]
[1966,9,27,0,0,0,0,3.4941E-2,85.350999999999999,0,0]
[1966,9,28,0,0,0,0,3.4931999999999998E-2,85.350999999999999,0,0]
[1966,10,3,0,0,0,0,3.4888000000000002E-2,85.350999999999999,0,0]
[1966,10,8,0,0,0,0,3.4842999999999999E-2,85.350999999999999,0,0]
[1966,10,10,0,0,0,0,3.4825000000000002E-2,85.350999999999999,0,0]
[1966,10,15,1.4797,30.864999999999998,6.9665999999999995E-10,1.0827999999999999E-16,3.4780999999999999E-2,85.350999999999999,{"$f":"IF(D2115=0,0,(F2115)/D2115*1000000*1000)","v":0.47081165101033989},{"$f":"IF(D2115=0,0,(F2115+G2115)/D2115*1000000*1000)","v":0.4708117241873353}]
[1966,10,20,0,0,0,0,3.6459999999999999E-2,85.614999999999995,0,0]
[1966,10,25,0,0,0,0,5.0688999999999998E-2,87.391000000000005,0,0]
[1966,10,29,0,0,0,0,5.0637000000000001E-2,87.391000000000005,0,0]
[1966,11,1,0.12817999999999999,0.87029000000000001,7.0416999999999998E-12,3.4398999999999999E-20,5.0597999999999997E-2,87.391000000000005,5.4936027461382438E-2,5.4936027729747226E-2]
[1966,11,6,0,0,0,0,5.1720000000000002E-2,87.528000000000006,0,0]
[1966,11,11,0.14657000000000001,1.5129999999999999,1.3161E-12,1.1277000000000001E-21,7.1278999999999995E-2,89.364999999999995,8.9793272838916572E-3,8.9793272915855895E-3]
[1966,11,16,0,0,0,0,7.1188000000000001E-2,89.364999999999995,0,0]
[1966,11,18,0,0,0,0,7.1152000000000007E-2,89.364999999999995,0,0]
[1966,11,23,0,0,0,0,7.1060999999999999E-2,89.364999999999995,0,0]
[1966,11,28,0,0,0,0,7.0970000000000005E-2,89.364999999999995,0,0]
[1966,12,3,0,0,0,0,7.0878999999999998E-2,89.364999999999995,0,0]
[1966,12,4,0,0,0,0,7.0860999999999993E-2,89.364999999999995,0,0]
[1966,12,10,2.0709,60.71,4.9529E-12,1.002E-21,7.0751999999999995E-2,89.364999999999995,2.3916654594620698E-3,2.3916654599459171E-3]
[1966,12,15,0,0,0,0,7.0662000000000003E-2,89.364999999999995,0,0]
[1966,12,20,0,0,0,0,7.0570999999999995E-2,89.364999999999995,0,0]
[1966,12,23,6.3394000000000006E-2,0.38678000000000001,8.8197000000000003E-14,5.2191999999999999E-24,7.0516999999999996E-2,89.364999999999995,1.3912515380004415E-3,1.3912515380827711E-3]
[1966,12,27,0,0,0,0,7.0444999999999994E-2,89.364999999999995,0,0]
[1967,1,1,0.24565000000000001,3.8332999999999999,5.4426000000000002E-14,1.1873999999999999E-24,8.8026999999999994E-2,90.742000000000004,2.2155912884184819E-4,2.2155912884668186E-4]
[1967,1,6,0,0,0,0,8.7914000000000006E-2,90.742000000000004,0,0]
[1967,1,7,0.38117000000000001,6.5095999999999998,4.4562999999999998E-14,6.0667000000000004E-25,9.4451999999999994E-2,91.206000000000003,1.1691108954010019E-4,1.1691108954169182E-4]
[1967,1,15,0,0,0,0,0.14574000000000001,94.046999999999997,0,0]
[1967,1,18,0,0,0,0,0.14563000000000001,94.046999999999997,0,0]
[1967,1,23,0,0,0,0,0.14544000000000001,94.046999999999997,0,0]
[1967,1,24,0,0,0,0,0.1454,94.046999999999997,0,0]
[1967,1,28,0,0,0,0,0.15451000000000001,94.494,0,0]
[1967,2,4,0,0,0,0,0.15423000000000001,94.494,0,0]
[1967,2,9,7.6765999999999996E-3,3.0138000000000002E-2,7.4794000000000004E-18,2.4066999999999999E-30,0.16941999999999999,95.188999999999993,9.7431154417320181E-7,9.7431154417351542E-7]
[1967,2,10,0,0,0,0,0.16938,95.188999999999993,0,0]
[1967,2,16,0,0,0,0,0.18053,95.673000000000002,0,0]
[1967,2,21,0,0,0,0,0.20654,96.676000000000002,0,0]
[1967,2,26,0,0,0,0,0.20627999999999999,96.676000000000002,0,0]
[1967,2,27,0,0,0,0,0.20623,96.676000000000002,0,0]
[1967,3,4,0,0,0,0,0.20596,96.676000000000002,0,0]
[1967,3,11,0,0,0,0,0.22645999999999999,97.418999999999997,0,0]
[1967,3,15,0,0,0,0,0.22622999999999999,97.418999999999997,0,0]
[1967,3,16,0,0,0,0,0.22617000000000001,97.418999999999997,0,0]
[1967,3,21,0,0,0,0,0.22588,97.418999999999997,0,0]
[1967,3,24,0,0,0,0,0.22570999999999999,97.418999999999997,0,0]
[1967,4,1,0,0,0,0,0.22525000000000001,97.418999999999997,0,0]
[1967,4,2,0,0,0,0,0.22519,97.418999999999997,0,0]
[1967,4,7,0,0,0,0,0.22489999999999999,97.418999999999997,0,0]
[1967,4,12,0,0,0,0,0.22461,97.418999999999997,0,0]
[1967,4,18,0,0,0,0,0.22427,97.418999999999997,0,0]
[1967,4,19,0,0,0,0,0.22420999999999999,97.418999999999997,0,0]
[1967,4,24,0.42908000000000002,11.504,3.6601999999999998E-19,2.2011000000000001E-33,0.22392999999999999,97.418999999999997,8.5303439917964017E-10,8.5303439917964524E-10]
[1967,4,29,0,0,0,0,0.22364000000000001,97.418999999999997,0,0]
[1967,5,5,0,0,0,0,0.2233,97.418999999999997,0,0]
[1967,5,6,0.32755000000000001,8.0153999999999996,2.7253999999999999E-20,4.7801000000000001E-35,0.22323999999999999,97.418999999999997,8.3205617462982746E-11,8.3205617462982901E-11]
[1967,5,11,0,0,0,0,0.22295000000000001,97.418999999999997,0,0]
[1967,5,16,0,0,0,0,0.22267000000000001,97.418999999999997,0,0]
[1967,5,18,0,0,0,0,0.22255,97.418999999999997,0,0]
[1967,5,23,0,0,0,0,0.22227,97.418999999999997,0,0]
[1967,5,28,0,0,0,0,0.22198999999999999,97.418999999999997,0,0]
[1967,6,2,0,0,0,0,0.22170000000000001,97.418999999999997,0,0]
[1967,6,6,0,0,0,0,0.22147,97.418999999999997,0,0]
[1967,6,9,0,0,0,0,0.22131000000000001,97.418999999999997,0,0]
[1967,6,14,0,0,0,0,0.22101999999999999,97.418999999999997,0,0]
[1967,6,19,0,0,0,0,0.22073999999999999,97.418999999999997,0,0]
[1967,6,24,4.6343000000000001E-3,6.4457000000000004E-3,5.3396000000000003E-25,4.0729E-42,0.22045999999999999,97.418999999999997,1.1521912694473816E-13,1.1521912694473816E-13]
[1967,6,29,0.24126,1.5417000000000001,1.0818999999999999E-23,6.8255000000000004E-41,0.22017999999999999,97.418999999999997,4.4843737047169026E-14,4.4843737047169026E-14]
[1967,7,1,0,0,0,0,0.22006000000000001,97.418999999999997,0,0]
[1967,7,6,0,0,0,0,0.21978,97.418999999999997,0,0]
[1967,7,11,0,0,0,0,0.2195,97.418999999999997,0,0]
[1967,7,12,0,0,0,0,0.21944,97.418999999999997,0,0]
[1967,7,18,0,0,0,0,0.21911,97.418999999999997,0,0]
[1967,7,23,0.21521000000000001,1.1072,2.5382000000000002E-9,1.6171E-11,0.21883,97.418999999999997,11.794061614237256,11.869202174620138]
[1967,7,28,0,0,0,0,0.21854999999999999,97.418999999999997,0,0]
[1967,7,29,0.39249000000000001,2.3906000000000001,7.9463000000000002E-9,3.5748999999999997E-11,0.21848999999999999,97.418999999999997,20.245866136716863,20.336948712069098]
[1967,8,4,6.5561999999999995E-2,0.18351999999999999,1.0169000000000001E-9,1.1785000000000001E-12,0.21815999999999999,97.418999999999997,15.510509136389985,15.52848448796559]
[1967,8,9,0,0,0,0,0.21787999999999999,97.418999999999997,0,0]
[1967,8,14,0,0,0,0,0.21759999999999999,97.418999999999997,0,0]
[1967,8,15,0,0,0,0,0.21754000000000001,97.418999999999997,0,0]
[1967,8,23,5.8258999999999999,155.46,1.7264000000000002E-8,5.0434000000000005E-13,0.27778999999999998,99.369,2.9633189721759732,2.9634055407748159]
[1967,8,26,0.17760999999999999,1.4089,3.0649999999999998E-10,1.7902000000000002E-15,0.31946999999999998,100.54,1.7256911209954395,1.7257012003828611]
[1967,8,31,0,0,0,0,0.32565,100.72,{"$f":"IF(D2435=0,0,(F2435)/D2435*1000000*1000)","v":0},{"$f":"IF(D2435=0,0,(F2435+G2435)/D2435*1000000*1000)","v":0}]
[1967,9,1,0,0,0,0,0.32556000000000002,100.72,0,0]
[1967,9,5,0,0,0,0,0.32523000000000002,100.72,0,0]
[1967,9,12,0,0,0,0,0.32464999999999999,100.72,0,0]
[1967,9,17,0,0,0,0,0.32423000000000002,100.72,0,0]
[1967,9,18,0,0,0,0,0.32414999999999999,100.72,0,0]
[1967,9,23,0,0,0,0,0.32374000000000003,100.72,0,0]
[1967,9,28,0,0,0,0,0.32332,100.72,0,0]
[1967,10,4,0,0,0,0,0.32283000000000001,100.72,0,0]
[1967,10,5,0,0,0,0,0.32274000000000003,100.72,0,0]
[1967,10,10,0,0,0,0,0.32233000000000001,100.72,0,0]
[1967,10,17,0,0,0,0,0.32174999999999998,100.72,0,0]
[1967,10,21,0,0,0,0,0.32141999999999998,100.72,0,0]
[1967,10,22,0,0,0,0,0.32134000000000001,100.72,0,0]
[1967,10,27,0,0,0,0,0.32092999999999999,100.72,0,0]
[1967,10,30,0,0,0,0,0.32068999999999998,100.72,0,0]
[1967,11,7,0,0,0,0,0.32002999999999998,100.72,0,0]
[1967,11,8,0,0,0,0,0.31995000000000001,100.72,0,0]
[1967,11,13,0,0,0,0,0.31953999999999999,100.72,0,0]
[1967,11,18,0,0,0,0,0.31913000000000002,100.72,0,0]
[1967,11,22,0,0,0,0,0.31879999999999997,100.72,0,0]
[1967,11,25,0,0,0,0,0.31856000000000001,100.72,0,0]
[1967,11,30,6.3929999999999998E-4,9.3886000000000002E-4,6.1768999999999999E-15,3.3365000000000002E-24,0.31814999999999999,100.72,9.6619740340997962E-3,9.6619740393187846E-3]
[1967,12,5,0,0,0,0,0.32325999999999999,100.87,0,0]
[1967,12,11,2.1131000000000002,64.91,3.8622000000000002E-12,8.5875E-22,0.36863000000000001,102.02,1.8277412332591927E-3,1.8277412336655861E-3]
[1967,12,12,0,0,0,0,0.36853000000000002,102.02,0,0]
[1967,12,17,0,0,0,0,0.39177000000000001,102.59,0,0]
[1967,12,22,0.30327999999999999,4.9946000000000002,6.8726999999999998E-14,2.2718E-24,0.49545,104.79,2.2661237140596149E-4,2.2661237141345224E-4]
[1967,12,27,8.1870999999999992E-3,2.8098999999999999E-2,1.4344E-15,2.0343000000000001E-26,0.49481999999999998,104.79,1.7520245263890756E-4,1.7520245264139234E-4]
[1967,12,29,0,0,0,0,0.50763999999999998,105.04,0,0]
[1968,1,3,0,0,0,0,0.57594000000000001,106.31,0,0]
[1968,1,8,0,0,0,0,0.67956000000000005,108.01,0,0]
[1968,1,13,0,0,0,0,0.82667000000000002,110.11,0,0]
[1968,1,16,0,0,0,0,0.82604,110.11,0,0]
[1968,1,20,0,0,0,0,0.82518999999999998,110.11,0,0]
[1968,1,25,0,0,0,0,0.82413999999999998,110.11,0,0]
[1968,1,30,0,0,0,0,0.82308000000000003,110.11,0,0]
[1968,2,4,0,0,0,0,0.82203000000000004,110.11,0,0]
[1968,2,6,0,0,0,0,0.82160999999999995,110.11,0,0]
[1968,2,11,0,0,0,0,0.82055999999999996,110.11,0,0]
[1968,2,16,0,0,0,0,0.81950999999999996,110.11,0,0]
[1968,2,17,0,0,0,0,0.81930000000000003,110.11,0,0]
[1968,2,22,0,0,0,0,0.81825000000000003,110.11,0,0]
[1968,2,28,8.5337E-4,1.5552000000000001E-3,3.8791E-19,5.4329E-32,0.81699999999999995,110.11,4.5456249926760961E-7,4.5456249926767329E-7]
[1968,3,4,0,0,0,0,0.81594999999999995,110.11,0,0]
[1968,3,5,0,0,0,0,0.81574000000000002,110.11,0,0]
[1968,3,11,0.41004000000000002,9.4679000000000002,2.0854E-17,2.2225000000000001E-30,0.81449000000000005,110.11,5.0858452833869866E-8,5.0858452833875279E-8]
[1968,3,16,1.0066E-4,1.1972E-4,1.5558999999999999E-21,3.9398000000000001E-35,0.88410999999999995,111.04,1.5456983906218956E-8,1.5456983906219347E-8]
[1968,3,21,0,0,0,0,0.88297999999999999,111.04,0,0]
[1968,3,22,3.5199000000000001E-2,0.22212999999999999,2.6193000000000002E-19,5.1475000000000002E-33,0.88275000000000003,111.04,7.4414045853575385E-9,7.4414045853576857E-9]
[1968,3,30,0,0,0,0,0.88093999999999995,111.04,0,0]
[1968,4,2,0,0,0,0,0.88027,111.04,0,0]
[1968,4,7,0,0,0,0,0.88939000000000001,111.18,0,0]
[1968,4,8,0,0,0,0,0.88917000000000002,111.18,0,0]
[1968,4,13,0,0,0,0,0.88802999999999999,111.18,0,0]
[1968,4,16,0,0,0,0,0.88734999999999997,111.18,0,0]
[1968,4,24,4.5789000000000003E-2,0.34194000000000002,5.1606999999999997E-21,1.0397000000000001E-35,0.88553000000000004,111.18,1.127061084539955E-10,1.1270610845399571E-10]
[1968,4,25,0,0,0,0,0.88531000000000004,111.18,0,0]
[1968,4,30,0,0,0,0,0.88417999999999997,111.18,0,0]
[1968,5,5,0,0,0,0,0.88305,111.18,0,0]
[1968,5,11,1.4645E-2,7.6399999999999996E-2,1.3105E-22,6.2533999999999996E-38,0.88168999999999997,111.18,8.9484465687948089E-12,8.9484465687948153E-12]
[1968,5,12,0.33905999999999997,8.2324000000000002,1.6026000000000001E-21,1.0899000000000001E-36,0.88146999999999998,111.18,4.7265970624668207E-12,4.7265970624668239E-12]
[1968,5,17,0.91932000000000003,29.25,4.2004E-22,1.0909E-37,0.91076000000000001,111.57,4.5690292825131617E-13,4.5690292825131627E-13]
[1968,5,24,0,0,0,0,0.95489000000000002,112.14,0,0]
[1968,5,28,0,0,0,0,0.95391999999999999,112.14,0,0]
[1968,5,29,0.78641000000000005,21.995999999999999,1.4943999999999999E-23,1.159E-39,0.95565,112.16,1.9002810238933886E-14,1.9002810238933886E-14]
[1968,6,3,0,0,0,0,0.95443,112.16,0,0]
[1968,6,8,0,0,0,0,0.95321,112.16,0,0]
[1968,6,10,0,0,0,0,0.95272000000000001,112.16,0,0]
[1968,6,15,0,0,0,0,0.95150000000000001,112.16,0,0]
[1968,6,20,0,0,0,0,0.95028999999999997,112.16,0,0]
[1968,6,25,0,0,0,0,0.94906999999999997,112.16,0,0]
[1968,6,29,0,0,0,0,0.94810000000000005,112.16,0,0]
[1968,7,2,0.66795000000000004,3.8567999999999998,1.5381000000000001E-25,4.0506000000000001E-43,0.94737000000000005,112.16,2.3027172692566807E-16,2.3027172692566807E-16]
[1968,7,7,0,0,0,0,0.94616,112.16,0,0]
[1968,7,12,0,0,0,0,0.94494999999999996,112.16,0,0]
[1968,7,17,0.49113000000000001,3.4230999999999998,5.9522999999999998E-9,4.2320999999999998E-11,0.94374999999999998,112.16,12.119601734774907,12.20577240241891]
[1968,7,22,0,0,0,0,0.94254000000000004,112.16,0,0]
[1968,7,24,0,0,0,0,0.94206000000000001,112.16,0,0]
[1968,7,29,0,0,0,0,0.94084999999999996,112.16,0,0]
[1968,8,3,0,0,0,0,0.93964999999999999,112.16,0,0]
[1968,8,4,0,0,0,0,0.93940999999999997,112.16,0,0]
[1968,8,10,0,0,0,0,0.93796999999999997,112.16,0,0]
[1968,8,15,0,0,0,0,0.93676999999999999,112.16,0,0]
[1968,8,20,0,0,0,0,0.93557000000000001,112.16,0,0]
[1968,8,23,0,0,0,0,0.93484999999999996,112.16,0,0]
[1968,8,27,0,0,0,0,0.93389999999999995,112.16,0,0]
[1968,9,1,7.9636999999999999E-2,0.45884000000000003,2.7499999999999998E-10,1.4493999999999999E-14,0.93269999999999997,112.16,3.4531687532177253,3.4533507540464861]
[1968,9,6,0,0,0,0,0.93150999999999995,112.16,0,0]
[1968,9,7,0,0,0,0,0.93127000000000004,112.16,0,0]
[1968,9,15,0,0,0,0,0.92937000000000003,112.16,0,0]
[1968,9,18,0.41559000000000001,5.3673999999999999,8.5727999999999996E-10,1.4279E-14,0.92864999999999998,112.16,{"$f":"IF(D2819=0,0,(F2819)/D2819*1000000*1000)","v":2.0628022810943478},{"$f":"IF(D2819=0,0,(F2819+G2819)/D2819*1000000*1000)","v":2.0628366394764068}]
[1968,9,23,0,0,0,0,0.92747000000000002,112.16,0,0]
[1968,9,24,0,0,0,0,0.92723,112.16,0,0]
[1968,9,28,0,0,0,0,0.92627999999999999,112.16,0,0]
[1968,10,5,0,0,0,0,0.92462,112.16,0,0]
[1968,10,10,0,0,0,0,0.92344000000000004,112.16,0,0]
[1968,10,11,0,0,0,0,0.92320999999999998,112.16,0,0]
[1968,10,17,0,0,0,0,0.92179,112.16,0,0]
[1968,10,22,0,0,0,0,0.92061000000000004,112.16,0,0]
[1968,10,27,0,0,0,0,0.91942999999999997,112.16,0,0]
[1968,10,28,0,0,0,0,0.91920000000000002,112.16,0,0]
[1968,11,2,0,0,0,0,0.91801999999999995,112.16,0,0]
[1968,11,9,0.81152000000000002,15.055999999999999,1.1592E-10,1.1255999999999999E-17,0.91637999999999997,112.16,0.14284305993690852,0.14284307380717665]
[1968,11,13,0,0,0,0,0.93384,112.4,0,0]
[1968,11,14,0,0,0,0,0.93359999999999999,112.4,0,0]
[1968,11,19,0,0,0,0,1.0464,113.78,0,0]
[1968,11,22,0,0,0,0,1.0456000000000001,113.78,0,0]
[1968,11,30,0,0,0,0,1.0434000000000001,113.78,0,0]
[1968,12,1,0.14066000000000001,1.2650999999999999,2.5784E-12,8.8180999999999995E-21,1.0431999999999999,113.78,1.8330726574719177E-2,1.8330726637410064E-2]
[1968,12,6,0,0,0,0,1.0543,113.92,0,0]
[1968,12,11,0,0,0,0,1.0529999999999999,113.92,0,0]
[1968,12,17,0,0,0,0,1.0513999999999999,113.92,0,0]
[1968,12,18,0,0,0,0,1.0510999999999999,113.92,0,0]
[1968,12,23,0,0,0,0,1.0819000000000001,114.3,0,0]
[1968,12,28,0.30935000000000001,4.7519999999999998,4.5983999999999999E-13,1.3905000000000001E-22,1.0805,114.3,1.4864716340714399E-3,1.4864716345209309E-3]
[1969,1,3,0,0,0,0,1.1175999999999999,114.73,0,0]
[1969,1,4,0,0,0,0,1.1173,114.73,0,0]
[1969,1,9,0,0,0,0,1.1158999999999999,114.73,0,0]
[1969,1,14,0,0,0,0,1.1144000000000001,114.73,0,0]
[1969,1,16,0,0,0,0,1.1138999999999999,114.73,0,0]
[1969,1,21,0,0,0,0,1.1746000000000001,115.42,0,0]
[1969,1,26,0,0,0,0,1.2424999999999999,116.15,0,0]
[1969,1,31,0,0,0,0,1.2870999999999999,116.63,0,0]
[1969,2,5,0,0,0,0,1.3202,116.98,0,0]
[1969,2,8,0.34055999999999997,6.5366999999999997,2.9631E-15,1.3319E-26,1.4651000000000001,118.37,8.7006694855532071E-6,8.7006694855923163E-6]
[1969,2,12,0,0,0,0,1.4636,118.37,0,0]
[1969,2,17,0,0,0,0,1.4986999999999999,118.71,0,0]
[1969,2,22,6.9720000000000004E-2,0.53813999999999995,1.1540000000000001E-16,1.0017E-28,1.4967999999999999,118.71,1.6551921973608723E-6,1.6551921973623086E-6]
[1969,2,27,0,0,0,0,1.4947999999999999,118.71,0,0]
[1969,3,1,0,0,0,0,1.4941,118.71,0,0]
[1969,3,6,0.54901,12.632999999999999,2.6514999999999998E-16,1.4476E-28,1.4922,118.71,4.8296023751844223E-7,4.8296023751870587E-7]
[1969,3,11,0,0,0,0,1.4903,118.71,0,0]
[1969,3,12,0,0,0,0,1.4899,118.71,0,0]
[1969,3,18,1.022,27.141999999999999,9.3350000000000003E-17,2.2938999999999999E-29,1.5316000000000001,119.11,9.134050880626222E-8,9.1340508806284679E-8]
[1969,3,23,9.5968999999999999E-2,0.84077000000000002,4.2248999999999998E-18,4.4669999999999998E-31,1.5297000000000001,119.11,4.4023590951244674E-8,4.4023590951249326E-8]
[1969,3,28,0,0,0,0,1.5277000000000001,119.11,0,0]
[1969,3,29,0,0,0,0,1.5273000000000001,119.11,{"$f":"IF(D3011=0,0,(F3011)/D3011*1000000*1000)","v":0},{"$f":"IF(D3011=0,0,(F3011+G3011)/D3011*1000000*1000)","v":0}]
[1969,4,4,0,0,0,0,1.5249999999999999,119.11,0,0]
[1969,4,9,0,0,0,0,1.5229999999999999,119.11,0,0]
[1969,4,14,1.0724,33.957999999999998,2.6492000000000001E-18,9.3703000000000003E-32,1.5210999999999999,119.11,2.4703468854904887E-9,2.4703468854905759E-9]
[1969,4,15,0.15545999999999999,2.6981999999999999,2.2856000000000001E-19,5.8271999999999997E-33,1.5206999999999999,119.11,1.4702174192718385E-9,1.4702174192718761E-9]
[1969,4,23,0,0,0,0,1.66,120.35,0,0]
[1969,4,26,0,0,0,0,1.6587000000000001,120.35,0,0]
[1969,5,1,0,0,0,0,1.6566000000000001,120.35,0,0]
[1969,5,2,0,0,0,0,1.6561999999999999,120.35,0,0]
[1969,5,6,0,0,0,0,1.6545000000000001,120.35,0,0]
[1969,5,13,0,0,0,0,1.6874,120.66,0,0]
[1969,5,18,0.89507000000000003,28.213999999999999,2.9516999999999999E-21,4.2950999999999999E-36,1.7992999999999999,121.59,3.2977309037282E-12,3.2977309037282044E-12]
[1969,5,19,0,0,0,0,1.7988999999999999,121.59,0,0]
[1969,5,24,0,0,0,0,1.7966,121.59,0,0]
[1969,5,29,0,0,0,0,1.7943,121.59,0,0]
[1969,6,4,0,0,0,0,1.7915000000000001,121.59,0,0]
[1969,6,5,0,0,0,0,1.7910999999999999,121.59,0,0]
[1969,6,10,0,0,0,0,1.7887999999999999,121.59,0,0]
[1969,6,17,0,0,0,0,1.7856000000000001,121.59,0,0]
[1969,6,21,0,0,0,0,1.7837000000000001,121.59,0,0]
[1969,6,22,0,0,0,0,1.7833000000000001,121.59,0,0]
[1969,6,27,0,0,0,0,1.7809999999999999,121.59,0,0]
[1969,7,2,0,0,0,0,1.7786999999999999,121.59,0,0]
[1969,7,5,0,0,0,0,1.7774000000000001,121.59,0,0]
[1969,7,9,0,0,0,0,1.7756000000000001,121.59,0,0]
[1969,7,14,0,0,0,0,1.7733000000000001,121.59,0,0]
[1969,7,19,0,0,0,0,1.7709999999999999,121.59,0,0]
[1969,7,23,0,0,0,0,1.7692000000000001,121.59,0,0]
[1969,7,26,0,0,0,0,1.7678,121.59,0,0]
[1969,7,31,0,0,0,0,1.7656000000000001,121.59,0,0]
[1969,8,5,0,0,0,0,1.7633000000000001,121.59,0,0]
[1969,8,11,0,0,0,0,1.7605999999999999,121.59,0,0]
[1969,8,12,7.6845999999999998E-2,0.21087,8.4054999999999996E-10,4.6537999999999998E-13,1.7602,121.59,10.938109986206179,10.944165994326315]
[1969,8,17,0,0,0,0,1.7579,121.59,0,0]
[1969,8,22,1.1632,16.673999999999999,4.18E-9,1.8876E-13,1.7557,121.59,3.5935350756533699,3.593697352132049]
[1969,8,27,0,0,0,0,1.7534000000000001,121.59,0,0]
[1969,8,29,0,0,0,0,1.7524999999999999,121.59,0,0]
[1969,9,3,0,0,0,0,1.7503,121.59,0,0]
[1969,9,8,0,0,0,0,1.7481,121.59,0,0]
[1969,9,13,0,0,0,0,1.7458,121.59,0,0]
[1969,9,16,0,0,0,0,1.7444999999999999,121.59,0,0]
[1969,9,20,0,0,0,0,1.7426999999999999,121.59,0,0]
[1969,9,25,0,0,0,0,1.8185,122.23,0,0]
[1969,9,30,0,0,0,0,1.8162,122.23,0,0]
[1969,10,5,0,0,0,0,1.8138000000000001,122.23,0,0]
[1969,10,7,0,0,0,0,1.8129,122.23,{"$f":"IF(D3203=0,0,(F3203)/D3203*1000000*1000)","v":0},{"$f":"IF(D3203=0,0,(F3203+G3203)/D3203*1000000*1000)","v":0}]
[1969,10,12,0,0,0,0,1.8106,122.23,0,0]
[1969,10,17,0,0,0,0,1.8083,122.23,0,0]
[1969,10,18,0,0,0,0,1.8078000000000001,122.23,0,0]
[1969,10,23,0,0,0,0,1.8055000000000001,122.23,0,0]
[1969,10,29,0,0,0,0,1.8027,122.23,0,0]
[1969,11,3,0,0,0,0,1.8004,122.23,0,0]
[1969,11,4,0,0,0,0,1.8,122.23,0,0]
[1969,11,10,0,0,0,0,1.7971999999999999,122.23,0,0]
[1969,11,15,0,0,0,0,1.7948999999999999,122.23,0,0]
[1969,11,20,0,0,0,0,1.7926,122.23,0,0]
[1969,11,21,0,0,0,0,1.7922,122.23,0,0]
[1969,11,29,0,0,0,0,1.7885,122.23,0,0]
[1969,12,2,0,0,0,0,1.7870999999999999,122.23,0,0]
[1969,12,7,0.76224000000000003,14.901,1.6814E-11,4.4916999999999998E-20,1.7847999999999999,122.23,2.2058669185558353E-2,2.2058669244485987E-2]
[1969,12,8,0,0,0,0,1.7844,122.23,0,0]
[1969,12,13,0,0,0,0,1.7821,122.23,0,0]
[1969,12,16,0,0,0,0,1.7806999999999999,122.23,0,0]
[1969,12,24,0,0,0,0,1.7770999999999999,122.23,0,0]
[1969,12,25,0.80981000000000003,18.704000000000001,4.0444E-12,2.5190999999999999E-21,1.7766,122.23,4.9942579123498096E-3,4.9942579154605409E-3]
[1969,12,30,4.9771999999999997E-2,0.29114000000000001,1.7971999999999999E-13,4.3031000000000003E-23,1.7744,122.23,3.6108655468938358E-3,3.6108655477583985E-3]
[1970,1,4,0,0,0,0,1.7721,122.23,0,0]
[1970,1,10,0,0,0,0,1.7694000000000001,122.23,0,0]
[1970,1,11,6.2405000000000004E-3,2.0500000000000001E-2,8.6961999999999996E-15,7.6996000000000001E-25,1.7688999999999999,122.23,1.3935101354058165E-3,1.3935101355291978E-3]
[1970,1,16,0,0,0,0,1.7666999999999999,122.23,0,0]
[1970,1,21,0,0,0,0,1.7644,122.23,0,0]
[1970,1,27,0,0,0,0,1.7733000000000001,122.33,0,0]
[1970,1,28,0,0,0,0,1.7728999999999999,122.33,0,0]
[1970,2,2,0.11198,1.2858000000000001,8.4419000000000002E-15,8.9856000000000003E-26,1.9331,123.64,7.5387569208787284E-5,7.5387569209589715E-5]
[1970,2,7,0,0,0,0,1.9544999999999999,123.83,0,0]
[1970,2,9,0,0,0,0,1.9535,123.83,0,0]
[1970,2,14,0,0,0,0,1.9510000000000001,123.83,0,0]
[1970,2,19,0,0,0,0,1.9484999999999999,123.83,0,0]
[1970,2,24,0,0,0,0,1.946,123.83,0,0]
[1970,2,28,0,0,0,0,1.944,123.83,0,0]
[1970,3,3,0,0,0,0,1.9424999999999999,123.83,0,0]
[1970,3,8,0,0,0,0,1.9400999999999999,123.83,0,0]
[1970,3,13,0,0,0,0,1.9376,123.83,0,0]
[1970,3,18,0,0,0,0,1.9351,123.83,0,0]
[1970,3,23,0,0,0,0,2.3685999999999998,126.99,0,0]
[1970,3,25,0,0,0,0,2.3673999999999999,126.99,0,0]
[1970,3,30,0.13139999999999999,1.4038999999999999,2.3923000000000001E-17,2.7100000000000002E-30,2.3643999999999998,126.99,1.8206240487062407E-7,1.8206240487064469E-7]
[1970,4,4,0,0,0,0,2.3614000000000002,126.99,0,0]
[1970,4,5,0,0,0,0,2.3607999999999998,126.99,0,0]
[1970,4,11,0,0,0,0,2.3572000000000002,126.99,0,0]
[1970,4,16,0,0,0,0,2.3540999999999999,126.99,0,0]
[1970,4,21,0,0,0,0,2.3511000000000002,126.99,0,0]
[1970,4,24,0,0,0,0,2.3492999999999999,126.99,0,0]
[1970,4,28,0,0,0,0,2.3469000000000002,126.99,0,0]
[1970,5,3,1.1095999999999999,35.96,1.7366000000000001E-18,1.8487999999999999E-32,2.3439000000000001,126.99,1.565068493150685E-9,1.5650684931507017E-9]
[1970,5,8,0,0,0,0,2.3409,126.99,0,0]
[1970,5,9,0,0,0,0,2.3403,126.99,0,0]
[1970,5,17,0,0,0,0,2.3355000000000001,126.99,0,0]
[1970,5,20,0,0,0,0,2.3338000000000001,126.99,0,0]
[1970,5,25,0,0,0,0,2.3308,126.99,0,0]
[1970,5,26,0,0,0,0,2.3302,126.99,0,0]
[1970,5,30,0.12264,1.7868999999999999,2.2103E-20,5.1567999999999999E-35,2.3277999999999999,126.99,1.802266797129811E-10,1.8022667971298151E-10]
[1970,6,6,0,0,0,0,2.3235999999999999,126.99,0,0]
[1970,6,11,0,0,0,0,2.3207,126.99,0,0]
[1970,6,12,0,0,0,0,2.3201000000000001,126.99,0,0]
[1970,6,18,0,0,0,0,2.3165,126.99,0,0]
[1970,6,23,0,0,0,0,2.3134999999999999,126.99,0,0]
[1970,6,28,0,0,0,0,2.3106,126.99,0,0]
[1970,6,29,0,0,0,0,2.31,126.99,0,0]
[1970,7,4,0,0,0,0,2.3069999999999999,126.99,0,0]
[1970,7,11,0,0,0,0,2.3029000000000002,126.99,0,0]
[1970,7,15,0,0,0,0,2.3006000000000002,126.99,0,0]
[1970,7,16,0,0,0,0,2.2999999999999998,126.99,0,0]
[1970,7,21,7.8079999999999997E-2,0.17813999999999999,1.1379E-9,6.3022000000000003E-12,2.2970000000000002,126.99,14.573514344262295,14.654228995901638]
[1970,7,24,0,0,0,0,2.2953000000000001,126.99,0,0]
[1970,8,1,0,0,0,0,2.2906,126.99,0,0]
[1970,8,2,0,0,0,0,2.29,126.99,0,0]
[1970,8,7,0,0,0,0,2.2871000000000001,126.99,0,0]
[1970,8,12,0,0,0,0,2.2841,126.99,0,0]
[1970,8,16,0,0,0,0,2.2818000000000001,126.99,0,0]
[1970,8,19,0,0,0,0,2.2799999999999998,126.99,0,0]
[1970,8,24,0,0,0,0,2.2770999999999999,126.99,0,0]
[1970,8,29,0,0,0,0,2.2742,126.99,0,0]
[1970,9,4,8.5869000000000001E-2,0.33975,5.8254000000000004E-10,7.3567000000000006E-14,2.2707000000000002,126.99,6.7840547811200782,6.7849115163796023]
[1970,9,5,1.0423,17.347000000000001,5.5292999999999999E-9,6.5542000000000005E-13,2.2700999999999998,126.99,5.304902619207521,5.3055314400844287]
[1970,9,10,0,0,0,0,2.2671999999999999,126.99,0,0]
[1970,9,15,0,0,0,0,2.2643,126.99,0,0]
[1970,9,17,0,0,0,0,2.2631999999999999,126.99,0,0]
[1970,9,22,0,0,0,0,2.2603,126.99,0,0]
[1970,9,27,0,0,0,0,2.2574000000000001,126.99,0,0]
[1970,10,2,0,0,0,0,2.2545000000000002,126.99,0,0]
[1970,10,7,0,0,0,0,2.2515999999999998,126.99,0,0]
[1970,10,10,6.4632999999999996E-2,0.32224000000000003,2.0282E-10,2.3137000000000001E-15,2.2498999999999998,126.99,3.1380254668667709,3.1380612643695951]
[1970,10,14,0,0,0,0,2.2475999999999998,126.99,0,0]
[1970,10,19,8.0783999999999995E-3,2.4544E-2,1.8448000000000001E-11,6.8220000000000002E-17,2.2446999999999999,126.99,2.2836205189146366,2.2836289636561693]
[1970,10,24,1.0157,22.606999999999999,1.0145E-9,1.4730000000000001E-15,2.2418999999999998,126.99,0.9988185487840896,0.99881999901545737]
[1970,10,29,4.8963000000000001,186.81,2.6995E-9,1.3755999999999999E-15,2.2389999999999999,126.99,0.55133468128995355,0.55133496223679102]
[1970,10,31,0,0,0,0,2.2378999999999998,126.99,0,0]
[1970,11,5,0,0,0,0,2.2349999999999999,126.99,0,0]
[1970,11,10,0.1135,1.0314000000000001,2.8875999999999999E-11,2.3334999999999999E-18,2.2321,126.99,0.25441409691629951,0.25441411747577086]
[1970,11,11,0,0,0,0,2.2315999999999998,126.99,0,0]
[1970,11,17,0,0,0,0,2.2281,126.99,0,0]
[1970,11,22,0,0,0,0,2.2252999999999998,126.99,0,0]
[1970,11,27,0,0,0,0,2.2223999999999999,126.99,0,0]
[1970,11,28,0,0,0,0,2.2219000000000002,126.99,0,0]
[1970,12,4,0,0,0,0,2.2185000000000001,126.99,0,0]
[1970,12,9,0,0,0,0,2.2155999999999998,126.99,0,0]
[1970,12,14,0,0,0,0,2.2128000000000001,126.99,0,0]
[1970,12,15,1.4086E-2,5.2424999999999999E-2,9.7237999999999994E-13,5.8207999999999998E-21,2.2122000000000002,126.99,6.9031662643759747E-2,6.9031663056992765E-2]
[1970,12,23,0.63273999999999997,13.644,1.2526000000000001E-11,3.1617000000000002E-20,2.2077,126.99,1.9796440876189272E-2,1.9796440926157663E-2]
[1970,12,26,0,0,0,0,2.206,126.99,0,0]
[1970,12,31,2.9714000000000001E-2,0.15572,2.1207999999999999E-13,1.0661E-22,2.3254999999999999,127.88,7.1373763209261623E-3,7.1373763245140328E-3]
[1971,1,1,0,0,0,0,2.3249,127.88,0,0]
[1971,1,6,0,0,0,0,2.4662999999999999,128.88,0,0]
[1971,1,10,0,0,0,0,2.6196999999999999,129.93,0,0]
[1971,1,17,0,0,0,0,2.8408000000000002,131.36000000000001,0,0]
[1971,1,18,0,0,0,0,2.8401000000000001,131.36000000000001,0,0]
[1971,1,23,8.6440000000000003E-2,0.63456999999999997,2.755E-14,8.3976000000000008E-25,2.8365,131.36000000000001,3.1871818602498844E-4,3.1871818603470338E-4]
[1971,1,28,0,0,0,0,3.0670999999999999,132.78,0,0]
[1971,2,3,0,0,0,0,3.0623999999999998,132.78,0,0]
[1971,2,4,2.7376000000000001E-2,0.15126000000000001,1.4625999999999999E-15,8.0715999999999999E-27,3.0615999999999999,132.78,5.3426358854471068E-5,5.342635885476591E-5]
[1971,2,9,0,0,0,0,3.3496999999999999,134.44999999999999,0,0]
[1971,2,16,0,0,0,0,3.3437000000000001,134.44999999999999,0,0]
[1971,2,20,0.46542,9.7353000000000005,9.4514999999999999E-16,9.4543000000000004E-28,3.3774999999999999,134.66,2.030746422586051E-6,2.0307464225880826E-6]
[1971,2,21,0.46133999999999997,10.608000000000001,5.1099000000000005E-16,3.9888E-28,3.5446,135.57,1.1076212771491741E-6,1.1076212771500387E-6]
[1971,2,26,0.42427999999999999,8.6097000000000001,1.1979E-16,4.0635E-29,3.7362000000000002,136.61000000000001,2.8233713585368153E-7,2.823371358537773E-7]
[1971,3,3,2.4062000000000001,103.12,5.3883000000000002E-17,6.2234000000000002E-30,4.4494999999999996,140.09,{"$f":"IF(D3715=0,0,(F3715)/D3715*1000000*1000)","v":2.2393400382345606E-8},{"$f":"IF(D3715=0,0,(F3715+G3715)/D3715*1000000*1000)","v":2.2393400382348193E-8}]
[1971,3,6,7.0139E-3,2.9183000000000001E-2,1.1083000000000001E-19,4.9130999999999999E-33,4.4461000000000004,140.09,1.5801479918447656E-8,1.5801479918448354E-8]
[1971,3,10,0,0,0,0,4.4416000000000002,140.09,0,0]
[1971,3,15,6.5817000000000002E-3,2.6145999999999999E-2,5.5469000000000004E-20,1.1603000000000001E-33,4.4359000000000002,140.09,8.4277618244526497E-9,8.427761824452825E-9]
[1971,3,20,0,0,0,0,4.4302000000000001,140.09,0,0]
[1971,3,24,0,0,0,0,4.4257,140.09,0,0]
[1971,3,27,0,0,0,0,4.4222999999999999,140.09,0,0]
[1971,4,1,0,0,0,0,4.4363999999999999,140.18,0,0]
[1971,4,6,0,0,0,0,4.4306999999999999,140.18,0,0]
[1971,4,12,0,0,0,0,4.4238999999999997,140.18,0,0]
[1971,4,13,0,0,0,0,4.4227999999999996,140.18,0,0]
[1971,4,18,0,0,0,0,4.4170999999999996,140.18,0,0]
[1971,4,23,1.1921999999999999,37.018999999999998,7.2530999999999996E-20,1.572E-34,4.4115000000000002,140.18,6.0837946653246098E-11,6.0837946653246227E-11]
[1971,4,28,0.63441999999999998,16.454999999999998,1.3423999999999999E-20,1.9502000000000001E-35,4.4058000000000002,140.18,2.1159484253333753E-11,2.1159484253333786E-11]
[1971,4,30,0.35137000000000002,8.2905999999999995,3.5969999999999997E-21,4.1061000000000003E-36,4.4036,140.18,1.023707203233059E-11,1.0237072032330601E-11]
[1971,5,5,0,0,0,0,4.3978999999999999,140.18,0,0]
[1971,5,10,0,0,0,0,4.3922999999999996,140.18,0,0]
[1971,5,15,1.2565999999999999,47.679000000000002,1.8746000000000002E-21,7.5628999999999997E-37,4.3867000000000003,140.18,1.4918032786885248E-12,1.4918032786885256E-12]
[1971,5,18,0,0,0,0,4.3833000000000002,140.18,0,0]
[1971,5,22,0,0,0,0,4.3788999999999998,140.18,0,0]
[1971,5,27,0,0,0,0,4.3733000000000004,140.18,0,0]
[1971,6,1,0,0,0,0,4.3677000000000001,140.18,0,0]
[1971,6,6,1.5254999999999999E-3,2.4377999999999999E-3,1.0757E-24,5.8481E-41,4.3620999999999999,140.18,7.0514585381842031E-13,7.0514585381842031E-13]
[1971,6,8,1.6463999999999999E-2,5.9154999999999999E-2,7.4694000000000007E-24,3.7727999999999997E-40,4.3598999999999997,140.18,4.5368075801749284E-13,4.5368075801749284E-13]
[1971,6,13,0,0,0,0,4.3543000000000003,140.18,0,0]
[1971,6,18,0,0,0,0,4.3487,140.18,0,0]
[1971,6,19,0.24173,1.6785000000000001,5.7602999999999998E-24,6.4808000000000004E-41,4.3475999999999999,140.18,2.3829479170975879E-14,2.3829479170975879E-14]
[1971,6,24,0,0,0,0,4.3419999999999996,140.18,0,0]
[1971,6,30,0,0,0,0,4.3353999999999999,140.18,0,0]
[1971,7,5,1.7398E-2,2.2644000000000001E-2,1.0965000000000001E-25,1.9729999999999998E-43,4.3297999999999996,140.18,6.3024485573054373E-15,6.3024485573054373E-15]
[1971,7,6,0,0,0,0,4.3287000000000004,140.18,0,0]
[1971,7,12,0,0,0,0,4.3220999999999998,140.18,0,0]
[1971,7,17,0,0,0,0,4.3166000000000002,140.18,0,0]
[1971,7,22,0,0,0,0,4.3109999999999999,140.18,0,0]
[1971,7,23,0,0,0,0,4.3098999999999998,140.18,0,0]
[1971,7,28,0,0,0,0,4.3044000000000002,140.18,0,0]
[1971,8,4,0,0,0,0,4.2967000000000004,140.18,0,0]
[1971,8,8,0,0,0,0,4.2923,140.18,0,0]
[1971,8,9,0.22461999999999999,1.413,1.5319000000000001E-9,3.2169999999999998E-13,4.2911999999999999,140.18,6.8199626035081478,6.8213948001068481]
[1971,8,14,0,0,0,0,4.2857000000000003,140.18,0,0]
[1971,8,17,0,0,0,0,4.2824999999999998,140.18,0,0]
[1971,8,25,0,0,0,0,4.2736999999999998,140.18,0,0]
[1971,8,26,0,0,0,0,4.2725999999999997,140.18,0,0]
[1971,8,31,0,0,0,0,4.2671000000000001,140.18,0,0]
[1971,9,5,0,0,0,0,4.2617000000000003,140.18,0,0]
[1971,9,11,0,0,0,0,4.2552000000000003,140.18,{"$f":"IF(D3907=0,0,(F3907)/D3907*1000000*1000)","v":0},{"$f":"IF(D3907=0,0,(F3907+G3907)/D3907*1000000*1000)","v":0}]
[1971,9,12,0,0,0,0,4.2541000000000002,140.18,0,0]
[1971,9,17,4.0774999999999997,111.61,5.1685999999999997E-9,1.8806000000000001E-14,4.2485999999999997,140.18,1.2675904353157572,1.2675950474555489]
[1971,9,22,0,0,0,0,4.2431999999999999,140.18,0,0]
[1971,9,28,0,0,0,0,4.2366999999999999,140.18,0,0]
[1971,9,29,0,0,0,0,4.2355999999999998,140.18,0,0]
[1971,10,4,0,0,0,0,4.2302,140.18,0,0]
[1971,10,9,0,0,0,0,4.2248000000000001,140.18,0,0]
[1971,10,11,0,0,0,0,4.2225999999999999,140.18,0,0]
[1971,10,16,0,0,0,0,4.2172000000000001,140.18,0,0]
[1971,10,21,0,0,0,0,4.2118000000000002,140.18,0,0]
[1971,10,26,0,0,0,0,4.2064000000000004,140.18,0,0]
[1971,10,30,0,0,0,0,4.2020999999999997,140.18,0,0]
[1971,11,2,0,0,0,0,4.1989000000000001,140.18,0,0]
[1971,11,7,0,0,0,0,4.1935000000000002,140.18,0,0]
[1971,11,12,0,0,0,0,4.1882000000000001,140.18,0,0]
[1971,11,17,0,0,0,0,4.1828000000000003,140.18,0,0]
[1971,11,22,0,0,0,0,4.1775000000000002,140.18,0,0]
[1971,11,24,0.30237000000000003,3.23,8.4011999999999994E-11,6.7328999999999998E-18,4.1753,140.18,0.27784502430796698,0.27784504657505699]
[1971,11,29,0.62234,11.961,8.3888999999999998E-11,2.76E-18,4.17,140.18,0.13479609216826816,0.13479609660314298]
[1971,12,4,0,0,0,0,4.1670999999999996,140.19999999999999,0,0]
[1971,12,5,0,0,0,0,4.1832000000000003,140.28,0,0]
[1971,12,11,0,0,0,0,4.3243999999999998,141.01,0,0]
[1971,12,16,1.9040999999999999E-2,8.4206000000000003E-2,5.2592999999999996E-13,8.9558999999999996E-22,4.3189000000000002,141.01,2.7620923270836616E-2,2.7620923317871436E-2]
[1971,12,21,0,0,0,0,4.3293999999999997,141.09,0,0]
[1971,12,24,0,0,0,0,4.3261000000000003,141.09,0,0]
[1971,12,28,0,0,0,0,4.3216999999999999,141.09,0,0]
[1972,1,2,2.0181999999999999E-2,8.4362000000000006E-2,1.8136E-13,7.3383999999999999E-23,4.3160999999999996,141.09,8.9862253493211766E-3,8.9862253529572889E-3]
[1972,1,7,0,0,0,0,4.3342999999999998,141.19999999999999,0,0]
[1972,1,8,0,0,0,0,4.3331999999999997,141.19999999999999,0,0]
[1972,1,16,0,0,0,0,5.2939999999999996,145.56,0,0]
[1972,1,19,0,0,0,0,5.29,145.56,0,0]
[1972,1,24,0,0,0,0,5.2831999999999999,145.56,0,0]
[1972,1,25,0,0,0,0,5.2819000000000003,145.56,0,0]
[1972,1,29,2.5156999999999998,88.316999999999993,1.8996000000000001E-13,2.5434E-24,5.4038000000000004,146.1,7.5509798465635812E-5,7.5509798466646817E-5]
[1972,2,5,0,0,0,0,5.7866,147.71,0,0]
[1972,2,10,0,0,0,0,5.8792,148.11000000000001,0,0]
[1972,2,11,0,0,0,0,5.8776000000000002,148.11000000000001,0,0]
[1972,2,16,4.4425000000000003E-3,1.5428000000000001E-2,1.6423E-17,1.3778000000000001E-29,5.9417999999999997,148.38999999999999,3.6967923466516596E-6,3.6967923466547614E-6]
[1972,2,21,0,0,0,0,6.1002999999999998,149.05000000000001,0,0]
[1972,2,27,0,0,0,0,6.0910000000000002,149.05000000000001,0,0]
[1972,2,28,0,0,0,0,6.0894000000000004,149.05000000000001,0,0]
[1972,3,4,0,0,0,0,6.1167999999999996,149.18,0,0]
[1972,3,11,0,0,0,0,6.1058000000000003,149.18,0,0]
[1972,3,15,0,0,0,0,6.0995999999999997,149.18,0,0]
[1972,3,16,0.36337000000000003,5.9847000000000001,2.0453E-17,1.3967000000000001E-30,6.0979999999999999,149.18,5.6286980213006029E-8,5.628698021300986E-8]
[1972,3,21,0,0,0,0,6.0902000000000003,149.18,{"$f":"IF(D4099=0,0,(F4099)/D4099*1000000*1000)","v":0},{"$f":"IF(D4099=0,0,(F4099+G4099)/D4099*1000000*1000)","v":0}]
[1972,3,24,0,0,0,0,6.0854999999999997,149.18,0,0]
[1972,4,1,0,0,0,0,6.0731000000000002,149.18,0,0]
[1972,4,2,0,0,0,0,6.0715000000000003,149.18,0,0]
[1972,4,7,0.38732,8.7164000000000001,7.9154000000000001E-19,5.5829000000000001E-33,6.0637999999999996,149.18,2.0436331715377467E-9,2.0436331715377612E-9]
[1972,4,12,0,0,0,0,6.056,149.18,0,0]
[1972,4,16,0,0,0,0,6.0498000000000003,149.18,0,0]
[1972,4,19,0,0,0,0,6.0452000000000004,149.18,0,0]
[1972,4,24,0,0,0,0,6.0374999999999996,149.18,0,0]
[1972,4,29,0,0,0,0,6.0297000000000001,149.18,0,0]
[1972,5,5,0,0,0,0,6.0205000000000002,149.18,0,0]
[1972,5,6,0,0,0,0,6.0190000000000001,149.18,0,0]
[1972,5,11,0,0,0,0,6.0113000000000003,149.18,0,0]
[1972,5,16,0,0,0,0,6.0035999999999996,149.18,0,0]
[1972,5,18,0,0,0,0,6.0004999999999997,149.18,0,0]
[1972,5,23,1.7908E-2,9.8683000000000007E-2,2.4554999999999998E-22,6.4699E-38,5.9927999999999999,149.18,1.3711748939021666E-11,1.3711748939021666E-11]
[1972,5,28,0,0,0,0,5.9851999999999999,149.18,0,0]
[1972,6,2,0,0,0,0,5.9775,149.18,0,0]
[1972,6,7,0,0,0,0,5.9699,149.18,0,0]
[1972,6,10,0,0,0,0,5.9653,149.18,0,0]
[1972,6,14,0,0,0,0,5.9592000000000001,149.18,0,0]
[1972,6,19,1.1272,11.305,2.7885000000000001E-21,1.2607000000000001E-37,5.9516,149.18,2.4738289567068842E-12,2.4738289567068842E-12]
[1972,6,24,0,0,0,0,5.944,149.18,0,0]
[1972,6,29,0,0,0,0,5.9363999999999999,149.18,0,0]
[1972,7,1,0,0,0,0,5.9333,149.18,0,0]
[1972,7,6,0,0,0,0,5.9257,149.18,0,0]
[1972,7,11,0,0,0,0,5.9181999999999997,149.18,0,0]
[1972,7,12,0,0,0,0,5.9166999999999996,149.18,0,0]
[1972,7,17,4.3492999999999997E-2,8.5444999999999993E-2,5.9089000000000001E-10,2.9476000000000001E-12,5.9090999999999996,149.18,13.585864391971123,13.65363621732233]
[1972,7,23,0,0,0,0,5.9,149.18,0,0]
[1972,7,28,5.6073999999999999E-2,0.11345,1.3742999999999999E-9,6.7076999999999998E-12,5.8925000000000001,149.18,24.508684952027679,24.62830723686557]
[1972,7,29,3.4843E-4,1.6801000000000001E-4,8.0403000000000008E-12,2.5565999999999999E-14,5.891,149.18,23.075797147203172,23.149172000114802]
[1972,8,4,0,0,0,0,5.8818999999999999,149.18,0,0]
[1972,8,9,7.5362999999999999E-2,0.21622,7.2033000000000003E-10,1.8464000000000001E-13,5.8743999999999996,149.18,9.5581386091318024,9.560588617756725]
[1972,8,14,0,0,0,0,5.8669000000000002,149.18,0,0]
[1972,8,15,7.2909000000000002E-2,0.31802000000000002,4.7496999999999996E-10,3.5182999999999998E-14,5.8654000000000002,149.18,6.5145592450863399,6.5150418055384103]
[1972,8,23,0,0,0,0,5.8533999999999997,149.18,0,0]
[1972,8,26,0,0,0,0,5.8489000000000004,149.18,0,0]
[1972,8,31,0,0,0,0,5.8414000000000001,149.18,0,0]
[1972,9,1,0,0,0,0,5.8399000000000001,149.18,0,0]
[1972,9,6,0,0,0,0,5.8324999999999996,149.18,0,0]
[1972,9,10,0,0,0,0,5.8265000000000002,149.18,0,0]
[1972,9,17,0,0,0,0,5.8160999999999996,149.18,0,0]
[1972,9,18,8.2366999999999996E-2,0.44899,1.7799E-10,6.0614000000000002E-16,5.8146000000000004,149.18,2.1609382398290577,2.1609455988441972]
[1972,9,23,0,0,0,0,5.8071999999999999,149.18,0,0]
[1972,9,28,0,0,0,0,5.7996999999999996,149.18,0,0]
[1972,10,4,0,0,0,0,5.7907999999999999,149.18,0,0]
[1972,10,5,2.9312999999999999E-2,0.122,3.4560000000000001E-11,2.1952000000000002E-17,5.7893999999999997,149.18,1.1789990789069698,1.178999827789718]
[1972,10,10,0,0,0,0,5.782,149.18,0,0]
[1972,10,17,0,0,0,0,5.7716000000000003,149.18,0,0]
[1972,10,21,0,0,0,0,5.7656999999999998,149.18,0,0]
[1972,10,22,0,0,0,0,5.7641999999999998,149.18,0,0]
[1972,10,27,3.1355,99.158000000000001,1.2885E-9,1.9399E-16,5.7568999999999999,149.18,0.41093924413969068,0.41093930600861106]
[1972,11,1,0,0,0,0,5.7495000000000003,149.18,0,0]
[1972,11,4,0,0,0,0,5.7450999999999999,149.18,0,0]
[1972,11,8,0,0,0,0,5.7392000000000003,149.18,0,0]
[1972,11,13,0.48475000000000001,7.149,5.3924999999999997E-11,8.0225000000000001E-19,5.7319000000000004,149.18,0.11124290871583289,0.11124291037080969]
[1972,11,18,0,0,0,0,5.7245999999999997,149.18,0,0]
[1972,11,22,0,0,0,0,5.7187000000000001,149.18,0,0]
[1972,11,25,0.75517000000000001,14.569000000000001,2.8976000000000001E-11,1.3309999999999999E-19,5.7142999999999997,149.18,3.8370168306474044E-2,3.8370168482725744E-2]
[1972,11,30,7.4265999999999999E-2,0.52459,2.0102000000000001E-12,3.8282E-21,5.7069999999999999,149.18,2.7067567931489508E-2,2.7067567983036656E-2]
[1972,12,5,3.9607999999999997E-2,0.20699999999999999,8.1856E-13,9.4378000000000007E-22,5.6997,149.18,2.0666532013734598E-2,2.0666532037562614E-2]
[1972,12,11,0,0,0,0,5.7320000000000002,149.36000000000001,0,0]
[1972,12,12,0,0,0,0,5.7305000000000001,149.36000000000001,0,0]
[1972,12,17,0,0,0,0,6.3445999999999998,151.84,0,0]
[1972,12,22,0,0,0,0,6.7492000000000001,153.41,0,0]
[1972,12,27,0,0,0,0,6.7405999999999997,153.41,0,0]
[1972,12,29,0,0,0,0,6.7370999999999999,153.41,0,0]
[1973,1,3,4.7995000000000003E-2,0.29336000000000001,1.4106E-14,2.9040999999999999E-25,6.8771000000000004,153.96,2.9390561516824665E-4,2.9390561517429753E-4]
[1973,1,8,0.24565000000000001,3.8313000000000001,5.6095000000000001E-15,2.7846000000000002E-26,8.0960999999999999,158.24,2.2835334825971911E-5,2.2835334826085268E-5]
[1973,1,13,0,0,0,0,8.0858000000000008,158.24,0,0]
[1973,1,16,0,0,0,0,8.0795999999999992,158.24,0,0]
[1973,1,20,0,0,0,0,8.0713000000000008,158.24,0,0]
[1973,1,25,0,0,0,0,8.3129000000000008,159.07,0,0]
[1973,1,30,0,0,0,0,8.4260000000000002,159.47999999999999,0,0]
[1973,1,31,0,0,0,0,8.4238999999999997,159.47999999999999,0,0]
[1973,2,8,5.0153000000000003E-4,8.4544000000000004E-4,2.2230999999999999E-19,4.1475000000000001E-32,8.8660999999999994,160.94,4.4326361334316983E-7,4.4326361334325252E-7]
[1973,2,11,0,0,0,0,8.8592999999999993,160.94,0,0]
[1973,2,16,0,0,0,0,8.8480000000000008,160.94,0,0]
[1973,2,17,0,0,0,0,8.8457000000000008,160.94,0,0]
[1973,2,22,0,0,0,0,8.8344000000000005,160.94,0,0]
[1973,2,28,0,0,0,0,8.8209,160.94,0,0]
[1973,3,5,0,0,0,0,8.8095999999999997,160.94,0,0]
[1973,3,6,0.15447,2.1292,1.2184999999999999E-17,9.9614000000000009E-31,8.8072999999999997,160.94,7.8882630931572474E-8,7.8882630931578932E-8]
[1973,3,12,0,0,0,0,8.9235000000000007,161.35,0,0]
[1973,3,17,0,0,0,0,9.2547999999999995,162.41,0,0]
[1973,3,22,0,0,0,0,9.3346999999999998,162.69,0,0]
[1973,3,23,0,0,0,0,9.3323,162.69,0,0]
[1973,3,28,0,0,0,0,9.3202999999999996,162.69,0,0]
[1973,4,4,0,0,0,0,9.6417999999999999,163.71,0,0]
[1973,4,8,0,0,0,0,9.9129000000000005,164.55,0,0]
[1973,4,9,0,0,0,0,9.9103999999999992,164.55,{"$f":"IF(D4483=0,0,(F4483)/D4483*1000000*1000)","v":0},{"$f":"IF(D4483=0,0,(F4483+G4483)/D4483*1000000*1000)","v":0}]
[1973,4,14,0,0,0,0,9.8977000000000004,164.55,0,0]
[1973,4,17,0,0,0,0,9.8901000000000003,164.55,0,0]
[1973,4,25,8.4850999999999996E-2,0.98709000000000002,1.1342999999999999E-21,1.8404000000000001E-36,9.8698999999999995,164.55,1.3368139444437896E-11,1.336813944443792E-11]
[1973,4,26,0.59640000000000004,18.058,3.9309999999999998E-21,7.1630999999999997E-36,9.8673999999999999,164.55,6.5912139503688793E-12,6.5912139503688923E-12]
[1973,5,1,0,0,0,0,9.8547999999999991,164.55,0,0]
[1973,5,6,0,0,0,0,9.8422000000000001,164.55,0,0]
[1973,5,12,8.3508000000000002E-3,4.0219999999999999E-2,8.6988E-24,2.5955E-39,9.8270999999999997,164.55,1.0416726541169707E-12,1.0416726541169711E-12]
[1973,5,13,0,0,0,0,9.8245000000000005,164.55,0,0]
[1973,5,18,0,0,0,0,9.8119999999999994,164.55,0,0]
[1973,5,23,0.36585000000000001,7.5526999999999997,2.4904999999999999E-23,4.0515000000000002E-39,9.7994000000000003,164.55,6.8074347410140763E-14,6.8074347410140776E-14]
[1973,5,29,0,0,0,0,9.7843999999999998,164.55,0,0]
[1973,5,30,0,0,0,0,9.7819000000000003,164.55,0,0]
[1973,6,4,0,0,0,0,9.7693999999999992,164.55,0,0]
[1973,6,9,0.21179000000000001,2.5185,3.7826999999999999E-25,6.0984000000000003E-42,9.7568999999999999,164.55,1.7860616648566977E-15,1.7860616648566977E-15]
[1973,6,11,0,0,0,0,9.7518999999999991,164.55,0,0]
[1973,6,16,0,0,0,0,9.7393999999999998,164.55,0,0]
[1973,6,21,0,0,0,0,9.7270000000000003,164.55,0,0]
[1973,6,26,0,0,0,0,9.7146000000000008,164.55,0,0]
[1973,6,30,0,0,0,0,9.7045999999999992,164.55,0,0]
[1973,7,3,0,0,0,0,9.6972000000000005,164.55,0,0]
[1973,7,8,0,0,0,0,9.6847999999999992,164.55,0,0]
[1973,7,13,0,0,0,0,9.6723999999999997,164.55,0,0]
[1973,7,18,0.12950999999999999,0.52590000000000003,1.7875999999999999E-9,1.1461000000000001E-11,9.66,164.55,13.802795150953594,13.891290247857308]
[1973,7,23,0,0,0,0,9.6477000000000004,164.55,0,0]
[1973,7,25,0,0,0,0,9.6426999999999996,164.55,0,0]
[1973,7,30,0,0,0,0,9.6303999999999998,164.55,0,0]
[1973,8,4,0,0,0,0,9.6181000000000001,164.55,0,0]
[1973,8,5,0,0,0,0,9.6156000000000006,164.55,0,0]
[1973,8,11,0,0,0,0,9.6008999999999993,164.55,0,0]
[1973,8,16,0,0,0,0,9.5885999999999996,164.55,0,0]
[1973,8,21,0,0,0,0,9.5763999999999996,164.55,0,0]
[1973,8,22,0,0,0,0,9.5739000000000001,164.55,0,0]
[1973,8,28,0,0,0,0,9.5592000000000006,164.55,0,0]
[1973,9,2,0,0,0,0,9.5470000000000006,164.55,0,0]
[1973,9,7,0,0,0,0,9.5348000000000006,164.55,0,0]
[1973,9,8,0,0,0,0,9.5324000000000009,164.55,0,0]
[1973,9,16,0,0,0,0,9.5129000000000001,164.55,0,0]
[1973,9,19,0,0,0,0,9.5055999999999994,164.55,0,0]
[1973,9,24,0,0,0,0,9.4933999999999994,164.55,0,0]
[1973,9,25,0,0,0,0,9.4909999999999997,164.55,0,0]
[1973,9,29,0,0,0,0,9.4812999999999992,164.55,0,0]
[1973,10,6,0,0,0,0,9.5215999999999994,164.73,0,0]
[1973,10,11,0,0,0,0,9.5094999999999992,164.73,0,0]
[1973,10,12,0,0,0,0,9.5069999999999997,164.73,0,0]
[1973,10,17,0,0,0,0,9.4948999999999995,164.73,0,0]
[1973,10,22,0,0,0,0,9.4826999999999995,164.73,0,0]
[1973,10,28,0,0,0,0,9.4681999999999995,164.73,0,0]
[1973,10,29,0,0,0,0,9.4657999999999998,164.73,0,0]
[1973,11,3,0,0,0,0,9.4536999999999995,164.73,0,0]
[1973,11,10,0,0,0,0,9.4367999999999999,164.73,0,0]
[1973,11,14,0,0,0,0,9.4270999999999994,164.73,0,0]
[1973,11,15,0,0,0,0,9.4246999999999996,164.73,0,0]
[1973,11,20,0,0,0,0,9.4125999999999994,164.73,0,0]
[1973,11,23,0,0,0,0,9.4054000000000002,164.73,0,0]
[1973,12,1,0,0,0,0,9.3862000000000005,164.73,0,0]
[1973,12,2,0,0,0,0,9.3838000000000008,164.73,0,0]
[1973,12,7,0,0,0,0,9.3718000000000004,164.73,0,0]
[1973,12,12,0,0,0,0,9.3597999999999999,164.73,0,0]
[1973,12,16,0,0,0,0,9.3501999999999992,164.73,0,0]
[1973,12,19,0,0,0,0,9.3430999999999997,164.73,0,0]
[1973,12,24,0,0,0,0,9.3310999999999993,164.73,0,0]
[1973,12,29,1.0113000000000001,25.108000000000001,2.0796999999999999E-11,5.5570000000000001E-20,9.6652000000000005,165.8,2.0564619796301788E-2,2.0564619851250861E-2]
[1974,1,4,1.9092999999999999E-2,9.0400999999999995E-2,7.2619000000000001E-14,1.8418000000000001E-23,10.67,168.82,3.8034358141727331E-3,3.8034358151373807E-3]
[1974,1,5,0,0,0,0,10.667999999999999,168.82,0,0]
[1974,1,10,0,0,0,0,10.747,169.09,0,0]
[1974,1,15,0,0,0,0,10.836,169.39,0,0]
[1974,1,20,1.6185,50.869,1.0342E-12,8.2871000000000002E-23,11.205,170.46,6.3898671609514978E-4,6.389867161463521E-4]
[1974,1,22,0,0,0,0,11.199,170.46,0,0]
[1974,1,27,0,0,0,0,11.936,172.51,0,0]
[1974,2,1,3.2469E-3,9.7458000000000006E-3,1.7474000000000001E-16,9.9029000000000005E-28,12.231,173.34,5.3817487449567279E-5,5.3817487449872272E-5]
[1974,2,6,0.77159999999999995,18.952999999999999,1.1022999999999999E-14,4.8740999999999998E-26,12.709,174.63,1.4285899429756349E-5,1.4285899429819517E-5]
[1974,2,9,0,0,0,0,13.032999999999999,175.48,0,0]
[1974,2,13,0,0,0,0,13.02,175.48,0,0]
[1974,2,18,0,0,0,0,14.082000000000001,178.14,0,0]
[1974,2,23,0,0,0,0,14.342000000000001,178.81,{"$f":"IF(D4803=0,0,(F4803)/D4803*1000000*1000)","v":0},{"$f":"IF(D4803=0,0,(F4803+G4803)/D4803*1000000*1000)","v":0}]
[1974,2,28,0,0,0,0,14.324,178.81,0,0]
[1974,3,2,0,0,0,0,14.316000000000001,178.81,0,0]
[1974,3,7,0,0,0,0,14.298,178.81,0,0]
[1974,3,12,0,0,0,0,14.28,178.81,0,0]
[1974,3,13,0,0,0,0,14.276,178.81,0,0]
[1974,3,18,0,0,0,0,14.257999999999999,178.81,0,0]
[1974,3,24,0,0,0,0,14.236000000000001,178.81,0,0]
[1974,3,29,0.33622000000000002,7.2420999999999998,4.7738999999999997E-18,2.4275999999999999E-31,14.218,178.81,1.4198738920944618E-8,1.4198738920945338E-8]
[1974,3,30,0.14635000000000001,2.2099000000000002,1.3334E-18,4.4832E-32,14.214,178.81,9.1110351896139394E-9,9.1110351896142438E-9]
[1974,4,5,0,0,0,0,14.192,178.81,0,0]
[1974,4,10,0,0,0,0,14.173999999999999,178.81,0,0]
[1974,4,15,0,0,0,0,14.156000000000001,178.81,0,0]
[1974,4,16,0,0,0,0,14.151999999999999,178.81,0,0]
[1974,4,24,0,0,0,0,14.122999999999999,178.81,0,0]
[1974,4,27,0,0,0,0,14.113,178.81,0,0]
[1974,5,2,1.5953000000000001E-4,2.1474999999999999E-4,2.6057000000000001E-23,4.4984E-38,14.095000000000001,178.81,1.6333604964583464E-10,1.633360496458349E-10]
[1974,5,3,0,0,0,0,14.090999999999999,178.81,0,0]
[1974,5,8,0,0,0,0,14.073,178.81,0,0]
[1974,5,12,0.18779000000000001,3.798,5.0011999999999998E-21,5.4377000000000001E-36,14.058999999999999,178.81,2.6631876031737573E-11,2.6631876031737605E-11]
[1974,5,19,0,0,0,0,14.032999999999999,178.81,0,0]
[1974,5,20,0,0,0,0,14.03,178.81,0,0]
[1974,5,25,0,0,0,0,14.012,178.81,0,0]
[1974,5,30,0,0,0,0,13.994,178.81,0,0]
[1974,6,5,0,0,0,0,13.972,178.81,0,0]
[1974,6,6,0.76763000000000003,13.022,3.3039999999999999E-22,2.4319000000000001E-38,13.968999999999999,178.81,4.3041569506142275E-13,4.3041569506142285E-13]
[1974,6,11,0,0,0,0,13.951000000000001,178.81,0,0]
[1974,6,18,0,0,0,0,13.926,178.81,0,0]
[1974,6,22,0,0,0,0,13.912000000000001,178.81,0,0]
[1974,6,23,0,0,0,0,13.907999999999999,178.81,0,0]
[1974,6,28,0,0,0,0,13.89,178.81,0,0]
[1974,7,3,0,0,0,0,13.872999999999999,178.81,0,0]
[1974,7,6,0,0,0,0,13.862,178.81,0,0]
[1974,7,10,1.9442000000000001E-3,1.3959E-3,5.7572999999999998E-27,6.0085000000000006E-45,13.848000000000001,178.81,2.9612694167266739E-15,2.9612694167266739E-15]
[1974,7,15,0,0,0,0,13.83,178.81,0,0]
[1974,7,20,0.65159999999999996,4.1279000000000003,8.0135999999999997E-9,5.0800999999999997E-11,13.811999999999999,178.81,12.298342541436465,12.37630601596071]
[1974,7,24,0,0,0,0,13.798,178.81,0,0]
[1974,7,27,0,0,0,0,13.788,178.81,0,0]
[1974,8,1,2.4081999999999999E-2,4.7127000000000002E-2,4.6004E-10,1.3448000000000001E-12,13.77,178.81,19.103064529524126,19.158907067519308]
[1974,8,6,0,0,0,0,13.753,178.81,0,0]
[1974,8,11,0.97018000000000004,10.726000000000001,6.2281E-9,1.1686000000000001E-12,13.734999999999999,178.81,6.4195303964212824,6.4207349151703808]
[1974,8,16,2.2550000000000001E-3,3.2279000000000001E-3,9.9144999999999994E-12,3.8186000000000001E-16,13.717000000000001,178.81,4.3966740576496672,4.396843396895787]
[1974,8,18,1.3513000000000001E-2,3.2821000000000003E-2,5.2821E-11,1.386E-15,13.71,178.81,3.9089025382964548,3.9090051061940345]
[1974,8,23,0,0,0,0,13.693,178.81,0,0]
[1974,8,28,0,0,0,0,13.675000000000001,178.81,0,0]
[1974,8,30,0,0,0,0,13.667999999999999,178.81,0,0]
[1974,9,4,0,0,0,0,13.651,178.81,0,0]
[1974,9,9,0,0,0,0,13.632999999999999,178.81,0,0]
[1974,9,14,0,0,0,0,13.616,178.81,0,0]
[1974,9,17,0,0,0,0,13.606,178.81,0,0]
[1974,9,21,0,0,0,0,13.592000000000001,178.81,0,0]
[1974,9,26,0,0,0,0,13.574,178.81,0,0]
[1974,10,1,0,0,0,0,13.557,178.81,0,0]
[1974,10,2,0,0,0,0,13.553000000000001,178.81,0,0]
[1974,10,10,0,0,0,0,13.526,178.81,0,0]
[1974,10,13,0,0,0,0,13.515000000000001,178.81,0,0]
[1974,10,18,0,0,0,0,13.497999999999999,178.81,0,0]
[1974,10,19,0,0,0,0,13.494999999999999,178.81,0,0]
[1974,10,24,0,0,0,0,13.477,178.81,0,0]
[1974,10,30,0,0,0,0,13.457000000000001,178.81,0,0]
[1974,11,4,0,0,0,0,13.439,178.81,0,0]
[1974,11,5,0,0,0,0,13.436,178.81,0,0]
[1974,11,11,0.39456000000000002,4.8003999999999998,8.3927000000000001E-11,5.5533000000000003E-18,13.414999999999999,178.81,0.21271036090835363,0.21271037498301903]
[1974,11,16,0,0,0,0,13.398,178.81,0,0]
[1974,11,21,0,0,0,0,13.381,178.81,0,0]
[1974,11,22,0,0,0,0,13.378,178.81,0,0]
[1974,11,27,0,0,0,0,13.361000000000001,178.81,0,0]
[1974,12,4,0,0,0,0,13.337,178.81,0,0]
[1974,12,8,0,0,0,0,13.323,178.81,0,0]
[1974,12,9,0,0,0,0,13.32,178.81,0,0]
[1974,12,14,0,0,0,0,13.303000000000001,178.81,0,0]
[1974,12,17,0,0,0,0,13.292,178.81,0,0]
[1974,12,25,0.10027999999999999,1.0273000000000001,1.7165000000000001E-13,4.7701000000000001E-23,14.052,180.81,1.7117072197846031E-3,1.7117072202602814E-3]
[1974,12,26,0,0,0,0,14.048,180.81,0,0]
[1974,12,31,0,0,0,0,14.484999999999999,181.93,0,0]
[1975,1,5,0,0,0,0,14.678000000000001,182.44,0,0]
[1975,1,11,0,0,0,0,15.515000000000001,184.49,0,0]
[1975,1,12,0.89080000000000004,21.599,3.3523999999999998E-14,5.5979000000000004E-25,15.904,185.41,3.7633587786259535E-5,3.7633587786887953E-5]
[1975,1,17,0,0,0,0,15.884,185.41,0,0]
[1975,1,22,0,0,0,0,15.864000000000001,185.41,0,0]
[1975,1,28,0,0,0,0,16.562999999999999,187.06,0,0]
[1975,1,29,0,0,0,0,16.559000000000001,187.06,0,0]
[1975,2,3,2.0291999999999999,66.792000000000002,3.0911000000000001E-15,5.3932000000000001E-27,16.838999999999999,187.74,1.5233096786911099E-6,1.5233096786937677E-6]
[1975,2,8,0,0,0,0,17.655999999999999,189.6,0,0]
[1975,2,10,0,0,0,0,17.646999999999998,189.6,0,0]
[1975,2,15,0,0,0,0,17.827000000000002,190.04,0,0]
[1975,2,20,0,0,0,0,19.260999999999999,193.14,0,0]
[1975,2,25,0,0,0,0,19.777000000000001,194.26,0,0]
[1975,3,2,0,0,0,0,19.751999999999999,194.26,0,0]
[1975,3,5,0,0,0,0,19.736999999999998,194.26,0,0]
[1975,3,9,0,0,0,0,19.716000000000001,194.26,0,0]
[1975,3,14,0,0,0,0,20.623999999999999,196.16,{"$f":"IF(D5187=0,0,(F5187)/D5187*1000000*1000)","v":0},{"$f":"IF(D5187=0,0,(F5187+G5187)/D5187*1000000*1000)","v":0}]
[1975,3,19,0,0,0,0,21.547999999999998,198.05,0,0]
[1975,3,24,1.1791,34.625999999999998,1.2524E-20,4.7953000000000001E-35,21.736999999999998,198.47,1.0621660588584513E-11,1.0621660588584554E-11]
[1975,3,26,0,0,0,0,21.725999999999999,198.47,0,0]
[1975,3,31,0,0,0,0,21.698,198.47,0,0]
[1975,4,5,0,0,0,0,22,199.12,0,0]
[1975,4,6,0,0,0,0,21.994,199.12,0,0]
[1975,4,12,0,0,0,0,21.960999999999999,199.12,0,0]
[1975,4,17,0,0,0,0,21.931999999999999,199.12,0,0]
[1975,4,22,0,0,0,0,21.904,199.12,0,0]
[1975,4,23,0,0,0,0,21.899000000000001,199.12,0,0]
[1975,4,29,0,0,0,0,21.864999999999998,199.12,0,0]
[1975,5,4,0,0,0,0,21.837,199.12,0,0]
[1975,5,9,0,0,0,0,21.809000000000001,199.12,0,0]
[1975,5,10,0,0,0,0,21.803999999999998,199.12,0,0]
[1975,5,18,0,0,0,0,21.759,199.12,0,0]
[1975,5,21,0,0,0,0,21.742000000000001,199.12,0,0]
[1975,5,26,0,0,0,0,21.715,199.12,0,0]
[1975,5,27,0,0,0,0,21.709,199.12,0,0]
[1975,5,31,0.30636999999999998,5.7366000000000001,1.3843999999999999E-25,3.4201999999999998E-42,21.687000000000001,199.12,4.5187191957437092E-16,4.5187191957437092E-16]
[1975,6,7,0.29987000000000003,3.0903,4.9005999999999998E-26,5.2732E-43,21.648,199.12,1.6342415046520157E-16,1.6342415046520157E-16]
[1975,6,12,6.0865000000000002E-2,0.40151999999999999,1.2302E-27,6.0120000000000003E-45,21.62,199.12,2.0211944467263613E-17,2.0211944467263613E-17]
[1975,6,13,0,0,0,0,21.614999999999998,199.12,0,0]
[1975,6,18,0,0,0,0,21.587,199.12,0,0]
[1975,6,23,0,0,0,0,21.56,199.12,0,0]
[1975,6,29,6.2543000000000001E-2,0.17896000000000001,3.7252999999999998E-29,1.4944000000000001E-47,21.527000000000001,199.12,5.9563820091776853E-19,5.9563820091776853E-19]
[1975,6,30,0,0,0,0,21.521000000000001,199.12,0,0]
[1975,7,5,0,0,0,0,21.494,199.12,0,0]
[1975,7,12,0,0,0,0,21.454999999999998,199.12,0,0]
[1975,7,16,0,0,0,0,21.433,199.12,0,0]
[1975,7,17,3.5363000000000002,45.540999999999997,4.6268000000000001E-8,6.4585999999999998E-10,21.553000000000001,199.37,13.083731583858834,13.266368803551735]
[1975,7,22,0,0,0,0,21.524999999999999,199.37,0,0]
[1975,7,27,0,0,0,0,21.498000000000001,199.37,0,0]
[1975,7,30,0.42165000000000002,2.7808000000000002,7.2477000000000001E-9,1.9773999999999999E-11,21.481000000000002,199.37,17.188900747065102,17.235797462350291]
[1975,8,3,0,0,0,0,21.58,199.62,0,0]
[1975,8,8,0,0,0,0,21.655999999999999,199.83,0,0]
[1975,8,13,0,0,0,0,21.628,199.83,0,0]
[1975,8,17,0,0,0,0,21.606000000000002,199.83,0,0]
[1975,8,20,0,0,0,0,21.59,199.83,0,0]
[1975,8,25,0,0,0,0,21.562000000000001,199.83,0,0]
[1975,8,30,0,0,0,0,21.535,199.83,0,0]
[1975,9,5,0,0,0,0,21.501000000000001,199.83,0,0]
[1975,9,6,0,0,0,0,21.495999999999999,199.83,0,0]
[1975,9,11,0,0,0,0,21.469000000000001,199.83,0,0]
[1975,9,16,0,0,0,0,21.440999999999999,199.83,0,0]
[1975,9,21,0,0,0,0,21.414000000000001,199.83,0,0]
[1975,9,23,0.13385,1.1135999999999999,1.4005E-10,9.8369000000000004E-17,21.402999999999999,199.83,1.0463205080313784,1.0463212429510644]
[1975,9,28,0,0,0,0,21.375,199.83,0,0]
[1975,10,3,0,0,0,0,21.347999999999999,199.83,0,0]
[1975,10,8,0,0,0,0,21.468,200.13,0,0]
[1975,10,11,0,0,0,0,21.452000000000002,200.13,0,0]
[1975,10,15,0,0,0,0,21.43,200.13,0,0]
[1975,10,20,0,0,0,0,21.571000000000002,200.47,0,0]
[1975,10,25,0,0,0,0,21.542999999999999,200.47,0,0]
[1975,10,30,0,0,0,0,21.515999999999998,200.47,0,0]
[1975,11,1,0,0,0,0,21.504999999999999,200.47,0,0]
[1975,11,6,0,0,0,0,21.477,200.47,0,0]
[1975,11,11,0,0,0,0,21.45,200.47,0,0]
[1975,11,12,3.6953999999999998,115.05,1.0456E-10,4.6701999999999996E-19,21.443999999999999,200.47,2.8294636575201607E-2,2.829463670158034E-2]
[1975,11,17,0,0,0,0,21.417000000000002,200.47,0,0]
[1975,11,23,6.7058000000000006E-2,0.40506999999999999,9.2287000000000009E-13,8.9568000000000004E-22,21.384,200.47,1.3762265501506159E-2,1.3762265514862955E-2]
[1975,11,28,0,0,0,0,21.356999999999999,200.47,0,0]
[1975,11,29,0,0,0,0,21.350999999999999,200.47,0,0]
[1975,12,5,0,0,0,0,21.318999999999999,200.47,0,0]
[1975,12,10,0,0,0,0,21.291,200.47,0,0]
[1975,12,15,0,0,0,0,21.263999999999999,200.47,0,0]
[1975,12,16,5.8967999999999998E-3,1.7513000000000001E-2,1.7129999999999999E-14,1.6362E-24,21.259,200.47,2.9049654049654048E-3,2.9049654052428773E-3]
[1975,12,24,0,0,0,0,21.215,200.47,0,0]
[1975,12,27,0,0,0,0,21.199000000000002,200.47,0,0]
[1976,1,1,0,0,0,0,21.24,200.61,0,0]
[1976,1,2,0,0,0,0,21.234999999999999,200.61,0,0]
[1976,1,7,2.8531999999999998E-2,0.1469,4.2463000000000004E-15,3.4384999999999999E-26,21.431999999999999,201.07,1.4882587971400536E-4,1.4882587971521048E-4]
[1976,1,11,0,0,0,0,21.41,201.07,0,0]
[1976,1,18,0,0,0,0,21.646000000000001,201.64,0,0]
[1976,1,19,0,0,0,0,21.640999999999998,201.64,0,0]
[1976,1,24,0,0,0,0,21.613,201.64,0,0]
[1976,1,29,0,0,0,0,22.481999999999999,203.45,0,0]
[1976,2,4,0,0,0,0,22.448,203.45,0,0]
[1976,2,5,0,0,0,0,22.442,203.45,0,0]
[1976,2,10,0,0,0,0,22.413,203.45,0,0]
[1976,2,15,0,0,0,0,22.385000000000002,203.45,0,0]
[1976,2,21,8.3807999999999994E-2,0.67839000000000005,1.8754000000000001E-16,7.7385999999999998E-29,22.35,203.45,2.2377338678885078E-6,2.2377338678894302E-6]
[1976,2,22,0.23494999999999999,4.1627999999999998,3.1534000000000001E-16,1.4518999999999999E-28,22.344999999999999,203.45,1.3421579059374335E-6,1.3421579059380514E-6]
[1976,2,27,0,0,0,0,22.315999999999999,203.45,0,0]
[1976,3,3,0,0,0,0,22.288,203.45,0,0]
[1976,3,6,0,0,0,0,22.27,203.45,0,0]
[1976,3,10,0,0,0,0,22.248000000000001,203.45,0,0]
[1976,3,15,6.6704999999999997,398.27,3.1950999999999999E-16,2.4991E-29,22.965,204.95,4.7898958099093025E-8,4.7898958099096771E-8]
[1976,3,20,0,0,0,0,23.588999999999999,206.25,0,0]
[1976,3,24,0,0,0,0,23.565000000000001,206.25,0,0]
[1976,3,27,6.6790000000000002E-2,0.54798000000000002,3.3607999999999998E-19,3.1324999999999997E-33,23.545999999999999,206.25,5.031891001646953E-9,5.0318910016469993E-9]
[1976,4,1,0,0,0,0,23.701000000000001,206.62,{"$f":"IF(D5571=0,0,(F5571)/D5571*1000000*1000)","v":0},{"$f":"IF(D5571=0,0,(F5571+G5571)/D5571*1000000*1000)","v":0}]
[1976,4,6,0,0,0,0,23.670999999999999,206.62,0,0]
[1976,4,11,0,0,0,0,23.64,206.62,0,0]
[1976,4,16,0,0,0,0,23.61,206.62,0,0]
[1976,4,18,0,0,0,0,23.597999999999999,206.62,0,0]
[1976,4,23,0,0,0,0,23.568000000000001,206.62,0,0]
[1976,4,28,0,0,0,0,23.538,206.62,0,0]
[1976,4,30,0.47136,11.593999999999999,9.1699999999999999E-20,2.2727E-34,23.526,206.62,1.9454344874405975E-10,1.9454344874406024E-10]
[1976,5,5,0,0,0,0,23.495999999999999,206.62,0,0]
[1976,5,10,0,0,0,0,23.466000000000001,206.62,0,0]
[1976,5,15,0.67520000000000002,19.271000000000001,1.0171E-20,5.7419E-36,23.436,206.62,1.5063684834123222E-11,1.5063684834123231E-11]
[1976,5,18,0,0,0,0,23.417999999999999,206.62,0,0]
[1976,5,22,0,0,0,0,23.393999999999998,206.62,0,0]
[1976,5,27,3.1356000000000002,120.87,1.0438999999999999E-20,3.5236999999999998E-36,23.364000000000001,206.62,3.3291873963515753E-12,3.3291873963515765E-12]
[1976,6,1,0,0,0,0,23.565999999999999,207.09,0,0]
[1976,6,2,9.4663999999999998E-2,0.67249999999999999,6.9304000000000002E-23,5.2003000000000001E-39,23.56,207.09,7.3210512972196407E-13,7.3210512972196407E-13]
[1976,6,10,3.3914E-2,0.13694000000000001,1.0675E-23,3.7417999999999997E-40,23.512,207.09,3.1476676298873619E-13,3.1476676298873619E-13]
[1976,6,13,0,0,0,0,23.494,207.09,0,0]
[1976,6,18,0,0,0,0,23.463999999999999,207.09,0,0]
[1976,6,19,0,0,0,0,23.457999999999998,207.09,0,0]
[1976,6,24,0,0,0,0,23.428000000000001,207.09,0,0]
[1976,6,30,0.13855999999999999,0.38044,6.7998000000000004E-24,3.4179000000000002E-41,23.391999999999999,207.09,4.907476905311779E-14,4.907476905311779E-14]
[1976,7,5,0.42165000000000002,2.6280000000000001,3.5345E-24,1.3289E-41,23.361999999999998,207.09,8.3825447646152014E-15,8.3825447646152014E-15]
[1976,7,6,1.2612000000000001,11.58,4.9557999999999997E-24,1.621E-41,23.548999999999999,207.48,3.9294322867110685E-15,3.9294322867110685E-15]
[1976,7,12,0,0,0,0,23.513000000000002,207.48,0,0]
[1976,7,17,0,0,0,0,23.483000000000001,207.48,0,0]
[1976,7,22,0,0,0,0,23.452999999999999,207.48,0,0]
[1976,7,23,0,0,0,0,23.446999999999999,207.48,0,0]
[1976,7,28,0,0,0,0,23.417000000000002,207.48,0,0]
[1976,8,4,0,0,0,0,23.375,207.48,0,0]
[1976,8,8,0,0,0,0,23.350999999999999,207.48,0,0]
[1976,8,9,0,0,0,0,23.344999999999999,207.48,0,0]
[1976,8,14,0,0,0,0,23.315999999999999,207.48,0,0]
[1976,8,17,0,0,0,0,23.297999999999998,207.48,0,0]
[1976,8,25,0,0,0,0,23.25,207.48,0,0]
[1976,8,26,0,0,0,0,23.244,207.48,0,0]
[1976,8,31,0,0,0,0,23.213999999999999,207.48,0,0]
[1976,9,5,0,0,0,0,23.184999999999999,207.48,0,0]
[1976,9,9,0,0,0,0,23.161000000000001,207.48,0,0]
[1976,9,12,0,0,0,0,23.143000000000001,207.48,0,0]
[1976,9,17,0,0,0,0,23.114000000000001,207.48,0,0]
[1976,9,22,0,0,0,0,23.084,207.48,0,0]
[1976,9,28,0,0,0,0,23.048999999999999,207.48,0,0]
[1976,9,29,0,0,0,0,23.042999999999999,207.48,0,0]
[1976,10,4,0,0,0,0,23.013000000000002,207.48,0,0]
[1976,10,9,0,0,0,0,22.984000000000002,207.48,0,0]
[1976,10,11,0,0,0,0,22.972000000000001,207.48,0,0]
[1976,10,16,0,0,0,0,22.943000000000001,207.48,0,0]
[1976,10,21,0,0,0,0,22.913,207.48,0,0]
[1976,10,26,0,0,0,0,22.884,207.48,0,0]
[1976,10,31,0,0,0,0,22.855,207.48,0,0]
[1976,11,3,0,0,0,0,22.837,207.48,0,0]
[1976,11,7,0,0,0,0,22.814,207.48,0,0]
[1976,11,12,0,0,0,0,22.785,207.48,0,0]
[1976,11,17,0,0,0,0,22.756,207.48,0,0]
[1976,11,22,0,0,0,0,22.727,207.48,0,0]
[1976,11,24,0,0,0,0,22.715,207.48,0,0]
[1976,11,29,5.0577999999999998E-2,0.29886000000000001,1.9851E-11,1.253E-18,22.913,207.95,0.39248289770255845,0.39248292247617539]
[1976,12,4,0,0,0,0,22.882999999999999,207.95,0,0]
[1976,12,5,0,0,0,0,22.876999999999999,207.95,0,0]
[1976,12,11,3.1733999999999999E-4,3.8963000000000002E-4,5.5956000000000003E-14,6.9651E-22,23.004999999999999,208.29,0.17632822839856307,0.17632823059340139]
[1976,12,16,0,0,0,0,23.402999999999999,209.18,0,0]
[1976,12,21,0,0,0,0,23.373000000000001,209.18,0,0]
[1976,12,22,0,0,0,0,23.367000000000001,209.18,0,0]
[1976,12,28,0,0,0,0,23.495999999999999,209.53,0,0]
[1977,1,2,0,0,0,0,23.466000000000001,209.53,0,0]
[1977,1,7,0,0,0,0,23.79,210.26,0,0]
[1977,1,8,0,0,0,0,23.783999999999999,210.26,0,0]
[1977,1,16,0,0,0,0,24.408999999999999,211.64,0,0]
[1977,1,19,0,0,0,0,24.39,211.64,0,0]
[1977,1,24,1.9161000000000001E-2,8.7246000000000004E-2,3.3245000000000001E-14,2.4331E-24,24.359000000000002,211.64,1.7350347059130525E-3,1.7350347060400345E-3]
[1977,1,25,0,0,0,0,24.353000000000002,211.64,0,0]
[1977,1,30,0,0,0,0,24.321000000000002,211.64,0,0]
[1977,2,3,0,0,0,0,24.297000000000001,211.64,0,0]
[1977,2,10,0,0,0,0,24.253,211.64,0,0]
[1977,2,11,0,0,0,0,24.247,211.64,0,0]
[1977,2,16,0,0,0,0,24.216000000000001,211.64,0,0]
[1977,2,21,0,0,0,0,24.184999999999999,211.64,0,0]
[1977,2,27,0.24884000000000001,3.7663000000000002,6.1685000000000004E-14,9.3367999999999996E-25,24.148,211.64,2.4789021057707765E-4,2.4789021058082981E-4]
[1977,2,28,0,0,0,0,24.141999999999999,211.64,0,0]
[1977,3,5,2.0282999999999999E-5,1.5098E-5,2.3831000000000001E-18,1.1111E-29,24.111000000000001,211.64,1.174924813883548E-4,1.1749248138890258E-4]
[1977,3,12,0.40851999999999999,8.6638999999999999,1.075E-14,3.3199000000000001E-26,24.193999999999999,211.9,2.6314501126015866E-5,2.6314501126097127E-5]
[1977,3,16,0,0,0,0,24.169,211.9,0,0]
[1977,3,17,0,0,0,0,24.163,211.9,0,0]
[1977,3,22,0,0,0,0,24.132000000000001,211.9,0,0]
[1977,3,27,0,0,0,0,24.100999999999999,211.9,0,0]
[1977,3,30,1.014,33.930999999999997,1.0941999999999999E-15,5.1724000000000002E-28,24.082999999999998,211.9,1.0790927021696251E-6,1.0790927021701352E-6]
[1977,4,3,1.5054E-2,8.7522000000000003E-2,1.0802E-17,2.1169E-30,24.058,211.9,7.1755015278331345E-7,7.1755015278345406E-7]
[1977,4,8,0,0,0,0,24.192,212.25,0,0]
[1977,4,13,0,0,0,0,24.161999999999999,212.25,0,0]
[1977,4,17,0,0,0,0,24.137,212.25,0,0]
[1977,4,20,0,0,0,0,24.117999999999999,212.25,{"$f":"IF(D5955=0,0,(F5955)/D5955*1000000*1000)","v":0},{"$f":"IF(D5955=0,0,(F5955+G5955)/D5955*1000000*1000)","v":0}]
[1977,4,25,0,0,0,0,24.087,212.25,0,0]
[1977,4,30,0,0,0,0,24.056999999999999,212.25,0,0]
[1977,5,6,0,0,0,0,24.02,212.25,0,0]
[1977,5,7,9.3987000000000001E-2,0.86236999999999997,7.6453000000000004E-18,2.7764999999999999E-31,24.013999999999999,212.25,8.1344228457127056E-8,8.1344228457130007E-8]
[1977,5,12,0,0,0,0,23.983000000000001,212.25,0,0]
[1977,5,17,0,0,0,0,23.952000000000002,212.25,0,0]
[1977,5,22,0,0,0,0,23.922000000000001,212.25,0,0]
[1977,5,24,2.2013000000000001E-2,0.1174,8.8906999999999996E-19,1.2754E-32,23.908999999999999,212.25,4.0388406850497432E-8,4.0388406850498008E-8]
[1977,5,29,0,0,0,0,23.879000000000001,212.25,0,0]
[1977,6,3,0,0,0,0,23.847999999999999,212.25,0,0]
[1977,6,8,0,0,0,0,23.818000000000001,212.25,0,0]
[1977,6,11,0,0,0,0,23.8,212.25,0,0]
[1977,6,15,0,0,0,0,23.774999999999999,212.25,0,0]
[1977,6,20,0,0,0,0,23.745000000000001,212.25,0,0]
[1977,6,25,0,0,0,0,23.713999999999999,212.25,0,0]
[1977,6,30,0,0,0,0,23.684000000000001,212.25,0,0]
[1977,7,2,0,0,0,0,23.672000000000001,212.25,0,0]
[1977,7,7,0,0,0,0,23.641999999999999,212.25,0,0]
[1977,7,12,0,0,0,0,23.611999999999998,212.25,0,0]
[1977,7,13,0,0,0,0,23.605,212.25,0,0]
[1977,7,18,0,0,0,0,23.574999999999999,212.25,0,0]
[1977,7,24,0,0,0,0,23.539000000000001,212.25,0,0]
[1977,7,29,3.7071999999999998,50.066000000000003,6.1894999999999999E-8,1.3875999999999999E-10,23.509,212.25,16.695889080707811,16.733318946914114]
[1977,7,30,0,0,0,0,23.503,212.25,0,0]
[1977,8,5,0,0,0,0,23.466999999999999,212.25,0,0]
[1977,8,10,0,0,0,0,23.437000000000001,212.25,0,0]
[1977,8,15,0,0,0,0,23.407,212.25,0,0]
[1977,8,16,0,0,0,0,23.401,212.25,0,0]
[1977,8,21,0,0,0,0,23.370999999999999,212.25,0,0]
[1977,8,28,0,0,0,0,23.329000000000001,212.25,0,0]
[1977,9,1,0,0,0,0,23.305,212.25,0,0]
[1977,9,2,0,0,0,0,23.298999999999999,212.25,0,0]
[1977,9,7,0.71255999999999997,8.0510999999999999,1.7972E-9,1.9732000000000001E-14,23.27,212.25,2.5221735713483779,2.5222012630515329]
[1977,9,11,0,0,0,0,23.245999999999999,212.25,0,0]
[1977,9,18,0,0,0,0,23.204000000000001,212.25,0,0]
[1977,9,19,0.45444000000000001,6.6870000000000003,3.0698000000000001E-10,2.0097999999999999E-16,23.198,212.25,0.67551271895079656,0.67551316120940064]
[1977,9,24,0,0,0,0,23.169,212.25,0,0]
[1977,9,29,0,0,0,0,23.138999999999999,212.25,0,0]
[1977,10,5,0,0,0,0,23.103999999999999,212.25,0,0]
[1977,10,6,0,0,0,0,23.097999999999999,212.25,0,0]
[1977,10,11,0,0,0,0,23.068000000000001,212.25,0,0]
[1977,10,16,0,0,0,0,23.039000000000001,212.25,0,0]
[1977,10,22,0,0,0,0,23.003,212.25,0,0]
[1977,10,23,0,0,0,0,22.997,212.25,0,0]
[1977,10,28,0,0,0,0,22.968,212.25,0,0]
[1977,11,2,0,0,0,0,22.939,212.25,0,0]
[1977,11,5,4.5144000000000002,153.52000000000001,6.4445999999999999E-11,1.4919999999999999E-19,23.596,213.72,1.4275651249335459E-2,1.4275651282385256E-2]
[1977,11,9,0,0,0,0,24.023,214.69,0,0]
[1977,11,14,0,0,0,0,23.992000000000001,214.69,0,0]
[1977,11,19,0,0,0,0,23.960999999999999,214.69,0,0]
[1977,11,23,0,0,0,0,23.937000000000001,214.69,0,0]
[1977,11,26,0,0,0,0,23.919,214.69,0,0]
[1977,12,1,0,0,0,0,23.888000000000002,214.69,0,0]
[1977,12,6,0,0,0,0,23.856999999999999,214.69,0,0]
[1977,12,11,0,0,0,0,23.827000000000002,214.69,0,0]
[1977,12,16,0,0,0,0,23.797000000000001,214.69,0,0]
[1977,12,18,0,0,0,0,23.783999999999999,214.69,0,0]
[1977,12,23,0,0,0,0,23.754000000000001,214.69,0,0]
[1977,12,28,0,0,0,0,23.724,214.69,0,0]
[1977,12,30,1.1209,28.582999999999998,2.2630000000000001E-13,2.9356000000000001E-24,23.710999999999999,214.69,2.0189133731822643E-4,2.0189133732084541E-4]
[1978,1,4,0,0,0,0,23.681000000000001,214.69,0,0]
[1978,1,9,0,0,0,0,24.076000000000001,215.62,0,0]
[1978,1,14,0,0,0,0,24.045999999999999,215.62,0,0]
[1978,1,17,0.66091999999999995,15.128,1.0228E-14,2.0253E-26,24.39,216.41,1.5475397930157965E-5,1.5475397930188607E-5]
[1978,1,21,0,0,0,0,24.965,217.7,0,0]
[1978,1,26,0,0,0,0,26.052,220.09,0,0]
[1978,1,31,0,0,0,0,26.018999999999998,220.09,0,0]
[1978,2,1,0,0,0,0,26.012,220.09,0,0]
[1978,2,9,0,0,0,0,25.959,220.09,0,0]
[1978,2,12,0,0,0,0,25.939,220.09,0,0]
[1978,2,17,0,0,0,0,25.905999999999999,220.09,0,0]
[1978,2,18,0,0,0,0,25.899000000000001,220.09,0,0]
[1978,2,23,0,0,0,0,25.866,220.09,0,0]
[1978,3,1,0,0,0,0,25.827000000000002,220.09,0,0]
[1978,3,6,0,0,0,0,25.794,220.09,{"$f":"IF(D6275=0,0,(F6275)/D6275*1000000*1000)","v":0},{"$f":"IF(D6275=0,0,(F6275+G6275)/D6275*1000000*1000)","v":0}]
[1978,3,7,0,0,0,0,25.786999999999999,220.09,0,0]
[1978,3,12,0,0,0,0,25.754000000000001,220.09,0,0]
[1978,3,17,0,0,0,0,25.721,220.09,0,0]
[1978,3,23,0,0,0,0,25.681999999999999,220.09,0,0]
[1978,3,24,0,0,0,0,25.675000000000001,220.09,0,0]
[1978,3,29,0,0,0,0,25.641999999999999,220.09,0,0]
[1978,4,5,0,0,0,0,25.596,220.09,0,0]
[1978,4,9,0,0,0,0,25.57,220.09,0,0]
[1978,4,10,0,0,0,0,25.564,220.09,0,0]
[1978,4,15,0,0,0,0,25.530999999999999,220.09,0,0]
[1978,4,18,0.77883999999999998,21.916,2.1404000000000002E-18,9.9881000000000004E-33,25.510999999999999,220.09,2.7481896153253556E-9,2.7481896153253688E-9]
[1978,4,26,0,0,0,0,25.459,220.09,0,0]
[1978,4,27,0,0,0,0,25.452999999999999,220.09,0,0]
[1978,5,2,0,0,0,0,25.42,220.09,0,0]
[1978,5,7,0.35997000000000001,8.4751999999999992,2.9549000000000001E-20,2.4154000000000003E-35,25.388000000000002,220.09,8.2087396171903208E-11,8.2087396171903286E-11]
[1978,5,11,0,0,0,0,25.419,220.22,0,0]
[1978,5,14,0,0,0,0,25.399000000000001,220.22,0,0]
[1978,5,19,0,0,0,0,25.367000000000001,220.22,0,0]
[1978,5,24,0,0,0,0,25.334,220.22,0,0]
[1978,5,30,0,0,0,0,25.295999999999999,220.22,0,0]
[1978,5,31,0,0,0,0,25.289000000000001,220.22,0,0]
[1978,6,5,0,0,0,0,25.257000000000001,220.22,0,0]
[1978,6,10,0,0,0,0,25.224,220.22,0,0]
[1978,6,12,0,0,0,0,25.212,220.22,0,0]
[1978,6,17,0,0,0,0,25.178999999999998,220.22,0,0]
[1978,6,22,0,0,0,0,25.146999999999998,220.22,0,0]
[1978,6,27,0,0,0,0,25.114999999999998,220.22,0,0]
[1978,7,2,0,0,0,0,25.082999999999998,220.22,0,0]
[1978,7,5,0,0,0,0,25.064,220.22,0,0]
[1978,7,9,0,0,0,0,25.038,220.22,0,0]
[1978,7,14,0,0,0,0,25.006,220.22,0,0]
[1978,7,19,0,0,0,0,24.974,220.22,0,0]
[1978,7,24,0.57759000000000005,3.6768000000000001,5.2106000000000002E-9,1.2525E-11,24.942,220.22,9.0212780692186509,9.0429630014370037]
[1978,7,26,0,0,0,0,24.928999999999998,220.22,0,0]
[1978,7,31,5.0483000000000004E-3,4.9518000000000001E-3,1.1045E-10,4.3515000000000002E-13,24.896999999999998,220.22,21.878652219559058,21.964849553314977]
[1978,8,5,0,0,0,0,24.866,220.22,0,0]
[1978,8,6,0,0,0,0,24.859000000000002,220.22,0,0]
[1978,8,11,1.2482,15.465999999999999,6.7914000000000003E-9,7.5507000000000003E-13,25.32,221.31,5.4409549751642361,5.4415599022592529]
[1978,8,17,0,0,0,0,25.440999999999999,221.67,0,0]
[1978,8,22,0,0,0,0,25.408999999999999,221.67,0,0]
[1978,8,23,0,0,0,0,25.402000000000001,221.67,0,0]
[1978,8,29,0,0,0,0,25.363,221.67,0,0]
[1978,9,3,0,0,0,0,25.331,221.67,0,0]
[1978,9,8,0,0,0,0,25.297999999999998,221.67,0,0]
[1978,9,9,0,0,0,0,25.292000000000002,221.67,0,0]
[1978,9,17,0,0,0,0,25.24,221.67,0,0]
[1978,9,20,0,0,0,0,25.221,221.67,0,0]
[1978,9,25,0,0,0,0,25.187999999999999,221.67,0,0]
[1978,9,26,0,0,0,0,25.181999999999999,221.67,0,0]
[1978,10,1,0,0,0,0,25.15,221.67,0,0]
[1978,10,5,0,0,0,0,25.123999999999999,221.67,0,0]
[1978,10,12,0,0,0,0,25.079000000000001,221.67,0,0]
[1978,10,13,0.82543,13.186999999999999,9.9935999999999995E-10,1.3946E-15,25.073,221.67,1.2107144155167611,1.2107161050603927]
[1978,10,18,0,0,0,0,25.041,221.67,0,0]
[1978,10,23,0,0,0,0,25.009,221.67,0,0]
[1978,10,29,0,0,0,0,24.97,221.67,0,0]
[1978,10,30,0,0,0,0,24.963999999999999,221.67,0,0]
[1978,11,4,0,0,0,0,24.931999999999999,221.67,0,0]
[1978,11,11,0,0,0,0,24.887,221.67,0,0]
[1978,11,15,0,0,0,0,24.861999999999998,221.67,0,0]
[1978,11,16,0,0,0,0,24.856000000000002,221.67,0,0]
[1978,11,21,0,0,0,0,24.824000000000002,221.67,0,0]
[1978,11,26,0,0,0,0,24.792000000000002,221.67,0,0]
[1978,11,29,0.19861000000000001,2.5116000000000001,4.1712000000000002E-11,2.8819E-18,24.773,221.67,0.21001963647349076,0.21001965098383768]
[1978,12,3,0,0,0,0,24.748000000000001,221.67,0,0]
[1978,12,8,0,0,0,0,24.992000000000001,222.3,0,0]
[1978,12,13,0,0,0,0,24.992000000000001,222.37,0,0]
[1978,12,17,0,0,0,0,24.966000000000001,222.37,0,0]
[1978,12,20,0,0,0,0,24.946999999999999,222.37,0,0]
[1978,12,25,0,0,0,0,24.914999999999999,222.37,0,0]
[1978,12,30,1.1591000000000001E-2,4.2604999999999997E-2,3.5318999999999998E-13,6.8990999999999995E-22,24.882999999999999,222.37,3.0471055128979376E-2,3.0471055188500556E-2]
[1979,1,5,0,0,0,0,24.898,222.49,0,0]
[1979,1,6,0,0,0,0,24.890999999999998,222.49,0,0]
[1979,1,11,0,0,0,0,25.108000000000001,223.06,0,0]
[1979,1,16,0,0,0,0,25.452999999999999,223.92,0,0]
[1979,1,21,0,0,0,0,25.911999999999999,225.03,0,0]
[1979,1,23,0.75699000000000005,18.489999999999998,4.8250000000000001E-13,4.0031999999999998E-23,26.292999999999999,225.93,6.3739283213780893E-4,6.3739283219069209E-4]
[1979,1,28,0,0,0,0,26.285,225.98,0,0]
[1979,2,2,0,0,0,0,26.251000000000001,225.98,0,0]
[1979,2,7,1.9092999999999999E-2,0.10013,2.9977000000000002E-15,3.8325000000000001E-26,26.510999999999999,226.65,1.5700518514638874E-4,1.5700518514839601E-4]
[1979,2,10,0,0,0,0,26.491,226.65,0,0]
[1979,2,14,0,0,0,0,26.463999999999999,226.65,0,0]
[1979,2,19,0,0,0,0,26.591999999999999,227.02,0,0]
[1979,2,24,1.3621000000000001,46.186,9.6925000000000004E-15,2.5524999999999999E-26,27.809000000000001,229.83,7.1158505249247478E-6,7.1158505249434884E-6]
[1979,2,25,0.61741000000000001,15.795,2.3668999999999999E-15,4.0604000000000001E-27,28.196000000000002,230.71,3.8335951798642713E-6,3.8335951798708477E-6]
[1979,3,5,0,0,0,0,28.599,231.74,0,0]
[1979,3,8,0,0,0,0,28.577000000000002,231.74,0,0]
[1979,3,13,0,0,0,0,28.541,231.74,0,0]
[1979,3,14,0,0,0,0,28.533000000000001,231.74,0,0]
[1979,3,19,0,0,0,0,28.497,231.74,0,0]
[1979,3,25,0,0,0,0,28.452999999999999,231.74,{"$f":"IF(D6659=0,0,(F6659)/D6659*1000000*1000)","v":0},{"$f":"IF(D6659=0,0,(F6659+G6659)/D6659*1000000*1000)","v":0}]
[1979,3,30,0,0,0,0,28.417000000000002,231.74,0,0]
[1979,3,31,0,0,0,0,28.41,231.74,0,0]
[1979,4,6,0,0,0,0,28.366,231.74,0,0]
[1979,4,11,0,0,0,0,28.33,231.74,0,0]
[1979,4,16,0,0,0,0,28.914999999999999,233.13,0,0]
[1979,4,17,0,0,0,0,28.907,233.13,0,0]
[1979,4,22,0,0,0,0,28.87,233.13,0,0]
[1979,4,29,0,0,0,0,28.818999999999999,233.13,0,0]
[1979,5,3,0,0,0,0,28.789000000000001,233.13,0,0]
[1979,5,4,0,0,0,0,28.782,233.13,0,0]
[1979,5,9,5.7460999999999998E-2,0.50353999999999999,5.9889000000000002E-21,1.3319000000000001E-35,28.745000000000001,233.13,1.0422547466977602E-10,1.0422547466977627E-10]
[1979,5,13,0,0,0,0,28.715,233.13,0,0]
[1979,5,20,0,0,0,0,28.664000000000001,233.13,0,0]
[1979,5,21,0,0,0,0,28.657,233.13,0,0]
[1979,5,26,0,0,0,0,28.62,233.13,0,0]
[1979,5,31,1.4551E-3,3.8265999999999999E-3,1.9629E-23,5.2755000000000002E-39,28.584,233.13,1.3489794515840834E-11,1.3489794515840839E-11]
[1979,6,6,0,0,0,0,28.54,233.13,0,0]
[1979,6,7,5.6609E-2,0.29497000000000001,2.8332999999999998E-22,2.9625000000000002E-38,28.532,233.13,5.0050345351445878E-12,5.0050345351445886E-12]
[1979,6,12,0,0,0,0,28.495999999999999,233.13,0,0]
[1979,6,17,0,0,0,0,28.459,233.13,0,0]
[1979,6,23,0,0,0,0,28.416,233.13,0,0]
[1979,6,24,0,0,0,0,28.408999999999999,233.13,0,0]
[1979,6,29,0,0,0,0,28.372,233.13,0,0]
[1979,7,4,0,0,0,0,28.335999999999999,233.13,0,0]
[1979,7,7,0,0,0,0,28.314,233.13,0,0]
[1979,7,11,0,0,0,0,28.285,233.13,0,0]
[1979,7,16,0,0,0,0,28.248999999999999,233.13,0,0]
[1979,7,21,2.2239999999999999E-2,3.7394999999999998E-2,2.3071E-10,5.8265999999999996E-13,28.213000000000001,233.13,10.373651079136691,10.399849820143885]
[1979,7,26,0,0,0,0,28.177,233.13,0,0]
[1979,7,30,0,0,0,0,28.148,233.13,0,0]
[1979,8,2,0,0,0,0,28.126000000000001,233.13,0,0]
[1979,8,7,0,0,0,0,28.091000000000001,233.13,0,0]
[1979,8,12,0,0,0,0,28.055,233.13,0,0]
[1979,8,17,0,0,0,0,28.018999999999998,233.13,0,0]
[1979,8,19,0,0,0,0,28.004000000000001,233.13,0,0]
[1979,8,24,1.4338,25.109000000000002,1.1517E-8,1.0527E-11,27.969000000000001,233.13,8.0325010461710136,8.0398430743478873]
[1979,8,29,1.1256999999999999,18.143999999999998,2.9188999999999999E-9,1.3031999999999999E-13,28.565999999999999,234.6,2.5929643777205293,2.5930801456871277]
[1979,8,31,4.1748999999999996E-3,7.1409999999999998E-3,9.8169999999999999E-12,1.4915999999999999E-16,28.550999999999998,234.6,2.3514335672710724,2.3514692950729357]
[1979,9,5,0,0,0,0,28.515000000000001,234.6,0,0]
[1979,9,10,0,0,0,0,28.478000000000002,234.6,0,0]
[1979,9,15,0,0,0,0,28.442,234.6,0,0]
[1979,9,16,0,0,0,0,28.434999999999999,234.6,0,0]
[1979,9,22,0,0,0,0,28.390999999999998,234.6,0,0]
[1979,9,27,1.9571000000000001,47.146000000000001,6.2143999999999998E-10,2.5318E-16,28.548999999999999,235.05,0.31753104082571149,0.31753117019058807]
[1979,10,2,0,0,0,0,28.931999999999999,236.03,0,0]
[1979,10,3,0,0,0,0,28.923999999999999,236.03,{"$f":"IF(D6851=0,0,(F6851)/D6851*1000000*1000)","v":0},{"$f":"IF(D6851=0,0,(F6851+G6851)/D6851*1000000*1000)","v":0}]
[1979,10,11,0,0,0,0,28.931000000000001,236.18,0,0]
[1979,10,14,0,0,0,0,28.908000000000001,236.18,0,0]
[1979,10,19,0,0,0,0,28.872,236.18,0,0]
[1979,10,20,0,0,0,0,28.864000000000001,236.18,0,0]
[1979,10,25,0,0,0,0,28.827000000000002,236.18,0,0]
[1979,10,31,0,0,0,0,28.783000000000001,236.18,0,0]
[1979,11,5,0,0,0,0,28.745999999999999,236.18,0,0]
[1979,11,6,0,0,0,0,28.739000000000001,236.18,0,0]
[1979,11,11,0.35504000000000002,5.2195999999999998,3.2618000000000001E-12,8.7325999999999997E-21,28.754999999999999,236.31,9.1871338440739064E-3,9.1871338686700076E-3]
[1979,11,16,0,0,0,0,28.719000000000001,236.31,0,0]
[1979,11,22,0,0,0,0,28.675000000000001,236.31,0,0]
[1979,11,23,0,0,0,0,28.667000000000002,236.31,0,0]
[1979,11,28,0,0,0,0,28.93,237.01,0,0]
[1979,12,5,0,0,0,0,28.878,237.01,0,0]
[1979,12,9,0,0,0,0,28.849,237.01,0,0]
[1979,12,10,0,0,0,0,28.841000000000001,237.01,0,0]
[1979,12,15,0,0,0,0,28.805,237.01,0,0]
[1979,12,18,0,0,0,0,28.782,237.01,0,0]
[1979,12,26,0,0,0,0,28.724,237.01,0,0]
[1979,12,27,0,0,0,0,28.716000000000001,237.01,0,0]
[1980,1,1,0,0,0,0,28.68,237.01,0,0]
[1980,1,6,0,0,0,0,28.643000000000001,237.01,0,0]
[1980,1,10,0,0,0,0,28.614000000000001,237.01,0,0]
[1980,1,13,0,0,0,0,28.591999999999999,237.01,0,0]
[1980,1,18,1.1574,33.384,4.2850999999999998E-14,4.5632999999999998E-25,29.457999999999998,239.16,3.7023500950406077E-5,3.7023500950800354E-5]
[1980,1,23,0,0,0,0,29.667999999999999,239.75,0,0]
[1980,1,29,0,0,0,0,29.622,239.75,0,0]
[1980,1,30,4.9985999999999997E-4,8.1181000000000005E-4,5.7891000000000003E-18,9.9166999999999998E-30,29.614999999999998,239.75,1.1581442803985117E-5,1.1581442804004956E-5]
[1980,2,4,0,0,0,0,29.577000000000002,239.75,0,0]
[1980,2,9,1.4686999999999999,46.868000000000002,3.9221999999999997E-15,4.9183000000000002E-27,29.829000000000001,240.45,2.6705249540409885E-6,2.6705249540443373E-6]
[1980,2,14,0,0,0,0,29.79,240.45,0,0]
[1980,2,16,0.1938,3.1322999999999999,2.0038999999999999E-16,1.1339000000000001E-28,29.832000000000001,240.58,1.0340041279669762E-6,1.0340041279675613E-6]
[1980,2,21,0,0,0,0,29.794,240.58,0,0]
[1980,2,26,0,0,0,0,29.802,240.69,0,0]
[1980,3,2,0,0,0,0,29.763999999999999,240.69,0,0]
[1980,3,5,0.60136999999999996,14.295999999999999,6.9807000000000005E-17,8.7324999999999995E-30,29.741,240.69,1.1607995077905452E-7,1.16079950779069E-7]
[1980,3,9,0,0,0,0,30.277999999999999,242.06,0,0]
[1980,3,14,0,0,0,0,30.69,243.14,0,0]
[1980,3,19,0,0,0,0,30.651,243.14,0,0]
[1980,3,24,3.7062999999999999E-2,0.25683,3.0051999999999997E-20,1.8011999999999999E-34,30.611999999999998,243.14,8.108356042414266E-10,8.1083560424143157E-10]
[1980,3,26,0,0,0,0,30.596,243.14,0,0]
[1980,3,31,0,0,0,0,31.262,244.85,0,0]
[1980,4,5,0,0,0,0,31.222000000000001,244.85,0,0]
[1980,4,6,0,0,0,0,31.213999999999999,244.85,0,0]
[1980,4,11,0,0,0,0,31.173999999999999,244.85,0,0]
[1980,4,17,0,0,0,0,31.126999999999999,244.85,0,0]
[1980,4,22,0,0,0,0,31.087,244.85,0,0]
[1980,4,23,0,0,0,0,31.079000000000001,244.85,0,0]
[1980,4,29,0,0,0,0,31.030999999999999,244.85,0,0]
[1980,5,4,0,0,0,0,30.991,244.85,0,0]
[1980,5,9,0,0,0,0,30.952000000000002,244.85,0,0]
[1980,5,10,0,0,0,0,30.943999999999999,244.85,0,0]
[1980,5,18,0,0,0,0,30.881,244.85,0,0]
[1980,5,21,0,0,0,0,30.856999999999999,244.85,0,0]
[1980,5,26,0,0,0,0,31.161999999999999,245.7,0,0]
[1980,5,27,0,0,0,0,31.154,245.7,0,0]
[1980,6,1,0,0,0,0,31.114999999999998,245.7,0,0]
[1980,6,5,0,0,0,0,31.082999999999998,245.7,0,0]
[1980,6,12,0,0,0,0,31.027000000000001,245.7,0,0]
[1980,6,13,0,0,0,0,31.018999999999998,245.7,0,0]
[1980,6,18,0,0,0,0,30.98,245.7,0,0]
[1980,6,23,1.5858000000000001,18.988,1.6172E-23,1.6216E-40,30.94,245.7,1.0198007314919915E-14,1.0198007314919915E-14]
[1980,6,29,0,0,0,0,31.204999999999998,246.47,0,0]
[1980,6,30,0,0,0,0,31.196999999999999,246.47,0,0]
[1980,7,5,0,0,0,0,31.157,246.47,0,0]
[1980,7,12,0,0,0,0,31.100999999999999,246.47,0,0]
[1980,7,16,0,0,0,0,31.068999999999999,246.47,0,0]
[1980,7,17,0,0,0,0,31.061,246.47,0,0]
[1980,7,22,0,0,0,0,31.021999999999998,246.47,0,0]
[1980,7,27,0,0,0,0,30.981999999999999,246.47,0,0]
[1980,7,30,0,0,0,0,30.957999999999998,246.47,0,0]
[1980,8,3,0,0,0,0,30.925999999999998,246.47,0,0]
[1980,8,8,0,0,0,0,30.887,246.47,0,0]
[1980,8,13,0,0,0,0,30.847000000000001,246.47,0,0]
[1980,8,17,0.1052,0.51171,2.0509E-9,3.3887999999999999E-12,30.815999999999999,246.47,19.495247148288971,19.527460076045628]
[1980,8,20,6.3929999999999998E-4,6.3948E-4,1.0025999999999999E-11,5.1476000000000003E-15,30.792000000000002,246.47,15.682778038479585,15.690829970279992]
[1980,8,25,0,0,0,0,30.753,246.47,0,0]
[1980,8,30,0,0,0,0,30.713999999999999,246.47,0,0]
[1980,9,4,0,0,0,0,30.673999999999999,246.47,0,0]
[1980,9,9,0,0,0,0,30.635000000000002,246.47,0,0]
[1980,9,11,0,0,0,0,30.619,246.47,0,0]
[1980,9,16,0,0,0,0,30.58,246.47,0,0]
[1980,9,21,0,0,0,0,30.541,246.47,0,0]
[1980,9,23,0,0,0,0,30.526,246.47,0,0]
[1980,9,28,1.7403,33.378,9.1514999999999993E-9,2.8180999999999999E-13,30.486999999999998,246.47,5.2585761075676603,5.2587380394184908]
[1980,10,3,0,0,0,0,31.007000000000001,247.89,0,0]
[1980,10,8,0,0,0,0,30.968,247.89,0,0]
[1980,10,11,0,0,0,0,30.943999999999999,247.89,0,0]
[1980,10,15,0,0,0,0,30.911999999999999,247.89,0,0]
[1980,10,20,0,0,0,0,30.873000000000001,247.89,0,0]
[1980,10,25,0,0,0,0,30.832999999999998,247.89,0,0]
[1980,10,26,0,0,0,0,30.826000000000001,247.89,0,0]
[1980,11,3,0,0,0,0,30.762,247.89,0,0]
[1980,11,6,0,0,0,0,30.739000000000001,247.89,0,0]
[1980,11,11,0,0,0,0,30.7,247.89,0,0]
[1980,11,12,0,0,0,0,30.692,247.89,0,0]
[1980,11,17,0,0,0,0,30.652000000000001,247.89,0,0]
[1980,11,23,4.9355000000000003E-2,0.25295000000000001,1.8364000000000001E-11,6.9255000000000002E-19,30.605,247.89,0.37207982980447779,0.37207984383649073]
[1980,11,28,0,0,0,0,30.565999999999999,247.89,0,0]
[1980,11,29,0,0,0,0,30.559000000000001,247.89,0,0]
[1980,12,5,0,0,0,0,30.512,247.89,0,0]
[1980,12,10,0.33567999999999998,5.4835000000000003,2.8443000000000001E-11,2.0878999999999999E-19,30.472999999999999,247.89,8.4732483317445206E-2,8.4732483939436359E-2]
[1980,12,15,0,0,0,0,30.434000000000001,247.89,0,0]
[1980,12,16,0,0,0,0,30.425999999999998,247.89,0,0]
[1980,12,21,0,0,0,0,30.387,247.89,0,0]
[1980,12,28,0,0,0,0,30.332999999999998,247.89,0,0]
[1981,1,1,0,0,0,0,30.302,247.89,0,0]
[1981,1,2,0,0,0,0,30.294,247.89,0,0]
[1981,1,7,0,0,0,0,30.254999999999999,247.89,0,0]
[1981,1,11,0,0,0,0,30.224,247.89,0,0]
[1981,1,18,0,0,0,0,30.17,247.89,0,0]
[1981,1,19,0,0,0,0,30.161999999999999,247.89,0,0]
[1981,1,24,0,0,0,0,30.123999999999999,247.89,0,0]
[1981,1,29,0,0,0,0,30.085000000000001,247.89,0,0]
[1981,2,3,0,0,0,0,30.047000000000001,247.89,0,0]
[1981,2,5,0,0,0,0,30.030999999999999,247.89,0,0]
[1981,2,10,6.2895000000000003,299.95,3.7086000000000003E-11,1.1823E-20,30.181000000000001,248.38,5.896494156928213E-3,5.896494158808014E-3]
[1981,2,15,0,0,0,0,30.141999999999999,248.38,0,0]
[1981,2,21,0,0,0,0,30.460999999999999,249.34,0,0]
[1981,2,22,1.2519000000000001E-4,1.4519000000000001E-4,1.3397000000000001E-16,3.2758999999999998E-27,30.452999999999999,249.34,1.070133397236201E-3,1.0701333972623682E-3]
[1981,2,27,0,0,0,0,30.414000000000001,249.34,0,0]
[1981,3,4,0.22319,2.6111,8.7428000000000006E-14,1.1598E-24,30.375,249.34,3.9172005914243468E-4,3.9172005914763121E-4]
[1981,3,7,0,0,0,0,30.352,249.34,0,0]
[1981,3,11,0,0,0,0,30.321000000000002,249.34,0,0]
[1981,3,16,0,0,0,0,30.282,249.34,0,0]
[1981,3,21,0,0,0,0,30.242999999999999,249.34,0,0]
[1981,3,26,0,0,0,0,30.204999999999998,249.34,0,0]
[1981,3,30,1.1375,30.167000000000002,4.2937999999999998E-14,1.3018999999999999E-25,30.173999999999999,249.34,3.774769230769231E-5,3.7747692307806754E-5]
[1981,4,2,0,0,0,0,30.151,249.34,0,0]
[1981,4,7,0,0,0,0,30.111999999999998,249.34,0,0]
[1981,4,12,0,0,0,0,30.074000000000002,249.34,0,0]
[1981,4,17,0,0,0,0,30.035,249.34,0,0]
[1981,4,19,0,0,0,0,30.02,249.34,0,0]
[1981,4,24,0,0,0,0,29.981999999999999,249.34,0,0]
[1981,4,29,0,0,0,0,29.943000000000001,249.34,0,0]
[1981,5,1,0,0,0,0,29.928000000000001,249.34,{"$f":"IF(D7427=0,0,(F7427)/D7427*1000000*1000)","v":0},{"$f":"IF(D7427=0,0,(F7427+G7427)/D7427*1000000*1000)","v":0}]
[1981,5,6,0,0,0,0,29.89,249.34,0,0]
[1981,5,11,0,0,0,0,29.850999999999999,249.34,0,0]
[1981,5,16,0,0,0,0,29.812999999999999,249.34,0,0]
[1981,5,17,0,0,0,0,29.806000000000001,249.34,0,0]
[1981,5,23,0,0,0,0,29.76,249.34,0,0]
[1981,5,28,0,0,0,0,29.722000000000001,249.34,0,0]
[1981,6,2,0,0,0,0,29.684000000000001,249.34,0,0]
[1981,6,3,0,0,0,0,29.675999999999998,249.34,0,0]
[1981,6,11,0,0,0,0,29.616,249.34,0,0]
[1981,6,14,0,0,0,0,29.593,249.34,0,0]
[1981,6,19,0,0,0,0,29.555,249.34,0,0]
[1981,6,20,0,0,0,0,29.547000000000001,249.34,0,0]
[1981,6,25,0,0,0,0,29.51,249.34,0,0]
[1981,7,1,0,0,0,0,29.463999999999999,249.34,0,0]
[1981,7,6,1.2424999999999999,10.776,2.1461000000000001E-18,1.8685999999999999E-33,29.427,249.34,1.7272434607645877E-9,1.7272434607645891E-9]
[1981,7,7,0,0,0,0,29.419,249.34,0,0]
[1981,7,12,0,0,0,0,29.382000000000001,249.34,0,0]
[1981,7,17,0,0,0,0,29.344000000000001,249.34,0,0]
[1981,7,23,0,0,0,0,29.298999999999999,249.34,0,0]
[1981,7,24,0,0,0,0,29.292000000000002,249.34,0,0]
[1981,7,29,9.3605000000000008E-3,1.1188999999999999E-2,2.4838000000000003E-10,1.0034999999999999E-12,29.254000000000001,249.34,26.534907323326749,26.642113134982104]
[1981,8,5,0,0,0,0,29.202000000000002,249.34,0,0]
[1981,8,9,0,0,0,0,29.172000000000001,249.34,0,0]
[1981,8,10,0,0,0,0,29.164000000000001,249.34,0,0]
[1981,8,15,0,0,0,0,29.126999999999999,249.34,0,0]
[1981,8,20,0,0,0,0,29.09,249.34,0,0]
[1981,8,23,0,0,0,0,29.068000000000001,249.34,0,0]
[1981,8,27,0,0,0,0,29.038,249.34,0,0]
[1981,9,1,2.7576999999999998,58.773000000000003,1.2657E-8,3.1764E-13,29.001000000000001,249.34,4.5896943104761228,4.5898094934184286]
[1981,9,6,0,0,0,0,28.963999999999999,249.34,{"$f":"IF(D7555=0,0,(F7555)/D7555*1000000*1000)","v":0},{"$f":"IF(D7555=0,0,(F7555+G7555)/D7555*1000000*1000)","v":0}]
[1981,9,10,0,0,0,0,28.934000000000001,249.34,0,0]
[1981,9,13,0,0,0,0,28.911999999999999,249.34,0,0]
[1981,9,18,0,0,0,0,28.875,249.34,0,0]
[1981,9,23,0,0,0,0,28.838000000000001,249.34,0,0]
[1981,9,29,0,0,0,0,28.794,249.34,0,0]
[1981,9,30,0,0,0,0,28.786000000000001,249.34,0,0]
[1981,10,5,0,0,0,0,28.748999999999999,249.34,0,0]
[1981,10,10,1.6869000000000001,42.893000000000001,1.1156E-9,5.4058E-16,28.713000000000001,249.34,0.66133143636255853,0.66133175682020262]
[1981,10,15,0,0,0,0,28.675999999999998,249.34,0,0]
[1981,10,17,0,0,0,0,28.661000000000001,249.34,0,0]
[1981,10,22,0,0,0,0,28.625,249.34,0,0]
[1981,10,27,0,0,0,0,28.588000000000001,249.34,0,0]
[1981,11,1,0,0,0,0,28.552,249.34,0,0]
[1981,11,4,0,0,0,0,28.53,249.34,0,0]
[1981,11,8,0,0,0,0,28.5,249.34,0,0]
[1981,11,13,0,0,0,0,28.463999999999999,249.34,0,0]
[1981,11,18,0,0,0,0,28.428000000000001,249.34,0,0]
[1981,11,23,0,0,0,0,28.390999999999998,249.34,0,0]
[1981,11,25,0,0,0,0,28.376999999999999,249.34,0,0]
[1981,11,30,0.79937000000000002,14.805999999999999,6.6967000000000003E-11,4.7389000000000001E-19,28.34,249.34,8.3774722594042797E-2,8.3774723186872166E-2]
[1981,12,5,0,0,0,0,28.303999999999998,249.34,0,0]
[1981,12,6,0,0,0,0,28.297000000000001,249.34,0,0]
[1981,12,11,0,0,0,0,28.260999999999999,249.34,0,0]
[1981,12,17,0,0,0,0,28.216999999999999,249.34,0,0]
[1981,12,22,0,0,0,0,28.181000000000001,249.34,0,0]
[1981,12,23,2.5646000000000002E-3,6.2471000000000002E-3,4.2525000000000001E-14,2.4175999999999999E-23,28.173999999999999,249.34,1.6581533182562586E-2,1.6581533191989389E-2]
[1981,12,29,0,0,0,0,28.550999999999998,250.53,0,0]
[1982,1,3,2.4693000000000001,86.974000000000004,1.7165E-12,1.1989E-22,29.446999999999999,253.19,6.951362734378164E-4,6.951362734863686E-4]
[1982,1,8,0,0,0,0,29.619,253.78,0,0]
[1982,1,9,0,0,0,0,29.611999999999998,253.78,0,0]
[1982,1,17,0,0,0,0,29.91,254.81,0,0]
[1982,1,20,0,0,0,0,29.887,254.81,0,0]
[1982,1,25,0,0,0,0,30.161999999999999,255.69,0,0]
[1982,1,26,0,0,0,0,30.154,255.69,0,0]
[1982,1,31,6.7618999999999999E-2,0.44605,1.2785999999999999E-15,2.3385999999999999E-27,30.114999999999998,255.69,1.890888655555391E-5,1.89088865555885E-5]
[1982,2,4,0,0,0,0,30.821000000000002,257.77999999999997,0,0]
[1982,2,11,0,0,0,0,31.042000000000002,258.57,0,0]
[1982,2,12,0,0,0,0,31.033999999999999,258.57,0,0]
[1982,2,17,0,0,0,0,31.225000000000001,259.22000000000003,0,0]
[1982,2,22,0,0,0,0,31.184999999999999,259.22000000000003,0,0]
[1982,2,28,0,0,0,0,31.138000000000002,259.22000000000003,0,0]
[1982,3,1,0,0,0,0,31.13,259.22000000000003,0,0]
[1982,3,6,8.7988999999999998E-2,0.72914999999999996,4.1714E-18,2.458E-31,31.09,259.22000000000003,4.7408198752116738E-8,4.7408198752119538E-8]
[1982,3,11,0,0,0,0,31.05,259.22000000000003,0,0]
[1982,3,17,3.0432000000000001E-2,0.21121000000000001,1.0491E-19,1.8961999999999999E-33,31.33,260.16000000000003,{"$f":"IF(D7747=0,0,(F7747)/D7747*1000000*1000)","v":3.4473580441640375E-9},{"$f":"IF(D7747=0,0,(F7747+G7747)/D7747*1000000*1000)","v":3.4473580441640999E-9}]
[1982,3,18,0,0,0,0,31.321999999999999,260.16000000000003,0,0]
[1982,3,23,0,0,0,0,31.282,260.16000000000003,0,0]
[1982,3,28,0,0,0,0,31.242000000000001,260.16000000000003,0,0]
[1982,3,31,0,0,0,0,31.218,260.16000000000003,0,0]
[1982,4,4,0,0,0,0,31.186,260.16000000000003,0,0]
[1982,4,9,0,0,0,0,31.146000000000001,260.16000000000003,0,0]
[1982,4,14,0,0,0,0,31.106000000000002,260.16000000000003,0,0]
[1982,4,18,0,0,0,0,31.074999999999999,260.16000000000003,0,0]
[1982,4,21,0,0,0,0,31.050999999999998,260.16000000000003,0,0]
[1982,4,26,0,0,0,0,31.010999999999999,260.16000000000003,0,0]
[1982,5,1,0,0,0,0,30.971,260.16000000000003,0,0]
[1982,5,6,0,0,0,0,30.931999999999999,260.16000000000003,0,0]
[1982,5,11,0,0,0,0,30.891999999999999,260.16000000000003,0,0]
[1982,5,13,0,0,0,0,30.876000000000001,260.16000000000003,0,0]
[1982,5,18,0,0,0,0,30.837,260.16000000000003,0,0]
[1982,5,23,0,0,0,0,30.797999999999998,260.16000000000003,0,0]
[1982,5,25,9.7393999999999994E-2,0.85640000000000005,2.8906000000000002E-23,2.0852E-39,30.782,260.16000000000003,2.9679446372466482E-13,2.9679446372466482E-13]
[1982,5,30,0,0,0,0,30.742000000000001,260.16000000000003,0,0]
[1982,6,4,1.0257000000000001,22.942,5.9002000000000002E-23,1.8645000000000001E-39,30.702999999999999,260.16000000000003,5.7523642390562539E-14,5.7523642390562539E-14]
[1982,6,9,0,0,0,0,30.664000000000001,260.16000000000003,0,0]
[1982,6,12,0.28509000000000001,2.6396999999999999,5.5425999999999999E-24,7.8927999999999999E-41,30.64,260.16000000000003,1.9441579851976568E-14,1.9441579851976568E-14]
[1982,6,16,0,0,0,0,30.609000000000002,260.16000000000003,0,0]
[1982,6,21,0,0,0,0,30.57,260.16000000000003,0,0]
[1982,6,26,0,0,0,0,30.530999999999999,260.16000000000003,0,0]
[1982,6,27,2.7734000000000001,38.79,6.0774000000000002E-24,3.1958000000000001E-41,30.523,260.16000000000003,2.1913175164058558E-15,2.1913175164058558E-15]
[1982,7,5,0,0,0,0,30.460999999999999,260.16000000000003,0,0]
[1982,7,8,0,0,0,0,30.437000000000001,260.16000000000003,0,0]
[1982,7,13,0,0,0,0,30.398,260.16000000000003,0,0]
[1982,7,14,0.39472000000000002,2.165,6.5103000000000002E-27,2.8427000000000002E-45,30.390999999999998,260.16000000000003,1.6493463721118767E-17,1.6493463721118767E-17]
[1982,7,19,2.2239999999999999E-2,3.7394999999999998E-2,2.7410000000000002E-10,7.0187000000000002E-13,30.352,260.16000000000003,12.324640287769785,12.356199190647482]
[1982,7,25,0,0,0,0,30.305,260.16000000000003,0,0]
[1982,7,30,7.9451999999999995E-2,0.16997999999999999,1.6277999999999999E-9,8.1991000000000005E-12,30.265999999999998,260.16000000000003,20.487841715752907,20.591037355887831]
[1982,7,31,0.26146000000000003,1.4464999999999999,4.5671999999999997E-9,2.1512999999999999E-11,30.259,260.16000000000003,17.468063948596342,17.550344220913331]
[1982,8,5,0,0,0,0,30.22,260.16000000000003,0,0]
[1982,8,11,0,0,0,0,30.173999999999999,260.16000000000003,0,0]
[1982,8,16,0,0,0,0,30.135000000000002,260.16000000000003,0,0]
[1982,8,17,1.3702E-3,1.5355E-3,1.5272E-11,8.5109000000000003E-15,30.126999999999999,260.16000000000003,11.145818128740331,11.152029557728797]
[1982,8,22,0,0,0,0,30.088999999999999,260.16000000000003,0,0]
[1982,8,29,0,0,0,0,30.035,260.16000000000003,0,0]
[1982,9,2,1.7964,35.716999999999999,7.6769999999999999E-9,8.2344999999999999E-13,30.004000000000001,260.16000000000003,4.2735470941883769,4.2740054831885992]
[1982,9,3,0,0,0,0,29.997,260.16000000000003,0,0]
[1982,9,8,0,0,0,0,29.957999999999998,260.16000000000003,0,0]
[1982,9,12,0,0,0,0,29.928000000000001,260.16000000000003,0,0]
[1982,9,19,0,0,0,0,29.873999999999999,260.16000000000003,0,0]
[1982,9,20,0,0,0,0,29.866,260.16000000000003,0,0]
[1982,9,25,0,0,0,0,29.827999999999999,260.16000000000003,{"$f":"IF(D7939=0,0,(F7939)/D7939*1000000*1000)","v":0},{"$f":"IF(D7939=0,0,(F7939+G7939)/D7939*1000000*1000)","v":0}]
[1982,9,30,0,0,0,0,29.79,260.16000000000003,0,0]
[1982,10,5,0,0,0,0,29.751999999999999,260.16000000000003,0,0]
[1982,10,7,1.1476,20.536999999999999,1.5581E-9,1.1984000000000001E-14,29.736999999999998,260.16000000000003,1.3577030324154757,1.3577134750784245]
[1982,10,12,1.0727,24.372,6.8477E-10,1.24E-15,29.87,260.67,0.63836114477486716,0.6383623007364595]
[1982,10,17,0,0,0,0,30.244,261.89999999999998,0,0]
[1982,10,23,0,0,0,0,30.196999999999999,261.89999999999998,0,0]
[1982,10,24,0,0,0,0,30.19,261.89999999999998,0,0]
[1982,10,29,0,0,0,0,30.151,261.89999999999998,0,0]
[1982,11,3,3.6876999999999998E-4,3.6534000000000002E-4,1.0998E-13,1.4649E-20,30.111999999999998,261.89999999999998,0.29823467201778886,0.29823471174173605]
[1982,11,6,0,0,0,0,30.088999999999999,261.89999999999998,0,0]
[1982,11,10,0,0,0,0,30.059000000000001,261.89999999999998,0,0]
[1982,11,15,0,0,0,0,30.02,261.89999999999998,0,0]
[1982,11,20,0,0,0,0,29.981999999999999,261.89999999999998,0,0]
[1982,11,25,0,0,0,0,29.943000000000001,261.89999999999998,0,0]
[1982,11,29,0,0,0,0,29.913,261.89999999999998,0,0]
[1982,12,2,0,0,0,0,30.097999999999999,262.52,0,0]
[1982,12,7,0,0,0,0,30.363,263.43,0,0]
[1982,12,12,0,0,0,0,30.577000000000002,264.19,0,0]
[1982,12,17,0,0,0,0,30.664000000000001,264.56,0,0]
[1982,12,19,0,0,0,0,30.648,264.56,0,0]
[1982,12,24,0,0,0,0,30.609000000000002,264.56,0,0]
[1982,12,29,0,0,0,0,30.57,264.56,0,0]
[1982,12,31,0,0,0,0,30.553999999999998,264.56,0,0]
[1983,1,5,0,0,0,0,31.119,266.36,0,0]
[1983,1,10,0,0,0,0,31.079000000000001,266.36,0,0]
[1983,1,15,0,0,0,0,31.039000000000001,266.36,0,0]
[1983,1,16,0,0,0,0,31.030999999999999,266.36,0,0]
[1983,1,22,0,0,0,0,30.984000000000002,266.36,0,0]
[1983,1,27,6.4660000000000004E-3,2.2478999999999999E-2,9.4873999999999991E-16,1.5594E-26,30.943999999999999,266.36,1.467274976801732E-4,1.467274976825849E-4]
[1983,2,1,1.2928999999999999,39.226999999999997,8.3950999999999995E-14,1.4846E-24,30.904,266.36,6.4932322685435848E-5,6.4932322686584113E-5]
[1983,2,2,0.83657999999999999,22.663,2.9290000000000001E-14,3.389E-25,31.123000000000001,267.04000000000002,3.5011594826555742E-5,3.5011594826960847E-5]
[1983,2,10,0,0,0,0,31.318999999999999,267.81,0,0]
[1983,2,13,4.0851999999999998E-3,1.3259E-2,3.8432E-17,7.5609000000000005E-29,31.295000000000002,267.81,9.4076177420934113E-6,9.407617742111919E-6]
[1983,2,18,0,0,0,0,31.254999999999999,267.81,0,0]
[1983,2,19,0,0,0,0,31.247,267.81,0,0]
[1983,2,24,4.5414999999999997E-2,0.32128000000000001,6.6702000000000001E-17,4.5305E-29,31.388999999999999,268.35000000000002,1.4687217879555213E-6,1.4687217879565191E-6]
[1983,2,28,1.6823000000000001E-2,8.4923999999999999E-2,1.6579000000000001E-17,7.4353000000000003E-30,31.356999999999999,268.35000000000002,9.8549604707840464E-7,9.8549604707884658E-7]
[1983,3,7,0,0,0,0,31.428000000000001,268.73,0,0]
[1983,3,8,0,0,0,0,31.42,268.73,0,0]
[1983,3,13,0,0,0,0,31.38,268.73,0,0]
[1983,3,18,0,0,0,0,31.34,268.73,0,0]
[1983,3,24,2.3073999999999999,95.978999999999999,6.8910999999999999E-17,8.6844999999999996E-30,31.574000000000002,269.57,2.9865216260726362E-8,2.9865216260730127E-8]
[1983,3,25,0,0,0,0,31.565999999999999,269.57,0,0]
[1983,3,30,0,0,0,0,31.776,270.32,0,0]
[1983,4,6,2.0282999999999999E-5,1.7096999999999999E-5,4.2105999999999997E-23,4.6465000000000002E-37,31.719000000000001,270.32,2.0759256520238625E-9,2.0759256520238857E-9]
[1983,4,10,0,0,0,0,31.954999999999998,271.11,0,0]
[1983,4,11,0,0,0,0,31.946999999999999,271.11,0,0]
[1983,4,16,0,0,0,0,31.905999999999999,271.11,0,0]
[1983,4,21,0,0,0,0,31.864999999999998,271.11,0,0]
[1983,4,24,0,0,0,0,31.841000000000001,271.11,0,0]
[1983,4,28,0,0,0,0,31.808,271.11,0,0]
[1983,5,3,0,0,0,0,31.766999999999999,271.11,0,0]
[1983,5,8,0,0,0,0,31.727,271.11,0,0]
[1983,5,12,0,0,0,0,31.693999999999999,271.11,0,0]
[1983,5,15,0,0,0,0,31.67,271.11,0,0]
[1983,5,20,0,0,0,0,31.629000000000001,271.11,0,0]
[1983,5,25,0,0,0,0,31.588999999999999,271.11,0,0]
[1983,5,31,0,0,0,0,31.541,271.11,0,0]
[1983,6,1,0,0,0,0,31.532,271.11,0,0]
[1983,6,6,1.3105E-2,4.3099999999999999E-2,1.7783E-22,2.1225000000000001E-38,31.492000000000001,271.11,1.3569629912247235E-11,1.3569629912247235E-11]
[1983,6,11,0,0,0,0,31.452000000000002,271.11,0,0]
[1983,6,16,0,0,0,0,31.411999999999999,271.11,0,0]
[1983,6,18,0,0,0,0,31.396000000000001,271.11,0,0]
[1983,6,23,0,0,0,0,31.355,271.11,0,0]
[1983,6,28,0,0,0,0,31.315000000000001,271.11,0,0]
[1983,7,3,0,0,0,0,31.274999999999999,271.11,0,0]
[1983,7,6,0,0,0,0,31.251000000000001,271.11,0,0]
[1983,7,10,0,0,0,0,31.219000000000001,271.11,0,0]
[1983,7,15,0,0,0,0,31.178999999999998,271.11,0,0]
[1983,7,20,0,0,0,0,31.14,271.11,0,0]
[1983,7,25,0,0,0,0,31.1,271.11,0,0]
[1983,7,27,0,0,0,0,31.084,271.11,0,0]
[1983,8,1,0.1135,0.56583000000000006,2.5195999999999999E-9,1.5663000000000001E-11,31.044,271.11,22.199118942731275,22.337118942731276]
[1983,8,6,0,0,0,0,31.004000000000001,271.11,0,0]
[1983,8,7,0,0,0,0,30.997,271.11,0,0]
[1983,8,12,0,0,0,0,30.957000000000001,271.11,0,0]
[1983,8,18,0,0,0,0,30.908999999999999,271.11,0,0]
[1983,8,23,0,0,0,0,30.87,271.11,0,0]
[1983,8,24,0,0,0,0,30.861999999999998,271.11,0,0]
[1983,8,30,0,0,0,0,30.815000000000001,271.11,0,0]
[1983,9,4,1.7248000000000001,33.878999999999998,9.1835999999999996E-9,1.1012E-12,30.9,271.49,5.324443413729127,5.325081864564007]
[1983,9,9,0,0,0,0,31.114999999999998,272.27,0,0]
[1983,9,10,0,0,0,0,31.106999999999999,272.27,0,0]
[1983,9,15,0,0,0,0,31.067,272.27,0,0]
[1983,9,22,0,0,0,0,31.010999999999999,272.27,0,0]
[1983,9,26,0,0,0,0,30.98,272.27,0,0]
[1983,9,27,0,0,0,0,30.972000000000001,272.27,0,0]
[1983,10,2,0,0,0,0,30.931999999999999,272.27,0,0]
[1983,10,6,0,0,0,0,30.901,272.27,0,0]
[1983,10,13,0.56352000000000002,9.2303999999999995,2.7486000000000002E-10,6.7735999999999998E-17,30.844999999999999,272.27,0.48775553662691656,0.48775565682850658]
[1983,10,14,0,0,0,0,30.837,272.27,{"$f":"IF(D8323=0,0,(F8323)/D8323*1000000*1000)","v":0},{"$f":"IF(D8323=0,0,(F8323+G8323)/D8323*1000000*1000)","v":0}]
[1983,10,19,0,0,0,0,30.797999999999998,272.27,0,0]
[1983,10,24,0,0,0,0,30.759,272.27,0,0]
[1983,10,30,0,0,0,0,30.710999999999999,272.27,0,0]
[1983,10,31,0,0,0,0,30.704000000000001,272.27,0,0]
[1983,11,5,0,0,0,0,30.664000000000001,272.27,0,0]
[1983,11,10,0,0,0,0,30.625,272.27,0,0]
[1983,11,16,0,0,0,0,30.577999999999999,272.27,0,0]
[1983,11,17,0,0,0,0,30.57,272.27,0,0]
[1983,11,22,0,0,0,0,30.599,272.48,0,0]
[1983,11,27,5.9379000000000003E-3,1.6642000000000001E-2,7.8398000000000006E-14,7.0771E-23,31.076000000000001,274.07,1.3202984220010441E-2,1.3202984231928965E-2]
[1983,11,30,0,0,0,0,31.259,274.70999999999998,0,0]
[1983,12,4,0,0,0,0,31.577999999999999,275.77999999999997,0,0]
[1983,12,9,0,0,0,0,31.896999999999998,276.87,0,0]
[1983,12,14,0,0,0,0,32.119,277.66000000000003,0,0]
[1983,12,18,0,0,0,0,32.085999999999999,277.66000000000003,0,0]
[1983,12,21,0,0,0,0,32.061999999999998,277.66000000000003,0,0]
[1983,12,26,0,0,0,0,32.070999999999998,277.81,0,0]
[1983,12,31,0,0,0,0,32.448999999999998,279.07,0,0]
[1984,1,5,0,0,0,0,32.408000000000001,279.07,0,0]
[1984,1,10,1.3617999999999999,32.067999999999998,4.2771999999999997E-14,4.4006999999999996E-25,32.564,279.66000000000003,3.1408430019092378E-5,3.1408430019415531E-5]
[1984,1,12,0,0,0,0,32.546999999999997,279.66000000000003,0,0]
[1984,1,17,0.25712000000000002,4.1692,4.0610999999999997E-15,2.4687E-26,32.658999999999999,280.12,1.5794570628500308E-5,1.5794570628596321E-5]
[1984,1,22,0,0,0,0,33.052999999999997,281.41000000000003,0,0]
[1984,1,24,0.20891999999999999,3.1657000000000002,6.8405000000000004E-16,1.4169E-27,33.186,281.86,3.2742197970515035E-6,3.2742197970582848E-6]
[1984,1,29,0,0,0,0,33.459000000000003,282.79000000000002,0,0]
[1984,2,3,7.3899999999999999E-3,2.6851E-2,6.6359000000000003E-18,3.2171000000000003E-30,33.417000000000002,282.79000000000002,8.9795669824086617E-7,8.9795669824130133E-7]
[1984,2,8,0,0,0,0,33.374000000000002,282.79000000000002,0,0]
[1984,2,9,0,0,0,0,33.365000000000002,282.79000000000002,0,0]
[1984,2,16,0,0,0,0,33.531999999999996,283.45,0,0]
[1984,2,20,0,0,0,0,33.497,283.45,0,0]
[1984,2,25,0,0,0,0,33.454000000000001,283.45,0,0]
[1984,2,26,0,0,0,0,33.445999999999998,283.45,0,0]
[1984,3,5,1.1742999999999999,34.305,8.0016000000000006E-18,4.2920000000000001E-31,33.667000000000002,284.3,6.8139317039938699E-9,6.8139317039942364E-9]
[1984,3,8,0,0,0,0,33.640999999999998,284.3,0,0]
[1984,3,13,0,0,0,0,33.597999999999999,284.3,0,0]
[1984,3,14,0,0,0,0,33.588999999999999,284.3,0,0]
[1984,3,19,0,0,0,0,33.545999999999999,284.3,0,0]
[1984,3,25,0,0,0,0,33.561,284.5,0,0]
[1984,3,30,0,0,0,0,33.518000000000001,284.5,0,0]
[1984,3,31,0,0,0,0,33.51,284.5,0,0]
[1984,4,5,0,0,0,0,33.466999999999999,284.5,0,0]
[1984,4,11,0,0,0,0,33.414999999999999,284.5,0,0]
[1984,4,16,0,0,0,0,33.372999999999998,284.5,0,0]
[1984,4,17,0,0,0,0,33.363999999999997,284.5,0,0]
[1984,4,22,9.3338000000000007E-5,1.2407E-4,5.2468999999999996E-26,1.2249999999999999E-41,33.408000000000001,284.75,5.6213975015534923E-13,5.6213975015534943E-13]
[1984,4,29,0,0,0,0,33.347999999999999,284.75,0,0]
[1984,5,3,2.8169,144.94999999999999,5.1789E-23,7.6806999999999996E-39,33.695,285.88,1.8385104192552098E-14,1.8385104192552098E-14]
[1984,5,4,0,0,0,0,33.686999999999998,285.88,0,0]
[1984,5,9,0,0,0,0,33.643999999999998,285.88,0,0]
[1984,5,13,0,0,0,0,33.609000000000002,285.88,0,0]
[1984,5,20,0,0,0,0,33.548999999999999,285.88,0,0]
[1984,5,21,0.61960000000000004,12.867000000000001,6.8015999999999998E-25,2.3532999999999999E-41,33.540999999999997,285.88,1.0977404777275661E-15,1.0977404777275661E-15]
[1984,5,26,1.0588E-2,4.7218000000000003E-2,6.9517000000000005E-27,1.1680999999999999E-43,33.497999999999998,285.88,6.5656403475632799E-16,6.5656403475632799E-16]
[1984,5,31,0,0,0,0,33.454999999999998,285.88,0,0]
[1984,6,5,0,0,0,0,33.411999999999999,285.88,0,0]
[1984,6,7,0,0,0,0,33.395000000000003,285.88,0,0]
[1984,6,12,0,0,0,0,33.351999999999997,285.88,0,0]
[1984,6,17,0,0,0,0,33.31,285.88,0,0]
[1984,6,23,0,0,0,0,33.259,285.88,0,0]
[1984,6,24,3.2619999999999999E-6,4.3720000000000002E-7,2.7236000000000001E-31,6.1059999999999998E-49,33.25,285.88,8.3494788473329251E-17,8.3494788473329251E-17]
[1984,6,29,0,0,0,0,33.207999999999998,285.88,0,0]
[1984,7,4,0,0,0,0,33.164999999999999,285.88,0,0]
[1984,7,7,0,0,0,0,33.14,285.88,0,0]
[1984,7,11,0,0,0,0,33.106000000000002,285.88,0,0]
[1984,7,16,2.8450000000000002,35.488999999999997,3.7831000000000003E-8,4.3033999999999998E-10,33.063000000000002,285.88,13.297363796133569,13.448625659050967]
[1984,7,21,0,0,0,0,33.021000000000001,285.88,0,0]
[1984,7,26,0,0,0,0,32.978999999999999,285.88,0,0]
[1984,7,30,1.8863000000000001,20.8,1.8629999999999999E-8,2.8162000000000001E-11,33.372999999999998,287.14999999999998,9.8764777606955416,9.8914075173620315]
[1984,8,2,0.13682,0.74975999999999998,7.7213E-10,1.8644000000000001E-13,33.911999999999999,288.82,5.6434000877064756,5.6447627539833363]
[1984,8,7,0,0,0,0,33.869,288.82,0,0]
[1984,8,12,0,0,0,0,33.826000000000001,288.82,0,0]
[1984,8,17,0,0,0,0,33.781999999999996,288.82,0,0]
[1984,8,19,0,0,0,0,33.765000000000001,288.82,0,0]
[1984,8,24,0,0,0,0,33.722000000000001,288.82,0,0]
[1984,8,29,1.145,16.263999999999999,9.4603000000000009E-10,4.2348000000000001E-15,33.695,288.87,{"$f":"IF(D8643=0,0,(F8643)/D8643*1000000*1000)","v":0.82622707423580799},{"$f":"IF(D8643=0,0,(F8643+G8643)/D8643*1000000*1000)","v":0.8262307727510918}]
[1984,8,30,0,0,0,0,33.686999999999998,288.87,0,0]
[1984,9,4,0,0,0,0,33.643999999999998,288.87,0,0]
[1984,9,10,0,0,0,0,33.591999999999999,288.87,0,0]
[1984,9,15,0,0,0,0,33.548999999999999,288.87,0,0]
[1984,9,16,0,0,0,0,33.540999999999997,288.87,0,0]
[1984,9,22,0,0,0,0,33.488999999999997,288.87,0,0]
[1984,9,27,0,0,0,0,33.445999999999998,288.87,0,0]
[1984,10,2,0,0,0,0,33.404000000000003,288.87,0,0]
[1984,10,3,0,0,0,0,33.395000000000003,288.87,0,0]
[1984,10,11,0,0,0,0,33.326999999999998,288.87,0,0]
[1984,10,14,0,0,0,0,33.301000000000002,288.87,0,0]
[1984,10,19,0,0,0,0,33.259,288.87,0,0]
[1984,10,20,0,0,0,0,33.25,288.87,0,0]
[1984,10,25,0,0,0,0,33.207999999999998,288.87,0,0]
[1984,10,29,2.2239999999999999E-2,9.8625000000000004E-2,6.6093000000000001E-12,1.4523E-18,33.173999999999999,288.87,0.29718075539568345,0.29718082069694246]
[1984,11,5,0,0,0,0,33.113999999999997,288.87,0,0]
[1984,11,6,0,0,0,0,33.106000000000002,288.87,0,0]
[1984,11,11,0,0,0,0,33.063000000000002,288.87,0,0]
[1984,11,16,0,0,0,0,33.021000000000001,288.87,0,0]
[1984,11,22,0,0,0,0,32.970999999999997,288.87,0,0]
[1984,11,23,0,0,0,0,32.962000000000003,288.87,0,0]
[1984,11,28,0.85492999999999997,18.384,6.7982999999999994E-11,1.6863999999999999E-18,32.92,288.87,7.9518791012129636E-2,7.9518792984688794E-2]
[1984,12,5,2.0674999999999999,63.094999999999999,3.3849999999999998E-11,1.1943000000000001E-19,33.274000000000001,290.11,1.6372430471584036E-2,1.6372430529349453E-2]
[1984,12,9,0,0,0,0,33.24,290.11,0,0]
[1984,12,10,0,0,0,0,33.231999999999999,290.11,0,0]
[1984,12,15,0,0,0,0,33.189,290.11,0,0]
[1984,12,20,0,0,0,0,33.146999999999998,290.11,0,0]
[1984,12,23,0,0,0,0,33.121000000000002,290.11,0,0]
[1984,12,27,0,0,0,0,33.087000000000003,290.11,0,0]
[1985,1,1,0,0,0,0,33.045000000000002,290.11,0,0]
[1985,1,6,0,0,0,0,33.051000000000002,290.26,0,0]
[1985,1,10,0,0,0,0,33.018000000000001,290.26,0,0]
[1985,1,13,0,0,0,0,32.991999999999997,290.26,0,0]
[1985,1,18,0,0,0,0,32.950000000000003,290.26,0,0]
[1985,1,23,0,0,0,0,32.908000000000001,290.26,0,0]
[1985,1,29,0,0,0,0,32.856999999999999,290.26,0,0]
[1985,1,30,1.6733000000000001E-2,7.2939000000000004E-2,1.2993999999999999E-14,4.4413999999999995E-25,32.848999999999997,290.26,7.7654933365206471E-4,7.765493336786075E-4]
[1985,2,4,0,0,0,0,33.04,290.95999999999998,0,0]
[1985,2,9,0,0,0,0,33.468000000000004,292.37,0,0]
[1985,2,14,0,0,0,0,33.426000000000002,292.37,0,0]
[1985,2,16,0,0,0,0,33.408999999999999,292.37,0,0]
[1985,2,21,0,0,0,0,33.366,292.37,0,0]
[1985,2,26,0,0,0,0,33.323,292.37,0,0]
[1985,3,3,0,0,0,0,33.280999999999999,292.37,0,0]
[1985,3,6,0,0,0,0,33.255000000000003,292.37,0,0]
[1985,3,10,0,0,0,0,33.220999999999997,292.37,0,0]
[1985,3,15,0,0,0,0,33.179000000000002,292.37,0,0]
[1985,3,20,0,0,0,0,33.136000000000003,292.37,0,0]
[1985,3,21,0,0,0,0,33.128,292.37,0,0]
[1985,3,29,0,0,0,0,33.06,292.37,0,0]
[1985,4,1,0,0,0,0,33.034999999999997,292.37,0,0]
[1985,4,6,0,0,0,0,32.991999999999997,292.37,0,0]
[1985,4,7,0,0,0,0,32.984000000000002,292.37,0,0]
[1985,4,12,0,0,0,0,32.942,292.37,0,0]
[1985,4,18,0,0,0,0,32.890999999999998,292.37,0,0]
[1985,4,23,0,0,0,0,32.848999999999997,292.37,0,0]
[1985,4,24,5.3553999999999997E-2,0.41160999999999998,6.1832000000000003E-18,3.0513000000000002E-31,32.841000000000001,292.37,1.1545729544011652E-7,1.1545729544012225E-7]
[1985,4,30,0,0,0,0,32.79,292.37,0,0]
[1985,5,5,0,0,0,0,32.747999999999998,292.37,0,0]
[1985,5,10,0,0,0,0,32.707000000000001,292.37,0,0]
[1985,5,11,0,0,0,0,32.698,292.37,0,0]
[1985,5,16,0,0,0,0,32.655999999999999,292.37,0,0]
[1985,5,23,0,0,0,0,32.597999999999999,292.37,0,0]
[1985,5,27,0,0,0,0,32.564999999999998,292.37,0,0]
[1985,5,28,1.942E-2,9.7948999999999994E-2,1.8561E-20,3.3793999999999999E-35,32.555999999999997,292.37,9.5576725025746643E-10,9.5576725025746829E-10]
[1985,6,2,0,0,0,0,32.515000000000001,292.37,0,0]
[1985,6,6,0,0,0,0,32.481000000000002,292.37,0,0]
[1985,6,13,0,0,0,0,32.423000000000002,292.37,0,0]
[1985,6,14,0,0,0,0,32.414999999999999,292.37,0,0]
[1985,6,19,0,0,0,0,32.374000000000002,292.37,0,0]
[1985,6,24,0,0,0,0,32.332000000000001,292.37,0,0]
[1985,6,30,0,0,0,0,32.283000000000001,292.37,0,0]
[1985,7,1,0,0,0,0,32.274000000000001,292.37,0,0]
[1985,7,6,2.3241000000000001,25.785,1.4356999999999999E-20,8.6310999999999994E-37,32.232999999999997,292.37,6.177445032485693E-12,6.177445032485693E-12]
[1985,7,11,0,0,0,0,32.192,292.37,0,0]
[1985,7,17,0,0,0,0,32.142000000000003,292.37,0,0]
[1985,7,18,0,0,0,0,32.134,292.37,0,0]
[1985,7,23,1.2134,9.2761999999999993,1.0048E-8,3.1369999999999997E-11,32.093000000000004,292.37,8.2808636888083065,8.3067166639195662]
[1985,7,28,3.2978000000000001,43.000999999999998,3.6215999999999998E-8,6.1982000000000006E-11,32.587000000000003,294.01,10.981866699011462,11.000661653223359]
[1985,7,31,0,0,0,0,32.710999999999999,294.47000000000003,0,0]
[1985,8,4,0,0,0,0,32.677,294.47000000000003,0,0]
[1985,8,9,0,0,0,0,32.636000000000003,294.47000000000003,0,0]
[1985,8,14,0,0,0,0,32.594000000000001,294.47000000000003,0,0]
[1985,8,19,0,0,0,0,32.552,294.47000000000003,0,0]
[1985,8,23,0,0,0,0,32.518999999999998,294.47000000000003,0,0]
[1985,8,26,0.51248000000000005,6.2577999999999996,6.2776000000000001E-10,2.8815E-15,32.494,294.47000000000003,1.2249453637215111,1.2249509863799564]
[1985,8,31,0,0,0,0,32.451999999999998,294.47000000000003,0,0]
[1985,9,5,0,0,0,0,32.411000000000001,294.47000000000003,0,0]
[1985,9,10,0,0,0,0,32.369999999999997,294.47000000000003,0,0]
[1985,9,12,0,0,0,0,32.353000000000002,294.47000000000003,0,0]
[1985,9,17,0,0,0,0,32.311999999999998,294.47000000000003,{"$f":"IF(D9027=0,0,(F9027)/D9027*1000000*1000)","v":0},{"$f":"IF(D9027=0,0,(F9027+G9027)/D9027*1000000*1000)","v":0}]
[1985,9,22,0,0,0,0,32.270000000000003,294.47000000000003,0,0]
[1985,9,24,0,0,0,0,32.253999999999998,294.47000000000003,0,0]
[1985,9,29,0,0,0,0,32.213000000000001,294.47000000000003,0,0]
[1985,10,4,0,0,0,0,32.433999999999997,295.27999999999997,0,0]
[1985,10,9,0,0,0,0,32.393000000000001,295.27999999999997,0,0]
[1985,10,10,0,0,0,0,32.384999999999998,295.27999999999997,0,0]
[1985,10,17,0,0,0,0,32.326999999999998,295.27999999999997,0,0]
[1985,10,21,0,0,0,0,32.293999999999997,295.27999999999997,0,0]
[1985,10,26,0,0,0,0,32.252000000000002,295.27999999999997,0,0]
[1985,10,27,0.61550000000000005,9.8076000000000008,2.6997999999999999E-11,5.5593999999999999E-19,32.244,295.27999999999997,4.3863525588952068E-2,4.3863526492185216E-2]
[1985,11,4,0,0,0,0,32.177999999999997,295.27999999999997,0,0]
[1985,11,7,0,0,0,0,32.154000000000003,295.27999999999997,0,0]
[1985,11,12,0,0,0,0,32.112000000000002,295.27999999999997,0,0]
[1985,11,13,0,0,0,0,32.103999999999999,295.27999999999997,0,0]
[1985,11,18,0,0,0,0,32.063000000000002,295.27999999999997,0,0]
[1985,11,24,0,0,0,0,32.014000000000003,295.27999999999997,0,0]
[1985,11,29,2.1404999999999998,62.1,5.7186000000000003E-12,3.5598000000000004E-21,32.043999999999997,295.5,2.6716187806587249E-3,2.6716187823217943E-3]
[1985,11,30,1.3904000000000001,35.374000000000002,2.1893999999999999E-12,8.2534000000000003E-22,32.353000000000002,296.48,1.5746547756041425E-3,1.5746547761977415E-3]
[1985,12,5,0,0,0,0,32.524000000000001,297.14,0,0]
[1985,12,11,2.8814999999999999E-3,6.3929E-3,2.2725000000000001E-15,1.8636E-25,32.473999999999997,297.14,7.8865174388339425E-4,7.8865174394806886E-4]
[1985,12,16,0,0,0,0,32.466999999999999,297.24,0,0]
[1985,12,17,0,0,0,0,32.459000000000003,297.24,0,0]
[1985,12,22,0,0,0,0,32.417000000000002,297.24,0,0]
[1985,12,29,0,0,0,0,32.359000000000002,297.24,0,0]
[1986,1,2,0,0,0,0,32.326000000000001,297.24,0,0]
[1986,1,3,0,0,0,0,32.317999999999998,297.24,0,0]
[1986,1,8,0,0,0,0,32.277000000000001,297.24,0,0]
[1986,1,12,0,0,0,0,32.244,297.24,0,0]
[1986,1,19,0,0,0,0,32.186,297.24,0,0]
[1986,1,20,0,0,0,0,32.177999999999997,297.24,0,0]
[1986,1,25,0,0,0,0,32.136000000000003,297.24,0,0]
[1986,1,30,0,0,0,0,32.094999999999999,297.24,0,0]
[1986,2,4,0,0,0,0,32.054000000000002,297.24,0,0]
[1986,2,6,0.10499,1.1151,2.6576E-15,1.2061E-26,32.037999999999997,297.24,2.5312886941613488E-5,2.5312886941728366E-5]
[1986,2,11,0,0,0,0,31.997,297.24,0,0]
[1986,2,16,0,0,0,0,31.956,297.24,0,0]
[1986,2,22,0,0,0,0,31.907,297.24,0,0]
[1986,2,23,0,0,0,0,31.899000000000001,297.24,0,0]
[1986,2,28,0,0,0,0,31.858000000000001,297.24,0,0]
[1986,3,5,0,0,0,0,31.817,297.24,0,0]
[1986,3,10,0,0,0,0,31.777000000000001,297.24,0,0]
[1986,3,12,0,0,0,0,31.76,297.24,0,0]
[1986,3,17,0,0,0,0,31.963999999999999,298,0,0]
[1986,3,22,0,0,0,0,32.255000000000003,299.02999999999997,0,0]
[1986,3,27,0,0,0,0,32.213999999999999,299.02999999999997,0,0]
[1986,3,31,0,0,0,0,32.180999999999997,299.02999999999997,0,0]
[1986,4,3,0,0,0,0,32.155999999999999,299.02999999999997,0,0]
[1986,4,8,0,0,0,0,32.115000000000002,299.02999999999997,0,0]
[1986,4,13,0,0,0,0,32.073999999999998,299.02999999999997,0,0]
[1986,4,18,0,0,0,0,32.033000000000001,299.02999999999997,0,0]
[1986,4,20,0,0,0,0,32.017000000000003,299.02999999999997,0,0]
[1986,4,25,0,0,0,0,31.975999999999999,299.02999999999997,0,0]
[1986,4,30,0,0,0,0,31.934999999999999,299.02999999999997,0,0]
[1986,5,1,0,0,0,0,31.927,299.02999999999997,0,0]
[1986,5,6,0,0,0,0,31.885999999999999,299.02999999999997,0,0]
[1986,5,12,0,0,0,0,31.837,299.02999999999997,0,0]
[1986,5,17,0,0,0,0,31.795999999999999,299.02999999999997,0,0]
[1986,5,18,0.38197999999999999,8.1020000000000003,7.7811999999999999E-18,2.5574000000000001E-31,31.788,299.02999999999997,2.0370700036651133E-8,2.0370700036651805E-8]
[1986,5,24,0,0,0,0,31.739000000000001,299.02999999999997,0,0]
[1986,5,29,0,0,0,0,31.699000000000002,299.02999999999997,0,0]
[1986,6,3,0,0,0,0,31.658000000000001,299.02999999999997,0,0]
[1986,6,4,0,0,0,0,31.65,299.02999999999997,0,0]
[1986,6,12,0,0,0,0,31.585999999999999,299.02999999999997,0,0]
[1986,6,15,0,0,0,0,31.561,299.02999999999997,0,0]
[1986,6,20,0,0,0,0,31.521000000000001,299.02999999999997,0,0]
[1986,6,21,0,0,0,0,31.513000000000002,299.02999999999997,0,0]
[1986,6,26,0,0,0,0,31.472999999999999,299.02999999999997,0,0]
[1986,6,30,0,0,0,0,31.44,299.02999999999997,0,0]
[1986,7,7,0,0,0,0,31.384,299.02999999999997,0,0]
[1986,7,8,0,0,0,0,31.376000000000001,299.02999999999997,0,0]
[1986,7,13,0,0,0,0,31.335999999999999,299.02999999999997,0,0]
[1986,7,18,0,0,0,0,31.295999999999999,299.02999999999997,0,0]
[1986,7,24,0.73673,5.9352999999999998,5.9833999999999998E-9,1.5203999999999999E-11,31.248000000000001,299.02999999999997,8.1215642094118614,8.1422013492052709]
[1986,7,25,0.1135,0.43452000000000002,2.7850000000000002E-9,3.4365000000000002E-11,31.24,299.02999999999997,24.537444933920707,24.840220264317178]
[1986,7,30,0,0,0,0,31.2,299.02999999999997,0,0]
[1986,8,6,0,0,0,0,31.143999999999998,299.02999999999997,0,0]
[1986,8,10,7.9636999999999999E-2,0.32656000000000002,5.8896999999999998E-10,2.8250000000000001E-13,31.111999999999998,299.02999999999997,7.3956829112096134,7.399230257292464]
[1986,8,11,0.27345000000000003,2.0030000000000001,1.6979000000000001E-9,5.6676E-13,31.103999999999999,299.02999999999997,6.2091790089595893,6.211251636496617]
[1986,8,16,0,0,0,0,31.065000000000001,299.02999999999997,0,0]
[1986,8,21,0,0,0,0,31.024999999999999,299.02999999999997,0,0]
[1986,8,24,0,0,0,0,31.001000000000001,299.02999999999997,0,0]
[1986,8,28,0,0,0,0,30.969000000000001,299.02999999999997,0,0]
[1986,9,2,6.3929999999999998E-4,6.7818000000000002E-4,1.1053999999999999E-12,4.2116999999999997E-18,30.93,299.02999999999997,1.7290786798060378,1.7290852677928983]
[1986,9,7,5.3740000000000003E-2,0.2104,5.0244000000000001E-11,5.0345000000000001E-17,30.89,299.02999999999997,0.93494603647190178,0.93494697329735776]
[1986,9,11,0,0,0,0,30.859000000000002,299.02999999999997,0,0]
[1986,9,14,0,0,0,0,30.835000000000001,299.02999999999997,0,0]
[1986,9,19,0,0,0,0,30.795000000000002,299.02999999999997,0,0]
[1986,9,24,0,0,0,0,30.756,299.02999999999997,0,0]
[1986,9,29,0,0,0,0,30.716999999999999,299.02999999999997,0,0]
[1986,10,4,0,0,0,0,30.678000000000001,299.02999999999997,0,0]
[1986,10,6,0,0,0,0,30.661999999999999,299.02999999999997,{"$f":"IF(D9411=0,0,(F9411)/D9411*1000000*1000)","v":0},{"$f":"IF(D9411=0,0,(F9411+G9411)/D9411*1000000*1000)","v":0}]
[1986,10,11,0,0,0,0,30.623000000000001,299.02999999999997,0,0]
[1986,10,16,0,0,0,0,30.582999999999998,299.02999999999997,0,0]
[1986,10,18,0,0,0,0,30.568000000000001,299.02999999999997,0,0]
[1986,10,23,0,0,0,0,30.529,299.02999999999997,0,0]
[1986,10,28,0,0,0,0,30.49,299.02999999999997,0,0]
[1986,11,2,0,0,0,0,30.451000000000001,299.02999999999997,0,0]
[1986,11,5,0,0,0,0,30.427,299.02999999999997,0,0]
[1986,11,9,0,0,0,0,30.396000000000001,299.02999999999997,0,0]
[1986,11,14,0,0,0,0,30.356999999999999,299.02999999999997,0,0]
[1986,11,19,0,0,0,0,30.318999999999999,299.02999999999997,0,0]
[1986,11,20,3.4306999999999999,110.15,1.8416000000000001E-11,7.4673999999999994E-21,30.311,299.02999999999997,5.368000699565687E-3,5.3680007017423269E-3]
[1986,11,28,3.2436000000000002E-6,9.6839999999999991E-7,5.8086E-18,2.6440000000000001E-28,30.387,299.49,1.7907880133185348E-3,1.7907880134000491E-3]
[1986,12,1,7.9636999999999999E-2,0.67515999999999998,4.6034E-14,1.4705E-24,30.885999999999999,301.18,5.7804789231136286E-4,5.780478923298278E-4]
[1986,12,6,0,0,0,0,30.858000000000001,301.22000000000003,0,0]
[1986,12,7,0,0,0,0,30.85,301.22000000000003,0,0]
[1986,12,12,0,0,0,0,30.983000000000001,301.77,0,0]
[1986,12,18,0,0,0,0,30.957999999999998,301.83999999999997,0,0]
[1986,12,23,1.1042000000000001,27.25,5.2470000000000003E-14,2.6891E-25,31.073,302.33999999999997,4.7518565477268609E-5,4.7518565477512148E-5]
[1986,12,24,8.6485999999999993E-3,3.1297999999999999E-2,3.2241E-16,7.7448000000000004E-28,31.155999999999999,302.63,3.7278865943620932E-5,3.7278865943710487E-5]
[1986,12,30,0,0,0,0,31.108000000000001,302.63,0,0]
[1987,1,4,0,0,0,0,31.068000000000001,302.63,0,0]
[1987,1,9,0,0,0,0,31.029,302.63,0,0]
[1987,1,10,0,0,0,0,31.021000000000001,302.63,0,0]
[1987,1,15,0,0,0,0,30.981000000000002,302.63,0,0]
[1987,1,22,0.78408999999999995,19.7,6.8341E-16,1.7439000000000001E-28,31.64,304.88,8.715963728653599E-7,8.7159637286558235E-7]
[1987,1,26,0,0,0,0,31.940999999999999,305.91000000000003,0,0]
[1987,1,27,0,0,0,0,31.933,305.91000000000003,0,0]
[1987,2,1,0,0,0,0,31.891999999999999,305.91000000000003,0,0]
[1987,2,5,0,0,0,0,31.859000000000002,305.91000000000003,0,0]
[1987,2,12,0,0,0,0,31.802,305.91000000000003,0,0]
[1987,2,13,0,0,0,0,31.794,305.91000000000003,0,0]
[1987,2,18,0,0,0,0,31.753,305.91000000000003,0,0]
[1987,2,23,0,0,0,0,31.713000000000001,305.91000000000003,0,0]
[1987,2,28,3.0539999999999998,133.9,4.9777999999999998E-18,5.5028000000000002E-32,32.427,308.22000000000003,1.6299279633267845E-9,1.6299279633268025E-9]
[1987,3,2,0,0,0,0,32.411000000000001,308.22000000000003,0,0]
[1987,3,7,0,0,0,0,32.369,308.22000000000003,0,0]
[1987,3,12,0,0,0,0,32.328000000000003,308.22000000000003,0,0]
[1987,3,18,0.13494,1.2770999999999999,2.1689E-20,4.4202E-35,32.277999999999999,308.22000000000003,1.607306951237587E-10,1.6073069512375901E-10]
[1987,3,19,0,0,0,0,32.270000000000003,308.22000000000003,0,0]
[1987,3,24,0,0,0,0,32.228999999999999,308.22000000000003,0,0]
[1987,3,29,3.2657999999999998E-4,5.7140000000000001E-4,8.2730000000000003E-24,5.4081999999999999E-39,32.213000000000001,308.3,2.533223100006124E-11,2.533223100006126E-11]
[1987,4,1,0,0,0,0,32.450000000000003,309.08999999999997,0,0]
[1987,4,5,0,0,0,0,32.637999999999998,309.76,0,0]
[1987,4,10,0,0,0,0,32.595999999999997,309.76,0,0]
[1987,4,15,0,0,0,0,32.554000000000002,309.76,0,0]
[1987,4,20,0,0,0,0,32.512,309.76,0,0]
[1987,4,24,0,0,0,0,32.478999999999999,309.76,0,0]
[1987,4,27,0,0,0,0,32.454000000000001,309.76,0,0]
[1987,5,2,0,0,0,0,32.412999999999997,309.76,0,0]
[1987,5,7,0,0,0,0,32.371000000000002,309.76,0,0]
[1987,5,12,0.59997999999999996,18.591000000000001,1.7617999999999999E-22,1.7558E-38,32.33,309.76,2.9364312143738125E-13,2.936431214373813E-13]
[1987,5,14,9.1618000000000005E-2,1.1712,1.6360999999999999E-23,9.4369999999999996E-40,32.313000000000002,309.76,1.7857844528367784E-13,1.7857844528367784E-13]
[1987,5,19,2.3949999999999999E-2,0.13533000000000001,2.3851000000000001E-24,6.7677999999999999E-41,32.271999999999998,309.76,9.9586638830897707E-14,9.9586638830897707E-14]
[1987,5,24,0,0,0,0,32.231000000000002,309.76,0,0]
[1987,5,26,0,0,0,0,32.213999999999999,309.76,0,0]
[1987,5,31,0,0,0,0,32.173000000000002,309.76,0,0]
[1987,6,5,0,0,0,0,32.131999999999998,309.76,0,0]
[1987,6,10,0,0,0,0,32.091000000000001,309.76,0,0]
[1987,6,11,3.5312E-3,7.2217000000000002E-3,9.7058E-26,7.5220999999999998E-43,32.082999999999998,309.76,2.7485840507476211E-14,2.7485840507476211E-14]
[1987,6,18,0,0,0,0,32.024999999999999,309.76,0,0]
[1987,6,22,0,0,0,0,31.992999999999999,309.76,0,0]
[1987,6,27,0,0,0,0,31.952000000000002,309.76,0,0]
[1987,6,28,0,0,0,0,31.943999999999999,309.76,0,0]
[1987,7,6,5.0909000000000004,69.59,2.7623999999999999E-26,6.9041999999999996E-45,31.878,309.76,5.426152546700976E-18,5.426152546700976E-18]
[1987,7,9,0,0,0,0,31.853999999999999,309.76,0,0]
[1987,7,14,0,0,0,0,31.812999999999999,309.76,0,0]
[1987,7,15,0,0,0,0,31.805,309.76,0,0]
[1987,7,20,0,0,0,0,31.763999999999999,309.76,0,0]
[1987,7,26,0,0,0,0,31.715,309.76,0,0]
[1987,7,31,1.6997,15.404,2.8025000000000001E-8,6.1796E-11,31.675000000000001,309.76,16.488203800670707,16.524560804847916]
[1987,8,1,0,0,0,0,31.667000000000002,309.76,0,0]
[1987,8,6,0.15276999999999999,0.67415000000000003,1.7339E-9,7.6584E-13,31.626000000000001,309.76,11.34974144138247,11.354754467500163]
[1987,8,12,0,0,0,0,31.577999999999999,309.76,0,0]
[1987,8,17,0,0,0,0,31.536999999999999,309.76,0,0]
[1987,8,18,0,0,0,0,31.529,309.76,0,0]
[1987,8,23,0,0,0,0,31.489000000000001,309.76,0,0]
[1987,8,30,0,0,0,0,31.433,309.76,0,0]
[1987,9,3,0,0,0,0,31.401,309.76,0,0]
[1987,9,4,0,0,0,0,31.393000000000001,309.76,0,0]
[1987,9,9,0,0,0,0,31.352,309.76,0,0]
[1987,9,14,0,0,0,0,31.312000000000001,309.76,0,0]
[1987,9,17,0,0,0,0,31.288,309.76,0,0]
[1987,9,21,0,0,0,0,31.256,309.76,0,0]
[1987,9,26,0,0,0,0,31.216000000000001,309.76,0,0]
[1987,10,1,0,0,0,0,31.175999999999998,309.76,0,0]
[1987,10,6,0,0,0,0,31.137,309.76,0,0]
[1987,10,8,0,0,0,0,31.120999999999999,309.76,0,0]
[1987,10,13,0,0,0,0,31.081,309.76,0,0]
[1987,10,18,0,0,0,0,31.041,309.76,0,0]
[1987,10,24,0,0,0,0,30.992999999999999,309.76,0,0]
[1987,10,25,0,0,0,0,30.986000000000001,309.76,{"$f":"IF(D9795=0,0,(F9795)/D9795*1000000*1000)","v":0},{"$f":"IF(D9795=0,0,(F9795+G9795)/D9795*1000000*1000)","v":0}]
[1987,10,30,0,0,0,0,30.946000000000002,309.76,0,0]
[1987,11,4,0,0,0,0,30.905999999999999,309.76,0,0]
[1987,11,9,0,0,0,0,30.867000000000001,309.76,0,0]
[1987,11,11,0,0,0,0,30.850999999999999,309.76,0,0]
[1987,11,16,0,0,0,0,30.812000000000001,309.76,0,0]
[1987,11,21,0,0,0,0,30.771999999999998,309.76,0,0]
[1987,11,26,0,0,0,0,30.733000000000001,309.76,0,0]
[1987,11,30,0,0,0,0,30.701000000000001,309.76,0,0]
[1987,12,3,0,0,0,0,30.678000000000001,309.76,0,0]
[1987,12,8,0,0,0,0,30.638999999999999,309.76,0,0]
[1987,12,13,0,0,0,0,30.6,309.76,0,0]
[1987,12,18,0,0,0,0,30.56,309.76,0,0]
[1987,12,20,2.1185999999999999E-4,2.3829999999999999E-4,3.5997999999999998E-14,5.5338E-22,30.545000000000002,309.76,0.16991409421315962,0.16991409682516756]
[1987,12,25,0,0,0,0,30.506,309.76,0,0]
[1987,12,30,0,0,0,0,30.800999999999998,310.83,0,0]
[1987,12,31,0,0,0,0,30.794,310.83,0,0]
[1988,1,5,0,0,0,0,31.094000000000001,311.89999999999998,0,0]
[1988,1,11,0,0,0,0,31.254999999999999,312.55,0,0]
[1988,1,16,0,0,0,0,31.215,312.55,0,0]
[1988,1,17,0.78691999999999995,17.957999999999998,2.5719E-12,8.6260999999999998E-22,31.33,312.93,3.2683118995577697E-3,3.2683119006539554E-3]
[1988,1,23,0,0,0,0,31.84,314.64999999999998,0,0]
[1988,1,28,0,0,0,0,31.798999999999999,314.64999999999998,0,0]
[1988,2,2,0.49218000000000001,8.6710999999999991,1.8073E-13,8.5709000000000001E-24,31.757999999999999,314.64999999999998,3.6720305579259621E-4,3.6720305581001034E-4]
[1988,2,3,0.99043999999999999,28.492000000000001,1.9416E-13,7.6209999999999999E-24,32.039000000000001,315.52,1.9603408586082953E-4,1.9603408586852411E-4]
[1988,2,11,0,0,0,0,32.313000000000002,316.54000000000002,0,0]
[1988,2,14,0,0,0,0,32.287999999999997,316.54000000000002,0,0]
[1988,2,19,0,0,0,0,32.247,316.54000000000002,0,0]
[1988,2,20,0,0,0,0,32.238999999999997,316.54000000000002,0,0]
[1988,2,25,0,0,0,0,32.197000000000003,316.54000000000002,0,0]
[1988,2,29,0,0,0,0,32.164999999999999,316.54000000000002,0,0]
[1988,3,7,0,0,0,0,32.106999999999999,316.54000000000002,0,0]
[1988,3,8,0,0,0,0,32.098999999999997,316.54000000000002,0,0]
[1988,3,13,9.2531000000000002E-2,0.82374000000000003,1.1324E-15,1.8944000000000002E-27,32.058,316.54000000000002,1.2238060758016233E-5,1.2238060758036706E-5]
[1988,3,18,3.1018E-2,0.19792000000000001,2.2446E-16,2.3498999999999999E-28,32.017000000000003,316.54000000000002,7.2364433554710161E-6,7.2364433554785928E-6]
[1988,3,24,0,0,0,0,31.968,316.54000000000002,0,0]
[1988,3,25,1.6972000000000001E-2,8.5276000000000005E-2,6.3992999999999995E-17,3.9046000000000002E-29,31.959,316.54000000000002,3.7705043601225545E-6,3.7705043601248555E-6]
[1988,3,30,0,0,0,0,31.919,316.54000000000002,0,0]
[1988,4,4,0,0,0,0,31.878,316.54000000000002,0,0]
[1988,4,10,0,0,0,0,31.829000000000001,316.54000000000002,0,0]
[1988,4,11,0.85360999999999998,22.414000000000001,3.1153999999999998E-16,6.7163E-29,31.821000000000002,316.54000000000002,3.6496760815829243E-7,3.6496760815837104E-7]
[1988,4,16,0,0,0,0,31.78,316.54000000000002,0,0]
[1988,4,21,0,0,0,0,31.739000000000001,316.54000000000002,0,0]
[1988,4,24,0,0,0,0,31.715,316.54000000000002,0,0]
[1988,4,28,0,0,0,0,31.683,316.54000000000002,0,0]
[1988,5,3,0,0,0,0,31.641999999999999,316.54000000000002,0,0]
[1988,5,8,0,0,0,0,31.602,316.54000000000002,0,0]
[1988,5,12,0,0,0,0,31.568999999999999,316.54000000000002,0,0]
[1988,5,15,0,0,0,0,31.545000000000002,316.54000000000002,0,0]
[1988,5,20,0,0,0,0,31.504999999999999,316.54000000000002,0,0]
[1988,5,25,0,0,0,0,31.465,316.54000000000002,0,0]
[1988,5,30,0,0,0,0,31.423999999999999,316.54000000000002,0,0]
[1988,6,4,0,0,0,0,31.384,316.54000000000002,0,0]
[1988,6,6,0,0,0,0,31.367999999999999,316.54000000000002,0,0]
[1988,6,11,0,0,0,0,31.327999999999999,316.54000000000002,0,0]
[1988,6,16,0,0,0,0,31.288,316.54000000000002,0,0]
[1988,6,18,0,0,0,0,31.271999999999998,316.54000000000002,0,0]
[1988,6,23,0,0,0,0,31.231999999999999,316.54000000000002,0,0]
[1988,6,28,0,0,0,0,31.192,316.54000000000002,0,0]
[1988,7,3,0,0,0,0,31.152000000000001,316.54000000000002,0,0]
[1988,7,6,0,0,0,0,31.128,316.54000000000002,0,0]
[1988,7,10,0,0,0,0,31.096,316.54000000000002,0,0]
[1988,7,15,0,0,0,0,31.056999999999999,316.54000000000002,0,0]
[1988,7,20,0,0,0,0,31.016999999999999,316.54000000000002,0,0]
[1988,7,21,0,0,0,0,31.009,316.54000000000002,0,0]
[1988,7,29,4.0720000000000001,51.421999999999997,6.8311999999999997E-8,3.3932000000000002E-10,30.946000000000002,316.54000000000002,16.776031434184674,16.859361493123771]
[1988,8,1,0,0,0,0,30.922000000000001,316.54000000000002,0,0]
[1988,8,6,0,0,0,0,30.882000000000001,316.54000000000002,0,0]
[1988,8,7,7.1631E-2,0.21104999999999999,5.6982E-10,1.4377999999999999E-13,30.873999999999999,316.54000000000002,7.9549357121916477,7.9569429436975625]
[1988,8,12,0,0,0,0,30.835000000000001,316.54000000000002,0,0]
[1988,8,18,0,0,0,0,30.788,316.54000000000002,0,0]
[1988,8,23,1.1044,16.29,3.6361999999999999E-9,1.3787999999999999E-13,30.748000000000001,316.54000000000002,3.2924664976457803,3.2925913437160448]
[1988,8,24,6.3929999999999998E-4,6.3948E-4,1.9632E-12,2.8833999999999999E-17,30.74,316.54000000000002,3.0708587517597374,3.0709038542155489]
[1988,8,29,0,0,0,0,30.701000000000001,316.54000000000002,0,0]
[1988,9,4,4.5144000000000002,118.34,5.2059999999999996E-9,2.8216999999999999E-14,30.654,316.54000000000002,1.1531986531986531,1.1532049036416798]
[1988,9,9,2.0797E-2,5.6211999999999998E-2,1.8634E-11,2.4910999999999999E-17,30.614999999999998,316.54000000000002,{"$f":"IF(D10115=0,0,(F10115)/D10115*1000000*1000)","v":0.89599461460787622},{"$f":"IF(D10115=0,0,(F10115+G10115)/D10115*1000000*1000)","v":0.89599581242486903}]
[1988,9,10,9.2151000000000004E-3,2.1517999999999999E-2,7.2113999999999997E-12,7.1364E-18,30.606999999999999,316.54000000000002,0.78256340137383196,0.78256417579841775]
[1988,9,15,0,0,0,0,30.568000000000001,316.54000000000002,0,0]
[1988,9,22,0,0,0,0,30.513000000000002,316.54000000000002,0,0]
[1988,9,26,0,0,0,0,30.481999999999999,316.54000000000002,0,0]
[1988,9,27,0,0,0,0,30.474,316.54000000000002,0,0]
[1988,10,2,3.1558000000000002,100.63,2.3876000000000001E-10,1.5565999999999999E-17,30.591000000000001,317.04000000000002,7.5657519487926997E-2,7.5657524420432221E-2]
[1988,10,6,0,0,0,0,30.585999999999999,317.12,0,0]
[1988,10,13,0,0,0,0,30.530999999999999,317.12,0,0]
[1988,10,14,0,0,0,0,30.523,317.12,0,0]
[1988,10,19,0,0,0,0,30.484000000000002,317.12,0,0]
[1988,10,24,0,0,0,0,30.445,317.12,0,0]
[1988,10,29,0,0,0,0,30.407,317.12,0,0]
[1988,10,31,0.18840999999999999,1.5646,4.2408999999999998E-12,1.8763999999999999E-20,30.390999999999998,317.12,2.2508890186295843E-2,2.2508890285887161E-2]
[1988,11,5,7.9636999999999999E-2,0.59524999999999995,6.9735999999999997E-13,1.2071E-21,30.352,317.12,8.7567336790687744E-3,8.7567336942263006E-3]
[1988,11,10,0,0,0,0,30.312999999999999,317.12,0,0]
[1988,11,16,9.4282000000000005E-2,0.63071999999999995,4.4951000000000002E-13,2.474E-22,30.266999999999999,317.12,4.7677181222290574E-3,4.7677181248531007E-3]
[1988,11,17,1.7787000000000001E-2,7.0846999999999993E-2,6.9343999999999997E-14,2.6809999999999999E-23,30.259,317.12,3.8985776128633272E-3,3.8985776143706072E-3]
[1988,11,22,0,0,0,0,30.22,317.12,0,0]
[1988,11,27,3.1059000000000001,93.972999999999999,4.1256999999999997E-12,1.0356999999999999E-21,30.181999999999999,317.12,1.3283428313854277E-3,1.3283428317188897E-3]
[1988,11,30,0,0,0,0,30.158999999999999,317.12,0,0]
[1988,12,4,0,0,0,0,30.128,317.12,0,0]
[1988,12,9,0,0,0,0,30.088999999999999,317.12,0,0]
[1988,12,14,0,0,0,0,30.050999999999998,317.12,0,0]
[1988,12,19,0,0,0,0,30.012,317.12,0,0]
[1988,12,23,0,0,0,0,29.981999999999999,317.12,0,0]
[1988,12,26,0,0,0,0,29.959,317.12,0,0]
[1988,12,31,0.33567999999999998,5.8192000000000004,1.4410000000000001E-13,6.9327999999999995E-24,29.92,317.12,4.2927788369876075E-4,4.2927788371941383E-4]
[1989,1,5,0,0,0,0,29.917999999999999,317.23,0,0]
[1989,1,10,0,0,0,0,29.879000000000001,317.23,0,0]
[1989,1,12,0.82628999999999997,19.805,5.1952999999999998E-14,5.1093000000000001E-25,30.05,317.83,6.2875019666218886E-5,6.287501966683722E-5]
[1989,1,17,0,0,0,0,30.158999999999999,318.31,0,0]
[1989,1,22,0,0,0,0,30.12,318.31,0,0]
[1989,1,24,0,0,0,0,30.105,318.31,0,0]
[1989,1,29,0,0,0,0,30.067,318.31,0,0]
[1989,2,3,0,0,0,0,30.027999999999999,318.31,0,0]
[1989,2,8,0,0,0,0,29.99,318.31,0,0]
[1989,2,9,0,0,0,0,29.981999999999999,318.31,0,0]
[1989,2,16,0,0,0,0,29.928000000000001,318.31,0,0]
[1989,2,20,3.7241000000000003E-2,0.23716999999999999,1.0255E-16,3.5737999999999998E-29,29.898,318.31,2.7536854542036995E-6,2.7536854542046596E-6]
[1989,2,25,0,0,0,0,29.86,318.31,0,0]
[1989,2,26,0,0,0,0,29.852,318.31,0,0]
[1989,3,6,0,0,0,0,30.279,319.87,0,0]
[1989,3,9,0,0,0,0,30.254999999999999,319.87,0,0]
[1989,3,14,0,0,0,0,30.216999999999999,319.87,0,0]
[1989,3,15,0,0,0,0,30.209,319.87,0,0]
[1989,3,20,0,0,0,0,30.17,319.87,{"$f":"IF(D10307=0,0,(F10307)/D10307*1000000*1000)","v":0},{"$f":"IF(D10307=0,0,(F10307+G10307)/D10307*1000000*1000)","v":0}]
[1989,3,24,0,0,0,0,30.574000000000002,321.24,0,0]
[1989,3,31,0,0,0,0,30.52,321.24,0,0]
[1989,4,1,0,0,0,0,30.512,321.24,0,0]
[1989,4,6,0,0,0,0,30.472999999999999,321.24,0,0]
[1989,4,12,0,0,0,0,30.545999999999999,321.62,0,0]
[1989,4,17,0,0,0,0,30.507000000000001,321.62,0,0]
[1989,4,18,0,0,0,0,30.498999999999999,321.62,0,0]
[1989,4,23,0,0,0,0,30.46,321.62,0,0]
[1989,4,30,5.3803999999999998E-2,0.40698000000000001,1.9257E-21,1.4653000000000001E-36,30.405000000000001,321.62,3.5791019255073976E-11,3.5791019255074009E-11]
[1989,5,4,0,0,0,0,30.373999999999999,321.62,0,0]
[1989,5,5,5.8054000000000001E-2,0.49787999999999999,4.9347999999999997E-22,1.8620999999999999E-37,30.367000000000001,321.62,8.5003617321803826E-12,8.5003617321803859E-12]
[1989,5,10,0,0,0,0,30.327999999999999,321.62,0,0]
[1989,5,15,0,0,0,0,30.289000000000001,321.62,0,0]
[1989,5,18,0,0,0,0,30.265999999999998,321.62,0,0]
[1989,5,22,0,0,0,0,30.234999999999999,321.62,0,0]
[1989,5,27,0,0,0,0,30.196000000000002,321.62,0,0]
[1989,6,1,0,0,0,0,30.158000000000001,321.62,0,0]
[1989,6,6,0.81513999999999998,16.826000000000001,6.8804000000000006E-23,2.1442000000000001E-39,30.119,321.62,8.4407586426871451E-14,8.4407586426871451E-14]
[1989,6,8,0,0,0,0,30.103999999999999,321.62,0,0]
[1989,6,13,0,0,0,0,30.065000000000001,321.62,0,0]
[1989,6,18,0.22373999999999999,1.4274,8.5190000000000007E-25,3.0714999999999997E-42,30.027000000000001,321.62,3.8075444712612856E-15,3.8075444712612856E-15]
[1989,6,24,0,0,0,0,30.317,322.69,0,0]
[1989,6,25,0,0,0,0,30.309000000000001,322.69,0,0]
[1989,6,30,0,0,0,0,30.271000000000001,322.69,0,0]
[1989,7,5,1.7787000000000001E-2,2.6433000000000002E-2,5.4005999999999999E-28,1.4445000000000001E-46,30.231999999999999,322.69,3.0362624388598413E-17,3.0362624388598413E-17]
[1989,7,10,0,0,0,0,30.193000000000001,322.69,0,0]
[1989,7,12,0,0,0,0,30.178000000000001,322.69,0,0]
[1989,7,17,0,0,0,0,30.138999999999999,322.69,0,0]
[1989,7,22,0,0,0,0,30.100999999999999,322.69,0,0]
[1989,7,27,0,0,0,0,30.062000000000001,322.69,0,0]
[1989,7,31,0,0,0,0,30.030999999999999,322.69,0,0]
[1989,8,3,0,0,0,0,30.007999999999999,322.69,0,0]
[1989,8,8,0,0,0,0,29.97,322.69,0,0]
[1989,8,13,0,0,0,0,29.931999999999999,322.69,0,0]
[1989,8,18,0,0,0,0,29.893000000000001,322.69,0,0]
[1989,8,19,0,0,0,0,29.885999999999999,322.69,0,0]
[1989,8,20,0,0,0,0,29.878,322.69,0,0]
[1989,8,21,0,0,0,0,29.870999999999999,322.69,0,0]
[1989,8,22,0,0,0,0,29.863,322.69,0,0]
[1989,8,23,0,0,0,0,29.855,322.69,0,0]
[1989,8,24,0,0,0,0,29.847999999999999,322.69,0,0]
[1989,8,25,0,0,0,0,29.84,322.69,0,0]
[1989,8,26,0,0,0,0,29.832000000000001,322.69,0,0]
[1989,8,27,0,0,0,0,29.824999999999999,322.69,0,0]
[1989,8,28,0,0,0,0,29.817,322.69,0,0]
[1989,8,29,0,0,0,0,29.809000000000001,322.69,0,0]
[1989,8,30,0,0,0,0,29.802,322.69,0,0]
[1989,8,31,0,0,0,0,29.794,322.69,0,0]
[1989,9,1,0,0,0,0,29.786999999999999,322.69,0,0]
[1989,9,2,0,0,0,0,29.779,322.69,0,0]
[1989,9,3,0,0,0,0,29.771000000000001,322.69,0,0]
[1989,9,4,0,0,0,0,29.763999999999999,322.69,0,0]
[1989,9,5,0,0,0,0,29.756,322.69,0,0]
[1989,9,6,0,0,0,0,29.748000000000001,322.69,0,0]
[1989,9,7,0,0,0,0,29.741,322.69,0,0]
[1989,9,8,0,0,0,0,29.733000000000001,322.69,0,0]
[1989,9,9,0,0,0,0,29.725999999999999,322.69,0,0]
[1989,9,10,0,0,0,0,29.718,322.69,0,0]
[1989,9,11,0,0,0,0,29.71,322.69,0,0]
[1989,9,12,0,0,0,0,29.702999999999999,322.69,0,0]
[1989,9,13,0,0,0,0,29.695,322.69,0,0]
[1989,9,14,0,0,0,0,29.687999999999999,322.69,0,0]
[1989,9,15,0,0,0,0,29.68,322.69,0,0]
[1989,9,16,0,0,0,0,29.672000000000001,322.69,0,0]
[1989,9,17,0,0,0,0,29.664999999999999,322.69,0,0]
[1989,9,18,0,0,0,0,29.657,322.69,0,0]
[1989,9,19,0,0,0,0,29.65,322.69,0,0]
[1989,9,20,0,0,0,0,29.641999999999999,322.69,0,0]
[1989,9,21,0,0,0,0,29.635000000000002,322.69,0,0]
[1989,9,22,5.2811999999999998E-2,0.21958,3.5821999999999998E-10,2.1132E-14,29.626999999999999,322.69,6.7829281223964255,6.7833282587290773]
[1989,9,23,8.5278000000000003E-3,2.3633999999999999E-2,5.3093000000000001E-11,2.3050000000000002E-15,29.619,322.69,6.2258730270409721,6.2261433194962361]
[1989,9,24,0,0,0,0,29.611999999999998,322.69,0,0]
[1989,9,25,10.616,420.74,3.9999E-8,1.2136E-12,29.603999999999999,322.69,3.7678033157498123,3.7679176337603622]
[1989,9,26,0,0,0,0,29.597000000000001,322.69,0,0]
[1989,9,27,0,0,0,0,29.588999999999999,322.69,0,0]
[1989,9,28,0.82726999999999995,14.314,2.2275E-9,2.6368999999999999E-14,29.581,322.69,{"$f":"IF(D10499=0,0,(F10499)/D10499*1000000*1000)","v":2.692591294257014},{"$f":"IF(D10499=0,0,(F10499+G10499)/D10499*1000000*1000)","v":2.6926231689774802}]
[1989,9,29,0.62234,10.378,1.2879000000000001E-9,8.4555999999999996E-15,29.759,323.29000000000002,2.0694475688530387,2.0694611556383968]
[1989,9,30,9.3664000000000005,367.13,1.2328E-8,3.7024999999999999E-14,30.161999999999999,324.58999999999997,1.316194055346771,1.3161980083062861]
[1989,10,1,2.9106999999999998,90.591999999999999,2.5878000000000001E-9,3.8758000000000004E-15,30.497,325.67,0.88906448620606737,0.88906581777579285]
[1989,10,2,0,0,0,0,30.49,325.67,0,0]
[1989,10,3,0,0,0,0,30.481999999999999,325.67,0,0]
[1989,10,4,0,0,0,0,30.474,325.67,0,0]
[1989,10,5,0,0,0,0,30.466000000000001,325.67,0,0]
[1989,10,6,0,0,0,0,30.457999999999998,325.67,0,0]
[1989,10,7,0,0,0,0,30.451000000000001,325.67,0,0]
[1989,10,8,0,0,0,0,30.443000000000001,325.67,0,0]
[1989,10,9,0,0,0,0,30.434999999999999,325.67,0,0]
[1989,10,10,0,0,0,0,30.427,325.67,0,0]
[1989,10,11,0,0,0,0,30.419,325.67,0,0]
[1989,10,12,0,0,0,0,30.411999999999999,325.67,0,0]
[1989,10,13,0,0,0,0,30.404,325.67,0,0]
[1989,10,14,0,0,0,0,30.396000000000001,325.67,0,0]
[1989,10,15,0,0,0,0,30.388000000000002,325.67,0,0]
[1989,10,16,0,0,0,0,30.381,325.67,0,0]
[1989,10,17,0,0,0,0,30.373000000000001,325.67,0,0]
[1989,10,18,0,0,0,0,30.364999999999998,325.67,0,0]
[1989,10,19,0,0,0,0,30.356999999999999,325.67,0,0]
[1989,10,20,0,0,0,0,30.349,325.67,0,0]
[1989,10,21,0,0,0,0,30.341999999999999,325.67,0,0]
[1989,10,22,0,0,0,0,30.334,325.67,0,0]
[1989,10,23,0,0,0,0,30.326000000000001,325.67,0,0]
[1989,10,24,0,0,0,0,30.318000000000001,325.67,0,0]
[1989,10,25,0,0,0,0,30.311,325.67,0,0]
[1989,10,26,0,0,0,0,30.303000000000001,325.67,0,0]
[1989,10,27,0,0,0,0,30.295000000000002,325.67,0,0]
[1989,10,28,0,0,0,0,30.286999999999999,325.67,0,0]
[1989,10,29,0,0,0,0,30.28,325.67,0,0]
[1989,10,30,0,0,0,0,30.271999999999998,325.67,0,0]
[1989,10,31,0,0,0,0,30.263999999999999,325.67,0,0]
[1989,11,1,0,0,0,0,30.256,325.67,0,0]
[1989,11,2,0,0,0,0,30.248999999999999,325.67,0,0]
[1989,11,3,0,0,0,0,30.241,325.67,0,0]
[1989,11,4,0,0,0,0,30.233000000000001,325.67,0,0]
[1989,11,5,0,0,0,0,30.225000000000001,325.67,0,0]
[1989,11,6,0,0,0,0,30.218,325.67,0,0]
[1989,11,7,0.72204999999999997,10.942,3.2541000000000002E-10,8.2395999999999998E-17,30.21,325.67,0.45067516099993082,0.45067527511391181]
[1989,11,8,0,0,0,0,30.202000000000002,325.67,0,0]
[1989,11,9,0,0,0,0,30.195,325.67,0,0]
[1989,11,10,0,0,0,0,30.187000000000001,325.67,0,0]
[1989,11,11,0,0,0,0,30.178999999999998,325.67,0,0]
[1989,11,12,0,0,0,0,30.170999999999999,325.67,0,0]
[1989,11,13,0,0,0,0,30.164000000000001,325.67,0,0]
[1989,11,14,0,0,0,0,30.155999999999999,325.67,0,0]
[1989,11,15,1.2644,24.492999999999999,2.6742999999999998E-10,2.3612999999999999E-17,30.148,325.67,0.21150743435621638,0.21150745303147736]
[1989,11,16,0,0,0,0,30.14,325.67,0,0]
[1989,11,17,0,0,0,0,30.132999999999999,325.67,0,0]
[1989,11,18,0,0,0,0,30.125,325.67,0,0]
[1989,11,19,0,0,0,0,30.117000000000001,325.67,0,0]
[1989,11,20,0,0,0,0,30.11,325.67,0,0]
[1989,11,21,0,0,0,0,30.102,325.67,0,0]
[1989,11,22,0.82232000000000005,14.975,8.9096999999999995E-11,3.1124999999999998E-18,30.094000000000001,325.67,0.10834833154976163,0.1083483353347845]
[1989,11,23,0,0,0,0,30.087,325.67,0,0]
[1989,11,24,0,0,0,0,30.079000000000001,325.67,0,0]
[1989,11,25,0,0,0,0,30.071000000000002,325.67,0,0]
[1989,11,26,0,0,0,0,30.062999999999999,325.67,0,0]
[1989,11,27,0,0,0,0,30.056000000000001,325.67,0,0]
[1989,11,28,0,0,0,0,30.047999999999998,325.67,0,0]
[1989,11,29,0,0,0,0,30.04,325.67,0,0]
[1989,11,30,0,0,0,0,30.033000000000001,325.67,0,0]
[1989,12,1,0,0,0,0,30.024999999999999,325.67,{"$f":"IF(D10563=0,0,(F10563)/D10563*1000000*1000)","v":0},{"$f":"IF(D10563=0,0,(F10563+G10563)/D10563*1000000*1000)","v":0}]
[1989,12,2,0,0,0,0,30.016999999999999,325.67,0,0]
[1989,12,3,0,0,0,0,30.01,325.67,0,0]
[1989,12,4,0,0,0,0,30.001999999999999,325.67,0,0]
[1989,12,5,0,0,0,0,29.994,325.67,0,0]
[1989,12,6,0,0,0,0,29.986999999999998,325.67,0,0]
[1989,12,7,0.57452000000000003,8.6684999999999999,2.9787000000000001E-11,3.5888000000000001E-19,29.978999999999999,325.67,5.1846759033628072E-2,5.1846759658288659E-2]
[1989,12,8,0.96,22.849,3.2523000000000001E-11,3.0109E-19,29.971,325.67,3.3878124999999995E-2,3.3878125313635418E-2]
[1989,12,9,6.0865000000000002E-2,0.43720999999999999,1.6164000000000001E-12,7.1507999999999997E-21,30.103000000000002,326.12,2.6557134642241024E-2,2.655713475972727E-2]
[1989,12,10,0,0,0,0,30.096,326.12,0,0]
[1989,12,11,0,0,0,0,30.088000000000001,326.12,0,0]
[1989,12,12,1.7544999999999999,50.451999999999998,2.7257000000000001E-11,1.0049E-19,30.384,327.07,1.5535480193787405E-2,1.5535480251062984E-2]
[1989,12,13,0,0,0,0,30.376000000000001,327.07,0,0]
[1989,12,14,0,0,0,0,30.367999999999999,327.07,0,0]
[1989,12,15,0,0,0,0,30.361000000000001,327.07,0,0]
[1989,12,16,0,0,0,0,30.353000000000002,327.07,0,0]
[1989,12,17,0,0,0,0,30.344999999999999,327.07,0,0]
[1989,12,18,7.6396000000000005E-4,1.2838000000000001E-3,9.3851000000000002E-15,1.0420000000000001E-23,30.337,327.07,1.2284805487198281E-2,1.228480550083774E-2]
[1989,12,19,1.4611000000000001E-2,6.1650999999999997E-2,1.4533E-13,1.4301999999999999E-22,30.33,327.07,9.9466155636164528E-3,9.94661557340497E-3]
[1989,12,20,0,0,0,0,30.321999999999999,327.07,0,0]
[1989,12,21,0,0,0,0,30.314,327.07,0,0]
[1989,12,22,0,0,0,0,30.306000000000001,327.07,0,0]
[1989,12,23,0,0,0,0,30.298999999999999,327.07,0,0]
[1989,12,24,0,0,0,0,30.291,327.07,0,0]
[1989,12,25,0,0,0,0,30.283000000000001,327.07,0,0]
[1989,12,26,0,0,0,0,30.274999999999999,327.07,0,0]
[1989,12,27,0,0,0,0,30.268000000000001,327.07,0,0]
[1989,12,28,0,0,0,0,30.26,327.07,0,0]
[1989,12,29,0,0,0,0,30.251999999999999,327.07,0,0]
[1989,12,30,0,0,0,0,30.244,327.07,0,0]
[1989,12,31,0.46881,8.2562999999999995,2.4664000000000001E-12,1.6078E-21,30.236999999999998,327.07,5.2609799279025628E-3,5.2609799313320955E-3]
[1990,1,1,0,0,0,0,30.228999999999999,327.07,0,0]
[1990,1,2,0,0,0,0,30.221,327.07,0,0]
[1990,1,3,0,0,0,0,30.213000000000001,327.07,0,0]
[1990,1,4,4.7305999999999997E-3,1.4189999999999999E-2,1.9008999999999999E-14,5.2428000000000002E-24,30.206,327.07,4.018306345918066E-3,4.0183063470263401E-3]
[1990,1,5,0.54129000000000005,11.321999999999999,1.2975000000000001E-12,4.1656E-22,30.35,327.55,2.3970514881117332E-3,2.3970514888813021E-3]
[1990,1,6,0.23494999999999999,3.5939000000000001,3.6276000000000001E-13,7.2029999999999996E-23,30.574999999999999,328.28,1.54398808257076E-3,1.5439880828773357E-3]
[1990,1,7,0.20891999999999999,3.0215999999999998,2.0797E-13,2.7625000000000003E-23,30.809000000000001,329.03,9.9545280490139789E-4,9.9545280503362523E-4]
[1990,1,8,1.3650000000000001E-2,5.8441E-2,1.0321E-14,6.8471000000000002E-25,30.93,329.43,7.5611721611721608E-4,7.561172161673781E-4]
[1990,1,9,0,0,0,0,30.922000000000001,329.43,0,0]
[1990,1,10,0,0,0,0,30.914000000000001,329.43,0,0]
[1990,1,11,0,0,0,0,30.905999999999999,329.43,0,0]
[1990,1,12,0,0,0,0,30.898,329.43,0,0]
[1990,1,13,0,0,0,0,30.89,329.43,0,0]
[1990,1,14,0,0,0,0,30.882999999999999,329.43,0,0]
[1990,1,15,0,0,0,0,30.875,329.43,0,0]
[1990,1,16,0,0,0,0,30.867000000000001,329.43,0,0]
[1990,1,17,0,0,0,0,30.859000000000002,329.43,0,0]
[1990,1,18,0,0,0,0,30.850999999999999,329.43,0,0]
[1990,1,19,0,0,0,0,30.843,329.43,0,0]
[1990,1,20,3.8157999999999999,153.30000000000001,7.5761999999999996E-13,3.2715E-23,30.972999999999999,329.85,1.9854814193616017E-4,1.9854814194473374E-4]
[1990,1,21,6.4746999999999999E-3,2.3295E-2,1.0026999999999999E-15,1.7592E-26,31.015999999999998,330.01,1.5486431803790135E-4,1.5486431804061839E-4]
[1990,1,22,0,0,0,0,31.007999999999999,330.01,0,0]
[1990,1,23,0,0,0,0,31,330.01,0,0]
[1990,1,24,3.6293000000000002,145.35,2.2416999999999999E-13,4.2343999999999998E-24,31.431999999999999,331.35,6.1766731876670424E-5,6.1766731877837161E-5]
[1990,1,25,1.7696000000000001,59.124000000000002,5.3588000000000002E-14,6.3600000000000004E-25,31.843,332.61,3.0282549728752261E-5,3.0282549729111667E-5]
[1990,1,26,0,0,0,0,31.835000000000001,332.61,0,0]
[1990,1,27,0,0,0,0,31.827000000000002,332.61,0,0]
[1990,1,28,0,0,0,0,31.818999999999999,332.61,0,0]
[1990,1,29,1.5341E-3,3.4147000000000001E-3,3.4579999999999999E-17,1.3851E-28,31.811,332.61,2.2540903461312823E-5,2.254090346140311E-5]
[1990,1,30,0,0,0,0,31.803000000000001,332.61,0,0]
[1990,1,31,0,0,0,0,31.794,332.61,0,0]
[1990,2,1,0,0,0,0,31.786000000000001,332.61,0,0]
[1990,2,2,0,0,0,0,31.777999999999999,332.61,0,0]
[1990,2,3,0,0,0,0,31.77,332.61,{"$f":"IF(D10627=0,0,(F10627)/D10627*1000000*1000)","v":0},{"$f":"IF(D10627=0,0,(F10627+G10627)/D10627*1000000*1000)","v":0}]
[1990,2,4,1.3063,37.322000000000003,1.1891E-14,5.5826000000000005E-26,31.818999999999999,332.78,9.1028094618387818E-6,9.102809461881518E-6]
[1990,2,5,0,0,0,0,31.811,332.78,0,0]
[1990,2,6,0,0,0,0,31.802,332.78,0,0]
[1990,2,7,0,0,0,0,31.794,332.78,0,0]
[1990,2,8,0,0,0,0,31.786000000000001,332.78,0,0]
[1990,2,9,5.4995000000000003,266.94,1.5756000000000001E-14,3.6179999999999997E-26,32.213000000000001,334.07,2.8649877261569237E-6,2.8649877261635026E-6]
[1990,2,10,0.46133999999999997,10.065,7.3403000000000002E-16,1.0328E-27,32.482999999999997,334.89,1.5910824988078208E-6,1.5910824988100595E-6]
[1990,2,11,0,0,0,0,32.475000000000001,334.89,0,0]
[1990,2,12,0,0,0,0,32.466999999999999,334.89,0,0]
[1990,2,13,0,0,0,0,32.457999999999998,334.89,0,0]
[1990,2,14,0,0,0,0,32.450000000000003,334.89,0,0]
[1990,2,15,0,0,0,0,32.442,334.89,0,0]
[1990,2,16,3.0293999999999999,115.09,1.3669E-15,1.1786E-27,32.847999999999999,336.1,4.5121146101538263E-7,4.5121146101577163E-7]
[1990,2,17,0,0,0,0,32.840000000000003,336.1,0,0]
[1990,2,18,2.5213999999999999,101.77,4.6142999999999999E-16,2.7061E-28,33.231000000000002,337.25,1.8300547314983739E-7,1.830054731499447E-7]
[1990,2,19,0.11198,1.3435999999999999,1.2991E-17,4.1302999999999999E-30,33.405000000000001,337.78,1.1601178781925344E-7,1.1601178781929033E-7]
[1990,2,20,0,0,0,0,33.396999999999998,337.78,0,0]
[1990,2,21,0,0,0,0,33.387999999999998,337.78,0,0]
[1990,2,22,3.0563E-2,0.18557000000000001,2.2663E-18,3.9151000000000002E-31,33.380000000000003,337.78,7.4151752118574741E-8,7.4151752118587552E-8]
[1990,2,23,0,0,0,0,33.371000000000002,337.78,0,0]
[1990,2,24,0,0,0,0,33.363,337.78,0,0]
[1990,2,25,0,0,0,0,33.353999999999999,337.78,0,0]
[1990,2,26,0,0,0,0,33.344999999999999,337.78,0,0]
[1990,2,27,0,0,0,0,33.337000000000003,337.78,0,0]
[1990,2,28,0,0,0,0,33.328000000000003,337.78,0,0]
[1990,3,1,0,0,0,0,33.32,337.78,0,0]
[1990,3,2,0.46261999999999998,8.0728000000000009,1.1657E-17,1.6824000000000001E-30,33.311,337.78,2.5197786520254204E-8,2.5197786520257843E-8]
[1990,3,3,0,0,0,0,33.302999999999997,337.78,0,0]
[1990,3,4,0,0,0,0,33.293999999999997,337.78,0,0]
[1990,3,5,0,0,0,0,33.286000000000001,337.78,0,0]
[1990,3,6,0,0,0,0,33.277000000000001,337.78,0,0]
[1990,3,7,0,0,0,0,33.268999999999998,337.78,0,0]
[1990,3,8,5.6124E-2,0.39907999999999999,7.0359999999999996E-19,4.8167999999999997E-32,33.26,337.78,1.2536526263274176E-8,1.2536526263275035E-8]
[1990,3,9,7.7107E-4,1.7094E-3,7.4473999999999996E-21,4.0668999999999998E-34,33.252000000000002,337.78,9.6585264632264255E-9,9.6585264632269516E-9]
[1990,3,10,0,0,0,0,33.243000000000002,337.78,0,0]
[1990,3,11,0,0,0,0,33.234999999999999,337.78,0,0]
[1990,3,12,0,0,0,0,33.225999999999999,337.78,0,0]
[1990,3,13,0,0,0,0,33.218000000000004,337.78,0,0]
[1990,3,14,0,0,0,0,33.209000000000003,337.78,0,0]
[1990,3,15,0,0,0,0,33.201000000000001,337.78,0,0]
[1990,3,16,6.5484999999999998,338.41,1.2920000000000001E-17,8.3315000000000002E-31,33.741,339.33,1.9729709093685578E-9,1.9729709093686852E-9]
[1990,3,17,2.5415999999999999,115.51,2.1721000000000002E-18,1.0234E-31,34.124000000000002,340.43,8.5461913755114895E-10,8.5461913755118938E-10]
[1990,3,18,0,0,0,0,34.115000000000002,340.43,0,0]
[1990,3,19,0,0,0,0,34.106000000000002,340.43,0,0]
[1990,3,20,0,0,0,0,34.097999999999999,340.43,0,0]
[1990,3,21,0,0,0,0,34.088999999999999,340.43,0,0]
[1990,3,22,0,0,0,0,34.08,340.43,0,0]
[1990,3,23,0,0,0,0,34.072000000000003,340.43,0,0]
[1990,3,24,0,0,0,0,34.063000000000002,340.43,0,0]
[1990,3,25,0,0,0,0,34.054000000000002,340.43,0,0]
[1990,3,26,0,0,0,0,34.045000000000002,340.43,0,0]
[1990,3,27,0,0,0,0,34.036999999999999,340.43,0,0]
[1990,3,28,0,0,0,0,34.027999999999999,340.43,0,0]
[1990,3,29,0,0,0,0,34.018999999999998,340.43,0,0]
[1990,3,30,0,0,0,0,34.011000000000003,340.43,0,0]
[1990,3,31,0,0,0,0,34.002000000000002,340.43,0,0]
[1990,4,1,0,0,0,0,33.993000000000002,340.43,0,0]
[1990,4,2,0,0,0,0,33.984000000000002,340.43,0,0]
[1990,4,3,0,0,0,0,33.975999999999999,340.43,0,0]
[1990,4,4,0,0,0,0,33.966999999999999,340.43,0,0]
[1990,4,5,0,0,0,0,33.957999999999998,340.43,0,0]
[1990,4,6,0,0,0,0,33.950000000000003,340.43,0,0]
[1990,4,7,0,0,0,0,33.941000000000003,340.43,0,0]
[1990,4,8,0,0,0,0,33.932000000000002,340.43,{"$f":"IF(D10691=0,0,(F10691)/D10691*1000000*1000)","v":0},{"$f":"IF(D10691=0,0,(F10691+G10691)/D10691*1000000*1000)","v":0}]
[1990,4,9,0,0,0,0,33.923999999999999,340.43,0,0]
[1990,4,10,7.3036000000000004E-2,0.63302000000000003,1.0241E-20,6.4359999999999996E-35,33.914999999999999,340.43,1.4021852237252859E-10,1.4021852237252952E-10]
[1990,4,11,0,0,0,0,33.905999999999999,340.43,0,0]
[1990,4,12,0,0,0,0,33.898000000000003,340.43,0,0]
[1990,4,13,0,0,0,0,33.889000000000003,340.43,0,0]
[1990,4,14,6.8621999999999997E-4,1.5665E-3,6.4696000000000003E-23,2.5577000000000001E-37,33.880000000000003,340.43,9.4278802716330064E-11,9.4278802716330426E-11]
[1990,4,15,0,0,0,0,33.872,340.43,0,0]
[1990,4,16,0,0,0,0,33.863,340.43,0,0]
[1990,4,17,0,0,0,0,33.853999999999999,340.43,0,0]
[1990,4,18,0,0,0,0,33.845999999999997,340.43,0,0]
[1990,4,19,0,0,0,0,33.837000000000003,340.43,0,0]
[1990,4,20,0,0,0,0,33.828000000000003,340.43,0,0]
[1990,4,21,0,0,0,0,33.82,340.43,0,0]
[1990,4,22,0,0,0,0,33.811,340.43,0,0]
[1990,4,23,0,0,0,0,33.802,340.43,0,0]
[1990,4,24,0,0,0,0,33.793999999999997,340.43,0,0]
[1990,4,25,0,0,0,0,33.784999999999997,340.43,0,0]
[1990,4,26,0,0,0,0,33.776000000000003,340.43,0,0]
[1990,4,27,0,0,0,0,33.768000000000001,340.43,0,0]
[1990,4,28,0.43290000000000001,7.8006000000000002,8.4879000000000004E-21,1.9588E-35,33.759,340.43,1.9607068607068609E-11,1.9607068607068654E-11]
[1990,4,29,0,0,0,0,33.75,340.43,0,0]
[1990,4,30,0,0,0,0,33.741999999999997,340.43,0,0]
[1990,5,1,0,0,0,0,33.732999999999997,340.43,0,0]
[1990,5,2,0,0,0,0,33.725000000000001,340.43,0,0]
[1990,5,3,0,0,0,0,33.716000000000001,340.43,0,0]
[1990,5,4,0,0,0,0,33.707000000000001,340.43,0,0]
[1990,5,5,0.20943000000000001,2.7864,1.6108E-21,2.2687000000000001E-36,33.698999999999998,340.43,7.6913527192856807E-12,7.6913527192856904E-12]
[1990,5,6,0,0,0,0,33.69,340.43,0,0]
[1990,5,7,0,0,0,0,33.680999999999997,340.43,0,0]
[1990,5,8,0,0,0,0,33.673000000000002,340.43,0,0]
[1990,5,9,0.67649000000000004,18.699000000000002,2.0022E-21,2.7513E-36,33.664000000000001,340.43,2.9596889828378833E-12,2.9596889828378878E-12]
[1990,5,10,0,0,0,0,33.655999999999999,340.43,0,0]
[1990,5,11,0,0,0,0,33.646999999999998,340.43,0,0]
[1990,5,12,0,0,0,0,33.637999999999998,340.43,0,0]
[1990,5,13,1.2548E-2,6.7849999999999994E-2,2.1849999999999999E-23,1.0613E-38,33.630000000000003,340.43,1.7413133567102328E-12,1.7413133567102336E-12]
[1990,5,14,0,0,0,0,33.621000000000002,340.43,0,0]
[1990,5,15,0,0,0,0,33.613,340.43,0,0]
[1990,5,16,0,0,0,0,33.603999999999999,340.43,0,0]
[1990,5,17,0.24171000000000001,3.4887000000000001,1.7858E-22,7.3290999999999997E-38,33.594999999999999,340.43,7.388192462041289E-13,7.3881924620412921E-13]
[1990,5,18,0,0,0,0,33.587000000000003,340.43,0,0]
[1990,5,19,0,0,0,0,33.578000000000003,340.43,0,0]
[1990,5,20,0.26828999999999997,4.5404999999999998,9.3724999999999996E-23,3.0243000000000002E-38,33.57,340.43,3.4934212978493421E-13,3.4934212978493437E-13]
[1990,5,21,0,0,0,0,33.561,340.43,0,0]
[1990,5,22,0,0,0,0,33.552,340.43,0,0]
[1990,5,23,0,0,0,0,33.543999999999997,340.43,0,0]
[1990,5,24,0,0,0,0,33.534999999999997,340.43,0,0]
[1990,5,25,0,0,0,0,33.527000000000001,340.43,0,0]
[1990,5,26,0,0,0,0,33.518000000000001,340.43,0,0]
[1990,5,27,0.60450999999999999,13.315,6.1060000000000004E-23,1.2401999999999999E-38,33.51,340.43,1.0100742750326711E-13,1.0100742750326714E-13]
[1990,5,28,0.76009000000000004,22.622,3.9952999999999999E-23,7.6004999999999998E-39,33.500999999999998,340.43,5.2563512215658666E-14,5.2563512215658672E-14]
[1990,5,29,0,0,0,0,33.491999999999997,340.43,0,0]
[1990,5,30,0,0,0,0,33.484000000000002,340.43,0,0]
[1990,5,31,0,0,0,0,33.475000000000001,340.43,0,0]
[1990,6,1,0,0,0,0,33.466999999999999,340.43,0,0]
[1990,6,2,0,0,0,0,33.457999999999998,340.43,0,0]
[1990,6,3,0,0,0,0,33.450000000000003,340.43,0,0]
[1990,6,4,0,0,0,0,33.441000000000003,340.43,0,0]
[1990,6,5,0,0,0,0,33.432000000000002,340.43,0,0]
[1990,6,6,0,0,0,0,33.423999999999999,340.43,0,0]
[1990,6,7,0,0,0,0,33.414999999999999,340.43,0,0]
[1990,6,8,0,0,0,0,33.406999999999996,340.43,0,0]
[1990,6,9,0,0,0,0,33.398000000000003,340.43,0,0]
[1990,6,10,0,0,0,0,33.39,340.43,0,0]
[1990,6,11,0,0,0,0,33.381,340.43,{"$f":"IF(D10755=0,0,(F10755)/D10755*1000000*1000)","v":0},{"$f":"IF(D10755=0,0,(F10755+G10755)/D10755*1000000*1000)","v":0}]
[1990,6,12,0,0,0,0,33.372999999999998,340.43,0,0]
[1990,6,13,0,0,0,0,33.363999999999997,340.43,0,0]
[1990,6,14,0,0,0,0,33.356000000000002,340.43,0,0]
[1990,6,15,0,0,0,0,33.347000000000001,340.43,0,0]
[1990,6,16,0,0,0,0,33.338000000000001,340.43,0,0]
[1990,6,17,0,0,0,0,33.33,340.43,0,0]
[1990,6,18,0,0,0,0,33.320999999999998,340.43,0,0]
[1990,6,19,0,0,0,0,33.313000000000002,340.43,0,0]
[1990,6,20,0,0,0,0,33.304000000000002,340.43,0,0]
[1990,6,21,0,0,0,0,33.295999999999999,340.43,0,0]
[1990,6,22,5.5669999999999997E-2,0.13927,1.114E-24,2.1973E-41,33.286999999999999,340.43,2.001077779773666E-14,2.001077779773666E-14]
[1990,6,23,0,0,0,0,33.279000000000003,340.43,0,0]
[1990,6,24,0,0,0,0,33.270000000000003,340.43,0,0]
[1990,6,25,0,0,0,0,33.262,340.43,0,0]
[1990,6,26,0,0,0,0,33.253,340.43,0,0]
[1990,6,27,0.11529,0.37247999999999998,1.0348999999999999E-24,1.5401E-41,33.244999999999997,340.43,8.9764940584612701E-15,8.9764940584612701E-15]
[1990,6,28,0,0,0,0,33.235999999999997,340.43,0,0]
[1990,6,29,0,0,0,0,33.228000000000002,340.43,0,0]
[1990,6,30,0,0,0,0,33.219000000000001,340.43,0,0]
[1990,7,1,0,0,0,0,33.210999999999999,340.43,0,0]
[1990,7,2,0,0,0,0,33.201999999999998,340.43,0,0]
[1990,7,3,0,0,0,0,33.194000000000003,340.43,0,0]
[1990,7,4,0,0,0,0,33.185000000000002,340.43,0,0]
[1990,7,5,0,0,0,0,33.177,340.43,0,0]
[1990,7,6,0,0,0,0,33.167999999999999,340.43,0,0]
[1990,7,7,0,0,0,0,33.159999999999997,340.43,0,0]
[1990,7,8,0,0,0,0,33.151000000000003,340.43,0,0]
[1990,7,9,0,0,0,0,33.143000000000001,340.43,0,0]
[1990,7,10,0,0,0,0,33.134,340.43,0,0]
[1990,7,11,0,0,0,0,33.125999999999998,340.43,0,0]
[1990,7,12,1.7533E-2,2.2377999999999999E-2,7.1691000000000002E-26,3.6947000000000001E-43,33.116999999999997,340.43,4.088918040266925E-15,4.088918040266925E-15]
[1990,7,13,0.72538999999999998,5.3250999999999999,1.3805999999999999E-24,1.0845999999999999E-41,33.109000000000002,340.43,1.9032520437282012E-15,1.9032520437282012E-15]
[1990,7,14,0.29172999999999999,1.5884,3.1910000000000001E-25,1.9225E-42,33.100999999999999,340.43,1.093819627737977E-15,1.093819627737977E-15]
[1990,7,15,0,0,0,0,33.091999999999999,340.43,0,0]
[1990,7,16,0,0,0,0,33.084000000000003,340.43,0,0]
[1990,7,17,0,0,0,0,33.075000000000003,340.43,0,0]
[1990,7,18,0,0,0,0,33.067,340.43,0,0]
[1990,7,19,0.52256999999999998,3.1051000000000002,7.2367999999999997E-9,7.6311000000000001E-11,33.058,340.43,13.848479629523318,13.994509826434737]
[1990,7,20,0,0,0,0,33.049999999999997,340.43,0,0]
[1990,7,21,0,0,0,0,33.040999999999997,340.43,0,0]
[1990,7,22,0,0,0,0,33.033000000000001,340.43,0,0]
[1990,7,23,0.60711000000000004,4.1021999999999998,6.2019999999999999E-9,2.5398E-11,33.024000000000001,340.43,10.215611668396171,10.257445932368103]
[1990,7,24,0,0,0,0,33.015999999999998,340.43,0,0]
[1990,7,25,0,0,0,0,33.006999999999998,340.43,0,0]
[1990,7,26,0,0,0,0,32.999000000000002,340.43,0,0]
[1990,7,27,0,0,0,0,32.991,340.43,0,0]
[1990,7,28,0,0,0,0,32.981999999999999,340.43,0,0]
[1990,7,29,0,0,0,0,32.973999999999997,340.43,0,0]
[1990,7,30,0,0,0,0,32.965000000000003,340.43,0,0]
[1990,7,31,0,0,0,0,32.957000000000001,340.43,0,0]
[1990,8,1,0.66259999999999997,5.0484999999999998,1.2472000000000001E-8,9.7615000000000004E-11,32.948,340.43,18.82281919710233,18.970140356172653]
[1990,8,2,0,0,0,0,32.94,340.43,0,0]
[1990,8,3,0,0,0,0,32.932000000000002,340.43,0,0]
[1990,8,4,0,0,0,0,32.923000000000002,340.43,0,0]
[1990,8,5,0,0,0,0,32.914999999999999,340.43,0,0]
[1990,8,6,0,0,0,0,32.905999999999999,340.43,0,0]
[1990,8,7,0,0,0,0,32.898000000000003,340.43,0,0]
[1990,8,8,0.44641999999999998,3.2061000000000002,5.3126E-9,8.7824000000000002E-12,32.889000000000003,340.43,11.900452488687783,11.920125442408496]
[1990,8,9,1.8144000000000001E-3,1.8730999999999999E-3,2.0263E-11,1.5615000000000001E-14,32.881,340.43,11.16787918871252,11.176485339506172]
[1990,8,10,0.43532999999999999,3.7823000000000002,4.0545E-9,3.0298999999999998E-12,32.872999999999998,340.43,9.3136241471986772,9.3205841545494224]
[1990,8,11,0,0,0,0,32.863999999999997,340.43,0,0]
[1990,8,12,0,0,0,0,32.856000000000002,340.43,0,0]
[1990,8,13,0,0,0,0,32.847000000000001,340.43,0,0]
[1990,8,14,0,0,0,0,32.838999999999999,340.43,{"$f":"IF(D10819=0,0,(F10819)/D10819*1000000*1000)","v":0},{"$f":"IF(D10819=0,0,(F10819+G10819)/D10819*1000000*1000)","v":0}]
[1990,8,15,0,0,0,0,32.831000000000003,340.43,0,0]
[1990,8,16,0,0,0,0,32.822000000000003,340.43,0,0]
[1990,8,17,0,0,0,0,32.814,340.43,0,0]
[1990,8,18,0,0,0,0,32.805,340.43,0,0]
[1990,8,19,0,0,0,0,32.796999999999997,340.43,0,0]
[1990,8,20,0,0,0,0,32.789000000000001,340.43,0,0]
[1990,8,21,0,0,0,0,32.78,340.43,0,0]
[1990,8,22,3.6846999999999998E-2,0.10574,2.5655999999999999E-10,5.4006000000000002E-14,32.771999999999998,340.43,6.9628463646972607,6.964312047113741]
[1990,8,23,0,0,0,0,32.762999999999998,340.43,0,0]
[1990,8,24,0,0,0,0,32.755000000000003,340.43,0,0]
[1990,8,25,0,0,0,0,32.747,340.43,0,0]
[1990,8,26,0,0,0,0,32.738,340.43,0,0]
[1990,8,27,0,0,0,0,32.729999999999997,340.43,0,0]
[1990,8,28,0,0,0,0,32.722000000000001,340.43,0,0]
[1990,8,29,0.11618000000000001,0.48729,5.8956999999999996E-10,5.0993999999999998E-14,32.713000000000001,340.43,5.0746255809950078,5.0750645033568595]
[1990,8,30,0.40134999999999998,4.4852999999999996,1.6671E-9,1.3395E-13,32.704999999999998,340.43,4.1537311573439641,4.1540649059424446]
[1990,8,31,0,0,0,0,32.695999999999998,340.43,0,0]
[1990,9,1,0.1956,1.6707000000000001,6.6653999999999995E-10,2.7171999999999999E-14,32.688000000000002,340.43,3.4076687116564415,3.4078076278118608]
[1990,9,2,0,0,0,0,32.68,340.43,0,0]
[1990,9,3,0,0,0,0,32.670999999999999,340.43,0,0]
[1990,9,4,0,0,0,0,32.662999999999997,340.43,0,0]
[1990,9,5,0,0,0,0,32.655000000000001,340.43,0,0]
[1990,9,6,0,0,0,0,32.646000000000001,340.43,0,0]
[1990,9,7,0,0,0,0,32.637999999999998,340.43,0,0]
[1990,9,8,0,0,0,0,32.630000000000003,340.43,0,0]
[1990,9,9,0,0,0,0,32.621000000000002,340.43,0,0]
[1990,9,10,0,0,0,0,32.613,340.43,0,0]
[1990,9,11,0,0,0,0,32.604999999999997,340.43,0,0]
[1990,9,12,3.8288999999999997E-2,0.1244,8.8938000000000001E-11,6.1281999999999997E-16,32.595999999999997,340.43,2.3228081172138211,2.322824122332785]
[1990,9,13,0.97331000000000001,15.6,1.6605E-9,1.0778999999999999E-14,32.588000000000001,340.43,1.7060340487614427,1.7060451233419978]
[1990,9,14,1.7964,35.716999999999999,2.1805000000000001E-9,7.3230999999999994E-15,32.58,340.43,1.2138165219327546,1.2138205984747272]
[1990,9,15,0,0,0,0,32.570999999999998,340.43,0,0]
[1990,9,16,0,0,0,0,32.563000000000002,340.43,0,0]
[1990,9,17,0,0,0,0,32.555,340.43,0,0]
[1990,9,18,0,0,0,0,32.545999999999999,340.43,0,0]
[1990,9,19,0,0,0,0,32.537999999999997,340.43,0,0]
[1990,9,20,0,0,0,0,32.53,340.43,0,0]
[1990,9,21,0,0,0,0,32.521000000000001,340.43,0,0]
[1990,9,22,0,0,0,0,32.512999999999998,340.43,0,0]
[1990,9,23,0,0,0,0,32.505000000000003,340.43,0,0]
[1990,9,24,0,0,0,0,32.496000000000002,340.43,0,0]
[1990,9,25,0,0,0,0,32.488,340.43,0,0]
[1990,9,26,0,0,0,0,32.479999999999997,340.43,0,0]
[1990,9,27,0,0,0,0,32.470999999999997,340.43,0,0]
[1990,9,28,0,0,0,0,32.463000000000001,340.43,0,0]
[1990,9,29,0,0,0,0,32.454999999999998,340.43,0,0]
[1990,9,30,0,0,0,0,32.445999999999998,340.43,0,0]
[1990,10,1,0,0,0,0,32.438000000000002,340.43,0,0]
[1990,10,2,0,0,0,0,32.43,340.43,0,0]
[1990,10,3,0,0,0,0,32.421999999999997,340.43,0,0]
[1990,10,4,0.10031,0.55740999999999996,7.7330000000000006E-11,7.2273000000000004E-17,32.412999999999997,340.43,0.77091017844681486,0.77091089894327602]
[1990,10,5,0,0,0,0,32.405000000000001,340.43,0,0]
[1990,10,6,0,0,0,0,32.396999999999998,340.43,0,0]
[1990,10,7,0,0,0,0,32.387999999999998,340.43,0,0]
[1990,10,8,0,0,0,0,32.380000000000003,340.43,0,0]
[1990,10,9,0,0,0,0,32.372,340.43,0,0]
[1990,10,10,1.6485000000000001,36.956000000000003,6.5366999999999998E-10,4.2852000000000001E-16,32.363999999999997,340.43,0.39652411282984529,0.39652437277525021]
[1990,10,11,0.73673,14.708,2.0772999999999999E-10,8.2741999999999999E-17,32.354999999999997,340.43,0.28196218424660324,0.28196229655640465]
[1990,10,12,0.13682,1.4268000000000001,3.0523999999999997E-11,6.5869999999999997E-18,32.347000000000001,340.43,0.22309603859084928,0.22309608673439554]
[1990,10,13,0,0,0,0,32.338999999999999,340.43,0,0]
[1990,10,14,0,0,0,0,32.33,340.43,0,0]
[1990,10,15,0,0,0,0,32.322000000000003,340.43,0,0]
[1990,10,16,0,0,0,0,32.314,340.43,0,0]
[1990,10,17,0.24235999999999999,2.9110999999999998,3.6816E-11,4.1621000000000004E-18,32.305999999999997,340.43,{"$f":"IF(D10883=0,0,(F10883)/D10883*1000000*1000)","v":0.15190625515761677},{"$f":"IF(D10883=0,0,(F10883+G10883)/D10883*1000000*1000)","v":0.15190627233083018}]
[1990,10,18,0.27345000000000003,4.0568,3.1250999999999998E-11,2.5495000000000002E-18,32.296999999999997,340.43,0.11428414701042236,0.11428415633388185]
[1990,10,19,0,0,0,0,32.289000000000001,340.43,0,0]
[1990,10,20,0,0,0,0,32.280999999999999,340.43,0,0]
[1990,10,21,0,0,0,0,32.273000000000003,340.43,0,0]
[1990,10,22,2.8273999999999999,88.358000000000004,1.6533000000000001E-10,6.3799000000000002E-18,32.404000000000003,340.84,5.8474216594751362E-2,5.8474218851206058E-2]
[1990,10,23,0,0,0,0,32.396000000000001,340.84,0,0]
[1990,10,24,0,0,0,0,32.387,340.84,0,0]
[1990,10,25,0,0,0,0,32.378999999999998,340.84,0,0]
[1990,10,26,0,0,0,0,32.371000000000002,340.84,0,0]
[1990,10,27,0,0,0,0,32.363,340.84,0,0]
[1990,10,28,0,0,0,0,32.353999999999999,340.84,0,0]
[1990,10,29,0,0,0,0,32.345999999999997,340.84,0,0]
[1990,10,30,0,0,0,0,32.338000000000001,340.84,0,0]
[1990,10,31,0,0,0,0,32.33,340.84,0,0]
[1990,11,1,0,0,0,0,32.320999999999998,340.84,0,0]
[1990,11,2,0,0,0,0,32.313000000000002,340.84,0,0]
[1990,11,3,0,0,0,0,32.305,340.84,0,0]
[1990,11,4,0,0,0,0,32.295999999999999,340.84,0,0]
[1990,11,5,0,0,0,0,32.287999999999997,340.84,0,0]
[1990,11,6,0,0,0,0,32.28,340.84,0,0]
[1990,11,7,0,0,0,0,32.271999999999998,340.84,0,0]
[1990,11,8,0,0,0,0,32.262999999999998,340.84,0,0]
[1990,11,9,0.41633999999999999,4.8144999999999998,1.0619000000000001E-11,7.8443999999999996E-20,32.255000000000003,340.84,2.5505596387567855E-2,2.5505596575981171E-2]
[1990,11,10,0,0,0,0,32.247,340.84,0,0]
[1990,11,11,0,0,0,0,32.238999999999997,340.84,0,0]
[1990,11,12,0,0,0,0,32.229999999999997,340.84,0,0]
[1990,11,13,0,0,0,0,32.222000000000001,340.84,0,0]
[1990,11,14,0,0,0,0,32.213999999999999,340.84,0,0]
[1990,11,15,0,0,0,0,32.206000000000003,340.84,0,0]
[1990,11,16,0,0,0,0,32.197000000000003,340.84,0,0]
[1990,11,17,0,0,0,0,32.189,340.84,0,0]
[1990,11,18,0,0,0,0,32.180999999999997,340.84,0,0]
[1990,11,19,0,0,0,0,32.173000000000002,340.84,0,0]
[1990,11,20,0,0,0,0,32.164999999999999,340.84,0,0]
[1990,11,21,0,0,0,0,32.155999999999999,340.84,0,0]
[1990,11,22,0,0,0,0,32.148000000000003,340.84,0,0]
[1990,11,23,0,0,0,0,32.14,340.84,0,0]
[1990,11,24,0,0,0,0,32.131999999999998,340.84,0,0]
[1990,11,25,0,0,0,0,32.122999999999998,340.84,0,0]
[1990,11,26,0,0,0,0,32.115000000000002,340.84,0,0]
[1990,11,27,0,0,0,0,32.106999999999999,340.84,0,0]
[1990,11,28,0,0,0,0,32.098999999999997,340.84,0,0]
[1990,11,29,0,0,0,0,32.091000000000001,340.84,0,0]
[1990,11,30,0,0,0,0,32.082000000000001,340.84,0,0]
[1990,12,1,0,0,0,0,32.073999999999998,340.84,0,0]
[1990,12,2,0,0,0,0,32.066000000000003,340.84,0,0]
[1990,12,3,0.60443000000000002,9.3988999999999994,6.5266999999999996E-12,1.7171000000000001E-20,32.058,340.84,1.0798107307711396E-2,1.079810733611998E-2]
[1990,12,4,0,0,0,0,32.048999999999999,340.84,0,0]
[1990,12,5,0,0,0,0,32.040999999999997,340.84,0,0]
[1990,12,6,0,0,0,0,32.033000000000001,340.84,0,0]
[1990,12,7,0,0,0,0,32.024999999999999,340.84,0,0]
[1990,12,8,0,0,0,0,32.017000000000003,340.84,0,0]
[1990,12,9,0,0,0,0,32.009,340.84,0,0]
[1990,12,10,0,0,0,0,32,340.84,0,0]
[1990,12,11,0,0,0,0,31.992000000000001,340.84,0,0]
[1990,12,12,0,0,0,0,31.984000000000002,340.84,0,0]
[1990,12,13,0,0,0,0,31.975999999999999,340.84,0,0]
[1990,12,14,0,0,0,0,31.968,340.84,0,0]
[1990,12,15,0,0,0,0,31.959,340.84,0,0]
[1990,12,16,0,0,0,0,31.951000000000001,340.84,0,0]
[1990,12,17,0,0,0,0,31.943000000000001,340.84,0,0]
[1990,12,18,0,0,0,0,31.934999999999999,340.84,0,0]
[1990,12,19,0,0,0,0,31.927,340.84,0,0]
[1990,12,20,0.32092999999999999,4.8019999999999996,1.4583E-12,1.0849E-21,31.919,340.84,{"$f":"IF(D10947=0,0,(F10947)/D10947*1000000*1000)","v":4.5439815536098219E-3},{"$f":"IF(D10947=0,0,(F10947+G10947)/D10947*1000000*1000)","v":4.5439815569903088E-3}]
[1990,12,21,0,0,0,0,31.91,340.84,0,0]
[1990,12,22,0,0,0,0,31.902000000000001,340.84,0,0]
[1990,12,23,0.34741,6.0491999999999999,1.0396999999999999E-12,5.5290000000000001E-22,31.893999999999998,340.84,2.9927175383552573E-3,2.9927175399467485E-3]
[1990,12,24,0,0,0,0,31.885999999999999,340.84,0,0]
[1990,12,25,0,0,0,0,31.878,340.84,0,0]
[1990,12,26,0,0,0,0,31.87,340.84,0,0]
[1990,12,27,0,0,0,0,31.861000000000001,340.84,0,0]
[1990,12,28,0,0,0,0,31.853000000000002,340.84,0,0]
[1990,12,29,0,0,0,0,31.844999999999999,340.84,0,0]
[1990,12,30,0.10417999999999999,1.0726,1.8654000000000001E-13,4.3100000000000001E-23,31.837,340.84,1.7905548089844501E-3,1.790554809398157E-3]
[1990,12,31,0,0,0,0,31.829000000000001,340.84,0,0]

{"sheet":"PWC Summary","index":4,"n_rows":49,"n_cols":1,"rows_kept":49,"cut":false,"hidden":false,"merged":[]}
[" Variable Volume Water Model Version    1.03100000000000     "]
[" "]
[" *******************************************"]
[{"$f":"\"Performed on: \"& TEXT(NOW(),\"mm/dd/yyyy\")&\" at \"&TEXT(NOW(),\"hh:mm\")","v":"Performed on: 03/18/2021 at 07:08"}]
[" "]
[{"$f":"\"Initial 1-in-15.0  =   \"&TEXT('Daily Calcs'!R9,\"0.00E+00\")&\" ppb\"","v":"Initial 1-in-15.0  =   3.20E+01 ppb"}]
[{"$f":"\"Chronic 1-in-15.0  =   0.00E+00 ppb\"","v":"Chronic 1-in-15.0  =   0.00E+00 ppb"}]
[{"$f":"\"Simulation Avg     =   0.00E+00  ppb\"","v":"Simulation Avg     =   0.00E+00  ppb"}]
[{"$f":"\"4-d avg 1-in-15.0  =   0.00E+00 ppb\"","v":"4-d avg 1-in-15.0  =   0.00E+00 ppb"}]
[{"$f":"\"21-d avg 1-in-15.0 =   0.00E+00 ppb\"","v":"21-d avg 1-in-15.0 =   0.00E+00 ppb"}]
[{"$f":"\"60-d avg 1-in-15.0 =   0.00E+00 ppb\"","v":"60-d avg 1-in-15.0 =   0.00E+00 ppb"}]
[{"$f":"\"90-d avg 1-in-15.0 =   0.00E+00 ppb\"","v":"90-d avg 1-in-15.0 =   0.00E+00 ppb"}]
[{"$f":"\"1-d avg 1-in-15.0  =   \"&TEXT('Daily Calcs'!R9,\"0.00E+00\")&\" ppb\"","v":"1-d avg 1-in-15.0  =   3.20E+01 ppb"}]
[{"$f":"\"Benthic Pore Water Peak 1-in-15.0     =   \"&TEXT('Daily Calcs'!S9,\"0.00E+00\")&\" ppb\"","v":"Benthic Pore Water Peak 1-in-15.0     =   3.20E+01 ppb"}]
[{"$f":"\"Benthic Pore Water 21-d avg 1-in-15.0 =   0.00E+00  ppb\"","v":"Benthic Pore Water 21-d avg 1-in-15.0 =   0.00E+00  ppb"}]
[{"$f":"\"Benthic Conversion Factor             =   \"&TEXT('Daily Calcs'!U12,\"0.00\")&\"     -Pore water (ug/L) to (total mass ug)/(dry sed mass kg)\"","v":"Benthic Conversion Factor             =   6.81     -Pore water (ug/L) to (total mass ug)/(dry sed mass kg)"}]
[{"$f":"\"Benthic Mass Fraction in Pore Water   =  \"&TEXT('Daily Calcs'!U13,\"0.00E+00\")","v":"Benthic Mass Fraction in Pore Water   =  5.44E-02"}]
[" "]
["YEAR    1-day     4-day      21-day     60-day     90-day   Yearly Avg Benthic Pk  Benthic 21-day"]
[{"$f":"\"  1    \"&TEXT('Daily Calcs'!N3,\"0.00E+00\")&\"   0.00E+00   0.00E+00   0.00E+00   0.00E+00   0.00E+00   \"&TEXT('Daily Calcs'!O3,\"0.00E+00\")&\"   0.00E+00\"","v":"  1    2.02E+01   0.00E+00   0.00E+00   0.00E+00   0.00E+00   0.00E+00   2.03E+01   0.00E+00"}]
[{"$f":"\"  2    \"&TEXT('Daily Calcs'!N4,\"0.00E+00\")&\"   0.00E+00   0.00E+00   0.00E+00   0.00E+00   0.00E+00   \"&TEXT('Daily Calcs'!O4,\"0.00E+00\")&\"   0.00E+00\"","v":"  2    3.17E+01   0.00E+00   0.00E+00   0.00E+00   0.00E+00   0.00E+00   3.19E+01   0.00E+00"}]
[{"$f":"\"  3    \"&TEXT('Daily Calcs'!N5,\"0.00E+00\")&\"   0.00E+00   0.00E+00   0.00E+00   0.00E+00   0.00E+00   \"&TEXT('Daily Calcs'!O5,\"0.00E+00\")&\"   0.00E+00\"","v":"  3    2.05E+01   0.00E+00   0.00E+00   0.00E+00   0.00E+00   0.00E+00   2.06E+01   0.00E+00"}]
[{"$f":"\"  4    \"&TEXT('Daily Calcs'!N6,\"0.00E+00\")&\"   0.00E+00   0.00E+00   0.00E+00   0.00E+00   0.00E+00   \"&TEXT('Daily Calcs'!O6,\"0.00E+00\")&\"   0.00E+00\"","v":"  4    1.72E+01   0.00E+00   0.00E+00   0.00E+00   0.00E+00   0.00E+00   1.74E+01   0.00E+00"}]
[{"$f":"\"  5    \"&TEXT('Daily Calcs'!N7,\"0.00E+00\")&\"   0.00E+00   0.00E+00   0.00E+00   0.00E+00   0.00E+00   \"&TEXT('Daily Calcs'!O7,\"0.00E+00\")&\"   0.00E+00\"","v":"  5    2.21E+01   0.00E+00   0.00E+00   0.00E+00   0.00E+00   0.00E+00   2.23E+01   0.00E+00"}]
[{"$f":"\"  6    \"&TEXT('Daily Calcs'!N8,\"0.00E+00\")&\"   0.00E+00   0.00E+00   0.00E+00   0.00E+00   0.00E+00   \"&TEXT('Daily Calcs'!O8,\"0.00E+00\")&\"   0.00E+00\"","v":"  6    1.76E+01   0.00E+00   0.00E+00   0.00E+00   0.00E+00   0.00E+00   1.77E+01   0.00E+00"}]
[{"$f":"\"  7    \"&TEXT('Daily Calcs'!N9,\"0.00E+00\")&\"   0.00E+00   0.00E+00   0.00E+00   0.00E+00   0.00E+00   \"&TEXT('Daily Calcs'!O9,\"0.00E+00\")&\"   0.00E+00\"","v":"  7    2.64E+01   0.00E+00   0.00E+00   0.00E+00   0.00E+00   0.00E+00   2.66E+01   0.00E+00"}]
[{"$f":"\"  8    \"&TEXT('Daily Calcs'!N10,\"0.00E+00\")&\"   0.00E+00   0.00E+00   0.00E+00   0.00E+00   0.00E+00   \"&TEXT('Daily Calcs'!O10,\"0.00E+00\")&\"   0.00E+00\"","v":"  8    1.96E+01   0.00E+00   0.00E+00   0.00E+00   0.00E+00   0.00E+00   1.97E+01   0.00E+00"}]
[{"$f":"\"  9    \"&TEXT('Daily Calcs'!N11,\"0.00E+00\")&\"   0.00E+00   0.00E+00   0.00E+00   0.00E+00   0.00E+00   \"&TEXT('Daily Calcs'!O11,\"0.00E+00\")&\"   0.00E+00\"","v":"  9    2.57E+01   0.00E+00   0.00E+00   0.00E+00   0.00E+00   0.00E+00   2.58E+01   0.00E+00"}]
[{"$f":"\" 10    \"&TEXT('Daily Calcs'!N12,\"0.00E+00\")&\"   0.00E+00   0.00E+00   0.00E+00   0.00E+00   0.00E+00   \"&TEXT('Daily Calcs'!O12,\"0.00E+00\")&\"   0.00E+00\"","v":" 10    2.41E+01   0.00E+00   0.00E+00   0.00E+00   0.00E+00   0.00E+00   2.42E+01   0.00E+00"}]
[{"$f":"\" 11    \"&TEXT('Daily Calcs'!N13,\"0.00E+00\")&\"   0.00E+00   0.00E+00   0.00E+00   0.00E+00   0.00E+00   \"&TEXT('Daily Calcs'!O13,\"0.00E+00\")&\"   0.00E+00\"","v":" 11    2.24E+01   0.00E+00   0.00E+00   0.00E+00   0.00E+00   0.00E+00   2.26E+01   0.00E+00"}]
[{"$f":"\" 12    \"&TEXT('Daily Calcs'!N14,\"0.00E+00\")&\"   0.00E+00   0.00E+00   0.00E+00   0.00E+00   0.00E+00   \"&TEXT('Daily Calcs'!O14,\"0.00E+00\")&\"   0.00E+00\"","v":" 12    2.45E+01   0.00E+00   0.00E+00   0.00E+00   0.00E+00   0.00E+00   2.46E+01   0.00E+00"}]
[{"$f":"\" 13    \"&TEXT('Daily Calcs'!N15,\"0.00E+00\")&\"   0.00E+00   0.00E+00   0.00E+00   0.00E+00   0.00E+00   \"&TEXT('Daily Calcs'!O15,\"0.00E+00\")&\"   0.00E+00\"","v":" 13    2.57E+01   0.00E+00   0.00E+00   0.00E+00   0.00E+00   0.00E+00   2.58E+01   0.00E+00"}]
[{"$f":"\" 14    \"&TEXT('Daily Calcs'!N16,\"0.00E+00\")&\"   0.00E+00   0.00E+00   0.00E+00   0.00E+00   0.00E+00   \"&TEXT('Daily Calcs'!O16,\"0.00E+00\")&\"   0.00E+00\"","v":" 14    2.39E+01   0.00E+00   0.00E+00   0.00E+00   0.00E+00   0.00E+00   2.41E+01   0.00E+00"}]
[{"$f":"\" 15    \"&TEXT('Daily Calcs'!N17,\"0.00E+00\")&\"   0.00E+00   0.00E+00   0.00E+00   0.00E+00   0.00E+00   \"&TEXT('Daily Calcs'!O17,\"0.00E+00\")&\"   0.00E+00\"","v":" 15    2.68E+01   0.00E+00   0.00E+00   0.00E+00   0.00E+00   0.00E+00   2.70E+01   0.00E+00"}]
[{"$f":"\" 16    \"&TEXT('Daily Calcs'!N18,\"0.00E+00\")&\"   0.00E+00   0.00E+00   0.00E+00   0.00E+00   0.00E+00   \"&TEXT('Daily Calcs'!O18,\"0.00E+00\")&\"   0.00E+00\"","v":" 16    2.34E+01   0.00E+00   0.00E+00   0.00E+00   0.00E+00   0.00E+00   2.36E+01   0.00E+00"}]
[{"$f":"\" 17    \"&TEXT('Daily Calcs'!N19,\"0.00E+00\")&\"   0.00E+00   0.00E+00   0.00E+00   0.00E+00   0.00E+00   \"&TEXT('Daily Calcs'!O19,\"0.00E+00\")&\"   0.00E+00\"","v":" 17    2.52E+01   0.00E+00   0.00E+00   0.00E+00   0.00E+00   0.00E+00   2.54E+01   0.00E+00"}]
[{"$f":"\" 18    \"&TEXT('Daily Calcs'!N20,\"0.00E+00\")&\"   0.00E+00   0.00E+00   0.00E+00   0.00E+00   0.00E+00   \"&TEXT('Daily Calcs'!O20,\"0.00E+00\")&\"   0.00E+00\"","v":" 18    2.53E+01   0.00E+00   0.00E+00   0.00E+00   0.00E+00   0.00E+00   2.55E+01   0.00E+00"}]
[{"$f":"\" 19    \"&TEXT('Daily Calcs'!N21,\"0.00E+00\")&\"   0.00E+00   0.00E+00   0.00E+00   0.00E+00   0.00E+00   \"&TEXT('Daily Calcs'!O21,\"0.00E+00\")&\"   0.00E+00\"","v":" 19    2.58E+01   0.00E+00   0.00E+00   0.00E+00   0.00E+00   0.00E+00   2.61E+01   0.00E+00"}]
[{"$f":"\" 20    \"&TEXT('Daily Calcs'!N22,\"0.00E+00\")&\"   0.00E+00   0.00E+00   0.00E+00   0.00E+00   0.00E+00   \"&TEXT('Daily Calcs'!O22,\"0.00E+00\")&\"   0.00E+00\"","v":" 20    1.95E+01   0.00E+00   0.00E+00   0.00E+00   0.00E+00   0.00E+00   1.95E+01   0.00E+00"}]
[{"$f":"\" 21    \"&TEXT('Daily Calcs'!N23,\"0.00E+00\")&\"   0.00E+00   0.00E+00   0.00E+00   0.00E+00   0.00E+00   \"&TEXT('Daily Calcs'!O23,\"0.00E+00\")&\"   0.00E+00\"","v":" 21    3.06E+01   0.00E+00   0.00E+00   0.00E+00   0.00E+00   0.00E+00   3.08E+01   0.00E+00"}]
[{"$f":"\" 22    \"&TEXT('Daily Calcs'!N24,\"0.00E+00\")&\"   0.00E+00   0.00E+00   0.00E+00   0.00E+00   0.00E+00   \"&TEXT('Daily Calcs'!O24,\"0.00E+00\")&\"   0.00E+00\"","v":" 22    2.05E+01   0.00E+00   0.00E+00   0.00E+00   0.00E+00   0.00E+00   2.06E+01   0.00E+00"}]
[{"$f":"\" 23    \"&TEXT('Daily Calcs'!N25,\"0.00E+00\")&\"   0.00E+00   0.00E+00   0.00E+00   0.00E+00   0.00E+00   \"&TEXT('Daily Calcs'!O25,\"0.00E+00\")&\"   0.00E+00\"","v":" 23    2.52E+01   0.00E+00   0.00E+00   0.00E+00   0.00E+00   0.00E+00   2.54E+01   0.00E+00"}]
[{"$f":"\" 24    \"&TEXT('Daily Calcs'!N26,\"0.00E+00\")&\"   0.00E+00   0.00E+00   0.00E+00   0.00E+00   0.00E+00   \"&TEXT('Daily Calcs'!O26,\"0.00E+00\")&\"   0.00E+00\"","v":" 24    1.81E+01   0.00E+00   0.00E+00   0.00E+00   0.00E+00   0.00E+00   1.83E+01   0.00E+00"}]
[{"$f":"\" 25    \"&TEXT('Daily Calcs'!N27,\"0.00E+00\")&\"   0.00E+00   0.00E+00   0.00E+00   0.00E+00   0.00E+00   \"&TEXT('Daily Calcs'!O27,\"0.00E+00\")&\"   0.00E+00\"","v":" 25    2.23E+01   0.00E+00   0.00E+00   0.00E+00   0.00E+00   0.00E+00   2.26E+01   0.00E+00"}]
[{"$f":"\" 26    \"&TEXT('Daily Calcs'!N28,\"0.00E+00\")&\"   0.00E+00   0.00E+00   0.00E+00   0.00E+00   0.00E+00   \"&TEXT('Daily Calcs'!O28,\"0.00E+00\")&\"   0.00E+00\"","v":" 26    2.45E+01   0.00E+00   0.00E+00   0.00E+00   0.00E+00   0.00E+00   2.48E+01   0.00E+00"}]
[{"$f":"\" 27    \"&TEXT('Daily Calcs'!N29,\"0.00E+00\")&\"   0.00E+00   0.00E+00   0.00E+00   0.00E+00   0.00E+00   \"&TEXT('Daily Calcs'!O29,\"0.00E+00\")&\"   0.00E+00\"","v":" 27    3.17E+01   0.00E+00   0.00E+00   0.00E+00   0.00E+00   0.00E+00   3.19E+01   0.00E+00"}]
[{"$f":"\" 28    \"&TEXT('Daily Calcs'!N30,\"0.00E+00\")&\"   0.00E+00   0.00E+00   0.00E+00   0.00E+00   0.00E+00   \"&TEXT('Daily Calcs'!O30,\"0.00E+00\")&\"   0.00E+00\"","v":" 28    1.68E+01   0.00E+00   0.00E+00   0.00E+00   0.00E+00   0.00E+00   1.69E+01   0.00E+00"}]
[{"$f":"\" 29    \"&TEXT('Daily Calcs'!N31,\"0.00E+00\")&\"   0.00E+00   0.00E+00   0.00E+00   0.00E+00   0.00E+00   \"&TEXT('Daily Calcs'!O31,\"0.00E+00\")&\"   0.00E+00\"","v":" 29    1.77E+01   0.00E+00   0.00E+00   0.00E+00   0.00E+00   0.00E+00   1.77E+01   0.00E+00"}]
[{"$f":"\" 30    \"&TEXT('Daily Calcs'!N32,\"0.00E+00\")&\"   0.00E+00   0.00E+00   0.00E+00   0.00E+00   0.00E+00   \"&TEXT('Daily Calcs'!O32,\"0.00E+00\")&\"   0.00E+00\"","v":" 30    1.88E+01   0.00E+00   0.00E+00   0.00E+00   0.00E+00   0.00E+00   1.90E+01   0.00E+00"}]

{"sheet":"PWC Daily CSV","index":5,"n_rows":10962,"n_cols":4,"rows_kept":10962,"cut":false,"hidden":false,"merged":[]}
[" col 1: Daily Depth (m)"]
[" col 2: Daily Average Aqueous Conc. in Water Columm, kg/m3 "]
[" col 3: Daily Average Aqueous Conc. in Benthic Zone, kg/m3"]
[" col 4: Daily Peak Aqueous Conc. in Water Column, kg/m3"]
["       22280 = Start Day (number of days since 1900)"]
[0.1,{"$f":"'Daily Calcs'!J2/1000000","v":0},{"$f":"'Daily Calcs'!K2/1000000","v":0},{"$f":"B6","v":0}]
[0.1,{"$f":"'Daily Calcs'!J3/1000000","v":0},{"$f":"'Daily Calcs'!K3/1000000","v":0},{"$f":"B7","v":0}]
[0.1,{"$f":"'Daily Calcs'!J4/1000000","v":0},{"$f":"'Daily Calcs'!K4/1000000","v":0},0]
[0.1,{"$f":"'Daily Calcs'!J5/1000000","v":0},{"$f":"'Daily Calcs'!K5/1000000","v":0},0]
[0.1,{"$f":"'Daily Calcs'!J6/1000000","v":0},{"$f":"'Daily Calcs'!K6/1000000","v":0},0]
[0.1,{"$f":"'Daily Calcs'!J7/1000000","v":0},{"$f":"'Daily Calcs'!K7/1000000","v":0},0]
[0.1,{"$f":"'Daily Calcs'!J8/1000000","v":0},{"$f":"'Daily Calcs'!K8/1000000","v":0},0]
[0.1,{"$f":"'Daily Calcs'!J9/1000000","v":0},{"$f":"'Daily Calcs'!K9/1000000","v":0},0]
[0.1,{"$f":"'Daily Calcs'!J10/1000000","v":0},{"$f":"'Daily Calcs'!K10/1000000","v":0},0]
[0.1,{"$f":"'Daily Calcs'!J11/1000000","v":0},{"$f":"'Daily Calcs'!K11/1000000","v":0},0]
[0.1,{"$f":"'Daily Calcs'!J12/1000000","v":0},{"$f":"'Daily Calcs'!K12/1000000","v":0},0]
[0.1,{"$f":"'Daily Calcs'!J13/1000000","v":0},{"$f":"'Daily Calcs'!K13/1000000","v":0},0]
[0.1,{"$f":"'Daily Calcs'!J14/1000000","v":0},{"$f":"'Daily Calcs'!K14/1000000","v":0},0]
[0.1,{"$f":"'Daily Calcs'!J15/1000000","v":0},{"$f":"'Daily Calcs'!K15/1000000","v":0},0]
[0.1,{"$f":"'Daily Calcs'!J16/1000000","v":0},{"$f":"'Daily Calcs'!K16/1000000","v":0},0]
[0.1,{"$f":"'Daily Calcs'!J17/1000000","v":0},{"$f":"'Daily Calcs'!K17/1000000","v":0},0]
[0.1,{"$f":"'Daily Calcs'!J18/1000000","v":0},{"$f":"'Daily Calcs'!K18/1000000","v":0},0]
[0.1,{"$f":"'Daily Calcs'!J19/1000000","v":0},{"$f":"'Daily Calcs'!K19/1000000","v":0},0]
[0.1,{"$f":"'Daily Calcs'!J20/1000000","v":0},{"$f":"'Daily Calcs'!K20/1000000","v":0},0]
[0.1,{"$f":"'Daily Calcs'!J21/1000000","v":0},{"$f":"'Daily Calcs'!K21/1000000","v":0},0]
[0.1,{"$f":"'Daily Calcs'!J22/1000000","v":0},{"$f":"'Daily Calcs'!K22/1000000","v":0},0]
[0.1,{"$f":"'Daily Calcs'!J23/1000000","v":0},{"$f":"'Daily Calcs'!K23/1000000","v":0},0]
[0.1,{"$f":"'Daily Calcs'!J24/1000000","v":0},{"$f":"'Daily Calcs'!K24/1000000","v":0},0]
[0.1,{"$f":"'Daily Calcs'!J25/1000000","v":0},{"$f":"'Daily Calcs'!K25/1000000","v":0},0]
[0.1,{"$f":"'Daily Calcs'!J26/1000000","v":0},{"$f":"'Daily Calcs'!K26/1000000","v":0},0]
[0.1,{"$f":"'Daily Calcs'!J27/1000000","v":0},{"$f":"'Daily Calcs'!K27/1000000","v":0},0]
[0.1,{"$f":"'Daily Calcs'!J28/1000000","v":0},{"$f":"'Daily Calcs'!K28/1000000","v":0},0]
[0.1,{"$f":"'Daily Calcs'!J29/1000000","v":0},{"$f":"'Daily Calcs'!K29/1000000","v":0},0]
[0.1,{"$f":"'Daily Calcs'!J30/1000000","v":0},{"$f":"'Daily Calcs'!K30/1000000","v":0},0]
[0.1,{"$f":"'Daily Calcs'!J31/1000000","v":0},{"$f":"'Daily Calcs'!K31/1000000","v":0},0]
[0.1,{"$f":"'Daily Calcs'!J32/1000000","v":0},{"$f":"'Daily Calcs'!K32/1000000","v":0},0]
[0.1,{"$f":"'Daily Calcs'!J33/1000000","v":0},{"$f":"'Daily Calcs'!K33/1000000","v":0},0]
[0.1,{"$f":"'Daily Calcs'!J34/1000000","v":0},{"$f":"'Daily Calcs'!K34/1000000","v":0},0]
[0.1,{"$f":"'Daily Calcs'!J35/1000000","v":0},{"$f":"'Daily Calcs'!K35/1000000","v":0},0]
[0.1,{"$f":"'Daily Calcs'!J36/1000000","v":0},{"$f":"'Daily Calcs'!K36/1000000","v":0},0]
[0.1,{"$f":"'Daily Calcs'!J37/1000000","v":0},{"$f":"'Daily Calcs'!K37/1000000","v":0},0]
[0.1,{"$f":"'Daily Calcs'!J38/1000000","v":0},{"$f":"'Daily Calcs'!K38/1000000","v":0},0]
[0.1,{"$f":"'Daily Calcs'!J39/1000000","v":0},{"$f":"'Daily Calcs'!K39/1000000","v":0},0]
[0.1,{"$f":"'Daily Calcs'!J40/1000000","v":0},{"$f":"'Daily Calcs'!K40/1000000","v":0},0]
[0.1,{"$f":"'Daily Calcs'!J41/1000000","v":0},{"$f":"'Daily Calcs'!K41/1000000","v":0},0]
[0.1,{"$f":"'Daily Calcs'!J42/1000000","v":0},{"$f":"'Daily Calcs'!K42/1000000","v":0},0]
[0.1,{"$f":"'Daily Calcs'!J43/1000000","v":0},{"$f":"'Daily Calcs'!K43/1000000","v":0},0]
[0.1,{"$f":"'Daily Calcs'!J44/1000000","v":0},{"$f":"'Daily Calcs'!K44/1000000","v":0},0]
[0.1,{"$f":"'Daily Calcs'!J45/1000000","v":0},{"$f":"'Daily Calcs'!K45/1000000","v":0},0]
[0.1,{"$f":"'Daily Calcs'!J46/1000000","v":0},{"$f":"'Daily Calcs'!K46/1000000","v":0},0]
[0.1,{"$f":"'Daily Calcs'!J47/1000000","v":0},{"$f":"'Daily Calcs'!K47/1000000","v":0},0]
[0.1,{"$f":"'Daily Calcs'!J48/1000000","v":0},{"$f":"'Daily Calcs'!K48/1000000","v":0},0]
[0.1,{"$f":"'Daily Calcs'!J49/1000000","v":0},{"$f":"'Daily Calcs'!K49/1000000","v":0},0]
[0.1,{"$f":"'Daily Calcs'!J50/1000000","v":0},{"$f":"'Daily Calcs'!K50/1000000","v":0},0]
[0.1,{"$f":"'Daily Calcs'!J51/1000000","v":0},{"$f":"'Daily Calcs'!K51/1000000","v":0},0]
[0.1,{"$f":"'Daily Calcs'!J52/1000000","v":0},{"$f":"'Daily Calcs'!K52/1000000","v":0},0]
[0.1,{"$f":"'Daily Calcs'!J53/1000000","v":0},{"$f":"'Daily Calcs'!K53/1000000","v":0},0]
[0.1,{"$f":"'Daily Calcs'!J54/1000000","v":0},{"$f":"'Daily Calcs'!K54/1000000","v":0},0]
[0.1,{"$f":"'Daily Calcs'!J55/1000000","v":0},{"$f":"'Daily Calcs'!K55/1000000","v":0},0]
[0.1,{"$f":"'Daily Calcs'!J56/1000000","v":0},{"$f":"'Daily Calcs'!K56/1000000","v":0},0]
[0.1,{"$f":"'Daily Calcs'!J57/1000000","v":0},{"$f":"'Daily Calcs'!K57/1000000","v":0},0]
[0.1,{"$f":"'Daily Calcs'!J58/1000000","v":0},{"$f":"'Daily Calcs'!K58/1000000","v":0},0]
[0.1,{"$f":"'Daily Calcs'!J59/1000000","v":0},{"$f":"'Daily Calcs'!K59/1000000","v":0},0]
[0.1,{"$f":"'Daily Calcs'!J60/1000000","v":0},{"$f":"'Daily Calcs'!K60/1000000","v":0},0]
[0.1,{"$f":"'Daily Calcs'!J61/1000000","v":0},{"$f":"'Daily Calcs'!K61/1000000","v":0},0]
[0.1,{"$f":"'Daily Calcs'!J62/1000000","v":0},{"$f":"'Daily Calcs'!K62/1000000","v":0},0]
[0.1,{"$f":"'Daily Calcs'!J63/1000000","v":0},{"$f":"'Daily Calcs'!K63/1000000","v":0},0]
[0.1,{"$f":"'Daily Calcs'!J64/1000000","v":0},{"$f":"'Daily Calcs'!K64/1000000","v":0},0]
[0.1,{"$f":"'Daily Calcs'!J65/1000000","v":0},{"$f":"'Daily Calcs'!K65/1000000","v":0},0]
[0.1,{"$f":"'Daily Calcs'!J66/1000000","v":0},{"$f":"'Daily Calcs'!K66/1000000","v":0},0]
[0.1,{"$f":"'Daily Calcs'!J67/1000000","v":0},{"$f":"'Daily Calcs'!K67/1000000","v":0},{"$f":"B71","v":0}]
[0.1,{"$f":"'Daily Calcs'!J68/1000000","v":0},{"$f":"'Daily Calcs'!K68/1000000","v":0},0]
[0.1,{"$f":"'Daily Calcs'!J69/1000000","v":0},{"$f":"'Daily Calcs'!K69/1000000","v":0},0]
[0.1,{"$f":"'Daily Calcs'!J70/1000000","v":0},{"$f":"'Daily Calcs'!K70/1000000","v":0},0]
[0.1,{"$f":"'Daily Calcs'!J71/1000000","v":0},{"$f":"'Daily Calcs'!K71/1000000","v":0},0]
[0.1,{"$f":"'Daily Calcs'!J72/1000000","v":0},{"$f":"'Daily Calcs'!K72/1000000","v":0},0]
[0.1,{"$f":"'Daily Calcs'!J73/1000000","v":0},{"$f":"'Daily Calcs'!K73/1000000","v":0},0]
[0.1,{"$f":"'Daily Calcs'!J74/1000000","v":0},{"$f":"'Daily Calcs'!K74/1000000","v":0},0]
[0.1,{"$f":"'Daily Calcs'!J75/1000000","v":0},{"$f":"'Daily Calcs'!K75/1000000","v":0},0]
[0.1,{"$f":"'Daily Calcs'!J76/1000000","v":0},{"$f":"'Daily Calcs'!K76/1000000","v":0},0]
[0.1,{"$f":"'Daily Calcs'!J77/1000000","v":0},{"$f":"'Daily Calcs'!K77/1000000","v":0},0]
[0.1,{"$f":"'Daily Calcs'!J78/1000000","v":0},{"$f":"'Daily Calcs'!K78/1000000","v":0},0]
[0.1,{"$f":"'Daily Calcs'!J79/1000000","v":0},{"$f":"'Daily Calcs'!K79/1000000","v":0},0]
[0.1,{"$f":"'Daily Calcs'!J80/1000000","v":0},{"$f":"'Daily Calcs'!K80/1000000","v":0},0]
[0.1,{"$f":"'Daily Calcs'!J81/1000000","v":0},{"$f":"'Daily Calcs'!K81/1000000","v":0},0]
[0.1,{"$f":"'Daily Calcs'!J82/1000000","v":0},{"$f":"'Daily Calcs'!K82/1000000","v":0},0]
[0.1,{"$f":"'Daily Calcs'!J83/1000000","v":0},{"$f":"'Daily Calcs'!K83/1000000","v":0},0]
[0.1,{"$f":"'Daily Calcs'!J84/1000000","v":0},{"$f":"'Daily Calcs'!K84/1000000","v":0},0]
[0.1,{"$f":"'Daily Calcs'!J85/1000000","v":0},{"$f":"'Daily Calcs'!K85/1000000","v":0},0]
[0.1,{"$f":"'Daily Calcs'!J86/1000000","v":0},{"$f":"'Daily Calcs'!K86/1000000","v":0},0]
[0.1,{"$f":"'Daily Calcs'!J87/1000000","v":0},{"$f":"'Daily Calcs'!K87/1000000","v":0},0]
[0.1,{"$f":"'Daily Calcs'!J88/1000000","v":0},{"$f":"'Daily Calcs'!K88/1000000","v":0},0]
[0.1,{"$f":"'Daily Calcs'!J89/1000000","v":0},{"$f":"'Daily Calcs'!K89/1000000","v":0},0]
[0.1,{"$f":"'Daily Calcs'!J90/1000000","v":0},{"$f":"'Daily Calcs'!K90/1000000","v":0},0]
[0.1,{"$f":"'Daily Calcs'!J91/1000000","v":0},{"$f":"'Daily Calcs'!K91/1000000","v":0},0]
[0.1,{"$f":"'Daily Calcs'!J92/1000000","v":0},{"$f":"'Daily Calcs'!K92/1000000","v":0},0]
[0.1,{"$f":"'Daily Calcs'!J93/1000000","v":0},{"$f":"'Daily Calcs'!K93/1000000","v":0},0]
[0.1,{"$f":"'Daily Calcs'!J94/1000000","v":0},{"$f":"'Daily Calcs'!K94/1000000","v":0},0]
[0.1,{"$f":"'Daily Calcs'!J95/1000000","v":0},{"$f":"'Daily Calcs'!K95/1000000","v":0},0]
[0.1,{"$f":"'Daily Calcs'!J96/1000000","v":0},{"$f":"'Daily Calcs'!K96/1000000","v":0},0]
[0.1,{"$f":"'Daily Calcs'!J97/1000000","v":0},{"$f":"'Daily Calcs'!K97/1000000","v":0},0]
[0.1,{"$f":"'Daily Calcs'!J98/1000000","v":0},{"$f":"'Daily Calcs'!K98/1000000","v":0},0]
[0.1,{"$f":"'Daily Calcs'!J99/1000000","v":0},{"$f":"'Daily Calcs'!K99/1000000","v":0},0]
[0.1,{"$f":"'Daily Calcs'!J100/1000000","v":0},{"$f":"'Daily Calcs'!K100/1000000","v":0},0]
[0.1,{"$f":"'Daily Calcs'!J101/1000000","v":0},{"$f":"'Daily Calcs'!K101/1000000","v":0},0]
[0.1,{"$f":"'Daily Calcs'!J102/1000000","v":0},{"$f":"'Daily Calcs'!K102/1000000","v":0},0]
[0.1,{"$f":"'Daily Calcs'!J103/1000000","v":0},{"$f":"'Daily Calcs'!K103/1000000","v":0},0]
[0.1,{"$f":"'Daily Calcs'!J104/1000000","v":0},{"$f":"'Daily Calcs'!K104/1000000","v":0},0]
[0.1,{"$f":"'Daily Calcs'!J105/1000000","v":0},{"$f":"'Daily Calcs'!K105/1000000","v":0},0]
[0.1,{"$f":"'Daily Calcs'!J106/1000000","v":0},{"$f":"'Daily Calcs'!K106/1000000","v":0},0]
[0.1,{"$f":"'Daily Calcs'!J107/1000000","v":0},{"$f":"'Daily Calcs'!K107/1000000","v":0},0]
[0.1,{"$f":"'Daily Calcs'!J108/1000000","v":0},{"$f":"'Daily Calcs'!K108/1000000","v":0},0]
[0.1,{"$f":"'Daily Calcs'!J109/1000000","v":0},{"$f":"'Daily Calcs'!K109/1000000","v":0},0]
[0.1,{"$f":"'Daily Calcs'!J110/1000000","v":0},{"$f":"'Daily Calcs'!K110/1000000","v":0},0]
[0.1,{"$f":"'Daily Calcs'!J111/1000000","v":0},{"$f":"'Daily Calcs'!K111/1000000","v":0},0]
[0.1,{"$f":"'Daily Calcs'!J112/1000000","v":0},{"$f":"'Daily Calcs'!K112/1000000","v":0},0]
[0.1,{"$f":"'Daily Calcs'!J113/1000000","v":0},{"$f":"'Daily Calcs'!K113/1000000","v":0},0]
[0.1,{"$f":"'Daily Calcs'!J114/1000000","v":0},{"$f":"'Daily Calcs'!K114/1000000","v":0},0]
[0.1,{"$f":"'Daily Calcs'!J115/1000000","v":0},{"$f":"'Daily Calcs'!K115/1000000","v":0},0]
[0.1,{"$f":"'Daily Calcs'!J116/1000000","v":0},{"$f":"'Daily Calcs'!K116/1000000","v":0},0]
[0.1,{"$f":"'Daily Calcs'!J117/1000000","v":0},{"$f":"'Daily Calcs'!K117/1000000","v":0},0]
[0.1,{"$f":"'Daily Calcs'!J118/1000000","v":0},{"$f":"'Daily Calcs'!K118/1000000","v":0},0]
[0.1,{"$f":"'Daily Calcs'!J119/1000000","v":0},{"$f":"'Daily Calcs'!K119/1000000","v":0},0]
[0.1,{"$f":"'Daily Calcs'!J120/1000000","v":0},{"$f":"'Daily Calcs'!K120/1000000","v":0},0]
[0.1,{"$f":"'Daily Calcs'!J121/1000000","v":0},{"$f":"'Daily Calcs'!K121/1000000","v":0},0]
[0.1,{"$f":"'Daily Calcs'!J122/1000000","v":0},{"$f":"'Daily Calcs'!K122/1000000","v":0},0]
[0.1,{"$f":"'Daily Calcs'!J123/1000000","v":0},{"$f":"'Daily Calcs'!K123/1000000","v":0},0]
[0.1,{"$f":"'Daily Calcs'!J124/1000000","v":0},{"$f":"'Daily Calcs'!K124/1000000","v":0},0]
[0.1,{"$f":"'Daily Calcs'!J125/1000000","v":0},{"$f":"'Daily Calcs'!K125/1000000","v":0},0]
[0.1,{"$f":"'Daily Calcs'!J126/1000000","v":0},{"$f":"'Daily Calcs'!K126/1000000","v":0},0]
[0.1,{"$f":"'Daily Calcs'!J127/1000000","v":0},{"$f":"'Daily Calcs'!K127/1000000","v":0},0]
[0.1,{"$f":"'Daily Calcs'!J128/1000000","v":0},{"$f":"'Daily Calcs'!K128/1000000","v":0},0]
[0.1,{"$f":"'Daily Calcs'!J129/1000000","v":0},{"$f":"'Daily Calcs'!K129/1000000","v":0},0]
[0.1,{"$f":"'Daily Calcs'!J130/1000000","v":0},{"$f":"'Daily Calcs'!K130/1000000","v":0},0]
[0.1,{"$f":"'Daily Calcs'!J131/1000000","v":0},{"$f":"'Daily Calcs'!K131/1000000","v":0},{"$f":"B135","v":0}]
[0.1,{"$f":"'Daily Calcs'!J132/1000000","v":0},{"$f":"'Daily Calcs'!K132/1000000","v":0},0]
[0.1,{"$f":"'Daily Calcs'!J133/1000000","v":0},{"$f":"'Daily Calcs'!K133/1000000","v":0},0]
[0.1,{"$f":"'Daily Calcs'!J134/1000000","v":0},{"$f":"'Daily Calcs'!K134/1000000","v":0},0]
[0.1,{"$f":"'Daily Calcs'!J135/1000000","v":0},{"$f":"'Daily Calcs'!K135/1000000","v":0},0]
[0.1,{"$f":"'Daily Calcs'!J136/1000000","v":0},{"$f":"'Daily Calcs'!K136/1000000","v":0},0]
[0.1,{"$f":"'Daily Calcs'!J137/1000000","v":0},{"$f":"'Daily Calcs'!K137/1000000","v":0},0]
[0.1,{"$f":"'Daily Calcs'!J138/1000000","v":0},{"$f":"'Daily Calcs'!K138/1000000","v":0},0]
[0.1,{"$f":"'Daily Calcs'!J139/1000000","v":0},{"$f":"'Daily Calcs'!K139/1000000","v":0},0]
[0.1,{"$f":"'Daily Calcs'!J140/1000000","v":0},{"$f":"'Daily Calcs'!K140/1000000","v":0},0]
[0.1,{"$f":"'Daily Calcs'!J141/1000000","v":0},{"$f":"'Daily Calcs'!K141/1000000","v":0},0]
[0.1,{"$f":"'Daily Calcs'!J142/1000000","v":0},{"$f":"'Daily Calcs'!K142/1000000","v":0},0]
[0.1,{"$f":"'Daily Calcs'!J143/1000000","v":0},{"$f":"'Daily Calcs'!K143/1000000","v":0},0]
[0.1,{"$f":"'Daily Calcs'!J144/1000000","v":0},{"$f":"'Daily Calcs'!K144/1000000","v":0},0]
[0.1,{"$f":"'Daily Calcs'!J145/1000000","v":0},{"$f":"'Daily Calcs'!K145/1000000","v":0},0]
[0.1,{"$f":"'Daily Calcs'!J146/1000000","v":0},{"$f":"'Daily Calcs'!K146/1000000","v":0},0]
[0.1,{"$f":"'Daily Calcs'!J147/1000000","v":0},{"$f":"'Daily Calcs'!K147/1000000","v":0},0]
[0.1,{"$f":"'Daily Calcs'!J148/1000000","v":0},{"$f":"'Daily Calcs'!K148/1000000","v":0},0]
[0.1,{"$f":"'Daily Calcs'!J149/1000000","v":0},{"$f":"'Daily Calcs'!K149/1000000","v":0},0]
[0.1,{"$f":"'Daily Calcs'!J150/1000000","v":0},{"$f":"'Daily Calcs'!K150/1000000","v":0},0]
[0.1,{"$f":"'Daily Calcs'!J151/1000000","v":0},{"$f":"'Daily Calcs'!K151/1000000","v":0},0]
[0.1,{"$f":"'Daily Calcs'!J152/1000000","v":0},{"$f":"'Daily Calcs'!K152/1000000","v":0},0]
[0.1,{"$f":"'Daily Calcs'!J153/1000000","v":0},{"$f":"'Daily Calcs'!K153/1000000","v":0},0]
[0.1,{"$f":"'Daily Calcs'!J154/1000000","v":0},{"$f":"'Daily Calcs'!K154/1000000","v":0},0]
[0.1,{"$f":"'Daily Calcs'!J155/1000000","v":0},{"$f":"'Daily Calcs'!K155/1000000","v":0},0]
[0.1,{"$f":"'Daily Calcs'!J156/1000000","v":0},{"$f":"'Daily Calcs'!K156/1000000","v":0},0]
[0.1,{"$f":"'Daily Calcs'!J157/1000000","v":0},{"$f":"'Daily Calcs'!K157/1000000","v":0},0]
[0.1,{"$f":"'Daily Calcs'!J158/1000000","v":0},{"$f":"'Daily Calcs'!K158/1000000","v":0},0]
[0.1,{"$f":"'Daily Calcs'!J159/1000000","v":0},{"$f":"'Daily Calcs'!K159/1000000","v":0},0]
[0.1,{"$f":"'Daily Calcs'!J160/1000000","v":0},{"$f":"'Daily Calcs'!K160/1000000","v":0},0]
[0.1,{"$f":"'Daily Calcs'!J161/1000000","v":0},{"$f":"'Daily Calcs'!K161/1000000","v":0},0]
[0.1,{"$f":"'Daily Calcs'!J162/1000000","v":0},{"$f":"'Daily Calcs'!K162/1000000","v":0},0]
[0.1,{"$f":"'Daily Calcs'!J163/1000000","v":0},{"$f":"'Daily Calcs'!K163/1000000","v":0},0]
[0.1,{"$f":"'Daily Calcs'!J164/1000000","v":0},{"$f":"'Daily Calcs'!K164/1000000","v":0},0]
[0.1,{"$f":"'Daily Calcs'!J165/1000000","v":0},{"$f":"'Daily Calcs'!K165/1000000","v":0},0]
[0.1,{"$f":"'Daily Calcs'!J166/1000000","v":0},{"$f":"'Daily Calcs'!K166/1000000","v":0},0]
[0.1,{"$f":"'Daily Calcs'!J167/1000000","v":0},{"$f":"'Daily Calcs'!K167/1000000","v":0},0]
[0.1,{"$f":"'Daily Calcs'!J168/1000000","v":0},{"$f":"'Daily Calcs'!K168/1000000","v":0},0]
[0.1,{"$f":"'Daily Calcs'!J169/1000000","v":0},{"$f":"'Daily Calcs'!K169/1000000","v":0},0]
[0.1,{"$f":"'Daily Calcs'!J170/1000000","v":0},{"$f":"'Daily Calcs'!K170/1000000","v":0},0]
[0.1,{"$f":"'Daily Calcs'!J171/1000000","v":0},{"$f":"'Daily Calcs'!K171/1000000","v":0},0]
[0.1,{"$f":"'Daily Calcs'!J172/1000000","v":0},{"$f":"'Daily Calcs'!K172/1000000","v":0},0]
[0.1,{"$f":"'Daily Calcs'!J173/1000000","v":0},{"$f":"'Daily Calcs'!K173/1000000","v":0},0]
[0.1,{"$f":"'Daily Calcs'!J174/1000000","v":0},{"$f":"'Daily Calcs'!K174/1000000","v":0},0]
[0.1,{"$f":"'Daily Calcs'!J175/1000000","v":0},{"$f":"'Daily Calcs'!K175/1000000","v":0},0]
[0.1,{"$f":"'Daily Calcs'!J176/1000000","v":0},{"$f":"'Daily Calcs'!K176/1000000","v":0},0]
[0.1,{"$f":"'Daily Calcs'!J177/1000000","v":0},{"$f":"'Daily Calcs'!K177/1000000","v":0},0]
[0.1,{"$f":"'Daily Calcs'!J178/1000000","v":0},{"$f":"'Daily Calcs'!K178/1000000","v":0},0]
[0.1,{"$f":"'Daily Calcs'!J179/1000000","v":0},{"$f":"'Daily Calcs'!K179/1000000","v":0},0]
[0.1,{"$f":"'Daily Calcs'!J180/1000000","v":0},{"$f":"'Daily Calcs'!K180/1000000","v":0},0]
[0.1,{"$f":"'Daily Calcs'!J181/1000000","v":0},{"$f":"'Daily Calcs'!K181/1000000","v":0},0]
[0.1,{"$f":"'Daily Calcs'!J182/1000000","v":0},{"$f":"'Daily Calcs'!K182/1000000","v":0},0]
[0.1,{"$f":"'Daily Calcs'!J183/1000000","v":0},{"$f":"'Daily Calcs'!K183/1000000","v":0},0]
[0.1,{"$f":"'Daily Calcs'!J184/1000000","v":0},{"$f":"'Daily Calcs'!K184/1000000","v":0},0]
[0.1,{"$f":"'Daily Calcs'!J185/1000000","v":0},{"$f":"'Daily Calcs'!K185/1000000","v":0},0]
[0.1,{"$f":"'Daily Calcs'!J186/1000000","v":0},{"$f":"'Daily Calcs'!K186/1000000","v":0},0]
[0.1,{"$f":"'Daily Calcs'!J187/1000000","v":0},{"$f":"'Daily Calcs'!K187/1000000","v":0},0]
[0.1,{"$f":"'Daily Calcs'!J188/1000000","v":0},{"$f":"'Daily Calcs'!K188/1000000","v":0},0]
[0.1,{"$f":"'Daily Calcs'!J189/1000000","v":0},{"$f":"'Daily Calcs'!K189/1000000","v":0},0]
[0.1,{"$f":"'Daily Calcs'!J190/1000000","v":0},{"$f":"'Daily Calcs'!K190/1000000","v":0},0]
[0.1,{"$f":"'Daily Calcs'!J191/1000000","v":0},{"$f":"'Daily Calcs'!K191/1000000","v":0},0]
[0.1,{"$f":"'Daily Calcs'!J192/1000000","v":0},{"$f":"'Daily Calcs'!K192/1000000","v":0},0]
[0.1,{"$f":"'Daily Calcs'!J193/1000000","v":0},{"$f":"'Daily Calcs'!K193/1000000","v":0},0]
[0.1,{"$f":"'Daily Calcs'!J194/1000000","v":0},{"$f":"'Daily Calcs'!K194/1000000","v":0},0]
[0.1,{"$f":"'Daily Calcs'!J195/1000000","v":0},{"$f":"'Daily Calcs'!K195/1000000","v":0},{"$f":"B199","v":0}]
[0.1,{"$f":"'Daily Calcs'!J196/1000000","v":0},{"$f":"'Daily Calcs'!K196/1000000","v":0},0]
[0.1,{"$f":"'Daily Calcs'!J197/1000000","v":0},{"$f":"'Daily Calcs'!K197/1000000","v":0},0]
[0.1,{"$f":"'Daily Calcs'!J198/1000000","v":0},{"$f":"'Daily Calcs'!K198/1000000","v":0},0]
[0.1,{"$f":"'Daily Calcs'!J199/1000000","v":0},{"$f":"'Daily Calcs'!K199/1000000","v":0},0]
[0.1,{"$f":"'Daily Calcs'!J200/1000000","v":0},{"$f":"'Daily Calcs'!K200/1000000","v":0},0]
[0.1,{"$f":"'Daily Calcs'!J201/1000000","v":1.64494004682733E-5},{"$f":"'Daily Calcs'!K201/1000000","v":1.655814156989807E-5},1.64494004682733E-5]
[0.1,{"$f":"'Daily Calcs'!J202/1000000","v":0},{"$f":"'Daily Calcs'!K202/1000000","v":0},0]
[0.1,{"$f":"'Daily Calcs'!J203/1000000","v":0},{"$f":"'Daily Calcs'!K203/1000000","v":0},0]
[0.1,{"$f":"'Daily Calcs'!J204/1000000","v":0},{"$f":"'Daily Calcs'!K204/1000000","v":0},0]
[0.1,{"$f":"'Daily Calcs'!J205/1000000","v":0},{"$f":"'Daily Calcs'!K205/1000000","v":0},0]
[0.1,{"$f":"'Daily Calcs'!J206/1000000","v":0},{"$f":"'Daily Calcs'!K206/1000000","v":0},0]
[0.1,{"$f":"'Daily Calcs'!J207/1000000","v":0},{"$f":"'Daily Calcs'!K207/1000000","v":0},0]
[0.1,{"$f":"'Daily Calcs'!J208/1000000","v":0},{"$f":"'Daily Calcs'!K208/1000000","v":0},0]
[0.1,{"$f":"'Daily Calcs'!J209/1000000","v":0},{"$f":"'Daily Calcs'!K209/1000000","v":0},0]
[0.1,{"$f":"'Daily Calcs'!J210/1000000","v":0},{"$f":"'Daily Calcs'!K210/1000000","v":0},0]
[0.1,{"$f":"'Daily Calcs'!J211/1000000","v":0},{"$f":"'Daily Calcs'!K211/1000000","v":0},0]
[0.1,{"$f":"'Daily Calcs'!J212/1000000","v":0},{"$f":"'Daily Calcs'!K212/1000000","v":0},0]
[0.1,{"$f":"'Daily Calcs'!J213/1000000","v":0},{"$f":"'Daily Calcs'!K213/1000000","v":0},0]
[0.1,{"$f":"'Daily Calcs'!J214/1000000","v":0},{"$f":"'Daily Calcs'!K214/1000000","v":0},0]
[0.1,{"$f":"'Daily Calcs'!J215/1000000","v":0},{"$f":"'Daily Calcs'!K215/1000000","v":0},0]
[0.1,{"$f":"'Daily Calcs'!J216/1000000","v":0},{"$f":"'Daily Calcs'!K216/1000000","v":0},0]
[0.1,{"$f":"'Daily Calcs'!J217/1000000","v":0},{"$f":"'Daily Calcs'!K217/1000000","v":0},0]
[0.1,{"$f":"'Daily Calcs'!J218/1000000","v":0},{"$f":"'Daily Calcs'!K218/1000000","v":0},0]
[0.1,{"$f":"'Daily Calcs'!J219/1000000","v":2.0213969681584101E-5},{"$f":"'Daily Calcs'!K219/1000000","v":2.0328127946616378E-5},2.0213969681584101E-5]
[0.1,{"$f":"'Daily Calcs'!J220/1000000","v":1.8372484350811069E-5},{"$f":"'Daily Calcs'!K220/1000000","v":1.8417722285791212E-5},1.8372484350811069E-5]
[0.1,{"$f":"'Daily Calcs'!J221/1000000","v":1.6171806167400879E-5},{"$f":"'Daily Calcs'!K221/1000000","v":1.6204663436123342E-5},1.6171806167400879E-5]
[0.1,{"$f":"'Daily Calcs'!J222/1000000","v":0},{"$f":"'Daily Calcs'!K222/1000000","v":0},0]
[0.1,{"$f":"'Daily Calcs'!J223/1000000","v":0},{"$f":"'Daily Calcs'!K223/1000000","v":0},0]
[0.1,{"$f":"'Daily Calcs'!J224/1000000","v":0},{"$f":"'Daily Calcs'!K224/1000000","v":0},0]
[0.1,{"$f":"'Daily Calcs'!J225/1000000","v":0},{"$f":"'Daily Calcs'!K225/1000000","v":0},0]
[0.1,{"$f":"'Daily Calcs'!J226/1000000","v":0},{"$f":"'Daily Calcs'!K226/1000000","v":0},0]
[0.1,{"$f":"'Daily Calcs'!J227/1000000","v":0},{"$f":"'Daily Calcs'!K227/1000000","v":0},0]
[0.1,{"$f":"'Daily Calcs'!J228/1000000","v":0},{"$f":"'Daily Calcs'!K228/1000000","v":0},0]
[0.1,{"$f":"'Daily Calcs'!J229/1000000","v":0},{"$f":"'Daily Calcs'!K229/1000000","v":0},0]
[0.1,{"$f":"'Daily Calcs'!J230/1000000","v":0},{"$f":"'Daily Calcs'!K230/1000000","v":0},0]
[0.1,{"$f":"'Daily Calcs'!J231/1000000","v":0},{"$f":"'Daily Calcs'!K231/1000000","v":0},0]
[0.1,{"$f":"'Daily Calcs'!J232/1000000","v":0},{"$f":"'Daily Calcs'!K232/1000000","v":0},0]
[0.1,{"$f":"'Daily Calcs'!J233/1000000","v":0},{"$f":"'Daily Calcs'!K233/1000000","v":0},0]
[0.1,{"$f":"'Daily Calcs'!J234/1000000","v":0},{"$f":"'Daily Calcs'!K234/1000000","v":0},0]
[0.1,{"$f":"'Daily Calcs'!J235/1000000","v":0},{"$f":"'Daily Calcs'!K235/1000000","v":0},0]
[0.1,{"$f":"'Daily Calcs'!J236/1000000","v":1.2025523250307794E-5},{"$f":"'Daily Calcs'!K236/1000000","v":1.2032211857183443E-5},1.2025523250307794E-5]
[0.1,{"$f":"'Daily Calcs'!J237/1000000","v":9.3526785714285713E-6},{"$f":"'Daily Calcs'!K237/1000000","v":9.3575158825549434E-6},9.3526785714285713E-6]
[0.1,{"$f":"'Daily Calcs'!J238/1000000","v":0},{"$f":"'Daily Calcs'!K238/1000000","v":0},0]
[0.1,{"$f":"'Daily Calcs'!J239/1000000","v":0},{"$f":"'Daily Calcs'!K239/1000000","v":0},0]
[0.1,{"$f":"'Daily Calcs'!J240/1000000","v":0},{"$f":"'Daily Calcs'!K240/1000000","v":0},0]
[0.1,{"$f":"'Daily Calcs'!J241/1000000","v":0},{"$f":"'Daily Calcs'!K241/1000000","v":0},0]
[0.1,{"$f":"'Daily Calcs'!J242/1000000","v":0},{"$f":"'Daily Calcs'!K242/1000000","v":0},0]
[0.1,{"$f":"'Daily Calcs'!J243/1000000","v":6.9900914102295724E-6},{"$f":"'Daily Calcs'!K243/1000000","v":6.9911664922196637E-6},6.9900914102295724E-6]
[0.1,{"$f":"'Daily Calcs'!J244/1000000","v":5.6168292974691123E-6},{"$f":"'Daily Calcs'!K244/1000000","v":5.6173860929302596E-6},5.6168292974691123E-6]
[0.1,{"$f":"'Daily Calcs'!J245/1000000","v":0},{"$f":"'Daily Calcs'!K245/1000000","v":0},0]
[0.1,{"$f":"'Daily Calcs'!J246/1000000","v":0},{"$f":"'Daily Calcs'!K246/1000000","v":0},0]
[0.1,{"$f":"'Daily Calcs'!J247/1000000","v":0},{"$f":"'Daily Calcs'!K247/1000000","v":0},0]
[0.1,{"$f":"'Daily Calcs'!J248/1000000","v":0},{"$f":"'Daily Calcs'!K248/1000000","v":0},0]
[0.1,{"$f":"'Daily Calcs'!J249/1000000","v":3.8102002296121891E-6},{"$f":"'Daily Calcs'!K249/1000000","v":3.8103170418944961E-6},3.8102002296121891E-6]
[0.1,{"$f":"'Daily Calcs'!J250/1000000","v":0},{"$f":"'Daily Calcs'!K250/1000000","v":0},0]
[0.1,{"$f":"'Daily Calcs'!J251/1000000","v":0},{"$f":"'Daily Calcs'!K251/1000000","v":0},0]
[0.1,{"$f":"'Daily Calcs'!J252/1000000","v":0},{"$f":"'Daily Calcs'!K252/1000000","v":0},0]
[0.1,{"$f":"'Daily Calcs'!J253/1000000","v":0},{"$f":"'Daily Calcs'!K253/1000000","v":0},0]
[0.1,{"$f":"'Daily Calcs'!J254/1000000","v":0},{"$f":"'Daily Calcs'!K254/1000000","v":0},0]
[0.1,{"$f":"'Daily Calcs'!J255/1000000","v":0},{"$f":"'Daily Calcs'!K255/1000000","v":0},0]
[0.1,{"$f":"'Daily Calcs'!J256/1000000","v":0},{"$f":"'Daily Calcs'!K256/1000000","v":0},0]
[0.1,{"$f":"'Daily Calcs'!J257/1000000","v":0},{"$f":"'Daily Calcs'!K257/1000000","v":0},0]
[0.1,{"$f":"'Daily Calcs'!J258/1000000","v":2.5202445542149156E-6},{"$f":"'Daily Calcs'!K258/1000000","v":2.5202680881042999E-6},2.5202445542149156E-6]
[0.1,{"$f":"'Daily Calcs'!J259/1000000","v":0},{"$f":"'Daily Calcs'!K259/1000000","v":0},{"$f":"B263","v":0}]
[0.1,{"$f":"'Daily Calcs'!J260/1000000","v":0},{"$f":"'Daily Calcs'!K260/1000000","v":0},0]
[0.1,{"$f":"'Daily Calcs'!J261/1000000","v":0},{"$f":"'Daily Calcs'!K261/1000000","v":0},0]
[0.1,{"$f":"'Daily Calcs'!J262/1000000","v":0},{"$f":"'Daily Calcs'!K262/1000000","v":0},0]
[0.1,{"$f":"'Daily Calcs'!J263/1000000","v":0},{"$f":"'Daily Calcs'!K263/1000000","v":0},0]
[0.1,{"$f":"'Daily Calcs'!J264/1000000","v":0},{"$f":"'Daily Calcs'!K264/1000000","v":0},0]
[0.1,{"$f":"'Daily Calcs'!J265/1000000","v":0},{"$f":"'Daily Calcs'!K265/1000000","v":0},0]
[0.1,{"$f":"'Daily Calcs'!J266/1000000","v":0},{"$f":"'Daily Calcs'!K266/1000000","v":0},0]
[0.1,{"$f":"'Daily Calcs'!J267/1000000","v":0},{"$f":"'Daily Calcs'!K267/1000000","v":0},0]
[0.1,{"$f":"'Daily Calcs'!J268/1000000","v":0},{"$f":"'Daily Calcs'!K268/1000000","v":0},0]
[0.1,{"$f":"'Daily Calcs'!J269/1000000","v":0},{"$f":"'Daily Calcs'!K269/1000000","v":0},0]
[0.1,{"$f":"'Daily Calcs'!J270/1000000","v":0},{"$f":"'Daily Calcs'!K270/1000000","v":0},0]
[0.1,{"$f":"'Daily Calcs'!J271/1000000","v":0},{"$f":"'Daily Calcs'!K271/1000000","v":0},0]
[0.1,{"$f":"'Daily Calcs'!J272/1000000","v":0},{"$f":"'Daily Calcs'!K272/1000000","v":0},0]
[0.1,{"$f":"'Daily Calcs'!J273/1000000","v":0},{"$f":"'Daily Calcs'!K273/1000000","v":0},0]
[0.1,{"$f":"'Daily Calcs'!J274/1000000","v":0},{"$f":"'Daily Calcs'!K274/1000000","v":0},0]
[0.1,{"$f":"'Daily Calcs'!J275/1000000","v":0},{"$f":"'Daily Calcs'!K275/1000000","v":0},0]
[0.1,{"$f":"'Daily Calcs'!J276/1000000","v":0},{"$f":"'Daily Calcs'!K276/1000000","v":0},0]
[0.1,{"$f":"'Daily Calcs'!J277/1000000","v":0},{"$f":"'Daily Calcs'!K277/1000000","v":0},0]
[0.1,{"$f":"'Daily Calcs'!J278/1000000","v":0},{"$f":"'Daily Calcs'!K278/1000000","v":0},0]
[0.1,{"$f":"'Daily Calcs'!J279/1000000","v":0},{"$f":"'Daily Calcs'!K279/1000000","v":0},0]
[0.1,{"$f":"'Daily Calcs'!J280/1000000","v":0},{"$f":"'Daily Calcs'!K280/1000000","v":0},0]
[0.1,{"$f":"'Daily Calcs'!J281/1000000","v":0},{"$f":"'Daily Calcs'!K281/1000000","v":0},0]
[0.1,{"$f":"'Daily Calcs'!J282/1000000","v":0},{"$f":"'Daily Calcs'!K282/1000000","v":0},0]
[0.1,{"$f":"'Daily Calcs'!J283/1000000","v":0},{"$f":"'Daily Calcs'!K283/1000000","v":0},0]
[0.1,{"$f":"'Daily Calcs'!J284/1000000","v":0},{"$f":"'Daily Calcs'!K284/1000000","v":0},0]
[0.1,{"$f":"'Daily Calcs'!J285/1000000","v":0},{"$f":"'Daily Calcs'!K285/1000000","v":0},0]
[0.1,{"$f":"'Daily Calcs'!J286/1000000","v":0},{"$f":"'Daily Calcs'!K286/1000000","v":0},0]
[0.1,{"$f":"'Daily Calcs'!J287/1000000","v":0},{"$f":"'Daily Calcs'!K287/1000000","v":0},0]
[0.1,{"$f":"'Daily Calcs'!J288/1000000","v":0},{"$f":"'Daily Calcs'!K288/1000000","v":0},0]
[0.1,{"$f":"'Daily Calcs'!J289/1000000","v":0},{"$f":"'Daily Calcs'!K289/1000000","v":0},0]
[0.1,{"$f":"'Daily Calcs'!J290/1000000","v":0},{"$f":"'Daily Calcs'!K290/1000000","v":0},0]
[0.1,{"$f":"'Daily Calcs'!J291/1000000","v":0},{"$f":"'Daily Calcs'!K291/1000000","v":0},0]
[0.1,{"$f":"'Daily Calcs'!J292/1000000","v":0},{"$f":"'Daily Calcs'!K292/1000000","v":0},0]
[0.1,{"$f":"'Daily Calcs'!J293/1000000","v":0},{"$f":"'Daily Calcs'!K293/1000000","v":0},0]
[0.1,{"$f":"'Daily Calcs'!J294/1000000","v":0},{"$f":"'Daily Calcs'!K294/1000000","v":0},0]
[0.1,{"$f":"'Daily Calcs'!J295/1000000","v":0},{"$f":"'Daily Calcs'!K295/1000000","v":0},0]
[0.1,{"$f":"'Daily Calcs'!J296/1000000","v":0},{"$f":"'Daily Calcs'!K296/1000000","v":0},0]
[0.1,{"$f":"'Daily Calcs'!J297/1000000","v":0},{"$f":"'Daily Calcs'!K297/1000000","v":0},0]
[0.1,{"$f":"'Daily Calcs'!J298/1000000","v":0},{"$f":"'Daily Calcs'!K298/1000000","v":0},0]
[0.1,{"$f":"'Daily Calcs'!J299/1000000","v":0},{"$f":"'Daily Calcs'!K299/1000000","v":0},0]
[0.1,{"$f":"'Daily Calcs'!J300/1000000","v":0},{"$f":"'Daily Calcs'!K300/1000000","v":0},0]
[0.1,{"$f":"'Daily Calcs'!J301/1000000","v":0},{"$f":"'Daily Calcs'!K301/1000000","v":0},0]
[0.1,{"$f":"'Daily Calcs'!J302/1000000","v":0},{"$f":"'Daily Calcs'!K302/1000000","v":0},0]
[0.1,{"$f":"'Daily Calcs'!J303/1000000","v":0},{"$f":"'Daily Calcs'!K303/1000000","v":0},0]
[0.1,{"$f":"'Daily Calcs'!J304/1000000","v":0},{"$f":"'Daily Calcs'!K304/1000000","v":0},0]
[0.1,{"$f":"'Daily Calcs'!J305/1000000","v":0},{"$f":"'Daily Calcs'!K305/1000000","v":0},0]
[0.1,{"$f":"'Daily Calcs'!J306/1000000","v":0},{"$f":"'Daily Calcs'!K306/1000000","v":0},0]
[0.1,{"$f":"'Daily Calcs'!J307/1000000","v":0},{"$f":"'Daily Calcs'!K307/1000000","v":0},0]
[0.1,{"$f":"'Daily Calcs'!J308/1000000","v":0},{"$f":"'Daily Calcs'!K308/1000000","v":0},0]
[0.1,{"$f":"'Daily Calcs'!J309/1000000","v":0},{"$f":"'Daily Calcs'!K309/1000000","v":0},0]
[0.1,{"$f":"'Daily Calcs'!J310/1000000","v":0},{"$f":"'Daily Calcs'!K310/1000000","v":0},0]
[0.1,{"$f":"'Daily Calcs'!J311/1000000","v":0},{"$f":"'Daily Calcs'!K311/1000000","v":0},0]
[0.1,{"$f":"'Daily Calcs'!J312/1000000","v":0},{"$f":"'Daily Calcs'!K312/1000000","v":0},0]
[0.1,{"$f":"'Daily Calcs'!J313/1000000","v":0},{"$f":"'Daily Calcs'!K313/1000000","v":0},0]
[0.1,{"$f":"'Daily Calcs'!J314/1000000","v":0},{"$f":"'Daily Calcs'!K314/1000000","v":0},0]
[0.1,{"$f":"'Daily Calcs'!J315/1000000","v":0},{"$f":"'Daily Calcs'!K315/1000000","v":0},0]
[0.1,{"$f":"'Daily Calcs'!J316/1000000","v":0},{"$f":"'Daily Calcs'!K316/1000000","v":0},0]
[0.1,{"$f":"'Daily Calcs'!J317/1000000","v":0},{"$f":"'Daily Calcs'!K317/1000000","v":0},0]
[0.1,{"$f":"'Daily Calcs'!J318/1000000","v":0},{"$f":"'Daily Calcs'!K318/1000000","v":0},0]
[0.1,{"$f":"'Daily Calcs'!J319/1000000","v":0},{"$f":"'Daily Calcs'!K319/1000000","v":0},0]
[0.1,{"$f":"'Daily Calcs'!J320/1000000","v":1.2064498346196251E-6},{"$f":"'Daily Calcs'!K320/1000000","v":1.2064511289415654E-6},1.2064498346196251E-6]
[0.1,{"$f":"'Daily Calcs'!J321/1000000","v":0},{"$f":"'Daily Calcs'!K321/1000000","v":0},0]
[0.1,{"$f":"'Daily Calcs'!J322/1000000","v":0},{"$f":"'Daily Calcs'!K322/1000000","v":0},0]
[0.1,{"$f":"'Daily Calcs'!J323/1000000","v":0},{"$f":"'Daily Calcs'!K323/1000000","v":0},{"$f":"B327","v":0}]
[0.1,{"$f":"'Daily Calcs'!J324/1000000","v":0},{"$f":"'Daily Calcs'!K324/1000000","v":0},0]
[0.1,{"$f":"'Daily Calcs'!J325/1000000","v":0},{"$f":"'Daily Calcs'!K325/1000000","v":0},0]
[0.1,{"$f":"'Daily Calcs'!J326/1000000","v":0},{"$f":"'Daily Calcs'!K326/1000000","v":0},0]
[0.1,{"$f":"'Daily Calcs'!J327/1000000","v":0},{"$f":"'Daily Calcs'!K327/1000000","v":0},0]
[0.1,{"$f":"'Daily Calcs'!J328/1000000","v":6.7589964719717757E-7},{"$f":"'Daily Calcs'!K328/1000000","v":6.7589997737357899E-7},6.7589964719717757E-7]
[0.1,{"$f":"'Daily Calcs'!J329/1000000","v":0},{"$f":"'Daily Calcs'!K329/1000000","v":0},0]
[0.1,{"$f":"'Daily Calcs'!J330/1000000","v":0},{"$f":"'Daily Calcs'!K330/1000000","v":0},0]
[0.1,{"$f":"'Daily Calcs'!J331/1000000","v":0},{"$f":"'Daily Calcs'!K331/1000000","v":0},0]
[0.1,{"$f":"'Daily Calcs'!J332/1000000","v":0},{"$f":"'Daily Calcs'!K332/1000000","v":0},0]
[0.1,{"$f":"'Daily Calcs'!J333/1000000","v":0},{"$f":"'Daily Calcs'!K333/1000000","v":0},0]
[0.1,{"$f":"'Daily Calcs'!J334/1000000","v":0},{"$f":"'Daily Calcs'!K334/1000000","v":0},0]
[0.1,{"$f":"'Daily Calcs'!J335/1000000","v":0},{"$f":"'Daily Calcs'!K335/1000000","v":0},0]
[0.1,{"$f":"'Daily Calcs'!J336/1000000","v":0},{"$f":"'Daily Calcs'!K336/1000000","v":0},0]
[0.1,{"$f":"'Daily Calcs'!J337/1000000","v":0},{"$f":"'Daily Calcs'!K337/1000000","v":0},0]
[0.1,{"$f":"'Daily Calcs'!J338/1000000","v":0},{"$f":"'Daily Calcs'!K338/1000000","v":0},0]
[0.1,{"$f":"'Daily Calcs'!J339/1000000","v":0},{"$f":"'Daily Calcs'!K339/1000000","v":0},0]
[0.1,{"$f":"'Daily Calcs'!J340/1000000","v":0},{"$f":"'Daily Calcs'!K340/1000000","v":0},0]
[0.1,{"$f":"'Daily Calcs'!J341/1000000","v":4.6219379529994626E-7},{"$f":"'Daily Calcs'!K341/1000000","v":4.6219385257218498E-7},4.6219379529994626E-7]
[0.1,{"$f":"'Daily Calcs'!J342/1000000","v":0},{"$f":"'Daily Calcs'!K342/1000000","v":0},0]
[0.1,{"$f":"'Daily Calcs'!J343/1000000","v":0},{"$f":"'Daily Calcs'!K343/1000000","v":0},0]
[0.1,{"$f":"'Daily Calcs'!J344/1000000","v":0},{"$f":"'Daily Calcs'!K344/1000000","v":0},0]
[0.1,{"$f":"'Daily Calcs'!J345/1000000","v":2.4739950831710353E-7},{"$f":"'Daily Calcs'!K345/1000000","v":2.4739953236582485E-7},2.4739950831710353E-7]
[0.1,{"$f":"'Daily Calcs'!J346/1000000","v":1.5387404455477889E-7},{"$f":"'Daily Calcs'!K346/1000000","v":1.5387405249918338E-7},1.5387404455477889E-7]
[0.1,{"$f":"'Daily Calcs'!J347/1000000","v":9.0484691600464154E-8},{"$f":"'Daily Calcs'!K347/1000000","v":9.048469389520664E-8},9.0484691600464154E-8]
[0.1,{"$f":"'Daily Calcs'!J348/1000000","v":0},{"$f":"'Daily Calcs'!K348/1000000","v":0},0]
[0.1,{"$f":"'Daily Calcs'!J349/1000000","v":6.030866229019798E-8},{"$f":"'Daily Calcs'!K349/1000000","v":6.0308663066703616E-8},6.030866229019798E-8]
[0.1,{"$f":"'Daily Calcs'!J350/1000000","v":0},{"$f":"'Daily Calcs'!K350/1000000","v":0},0]
[0.1,{"$f":"'Daily Calcs'!J351/1000000","v":4.8220348324514994E-8},{"$f":"'Daily Calcs'!K351/1000000","v":4.8220348569108238E-8},4.8220348324514994E-8]
[0.1,{"$f":"'Daily Calcs'!J352/1000000","v":3.1622708639492621E-8},{"$f":"'Daily Calcs'!K352/1000000","v":3.1622708828228535E-8},3.1622708639492621E-8]
[0.1,{"$f":"'Daily Calcs'!J353/1000000","v":1.9423886410755799E-8},{"$f":"'Daily Calcs'!K353/1000000","v":1.9423886481353275E-8},1.9423886410755799E-8]
[0.1,{"$f":"'Daily Calcs'!J354/1000000","v":0},{"$f":"'Daily Calcs'!K354/1000000","v":0},0]
[0.1,{"$f":"'Daily Calcs'!J355/1000000","v":0},{"$f":"'Daily Calcs'!K355/1000000","v":0},0]
[0.1,{"$f":"'Daily Calcs'!J356/1000000","v":0},{"$f":"'Daily Calcs'!K356/1000000","v":0},0]
[0.1,{"$f":"'Daily Calcs'!J357/1000000","v":0},{"$f":"'Daily Calcs'!K357/1000000","v":0},0]
[0.1,{"$f":"'Daily Calcs'!J358/1000000","v":0},{"$f":"'Daily Calcs'!K358/1000000","v":0},0]
[0.1,{"$f":"'Daily Calcs'!J359/1000000","v":0},{"$f":"'Daily Calcs'!K359/1000000","v":0},0]
[0.1,{"$f":"'Daily Calcs'!J360/1000000","v":0},{"$f":"'Daily Calcs'!K360/1000000","v":0},0]
[0.1,{"$f":"'Daily Calcs'!J361/1000000","v":0},{"$f":"'Daily Calcs'!K361/1000000","v":0},0]
[0.1,{"$f":"'Daily Calcs'!J362/1000000","v":1.4171617658118373E-8},{"$f":"'Daily Calcs'!K362/1000000","v":1.4171617672259909E-8},1.4171617658118373E-8]
[0.1,{"$f":"'Daily Calcs'!J363/1000000","v":0},{"$f":"'Daily Calcs'!K363/1000000","v":0},0]
[0.1,{"$f":"'Daily Calcs'!J364/1000000","v":0},{"$f":"'Daily Calcs'!K364/1000000","v":0},0]
[0.1,{"$f":"'Daily Calcs'!J365/1000000","v":0},{"$f":"'Daily Calcs'!K365/1000000","v":0},0]
[0.1,{"$f":"'Daily Calcs'!J366/1000000","v":0},{"$f":"'Daily Calcs'!K366/1000000","v":0},0]
[0.1,{"$f":"'Daily Calcs'!J367/1000000","v":0},{"$f":"'Daily Calcs'!K367/1000000","v":0},0]
[0.1,{"$f":"'Daily Calcs'!J368/1000000","v":0},{"$f":"'Daily Calcs'!K368/1000000","v":0},0]
[0.1,{"$f":"'Daily Calcs'!J369/1000000","v":0},{"$f":"'Daily Calcs'!K369/1000000","v":0},0]
[0.1,{"$f":"'Daily Calcs'!J370/1000000","v":0},{"$f":"'Daily Calcs'!K370/1000000","v":0},0]
[0.1,{"$f":"'Daily Calcs'!J371/1000000","v":6.4402912093882438E-9},{"$f":"'Daily Calcs'!K371/1000000","v":6.4402912135002182E-9},6.4402912093882438E-9]
[0.1,{"$f":"'Daily Calcs'!J372/1000000","v":3.9146110804633926E-9},{"$f":"'Daily Calcs'!K372/1000000","v":3.9146110821948917E-9},3.9146110804633926E-9]
[0.1,{"$f":"'Daily Calcs'!J373/1000000","v":0},{"$f":"'Daily Calcs'!K373/1000000","v":0},0]
[0.1,{"$f":"'Daily Calcs'!J374/1000000","v":0},{"$f":"'Daily Calcs'!K374/1000000","v":0},0]
[0.1,{"$f":"'Daily Calcs'!J375/1000000","v":2.5464153324394665E-9},{"$f":"'Daily Calcs'!K375/1000000","v":2.5464153329911662E-9},2.5464153324394665E-9]
[0.1,{"$f":"'Daily Calcs'!J376/1000000","v":0},{"$f":"'Daily Calcs'!K376/1000000","v":0},0]
[0.1,{"$f":"'Daily Calcs'!J377/1000000","v":0},{"$f":"'Daily Calcs'!K377/1000000","v":0},0]
[0.1,{"$f":"'Daily Calcs'!J378/1000000","v":0},{"$f":"'Daily Calcs'!K378/1000000","v":0},0]
[0.1,{"$f":"'Daily Calcs'!J379/1000000","v":0},{"$f":"'Daily Calcs'!K379/1000000","v":0},0]
[0.1,{"$f":"'Daily Calcs'!J380/1000000","v":0},{"$f":"'Daily Calcs'!K380/1000000","v":0},0]
[0.1,{"$f":"'Daily Calcs'!J381/1000000","v":1.8061826407060806E-9},{"$f":"'Daily Calcs'!K381/1000000","v":1.8061826408991038E-9},1.8061826407060806E-9]
[0.1,{"$f":"'Daily Calcs'!J382/1000000","v":0},{"$f":"'Daily Calcs'!K382/1000000","v":0},0]
[0.1,{"$f":"'Daily Calcs'!J383/1000000","v":0},{"$f":"'Daily Calcs'!K383/1000000","v":0},0]
[0.1,{"$f":"'Daily Calcs'!J384/1000000","v":1.133688432958506E-9},{"$f":"'Daily Calcs'!K384/1000000","v":1.1336884330694417E-9},1.133688432958506E-9]
[0.1,{"$f":"'Daily Calcs'!J385/1000000","v":5.9736615865572483E-10},{"$f":"'Daily Calcs'!K385/1000000","v":5.9736615870574134E-10},5.9736615865572483E-10]
[0.1,{"$f":"'Daily Calcs'!J386/1000000","v":0},{"$f":"'Daily Calcs'!K386/1000000","v":0},0]
[0.1,{"$f":"'Daily Calcs'!J387/1000000","v":0},{"$f":"'Daily Calcs'!K387/1000000","v":0},{"$f":"B391","v":0}]
[0.1,{"$f":"'Daily Calcs'!J388/1000000","v":0},{"$f":"'Daily Calcs'!K388/1000000","v":0},0]
[0.1,{"$f":"'Daily Calcs'!J389/1000000","v":3.4660585862129456E-10},{"$f":"'Daily Calcs'!K389/1000000","v":3.4660585863817453E-10},3.4660585862129456E-10]
[0.1,{"$f":"'Daily Calcs'!J390/1000000","v":0},{"$f":"'Daily Calcs'!K390/1000000","v":0},0]
[0.1,{"$f":"'Daily Calcs'!J391/1000000","v":0},{"$f":"'Daily Calcs'!K391/1000000","v":0},0]
[0.1,{"$f":"'Daily Calcs'!J392/1000000","v":0},{"$f":"'Daily Calcs'!K392/1000000","v":0},0]
[0.1,{"$f":"'Daily Calcs'!J393/1000000","v":1.9560249085189703E-10},{"$f":"'Daily Calcs'!K393/1000000","v":1.9560249085768637E-10},1.9560249085189703E-10]
[0.1,{"$f":"'Daily Calcs'!J394/1000000","v":1.0748765619397013E-10},{"$f":"'Daily Calcs'!K394/1000000","v":1.0748765619627161E-10},1.0748765619397013E-10]
[0.1,{"$f":"'Daily Calcs'!J395/1000000","v":0},{"$f":"'Daily Calcs'!K395/1000000","v":0},0]
[0.1,{"$f":"'Daily Calcs'!J396/1000000","v":0},{"$f":"'Daily Calcs'!K396/1000000","v":0},0]
[0.1,{"$f":"'Daily Calcs'!J397/1000000","v":0},{"$f":"'Daily Calcs'!K397/1000000","v":0},0]
[0.1,{"$f":"'Daily Calcs'!J398/1000000","v":0},{"$f":"'Daily Calcs'!K398/1000000","v":0},0]
[0.1,{"$f":"'Daily Calcs'!J399/1000000","v":0},{"$f":"'Daily Calcs'!K399/1000000","v":0},0]
[0.1,{"$f":"'Daily Calcs'!J400/1000000","v":0},{"$f":"'Daily Calcs'!K400/1000000","v":0},0]
[0.1,{"$f":"'Daily Calcs'!J401/1000000","v":0},{"$f":"'Daily Calcs'!K401/1000000","v":0},0]
[0.1,{"$f":"'Daily Calcs'!J402/1000000","v":0},{"$f":"'Daily Calcs'!K402/1000000","v":0},0]
[0.1,{"$f":"'Daily Calcs'!J403/1000000","v":0},{"$f":"'Daily Calcs'!K403/1000000","v":0},0]
[0.1,{"$f":"'Daily Calcs'!J404/1000000","v":0},{"$f":"'Daily Calcs'!K404/1000000","v":0},0]
[0.1,{"$f":"'Daily Calcs'!J405/1000000","v":0},{"$f":"'Daily Calcs'!K405/1000000","v":0},0]
[0.1,{"$f":"'Daily Calcs'!J406/1000000","v":0},{"$f":"'Daily Calcs'!K406/1000000","v":0},0]
[0.1,{"$f":"'Daily Calcs'!J407/1000000","v":0},{"$f":"'Daily Calcs'!K407/1000000","v":0},0]
[0.1,{"$f":"'Daily Calcs'!J408/1000000","v":0},{"$f":"'Daily Calcs'!K408/1000000","v":0},0]
[0.1,{"$f":"'Daily Calcs'!J409/1000000","v":0},{"$f":"'Daily Calcs'!K409/1000000","v":0},0]
[0.1,{"$f":"'Daily Calcs'!J410/1000000","v":0},{"$f":"'Daily Calcs'!K410/1000000","v":0},0]
[0.1,{"$f":"'Daily Calcs'!J411/1000000","v":0},{"$f":"'Daily Calcs'!K411/1000000","v":0},0]
[0.1,{"$f":"'Daily Calcs'!J412/1000000","v":0},{"$f":"'Daily Calcs'!K412/1000000","v":0},0]
[0.1,{"$f":"'Daily Calcs'!J413/1000000","v":0},{"$f":"'Daily Calcs'!K413/1000000","v":0},0]
[0.1,{"$f":"'Daily Calcs'!J414/1000000","v":0},{"$f":"'Daily Calcs'!K414/1000000","v":0},0]
[0.1,{"$f":"'Daily Calcs'!J415/1000000","v":0},{"$f":"'Daily Calcs'!K415/1000000","v":0},0]
[0.1,{"$f":"'Daily Calcs'!J416/1000000","v":0},{"$f":"'Daily Calcs'!K416/1000000","v":0},0]
[0.1,{"$f":"'Daily Calcs'!J417/1000000","v":0},{"$f":"'Daily Calcs'!K417/1000000","v":0},0]
[0.1,{"$f":"'Daily Calcs'!J418/1000000","v":2.8178168368475959E-11},{"$f":"'Daily Calcs'!K418/1000000","v":2.8178168368576209E-11},2.8178168368475959E-11]
[0.1,{"$f":"'Daily Calcs'!J419/1000000","v":1.2058394989308758E-11},{"$f":"'Daily Calcs'!K419/1000000","v":1.2058394989345488E-11},1.2058394989308758E-11]
[0.1,{"$f":"'Daily Calcs'!J420/1000000","v":0},{"$f":"'Daily Calcs'!K420/1000000","v":0},0]
[0.1,{"$f":"'Daily Calcs'!J421/1000000","v":5.9491589730618434E-12},{"$f":"'Daily Calcs'!K421/1000000","v":5.9491589730714376E-12},5.9491589730618434E-12]
[0.1,{"$f":"'Daily Calcs'!J422/1000000","v":3.8273798892659399E-12},{"$f":"'Daily Calcs'!K422/1000000","v":3.8273798892696105E-12},3.8273798892659399E-12]
[0.1,{"$f":"'Daily Calcs'!J423/1000000","v":0},{"$f":"'Daily Calcs'!K423/1000000","v":0},0]
[0.1,{"$f":"'Daily Calcs'!J424/1000000","v":0},{"$f":"'Daily Calcs'!K424/1000000","v":0},0]
[0.1,{"$f":"'Daily Calcs'!J425/1000000","v":0},{"$f":"'Daily Calcs'!K425/1000000","v":0},0]
[0.1,{"$f":"'Daily Calcs'!J426/1000000","v":0},{"$f":"'Daily Calcs'!K426/1000000","v":0},0]
[0.1,{"$f":"'Daily Calcs'!J427/1000000","v":0},{"$f":"'Daily Calcs'!K427/1000000","v":0},0]
[0.1,{"$f":"'Daily Calcs'!J428/1000000","v":0},{"$f":"'Daily Calcs'!K428/1000000","v":0},0]
[0.1,{"$f":"'Daily Calcs'!J429/1000000","v":0},{"$f":"'Daily Calcs'!K429/1000000","v":0},0]
[0.1,{"$f":"'Daily Calcs'!J430/1000000","v":0},{"$f":"'Daily Calcs'!K430/1000000","v":0},0]
[0.1,{"$f":"'Daily Calcs'!J431/1000000","v":0},{"$f":"'Daily Calcs'!K431/1000000","v":0},0]
[0.1,{"$f":"'Daily Calcs'!J432/1000000","v":0},{"$f":"'Daily Calcs'!K432/1000000","v":0},0]
[0.1,{"$f":"'Daily Calcs'!J433/1000000","v":0},{"$f":"'Daily Calcs'!K433/1000000","v":0},0]
[0.1,{"$f":"'Daily Calcs'!J434/1000000","v":0},{"$f":"'Daily Calcs'!K434/1000000","v":0},0]
[0.1,{"$f":"'Daily Calcs'!J435/1000000","v":1.2635164662774671E-12},{"$f":"'Daily Calcs'!K435/1000000","v":1.263516466278203E-12},1.2635164662774671E-12]
[0.1,{"$f":"'Daily Calcs'!J436/1000000","v":5.4554637281910021E-13},{"$f":"'Daily Calcs'!K436/1000000","v":5.455463728193377E-13},5.4554637281910021E-13]
[0.1,{"$f":"'Daily Calcs'!J437/1000000","v":0},{"$f":"'Daily Calcs'!K437/1000000","v":0},0]
[0.1,{"$f":"'Daily Calcs'!J438/1000000","v":0},{"$f":"'Daily Calcs'!K438/1000000","v":0},0]
[0.1,{"$f":"'Daily Calcs'!J439/1000000","v":0},{"$f":"'Daily Calcs'!K439/1000000","v":0},0]
[0.1,{"$f":"'Daily Calcs'!J440/1000000","v":0},{"$f":"'Daily Calcs'!K440/1000000","v":0},0]
[0.1,{"$f":"'Daily Calcs'!J441/1000000","v":0},{"$f":"'Daily Calcs'!K441/1000000","v":0},0]
[0.1,{"$f":"'Daily Calcs'!J442/1000000","v":0},{"$f":"'Daily Calcs'!K442/1000000","v":0},0]
[0.1,{"$f":"'Daily Calcs'!J443/1000000","v":0},{"$f":"'Daily Calcs'!K443/1000000","v":0},0]
[0.1,{"$f":"'Daily Calcs'!J444/1000000","v":0},{"$f":"'Daily Calcs'!K444/1000000","v":0},0]
[0.1,{"$f":"'Daily Calcs'!J445/1000000","v":0},{"$f":"'Daily Calcs'!K445/1000000","v":0},0]
[0.1,{"$f":"'Daily Calcs'!J446/1000000","v":2.2285927584919744E-13},{"$f":"'Daily Calcs'!K446/1000000","v":2.2285927584922314E-13},2.2285927584919744E-13]
[0.1,{"$f":"'Daily Calcs'!J447/1000000","v":0},{"$f":"'Daily Calcs'!K447/1000000","v":0},0]
[0.1,{"$f":"'Daily Calcs'!J448/1000000","v":0},{"$f":"'Daily Calcs'!K448/1000000","v":0},0]
[0.1,{"$f":"'Daily Calcs'!J449/1000000","v":0},{"$f":"'Daily Calcs'!K449/1000000","v":0},0]
[0.1,{"$f":"'Daily Calcs'!J450/1000000","v":9.3223106756480906E-14},{"$f":"'Daily Calcs'!K450/1000000","v":9.3223106756492745E-14},9.3223106756480906E-14]
[0.1,{"$f":"'Daily Calcs'!J451/1000000","v":0},{"$f":"'Daily Calcs'!K451/1000000","v":0},{"$f":"B455","v":0}]
[0.1,{"$f":"'Daily Calcs'!J452/1000000","v":0},{"$f":"'Daily Calcs'!K452/1000000","v":0},0]
[0.1,{"$f":"'Daily Calcs'!J453/1000000","v":0},{"$f":"'Daily Calcs'!K453/1000000","v":0},0]
[0.1,{"$f":"'Daily Calcs'!J454/1000000","v":0},{"$f":"'Daily Calcs'!K454/1000000","v":0},0]
[0.1,{"$f":"'Daily Calcs'!J455/1000000","v":4.9588996500366247E-14},{"$f":"'Daily Calcs'!K455/1000000","v":4.9588996500368645E-14},4.9588996500366247E-14]
[0.1,{"$f":"'Daily Calcs'!J456/1000000","v":2.2229371079298699E-14},{"$f":"'Daily Calcs'!K456/1000000","v":2.2229371079300138E-14},2.2229371079298699E-14]
[0.1,{"$f":"'Daily Calcs'!J457/1000000","v":0},{"$f":"'Daily Calcs'!K457/1000000","v":0},0]
[0.1,{"$f":"'Daily Calcs'!J458/1000000","v":0},{"$f":"'Daily Calcs'!K458/1000000","v":0},0]
[0.1,{"$f":"'Daily Calcs'!J459/1000000","v":0},{"$f":"'Daily Calcs'!K459/1000000","v":0},0]
[0.1,{"$f":"'Daily Calcs'!J460/1000000","v":0},{"$f":"'Daily Calcs'!K460/1000000","v":0},0]
[0.1,{"$f":"'Daily Calcs'!J461/1000000","v":0},{"$f":"'Daily Calcs'!K461/1000000","v":0},0]
[0.1,{"$f":"'Daily Calcs'!J462/1000000","v":8.3386666161740491E-15},{"$f":"'Daily Calcs'!K462/1000000","v":8.3386666161743111E-15},8.3386666161740491E-15]
[0.1,{"$f":"'Daily Calcs'!J463/1000000","v":0},{"$f":"'Daily Calcs'!K463/1000000","v":0},0]
[0.1,{"$f":"'Daily Calcs'!J464/1000000","v":0},{"$f":"'Daily Calcs'!K464/1000000","v":0},0]
[0.1,{"$f":"'Daily Calcs'!J465/1000000","v":0},{"$f":"'Daily Calcs'!K465/1000000","v":0},0]
[0.1,{"$f":"'Daily Calcs'!J466/1000000","v":0},{"$f":"'Daily Calcs'!K466/1000000","v":0},0]
[0.1,{"$f":"'Daily Calcs'!J467/1000000","v":2.4897892083439884E-15},{"$f":"'Daily Calcs'!K467/1000000","v":2.4897892083440428E-15},2.4897892083439884E-15]
[0.1,{"$f":"'Daily Calcs'!J468/1000000","v":1.0763179354343548E-15},{"$f":"'Daily Calcs'!K468/1000000","v":1.0763179354343723E-15},1.0763179354343548E-15]
[0.1,{"$f":"'Daily Calcs'!J469/1000000","v":0},{"$f":"'Daily Calcs'!K469/1000000","v":0},0]
[0.1,{"$f":"'Daily Calcs'!J470/1000000","v":0},{"$f":"'Daily Calcs'!K470/1000000","v":0},0]
[0.1,{"$f":"'Daily Calcs'!J471/1000000","v":0},{"$f":"'Daily Calcs'!K471/1000000","v":0},0]
[0.1,{"$f":"'Daily Calcs'!J472/1000000","v":0},{"$f":"'Daily Calcs'!K472/1000000","v":0},0]
[0.1,{"$f":"'Daily Calcs'!J473/1000000","v":0},{"$f":"'Daily Calcs'!K473/1000000","v":0},0]
[0.1,{"$f":"'Daily Calcs'!J474/1000000","v":0},{"$f":"'Daily Calcs'!K474/1000000","v":0},0]
[0.1,{"$f":"'Daily Calcs'!J475/1000000","v":0},{"$f":"'Daily Calcs'!K475/1000000","v":0},0]
[0.1,{"$f":"'Daily Calcs'!J476/1000000","v":0},{"$f":"'Daily Calcs'!K476/1000000","v":0},0]
[0.1,{"$f":"'Daily Calcs'!J477/1000000","v":0},{"$f":"'Daily Calcs'!K477/1000000","v":0},0]
[0.1,{"$f":"'Daily Calcs'!J478/1000000","v":0},{"$f":"'Daily Calcs'!K478/1000000","v":0},0]
[0.1,{"$f":"'Daily Calcs'!J479/1000000","v":0},{"$f":"'Daily Calcs'!K479/1000000","v":0},0]
[0.1,{"$f":"'Daily Calcs'!J480/1000000","v":0},{"$f":"'Daily Calcs'!K480/1000000","v":0},0]
[0.1,{"$f":"'Daily Calcs'!J481/1000000","v":5.2105319262338768E-16},{"$f":"'Daily Calcs'!K481/1000000","v":5.2105319262338995E-16},5.2105319262338768E-16]
[0.1,{"$f":"'Daily Calcs'!J482/1000000","v":3.7234971809735573E-16},{"$f":"'Daily Calcs'!K482/1000000","v":3.7234971809735731E-16},3.7234971809735573E-16]
[0.1,{"$f":"'Daily Calcs'!J483/1000000","v":0},{"$f":"'Daily Calcs'!K483/1000000","v":0},0]
[0.1,{"$f":"'Daily Calcs'!J484/1000000","v":0},{"$f":"'Daily Calcs'!K484/1000000","v":0},0]
[0.1,{"$f":"'Daily Calcs'!J485/1000000","v":1.6881387749426404E-16},{"$f":"'Daily Calcs'!K485/1000000","v":1.6881387749426495E-16},1.6881387749426404E-16]
[0.1,{"$f":"'Daily Calcs'!J486/1000000","v":0},{"$f":"'Daily Calcs'!K486/1000000","v":0},0]
[0.1,{"$f":"'Daily Calcs'!J487/1000000","v":0},{"$f":"'Daily Calcs'!K487/1000000","v":0},0]
[0.1,{"$f":"'Daily Calcs'!J488/1000000","v":0},{"$f":"'Daily Calcs'!K488/1000000","v":0},0]
[0.1,{"$f":"'Daily Calcs'!J489/1000000","v":0},{"$f":"'Daily Calcs'!K489/1000000","v":0},0]
[0.1,{"$f":"'Daily Calcs'!J490/1000000","v":0},{"$f":"'Daily Calcs'!K490/1000000","v":0},0]
[0.1,{"$f":"'Daily Calcs'!J491/1000000","v":0},{"$f":"'Daily Calcs'!K491/1000000","v":0},0]
[0.1,{"$f":"'Daily Calcs'!J492/1000000","v":0},{"$f":"'Daily Calcs'!K492/1000000","v":0},0]
[0.1,{"$f":"'Daily Calcs'!J493/1000000","v":0},{"$f":"'Daily Calcs'!K493/1000000","v":0},0]
[0.1,{"$f":"'Daily Calcs'!J494/1000000","v":0},{"$f":"'Daily Calcs'!K494/1000000","v":0},0]
[0.1,{"$f":"'Daily Calcs'!J495/1000000","v":0},{"$f":"'Daily Calcs'!K495/1000000","v":0},0]
[0.1,{"$f":"'Daily Calcs'!J496/1000000","v":0},{"$f":"'Daily Calcs'!K496/1000000","v":0},0]
[0.1,{"$f":"'Daily Calcs'!J497/1000000","v":0},{"$f":"'Daily Calcs'!K497/1000000","v":0},0]
[0.1,{"$f":"'Daily Calcs'!J498/1000000","v":0},{"$f":"'Daily Calcs'!K498/1000000","v":0},0]
[0.1,{"$f":"'Daily Calcs'!J499/1000000","v":0},{"$f":"'Daily Calcs'!K499/1000000","v":0},0]
[0.1,{"$f":"'Daily Calcs'!J500/1000000","v":0},{"$f":"'Daily Calcs'!K500/1000000","v":0},0]
[0.1,{"$f":"'Daily Calcs'!J501/1000000","v":0},{"$f":"'Daily Calcs'!K501/1000000","v":0},0]
[0.1,{"$f":"'Daily Calcs'!J502/1000000","v":0},{"$f":"'Daily Calcs'!K502/1000000","v":0},0]
[0.1,{"$f":"'Daily Calcs'!J503/1000000","v":0},{"$f":"'Daily Calcs'!K503/1000000","v":0},0]
[0.1,{"$f":"'Daily Calcs'!J504/1000000","v":0},{"$f":"'Daily Calcs'!K504/1000000","v":0},0]
[0.1,{"$f":"'Daily Calcs'!J505/1000000","v":0},{"$f":"'Daily Calcs'!K505/1000000","v":0},0]
[0.1,{"$f":"'Daily Calcs'!J506/1000000","v":0},{"$f":"'Daily Calcs'!K506/1000000","v":0},0]
[0.1,{"$f":"'Daily Calcs'!J507/1000000","v":0},{"$f":"'Daily Calcs'!K507/1000000","v":0},0]
[0.1,{"$f":"'Daily Calcs'!J508/1000000","v":0},{"$f":"'Daily Calcs'!K508/1000000","v":0},0]
[0.1,{"$f":"'Daily Calcs'!J509/1000000","v":0},{"$f":"'Daily Calcs'!K509/1000000","v":0},0]
[0.1,{"$f":"'Daily Calcs'!J510/1000000","v":0},{"$f":"'Daily Calcs'!K510/1000000","v":0},0]
[0.1,{"$f":"'Daily Calcs'!J511/1000000","v":0},{"$f":"'Daily Calcs'!K511/1000000","v":0},0]
[0.1,{"$f":"'Daily Calcs'!J512/1000000","v":0},{"$f":"'Daily Calcs'!K512/1000000","v":0},0]
[0.1,{"$f":"'Daily Calcs'!J513/1000000","v":0},{"$f":"'Daily Calcs'!K513/1000000","v":0},0]
[0.1,{"$f":"'Daily Calcs'!J514/1000000","v":0},{"$f":"'Daily Calcs'!K514/1000000","v":0},0]
[0.1,{"$f":"'Daily Calcs'!J515/1000000","v":0},{"$f":"'Daily Calcs'!K515/1000000","v":0},{"$f":"B519","v":0}]
[0.1,{"$f":"'Daily Calcs'!J516/1000000","v":0},{"$f":"'Daily Calcs'!K516/1000000","v":0},0]
[0.1,{"$f":"'Daily Calcs'!J517/1000000","v":0},{"$f":"'Daily Calcs'!K517/1000000","v":0},0]
[0.1,{"$f":"'Daily Calcs'!J518/1000000","v":0},{"$f":"'Daily Calcs'!K518/1000000","v":0},0]
[0.1,{"$f":"'Daily Calcs'!J519/1000000","v":0},{"$f":"'Daily Calcs'!K519/1000000","v":0},0]
[0.1,{"$f":"'Daily Calcs'!J520/1000000","v":0},{"$f":"'Daily Calcs'!K520/1000000","v":0},0]
[0.1,{"$f":"'Daily Calcs'!J521/1000000","v":4.4502522336352036E-17},{"$f":"'Daily Calcs'!K521/1000000","v":4.4502522336352048E-17},4.4502522336352036E-17]
[0.1,{"$f":"'Daily Calcs'!J522/1000000","v":2.985113781953511E-17},{"$f":"'Daily Calcs'!K522/1000000","v":2.9851137819535122E-17},2.985113781953511E-17]
[0.1,{"$f":"'Daily Calcs'!J523/1000000","v":2.4656655717190677E-17},{"$f":"'Daily Calcs'!K523/1000000","v":2.4656655717190687E-17},2.4656655717190677E-17]
[0.1,{"$f":"'Daily Calcs'!J524/1000000","v":0},{"$f":"'Daily Calcs'!K524/1000000","v":0},0]
[0.1,{"$f":"'Daily Calcs'!J525/1000000","v":1.4129147229938677E-17},{"$f":"'Daily Calcs'!K525/1000000","v":1.4129147229938683E-17},1.4129147229938677E-17]
[0.1,{"$f":"'Daily Calcs'!J526/1000000","v":0},{"$f":"'Daily Calcs'!K526/1000000","v":0},0]
[0.1,{"$f":"'Daily Calcs'!J527/1000000","v":0},{"$f":"'Daily Calcs'!K527/1000000","v":0},0]
[0.1,{"$f":"'Daily Calcs'!J528/1000000","v":0},{"$f":"'Daily Calcs'!K528/1000000","v":0},0]
[0.1,{"$f":"'Daily Calcs'!J529/1000000","v":4.906763150570553E-18},{"$f":"'Daily Calcs'!K529/1000000","v":4.9067631505705546E-18},4.906763150570553E-18]
[0.1,{"$f":"'Daily Calcs'!J530/1000000","v":3.3985595869003938E-18},{"$f":"'Daily Calcs'!K530/1000000","v":3.3985595869003945E-18},3.3985595869003938E-18]
[0.1,{"$f":"'Daily Calcs'!J531/1000000","v":0},{"$f":"'Daily Calcs'!K531/1000000","v":0},0]
[0.1,{"$f":"'Daily Calcs'!J532/1000000","v":0},{"$f":"'Daily Calcs'!K532/1000000","v":0},0]
[0.1,{"$f":"'Daily Calcs'!J533/1000000","v":0},{"$f":"'Daily Calcs'!K533/1000000","v":0},0]
[0.1,{"$f":"'Daily Calcs'!J534/1000000","v":0},{"$f":"'Daily Calcs'!K534/1000000","v":0},0]
[0.1,{"$f":"'Daily Calcs'!J535/1000000","v":0},{"$f":"'Daily Calcs'!K535/1000000","v":0},0]
[0.1,{"$f":"'Daily Calcs'!J536/1000000","v":1.3584875810789431E-18},{"$f":"'Daily Calcs'!K536/1000000","v":1.3584875810789431E-18},1.3584875810789431E-18]
[0.1,{"$f":"'Daily Calcs'!J537/1000000","v":9.3653949947447666E-19},{"$f":"'Daily Calcs'!K537/1000000","v":9.3653949947447666E-19},9.3653949947447666E-19]
[0.1,{"$f":"'Daily Calcs'!J538/1000000","v":0},{"$f":"'Daily Calcs'!K538/1000000","v":0},0]
[0.1,{"$f":"'Daily Calcs'!J539/1000000","v":0},{"$f":"'Daily Calcs'!K539/1000000","v":0},0]
[0.1,{"$f":"'Daily Calcs'!J540/1000000","v":0},{"$f":"'Daily Calcs'!K540/1000000","v":0},0]
[0.1,{"$f":"'Daily Calcs'!J541/1000000","v":0},{"$f":"'Daily Calcs'!K541/1000000","v":0},0]
[0.1,{"$f":"'Daily Calcs'!J542/1000000","v":0},{"$f":"'Daily Calcs'!K542/1000000","v":0},0]
[0.1,{"$f":"'Daily Calcs'!J543/1000000","v":0},{"$f":"'Daily Calcs'!K543/1000000","v":0},0]
[0.1,{"$f":"'Daily Calcs'!J544/1000000","v":3.0444331360312827E-19},{"$f":"'Daily Calcs'!K544/1000000","v":3.0444331360312827E-19},3.0444331360312827E-19]
[0.1,{"$f":"'Daily Calcs'!J545/1000000","v":0},{"$f":"'Daily Calcs'!K545/1000000","v":0},0]
[0.1,{"$f":"'Daily Calcs'!J546/1000000","v":0},{"$f":"'Daily Calcs'!K546/1000000","v":0},0]
[0.1,{"$f":"'Daily Calcs'!J547/1000000","v":0},{"$f":"'Daily Calcs'!K547/1000000","v":0},0]
[0.1,{"$f":"'Daily Calcs'!J548/1000000","v":0},{"$f":"'Daily Calcs'!K548/1000000","v":0},0]
[0.1,{"$f":"'Daily Calcs'!J549/1000000","v":0},{"$f":"'Daily Calcs'!K549/1000000","v":0},0]
[0.1,{"$f":"'Daily Calcs'!J550/1000000","v":1.484384500580399E-19},{"$f":"'Daily Calcs'!K550/1000000","v":1.484384500580399E-19},1.484384500580399E-19]
[0.1,{"$f":"'Daily Calcs'!J551/1000000","v":7.6622505229643855E-20},{"$f":"'Daily Calcs'!K551/1000000","v":7.6622505229643855E-20},7.6622505229643855E-20]
[0.1,{"$f":"'Daily Calcs'!J552/1000000","v":0},{"$f":"'Daily Calcs'!K552/1000000","v":0},0]
[0.1,{"$f":"'Daily Calcs'!J553/1000000","v":2.9288872205538863E-20},{"$f":"'Daily Calcs'!K553/1000000","v":2.9288872205538863E-20},2.9288872205538863E-20]
[0.1,{"$f":"'Daily Calcs'!J554/1000000","v":0},{"$f":"'Daily Calcs'!K554/1000000","v":0},0]
[0.1,{"$f":"'Daily Calcs'!J555/1000000","v":0},{"$f":"'Daily Calcs'!K555/1000000","v":0},0]
[0.1,{"$f":"'Daily Calcs'!J556/1000000","v":0},{"$f":"'Daily Calcs'!K556/1000000","v":0},0]
[0.1,{"$f":"'Daily Calcs'!J557/1000000","v":0},{"$f":"'Daily Calcs'!K557/1000000","v":0},0]
[0.1,{"$f":"'Daily Calcs'!J558/1000000","v":0},{"$f":"'Daily Calcs'!K558/1000000","v":0},0]
[0.1,{"$f":"'Daily Calcs'!J559/1000000","v":1.5405240396845589E-20},{"$f":"'Daily Calcs'!K559/1000000","v":1.5405240396845589E-20},1.5405240396845589E-20]
[0.1,{"$f":"'Daily Calcs'!J560/1000000","v":0},{"$f":"'Daily Calcs'!K560/1000000","v":0},0]
[0.1,{"$f":"'Daily Calcs'!J561/1000000","v":0},{"$f":"'Daily Calcs'!K561/1000000","v":0},0]
[0.1,{"$f":"'Daily Calcs'!J562/1000000","v":0},{"$f":"'Daily Calcs'!K562/1000000","v":0},0]
[0.1,{"$f":"'Daily Calcs'!J563/1000000","v":0},{"$f":"'Daily Calcs'!K563/1000000","v":0},0]
[0.1,{"$f":"'Daily Calcs'!J564/1000000","v":0},{"$f":"'Daily Calcs'!K564/1000000","v":0},0]
[0.1,{"$f":"'Daily Calcs'!J565/1000000","v":0},{"$f":"'Daily Calcs'!K565/1000000","v":0},0]
[0.1,{"$f":"'Daily Calcs'!J566/1000000","v":0},{"$f":"'Daily Calcs'!K566/1000000","v":0},0]
[0.1,{"$f":"'Daily Calcs'!J567/1000000","v":0},{"$f":"'Daily Calcs'!K567/1000000","v":0},0]
[0.1,{"$f":"'Daily Calcs'!J568/1000000","v":0},{"$f":"'Daily Calcs'!K568/1000000","v":0},0]
[0.1,{"$f":"'Daily Calcs'!J569/1000000","v":0},{"$f":"'Daily Calcs'!K569/1000000","v":0},0]
[0.1,{"$f":"'Daily Calcs'!J570/1000000","v":0},{"$f":"'Daily Calcs'!K570/1000000","v":0},0]
[0.1,{"$f":"'Daily Calcs'!J571/1000000","v":0},{"$f":"'Daily Calcs'!K571/1000000","v":0},0]
[0.1,{"$f":"'Daily Calcs'!J572/1000000","v":3.1666732696802818E-5},{"$f":"'Daily Calcs'!K572/1000000","v":3.1903906342854876E-5},3.1666732696802818E-5]
[0.1,{"$f":"'Daily Calcs'!J573/1000000","v":0},{"$f":"'Daily Calcs'!K573/1000000","v":0},0]
[0.1,{"$f":"'Daily Calcs'!J574/1000000","v":0},{"$f":"'Daily Calcs'!K574/1000000","v":0},0]
[0.1,{"$f":"'Daily Calcs'!J575/1000000","v":2.5633290932218793E-5},{"$f":"'Daily Calcs'!K575/1000000","v":2.57441577321461E-5},2.5633290932218793E-5]
[0.1,{"$f":"'Daily Calcs'!J576/1000000","v":0},{"$f":"'Daily Calcs'!K576/1000000","v":0},0]
[0.1,{"$f":"'Daily Calcs'!J577/1000000","v":1.9260155880963629E-5},{"$f":"'Daily Calcs'!K577/1000000","v":1.9317858998582898E-5},1.9260155880963629E-5]
[0.1,{"$f":"'Daily Calcs'!J578/1000000","v":0},{"$f":"'Daily Calcs'!K578/1000000","v":0},0]
[0.1,{"$f":"'Daily Calcs'!J579/1000000","v":0},{"$f":"'Daily Calcs'!K579/1000000","v":0},{"$f":"B583","v":0}]
[0.1,{"$f":"'Daily Calcs'!J580/1000000","v":0},{"$f":"'Daily Calcs'!K580/1000000","v":0},0]
[0.1,{"$f":"'Daily Calcs'!J581/1000000","v":0},{"$f":"'Daily Calcs'!K581/1000000","v":0},0]
[0.1,{"$f":"'Daily Calcs'!J582/1000000","v":0},{"$f":"'Daily Calcs'!K582/1000000","v":0},0]
[0.1,{"$f":"'Daily Calcs'!J583/1000000","v":0},{"$f":"'Daily Calcs'!K583/1000000","v":0},0]
[0.1,{"$f":"'Daily Calcs'!J584/1000000","v":0},{"$f":"'Daily Calcs'!K584/1000000","v":0},0]
[0.1,{"$f":"'Daily Calcs'!J585/1000000","v":0},{"$f":"'Daily Calcs'!K585/1000000","v":0},0]
[0.1,{"$f":"'Daily Calcs'!J586/1000000","v":0},{"$f":"'Daily Calcs'!K586/1000000","v":0},0]
[0.1,{"$f":"'Daily Calcs'!J587/1000000","v":0},{"$f":"'Daily Calcs'!K587/1000000","v":0},0]
[0.1,{"$f":"'Daily Calcs'!J588/1000000","v":0},{"$f":"'Daily Calcs'!K588/1000000","v":0},0]
[0.1,{"$f":"'Daily Calcs'!J589/1000000","v":0},{"$f":"'Daily Calcs'!K589/1000000","v":0},0]
[0.1,{"$f":"'Daily Calcs'!J590/1000000","v":0},{"$f":"'Daily Calcs'!K590/1000000","v":0},0]
[0.1,{"$f":"'Daily Calcs'!J591/1000000","v":0},{"$f":"'Daily Calcs'!K591/1000000","v":0},0]
[0.1,{"$f":"'Daily Calcs'!J592/1000000","v":0},{"$f":"'Daily Calcs'!K592/1000000","v":0},0]
[0.1,{"$f":"'Daily Calcs'!J593/1000000","v":0},{"$f":"'Daily Calcs'!K593/1000000","v":0},0]
[0.1,{"$f":"'Daily Calcs'!J594/1000000","v":0},{"$f":"'Daily Calcs'!K594/1000000","v":0},0]
[0.1,{"$f":"'Daily Calcs'!J595/1000000","v":0},{"$f":"'Daily Calcs'!K595/1000000","v":0},0]
[0.1,{"$f":"'Daily Calcs'!J596/1000000","v":0},{"$f":"'Daily Calcs'!K596/1000000","v":0},0]
[0.1,{"$f":"'Daily Calcs'!J597/1000000","v":0},{"$f":"'Daily Calcs'!K597/1000000","v":0},0]
[0.1,{"$f":"'Daily Calcs'!J598/1000000","v":0},{"$f":"'Daily Calcs'!K598/1000000","v":0},0]
[0.1,{"$f":"'Daily Calcs'!J599/1000000","v":0},{"$f":"'Daily Calcs'!K599/1000000","v":0},0]
[0.1,{"$f":"'Daily Calcs'!J600/1000000","v":0},{"$f":"'Daily Calcs'!K600/1000000","v":0},0]
[0.1,{"$f":"'Daily Calcs'!J601/1000000","v":1.0910269505775123E-5},{"$f":"'Daily Calcs'!K601/1000000","v":1.0912186787931171E-5},1.0910269505775123E-5]
[0.1,{"$f":"'Daily Calcs'!J602/1000000","v":0},{"$f":"'Daily Calcs'!K602/1000000","v":0},0]
[0.1,{"$f":"'Daily Calcs'!J603/1000000","v":0},{"$f":"'Daily Calcs'!K603/1000000","v":0},0]
[0.1,{"$f":"'Daily Calcs'!J604/1000000","v":0},{"$f":"'Daily Calcs'!K604/1000000","v":0},0]
[0.1,{"$f":"'Daily Calcs'!J605/1000000","v":0},{"$f":"'Daily Calcs'!K605/1000000","v":0},0]
[0.1,{"$f":"'Daily Calcs'!J606/1000000","v":0},{"$f":"'Daily Calcs'!K606/1000000","v":0},0]
[0.1,{"$f":"'Daily Calcs'!J607/1000000","v":0},{"$f":"'Daily Calcs'!K607/1000000","v":0},0]
[0.1,{"$f":"'Daily Calcs'!J608/1000000","v":0},{"$f":"'Daily Calcs'!K608/1000000","v":0},0]
[0.1,{"$f":"'Daily Calcs'!J609/1000000","v":0},{"$f":"'Daily Calcs'!K609/1000000","v":0},0]
[0.1,{"$f":"'Daily Calcs'!J610/1000000","v":0},{"$f":"'Daily Calcs'!K610/1000000","v":0},0]
[0.1,{"$f":"'Daily Calcs'!J611/1000000","v":0},{"$f":"'Daily Calcs'!K611/1000000","v":0},0]
[0.1,{"$f":"'Daily Calcs'!J612/1000000","v":0},{"$f":"'Daily Calcs'!K612/1000000","v":0},0]
[0.1,{"$f":"'Daily Calcs'!J613/1000000","v":0},{"$f":"'Daily Calcs'!K613/1000000","v":0},0]
[0.1,{"$f":"'Daily Calcs'!J614/1000000","v":0},{"$f":"'Daily Calcs'!K614/1000000","v":0},0]
[0.1,{"$f":"'Daily Calcs'!J615/1000000","v":0},{"$f":"'Daily Calcs'!K615/1000000","v":0},0]
[0.1,{"$f":"'Daily Calcs'!J616/1000000","v":0},{"$f":"'Daily Calcs'!K616/1000000","v":0},0]
[0.1,{"$f":"'Daily Calcs'!J617/1000000","v":0},{"$f":"'Daily Calcs'!K617/1000000","v":0},0]
[0.1,{"$f":"'Daily Calcs'!J618/1000000","v":0},{"$f":"'Daily Calcs'!K618/1000000","v":0},0]
[0.1,{"$f":"'Daily Calcs'!J619/1000000","v":0},{"$f":"'Daily Calcs'!K619/1000000","v":0},0]
[0.1,{"$f":"'Daily Calcs'!J620/1000000","v":0},{"$f":"'Daily Calcs'!K620/1000000","v":0},0]
[0.1,{"$f":"'Daily Calcs'!J621/1000000","v":0},{"$f":"'Daily Calcs'!K621/1000000","v":0},0]
[0.1,{"$f":"'Daily Calcs'!J622/1000000","v":0},{"$f":"'Daily Calcs'!K622/1000000","v":0},0]
[0.1,{"$f":"'Daily Calcs'!J623/1000000","v":7.1875715266651409E-6},{"$f":"'Daily Calcs'!K623/1000000","v":7.1878713435568786E-6},7.1875715266651409E-6]
[0.1,{"$f":"'Daily Calcs'!J624/1000000","v":0},{"$f":"'Daily Calcs'!K624/1000000","v":0},0]
[0.1,{"$f":"'Daily Calcs'!J625/1000000","v":0},{"$f":"'Daily Calcs'!K625/1000000","v":0},0]
[0.1,{"$f":"'Daily Calcs'!J626/1000000","v":0},{"$f":"'Daily Calcs'!K626/1000000","v":0},0]
[0.1,{"$f":"'Daily Calcs'!J627/1000000","v":0},{"$f":"'Daily Calcs'!K627/1000000","v":0},0]
[0.1,{"$f":"'Daily Calcs'!J628/1000000","v":0},{"$f":"'Daily Calcs'!K628/1000000","v":0},0]
[0.1,{"$f":"'Daily Calcs'!J629/1000000","v":0},{"$f":"'Daily Calcs'!K629/1000000","v":0},0]
[0.1,{"$f":"'Daily Calcs'!J630/1000000","v":0},{"$f":"'Daily Calcs'!K630/1000000","v":0},0]
[0.1,{"$f":"'Daily Calcs'!J631/1000000","v":0},{"$f":"'Daily Calcs'!K631/1000000","v":0},0]
[0.1,{"$f":"'Daily Calcs'!J632/1000000","v":0},{"$f":"'Daily Calcs'!K632/1000000","v":0},0]
[0.1,{"$f":"'Daily Calcs'!J633/1000000","v":0},{"$f":"'Daily Calcs'!K633/1000000","v":0},0]
[0.1,{"$f":"'Daily Calcs'!J634/1000000","v":0},{"$f":"'Daily Calcs'!K634/1000000","v":0},0]
[0.1,{"$f":"'Daily Calcs'!J635/1000000","v":3.3873532496532128E-6},{"$f":"'Daily Calcs'!K635/1000000","v":3.3874087356632945E-6},3.3873532496532128E-6]
[0.1,{"$f":"'Daily Calcs'!J636/1000000","v":0},{"$f":"'Daily Calcs'!K636/1000000","v":0},0]
[0.1,{"$f":"'Daily Calcs'!J637/1000000","v":0},{"$f":"'Daily Calcs'!K637/1000000","v":0},0]
[0.1,{"$f":"'Daily Calcs'!J638/1000000","v":0},{"$f":"'Daily Calcs'!K638/1000000","v":0},0]
[0.1,{"$f":"'Daily Calcs'!J639/1000000","v":0},{"$f":"'Daily Calcs'!K639/1000000","v":0},0]
[0.1,{"$f":"'Daily Calcs'!J640/1000000","v":0},{"$f":"'Daily Calcs'!K640/1000000","v":0},0]
[0.1,{"$f":"'Daily Calcs'!J641/1000000","v":0},{"$f":"'Daily Calcs'!K641/1000000","v":0},0]
[0.1,{"$f":"'Daily Calcs'!J642/1000000","v":2.131730314450056E-6},{"$f":"'Daily Calcs'!K642/1000000","v":2.1317411758692767E-6},2.131730314450056E-6]
[0.1,{"$f":"'Daily Calcs'!J643/1000000","v":0},{"$f":"'Daily Calcs'!K643/1000000","v":0},{"$f":"B647","v":0}]
[0.1,{"$f":"'Daily Calcs'!J644/1000000","v":0},{"$f":"'Daily Calcs'!K644/1000000","v":0},0]
[0.1,{"$f":"'Daily Calcs'!J645/1000000","v":0},{"$f":"'Daily Calcs'!K645/1000000","v":0},0]
[0.1,{"$f":"'Daily Calcs'!J646/1000000","v":1.7509430274601777E-6},{"$f":"'Daily Calcs'!K646/1000000","v":1.7509460795465647E-6},1.7509430274601777E-6]
[0.1,{"$f":"'Daily Calcs'!J647/1000000","v":0},{"$f":"'Daily Calcs'!K647/1000000","v":0},0]
[0.1,{"$f":"'Daily Calcs'!J648/1000000","v":0},{"$f":"'Daily Calcs'!K648/1000000","v":0},0]
[0.1,{"$f":"'Daily Calcs'!J649/1000000","v":0},{"$f":"'Daily Calcs'!K649/1000000","v":0},0]
[0.1,{"$f":"'Daily Calcs'!J650/1000000","v":0},{"$f":"'Daily Calcs'!K650/1000000","v":0},0]
[0.1,{"$f":"'Daily Calcs'!J651/1000000","v":0},{"$f":"'Daily Calcs'!K651/1000000","v":0},0]
[0.1,{"$f":"'Daily Calcs'!J652/1000000","v":0},{"$f":"'Daily Calcs'!K652/1000000","v":0},0]
[0.1,{"$f":"'Daily Calcs'!J653/1000000","v":0},{"$f":"'Daily Calcs'!K653/1000000","v":0},0]
[0.1,{"$f":"'Daily Calcs'!J654/1000000","v":0},{"$f":"'Daily Calcs'!K654/1000000","v":0},0]
[0.1,{"$f":"'Daily Calcs'!J655/1000000","v":0},{"$f":"'Daily Calcs'!K655/1000000","v":0},0]
[0.1,{"$f":"'Daily Calcs'!J656/1000000","v":0},{"$f":"'Daily Calcs'!K656/1000000","v":0},0]
[0.1,{"$f":"'Daily Calcs'!J657/1000000","v":0},{"$f":"'Daily Calcs'!K657/1000000","v":0},0]
[0.1,{"$f":"'Daily Calcs'!J658/1000000","v":0},{"$f":"'Daily Calcs'!K658/1000000","v":0},0]
[0.1,{"$f":"'Daily Calcs'!J659/1000000","v":0},{"$f":"'Daily Calcs'!K659/1000000","v":0},0]
[0.1,{"$f":"'Daily Calcs'!J660/1000000","v":0},{"$f":"'Daily Calcs'!K660/1000000","v":0},0]
[0.1,{"$f":"'Daily Calcs'!J661/1000000","v":0},{"$f":"'Daily Calcs'!K661/1000000","v":0},0]
[0.1,{"$f":"'Daily Calcs'!J662/1000000","v":0},{"$f":"'Daily Calcs'!K662/1000000","v":0},0]
[0.1,{"$f":"'Daily Calcs'!J663/1000000","v":0},{"$f":"'Daily Calcs'!K663/1000000","v":0},0]
[0.1,{"$f":"'Daily Calcs'!J664/1000000","v":0},{"$f":"'Daily Calcs'!K664/1000000","v":0},0]
[0.1,{"$f":"'Daily Calcs'!J665/1000000","v":0},{"$f":"'Daily Calcs'!K665/1000000","v":0},0]
[0.1,{"$f":"'Daily Calcs'!J666/1000000","v":0},{"$f":"'Daily Calcs'!K666/1000000","v":0},0]
[0.1,{"$f":"'Daily Calcs'!J667/1000000","v":0},{"$f":"'Daily Calcs'!K667/1000000","v":0},0]
[0.1,{"$f":"'Daily Calcs'!J668/1000000","v":0},{"$f":"'Daily Calcs'!K668/1000000","v":0},0]
[0.1,{"$f":"'Daily Calcs'!J669/1000000","v":0},{"$f":"'Daily Calcs'!K669/1000000","v":0},0]
[0.1,{"$f":"'Daily Calcs'!J670/1000000","v":0},{"$f":"'Daily Calcs'!K670/1000000","v":0},0]
[0.1,{"$f":"'Daily Calcs'!J671/1000000","v":0},{"$f":"'Daily Calcs'!K671/1000000","v":0},0]
[0.1,{"$f":"'Daily Calcs'!J672/1000000","v":0},{"$f":"'Daily Calcs'!K672/1000000","v":0},0]
[0.1,{"$f":"'Daily Calcs'!J673/1000000","v":0},{"$f":"'Daily Calcs'!K673/1000000","v":0},0]
[0.1,{"$f":"'Daily Calcs'!J674/1000000","v":0},{"$f":"'Daily Calcs'!K674/1000000","v":0},0]
[0.1,{"$f":"'Daily Calcs'!J675/1000000","v":0},{"$f":"'Daily Calcs'!K675/1000000","v":0},0]
[0.1,{"$f":"'Daily Calcs'!J676/1000000","v":0},{"$f":"'Daily Calcs'!K676/1000000","v":0},0]
[0.1,{"$f":"'Daily Calcs'!J677/1000000","v":0},{"$f":"'Daily Calcs'!K677/1000000","v":0},0]
[0.1,{"$f":"'Daily Calcs'!J678/1000000","v":9.8816622704833055E-7},{"$f":"'Daily Calcs'!K678/1000000","v":9.881665806348978E-7},9.8816622704833055E-7]
[0.1,{"$f":"'Daily Calcs'!J679/1000000","v":7.1410524144687651E-7},{"$f":"'Daily Calcs'!K679/1000000","v":7.1410550696109529E-7},7.1410524144687651E-7]
[0.1,{"$f":"'Daily Calcs'!J680/1000000","v":0},{"$f":"'Daily Calcs'!K680/1000000","v":0},0]
[0.1,{"$f":"'Daily Calcs'!J681/1000000","v":0},{"$f":"'Daily Calcs'!K681/1000000","v":0},0]
[0.1,{"$f":"'Daily Calcs'!J682/1000000","v":5.0734312416555401E-7},{"$f":"'Daily Calcs'!K682/1000000","v":5.0734321378201242E-7},5.0734312416555401E-7]
[0.1,{"$f":"'Daily Calcs'!J683/1000000","v":0},{"$f":"'Daily Calcs'!K683/1000000","v":0},0]
[0.1,{"$f":"'Daily Calcs'!J684/1000000","v":0},{"$f":"'Daily Calcs'!K684/1000000","v":0},0]
[0.1,{"$f":"'Daily Calcs'!J685/1000000","v":0},{"$f":"'Daily Calcs'!K685/1000000","v":0},0]
[0.1,{"$f":"'Daily Calcs'!J686/1000000","v":0},{"$f":"'Daily Calcs'!K686/1000000","v":0},0]
[0.1,{"$f":"'Daily Calcs'!J687/1000000","v":0},{"$f":"'Daily Calcs'!K687/1000000","v":0},0]
[0.1,{"$f":"'Daily Calcs'!J688/1000000","v":3.4699862149630318E-7},{"$f":"'Daily Calcs'!K688/1000000","v":3.4699864973140066E-7},3.4699862149630318E-7]
[0.1,{"$f":"'Daily Calcs'!J689/1000000","v":0},{"$f":"'Daily Calcs'!K689/1000000","v":0},0]
[0.1,{"$f":"'Daily Calcs'!J690/1000000","v":2.581961094278312E-7},{"$f":"'Daily Calcs'!K690/1000000","v":2.5819612337724496E-7},2.581961094278312E-7]
[0.1,{"$f":"'Daily Calcs'!J691/1000000","v":1.5154113452773139E-7},{"$f":"'Daily Calcs'!K691/1000000","v":1.5154113932894085E-7},1.5154113452773139E-7]
[0.1,{"$f":"'Daily Calcs'!J692/1000000","v":0},{"$f":"'Daily Calcs'!K692/1000000","v":0},0]
[0.1,{"$f":"'Daily Calcs'!J693/1000000","v":0},{"$f":"'Daily Calcs'!K693/1000000","v":0},0]
[0.1,{"$f":"'Daily Calcs'!J694/1000000","v":0},{"$f":"'Daily Calcs'!K694/1000000","v":0},0]
[0.1,{"$f":"'Daily Calcs'!J695/1000000","v":0},{"$f":"'Daily Calcs'!K695/1000000","v":0},0]
[0.1,{"$f":"'Daily Calcs'!J696/1000000","v":0},{"$f":"'Daily Calcs'!K696/1000000","v":0},0]
[0.1,{"$f":"'Daily Calcs'!J697/1000000","v":0},{"$f":"'Daily Calcs'!K697/1000000","v":0},0]
[0.1,{"$f":"'Daily Calcs'!J698/1000000","v":0},{"$f":"'Daily Calcs'!K698/1000000","v":0},0]
[0.1,{"$f":"'Daily Calcs'!J699/1000000","v":0},{"$f":"'Daily Calcs'!K699/1000000","v":0},0]
[0.1,{"$f":"'Daily Calcs'!J700/1000000","v":0},{"$f":"'Daily Calcs'!K700/1000000","v":0},0]
[0.1,{"$f":"'Daily Calcs'!J701/1000000","v":0},{"$f":"'Daily Calcs'!K701/1000000","v":0},0]
[0.1,{"$f":"'Daily Calcs'!J702/1000000","v":0},{"$f":"'Daily Calcs'!K702/1000000","v":0},0]
[0.1,{"$f":"'Daily Calcs'!J703/1000000","v":0},{"$f":"'Daily Calcs'!K703/1000000","v":0},0]
[0.1,{"$f":"'Daily Calcs'!J704/1000000","v":0},{"$f":"'Daily Calcs'!K704/1000000","v":0},0]
[0.1,{"$f":"'Daily Calcs'!J705/1000000","v":9.7210488781611727E-8},{"$f":"'Daily Calcs'!K705/1000000","v":9.7210489250178297E-8},9.7210488781611727E-8]
[0.1,{"$f":"'Daily Calcs'!J706/1000000","v":0},{"$f":"'Daily Calcs'!K706/1000000","v":0},0]
[0.1,{"$f":"'Daily Calcs'!J707/1000000","v":0},{"$f":"'Daily Calcs'!K707/1000000","v":0},{"$f":"B711","v":0}]
[0.1,{"$f":"'Daily Calcs'!J708/1000000","v":0},{"$f":"'Daily Calcs'!K708/1000000","v":0},0]
[0.1,{"$f":"'Daily Calcs'!J709/1000000","v":0},{"$f":"'Daily Calcs'!K709/1000000","v":0},0]
[0.1,{"$f":"'Daily Calcs'!J710/1000000","v":0},{"$f":"'Daily Calcs'!K710/1000000","v":0},0]
[0.1,{"$f":"'Daily Calcs'!J711/1000000","v":0},{"$f":"'Daily Calcs'!K711/1000000","v":0},0]
[0.1,{"$f":"'Daily Calcs'!J712/1000000","v":0},{"$f":"'Daily Calcs'!K712/1000000","v":0},0]
[0.1,{"$f":"'Daily Calcs'!J713/1000000","v":0},{"$f":"'Daily Calcs'!K713/1000000","v":0},0]
[0.1,{"$f":"'Daily Calcs'!J714/1000000","v":0},{"$f":"'Daily Calcs'!K714/1000000","v":0},0]
[0.1,{"$f":"'Daily Calcs'!J715/1000000","v":0},{"$f":"'Daily Calcs'!K715/1000000","v":0},0]
[0.1,{"$f":"'Daily Calcs'!J716/1000000","v":0},{"$f":"'Daily Calcs'!K716/1000000","v":0},0]
[0.1,{"$f":"'Daily Calcs'!J717/1000000","v":0},{"$f":"'Daily Calcs'!K717/1000000","v":0},0]
[0.1,{"$f":"'Daily Calcs'!J718/1000000","v":0},{"$f":"'Daily Calcs'!K718/1000000","v":0},0]
[0.1,{"$f":"'Daily Calcs'!J719/1000000","v":0},{"$f":"'Daily Calcs'!K719/1000000","v":0},0]
[0.1,{"$f":"'Daily Calcs'!J720/1000000","v":0},{"$f":"'Daily Calcs'!K720/1000000","v":0},0]
[0.1,{"$f":"'Daily Calcs'!J721/1000000","v":0},{"$f":"'Daily Calcs'!K721/1000000","v":0},0]
[0.1,{"$f":"'Daily Calcs'!J722/1000000","v":0},{"$f":"'Daily Calcs'!K722/1000000","v":0},0]
[0.1,{"$f":"'Daily Calcs'!J723/1000000","v":0},{"$f":"'Daily Calcs'!K723/1000000","v":0},0]
[0.1,{"$f":"'Daily Calcs'!J724/1000000","v":5.3767521102764656E-8},{"$f":"'Daily Calcs'!K724/1000000","v":5.3767521225207153E-8},5.3767521102764656E-8]
[0.1,{"$f":"'Daily Calcs'!J725/1000000","v":3.4259374999999993E-8},{"$f":"'Daily Calcs'!K725/1000000","v":3.4259375086077076E-8},3.4259374999999993E-8]
[0.1,{"$f":"'Daily Calcs'!J726/1000000","v":0},{"$f":"'Daily Calcs'!K726/1000000","v":0},0]
[0.1,{"$f":"'Daily Calcs'!J727/1000000","v":0},{"$f":"'Daily Calcs'!K727/1000000","v":0},0]
[0.1,{"$f":"'Daily Calcs'!J728/1000000","v":0},{"$f":"'Daily Calcs'!K728/1000000","v":0},0]
[0.1,{"$f":"'Daily Calcs'!J729/1000000","v":2.1702367531003382E-8},{"$f":"'Daily Calcs'!K729/1000000","v":2.1702367562579854E-8},2.1702367531003382E-8]
[0.1,{"$f":"'Daily Calcs'!J730/1000000","v":0},{"$f":"'Daily Calcs'!K730/1000000","v":0},0]
[0.1,{"$f":"'Daily Calcs'!J731/1000000","v":0},{"$f":"'Daily Calcs'!K731/1000000","v":0},0]
[0.1,{"$f":"'Daily Calcs'!J732/1000000","v":0},{"$f":"'Daily Calcs'!K732/1000000","v":0},0]
[0.1,{"$f":"'Daily Calcs'!J733/1000000","v":0},{"$f":"'Daily Calcs'!K733/1000000","v":0},0]
[0.1,{"$f":"'Daily Calcs'!J734/1000000","v":0},{"$f":"'Daily Calcs'!K734/1000000","v":0},0]
[0.1,{"$f":"'Daily Calcs'!J735/1000000","v":0},{"$f":"'Daily Calcs'!K735/1000000","v":0},0]
[0.1,{"$f":"'Daily Calcs'!J736/1000000","v":0},{"$f":"'Daily Calcs'!K736/1000000","v":0},0]
[0.1,{"$f":"'Daily Calcs'!J737/1000000","v":0},{"$f":"'Daily Calcs'!K737/1000000","v":0},0]
[0.1,{"$f":"'Daily Calcs'!J738/1000000","v":0},{"$f":"'Daily Calcs'!K738/1000000","v":0},0]
[0.1,{"$f":"'Daily Calcs'!J739/1000000","v":0},{"$f":"'Daily Calcs'!K739/1000000","v":0},0]
[0.1,{"$f":"'Daily Calcs'!J740/1000000","v":0},{"$f":"'Daily Calcs'!K740/1000000","v":0},0]
[0.1,{"$f":"'Daily Calcs'!J741/1000000","v":0},{"$f":"'Daily Calcs'!K741/1000000","v":0},0]
[0.1,{"$f":"'Daily Calcs'!J742/1000000","v":9.1533495123403087E-9},{"$f":"'Daily Calcs'!K742/1000000","v":9.153349518060352E-9},9.1533495123403087E-9]
[0.1,{"$f":"'Daily Calcs'!J743/1000000","v":0},{"$f":"'Daily Calcs'!K743/1000000","v":0},0]
[0.1,{"$f":"'Daily Calcs'!J744/1000000","v":0},{"$f":"'Daily Calcs'!K744/1000000","v":0},0]
[0.1,{"$f":"'Daily Calcs'!J745/1000000","v":0},{"$f":"'Daily Calcs'!K745/1000000","v":0},0]
[0.1,{"$f":"'Daily Calcs'!J746/1000000","v":0},{"$f":"'Daily Calcs'!K746/1000000","v":0},0]
[0.1,{"$f":"'Daily Calcs'!J747/1000000","v":0},{"$f":"'Daily Calcs'!K747/1000000","v":0},0]
[0.1,{"$f":"'Daily Calcs'!J748/1000000","v":0},{"$f":"'Daily Calcs'!K748/1000000","v":0},0]
[0.1,{"$f":"'Daily Calcs'!J749/1000000","v":3.40562300869715E-9},{"$f":"'Daily Calcs'!K749/1000000","v":3.4056230098479287E-9},3.40562300869715E-9]
[0.1,{"$f":"'Daily Calcs'!J750/1000000","v":1.9522184300341294E-9},{"$f":"'Daily Calcs'!K750/1000000","v":1.9522184304293087E-9},1.9522184300341294E-9]
[0.1,{"$f":"'Daily Calcs'!J751/1000000","v":1.1406270206358885E-9},{"$f":"'Daily Calcs'!K751/1000000","v":1.1406270207826675E-9},1.1406270206358885E-9]
[0.1,{"$f":"'Daily Calcs'!J752/1000000","v":0},{"$f":"'Daily Calcs'!K752/1000000","v":0},0]
[0.1,{"$f":"'Daily Calcs'!J753/1000000","v":0},{"$f":"'Daily Calcs'!K753/1000000","v":0},0]
[0.1,{"$f":"'Daily Calcs'!J754/1000000","v":0},{"$f":"'Daily Calcs'!K754/1000000","v":0},0]
[0.1,{"$f":"'Daily Calcs'!J755/1000000","v":0},{"$f":"'Daily Calcs'!K755/1000000","v":0},0]
[0.1,{"$f":"'Daily Calcs'!J756/1000000","v":0},{"$f":"'Daily Calcs'!K756/1000000","v":0},0]
[0.1,{"$f":"'Daily Calcs'!J757/1000000","v":0},{"$f":"'Daily Calcs'!K757/1000000","v":0},0]
[0.1,{"$f":"'Daily Calcs'!J758/1000000","v":0},{"$f":"'Daily Calcs'!K758/1000000","v":0},0]
[0.1,{"$f":"'Daily Calcs'!J759/1000000","v":0},{"$f":"'Daily Calcs'!K759/1000000","v":0},0]
[0.1,{"$f":"'Daily Calcs'!J760/1000000","v":0},{"$f":"'Daily Calcs'!K760/1000000","v":0},0]
[0.1,{"$f":"'Daily Calcs'!J761/1000000","v":4.6224276767074261E-10},{"$f":"'Daily Calcs'!K761/1000000","v":4.6224276768959742E-10},4.6224276767074261E-10]
[0.1,{"$f":"'Daily Calcs'!J762/1000000","v":0},{"$f":"'Daily Calcs'!K762/1000000","v":0},0]
[0.1,{"$f":"'Daily Calcs'!J763/1000000","v":3.4206630189893795E-10},{"$f":"'Daily Calcs'!K763/1000000","v":3.4206630190652237E-10},3.4206630189893795E-10]
[0.1,{"$f":"'Daily Calcs'!J764/1000000","v":2.1069814777121921E-10},{"$f":"'Daily Calcs'!K764/1000000","v":2.1069814777644779E-10},2.1069814777121921E-10]
[0.1,{"$f":"'Daily Calcs'!J765/1000000","v":1.5782747603833866E-10},{"$f":"'Daily Calcs'!K765/1000000","v":1.5782747604027742E-10},1.5782747603833866E-10]
[0.1,{"$f":"'Daily Calcs'!J766/1000000","v":0},{"$f":"'Daily Calcs'!K766/1000000","v":0},0]
[0.1,{"$f":"'Daily Calcs'!J767/1000000","v":0},{"$f":"'Daily Calcs'!K767/1000000","v":0},0]
[0.1,{"$f":"'Daily Calcs'!J768/1000000","v":0},{"$f":"'Daily Calcs'!K768/1000000","v":0},0]
[0.1,{"$f":"'Daily Calcs'!J769/1000000","v":0},{"$f":"'Daily Calcs'!K769/1000000","v":0},0]
[0.1,{"$f":"'Daily Calcs'!J770/1000000","v":0},{"$f":"'Daily Calcs'!K770/1000000","v":0},0]
[0.1,{"$f":"'Daily Calcs'!J771/1000000","v":0},{"$f":"'Daily Calcs'!K771/1000000","v":0},{"$f":"B775","v":0}]
[0.1,{"$f":"'Daily Calcs'!J772/1000000","v":0},{"$f":"'Daily Calcs'!K772/1000000","v":0},0]
[0.1,{"$f":"'Daily Calcs'!J773/1000000","v":5.9068551236749127E-11},{"$f":"'Daily Calcs'!K773/1000000","v":5.9068551237344684E-11},5.9068551236749127E-11]
[0.1,{"$f":"'Daily Calcs'!J774/1000000","v":0},{"$f":"'Daily Calcs'!K774/1000000","v":0},0]
[0.1,{"$f":"'Daily Calcs'!J775/1000000","v":0},{"$f":"'Daily Calcs'!K775/1000000","v":0},0]
[0.1,{"$f":"'Daily Calcs'!J776/1000000","v":0},{"$f":"'Daily Calcs'!K776/1000000","v":0},0]
[0.1,{"$f":"'Daily Calcs'!J777/1000000","v":0},{"$f":"'Daily Calcs'!K777/1000000","v":0},0]
[0.1,{"$f":"'Daily Calcs'!J778/1000000","v":0},{"$f":"'Daily Calcs'!K778/1000000","v":0},0]
[0.1,{"$f":"'Daily Calcs'!J779/1000000","v":0},{"$f":"'Daily Calcs'!K779/1000000","v":0},0]
[0.1,{"$f":"'Daily Calcs'!J780/1000000","v":0},{"$f":"'Daily Calcs'!K780/1000000","v":0},0]
[0.1,{"$f":"'Daily Calcs'!J781/1000000","v":2.1351530537992597E-11},{"$f":"'Daily Calcs'!K781/1000000","v":2.1351530538101378E-11},2.1351530537992597E-11]
[0.1,{"$f":"'Daily Calcs'!J782/1000000","v":0},{"$f":"'Daily Calcs'!K782/1000000","v":0},0]
[0.1,{"$f":"'Daily Calcs'!J783/1000000","v":0},{"$f":"'Daily Calcs'!K783/1000000","v":0},0]
[0.1,{"$f":"'Daily Calcs'!J784/1000000","v":0},{"$f":"'Daily Calcs'!K784/1000000","v":0},0]
[0.1,{"$f":"'Daily Calcs'!J785/1000000","v":0},{"$f":"'Daily Calcs'!K785/1000000","v":0},0]
[0.1,{"$f":"'Daily Calcs'!J786/1000000","v":0},{"$f":"'Daily Calcs'!K786/1000000","v":0},0]
[0.1,{"$f":"'Daily Calcs'!J787/1000000","v":0},{"$f":"'Daily Calcs'!K787/1000000","v":0},0]
[0.1,{"$f":"'Daily Calcs'!J788/1000000","v":0},{"$f":"'Daily Calcs'!K788/1000000","v":0},0]
[0.1,{"$f":"'Daily Calcs'!J789/1000000","v":0},{"$f":"'Daily Calcs'!K789/1000000","v":0},0]
[0.1,{"$f":"'Daily Calcs'!J790/1000000","v":0},{"$f":"'Daily Calcs'!K790/1000000","v":0},0]
[0.1,{"$f":"'Daily Calcs'!J791/1000000","v":0},{"$f":"'Daily Calcs'!K791/1000000","v":0},0]
[0.1,{"$f":"'Daily Calcs'!J792/1000000","v":0},{"$f":"'Daily Calcs'!K792/1000000","v":0},0]
[0.1,{"$f":"'Daily Calcs'!J793/1000000","v":0},{"$f":"'Daily Calcs'!K793/1000000","v":0},0]
[0.1,{"$f":"'Daily Calcs'!J794/1000000","v":0},{"$f":"'Daily Calcs'!K794/1000000","v":0},0]
[0.1,{"$f":"'Daily Calcs'!J795/1000000","v":5.5441409527360869E-12},{"$f":"'Daily Calcs'!K795/1000000","v":5.5441409527457553E-12},5.5441409527360869E-12]
[0.1,{"$f":"'Daily Calcs'!J796/1000000","v":3.791684615498878E-12},{"$f":"'Daily Calcs'!K796/1000000","v":3.7916846155023959E-12},3.791684615498878E-12]
[0.1,{"$f":"'Daily Calcs'!J797/1000000","v":0},{"$f":"'Daily Calcs'!K797/1000000","v":0},0]
[0.1,{"$f":"'Daily Calcs'!J798/1000000","v":0},{"$f":"'Daily Calcs'!K798/1000000","v":0},0]
[0.1,{"$f":"'Daily Calcs'!J799/1000000","v":0},{"$f":"'Daily Calcs'!K799/1000000","v":0},0]
[0.1,{"$f":"'Daily Calcs'!J800/1000000","v":0},{"$f":"'Daily Calcs'!K800/1000000","v":0},0]
[0.1,{"$f":"'Daily Calcs'!J801/1000000","v":0},{"$f":"'Daily Calcs'!K801/1000000","v":0},0]
[0.1,{"$f":"'Daily Calcs'!J802/1000000","v":1.2613311248305977E-12},{"$f":"'Daily Calcs'!K802/1000000","v":1.2613311248317153E-12},1.2613311248305977E-12]
[0.1,{"$f":"'Daily Calcs'!J803/1000000","v":0},{"$f":"'Daily Calcs'!K803/1000000","v":0},0]
[0.1,{"$f":"'Daily Calcs'!J804/1000000","v":0},{"$f":"'Daily Calcs'!K804/1000000","v":0},0]
[0.1,{"$f":"'Daily Calcs'!J805/1000000","v":0},{"$f":"'Daily Calcs'!K805/1000000","v":0},0]
[0.1,{"$f":"'Daily Calcs'!J806/1000000","v":0},{"$f":"'Daily Calcs'!K806/1000000","v":0},0]
[0.1,{"$f":"'Daily Calcs'!J807/1000000","v":6.9613793103448271E-13},{"$f":"'Daily Calcs'!K807/1000000","v":6.961379310347407E-13},6.9613793103448271E-13]
[0.1,{"$f":"'Daily Calcs'!J808/1000000","v":0},{"$f":"'Daily Calcs'!K808/1000000","v":0},0]
[0.1,{"$f":"'Daily Calcs'!J809/1000000","v":0},{"$f":"'Daily Calcs'!K809/1000000","v":0},0]
[0.1,{"$f":"'Daily Calcs'!J810/1000000","v":0},{"$f":"'Daily Calcs'!K810/1000000","v":0},0]
[0.1,{"$f":"'Daily Calcs'!J811/1000000","v":0},{"$f":"'Daily Calcs'!K811/1000000","v":0},0]
[0.1,{"$f":"'Daily Calcs'!J812/1000000","v":0},{"$f":"'Daily Calcs'!K812/1000000","v":0},0]
[0.1,{"$f":"'Daily Calcs'!J813/1000000","v":0},{"$f":"'Daily Calcs'!K813/1000000","v":0},0]
[0.1,{"$f":"'Daily Calcs'!J814/1000000","v":0},{"$f":"'Daily Calcs'!K814/1000000","v":0},0]
[0.1,{"$f":"'Daily Calcs'!J815/1000000","v":0},{"$f":"'Daily Calcs'!K815/1000000","v":0},0]
[0.1,{"$f":"'Daily Calcs'!J816/1000000","v":1.9891168468269725E-13},{"$f":"'Daily Calcs'!K816/1000000","v":1.9891168468274077E-13},1.9891168468269725E-13]
[0.1,{"$f":"'Daily Calcs'!J817/1000000","v":0},{"$f":"'Daily Calcs'!K817/1000000","v":0},0]
[0.1,{"$f":"'Daily Calcs'!J818/1000000","v":0},{"$f":"'Daily Calcs'!K818/1000000","v":0},0]
[0.1,{"$f":"'Daily Calcs'!J819/1000000","v":0},{"$f":"'Daily Calcs'!K819/1000000","v":0},0]
[0.1,{"$f":"'Daily Calcs'!J820/1000000","v":0},{"$f":"'Daily Calcs'!K820/1000000","v":0},0]
[0.1,{"$f":"'Daily Calcs'!J821/1000000","v":0},{"$f":"'Daily Calcs'!K821/1000000","v":0},0]
[0.1,{"$f":"'Daily Calcs'!J822/1000000","v":0},{"$f":"'Daily Calcs'!K822/1000000","v":0},0]
[0.1,{"$f":"'Daily Calcs'!J823/1000000","v":0},{"$f":"'Daily Calcs'!K823/1000000","v":0},0]
[0.1,{"$f":"'Daily Calcs'!J824/1000000","v":0},{"$f":"'Daily Calcs'!K824/1000000","v":0},0]
[0.1,{"$f":"'Daily Calcs'!J825/1000000","v":0},{"$f":"'Daily Calcs'!K825/1000000","v":0},0]
[0.1,{"$f":"'Daily Calcs'!J826/1000000","v":0},{"$f":"'Daily Calcs'!K826/1000000","v":0},0]
[0.1,{"$f":"'Daily Calcs'!J827/1000000","v":8.5422108105715164E-14},{"$f":"'Daily Calcs'!K827/1000000","v":8.5422108105723558E-14},8.5422108105715164E-14]
[0.1,{"$f":"'Daily Calcs'!J828/1000000","v":0},{"$f":"'Daily Calcs'!K828/1000000","v":0},0]
[0.1,{"$f":"'Daily Calcs'!J829/1000000","v":0},{"$f":"'Daily Calcs'!K829/1000000","v":0},0]
[0.1,{"$f":"'Daily Calcs'!J830/1000000","v":0},{"$f":"'Daily Calcs'!K830/1000000","v":0},0]
[0.1,{"$f":"'Daily Calcs'!J831/1000000","v":0},{"$f":"'Daily Calcs'!K831/1000000","v":0},0]
[0.1,{"$f":"'Daily Calcs'!J832/1000000","v":0},{"$f":"'Daily Calcs'!K832/1000000","v":0},0]
[0.1,{"$f":"'Daily Calcs'!J833/1000000","v":0},{"$f":"'Daily Calcs'!K833/1000000","v":0},0]
[0.1,{"$f":"'Daily Calcs'!J834/1000000","v":0},{"$f":"'Daily Calcs'!K834/1000000","v":0},0]
[0.1,{"$f":"'Daily Calcs'!J835/1000000","v":0},{"$f":"'Daily Calcs'!K835/1000000","v":0},{"$f":"B839","v":0}]
[0.1,{"$f":"'Daily Calcs'!J836/1000000","v":0},{"$f":"'Daily Calcs'!K836/1000000","v":0},0]
[0.1,{"$f":"'Daily Calcs'!J837/1000000","v":0},{"$f":"'Daily Calcs'!K837/1000000","v":0},0]
[0.1,{"$f":"'Daily Calcs'!J838/1000000","v":0},{"$f":"'Daily Calcs'!K838/1000000","v":0},0]
[0.1,{"$f":"'Daily Calcs'!J839/1000000","v":0},{"$f":"'Daily Calcs'!K839/1000000","v":0},0]
[0.1,{"$f":"'Daily Calcs'!J840/1000000","v":0},{"$f":"'Daily Calcs'!K840/1000000","v":0},0]
[0.1,{"$f":"'Daily Calcs'!J841/1000000","v":0},{"$f":"'Daily Calcs'!K841/1000000","v":0},0]
[0.1,{"$f":"'Daily Calcs'!J842/1000000","v":0},{"$f":"'Daily Calcs'!K842/1000000","v":0},0]
[0.1,{"$f":"'Daily Calcs'!J843/1000000","v":0},{"$f":"'Daily Calcs'!K843/1000000","v":0},0]
[0.1,{"$f":"'Daily Calcs'!J844/1000000","v":0},{"$f":"'Daily Calcs'!K844/1000000","v":0},0]
[0.1,{"$f":"'Daily Calcs'!J845/1000000","v":0},{"$f":"'Daily Calcs'!K845/1000000","v":0},0]
[0.1,{"$f":"'Daily Calcs'!J846/1000000","v":0},{"$f":"'Daily Calcs'!K846/1000000","v":0},0]
[0.1,{"$f":"'Daily Calcs'!J847/1000000","v":0},{"$f":"'Daily Calcs'!K847/1000000","v":0},0]
[0.1,{"$f":"'Daily Calcs'!J848/1000000","v":0},{"$f":"'Daily Calcs'!K848/1000000","v":0},0]
[0.1,{"$f":"'Daily Calcs'!J849/1000000","v":1.4568944503128302E-14},{"$f":"'Daily Calcs'!K849/1000000","v":1.4568944503129079E-14},1.4568944503128302E-14]
[0.1,{"$f":"'Daily Calcs'!J850/1000000","v":5.8932399105722913E-15},{"$f":"'Daily Calcs'!K850/1000000","v":5.8932399105725548E-15},5.8932399105722913E-15]
[0.1,{"$f":"'Daily Calcs'!J851/1000000","v":2.702756295855642E-15},{"$f":"'Daily Calcs'!K851/1000000","v":2.702756295855722E-15},2.702756295855642E-15]
[0.1,{"$f":"'Daily Calcs'!J852/1000000","v":0},{"$f":"'Daily Calcs'!K852/1000000","v":0},0]
[0.1,{"$f":"'Daily Calcs'!J853/1000000","v":0},{"$f":"'Daily Calcs'!K853/1000000","v":0},0]
[0.1,{"$f":"'Daily Calcs'!J854/1000000","v":0},{"$f":"'Daily Calcs'!K854/1000000","v":0},0]
[0.1,{"$f":"'Daily Calcs'!J855/1000000","v":0},{"$f":"'Daily Calcs'!K855/1000000","v":0},0]
[0.1,{"$f":"'Daily Calcs'!J856/1000000","v":0},{"$f":"'Daily Calcs'!K856/1000000","v":0},0]
[0.1,{"$f":"'Daily Calcs'!J857/1000000","v":0},{"$f":"'Daily Calcs'!K857/1000000","v":0},0]
[0.1,{"$f":"'Daily Calcs'!J858/1000000","v":0},{"$f":"'Daily Calcs'!K858/1000000","v":0},0]
[0.1,{"$f":"'Daily Calcs'!J859/1000000","v":0},{"$f":"'Daily Calcs'!K859/1000000","v":0},0]
[0.1,{"$f":"'Daily Calcs'!J860/1000000","v":0},{"$f":"'Daily Calcs'!K860/1000000","v":0},0]
[0.1,{"$f":"'Daily Calcs'!J861/1000000","v":0},{"$f":"'Daily Calcs'!K861/1000000","v":0},0]
[0.1,{"$f":"'Daily Calcs'!J862/1000000","v":0},{"$f":"'Daily Calcs'!K862/1000000","v":0},0]
[0.1,{"$f":"'Daily Calcs'!J863/1000000","v":0},{"$f":"'Daily Calcs'!K863/1000000","v":0},0]
[0.1,{"$f":"'Daily Calcs'!J864/1000000","v":0},{"$f":"'Daily Calcs'!K864/1000000","v":0},0]
[0.1,{"$f":"'Daily Calcs'!J865/1000000","v":7.7279152469236851E-16},{"$f":"'Daily Calcs'!K865/1000000","v":7.7279152469237787E-16},7.7279152469236851E-16]
[0.1,{"$f":"'Daily Calcs'!J866/1000000","v":0},{"$f":"'Daily Calcs'!K866/1000000","v":0},0]
[0.1,{"$f":"'Daily Calcs'!J867/1000000","v":0},{"$f":"'Daily Calcs'!K867/1000000","v":0},0]
[0.1,{"$f":"'Daily Calcs'!J868/1000000","v":0},{"$f":"'Daily Calcs'!K868/1000000","v":0},0]
[0.1,{"$f":"'Daily Calcs'!J869/1000000","v":0},{"$f":"'Daily Calcs'!K869/1000000","v":0},0]
[0.1,{"$f":"'Daily Calcs'!J870/1000000","v":0},{"$f":"'Daily Calcs'!K870/1000000","v":0},0]
[0.1,{"$f":"'Daily Calcs'!J871/1000000","v":4.1105769230769227E-16},{"$f":"'Daily Calcs'!K871/1000000","v":4.1105769230769394E-16},4.1105769230769227E-16]
[0.1,{"$f":"'Daily Calcs'!J872/1000000","v":0},{"$f":"'Daily Calcs'!K872/1000000","v":0},0]
[0.1,{"$f":"'Daily Calcs'!J873/1000000","v":0},{"$f":"'Daily Calcs'!K873/1000000","v":0},0]
[0.1,{"$f":"'Daily Calcs'!J874/1000000","v":0},{"$f":"'Daily Calcs'!K874/1000000","v":0},0]
[0.1,{"$f":"'Daily Calcs'!J875/1000000","v":0},{"$f":"'Daily Calcs'!K875/1000000","v":0},0]
[0.1,{"$f":"'Daily Calcs'!J876/1000000","v":0},{"$f":"'Daily Calcs'!K876/1000000","v":0},0]
[0.1,{"$f":"'Daily Calcs'!J877/1000000","v":1.9914111654848698E-16},{"$f":"'Daily Calcs'!K877/1000000","v":1.9914111654848753E-16},1.9914111654848698E-16]
[0.1,{"$f":"'Daily Calcs'!J878/1000000","v":9.7053464848903689E-17},{"$f":"'Daily Calcs'!K878/1000000","v":9.7053464848904084E-17},9.7053464848903689E-17]
[0.1,{"$f":"'Daily Calcs'!J879/1000000","v":4.535635347595813E-17},{"$f":"'Daily Calcs'!K879/1000000","v":4.5356353475958266E-17},4.535635347595813E-17]
[0.1,{"$f":"'Daily Calcs'!J880/1000000","v":0},{"$f":"'Daily Calcs'!K880/1000000","v":0},0]
[0.1,{"$f":"'Daily Calcs'!J881/1000000","v":0},{"$f":"'Daily Calcs'!K881/1000000","v":0},0]
[0.1,{"$f":"'Daily Calcs'!J882/1000000","v":0},{"$f":"'Daily Calcs'!K882/1000000","v":0},0]
[0.1,{"$f":"'Daily Calcs'!J883/1000000","v":0},{"$f":"'Daily Calcs'!K883/1000000","v":0},0]
[0.1,{"$f":"'Daily Calcs'!J884/1000000","v":0},{"$f":"'Daily Calcs'!K884/1000000","v":0},0]
[0.1,{"$f":"'Daily Calcs'!J885/1000000","v":0},{"$f":"'Daily Calcs'!K885/1000000","v":0},0]
[0.1,{"$f":"'Daily Calcs'!J886/1000000","v":0},{"$f":"'Daily Calcs'!K886/1000000","v":0},0]
[0.1,{"$f":"'Daily Calcs'!J887/1000000","v":0},{"$f":"'Daily Calcs'!K887/1000000","v":0},0]
[0.1,{"$f":"'Daily Calcs'!J888/1000000","v":0},{"$f":"'Daily Calcs'!K888/1000000","v":0},0]
[0.1,{"$f":"'Daily Calcs'!J889/1000000","v":0},{"$f":"'Daily Calcs'!K889/1000000","v":0},0]
[0.1,{"$f":"'Daily Calcs'!J890/1000000","v":0},{"$f":"'Daily Calcs'!K890/1000000","v":0},0]
[0.1,{"$f":"'Daily Calcs'!J891/1000000","v":0},{"$f":"'Daily Calcs'!K891/1000000","v":0},0]
[0.1,{"$f":"'Daily Calcs'!J892/1000000","v":0},{"$f":"'Daily Calcs'!K892/1000000","v":0},0]
[0.1,{"$f":"'Daily Calcs'!J893/1000000","v":0},{"$f":"'Daily Calcs'!K893/1000000","v":0},0]
[0.1,{"$f":"'Daily Calcs'!J894/1000000","v":0},{"$f":"'Daily Calcs'!K894/1000000","v":0},0]
[0.1,{"$f":"'Daily Calcs'!J895/1000000","v":0},{"$f":"'Daily Calcs'!K895/1000000","v":0},0]
[0.1,{"$f":"'Daily Calcs'!J896/1000000","v":0},{"$f":"'Daily Calcs'!K896/1000000","v":0},0]
[0.1,{"$f":"'Daily Calcs'!J897/1000000","v":0},{"$f":"'Daily Calcs'!K897/1000000","v":0},0]
[0.1,{"$f":"'Daily Calcs'!J898/1000000","v":1.3319673285452754E-17},{"$f":"'Daily Calcs'!K898/1000000","v":1.3319673285452763E-17},1.3319673285452754E-17]
[0.1,{"$f":"'Daily Calcs'!J899/1000000","v":6.3692168518997153E-18},{"$f":"'Daily Calcs'!K899/1000000","v":6.3692168518997199E-18},{"$f":"B903","v":6.3692168518997153E-18}]
[0.1,{"$f":"'Daily Calcs'!J900/1000000","v":3.5198704372741995E-18},{"$f":"'Daily Calcs'!K900/1000000","v":3.519870437274201E-18},3.5198704372741995E-18]
[0.1,{"$f":"'Daily Calcs'!J901/1000000","v":2.3713867689509275E-18},{"$f":"'Daily Calcs'!K901/1000000","v":2.3713867689509279E-18},2.3713867689509275E-18]
[0.1,{"$f":"'Daily Calcs'!J902/1000000","v":1.2569085636187873E-18},{"$f":"'Daily Calcs'!K902/1000000","v":1.2569085636187877E-18},1.2569085636187873E-18]
[0.1,{"$f":"'Daily Calcs'!J903/1000000","v":6.4394745768659422E-19},{"$f":"'Daily Calcs'!K903/1000000","v":6.4394745768659431E-19},6.4394745768659422E-19]
[0.1,{"$f":"'Daily Calcs'!J904/1000000","v":3.0084186718602756E-19},{"$f":"'Daily Calcs'!K904/1000000","v":3.0084186718602756E-19},3.0084186718602756E-19]
[0.1,{"$f":"'Daily Calcs'!J905/1000000","v":0},{"$f":"'Daily Calcs'!K905/1000000","v":0},0]
[0.1,{"$f":"'Daily Calcs'!J906/1000000","v":0},{"$f":"'Daily Calcs'!K906/1000000","v":0},0]
[0.1,{"$f":"'Daily Calcs'!J907/1000000","v":1.525869307160022E-19},{"$f":"'Daily Calcs'!K907/1000000","v":1.525869307160022E-19},1.525869307160022E-19]
[0.1,{"$f":"'Daily Calcs'!J908/1000000","v":7.722432773867532E-20},{"$f":"'Daily Calcs'!K908/1000000","v":7.7224327738675344E-20},7.722432773867532E-20]
[0.1,{"$f":"'Daily Calcs'!J909/1000000","v":0},{"$f":"'Daily Calcs'!K909/1000000","v":0},0]
[0.1,{"$f":"'Daily Calcs'!J910/1000000","v":6.0058094500387293E-20},{"$f":"'Daily Calcs'!K910/1000000","v":6.0058094500387293E-20},6.0058094500387293E-20]
[0.1,{"$f":"'Daily Calcs'!J911/1000000","v":0},{"$f":"'Daily Calcs'!K911/1000000","v":0},0]
[0.1,{"$f":"'Daily Calcs'!J912/1000000","v":0},{"$f":"'Daily Calcs'!K912/1000000","v":0},0]
[0.1,{"$f":"'Daily Calcs'!J913/1000000","v":3.4111813164840435E-20},{"$f":"'Daily Calcs'!K913/1000000","v":3.4111813164840435E-20},3.4111813164840435E-20]
[0.1,{"$f":"'Daily Calcs'!J914/1000000","v":0},{"$f":"'Daily Calcs'!K914/1000000","v":0},0]
[0.1,{"$f":"'Daily Calcs'!J915/1000000","v":0},{"$f":"'Daily Calcs'!K915/1000000","v":0},0]
[0.1,{"$f":"'Daily Calcs'!J916/1000000","v":0},{"$f":"'Daily Calcs'!K916/1000000","v":0},0]
[0.1,{"$f":"'Daily Calcs'!J917/1000000","v":0},{"$f":"'Daily Calcs'!K917/1000000","v":0},0]
[0.1,{"$f":"'Daily Calcs'!J918/1000000","v":1.0554732161761594E-20},{"$f":"'Daily Calcs'!K918/1000000","v":1.0554732161761594E-20},1.0554732161761594E-20]
[0.1,{"$f":"'Daily Calcs'!J919/1000000","v":6.0894442617560019E-21},{"$f":"'Daily Calcs'!K919/1000000","v":6.0894442617560019E-21},6.0894442617560019E-21]
[0.1,{"$f":"'Daily Calcs'!J920/1000000","v":0},{"$f":"'Daily Calcs'!K920/1000000","v":0},0]
[0.1,{"$f":"'Daily Calcs'!J921/1000000","v":0},{"$f":"'Daily Calcs'!K921/1000000","v":0},0]
[0.1,{"$f":"'Daily Calcs'!J922/1000000","v":0},{"$f":"'Daily Calcs'!K922/1000000","v":0},0]
[0.1,{"$f":"'Daily Calcs'!J923/1000000","v":0},{"$f":"'Daily Calcs'!K923/1000000","v":0},0]
[0.1,{"$f":"'Daily Calcs'!J924/1000000","v":0},{"$f":"'Daily Calcs'!K924/1000000","v":0},0]
[0.1,{"$f":"'Daily Calcs'!J925/1000000","v":0},{"$f":"'Daily Calcs'!K925/1000000","v":0},0]
[0.1,{"$f":"'Daily Calcs'!J926/1000000","v":0},{"$f":"'Daily Calcs'!K926/1000000","v":0},0]
[0.1,{"$f":"'Daily Calcs'!J927/1000000","v":0},{"$f":"'Daily Calcs'!K927/1000000","v":0},0]
[0.1,{"$f":"'Daily Calcs'!J928/1000000","v":0},{"$f":"'Daily Calcs'!K928/1000000","v":0},0]
[0.1,{"$f":"'Daily Calcs'!J929/1000000","v":1.2843100503977676E-5},{"$f":"'Daily Calcs'!K929/1000000","v":1.2979195301761839E-5},1.2843100503977676E-5]
[0.1,{"$f":"'Daily Calcs'!J930/1000000","v":1.0274242600854092E-5},{"$f":"'Daily Calcs'!K930/1000000","v":1.0335973677796734E-5},1.0274242600854092E-5]
[0.1,{"$f":"'Daily Calcs'!J931/1000000","v":0},{"$f":"'Daily Calcs'!K931/1000000","v":0},0]
[0.1,{"$f":"'Daily Calcs'!J932/1000000","v":8.0019723354008244E-6},{"$f":"'Daily Calcs'!K932/1000000","v":8.0210598707601287E-6},8.0019723354008244E-6]
[0.1,{"$f":"'Daily Calcs'!J933/1000000","v":0},{"$f":"'Daily Calcs'!K933/1000000","v":0},0]
[0.1,{"$f":"'Daily Calcs'!J934/1000000","v":0},{"$f":"'Daily Calcs'!K934/1000000","v":0},0]
[0.1,{"$f":"'Daily Calcs'!J935/1000000","v":0},{"$f":"'Daily Calcs'!K935/1000000","v":0},0]
[0.1,{"$f":"'Daily Calcs'!J936/1000000","v":4.8003181153813082E-6},{"$f":"'Daily Calcs'!K936/1000000","v":4.803814375376151E-6},4.8003181153813082E-6]
[0.1,{"$f":"'Daily Calcs'!J937/1000000","v":0},{"$f":"'Daily Calcs'!K937/1000000","v":0},0]
[0.1,{"$f":"'Daily Calcs'!J938/1000000","v":0},{"$f":"'Daily Calcs'!K938/1000000","v":0},0]
[0.1,{"$f":"'Daily Calcs'!J939/1000000","v":0},{"$f":"'Daily Calcs'!K939/1000000","v":0},0]
[0.1,{"$f":"'Daily Calcs'!J940/1000000","v":0},{"$f":"'Daily Calcs'!K940/1000000","v":0},0]
[0.1,{"$f":"'Daily Calcs'!J941/1000000","v":2.0472032538527557E-5},{"$f":"'Daily Calcs'!K941/1000000","v":2.0612022836673008E-5},2.0472032538527557E-5]
[0.1,{"$f":"'Daily Calcs'!J942/1000000","v":0},{"$f":"'Daily Calcs'!K942/1000000","v":0},0]
[0.1,{"$f":"'Daily Calcs'!J943/1000000","v":0},{"$f":"'Daily Calcs'!K943/1000000","v":0},0]
[0.1,{"$f":"'Daily Calcs'!J944/1000000","v":0},{"$f":"'Daily Calcs'!K944/1000000","v":0},0]
[0.1,{"$f":"'Daily Calcs'!J945/1000000","v":0},{"$f":"'Daily Calcs'!K945/1000000","v":0},0]
[0.1,{"$f":"'Daily Calcs'!J946/1000000","v":0},{"$f":"'Daily Calcs'!K946/1000000","v":0},0]
[0.1,{"$f":"'Daily Calcs'!J947/1000000","v":0},{"$f":"'Daily Calcs'!K947/1000000","v":0},0]
[0.1,{"$f":"'Daily Calcs'!J948/1000000","v":0},{"$f":"'Daily Calcs'!K948/1000000","v":0},0]
[0.1,{"$f":"'Daily Calcs'!J949/1000000","v":0},{"$f":"'Daily Calcs'!K949/1000000","v":0},0]
[0.1,{"$f":"'Daily Calcs'!J950/1000000","v":0},{"$f":"'Daily Calcs'!K950/1000000","v":0},0]
[0.1,{"$f":"'Daily Calcs'!J951/1000000","v":0},{"$f":"'Daily Calcs'!K951/1000000","v":0},0]
[0.1,{"$f":"'Daily Calcs'!J952/1000000","v":0},{"$f":"'Daily Calcs'!K952/1000000","v":0},0]
[0.1,{"$f":"'Daily Calcs'!J953/1000000","v":0},{"$f":"'Daily Calcs'!K953/1000000","v":0},0]
[0.1,{"$f":"'Daily Calcs'!J954/1000000","v":0},{"$f":"'Daily Calcs'!K954/1000000","v":0},0]
[0.1,{"$f":"'Daily Calcs'!J955/1000000","v":0},{"$f":"'Daily Calcs'!K955/1000000","v":0},0]
[0.1,{"$f":"'Daily Calcs'!J956/1000000","v":0},{"$f":"'Daily Calcs'!K956/1000000","v":0},0]
[0.1,{"$f":"'Daily Calcs'!J957/1000000","v":0},{"$f":"'Daily Calcs'!K957/1000000","v":0},0]
[0.1,{"$f":"'Daily Calcs'!J958/1000000","v":0},{"$f":"'Daily Calcs'!K958/1000000","v":0},0]
[0.1,{"$f":"'Daily Calcs'!J959/1000000","v":0},{"$f":"'Daily Calcs'!K959/1000000","v":0},0]
[0.1,{"$f":"'Daily Calcs'!J960/1000000","v":0},{"$f":"'Daily Calcs'!K960/1000000","v":0},0]
[0.1,{"$f":"'Daily Calcs'!J961/1000000","v":0},{"$f":"'Daily Calcs'!K961/1000000","v":0},0]
[0.1,{"$f":"'Daily Calcs'!J962/1000000","v":0},{"$f":"'Daily Calcs'!K962/1000000","v":0},0]
[0.1,{"$f":"'Daily Calcs'!J963/1000000","v":0},{"$f":"'Daily Calcs'!K963/1000000","v":0},{"$f":"B967","v":0}]
[0.1,{"$f":"'Daily Calcs'!J964/1000000","v":0},{"$f":"'Daily Calcs'!K964/1000000","v":0},0]
[0.1,{"$f":"'Daily Calcs'!J965/1000000","v":0},{"$f":"'Daily Calcs'!K965/1000000","v":0},0]
[0.1,{"$f":"'Daily Calcs'!J966/1000000","v":0},{"$f":"'Daily Calcs'!K966/1000000","v":0},0]
[0.1,{"$f":"'Daily Calcs'!J967/1000000","v":0},{"$f":"'Daily Calcs'!K967/1000000","v":0},0]
[0.1,{"$f":"'Daily Calcs'!J968/1000000","v":0},{"$f":"'Daily Calcs'!K968/1000000","v":0},0]
[0.1,{"$f":"'Daily Calcs'!J969/1000000","v":0},{"$f":"'Daily Calcs'!K969/1000000","v":0},0]
[0.1,{"$f":"'Daily Calcs'!J970/1000000","v":0},{"$f":"'Daily Calcs'!K970/1000000","v":0},0]
[0.1,{"$f":"'Daily Calcs'!J971/1000000","v":0},{"$f":"'Daily Calcs'!K971/1000000","v":0},0]
[0.1,{"$f":"'Daily Calcs'!J972/1000000","v":0},{"$f":"'Daily Calcs'!K972/1000000","v":0},0]
[0.1,{"$f":"'Daily Calcs'!J973/1000000","v":0},{"$f":"'Daily Calcs'!K973/1000000","v":0},0]
[0.1,{"$f":"'Daily Calcs'!J974/1000000","v":0},{"$f":"'Daily Calcs'!K974/1000000","v":0},0]
[0.1,{"$f":"'Daily Calcs'!J975/1000000","v":0},{"$f":"'Daily Calcs'!K975/1000000","v":0},0]
[0.1,{"$f":"'Daily Calcs'!J976/1000000","v":0},{"$f":"'Daily Calcs'!K976/1000000","v":0},0]
[0.1,{"$f":"'Daily Calcs'!J977/1000000","v":0},{"$f":"'Daily Calcs'!K977/1000000","v":0},0]
[0.1,{"$f":"'Daily Calcs'!J978/1000000","v":7.8977492458813535E-6},{"$f":"'Daily Calcs'!K978/1000000","v":7.9039329414494533E-6},7.8977492458813535E-6]
[0.1,{"$f":"'Daily Calcs'!J979/1000000","v":0},{"$f":"'Daily Calcs'!K979/1000000","v":0},0]
[0.1,{"$f":"'Daily Calcs'!J980/1000000","v":0},{"$f":"'Daily Calcs'!K980/1000000","v":0},0]
[0.1,{"$f":"'Daily Calcs'!J981/1000000","v":0},{"$f":"'Daily Calcs'!K981/1000000","v":0},0]
[0.1,{"$f":"'Daily Calcs'!J982/1000000","v":0},{"$f":"'Daily Calcs'!K982/1000000","v":0},0]
[0.1,{"$f":"'Daily Calcs'!J983/1000000","v":0},{"$f":"'Daily Calcs'!K983/1000000","v":0},0]
[0.1,{"$f":"'Daily Calcs'!J984/1000000","v":0},{"$f":"'Daily Calcs'!K984/1000000","v":0},0]
[0.1,{"$f":"'Daily Calcs'!J985/1000000","v":0},{"$f":"'Daily Calcs'!K985/1000000","v":0},0]
[0.1,{"$f":"'Daily Calcs'!J986/1000000","v":0},{"$f":"'Daily Calcs'!K986/1000000","v":0},0]
[0.1,{"$f":"'Daily Calcs'!J987/1000000","v":0},{"$f":"'Daily Calcs'!K987/1000000","v":0},0]
[0.1,{"$f":"'Daily Calcs'!J988/1000000","v":0},{"$f":"'Daily Calcs'!K988/1000000","v":0},0]
[0.1,{"$f":"'Daily Calcs'!J989/1000000","v":0},{"$f":"'Daily Calcs'!K989/1000000","v":0},0]
[0.1,{"$f":"'Daily Calcs'!J990/1000000","v":0},{"$f":"'Daily Calcs'!K990/1000000","v":0},0]
[0.1,{"$f":"'Daily Calcs'!J991/1000000","v":0},{"$f":"'Daily Calcs'!K991/1000000","v":0},0]
[0.1,{"$f":"'Daily Calcs'!J992/1000000","v":0},{"$f":"'Daily Calcs'!K992/1000000","v":0},0]
[0.1,{"$f":"'Daily Calcs'!J993/1000000","v":0},{"$f":"'Daily Calcs'!K993/1000000","v":0},0]
[0.1,{"$f":"'Daily Calcs'!J994/1000000","v":0},{"$f":"'Daily Calcs'!K994/1000000","v":0},0]
[0.1,{"$f":"'Daily Calcs'!J995/1000000","v":0},{"$f":"'Daily Calcs'!K995/1000000","v":0},0]
[0.1,{"$f":"'Daily Calcs'!J996/1000000","v":0},{"$f":"'Daily Calcs'!K996/1000000","v":0},0]
[0.1,{"$f":"'Daily Calcs'!J997/1000000","v":0},{"$f":"'Daily Calcs'!K997/1000000","v":0},0]
[0.1,{"$f":"'Daily Calcs'!J998/1000000","v":0},{"$f":"'Daily Calcs'!K998/1000000","v":0},0]
[0.1,{"$f":"'Daily Calcs'!J999/1000000","v":0},{"$f":"'Daily Calcs'!K999/1000000","v":0},0]
[0.1,{"$f":"'Daily Calcs'!J1000/1000000","v":0},{"$f":"'Daily Calcs'!K1000/1000000","v":0},0]
[0.1,{"$f":"'Daily Calcs'!J1001/1000000","v":0},{"$f":"'Daily Calcs'!K1001/1000000","v":0},0]
[0.1,{"$f":"'Daily Calcs'!J1002/1000000","v":3.1436258750028505E-6},{"$f":"'Daily Calcs'!K1002/1000000","v":3.1439548304717606E-6},3.1436258750028505E-6]
[0.1,{"$f":"'Daily Calcs'!J1003/1000000","v":0},{"$f":"'Daily Calcs'!K1003/1000000","v":0},0]
[0.1,{"$f":"'Daily Calcs'!J1004/1000000","v":0},{"$f":"'Daily Calcs'!K1004/1000000","v":0},0]
[0.1,{"$f":"'Daily Calcs'!J1005/1000000","v":0},{"$f":"'Daily Calcs'!K1005/1000000","v":0},0]
[0.1,{"$f":"'Daily Calcs'!J1006/1000000","v":0},{"$f":"'Daily Calcs'!K1006/1000000","v":0},0]
[0.1,{"$f":"'Daily Calcs'!J1007/1000000","v":0},{"$f":"'Daily Calcs'!K1007/1000000","v":0},0]
[0.1,{"$f":"'Daily Calcs'!J1008/1000000","v":0},{"$f":"'Daily Calcs'!K1008/1000000","v":0},0]
[0.1,{"$f":"'Daily Calcs'!J1009/1000000","v":0},{"$f":"'Daily Calcs'!K1009/1000000","v":0},0]
[0.1,{"$f":"'Daily Calcs'!J1010/1000000","v":0},{"$f":"'Daily Calcs'!K1010/1000000","v":0},0]
[0.1,{"$f":"'Daily Calcs'!J1011/1000000","v":0},{"$f":"'Daily Calcs'!K1011/1000000","v":0},0]
[0.1,{"$f":"'Daily Calcs'!J1012/1000000","v":0},{"$f":"'Daily Calcs'!K1012/1000000","v":0},0]
[0.1,{"$f":"'Daily Calcs'!J1013/1000000","v":0},{"$f":"'Daily Calcs'!K1013/1000000","v":0},0]
[0.1,{"$f":"'Daily Calcs'!J1014/1000000","v":0},{"$f":"'Daily Calcs'!K1014/1000000","v":0},0]
[0.1,{"$f":"'Daily Calcs'!J1015/1000000","v":0},{"$f":"'Daily Calcs'!K1015/1000000","v":0},0]
[0.1,{"$f":"'Daily Calcs'!J1016/1000000","v":0},{"$f":"'Daily Calcs'!K1016/1000000","v":0},0]
[0.1,{"$f":"'Daily Calcs'!J1017/1000000","v":0},{"$f":"'Daily Calcs'!K1017/1000000","v":0},0]
[0.1,{"$f":"'Daily Calcs'!J1018/1000000","v":0},{"$f":"'Daily Calcs'!K1018/1000000","v":0},0]
[0.1,{"$f":"'Daily Calcs'!J1019/1000000","v":0},{"$f":"'Daily Calcs'!K1019/1000000","v":0},0]
[0.1,{"$f":"'Daily Calcs'!J1020/1000000","v":0},{"$f":"'Daily Calcs'!K1020/1000000","v":0},0]
[0.1,{"$f":"'Daily Calcs'!J1021/1000000","v":0},{"$f":"'Daily Calcs'!K1021/1000000","v":0},0]
[0.1,{"$f":"'Daily Calcs'!J1022/1000000","v":0},{"$f":"'Daily Calcs'!K1022/1000000","v":0},0]
[0.1,{"$f":"'Daily Calcs'!J1023/1000000","v":0},{"$f":"'Daily Calcs'!K1023/1000000","v":0},0]
[0.1,{"$f":"'Daily Calcs'!J1024/1000000","v":0},{"$f":"'Daily Calcs'!K1024/1000000","v":0},0]
[0.1,{"$f":"'Daily Calcs'!J1025/1000000","v":0},{"$f":"'Daily Calcs'!K1025/1000000","v":0},0]
[0.1,{"$f":"'Daily Calcs'!J1026/1000000","v":0},{"$f":"'Daily Calcs'!K1026/1000000","v":0},0]
[0.1,{"$f":"'Daily Calcs'!J1027/1000000","v":0},{"$f":"'Daily Calcs'!K1027/1000000","v":0},{"$f":"B1031","v":0}]
[0.1,{"$f":"'Daily Calcs'!J1028/1000000","v":0},{"$f":"'Daily Calcs'!K1028/1000000","v":0},0]
[0.1,{"$f":"'Daily Calcs'!J1029/1000000","v":0},{"$f":"'Daily Calcs'!K1029/1000000","v":0},0]
[0.1,{"$f":"'Daily Calcs'!J1030/1000000","v":0},{"$f":"'Daily Calcs'!K1030/1000000","v":0},0]
[0.1,{"$f":"'Daily Calcs'!J1031/1000000","v":0},{"$f":"'Daily Calcs'!K1031/1000000","v":0},0]
[0.1,{"$f":"'Daily Calcs'!J1032/1000000","v":0},{"$f":"'Daily Calcs'!K1032/1000000","v":0},0]
[0.1,{"$f":"'Daily Calcs'!J1033/1000000","v":0},{"$f":"'Daily Calcs'!K1033/1000000","v":0},0]
[0.1,{"$f":"'Daily Calcs'!J1034/1000000","v":0},{"$f":"'Daily Calcs'!K1034/1000000","v":0},0]
[0.1,{"$f":"'Daily Calcs'!J1035/1000000","v":0},{"$f":"'Daily Calcs'!K1035/1000000","v":0},0]
[0.1,{"$f":"'Daily Calcs'!J1036/1000000","v":2.3845956749000718E-6},{"$f":"'Daily Calcs'!K1036/1000000","v":2.384636259096034E-6},2.3845956749000718E-6]
[0.1,{"$f":"'Daily Calcs'!J1037/1000000","v":0},{"$f":"'Daily Calcs'!K1037/1000000","v":0},0]
[0.1,{"$f":"'Daily Calcs'!J1038/1000000","v":0},{"$f":"'Daily Calcs'!K1038/1000000","v":0},0]
[0.1,{"$f":"'Daily Calcs'!J1039/1000000","v":0},{"$f":"'Daily Calcs'!K1039/1000000","v":0},0]
[0.1,{"$f":"'Daily Calcs'!J1040/1000000","v":1.8120698046304665E-6},{"$f":"'Daily Calcs'!K1040/1000000","v":1.8120978210387264E-6},1.8120698046304665E-6]
[0.1,{"$f":"'Daily Calcs'!J1041/1000000","v":0},{"$f":"'Daily Calcs'!K1041/1000000","v":0},0]
[0.1,{"$f":"'Daily Calcs'!J1042/1000000","v":0},{"$f":"'Daily Calcs'!K1042/1000000","v":0},0]
[0.1,{"$f":"'Daily Calcs'!J1043/1000000","v":0},{"$f":"'Daily Calcs'!K1043/1000000","v":0},0]
[0.1,{"$f":"'Daily Calcs'!J1044/1000000","v":0},{"$f":"'Daily Calcs'!K1044/1000000","v":0},0]
[0.1,{"$f":"'Daily Calcs'!J1045/1000000","v":0},{"$f":"'Daily Calcs'!K1045/1000000","v":0},0]
[0.1,{"$f":"'Daily Calcs'!J1046/1000000","v":0},{"$f":"'Daily Calcs'!K1046/1000000","v":0},0]
[0.1,{"$f":"'Daily Calcs'!J1047/1000000","v":0},{"$f":"'Daily Calcs'!K1047/1000000","v":0},0]
[0.1,{"$f":"'Daily Calcs'!J1048/1000000","v":0},{"$f":"'Daily Calcs'!K1048/1000000","v":0},0]
[0.1,{"$f":"'Daily Calcs'!J1049/1000000","v":0},{"$f":"'Daily Calcs'!K1049/1000000","v":0},0]
[0.1,{"$f":"'Daily Calcs'!J1050/1000000","v":0},{"$f":"'Daily Calcs'!K1050/1000000","v":0},0]
[0.1,{"$f":"'Daily Calcs'!J1051/1000000","v":0},{"$f":"'Daily Calcs'!K1051/1000000","v":0},0]
[0.1,{"$f":"'Daily Calcs'!J1052/1000000","v":0},{"$f":"'Daily Calcs'!K1052/1000000","v":0},0]
[0.1,{"$f":"'Daily Calcs'!J1053/1000000","v":0},{"$f":"'Daily Calcs'!K1053/1000000","v":0},0]
[0.1,{"$f":"'Daily Calcs'!J1054/1000000","v":0},{"$f":"'Daily Calcs'!K1054/1000000","v":0},0]
[0.1,{"$f":"'Daily Calcs'!J1055/1000000","v":0},{"$f":"'Daily Calcs'!K1055/1000000","v":0},0]
[0.1,{"$f":"'Daily Calcs'!J1056/1000000","v":0},{"$f":"'Daily Calcs'!K1056/1000000","v":0},0]
[0.1,{"$f":"'Daily Calcs'!J1057/1000000","v":0},{"$f":"'Daily Calcs'!K1057/1000000","v":0},0]
[0.1,{"$f":"'Daily Calcs'!J1058/1000000","v":1.2836773745618344E-6},{"$f":"'Daily Calcs'!K1058/1000000","v":1.2836838976851305E-6},1.2836773745618344E-6]
[0.1,{"$f":"'Daily Calcs'!J1059/1000000","v":0},{"$f":"'Daily Calcs'!K1059/1000000","v":0},0]
[0.1,{"$f":"'Daily Calcs'!J1060/1000000","v":0},{"$f":"'Daily Calcs'!K1060/1000000","v":0},0]
[0.1,{"$f":"'Daily Calcs'!J1061/1000000","v":9.3406218698719173E-7},{"$f":"'Daily Calcs'!K1061/1000000","v":9.3406624363318649E-7},9.3406218698719173E-7]
[0.1,{"$f":"'Daily Calcs'!J1062/1000000","v":0},{"$f":"'Daily Calcs'!K1062/1000000","v":0},0]
[0.1,{"$f":"'Daily Calcs'!J1063/1000000","v":6.4021346186951293E-7},{"$f":"'Daily Calcs'!K1063/1000000","v":6.4021499133528432E-7},6.4021346186951293E-7]
[0.1,{"$f":"'Daily Calcs'!J1064/1000000","v":4.747887007102227E-7},{"$f":"'Daily Calcs'!K1064/1000000","v":4.7478928947199275E-7},4.747887007102227E-7]
[0.1,{"$f":"'Daily Calcs'!J1065/1000000","v":0},{"$f":"'Daily Calcs'!K1065/1000000","v":0},0]
[0.1,{"$f":"'Daily Calcs'!J1066/1000000","v":0},{"$f":"'Daily Calcs'!K1066/1000000","v":0},0]
[0.1,{"$f":"'Daily Calcs'!J1067/1000000","v":3.5664930193790371E-7},{"$f":"'Daily Calcs'!K1067/1000000","v":3.5664953573661184E-7},3.5664930193790371E-7]
[0.1,{"$f":"'Daily Calcs'!J1068/1000000","v":0},{"$f":"'Daily Calcs'!K1068/1000000","v":0},0]
[0.1,{"$f":"'Daily Calcs'!J1069/1000000","v":0},{"$f":"'Daily Calcs'!K1069/1000000","v":0},0]
[0.1,{"$f":"'Daily Calcs'!J1070/1000000","v":0},{"$f":"'Daily Calcs'!K1070/1000000","v":0},0]
[0.1,{"$f":"'Daily Calcs'!J1071/1000000","v":0},{"$f":"'Daily Calcs'!K1071/1000000","v":0},0]
[0.1,{"$f":"'Daily Calcs'!J1072/1000000","v":0},{"$f":"'Daily Calcs'!K1072/1000000","v":0},0]
[0.1,{"$f":"'Daily Calcs'!J1073/1000000","v":3.051400716679482E-7},{"$f":"'Daily Calcs'!K1073/1000000","v":3.0514015234226522E-7},3.051400716679482E-7]
[0.1,{"$f":"'Daily Calcs'!J1074/1000000","v":0},{"$f":"'Daily Calcs'!K1074/1000000","v":0},0]
[0.1,{"$f":"'Daily Calcs'!J1075/1000000","v":0},{"$f":"'Daily Calcs'!K1075/1000000","v":0},0]
[0.1,{"$f":"'Daily Calcs'!J1076/1000000","v":1.7470672162333546E-7},{"$f":"'Daily Calcs'!K1076/1000000","v":1.7470676316317904E-7},1.7470672162333546E-7]
[0.1,{"$f":"'Daily Calcs'!J1077/1000000","v":1.4368120668569102E-7},{"$f":"'Daily Calcs'!K1077/1000000","v":1.4368122023259501E-7},1.4368120668569102E-7]
[0.1,{"$f":"'Daily Calcs'!J1078/1000000","v":9.5732808140489076E-8},{"$f":"'Daily Calcs'!K1078/1000000","v":9.5732816840636785E-8},9.5732808140489076E-8]
[0.1,{"$f":"'Daily Calcs'!J1079/1000000","v":7.7091924751499213E-8},{"$f":"'Daily Calcs'!K1079/1000000","v":7.7091927952353566E-8},7.7091924751499213E-8]
[0.1,{"$f":"'Daily Calcs'!J1080/1000000","v":0},{"$f":"'Daily Calcs'!K1080/1000000","v":0},0]
[0.1,{"$f":"'Daily Calcs'!J1081/1000000","v":0},{"$f":"'Daily Calcs'!K1081/1000000","v":0},0]
[0.1,{"$f":"'Daily Calcs'!J1082/1000000","v":0},{"$f":"'Daily Calcs'!K1082/1000000","v":0},0]
[0.1,{"$f":"'Daily Calcs'!J1083/1000000","v":0},{"$f":"'Daily Calcs'!K1083/1000000","v":0},0]
[0.1,{"$f":"'Daily Calcs'!J1084/1000000","v":0},{"$f":"'Daily Calcs'!K1084/1000000","v":0},0]
[0.1,{"$f":"'Daily Calcs'!J1085/1000000","v":0},{"$f":"'Daily Calcs'!K1085/1000000","v":0},0]
[0.1,{"$f":"'Daily Calcs'!J1086/1000000","v":0},{"$f":"'Daily Calcs'!K1086/1000000","v":0},0]
[0.1,{"$f":"'Daily Calcs'!J1087/1000000","v":0},{"$f":"'Daily Calcs'!K1087/1000000","v":0},0]
[0.1,{"$f":"'Daily Calcs'!J1088/1000000","v":5.856438991401797E-8},{"$f":"'Daily Calcs'!K1088/1000000","v":5.85643911520626E-8},5.856438991401797E-8]
[0.1,{"$f":"'Daily Calcs'!J1089/1000000","v":0},{"$f":"'Daily Calcs'!K1089/1000000","v":0},0]
[0.1,{"$f":"'Daily Calcs'!J1090/1000000","v":0},{"$f":"'Daily Calcs'!K1090/1000000","v":0},0]
[0.1,{"$f":"'Daily Calcs'!J1091/1000000","v":0},{"$f":"'Daily Calcs'!K1091/1000000","v":0},{"$f":"B1095","v":0}]
[0.1,{"$f":"'Daily Calcs'!J1092/1000000","v":0},{"$f":"'Daily Calcs'!K1092/1000000","v":0},0]
[0.1,{"$f":"'Daily Calcs'!J1093/1000000","v":0},{"$f":"'Daily Calcs'!K1093/1000000","v":0},0]
[0.1,{"$f":"'Daily Calcs'!J1094/1000000","v":0},{"$f":"'Daily Calcs'!K1094/1000000","v":0},0]
[0.1,{"$f":"'Daily Calcs'!J1095/1000000","v":0},{"$f":"'Daily Calcs'!K1095/1000000","v":0},0]
[0.1,{"$f":"'Daily Calcs'!J1096/1000000","v":2.9911268855368236E-8},{"$f":"'Daily Calcs'!K1096/1000000","v":2.9911269390417039E-8},2.9911268855368236E-8]
[0.1,{"$f":"'Daily Calcs'!J1097/1000000","v":0},{"$f":"'Daily Calcs'!K1097/1000000","v":0},0]
[0.1,{"$f":"'Daily Calcs'!J1098/1000000","v":0},{"$f":"'Daily Calcs'!K1098/1000000","v":0},0]
[0.1,{"$f":"'Daily Calcs'!J1099/1000000","v":0},{"$f":"'Daily Calcs'!K1099/1000000","v":0},0]
[0.1,{"$f":"'Daily Calcs'!J1100/1000000","v":0},{"$f":"'Daily Calcs'!K1100/1000000","v":0},0]
[0.1,{"$f":"'Daily Calcs'!J1101/1000000","v":0},{"$f":"'Daily Calcs'!K1101/1000000","v":0},0]
[0.1,{"$f":"'Daily Calcs'!J1102/1000000","v":1.8558687760498364E-8},{"$f":"'Daily Calcs'!K1102/1000000","v":1.8558687913328552E-8},1.8558687760498364E-8]
[0.1,{"$f":"'Daily Calcs'!J1103/1000000","v":0},{"$f":"'Daily Calcs'!K1103/1000000","v":0},0]
[0.1,{"$f":"'Daily Calcs'!J1104/1000000","v":1.102535767607538E-8},{"$f":"'Daily Calcs'!K1104/1000000","v":1.1025357740561699E-8},1.102535767607538E-8]
[0.1,{"$f":"'Daily Calcs'!J1105/1000000","v":6.6887849924497622E-9},{"$f":"'Daily Calcs'!K1105/1000000","v":6.6887850156028569E-9},6.6887849924497622E-9]
[0.1,{"$f":"'Daily Calcs'!J1106/1000000","v":0},{"$f":"'Daily Calcs'!K1106/1000000","v":0},0]
[0.1,{"$f":"'Daily Calcs'!J1107/1000000","v":5.5878006180303654E-9},{"$f":"'Daily Calcs'!K1107/1000000","v":5.5878006243761262E-9},5.5878006180303654E-9]
[0.1,{"$f":"'Daily Calcs'!J1108/1000000","v":4.078472222222223E-9},{"$f":"'Daily Calcs'!K1108/1000000","v":4.0784722269064236E-9},4.078472222222223E-9]
[0.1,{"$f":"'Daily Calcs'!J1109/1000000","v":0},{"$f":"'Daily Calcs'!K1109/1000000","v":0},0]
[0.1,{"$f":"'Daily Calcs'!J1110/1000000","v":0},{"$f":"'Daily Calcs'!K1110/1000000","v":0},0]
[0.1,{"$f":"'Daily Calcs'!J1111/1000000","v":0},{"$f":"'Daily Calcs'!K1111/1000000","v":0},0]
[0.1,{"$f":"'Daily Calcs'!J1112/1000000","v":0},{"$f":"'Daily Calcs'!K1112/1000000","v":0},0]
[0.1,{"$f":"'Daily Calcs'!J1113/1000000","v":2.6716729118820254E-9},{"$f":"'Daily Calcs'!K1113/1000000","v":2.6716729136348356E-9},2.6716729118820254E-9]
[0.1,{"$f":"'Daily Calcs'!J1114/1000000","v":0},{"$f":"'Daily Calcs'!K1114/1000000","v":0},0]
[0.1,{"$f":"'Daily Calcs'!J1115/1000000","v":0},{"$f":"'Daily Calcs'!K1115/1000000","v":0},0]
[0.1,{"$f":"'Daily Calcs'!J1116/1000000","v":1.9589684549850332E-9},{"$f":"'Daily Calcs'!K1116/1000000","v":1.958968455882915E-9},1.9589684549850332E-9]
[0.1,{"$f":"'Daily Calcs'!J1117/1000000","v":0},{"$f":"'Daily Calcs'!K1117/1000000","v":0},0]
[0.1,{"$f":"'Daily Calcs'!J1118/1000000","v":0},{"$f":"'Daily Calcs'!K1118/1000000","v":0},0]
[0.1,{"$f":"'Daily Calcs'!J1119/1000000","v":0},{"$f":"'Daily Calcs'!K1119/1000000","v":0},0]
[0.1,{"$f":"'Daily Calcs'!J1120/1000000","v":8.2413145539906118E-10},{"$f":"'Daily Calcs'!K1120/1000000","v":8.2413145574795004E-10},8.2413145539906118E-10]
[0.1,{"$f":"'Daily Calcs'!J1121/1000000","v":4.7535376382644189E-10},{"$f":"'Daily Calcs'!K1121/1000000","v":4.7535376394536461E-10},4.7535376382644189E-10]
[0.1,{"$f":"'Daily Calcs'!J1122/1000000","v":0},{"$f":"'Daily Calcs'!K1122/1000000","v":0},0]
[0.1,{"$f":"'Daily Calcs'!J1123/1000000","v":0},{"$f":"'Daily Calcs'!K1123/1000000","v":0},0]
[0.1,{"$f":"'Daily Calcs'!J1124/1000000","v":0},{"$f":"'Daily Calcs'!K1124/1000000","v":0},0]
[0.1,{"$f":"'Daily Calcs'!J1125/1000000","v":0},{"$f":"'Daily Calcs'!K1125/1000000","v":0},0]
[0.1,{"$f":"'Daily Calcs'!J1126/1000000","v":0},{"$f":"'Daily Calcs'!K1126/1000000","v":0},0]
[0.1,{"$f":"'Daily Calcs'!J1127/1000000","v":0},{"$f":"'Daily Calcs'!K1127/1000000","v":0},0]
[0.1,{"$f":"'Daily Calcs'!J1128/1000000","v":0},{"$f":"'Daily Calcs'!K1128/1000000","v":0},0]
[0.1,{"$f":"'Daily Calcs'!J1129/1000000","v":0},{"$f":"'Daily Calcs'!K1129/1000000","v":0},0]
[0.1,{"$f":"'Daily Calcs'!J1130/1000000","v":0},{"$f":"'Daily Calcs'!K1130/1000000","v":0},0]
[0.1,{"$f":"'Daily Calcs'!J1131/1000000","v":0},{"$f":"'Daily Calcs'!K1131/1000000","v":0},0]
[0.1,{"$f":"'Daily Calcs'!J1132/1000000","v":1.9446567237766545E-10},{"$f":"'Daily Calcs'!K1132/1000000","v":1.9446567239504472E-10},1.9446567237766545E-10]
[0.1,{"$f":"'Daily Calcs'!J1133/1000000","v":0},{"$f":"'Daily Calcs'!K1133/1000000","v":0},0]
[0.1,{"$f":"'Daily Calcs'!J1134/1000000","v":0},{"$f":"'Daily Calcs'!K1134/1000000","v":0},0]
[0.1,{"$f":"'Daily Calcs'!J1135/1000000","v":0},{"$f":"'Daily Calcs'!K1135/1000000","v":0},0]
[0.1,{"$f":"'Daily Calcs'!J1136/1000000","v":0},{"$f":"'Daily Calcs'!K1136/1000000","v":0},0]
[0.1,{"$f":"'Daily Calcs'!J1137/1000000","v":1.2150562579747126E-10},{"$f":"'Daily Calcs'!K1137/1000000","v":1.2150562580191749E-10},1.2150562579747126E-10]
[0.1,{"$f":"'Daily Calcs'!J1138/1000000","v":0},{"$f":"'Daily Calcs'!K1138/1000000","v":0},0]
[0.1,{"$f":"'Daily Calcs'!J1139/1000000","v":0},{"$f":"'Daily Calcs'!K1139/1000000","v":0},0]
[0.1,{"$f":"'Daily Calcs'!J1140/1000000","v":6.7759743563651165E-11},{"$f":"'Daily Calcs'!K1140/1000000","v":6.775974356623158E-11},6.7759743563651165E-11]
[0.1,{"$f":"'Daily Calcs'!J1141/1000000","v":0},{"$f":"'Daily Calcs'!K1141/1000000","v":0},0]
[0.1,{"$f":"'Daily Calcs'!J1142/1000000","v":4.0664703037763224E-11},{"$f":"'Daily Calcs'!K1142/1000000","v":4.066470303874744E-11},4.0664703037763224E-11]
[0.1,{"$f":"'Daily Calcs'!J1143/1000000","v":0},{"$f":"'Daily Calcs'!K1143/1000000","v":0},0]
[0.1,{"$f":"'Daily Calcs'!J1144/1000000","v":0},{"$f":"'Daily Calcs'!K1144/1000000","v":0},0]
[0.1,{"$f":"'Daily Calcs'!J1145/1000000","v":1.8845257433434567E-11},{"$f":"'Daily Calcs'!K1145/1000000","v":1.8845257433776383E-11},1.8845257433434567E-11]
[0.1,{"$f":"'Daily Calcs'!J1146/1000000","v":0},{"$f":"'Daily Calcs'!K1146/1000000","v":0},0]
[0.1,{"$f":"'Daily Calcs'!J1147/1000000","v":0},{"$f":"'Daily Calcs'!K1147/1000000","v":0},0]
[0.1,{"$f":"'Daily Calcs'!J1148/1000000","v":0},{"$f":"'Daily Calcs'!K1148/1000000","v":0},0]
[0.1,{"$f":"'Daily Calcs'!J1149/1000000","v":0},{"$f":"'Daily Calcs'!K1149/1000000","v":0},0]
[0.1,{"$f":"'Daily Calcs'!J1150/1000000","v":0},{"$f":"'Daily Calcs'!K1150/1000000","v":0},0]
[0.1,{"$f":"'Daily Calcs'!J1151/1000000","v":0},{"$f":"'Daily Calcs'!K1151/1000000","v":0},0]
[0.1,{"$f":"'Daily Calcs'!J1152/1000000","v":1.0956661782371654E-11},{"$f":"'Daily Calcs'!K1152/1000000","v":1.0956661782441914E-11},1.0956661782371654E-11]
[0.1,{"$f":"'Daily Calcs'!J1153/1000000","v":0},{"$f":"'Daily Calcs'!K1153/1000000","v":0},0]
[0.1,{"$f":"'Daily Calcs'!J1154/1000000","v":8.735253523538953E-12},{"$f":"'Daily Calcs'!K1154/1000000","v":8.7352535235760873E-12},8.735253523538953E-12]
[0.1,{"$f":"'Daily Calcs'!J1155/1000000","v":0},{"$f":"'Daily Calcs'!K1155/1000000","v":0},{"$f":"B1159","v":0}]
[0.1,{"$f":"'Daily Calcs'!J1156/1000000","v":0},{"$f":"'Daily Calcs'!K1156/1000000","v":0},0]
[0.1,{"$f":"'Daily Calcs'!J1157/1000000","v":0},{"$f":"'Daily Calcs'!K1157/1000000","v":0},0]
[0.1,{"$f":"'Daily Calcs'!J1158/1000000","v":3.0576201571817862E-12},{"$f":"'Daily Calcs'!K1158/1000000","v":3.0576201571967485E-12},3.0576201571817862E-12]
[0.1,{"$f":"'Daily Calcs'!J1159/1000000","v":0},{"$f":"'Daily Calcs'!K1159/1000000","v":0},0]
[0.1,{"$f":"'Daily Calcs'!J1160/1000000","v":1.6806506433600389E-12},{"$f":"'Daily Calcs'!K1160/1000000","v":1.6806506433647853E-12},1.6806506433600389E-12]
[0.1,{"$f":"'Daily Calcs'!J1161/1000000","v":0},{"$f":"'Daily Calcs'!K1161/1000000","v":0},0]
[0.1,{"$f":"'Daily Calcs'!J1162/1000000","v":0},{"$f":"'Daily Calcs'!K1162/1000000","v":0},0]
[0.1,{"$f":"'Daily Calcs'!J1163/1000000","v":0},{"$f":"'Daily Calcs'!K1163/1000000","v":0},0]
[0.1,{"$f":"'Daily Calcs'!J1164/1000000","v":0},{"$f":"'Daily Calcs'!K1164/1000000","v":0},0]
[0.1,{"$f":"'Daily Calcs'!J1165/1000000","v":0},{"$f":"'Daily Calcs'!K1165/1000000","v":0},0]
[0.1,{"$f":"'Daily Calcs'!J1166/1000000","v":1.1696620491999046E-12},{"$f":"'Daily Calcs'!K1166/1000000","v":1.1696620492011104E-12},1.1696620491999046E-12]
[0.1,{"$f":"'Daily Calcs'!J1167/1000000","v":0},{"$f":"'Daily Calcs'!K1167/1000000","v":0},0]
[0.1,{"$f":"'Daily Calcs'!J1168/1000000","v":0},{"$f":"'Daily Calcs'!K1168/1000000","v":0},0]
[0.1,{"$f":"'Daily Calcs'!J1169/1000000","v":0},{"$f":"'Daily Calcs'!K1169/1000000","v":0},0]
[0.1,{"$f":"'Daily Calcs'!J1170/1000000","v":4.0843740292016157E-13},{"$f":"'Daily Calcs'!K1170/1000000","v":4.084374029206313E-13},4.0843740292016157E-13]
[0.1,{"$f":"'Daily Calcs'!J1171/1000000","v":1.8270432114737741E-13},{"$f":"'Daily Calcs'!K1171/1000000","v":1.8270432114753617E-13},1.8270432114737741E-13]
[0.1,{"$f":"'Daily Calcs'!J1172/1000000","v":0},{"$f":"'Daily Calcs'!K1172/1000000","v":0},0]
[0.1,{"$f":"'Daily Calcs'!J1173/1000000","v":0},{"$f":"'Daily Calcs'!K1173/1000000","v":0},0]
[0.1,{"$f":"'Daily Calcs'!J1174/1000000","v":0},{"$f":"'Daily Calcs'!K1174/1000000","v":0},0]
[0.1,{"$f":"'Daily Calcs'!J1175/1000000","v":0},{"$f":"'Daily Calcs'!K1175/1000000","v":0},0]
[0.1,{"$f":"'Daily Calcs'!J1176/1000000","v":0},{"$f":"'Daily Calcs'!K1176/1000000","v":0},0]
[0.1,{"$f":"'Daily Calcs'!J1177/1000000","v":0},{"$f":"'Daily Calcs'!K1177/1000000","v":0},0]
[0.1,{"$f":"'Daily Calcs'!J1178/1000000","v":0},{"$f":"'Daily Calcs'!K1178/1000000","v":0},0]
[0.1,{"$f":"'Daily Calcs'!J1179/1000000","v":0},{"$f":"'Daily Calcs'!K1179/1000000","v":0},0]
[0.1,{"$f":"'Daily Calcs'!J1180/1000000","v":0},{"$f":"'Daily Calcs'!K1180/1000000","v":0},0]
[0.1,{"$f":"'Daily Calcs'!J1181/1000000","v":3.713937423811459E-14},{"$f":"'Daily Calcs'!K1181/1000000","v":3.713937423812523E-14},3.713937423811459E-14]
[0.1,{"$f":"'Daily Calcs'!J1182/1000000","v":1.8396216737448965E-14},{"$f":"'Daily Calcs'!K1182/1000000","v":1.839621673745253E-14},1.8396216737448965E-14]
[0.1,{"$f":"'Daily Calcs'!J1183/1000000","v":0},{"$f":"'Daily Calcs'!K1183/1000000","v":0},0]
[0.1,{"$f":"'Daily Calcs'!J1184/1000000","v":0},{"$f":"'Daily Calcs'!K1184/1000000","v":0},0]
[0.1,{"$f":"'Daily Calcs'!J1185/1000000","v":0},{"$f":"'Daily Calcs'!K1185/1000000","v":0},0]
[0.1,{"$f":"'Daily Calcs'!J1186/1000000","v":0},{"$f":"'Daily Calcs'!K1186/1000000","v":0},0]
[0.1,{"$f":"'Daily Calcs'!J1187/1000000","v":0},{"$f":"'Daily Calcs'!K1187/1000000","v":0},0]
[0.1,{"$f":"'Daily Calcs'!J1188/1000000","v":0},{"$f":"'Daily Calcs'!K1188/1000000","v":0},0]
[0.1,{"$f":"'Daily Calcs'!J1189/1000000","v":0},{"$f":"'Daily Calcs'!K1189/1000000","v":0},0]
[0.1,{"$f":"'Daily Calcs'!J1190/1000000","v":0},{"$f":"'Daily Calcs'!K1190/1000000","v":0},0]
[0.1,{"$f":"'Daily Calcs'!J1191/1000000","v":0},{"$f":"'Daily Calcs'!K1191/1000000","v":0},0]
[0.1,{"$f":"'Daily Calcs'!J1192/1000000","v":0},{"$f":"'Daily Calcs'!K1192/1000000","v":0},0]
[0.1,{"$f":"'Daily Calcs'!J1193/1000000","v":4.2590082343658316E-15},{"$f":"'Daily Calcs'!K1193/1000000","v":4.2590082343662237E-15},4.2590082343658316E-15]
[0.1,{"$f":"'Daily Calcs'!J1194/1000000","v":0},{"$f":"'Daily Calcs'!K1194/1000000","v":0},0]
[0.1,{"$f":"'Daily Calcs'!J1195/1000000","v":0},{"$f":"'Daily Calcs'!K1195/1000000","v":0},0]
[0.1,{"$f":"'Daily Calcs'!J1196/1000000","v":0},{"$f":"'Daily Calcs'!K1196/1000000","v":0},0]
[0.1,{"$f":"'Daily Calcs'!J1197/1000000","v":0},{"$f":"'Daily Calcs'!K1197/1000000","v":0},0]
[0.1,{"$f":"'Daily Calcs'!J1198/1000000","v":0},{"$f":"'Daily Calcs'!K1198/1000000","v":0},0]
[0.1,{"$f":"'Daily Calcs'!J1199/1000000","v":1.7984613172274949E-15},{"$f":"'Daily Calcs'!K1199/1000000","v":1.7984613172275549E-15},1.7984613172274949E-15]
[0.1,{"$f":"'Daily Calcs'!J1200/1000000","v":8.5699211045364892E-16},{"$f":"'Daily Calcs'!K1200/1000000","v":8.5699211045368255E-16},8.5699211045364892E-16]
[0.1,{"$f":"'Daily Calcs'!J1201/1000000","v":0},{"$f":"'Daily Calcs'!K1201/1000000","v":0},0]
[0.1,{"$f":"'Daily Calcs'!J1202/1000000","v":0},{"$f":"'Daily Calcs'!K1202/1000000","v":0},0]
[0.1,{"$f":"'Daily Calcs'!J1203/1000000","v":0},{"$f":"'Daily Calcs'!K1203/1000000","v":0},0]
[0.1,{"$f":"'Daily Calcs'!J1204/1000000","v":0},{"$f":"'Daily Calcs'!K1204/1000000","v":0},0]
[0.1,{"$f":"'Daily Calcs'!J1205/1000000","v":0},{"$f":"'Daily Calcs'!K1205/1000000","v":0},0]
[0.1,{"$f":"'Daily Calcs'!J1206/1000000","v":0},{"$f":"'Daily Calcs'!K1206/1000000","v":0},0]
[0.1,{"$f":"'Daily Calcs'!J1207/1000000","v":0},{"$f":"'Daily Calcs'!K1207/1000000","v":0},0]
[0.1,{"$f":"'Daily Calcs'!J1208/1000000","v":0},{"$f":"'Daily Calcs'!K1208/1000000","v":0},0]
[0.1,{"$f":"'Daily Calcs'!J1209/1000000","v":0},{"$f":"'Daily Calcs'!K1209/1000000","v":0},0]
[0.1,{"$f":"'Daily Calcs'!J1210/1000000","v":0},{"$f":"'Daily Calcs'!K1210/1000000","v":0},0]
[0.1,{"$f":"'Daily Calcs'!J1211/1000000","v":0},{"$f":"'Daily Calcs'!K1211/1000000","v":0},0]
[0.1,{"$f":"'Daily Calcs'!J1212/1000000","v":3.2230688173786173E-16},{"$f":"'Daily Calcs'!K1212/1000000","v":3.2230688173786568E-16},3.2230688173786173E-16]
[0.1,{"$f":"'Daily Calcs'!J1213/1000000","v":1.6912230819427612E-16},{"$f":"'Daily Calcs'!K1213/1000000","v":1.6912230819427885E-16},1.6912230819427612E-16]
[0.1,{"$f":"'Daily Calcs'!J1214/1000000","v":6.7999791019043389E-17},{"$f":"'Daily Calcs'!K1214/1000000","v":6.799979101904424E-17},6.7999791019043389E-17]
[0.1,{"$f":"'Daily Calcs'!J1215/1000000","v":4.9977605140006492E-17},{"$f":"'Daily Calcs'!K1215/1000000","v":4.9977605140006763E-17},4.9977605140006492E-17]
[0.1,{"$f":"'Daily Calcs'!J1216/1000000","v":0},{"$f":"'Daily Calcs'!K1216/1000000","v":0},0]
[0.1,{"$f":"'Daily Calcs'!J1217/1000000","v":0},{"$f":"'Daily Calcs'!K1217/1000000","v":0},0]
[0.1,{"$f":"'Daily Calcs'!J1218/1000000","v":0},{"$f":"'Daily Calcs'!K1218/1000000","v":0},0]
[0.1,{"$f":"'Daily Calcs'!J1219/1000000","v":1.6285533448911639E-17},{"$f":"'Daily Calcs'!K1219/1000000","v":1.6285533448911744E-17},{"$f":"B1223","v":1.6285533448911639E-17}]
[0.1,{"$f":"'Daily Calcs'!J1220/1000000","v":1.0866557002398382E-17},{"$f":"'Daily Calcs'!K1220/1000000","v":1.0866557002398424E-17},1.0866557002398382E-17]
[0.1,{"$f":"'Daily Calcs'!J1221/1000000","v":0},{"$f":"'Daily Calcs'!K1221/1000000","v":0},0]
[0.1,{"$f":"'Daily Calcs'!J1222/1000000","v":0},{"$f":"'Daily Calcs'!K1222/1000000","v":0},0]
[0.1,{"$f":"'Daily Calcs'!J1223/1000000","v":0},{"$f":"'Daily Calcs'!K1223/1000000","v":0},0]
[0.1,{"$f":"'Daily Calcs'!J1224/1000000","v":0},{"$f":"'Daily Calcs'!K1224/1000000","v":0},0]
[0.1,{"$f":"'Daily Calcs'!J1225/1000000","v":0},{"$f":"'Daily Calcs'!K1225/1000000","v":0},0]
[0.1,{"$f":"'Daily Calcs'!J1226/1000000","v":0},{"$f":"'Daily Calcs'!K1226/1000000","v":0},0]
[0.1,{"$f":"'Daily Calcs'!J1227/1000000","v":0},{"$f":"'Daily Calcs'!K1227/1000000","v":0},0]
[0.1,{"$f":"'Daily Calcs'!J1228/1000000","v":0},{"$f":"'Daily Calcs'!K1228/1000000","v":0},0]
[0.1,{"$f":"'Daily Calcs'!J1229/1000000","v":0},{"$f":"'Daily Calcs'!K1229/1000000","v":0},0]
[0.1,{"$f":"'Daily Calcs'!J1230/1000000","v":0},{"$f":"'Daily Calcs'!K1230/1000000","v":0},0]
[0.1,{"$f":"'Daily Calcs'!J1231/1000000","v":0},{"$f":"'Daily Calcs'!K1231/1000000","v":0},0]
[0.1,{"$f":"'Daily Calcs'!J1232/1000000","v":0},{"$f":"'Daily Calcs'!K1232/1000000","v":0},0]
[0.1,{"$f":"'Daily Calcs'!J1233/1000000","v":0},{"$f":"'Daily Calcs'!K1233/1000000","v":0},0]
[0.1,{"$f":"'Daily Calcs'!J1234/1000000","v":0},{"$f":"'Daily Calcs'!K1234/1000000","v":0},0]
[0.1,{"$f":"'Daily Calcs'!J1235/1000000","v":0},{"$f":"'Daily Calcs'!K1235/1000000","v":0},0]
[0.1,{"$f":"'Daily Calcs'!J1236/1000000","v":0},{"$f":"'Daily Calcs'!K1236/1000000","v":0},0]
[0.1,{"$f":"'Daily Calcs'!J1237/1000000","v":0},{"$f":"'Daily Calcs'!K1237/1000000","v":0},0]
[0.1,{"$f":"'Daily Calcs'!J1238/1000000","v":0},{"$f":"'Daily Calcs'!K1238/1000000","v":0},0]
[0.1,{"$f":"'Daily Calcs'!J1239/1000000","v":0},{"$f":"'Daily Calcs'!K1239/1000000","v":0},0]
[0.1,{"$f":"'Daily Calcs'!J1240/1000000","v":0},{"$f":"'Daily Calcs'!K1240/1000000","v":0},0]
[0.1,{"$f":"'Daily Calcs'!J1241/1000000","v":0},{"$f":"'Daily Calcs'!K1241/1000000","v":0},0]
[0.1,{"$f":"'Daily Calcs'!J1242/1000000","v":0},{"$f":"'Daily Calcs'!K1242/1000000","v":0},0]
[0.1,{"$f":"'Daily Calcs'!J1243/1000000","v":0},{"$f":"'Daily Calcs'!K1243/1000000","v":0},0]
[0.1,{"$f":"'Daily Calcs'!J1244/1000000","v":0},{"$f":"'Daily Calcs'!K1244/1000000","v":0},0]
[0.1,{"$f":"'Daily Calcs'!J1245/1000000","v":0},{"$f":"'Daily Calcs'!K1245/1000000","v":0},0]
[0.1,{"$f":"'Daily Calcs'!J1246/1000000","v":0},{"$f":"'Daily Calcs'!K1246/1000000","v":0},0]
[0.1,{"$f":"'Daily Calcs'!J1247/1000000","v":0},{"$f":"'Daily Calcs'!K1247/1000000","v":0},0]
[0.1,{"$f":"'Daily Calcs'!J1248/1000000","v":0},{"$f":"'Daily Calcs'!K1248/1000000","v":0},0]
[0.1,{"$f":"'Daily Calcs'!J1249/1000000","v":4.9548495408643451E-18},{"$f":"'Daily Calcs'!K1249/1000000","v":4.9548495408643512E-18},4.9548495408643451E-18]
[0.1,{"$f":"'Daily Calcs'!J1250/1000000","v":0},{"$f":"'Daily Calcs'!K1250/1000000","v":0},0]
[0.1,{"$f":"'Daily Calcs'!J1251/1000000","v":0},{"$f":"'Daily Calcs'!K1251/1000000","v":0},0]
[0.1,{"$f":"'Daily Calcs'!J1252/1000000","v":0},{"$f":"'Daily Calcs'!K1252/1000000","v":0},0]
[0.1,{"$f":"'Daily Calcs'!J1253/1000000","v":0},{"$f":"'Daily Calcs'!K1253/1000000","v":0},0]
[0.1,{"$f":"'Daily Calcs'!J1254/1000000","v":0},{"$f":"'Daily Calcs'!K1254/1000000","v":0},0]
[0.1,{"$f":"'Daily Calcs'!J1255/1000000","v":0},{"$f":"'Daily Calcs'!K1255/1000000","v":0},0]
[0.1,{"$f":"'Daily Calcs'!J1256/1000000","v":0},{"$f":"'Daily Calcs'!K1256/1000000","v":0},0]
[0.1,{"$f":"'Daily Calcs'!J1257/1000000","v":0},{"$f":"'Daily Calcs'!K1257/1000000","v":0},0]
[0.1,{"$f":"'Daily Calcs'!J1258/1000000","v":0},{"$f":"'Daily Calcs'!K1258/1000000","v":0},0]
[0.1,{"$f":"'Daily Calcs'!J1259/1000000","v":0},{"$f":"'Daily Calcs'!K1259/1000000","v":0},0]
[0.1,{"$f":"'Daily Calcs'!J1260/1000000","v":0},{"$f":"'Daily Calcs'!K1260/1000000","v":0},0]
[0.1,{"$f":"'Daily Calcs'!J1261/1000000","v":0},{"$f":"'Daily Calcs'!K1261/1000000","v":0},0]
[0.1,{"$f":"'Daily Calcs'!J1262/1000000","v":0},{"$f":"'Daily Calcs'!K1262/1000000","v":0},0]
[0.1,{"$f":"'Daily Calcs'!J1263/1000000","v":0},{"$f":"'Daily Calcs'!K1263/1000000","v":0},0]
[0.1,{"$f":"'Daily Calcs'!J1264/1000000","v":0},{"$f":"'Daily Calcs'!K1264/1000000","v":0},0]
[0.1,{"$f":"'Daily Calcs'!J1265/1000000","v":0},{"$f":"'Daily Calcs'!K1265/1000000","v":0},0]
[0.1,{"$f":"'Daily Calcs'!J1266/1000000","v":0},{"$f":"'Daily Calcs'!K1266/1000000","v":0},0]
[0.1,{"$f":"'Daily Calcs'!J1267/1000000","v":0},{"$f":"'Daily Calcs'!K1267/1000000","v":0},0]
[0.1,{"$f":"'Daily Calcs'!J1268/1000000","v":0},{"$f":"'Daily Calcs'!K1268/1000000","v":0},0]
[0.1,{"$f":"'Daily Calcs'!J1269/1000000","v":0},{"$f":"'Daily Calcs'!K1269/1000000","v":0},0]
[0.1,{"$f":"'Daily Calcs'!J1270/1000000","v":0},{"$f":"'Daily Calcs'!K1270/1000000","v":0},0]
[0.1,{"$f":"'Daily Calcs'!J1271/1000000","v":1.2068807015062583E-18},{"$f":"'Daily Calcs'!K1271/1000000","v":1.2068807015062585E-18},1.2068807015062583E-18]
[0.1,{"$f":"'Daily Calcs'!J1272/1000000","v":0},{"$f":"'Daily Calcs'!K1272/1000000","v":0},0]
[0.1,{"$f":"'Daily Calcs'!J1273/1000000","v":6.706296584205953E-19},{"$f":"'Daily Calcs'!K1273/1000000","v":6.7062965842059559E-19},6.706296584205953E-19]
[0.1,{"$f":"'Daily Calcs'!J1274/1000000","v":3.9930678042577626E-19},{"$f":"'Daily Calcs'!K1274/1000000","v":3.9930678042577635E-19},3.9930678042577626E-19]
[0.1,{"$f":"'Daily Calcs'!J1275/1000000","v":0},{"$f":"'Daily Calcs'!K1275/1000000","v":0},0]
[0.1,{"$f":"'Daily Calcs'!J1276/1000000","v":0},{"$f":"'Daily Calcs'!K1276/1000000","v":0},0]
[0.1,{"$f":"'Daily Calcs'!J1277/1000000","v":0},{"$f":"'Daily Calcs'!K1277/1000000","v":0},0]
[0.1,{"$f":"'Daily Calcs'!J1278/1000000","v":0},{"$f":"'Daily Calcs'!K1278/1000000","v":0},0]
[0.1,{"$f":"'Daily Calcs'!J1279/1000000","v":1.4860736231551142E-19},{"$f":"'Daily Calcs'!K1279/1000000","v":1.4860736231551142E-19},1.4860736231551142E-19]
[0.1,{"$f":"'Daily Calcs'!J1280/1000000","v":0},{"$f":"'Daily Calcs'!K1280/1000000","v":0},0]
[0.1,{"$f":"'Daily Calcs'!J1281/1000000","v":0},{"$f":"'Daily Calcs'!K1281/1000000","v":0},0]
[0.1,{"$f":"'Daily Calcs'!J1282/1000000","v":0},{"$f":"'Daily Calcs'!K1282/1000000","v":0},0]
[0.1,{"$f":"'Daily Calcs'!J1283/1000000","v":0},{"$f":"'Daily Calcs'!K1283/1000000","v":0},{"$f":"B1287","v":0}]
[0.1,{"$f":"'Daily Calcs'!J1284/1000000","v":0},{"$f":"'Daily Calcs'!K1284/1000000","v":0},0]
[0.1,{"$f":"'Daily Calcs'!J1285/1000000","v":0},{"$f":"'Daily Calcs'!K1285/1000000","v":0},0]
[0.1,{"$f":"'Daily Calcs'!J1286/1000000","v":0},{"$f":"'Daily Calcs'!K1286/1000000","v":0},0]
[0.1,{"$f":"'Daily Calcs'!J1287/1000000","v":0},{"$f":"'Daily Calcs'!K1287/1000000","v":0},0]
[0.1,{"$f":"'Daily Calcs'!J1288/1000000","v":5.9781114227575219E-20},{"$f":"'Daily Calcs'!K1288/1000000","v":5.9781114227575219E-20},5.9781114227575219E-20]
[0.1,{"$f":"'Daily Calcs'!J1289/1000000","v":3.8455687245710242E-20},{"$f":"'Daily Calcs'!K1289/1000000","v":3.8455687245710242E-20},3.8455687245710242E-20]
[0.1,{"$f":"'Daily Calcs'!J1290/1000000","v":1.8716354268455187E-20},{"$f":"'Daily Calcs'!K1290/1000000","v":1.8716354268455187E-20},1.8716354268455187E-20]
[0.1,{"$f":"'Daily Calcs'!J1291/1000000","v":0},{"$f":"'Daily Calcs'!K1291/1000000","v":0},0]
[0.1,{"$f":"'Daily Calcs'!J1292/1000000","v":0},{"$f":"'Daily Calcs'!K1292/1000000","v":0},0]
[0.1,{"$f":"'Daily Calcs'!J1293/1000000","v":0},{"$f":"'Daily Calcs'!K1293/1000000","v":0},0]
[0.1,{"$f":"'Daily Calcs'!J1294/1000000","v":1.7240336732274128E-5},{"$f":"'Daily Calcs'!K1294/1000000","v":1.7426001897083235E-5},1.7240336732274128E-5]
[0.1,{"$f":"'Daily Calcs'!J1295/1000000","v":0},{"$f":"'Daily Calcs'!K1295/1000000","v":0},0]
[0.1,{"$f":"'Daily Calcs'!J1296/1000000","v":1.2122339867910684E-5},{"$f":"'Daily Calcs'!K1296/1000000","v":1.2216930495859105E-5},1.2122339867910684E-5]
[0.1,{"$f":"'Daily Calcs'!J1297/1000000","v":1.1157587001742846E-5},{"$f":"'Daily Calcs'!K1297/1000000","v":1.1190300219261257E-5},1.1157587001742846E-5]
[0.1,{"$f":"'Daily Calcs'!J1298/1000000","v":9.6243895070741635E-6},{"$f":"'Daily Calcs'!K1298/1000000","v":9.6493721363476147E-6},9.6243895070741635E-6]
[0.1,{"$f":"'Daily Calcs'!J1299/1000000","v":0},{"$f":"'Daily Calcs'!K1299/1000000","v":0},0]
[0.1,{"$f":"'Daily Calcs'!J1300/1000000","v":6.877706011782241E-6},{"$f":"'Daily Calcs'!K1300/1000000","v":6.8863989637305689E-6},6.877706011782241E-6]
[0.1,{"$f":"'Daily Calcs'!J1301/1000000","v":6.355942002173763E-6},{"$f":"'Daily Calcs'!K1301/1000000","v":6.3588729967856079E-6},6.355942002173763E-6]
[0.1,{"$f":"'Daily Calcs'!J1302/1000000","v":5.683890577507598E-6},{"$f":"'Daily Calcs'!K1302/1000000","v":5.6859217941345598E-6},5.683890577507598E-6]
[0.1,{"$f":"'Daily Calcs'!J1303/1000000","v":0},{"$f":"'Daily Calcs'!K1303/1000000","v":0},0]
[0.1,{"$f":"'Daily Calcs'!J1304/1000000","v":0},{"$f":"'Daily Calcs'!K1304/1000000","v":0},0]
[0.1,{"$f":"'Daily Calcs'!J1305/1000000","v":0},{"$f":"'Daily Calcs'!K1305/1000000","v":0},0]
[0.1,{"$f":"'Daily Calcs'!J1306/1000000","v":0},{"$f":"'Daily Calcs'!K1306/1000000","v":0},0]
[0.1,{"$f":"'Daily Calcs'!J1307/1000000","v":0},{"$f":"'Daily Calcs'!K1307/1000000","v":0},0]
[0.1,{"$f":"'Daily Calcs'!J1308/1000000","v":0},{"$f":"'Daily Calcs'!K1308/1000000","v":0},0]
[0.1,{"$f":"'Daily Calcs'!J1309/1000000","v":0},{"$f":"'Daily Calcs'!K1309/1000000","v":0},0]
[0.1,{"$f":"'Daily Calcs'!J1310/1000000","v":0},{"$f":"'Daily Calcs'!K1310/1000000","v":0},0]
[0.1,{"$f":"'Daily Calcs'!J1311/1000000","v":0},{"$f":"'Daily Calcs'!K1311/1000000","v":0},0]
[0.1,{"$f":"'Daily Calcs'!J1312/1000000","v":0},{"$f":"'Daily Calcs'!K1312/1000000","v":0},0]
[0.1,{"$f":"'Daily Calcs'!J1313/1000000","v":1.4573133197594582E-5},{"$f":"'Daily Calcs'!K1313/1000000","v":1.4647003488170209E-5},1.4573133197594582E-5]
[0.1,{"$f":"'Daily Calcs'!J1314/1000000","v":1.2269771474577322E-5},{"$f":"'Daily Calcs'!K1314/1000000","v":1.2308233727627423E-5},1.2269771474577322E-5]
[0.1,{"$f":"'Daily Calcs'!J1315/1000000","v":0},{"$f":"'Daily Calcs'!K1315/1000000","v":0},0]
[0.1,{"$f":"'Daily Calcs'!J1316/1000000","v":0},{"$f":"'Daily Calcs'!K1316/1000000","v":0},0]
[0.1,{"$f":"'Daily Calcs'!J1317/1000000","v":0},{"$f":"'Daily Calcs'!K1317/1000000","v":0},0]
[0.1,{"$f":"'Daily Calcs'!J1318/1000000","v":0},{"$f":"'Daily Calcs'!K1318/1000000","v":0},0]
[0.1,{"$f":"'Daily Calcs'!J1319/1000000","v":1.0289036824808291E-5},{"$f":"'Daily Calcs'!K1319/1000000","v":1.0298430100278081E-5},1.0289036824808291E-5]
[0.1,{"$f":"'Daily Calcs'!J1320/1000000","v":7.8072113190324071E-6},{"$f":"'Daily Calcs'!K1320/1000000","v":7.8133594705613882E-6},7.8072113190324071E-6]
[0.1,{"$f":"'Daily Calcs'!J1321/1000000","v":0},{"$f":"'Daily Calcs'!K1321/1000000","v":0},0]
[0.1,{"$f":"'Daily Calcs'!J1322/1000000","v":0},{"$f":"'Daily Calcs'!K1322/1000000","v":0},0]
[0.1,{"$f":"'Daily Calcs'!J1323/1000000","v":0},{"$f":"'Daily Calcs'!K1323/1000000","v":0},0]
[0.1,{"$f":"'Daily Calcs'!J1324/1000000","v":0},{"$f":"'Daily Calcs'!K1324/1000000","v":0},0]
[0.1,{"$f":"'Daily Calcs'!J1325/1000000","v":6.9988820570150921E-6},{"$f":"'Daily Calcs'!K1325/1000000","v":7.0006948015651207E-6},6.9988820570150921E-6]
[0.1,{"$f":"'Daily Calcs'!J1326/1000000","v":0},{"$f":"'Daily Calcs'!K1326/1000000","v":0},0]
[0.1,{"$f":"'Daily Calcs'!J1327/1000000","v":0},{"$f":"'Daily Calcs'!K1327/1000000","v":0},0]
[0.1,{"$f":"'Daily Calcs'!J1328/1000000","v":0},{"$f":"'Daily Calcs'!K1328/1000000","v":0},0]
[0.1,{"$f":"'Daily Calcs'!J1329/1000000","v":0},{"$f":"'Daily Calcs'!K1329/1000000","v":0},0]
[0.1,{"$f":"'Daily Calcs'!J1330/1000000","v":0},{"$f":"'Daily Calcs'!K1330/1000000","v":0},0]
[0.1,{"$f":"'Daily Calcs'!J1331/1000000","v":4.6413647313308106E-6},{"$f":"'Daily Calcs'!K1331/1000000","v":4.6421221670517677E-6},4.6413647313308106E-6]
[0.1,{"$f":"'Daily Calcs'!J1332/1000000","v":0},{"$f":"'Daily Calcs'!K1332/1000000","v":0},0]
[0.1,{"$f":"'Daily Calcs'!J1333/1000000","v":0},{"$f":"'Daily Calcs'!K1333/1000000","v":0},0]
[0.1,{"$f":"'Daily Calcs'!J1334/1000000","v":0},{"$f":"'Daily Calcs'!K1334/1000000","v":0},0]
[0.1,{"$f":"'Daily Calcs'!J1335/1000000","v":0},{"$f":"'Daily Calcs'!K1335/1000000","v":0},0]
[0.1,{"$f":"'Daily Calcs'!J1336/1000000","v":0},{"$f":"'Daily Calcs'!K1336/1000000","v":0},0]
[0.1,{"$f":"'Daily Calcs'!J1337/1000000","v":0},{"$f":"'Daily Calcs'!K1337/1000000","v":0},0]
[0.1,{"$f":"'Daily Calcs'!J1338/1000000","v":0},{"$f":"'Daily Calcs'!K1338/1000000","v":0},0]
[0.1,{"$f":"'Daily Calcs'!J1339/1000000","v":0},{"$f":"'Daily Calcs'!K1339/1000000","v":0},0]
[0.1,{"$f":"'Daily Calcs'!J1340/1000000","v":0},{"$f":"'Daily Calcs'!K1340/1000000","v":0},0]
[0.1,{"$f":"'Daily Calcs'!J1341/1000000","v":0},{"$f":"'Daily Calcs'!K1341/1000000","v":0},0]
[0.1,{"$f":"'Daily Calcs'!J1342/1000000","v":0},{"$f":"'Daily Calcs'!K1342/1000000","v":0},0]
[0.1,{"$f":"'Daily Calcs'!J1343/1000000","v":0},{"$f":"'Daily Calcs'!K1343/1000000","v":0},0]
[0.1,{"$f":"'Daily Calcs'!J1344/1000000","v":0},{"$f":"'Daily Calcs'!K1344/1000000","v":0},0]
[0.1,{"$f":"'Daily Calcs'!J1345/1000000","v":0},{"$f":"'Daily Calcs'!K1345/1000000","v":0},0]
[0.1,{"$f":"'Daily Calcs'!J1346/1000000","v":0},{"$f":"'Daily Calcs'!K1346/1000000","v":0},0]
[0.1,{"$f":"'Daily Calcs'!J1347/1000000","v":0},{"$f":"'Daily Calcs'!K1347/1000000","v":0},{"$f":"B1351","v":0}]
[0.1,{"$f":"'Daily Calcs'!J1348/1000000","v":0},{"$f":"'Daily Calcs'!K1348/1000000","v":0},0]
[0.1,{"$f":"'Daily Calcs'!J1349/1000000","v":0},{"$f":"'Daily Calcs'!K1349/1000000","v":0},0]
[0.1,{"$f":"'Daily Calcs'!J1350/1000000","v":0},{"$f":"'Daily Calcs'!K1350/1000000","v":0},0]
[0.1,{"$f":"'Daily Calcs'!J1351/1000000","v":3.4204279650004328E-6},{"$f":"'Daily Calcs'!K1351/1000000","v":3.420530806549424E-6},3.4204279650004328E-6]
[0.1,{"$f":"'Daily Calcs'!J1352/1000000","v":2.4172903555026365E-6},{"$f":"'Daily Calcs'!K1352/1000000","v":2.4173609361711173E-6},2.4172903555026365E-6]
[0.1,{"$f":"'Daily Calcs'!J1353/1000000","v":0},{"$f":"'Daily Calcs'!K1353/1000000","v":0},0]
[0.1,{"$f":"'Daily Calcs'!J1354/1000000","v":0},{"$f":"'Daily Calcs'!K1354/1000000","v":0},0]
[0.1,{"$f":"'Daily Calcs'!J1355/1000000","v":0},{"$f":"'Daily Calcs'!K1355/1000000","v":0},0]
[0.1,{"$f":"'Daily Calcs'!J1356/1000000","v":0},{"$f":"'Daily Calcs'!K1356/1000000","v":0},0]
[0.1,{"$f":"'Daily Calcs'!J1357/1000000","v":0},{"$f":"'Daily Calcs'!K1357/1000000","v":0},0]
[0.1,{"$f":"'Daily Calcs'!J1358/1000000","v":0},{"$f":"'Daily Calcs'!K1358/1000000","v":0},0]
[0.1,{"$f":"'Daily Calcs'!J1359/1000000","v":0},{"$f":"'Daily Calcs'!K1359/1000000","v":0},0]
[0.1,{"$f":"'Daily Calcs'!J1360/1000000","v":0},{"$f":"'Daily Calcs'!K1360/1000000","v":0},0]
[0.1,{"$f":"'Daily Calcs'!J1361/1000000","v":0},{"$f":"'Daily Calcs'!K1361/1000000","v":0},0]
[0.1,{"$f":"'Daily Calcs'!J1362/1000000","v":0},{"$f":"'Daily Calcs'!K1362/1000000","v":0},0]
[0.1,{"$f":"'Daily Calcs'!J1363/1000000","v":0},{"$f":"'Daily Calcs'!K1363/1000000","v":0},0]
[0.1,{"$f":"'Daily Calcs'!J1364/1000000","v":0},{"$f":"'Daily Calcs'!K1364/1000000","v":0},0]
[0.1,{"$f":"'Daily Calcs'!J1365/1000000","v":0},{"$f":"'Daily Calcs'!K1365/1000000","v":0},0]
[0.1,{"$f":"'Daily Calcs'!J1366/1000000","v":0},{"$f":"'Daily Calcs'!K1366/1000000","v":0},0]
[0.1,{"$f":"'Daily Calcs'!J1367/1000000","v":0},{"$f":"'Daily Calcs'!K1367/1000000","v":0},0]
[0.1,{"$f":"'Daily Calcs'!J1368/1000000","v":0},{"$f":"'Daily Calcs'!K1368/1000000","v":0},0]
[0.1,{"$f":"'Daily Calcs'!J1369/1000000","v":0},{"$f":"'Daily Calcs'!K1369/1000000","v":0},0]
[0.1,{"$f":"'Daily Calcs'!J1370/1000000","v":0},{"$f":"'Daily Calcs'!K1370/1000000","v":0},0]
[0.1,{"$f":"'Daily Calcs'!J1371/1000000","v":0},{"$f":"'Daily Calcs'!K1371/1000000","v":0},0]
[0.1,{"$f":"'Daily Calcs'!J1372/1000000","v":0},{"$f":"'Daily Calcs'!K1372/1000000","v":0},0]
[0.1,{"$f":"'Daily Calcs'!J1373/1000000","v":1.7670027390873592E-6},{"$f":"'Daily Calcs'!K1373/1000000","v":1.767015257882161E-6},1.7670027390873592E-6]
[0.1,{"$f":"'Daily Calcs'!J1374/1000000","v":1.3104695701517948E-6},{"$f":"'Daily Calcs'!K1374/1000000","v":1.3104786343807633E-6},1.3104695701517948E-6]
[0.1,{"$f":"'Daily Calcs'!J1375/1000000","v":9.2430318828955293E-7},{"$f":"'Daily Calcs'!K1375/1000000","v":9.2430665525365935E-7},9.2430318828955293E-7]
[0.1,{"$f":"'Daily Calcs'!J1376/1000000","v":0},{"$f":"'Daily Calcs'!K1376/1000000","v":0},0]
[0.1,{"$f":"'Daily Calcs'!J1377/1000000","v":0},{"$f":"'Daily Calcs'!K1377/1000000","v":0},0]
[0.1,{"$f":"'Daily Calcs'!J1378/1000000","v":0},{"$f":"'Daily Calcs'!K1378/1000000","v":0},0]
[0.1,{"$f":"'Daily Calcs'!J1379/1000000","v":0},{"$f":"'Daily Calcs'!K1379/1000000","v":0},0]
[0.1,{"$f":"'Daily Calcs'!J1380/1000000","v":0},{"$f":"'Daily Calcs'!K1380/1000000","v":0},0]
[0.1,{"$f":"'Daily Calcs'!J1381/1000000","v":0},{"$f":"'Daily Calcs'!K1381/1000000","v":0},0]
[0.1,{"$f":"'Daily Calcs'!J1382/1000000","v":0},{"$f":"'Daily Calcs'!K1382/1000000","v":0},0]
[0.1,{"$f":"'Daily Calcs'!J1383/1000000","v":0},{"$f":"'Daily Calcs'!K1383/1000000","v":0},0]
[0.1,{"$f":"'Daily Calcs'!J1384/1000000","v":0},{"$f":"'Daily Calcs'!K1384/1000000","v":0},0]
[0.1,{"$f":"'Daily Calcs'!J1385/1000000","v":4.3232860520094568E-7},{"$f":"'Daily Calcs'!K1385/1000000","v":4.3232911052009454E-7},4.3232860520094568E-7]
[0.1,{"$f":"'Daily Calcs'!J1386/1000000","v":2.9517696680726208E-7},{"$f":"'Daily Calcs'!K1386/1000000","v":2.9517716427043222E-7},2.9517696680726208E-7]
[0.1,{"$f":"'Daily Calcs'!J1387/1000000","v":0},{"$f":"'Daily Calcs'!K1387/1000000","v":0},0]
[0.1,{"$f":"'Daily Calcs'!J1388/1000000","v":0},{"$f":"'Daily Calcs'!K1388/1000000","v":0},0]
[0.1,{"$f":"'Daily Calcs'!J1389/1000000","v":0},{"$f":"'Daily Calcs'!K1389/1000000","v":0},0]
[0.1,{"$f":"'Daily Calcs'!J1390/1000000","v":0},{"$f":"'Daily Calcs'!K1390/1000000","v":0},0]
[0.1,{"$f":"'Daily Calcs'!J1391/1000000","v":0},{"$f":"'Daily Calcs'!K1391/1000000","v":0},0]
[0.1,{"$f":"'Daily Calcs'!J1392/1000000","v":0},{"$f":"'Daily Calcs'!K1392/1000000","v":0},0]
[0.1,{"$f":"'Daily Calcs'!J1393/1000000","v":0},{"$f":"'Daily Calcs'!K1393/1000000","v":0},0]
[0.1,{"$f":"'Daily Calcs'!J1394/1000000","v":0},{"$f":"'Daily Calcs'!K1394/1000000","v":0},0]
[0.1,{"$f":"'Daily Calcs'!J1395/1000000","v":0},{"$f":"'Daily Calcs'!K1395/1000000","v":0},0]
[0.1,{"$f":"'Daily Calcs'!J1396/1000000","v":0},{"$f":"'Daily Calcs'!K1396/1000000","v":0},0]
[0.1,{"$f":"'Daily Calcs'!J1397/1000000","v":0},{"$f":"'Daily Calcs'!K1397/1000000","v":0},0]
[0.1,{"$f":"'Daily Calcs'!J1398/1000000","v":0},{"$f":"'Daily Calcs'!K1398/1000000","v":0},0]
[0.1,{"$f":"'Daily Calcs'!J1399/1000000","v":0},{"$f":"'Daily Calcs'!K1399/1000000","v":0},0]
[0.1,{"$f":"'Daily Calcs'!J1400/1000000","v":0},{"$f":"'Daily Calcs'!K1400/1000000","v":0},0]
[0.1,{"$f":"'Daily Calcs'!J1401/1000000","v":0},{"$f":"'Daily Calcs'!K1401/1000000","v":0},0]
[0.1,{"$f":"'Daily Calcs'!J1402/1000000","v":0},{"$f":"'Daily Calcs'!K1402/1000000","v":0},0]
[0.1,{"$f":"'Daily Calcs'!J1403/1000000","v":0},{"$f":"'Daily Calcs'!K1403/1000000","v":0},0]
[0.1,{"$f":"'Daily Calcs'!J1404/1000000","v":0},{"$f":"'Daily Calcs'!K1404/1000000","v":0},0]
[0.1,{"$f":"'Daily Calcs'!J1405/1000000","v":0},{"$f":"'Daily Calcs'!K1405/1000000","v":0},0]
[0.1,{"$f":"'Daily Calcs'!J1406/1000000","v":0},{"$f":"'Daily Calcs'!K1406/1000000","v":0},0]
[0.1,{"$f":"'Daily Calcs'!J1407/1000000","v":0},{"$f":"'Daily Calcs'!K1407/1000000","v":0},0]
[0.1,{"$f":"'Daily Calcs'!J1408/1000000","v":0},{"$f":"'Daily Calcs'!K1408/1000000","v":0},0]
[0.1,{"$f":"'Daily Calcs'!J1409/1000000","v":0},{"$f":"'Daily Calcs'!K1409/1000000","v":0},0]
[0.1,{"$f":"'Daily Calcs'!J1410/1000000","v":0},{"$f":"'Daily Calcs'!K1410/1000000","v":0},0]
[0.1,{"$f":"'Daily Calcs'!J1411/1000000","v":0},{"$f":"'Daily Calcs'!K1411/1000000","v":0},{"$f":"B1415","v":0}]
[0.1,{"$f":"'Daily Calcs'!J1412/1000000","v":0},{"$f":"'Daily Calcs'!K1412/1000000","v":0},0]
[0.1,{"$f":"'Daily Calcs'!J1413/1000000","v":0},{"$f":"'Daily Calcs'!K1413/1000000","v":0},0]
[0.1,{"$f":"'Daily Calcs'!J1414/1000000","v":0},{"$f":"'Daily Calcs'!K1414/1000000","v":0},0]
[0.1,{"$f":"'Daily Calcs'!J1415/1000000","v":0},{"$f":"'Daily Calcs'!K1415/1000000","v":0},0]
[0.1,{"$f":"'Daily Calcs'!J1416/1000000","v":0},{"$f":"'Daily Calcs'!K1416/1000000","v":0},0]
[0.1,{"$f":"'Daily Calcs'!J1417/1000000","v":0},{"$f":"'Daily Calcs'!K1417/1000000","v":0},0]
[0.1,{"$f":"'Daily Calcs'!J1418/1000000","v":0},{"$f":"'Daily Calcs'!K1418/1000000","v":0},0]
[0.1,{"$f":"'Daily Calcs'!J1419/1000000","v":0},{"$f":"'Daily Calcs'!K1419/1000000","v":0},0]
[0.1,{"$f":"'Daily Calcs'!J1420/1000000","v":2.0280194121417449E-7},{"$f":"'Daily Calcs'!K1420/1000000","v":2.0280196844886E-7},2.0280194121417449E-7]
[0.1,{"$f":"'Daily Calcs'!J1421/1000000","v":0},{"$f":"'Daily Calcs'!K1421/1000000","v":0},0]
[0.1,{"$f":"'Daily Calcs'!J1422/1000000","v":0},{"$f":"'Daily Calcs'!K1422/1000000","v":0},0]
[0.1,{"$f":"'Daily Calcs'!J1423/1000000","v":0},{"$f":"'Daily Calcs'!K1423/1000000","v":0},0]
[0.1,{"$f":"'Daily Calcs'!J1424/1000000","v":0},{"$f":"'Daily Calcs'!K1424/1000000","v":0},0]
[0.1,{"$f":"'Daily Calcs'!J1425/1000000","v":1.0360528583740304E-7},{"$f":"'Daily Calcs'!K1425/1000000","v":1.0360529591783969E-7},1.0360528583740304E-7]
[0.1,{"$f":"'Daily Calcs'!J1426/1000000","v":7.5560057197330795E-8},{"$f":"'Daily Calcs'!K1426/1000000","v":7.5560061350691141E-8},7.5560057197330795E-8]
[0.1,{"$f":"'Daily Calcs'!J1427/1000000","v":0},{"$f":"'Daily Calcs'!K1427/1000000","v":0},0]
[0.1,{"$f":"'Daily Calcs'!J1428/1000000","v":0},{"$f":"'Daily Calcs'!K1428/1000000","v":0},0]
[0.1,{"$f":"'Daily Calcs'!J1429/1000000","v":5.1225129971263738E-8},{"$f":"'Daily Calcs'!K1429/1000000","v":5.1225131614341809E-8},5.1225129971263738E-8]
[0.1,{"$f":"'Daily Calcs'!J1430/1000000","v":0},{"$f":"'Daily Calcs'!K1430/1000000","v":0},0]
[0.1,{"$f":"'Daily Calcs'!J1431/1000000","v":0},{"$f":"'Daily Calcs'!K1431/1000000","v":0},0]
[0.1,{"$f":"'Daily Calcs'!J1432/1000000","v":0},{"$f":"'Daily Calcs'!K1432/1000000","v":0},0]
[0.1,{"$f":"'Daily Calcs'!J1433/1000000","v":0},{"$f":"'Daily Calcs'!K1433/1000000","v":0},0]
[0.1,{"$f":"'Daily Calcs'!J1434/1000000","v":0},{"$f":"'Daily Calcs'!K1434/1000000","v":0},0]
[0.1,{"$f":"'Daily Calcs'!J1435/1000000","v":2.6998973255757099E-8},{"$f":"'Daily Calcs'!K1435/1000000","v":2.6998973736278294E-8},2.6998973255757099E-8]
[0.1,{"$f":"'Daily Calcs'!J1436/1000000","v":0},{"$f":"'Daily Calcs'!K1436/1000000","v":0},0]
[0.1,{"$f":"'Daily Calcs'!J1437/1000000","v":0},{"$f":"'Daily Calcs'!K1437/1000000","v":0},0]
[0.1,{"$f":"'Daily Calcs'!J1438/1000000","v":0},{"$f":"'Daily Calcs'!K1438/1000000","v":0},0]
[0.1,{"$f":"'Daily Calcs'!J1439/1000000","v":0},{"$f":"'Daily Calcs'!K1439/1000000","v":0},0]
[0.1,{"$f":"'Daily Calcs'!J1440/1000000","v":0},{"$f":"'Daily Calcs'!K1440/1000000","v":0},0]
[0.1,{"$f":"'Daily Calcs'!J1441/1000000","v":0},{"$f":"'Daily Calcs'!K1441/1000000","v":0},0]
[0.1,{"$f":"'Daily Calcs'!J1442/1000000","v":0},{"$f":"'Daily Calcs'!K1442/1000000","v":0},0]
[0.1,{"$f":"'Daily Calcs'!J1443/1000000","v":1.7523553162853299E-8},{"$f":"'Daily Calcs'!K1443/1000000","v":1.7523553268855988E-8},1.7523553162853299E-8]
[0.1,{"$f":"'Daily Calcs'!J1444/1000000","v":0},{"$f":"'Daily Calcs'!K1444/1000000","v":0},0]
[0.1,{"$f":"'Daily Calcs'!J1445/1000000","v":0},{"$f":"'Daily Calcs'!K1445/1000000","v":0},0]
[0.1,{"$f":"'Daily Calcs'!J1446/1000000","v":0},{"$f":"'Daily Calcs'!K1446/1000000","v":0},0]
[0.1,{"$f":"'Daily Calcs'!J1447/1000000","v":0},{"$f":"'Daily Calcs'!K1447/1000000","v":0},0]
[0.1,{"$f":"'Daily Calcs'!J1448/1000000","v":0},{"$f":"'Daily Calcs'!K1448/1000000","v":0},0]
[0.1,{"$f":"'Daily Calcs'!J1449/1000000","v":1.3635145197319436E-8},{"$f":"'Daily Calcs'!K1449/1000000","v":1.3635145238021487E-8},1.3635145197319436E-8]
[0.1,{"$f":"'Daily Calcs'!J1450/1000000","v":0},{"$f":"'Daily Calcs'!K1450/1000000","v":0},0]
[0.1,{"$f":"'Daily Calcs'!J1451/1000000","v":8.8101453841652774E-9},{"$f":"'Daily Calcs'!K1451/1000000","v":8.8101454122181202E-9},8.8101453841652774E-9]
[0.1,{"$f":"'Daily Calcs'!J1452/1000000","v":0},{"$f":"'Daily Calcs'!K1452/1000000","v":0},0]
[0.1,{"$f":"'Daily Calcs'!J1453/1000000","v":0},{"$f":"'Daily Calcs'!K1453/1000000","v":0},0]
[0.1,{"$f":"'Daily Calcs'!J1454/1000000","v":0},{"$f":"'Daily Calcs'!K1454/1000000","v":0},0]
[0.1,{"$f":"'Daily Calcs'!J1455/1000000","v":5.1957757726736347E-9},{"$f":"'Daily Calcs'!K1455/1000000","v":5.1957757823866169E-9},5.1957757726736347E-9]
[0.1,{"$f":"'Daily Calcs'!J1456/1000000","v":3.4557691865940779E-9},{"$f":"'Daily Calcs'!K1456/1000000","v":3.4557691906130979E-9},3.4557691865940779E-9]
[0.1,{"$f":"'Daily Calcs'!J1457/1000000","v":2.0647089987133885E-9},{"$f":"'Daily Calcs'!K1457/1000000","v":2.0647090003258915E-9},2.0647089987133885E-9]
[0.1,{"$f":"'Daily Calcs'!J1458/1000000","v":0},{"$f":"'Daily Calcs'!K1458/1000000","v":0},0]
[0.1,{"$f":"'Daily Calcs'!J1459/1000000","v":0},{"$f":"'Daily Calcs'!K1459/1000000","v":0},0]
[0.1,{"$f":"'Daily Calcs'!J1460/1000000","v":0},{"$f":"'Daily Calcs'!K1460/1000000","v":0},0]
[0.1,{"$f":"'Daily Calcs'!J1461/1000000","v":0},{"$f":"'Daily Calcs'!K1461/1000000","v":0},0]
[0.1,{"$f":"'Daily Calcs'!J1462/1000000","v":0},{"$f":"'Daily Calcs'!K1462/1000000","v":0},0]
[0.1,{"$f":"'Daily Calcs'!J1463/1000000","v":0},{"$f":"'Daily Calcs'!K1463/1000000","v":0},0]
[0.1,{"$f":"'Daily Calcs'!J1464/1000000","v":1.4343294853813791E-9},{"$f":"'Daily Calcs'!K1464/1000000","v":1.4343294858053516E-9},1.4343294853813791E-9]
[0.1,{"$f":"'Daily Calcs'!J1465/1000000","v":0},{"$f":"'Daily Calcs'!K1465/1000000","v":0},0]
[0.1,{"$f":"'Daily Calcs'!J1466/1000000","v":0},{"$f":"'Daily Calcs'!K1466/1000000","v":0},0]
[0.1,{"$f":"'Daily Calcs'!J1467/1000000","v":0},{"$f":"'Daily Calcs'!K1467/1000000","v":0},0]
[0.1,{"$f":"'Daily Calcs'!J1468/1000000","v":0},{"$f":"'Daily Calcs'!K1468/1000000","v":0},0]
[0.1,{"$f":"'Daily Calcs'!J1469/1000000","v":0},{"$f":"'Daily Calcs'!K1469/1000000","v":0},0]
[0.1,{"$f":"'Daily Calcs'!J1470/1000000","v":0},{"$f":"'Daily Calcs'!K1470/1000000","v":0},0]
[0.1,{"$f":"'Daily Calcs'!J1471/1000000","v":0},{"$f":"'Daily Calcs'!K1471/1000000","v":0},0]
[0.1,{"$f":"'Daily Calcs'!J1472/1000000","v":9.8690336335552376E-10},{"$f":"'Daily Calcs'!K1472/1000000","v":9.8690336353150168E-10},9.8690336335552376E-10]
[0.1,{"$f":"'Daily Calcs'!J1473/1000000","v":0},{"$f":"'Daily Calcs'!K1473/1000000","v":0},0]
[0.1,{"$f":"'Daily Calcs'!J1474/1000000","v":0},{"$f":"'Daily Calcs'!K1474/1000000","v":0},0]
[0.1,{"$f":"'Daily Calcs'!J1475/1000000","v":0},{"$f":"'Daily Calcs'!K1475/1000000","v":0},{"$f":"B1479","v":0}]
[0.1,{"$f":"'Daily Calcs'!J1476/1000000","v":0},{"$f":"'Daily Calcs'!K1476/1000000","v":0},0]
[0.1,{"$f":"'Daily Calcs'!J1477/1000000","v":7.7801230681167724E-10},{"$f":"'Daily Calcs'!K1477/1000000","v":7.7801230689911995E-10},7.7801230681167724E-10]
[0.1,{"$f":"'Daily Calcs'!J1478/1000000","v":5.7419721321883255E-10},{"$f":"'Daily Calcs'!K1478/1000000","v":5.7419721328103053E-10},5.7419721321883255E-10]
[0.1,{"$f":"'Daily Calcs'!J1479/1000000","v":0},{"$f":"'Daily Calcs'!K1479/1000000","v":0},0]
[0.1,{"$f":"'Daily Calcs'!J1480/1000000","v":0},{"$f":"'Daily Calcs'!K1480/1000000","v":0},0]
[0.1,{"$f":"'Daily Calcs'!J1481/1000000","v":0},{"$f":"'Daily Calcs'!K1481/1000000","v":0},0]
[0.1,{"$f":"'Daily Calcs'!J1482/1000000","v":0},{"$f":"'Daily Calcs'!K1482/1000000","v":0},0]
[0.1,{"$f":"'Daily Calcs'!J1483/1000000","v":0},{"$f":"'Daily Calcs'!K1483/1000000","v":0},0]
[0.1,{"$f":"'Daily Calcs'!J1484/1000000","v":0},{"$f":"'Daily Calcs'!K1484/1000000","v":0},0]
[0.1,{"$f":"'Daily Calcs'!J1485/1000000","v":2.1465310125030649E-10},{"$f":"'Daily Calcs'!K1485/1000000","v":2.1465310127197278E-10},2.1465310125030649E-10]
[0.1,{"$f":"'Daily Calcs'!J1486/1000000","v":0},{"$f":"'Daily Calcs'!K1486/1000000","v":0},0]
[0.1,{"$f":"'Daily Calcs'!J1487/1000000","v":0},{"$f":"'Daily Calcs'!K1487/1000000","v":0},0]
[0.1,{"$f":"'Daily Calcs'!J1488/1000000","v":0},{"$f":"'Daily Calcs'!K1488/1000000","v":0},0]
[0.1,{"$f":"'Daily Calcs'!J1489/1000000","v":0},{"$f":"'Daily Calcs'!K1489/1000000","v":0},0]
[0.1,{"$f":"'Daily Calcs'!J1490/1000000","v":0},{"$f":"'Daily Calcs'!K1490/1000000","v":0},0]
[0.1,{"$f":"'Daily Calcs'!J1491/1000000","v":0},{"$f":"'Daily Calcs'!K1491/1000000","v":0},0]
[0.1,{"$f":"'Daily Calcs'!J1492/1000000","v":0},{"$f":"'Daily Calcs'!K1492/1000000","v":0},0]
[0.1,{"$f":"'Daily Calcs'!J1493/1000000","v":0},{"$f":"'Daily Calcs'!K1493/1000000","v":0},0]
[0.1,{"$f":"'Daily Calcs'!J1494/1000000","v":1.2724423137709407E-10},{"$f":"'Daily Calcs'!K1494/1000000","v":1.2724423138059636E-10},1.2724423137709407E-10]
[0.1,{"$f":"'Daily Calcs'!J1495/1000000","v":0},{"$f":"'Daily Calcs'!K1495/1000000","v":0},0]
[0.1,{"$f":"'Daily Calcs'!J1496/1000000","v":0},{"$f":"'Daily Calcs'!K1496/1000000","v":0},0]
[0.1,{"$f":"'Daily Calcs'!J1497/1000000","v":0},{"$f":"'Daily Calcs'!K1497/1000000","v":0},0]
[0.1,{"$f":"'Daily Calcs'!J1498/1000000","v":0},{"$f":"'Daily Calcs'!K1498/1000000","v":0},0]
[0.1,{"$f":"'Daily Calcs'!J1499/1000000","v":5.7942843797108218E-11},{"$f":"'Daily Calcs'!K1499/1000000","v":5.7942843798694873E-11},5.7942843797108218E-11]
[0.1,{"$f":"'Daily Calcs'!J1500/1000000","v":3.8717295921131036E-11},{"$f":"'Daily Calcs'!K1500/1000000","v":3.8717295921722832E-11},3.8717295921131036E-11]
[0.1,{"$f":"'Daily Calcs'!J1501/1000000","v":0},{"$f":"'Daily Calcs'!K1501/1000000","v":0},0]
[0.1,{"$f":"'Daily Calcs'!J1502/1000000","v":3.0670238325370742E-11},{"$f":"'Daily Calcs'!K1502/1000000","v":3.0670238325638768E-11},3.0670238325370742E-11]
[0.1,{"$f":"'Daily Calcs'!J1503/1000000","v":0},{"$f":"'Daily Calcs'!K1503/1000000","v":0},0]
[0.1,{"$f":"'Daily Calcs'!J1504/1000000","v":0},{"$f":"'Daily Calcs'!K1504/1000000","v":0},0]
[0.1,{"$f":"'Daily Calcs'!J1505/1000000","v":1.5357418068083948E-11},{"$f":"'Daily Calcs'!K1505/1000000","v":1.5357418068253252E-11},1.5357418068083948E-11]
[0.1,{"$f":"'Daily Calcs'!J1506/1000000","v":0},{"$f":"'Daily Calcs'!K1506/1000000","v":0},0]
[0.1,{"$f":"'Daily Calcs'!J1507/1000000","v":0},{"$f":"'Daily Calcs'!K1507/1000000","v":0},0]
[0.1,{"$f":"'Daily Calcs'!J1508/1000000","v":0},{"$f":"'Daily Calcs'!K1508/1000000","v":0},0]
[0.1,{"$f":"'Daily Calcs'!J1509/1000000","v":0},{"$f":"'Daily Calcs'!K1509/1000000","v":0},0]
[0.1,{"$f":"'Daily Calcs'!J1510/1000000","v":6.0338418793256662E-12},{"$f":"'Daily Calcs'!K1510/1000000","v":6.0338418793611995E-12},6.0338418793256662E-12]
[0.1,{"$f":"'Daily Calcs'!J1511/1000000","v":0},{"$f":"'Daily Calcs'!K1511/1000000","v":0},0]
[0.1,{"$f":"'Daily Calcs'!J1512/1000000","v":0},{"$f":"'Daily Calcs'!K1512/1000000","v":0},0]
[0.1,{"$f":"'Daily Calcs'!J1513/1000000","v":0},{"$f":"'Daily Calcs'!K1513/1000000","v":0},0]
[0.1,{"$f":"'Daily Calcs'!J1514/1000000","v":0},{"$f":"'Daily Calcs'!K1514/1000000","v":0},0]
[0.1,{"$f":"'Daily Calcs'!J1515/1000000","v":0},{"$f":"'Daily Calcs'!K1515/1000000","v":0},0]
[0.1,{"$f":"'Daily Calcs'!J1516/1000000","v":0},{"$f":"'Daily Calcs'!K1516/1000000","v":0},0]
[0.1,{"$f":"'Daily Calcs'!J1517/1000000","v":3.079162530256216E-12},{"$f":"'Daily Calcs'!K1517/1000000","v":3.0791625302625435E-12},3.079162530256216E-12]
[0.1,{"$f":"'Daily Calcs'!J1518/1000000","v":0},{"$f":"'Daily Calcs'!K1518/1000000","v":0},0]
[0.1,{"$f":"'Daily Calcs'!J1519/1000000","v":0},{"$f":"'Daily Calcs'!K1519/1000000","v":0},0]
[0.1,{"$f":"'Daily Calcs'!J1520/1000000","v":0},{"$f":"'Daily Calcs'!K1520/1000000","v":0},0]
[0.1,{"$f":"'Daily Calcs'!J1521/1000000","v":0},{"$f":"'Daily Calcs'!K1521/1000000","v":0},0]
[0.1,{"$f":"'Daily Calcs'!J1522/1000000","v":0},{"$f":"'Daily Calcs'!K1522/1000000","v":0},0]
[0.1,{"$f":"'Daily Calcs'!J1523/1000000","v":0},{"$f":"'Daily Calcs'!K1523/1000000","v":0},0]
[0.1,{"$f":"'Daily Calcs'!J1524/1000000","v":1.4300906532480836E-12},{"$f":"'Daily Calcs'!K1524/1000000","v":1.4300906532494518E-12},1.4300906532480836E-12]
[0.1,{"$f":"'Daily Calcs'!J1525/1000000","v":8.9531943969935091E-13},{"$f":"'Daily Calcs'!K1525/1000000","v":8.9531943970037176E-13},8.9531943969935091E-13]
[0.1,{"$f":"'Daily Calcs'!J1526/1000000","v":0},{"$f":"'Daily Calcs'!K1526/1000000","v":0},0]
[0.1,{"$f":"'Daily Calcs'!J1527/1000000","v":0},{"$f":"'Daily Calcs'!K1527/1000000","v":0},0]
[0.1,{"$f":"'Daily Calcs'!J1528/1000000","v":0},{"$f":"'Daily Calcs'!K1528/1000000","v":0},0]
[0.1,{"$f":"'Daily Calcs'!J1529/1000000","v":0},{"$f":"'Daily Calcs'!K1529/1000000","v":0},0]
[0.1,{"$f":"'Daily Calcs'!J1530/1000000","v":0},{"$f":"'Daily Calcs'!K1530/1000000","v":0},0]
[0.1,{"$f":"'Daily Calcs'!J1531/1000000","v":0},{"$f":"'Daily Calcs'!K1531/1000000","v":0},0]
[0.1,{"$f":"'Daily Calcs'!J1532/1000000","v":0},{"$f":"'Daily Calcs'!K1532/1000000","v":0},0]
[0.1,{"$f":"'Daily Calcs'!J1533/1000000","v":3.3484728204994729E-13},{"$f":"'Daily Calcs'!K1533/1000000","v":3.3484728205018882E-13},3.3484728204994729E-13]
[0.1,{"$f":"'Daily Calcs'!J1534/1000000","v":0},{"$f":"'Daily Calcs'!K1534/1000000","v":0},0]
[0.1,{"$f":"'Daily Calcs'!J1535/1000000","v":0},{"$f":"'Daily Calcs'!K1535/1000000","v":0},0]
[0.1,{"$f":"'Daily Calcs'!J1536/1000000","v":0},{"$f":"'Daily Calcs'!K1536/1000000","v":0},0]
[0.1,{"$f":"'Daily Calcs'!J1537/1000000","v":0},{"$f":"'Daily Calcs'!K1537/1000000","v":0},0]
[0.1,{"$f":"'Daily Calcs'!J1538/1000000","v":1.3585126286248832E-13},{"$f":"'Daily Calcs'!K1538/1000000","v":1.3585126286255771E-13},1.3585126286248832E-13]
[0.1,{"$f":"'Daily Calcs'!J1539/1000000","v":0},{"$f":"'Daily Calcs'!K1539/1000000","v":0},{"$f":"B1543","v":0}]
[0.1,{"$f":"'Daily Calcs'!J1540/1000000","v":0},{"$f":"'Daily Calcs'!K1540/1000000","v":0},0]
[0.1,{"$f":"'Daily Calcs'!J1541/1000000","v":0},{"$f":"'Daily Calcs'!K1541/1000000","v":0},0]
[0.1,{"$f":"'Daily Calcs'!J1542/1000000","v":0},{"$f":"'Daily Calcs'!K1542/1000000","v":0},0]
[0.1,{"$f":"'Daily Calcs'!J1543/1000000","v":0},{"$f":"'Daily Calcs'!K1543/1000000","v":0},0]
[0.1,{"$f":"'Daily Calcs'!J1544/1000000","v":6.0189828822481046E-14},{"$f":"'Daily Calcs'!K1544/1000000","v":6.018982882249363E-14},6.0189828822481046E-14]
[0.1,{"$f":"'Daily Calcs'!J1545/1000000","v":2.9619430985737861E-14},{"$f":"'Daily Calcs'!K1545/1000000","v":2.9619430985743875E-14},2.9619430985737861E-14]
[0.1,{"$f":"'Daily Calcs'!J1546/1000000","v":0},{"$f":"'Daily Calcs'!K1546/1000000","v":0},0]
[0.1,{"$f":"'Daily Calcs'!J1547/1000000","v":1.4018557225484665E-14},{"$f":"'Daily Calcs'!K1547/1000000","v":1.4018557225486631E-14},1.4018557225484665E-14]
[0.1,{"$f":"'Daily Calcs'!J1548/1000000","v":0},{"$f":"'Daily Calcs'!K1548/1000000","v":0},0]
[0.1,{"$f":"'Daily Calcs'!J1549/1000000","v":0},{"$f":"'Daily Calcs'!K1549/1000000","v":0},0]
[0.1,{"$f":"'Daily Calcs'!J1550/1000000","v":9.1451738117829727E-15},{"$f":"'Daily Calcs'!K1550/1000000","v":9.145173811783547E-15},9.1451738117829727E-15]
[0.1,{"$f":"'Daily Calcs'!J1551/1000000","v":0},{"$f":"'Daily Calcs'!K1551/1000000","v":0},0]
[0.1,{"$f":"'Daily Calcs'!J1552/1000000","v":0},{"$f":"'Daily Calcs'!K1552/1000000","v":0},0]
[0.1,{"$f":"'Daily Calcs'!J1553/1000000","v":0},{"$f":"'Daily Calcs'!K1553/1000000","v":0},0]
[0.1,{"$f":"'Daily Calcs'!J1554/1000000","v":0},{"$f":"'Daily Calcs'!K1554/1000000","v":0},0]
[0.1,{"$f":"'Daily Calcs'!J1555/1000000","v":5.2042755344418046E-15},{"$f":"'Daily Calcs'!K1555/1000000","v":5.2042755344420989E-15},5.2042755344418046E-15]
[0.1,{"$f":"'Daily Calcs'!J1556/1000000","v":2.6983687117811149E-15},{"$f":"'Daily Calcs'!K1556/1000000","v":2.6983687117812806E-15},2.6983687117811149E-15]
[0.1,{"$f":"'Daily Calcs'!J1557/1000000","v":1.4372145054535287E-15},{"$f":"'Daily Calcs'!K1557/1000000","v":1.4372145054535932E-15},1.4372145054535287E-15]
[0.1,{"$f":"'Daily Calcs'!J1558/1000000","v":0},{"$f":"'Daily Calcs'!K1558/1000000","v":0},0]
[0.1,{"$f":"'Daily Calcs'!J1559/1000000","v":0},{"$f":"'Daily Calcs'!K1559/1000000","v":0},0]
[0.1,{"$f":"'Daily Calcs'!J1560/1000000","v":0},{"$f":"'Daily Calcs'!K1560/1000000","v":0},0]
[0.1,{"$f":"'Daily Calcs'!J1561/1000000","v":0},{"$f":"'Daily Calcs'!K1561/1000000","v":0},0]
[0.1,{"$f":"'Daily Calcs'!J1562/1000000","v":0},{"$f":"'Daily Calcs'!K1562/1000000","v":0},0]
[0.1,{"$f":"'Daily Calcs'!J1563/1000000","v":0},{"$f":"'Daily Calcs'!K1563/1000000","v":0},0]
[0.1,{"$f":"'Daily Calcs'!J1564/1000000","v":8.4856175972927221E-16},{"$f":"'Daily Calcs'!K1564/1000000","v":8.4856175972928533E-16},8.4856175972927221E-16]
[0.1,{"$f":"'Daily Calcs'!J1565/1000000","v":0},{"$f":"'Daily Calcs'!K1565/1000000","v":0},0]
[0.1,{"$f":"'Daily Calcs'!J1566/1000000","v":0},{"$f":"'Daily Calcs'!K1566/1000000","v":0},0]
[0.1,{"$f":"'Daily Calcs'!J1567/1000000","v":0},{"$f":"'Daily Calcs'!K1567/1000000","v":0},0]
[0.1,{"$f":"'Daily Calcs'!J1568/1000000","v":0},{"$f":"'Daily Calcs'!K1568/1000000","v":0},0]
[0.1,{"$f":"'Daily Calcs'!J1569/1000000","v":0},{"$f":"'Daily Calcs'!K1569/1000000","v":0},0]
[0.1,{"$f":"'Daily Calcs'!J1570/1000000","v":0},{"$f":"'Daily Calcs'!K1570/1000000","v":0},0]
[0.1,{"$f":"'Daily Calcs'!J1571/1000000","v":0},{"$f":"'Daily Calcs'!K1571/1000000","v":0},0]
[0.1,{"$f":"'Daily Calcs'!J1572/1000000","v":0},{"$f":"'Daily Calcs'!K1572/1000000","v":0},0]
[0.1,{"$f":"'Daily Calcs'!J1573/1000000","v":0},{"$f":"'Daily Calcs'!K1573/1000000","v":0},0]
[0.1,{"$f":"'Daily Calcs'!J1574/1000000","v":0},{"$f":"'Daily Calcs'!K1574/1000000","v":0},0]
[0.1,{"$f":"'Daily Calcs'!J1575/1000000","v":0},{"$f":"'Daily Calcs'!K1575/1000000","v":0},0]
[0.1,{"$f":"'Daily Calcs'!J1576/1000000","v":0},{"$f":"'Daily Calcs'!K1576/1000000","v":0},0]
[0.1,{"$f":"'Daily Calcs'!J1577/1000000","v":0},{"$f":"'Daily Calcs'!K1577/1000000","v":0},0]
[0.1,{"$f":"'Daily Calcs'!J1578/1000000","v":0},{"$f":"'Daily Calcs'!K1578/1000000","v":0},0]
[0.1,{"$f":"'Daily Calcs'!J1579/1000000","v":2.0787250384024579E-16},{"$f":"'Daily Calcs'!K1579/1000000","v":2.078725038402467E-16},2.0787250384024579E-16]
[0.1,{"$f":"'Daily Calcs'!J1580/1000000","v":0},{"$f":"'Daily Calcs'!K1580/1000000","v":0},0]
[0.1,{"$f":"'Daily Calcs'!J1581/1000000","v":0},{"$f":"'Daily Calcs'!K1581/1000000","v":0},0]
[0.1,{"$f":"'Daily Calcs'!J1582/1000000","v":0},{"$f":"'Daily Calcs'!K1582/1000000","v":0},0]
[0.1,{"$f":"'Daily Calcs'!J1583/1000000","v":0},{"$f":"'Daily Calcs'!K1583/1000000","v":0},0]
[0.1,{"$f":"'Daily Calcs'!J1584/1000000","v":0},{"$f":"'Daily Calcs'!K1584/1000000","v":0},0]
[0.1,{"$f":"'Daily Calcs'!J1585/1000000","v":0},{"$f":"'Daily Calcs'!K1585/1000000","v":0},0]
[0.1,{"$f":"'Daily Calcs'!J1586/1000000","v":0},{"$f":"'Daily Calcs'!K1586/1000000","v":0},0]
[0.1,{"$f":"'Daily Calcs'!J1587/1000000","v":0},{"$f":"'Daily Calcs'!K1587/1000000","v":0},0]
[0.1,{"$f":"'Daily Calcs'!J1588/1000000","v":0},{"$f":"'Daily Calcs'!K1588/1000000","v":0},0]
[0.1,{"$f":"'Daily Calcs'!J1589/1000000","v":0},{"$f":"'Daily Calcs'!K1589/1000000","v":0},0]
[0.1,{"$f":"'Daily Calcs'!J1590/1000000","v":0},{"$f":"'Daily Calcs'!K1590/1000000","v":0},0]
[0.1,{"$f":"'Daily Calcs'!J1591/1000000","v":8.8249384145580049E-17},{"$f":"'Daily Calcs'!K1591/1000000","v":8.8249384145580333E-17},8.8249384145580049E-17]
[0.1,{"$f":"'Daily Calcs'!J1592/1000000","v":0},{"$f":"'Daily Calcs'!K1592/1000000","v":0},0]
[0.1,{"$f":"'Daily Calcs'!J1593/1000000","v":0},{"$f":"'Daily Calcs'!K1593/1000000","v":0},0]
[0.1,{"$f":"'Daily Calcs'!J1594/1000000","v":0},{"$f":"'Daily Calcs'!K1594/1000000","v":0},0]
[0.1,{"$f":"'Daily Calcs'!J1595/1000000","v":0},{"$f":"'Daily Calcs'!K1595/1000000","v":0},0]
[0.1,{"$f":"'Daily Calcs'!J1596/1000000","v":0},{"$f":"'Daily Calcs'!K1596/1000000","v":0},0]
[0.1,{"$f":"'Daily Calcs'!J1597/1000000","v":0},{"$f":"'Daily Calcs'!K1597/1000000","v":0},0]
[0.1,{"$f":"'Daily Calcs'!J1598/1000000","v":0},{"$f":"'Daily Calcs'!K1598/1000000","v":0},0]
[0.1,{"$f":"'Daily Calcs'!J1599/1000000","v":0},{"$f":"'Daily Calcs'!K1599/1000000","v":0},0]
[0.1,{"$f":"'Daily Calcs'!J1600/1000000","v":0},{"$f":"'Daily Calcs'!K1600/1000000","v":0},0]
[0.1,{"$f":"'Daily Calcs'!J1601/1000000","v":0},{"$f":"'Daily Calcs'!K1601/1000000","v":0},0]
[0.1,{"$f":"'Daily Calcs'!J1602/1000000","v":3.3096903096903099E-17},{"$f":"'Daily Calcs'!K1602/1000000","v":3.3096903096903173E-17},3.3096903096903099E-17]
[0.1,{"$f":"'Daily Calcs'!J1603/1000000","v":1.6761664784082024E-17},{"$f":"'Daily Calcs'!K1603/1000000","v":1.6761664784082067E-17},{"$f":"B1607","v":1.6761664784082024E-17}]
[0.1,{"$f":"'Daily Calcs'!J1604/1000000","v":0},{"$f":"'Daily Calcs'!K1604/1000000","v":0},0]
[0.1,{"$f":"'Daily Calcs'!J1605/1000000","v":0},{"$f":"'Daily Calcs'!K1605/1000000","v":0},0]
[0.1,{"$f":"'Daily Calcs'!J1606/1000000","v":0},{"$f":"'Daily Calcs'!K1606/1000000","v":0},0]
[0.1,{"$f":"'Daily Calcs'!J1607/1000000","v":0},{"$f":"'Daily Calcs'!K1607/1000000","v":0},0]
[0.1,{"$f":"'Daily Calcs'!J1608/1000000","v":0},{"$f":"'Daily Calcs'!K1608/1000000","v":0},0]
[0.1,{"$f":"'Daily Calcs'!J1609/1000000","v":0},{"$f":"'Daily Calcs'!K1609/1000000","v":0},0]
[0.1,{"$f":"'Daily Calcs'!J1610/1000000","v":0},{"$f":"'Daily Calcs'!K1610/1000000","v":0},0]
[0.1,{"$f":"'Daily Calcs'!J1611/1000000","v":0},{"$f":"'Daily Calcs'!K1611/1000000","v":0},0]
[0.1,{"$f":"'Daily Calcs'!J1612/1000000","v":0},{"$f":"'Daily Calcs'!K1612/1000000","v":0},0]
[0.1,{"$f":"'Daily Calcs'!J1613/1000000","v":0},{"$f":"'Daily Calcs'!K1613/1000000","v":0},0]
[0.1,{"$f":"'Daily Calcs'!J1614/1000000","v":0},{"$f":"'Daily Calcs'!K1614/1000000","v":0},0]
[0.1,{"$f":"'Daily Calcs'!J1615/1000000","v":0},{"$f":"'Daily Calcs'!K1615/1000000","v":0},0]
[0.1,{"$f":"'Daily Calcs'!J1616/1000000","v":0},{"$f":"'Daily Calcs'!K1616/1000000","v":0},0]
[0.1,{"$f":"'Daily Calcs'!J1617/1000000","v":0},{"$f":"'Daily Calcs'!K1617/1000000","v":0},0]
[0.1,{"$f":"'Daily Calcs'!J1618/1000000","v":6.7893757669318757E-18},{"$f":"'Daily Calcs'!K1618/1000000","v":6.7893757669318787E-18},6.7893757669318757E-18]
[0.1,{"$f":"'Daily Calcs'!J1619/1000000","v":0},{"$f":"'Daily Calcs'!K1619/1000000","v":0},0]
[0.1,{"$f":"'Daily Calcs'!J1620/1000000","v":2.5017080928260103E-18},{"$f":"'Daily Calcs'!K1620/1000000","v":2.5017080928260114E-18},2.5017080928260103E-18]
[0.1,{"$f":"'Daily Calcs'!J1621/1000000","v":0},{"$f":"'Daily Calcs'!K1621/1000000","v":0},0]
[0.1,{"$f":"'Daily Calcs'!J1622/1000000","v":0},{"$f":"'Daily Calcs'!K1622/1000000","v":0},0]
[0.1,{"$f":"'Daily Calcs'!J1623/1000000","v":1.014201515576761E-18},{"$f":"'Daily Calcs'!K1623/1000000","v":1.0142015155767613E-18},1.014201515576761E-18]
[0.1,{"$f":"'Daily Calcs'!J1624/1000000","v":4.6451038575667663E-19},{"$f":"'Daily Calcs'!K1624/1000000","v":4.6451038575667673E-19},4.6451038575667663E-19]
[0.1,{"$f":"'Daily Calcs'!J1625/1000000","v":2.4066806084739451E-19},{"$f":"'Daily Calcs'!K1625/1000000","v":2.406680608473946E-19},2.4066806084739451E-19]
[0.1,{"$f":"'Daily Calcs'!J1626/1000000","v":0},{"$f":"'Daily Calcs'!K1626/1000000","v":0},0]
[0.1,{"$f":"'Daily Calcs'!J1627/1000000","v":0},{"$f":"'Daily Calcs'!K1627/1000000","v":0},0]
[0.1,{"$f":"'Daily Calcs'!J1628/1000000","v":1.0636787610359896E-19},{"$f":"'Daily Calcs'!K1628/1000000","v":1.0636787610359898E-19},1.0636787610359896E-19]
[0.1,{"$f":"'Daily Calcs'!J1629/1000000","v":0},{"$f":"'Daily Calcs'!K1629/1000000","v":0},0]
[0.1,{"$f":"'Daily Calcs'!J1630/1000000","v":0},{"$f":"'Daily Calcs'!K1630/1000000","v":0},0]
[0.1,{"$f":"'Daily Calcs'!J1631/1000000","v":0},{"$f":"'Daily Calcs'!K1631/1000000","v":0},0]
[0.1,{"$f":"'Daily Calcs'!J1632/1000000","v":0},{"$f":"'Daily Calcs'!K1632/1000000","v":0},0]
[0.1,{"$f":"'Daily Calcs'!J1633/1000000","v":0},{"$f":"'Daily Calcs'!K1633/1000000","v":0},0]
[0.1,{"$f":"'Daily Calcs'!J1634/1000000","v":0},{"$f":"'Daily Calcs'!K1634/1000000","v":0},0]
[0.1,{"$f":"'Daily Calcs'!J1635/1000000","v":0},{"$f":"'Daily Calcs'!K1635/1000000","v":0},0]
[0.1,{"$f":"'Daily Calcs'!J1636/1000000","v":0},{"$f":"'Daily Calcs'!K1636/1000000","v":0},0]
[0.1,{"$f":"'Daily Calcs'!J1637/1000000","v":5.9536451601634826E-20},{"$f":"'Daily Calcs'!K1637/1000000","v":5.9536451601634826E-20},5.9536451601634826E-20]
[0.1,{"$f":"'Daily Calcs'!J1638/1000000","v":0},{"$f":"'Daily Calcs'!K1638/1000000","v":0},0]
[0.1,{"$f":"'Daily Calcs'!J1639/1000000","v":0},{"$f":"'Daily Calcs'!K1639/1000000","v":0},0]
[0.1,{"$f":"'Daily Calcs'!J1640/1000000","v":0},{"$f":"'Daily Calcs'!K1640/1000000","v":0},0]
[0.1,{"$f":"'Daily Calcs'!J1641/1000000","v":0},{"$f":"'Daily Calcs'!K1641/1000000","v":0},0]
[0.1,{"$f":"'Daily Calcs'!J1642/1000000","v":0},{"$f":"'Daily Calcs'!K1642/1000000","v":0},0]
[0.1,{"$f":"'Daily Calcs'!J1643/1000000","v":0},{"$f":"'Daily Calcs'!K1643/1000000","v":0},0]
[0.1,{"$f":"'Daily Calcs'!J1644/1000000","v":0},{"$f":"'Daily Calcs'!K1644/1000000","v":0},0]
[0.1,{"$f":"'Daily Calcs'!J1645/1000000","v":0},{"$f":"'Daily Calcs'!K1645/1000000","v":0},0]
[0.1,{"$f":"'Daily Calcs'!J1646/1000000","v":1.6023729844843324E-20},{"$f":"'Daily Calcs'!K1646/1000000","v":1.6023729844843324E-20},1.6023729844843324E-20]
[0.1,{"$f":"'Daily Calcs'!J1647/1000000","v":0},{"$f":"'Daily Calcs'!K1647/1000000","v":0},0]
[0.1,{"$f":"'Daily Calcs'!J1648/1000000","v":7.4278730513697302E-21},{"$f":"'Daily Calcs'!K1648/1000000","v":7.4278730513697302E-21},7.4278730513697302E-21]
[0.1,{"$f":"'Daily Calcs'!J1649/1000000","v":0},{"$f":"'Daily Calcs'!K1649/1000000","v":0},0]
[0.1,{"$f":"'Daily Calcs'!J1650/1000000","v":0},{"$f":"'Daily Calcs'!K1650/1000000","v":0},0]
[0.1,{"$f":"'Daily Calcs'!J1651/1000000","v":0},{"$f":"'Daily Calcs'!K1651/1000000","v":0},0]
[0.1,{"$f":"'Daily Calcs'!J1652/1000000","v":0},{"$f":"'Daily Calcs'!K1652/1000000","v":0},0]
[0.1,{"$f":"'Daily Calcs'!J1653/1000000","v":0},{"$f":"'Daily Calcs'!K1653/1000000","v":0},0]
[0.1,{"$f":"'Daily Calcs'!J1654/1000000","v":0},{"$f":"'Daily Calcs'!K1654/1000000","v":0},0]
[0.1,{"$f":"'Daily Calcs'!J1655/1000000","v":0},{"$f":"'Daily Calcs'!K1655/1000000","v":0},0]
[0.1,{"$f":"'Daily Calcs'!J1656/1000000","v":0},{"$f":"'Daily Calcs'!K1656/1000000","v":0},0]
[0.1,{"$f":"'Daily Calcs'!J1657/1000000","v":0},{"$f":"'Daily Calcs'!K1657/1000000","v":0},0]
[0.1,{"$f":"'Daily Calcs'!J1658/1000000","v":1.486867543735559E-5},{"$f":"'Daily Calcs'!K1658/1000000","v":1.5013613429527985E-5},1.486867543735559E-5]
[0.1,{"$f":"'Daily Calcs'!J1659/1000000","v":0},{"$f":"'Daily Calcs'!K1659/1000000","v":0},0]
[0.1,{"$f":"'Daily Calcs'!J1660/1000000","v":0},{"$f":"'Daily Calcs'!K1660/1000000","v":0},0]
[0.1,{"$f":"'Daily Calcs'!J1661/1000000","v":0},{"$f":"'Daily Calcs'!K1661/1000000","v":0},0]
[0.1,{"$f":"'Daily Calcs'!J1662/1000000","v":0},{"$f":"'Daily Calcs'!K1662/1000000","v":0},0]
[0.1,{"$f":"'Daily Calcs'!J1663/1000000","v":0},{"$f":"'Daily Calcs'!K1663/1000000","v":0},0]
[0.1,{"$f":"'Daily Calcs'!J1664/1000000","v":0},{"$f":"'Daily Calcs'!K1664/1000000","v":0},0]
[0.1,{"$f":"'Daily Calcs'!J1665/1000000","v":0},{"$f":"'Daily Calcs'!K1665/1000000","v":0},0]
[0.1,{"$f":"'Daily Calcs'!J1666/1000000","v":0},{"$f":"'Daily Calcs'!K1666/1000000","v":0},0]
[0.1,{"$f":"'Daily Calcs'!J1667/1000000","v":1.1792470369509642E-5},{"$f":"'Daily Calcs'!K1667/1000000","v":1.1822600511271204E-5},{"$f":"B1671","v":1.1792470369509642E-5}]
[0.1,{"$f":"'Daily Calcs'!J1668/1000000","v":2.2098540917741595E-5},{"$f":"'Daily Calcs'!K1668/1000000","v":2.2321454853034468E-5},2.2098540917741595E-5]
[0.1,{"$f":"'Daily Calcs'!J1669/1000000","v":0},{"$f":"'Daily Calcs'!K1669/1000000","v":0},0]
[0.1,{"$f":"'Daily Calcs'!J1670/1000000","v":0},{"$f":"'Daily Calcs'!K1670/1000000","v":0},0]
[0.1,{"$f":"'Daily Calcs'!J1671/1000000","v":0},{"$f":"'Daily Calcs'!K1671/1000000","v":0},0]
[0.1,{"$f":"'Daily Calcs'!J1672/1000000","v":0},{"$f":"'Daily Calcs'!K1672/1000000","v":0},0]
[0.1,{"$f":"'Daily Calcs'!J1673/1000000","v":0},{"$f":"'Daily Calcs'!K1673/1000000","v":0},0]
[0.1,{"$f":"'Daily Calcs'!J1674/1000000","v":0},{"$f":"'Daily Calcs'!K1674/1000000","v":0},0]
[0.1,{"$f":"'Daily Calcs'!J1675/1000000","v":0},{"$f":"'Daily Calcs'!K1675/1000000","v":0},0]
[0.1,{"$f":"'Daily Calcs'!J1676/1000000","v":0},{"$f":"'Daily Calcs'!K1676/1000000","v":0},0]
[0.1,{"$f":"'Daily Calcs'!J1677/1000000","v":0},{"$f":"'Daily Calcs'!K1677/1000000","v":0},0]
[0.1,{"$f":"'Daily Calcs'!J1678/1000000","v":0},{"$f":"'Daily Calcs'!K1678/1000000","v":0},0]
[0.1,{"$f":"'Daily Calcs'!J1679/1000000","v":0},{"$f":"'Daily Calcs'!K1679/1000000","v":0},0]
[0.1,{"$f":"'Daily Calcs'!J1680/1000000","v":0},{"$f":"'Daily Calcs'!K1680/1000000","v":0},0]
[0.1,{"$f":"'Daily Calcs'!J1681/1000000","v":0},{"$f":"'Daily Calcs'!K1681/1000000","v":0},0]
[0.1,{"$f":"'Daily Calcs'!J1682/1000000","v":1.7205752262571736E-5},{"$f":"'Daily Calcs'!K1682/1000000","v":1.7238146165536333E-5},1.7205752262571736E-5]
[0.1,{"$f":"'Daily Calcs'!J1683/1000000","v":0},{"$f":"'Daily Calcs'!K1683/1000000","v":0},0]
[0.1,{"$f":"'Daily Calcs'!J1684/1000000","v":0},{"$f":"'Daily Calcs'!K1684/1000000","v":0},0]
[0.1,{"$f":"'Daily Calcs'!J1685/1000000","v":0},{"$f":"'Daily Calcs'!K1685/1000000","v":0},0]
[0.1,{"$f":"'Daily Calcs'!J1686/1000000","v":0},{"$f":"'Daily Calcs'!K1686/1000000","v":0},0]
[0.1,{"$f":"'Daily Calcs'!J1687/1000000","v":0},{"$f":"'Daily Calcs'!K1687/1000000","v":0},0]
[0.1,{"$f":"'Daily Calcs'!J1688/1000000","v":0},{"$f":"'Daily Calcs'!K1688/1000000","v":0},0]
[0.1,{"$f":"'Daily Calcs'!J1689/1000000","v":0},{"$f":"'Daily Calcs'!K1689/1000000","v":0},0]
[0.1,{"$f":"'Daily Calcs'!J1690/1000000","v":0},{"$f":"'Daily Calcs'!K1690/1000000","v":0},0]
[0.1,{"$f":"'Daily Calcs'!J1691/1000000","v":0},{"$f":"'Daily Calcs'!K1691/1000000","v":0},0]
[0.1,{"$f":"'Daily Calcs'!J1692/1000000","v":0},{"$f":"'Daily Calcs'!K1692/1000000","v":0},0]
[0.1,{"$f":"'Daily Calcs'!J1693/1000000","v":0},{"$f":"'Daily Calcs'!K1693/1000000","v":0},0]
[0.1,{"$f":"'Daily Calcs'!J1694/1000000","v":0},{"$f":"'Daily Calcs'!K1694/1000000","v":0},0]
[0.1,{"$f":"'Daily Calcs'!J1695/1000000","v":0},{"$f":"'Daily Calcs'!K1695/1000000","v":0},0]
[0.1,{"$f":"'Daily Calcs'!J1696/1000000","v":0},{"$f":"'Daily Calcs'!K1696/1000000","v":0},0]
[0.1,{"$f":"'Daily Calcs'!J1697/1000000","v":0},{"$f":"'Daily Calcs'!K1697/1000000","v":0},0]
[0.1,{"$f":"'Daily Calcs'!J1698/1000000","v":0},{"$f":"'Daily Calcs'!K1698/1000000","v":0},0]
[0.1,{"$f":"'Daily Calcs'!J1699/1000000","v":0},{"$f":"'Daily Calcs'!K1699/1000000","v":0},0]
[0.1,{"$f":"'Daily Calcs'!J1700/1000000","v":1.0458618612712503E-5},{"$f":"'Daily Calcs'!K1700/1000000","v":1.0462000172089535E-5},1.0458618612712503E-5]
[0.1,{"$f":"'Daily Calcs'!J1701/1000000","v":0},{"$f":"'Daily Calcs'!K1701/1000000","v":0},0]
[0.1,{"$f":"'Daily Calcs'!J1702/1000000","v":0},{"$f":"'Daily Calcs'!K1702/1000000","v":0},0]
[0.1,{"$f":"'Daily Calcs'!J1703/1000000","v":0},{"$f":"'Daily Calcs'!K1703/1000000","v":0},0]
[0.1,{"$f":"'Daily Calcs'!J1704/1000000","v":0},{"$f":"'Daily Calcs'!K1704/1000000","v":0},0]
[0.1,{"$f":"'Daily Calcs'!J1705/1000000","v":0},{"$f":"'Daily Calcs'!K1705/1000000","v":0},0]
[0.1,{"$f":"'Daily Calcs'!J1706/1000000","v":0},{"$f":"'Daily Calcs'!K1706/1000000","v":0},0]
[0.1,{"$f":"'Daily Calcs'!J1707/1000000","v":7.9595076999709444E-6},{"$f":"'Daily Calcs'!K1707/1000000","v":7.9606128844796801E-6},7.9595076999709444E-6]
[0.1,{"$f":"'Daily Calcs'!J1708/1000000","v":7.0335989484925648E-6},{"$f":"'Daily Calcs'!K1708/1000000","v":7.0343616528382468E-6},7.0335989484925648E-6]
[0.1,{"$f":"'Daily Calcs'!J1709/1000000","v":0},{"$f":"'Daily Calcs'!K1709/1000000","v":0},0]
[0.1,{"$f":"'Daily Calcs'!J1710/1000000","v":0},{"$f":"'Daily Calcs'!K1710/1000000","v":0},0]
[0.1,{"$f":"'Daily Calcs'!J1711/1000000","v":0},{"$f":"'Daily Calcs'!K1711/1000000","v":0},0]
[0.1,{"$f":"'Daily Calcs'!J1712/1000000","v":0},{"$f":"'Daily Calcs'!K1712/1000000","v":0},0]
[0.1,{"$f":"'Daily Calcs'!J1713/1000000","v":0},{"$f":"'Daily Calcs'!K1713/1000000","v":0},0]
[0.1,{"$f":"'Daily Calcs'!J1714/1000000","v":0},{"$f":"'Daily Calcs'!K1714/1000000","v":0},0]
[0.1,{"$f":"'Daily Calcs'!J1715/1000000","v":5.8090774543660586E-6},{"$f":"'Daily Calcs'!K1715/1000000","v":5.8092763484624247E-6},5.8090774543660586E-6]
[0.1,{"$f":"'Daily Calcs'!J1716/1000000","v":0},{"$f":"'Daily Calcs'!K1716/1000000","v":0},0]
[0.1,{"$f":"'Daily Calcs'!J1717/1000000","v":0},{"$f":"'Daily Calcs'!K1717/1000000","v":0},0]
[0.1,{"$f":"'Daily Calcs'!J1718/1000000","v":0},{"$f":"'Daily Calcs'!K1718/1000000","v":0},0]
[0.1,{"$f":"'Daily Calcs'!J1719/1000000","v":0},{"$f":"'Daily Calcs'!K1719/1000000","v":0},0]
[0.1,{"$f":"'Daily Calcs'!J1720/1000000","v":0},{"$f":"'Daily Calcs'!K1720/1000000","v":0},0]
[0.1,{"$f":"'Daily Calcs'!J1721/1000000","v":0},{"$f":"'Daily Calcs'!K1721/1000000","v":0},0]
[0.1,{"$f":"'Daily Calcs'!J1722/1000000","v":0},{"$f":"'Daily Calcs'!K1722/1000000","v":0},0]
[0.1,{"$f":"'Daily Calcs'!J1723/1000000","v":0},{"$f":"'Daily Calcs'!K1723/1000000","v":0},0]
[0.1,{"$f":"'Daily Calcs'!J1724/1000000","v":0},{"$f":"'Daily Calcs'!K1724/1000000","v":0},0]
[0.1,{"$f":"'Daily Calcs'!J1725/1000000","v":0},{"$f":"'Daily Calcs'!K1725/1000000","v":0},0]
[0.1,{"$f":"'Daily Calcs'!J1726/1000000","v":0},{"$f":"'Daily Calcs'!K1726/1000000","v":0},0]
[0.1,{"$f":"'Daily Calcs'!J1727/1000000","v":0},{"$f":"'Daily Calcs'!K1727/1000000","v":0},0]
[0.1,{"$f":"'Daily Calcs'!J1728/1000000","v":0},{"$f":"'Daily Calcs'!K1728/1000000","v":0},0]
[0.1,{"$f":"'Daily Calcs'!J1729/1000000","v":0},{"$f":"'Daily Calcs'!K1729/1000000","v":0},0]
[0.1,{"$f":"'Daily Calcs'!J1730/1000000","v":0},{"$f":"'Daily Calcs'!K1730/1000000","v":0},0]
[0.1,{"$f":"'Daily Calcs'!J1731/1000000","v":0},{"$f":"'Daily Calcs'!K1731/1000000","v":0},{"$f":"B1735","v":0}]
[0.1,{"$f":"'Daily Calcs'!J1732/1000000","v":0},{"$f":"'Daily Calcs'!K1732/1000000","v":0},0]
[0.1,{"$f":"'Daily Calcs'!J1733/1000000","v":0},{"$f":"'Daily Calcs'!K1733/1000000","v":0},0]
[0.1,{"$f":"'Daily Calcs'!J1734/1000000","v":0},{"$f":"'Daily Calcs'!K1734/1000000","v":0},0]
[0.1,{"$f":"'Daily Calcs'!J1735/1000000","v":2.9355213675213676E-6},{"$f":"'Daily Calcs'!K1735/1000000","v":2.9355579295726494E-6},2.9355213675213676E-6]
[0.1,{"$f":"'Daily Calcs'!J1736/1000000","v":2.0927926119253162E-6},{"$f":"'Daily Calcs'!K1736/1000000","v":2.0928085677574786E-6},2.0927926119253162E-6]
[0.1,{"$f":"'Daily Calcs'!J1737/1000000","v":0},{"$f":"'Daily Calcs'!K1737/1000000","v":0},0]
[0.1,{"$f":"'Daily Calcs'!J1738/1000000","v":0},{"$f":"'Daily Calcs'!K1738/1000000","v":0},0]
[0.1,{"$f":"'Daily Calcs'!J1739/1000000","v":0},{"$f":"'Daily Calcs'!K1739/1000000","v":0},0]
[0.1,{"$f":"'Daily Calcs'!J1740/1000000","v":0},{"$f":"'Daily Calcs'!K1740/1000000","v":0},0]
[0.1,{"$f":"'Daily Calcs'!J1741/1000000","v":0},{"$f":"'Daily Calcs'!K1741/1000000","v":0},0]
[0.1,{"$f":"'Daily Calcs'!J1742/1000000","v":0},{"$f":"'Daily Calcs'!K1742/1000000","v":0},0]
[0.1,{"$f":"'Daily Calcs'!J1743/1000000","v":0},{"$f":"'Daily Calcs'!K1743/1000000","v":0},0]
[0.1,{"$f":"'Daily Calcs'!J1744/1000000","v":0},{"$f":"'Daily Calcs'!K1744/1000000","v":0},0]
[0.1,{"$f":"'Daily Calcs'!J1745/1000000","v":0},{"$f":"'Daily Calcs'!K1745/1000000","v":0},0]
[0.1,{"$f":"'Daily Calcs'!J1746/1000000","v":0},{"$f":"'Daily Calcs'!K1746/1000000","v":0},0]
[0.1,{"$f":"'Daily Calcs'!J1747/1000000","v":0},{"$f":"'Daily Calcs'!K1747/1000000","v":0},0]
[0.1,{"$f":"'Daily Calcs'!J1748/1000000","v":0},{"$f":"'Daily Calcs'!K1748/1000000","v":0},0]
[0.1,{"$f":"'Daily Calcs'!J1749/1000000","v":0},{"$f":"'Daily Calcs'!K1749/1000000","v":0},0]
[0.1,{"$f":"'Daily Calcs'!J1750/1000000","v":0},{"$f":"'Daily Calcs'!K1750/1000000","v":0},0]
[0.1,{"$f":"'Daily Calcs'!J1751/1000000","v":0},{"$f":"'Daily Calcs'!K1751/1000000","v":0},0]
[0.1,{"$f":"'Daily Calcs'!J1752/1000000","v":0},{"$f":"'Daily Calcs'!K1752/1000000","v":0},0]
[0.1,{"$f":"'Daily Calcs'!J1753/1000000","v":0},{"$f":"'Daily Calcs'!K1753/1000000","v":0},0]
[0.1,{"$f":"'Daily Calcs'!J1754/1000000","v":0},{"$f":"'Daily Calcs'!K1754/1000000","v":0},0]
[0.1,{"$f":"'Daily Calcs'!J1755/1000000","v":0},{"$f":"'Daily Calcs'!K1755/1000000","v":0},0]
[0.1,{"$f":"'Daily Calcs'!J1756/1000000","v":1.1556221889055475E-6},{"$f":"'Daily Calcs'!K1756/1000000","v":1.1556228817091456E-6},1.1556221889055475E-6]
[0.1,{"$f":"'Daily Calcs'!J1757/1000000","v":0},{"$f":"'Daily Calcs'!K1757/1000000","v":0},0]
[0.1,{"$f":"'Daily Calcs'!J1758/1000000","v":0},{"$f":"'Daily Calcs'!K1758/1000000","v":0},0]
[0.1,{"$f":"'Daily Calcs'!J1759/1000000","v":0},{"$f":"'Daily Calcs'!K1759/1000000","v":0},0]
[0.1,{"$f":"'Daily Calcs'!J1760/1000000","v":0},{"$f":"'Daily Calcs'!K1760/1000000","v":0},0]
[0.1,{"$f":"'Daily Calcs'!J1761/1000000","v":0},{"$f":"'Daily Calcs'!K1761/1000000","v":0},0]
[0.1,{"$f":"'Daily Calcs'!J1762/1000000","v":0},{"$f":"'Daily Calcs'!K1762/1000000","v":0},0]
[0.1,{"$f":"'Daily Calcs'!J1763/1000000","v":0},{"$f":"'Daily Calcs'!K1763/1000000","v":0},0]
[0.1,{"$f":"'Daily Calcs'!J1764/1000000","v":0},{"$f":"'Daily Calcs'!K1764/1000000","v":0},0]
[0.1,{"$f":"'Daily Calcs'!J1765/1000000","v":0},{"$f":"'Daily Calcs'!K1765/1000000","v":0},0]
[0.1,{"$f":"'Daily Calcs'!J1766/1000000","v":0},{"$f":"'Daily Calcs'!K1766/1000000","v":0},0]
[0.1,{"$f":"'Daily Calcs'!J1767/1000000","v":0},{"$f":"'Daily Calcs'!K1767/1000000","v":0},0]
[0.1,{"$f":"'Daily Calcs'!J1768/1000000","v":0},{"$f":"'Daily Calcs'!K1768/1000000","v":0},0]
[0.1,{"$f":"'Daily Calcs'!J1769/1000000","v":0},{"$f":"'Daily Calcs'!K1769/1000000","v":0},0]
[0.1,{"$f":"'Daily Calcs'!J1770/1000000","v":0},{"$f":"'Daily Calcs'!K1770/1000000","v":0},0]
[0.1,{"$f":"'Daily Calcs'!J1771/1000000","v":0},{"$f":"'Daily Calcs'!K1771/1000000","v":0},0]
[0.1,{"$f":"'Daily Calcs'!J1772/1000000","v":0},{"$f":"'Daily Calcs'!K1772/1000000","v":0},0]
[0.1,{"$f":"'Daily Calcs'!J1773/1000000","v":0},{"$f":"'Daily Calcs'!K1773/1000000","v":0},0]
[0.1,{"$f":"'Daily Calcs'!J1774/1000000","v":0},{"$f":"'Daily Calcs'!K1774/1000000","v":0},0]
[0.1,{"$f":"'Daily Calcs'!J1775/1000000","v":0},{"$f":"'Daily Calcs'!K1775/1000000","v":0},0]
[0.1,{"$f":"'Daily Calcs'!J1776/1000000","v":0},{"$f":"'Daily Calcs'!K1776/1000000","v":0},0]
[0.1,{"$f":"'Daily Calcs'!J1777/1000000","v":0},{"$f":"'Daily Calcs'!K1777/1000000","v":0},0]
[0.1,{"$f":"'Daily Calcs'!J1778/1000000","v":0},{"$f":"'Daily Calcs'!K1778/1000000","v":0},0]
[0.1,{"$f":"'Daily Calcs'!J1779/1000000","v":0},{"$f":"'Daily Calcs'!K1779/1000000","v":0},0]
[0.1,{"$f":"'Daily Calcs'!J1780/1000000","v":0},{"$f":"'Daily Calcs'!K1780/1000000","v":0},0]
[0.1,{"$f":"'Daily Calcs'!J1781/1000000","v":0},{"$f":"'Daily Calcs'!K1781/1000000","v":0},0]
[0.1,{"$f":"'Daily Calcs'!J1782/1000000","v":0},{"$f":"'Daily Calcs'!K1782/1000000","v":0},0]
[0.1,{"$f":"'Daily Calcs'!J1783/1000000","v":0},{"$f":"'Daily Calcs'!K1783/1000000","v":0},0]
[0.1,{"$f":"'Daily Calcs'!J1784/1000000","v":0},{"$f":"'Daily Calcs'!K1784/1000000","v":0},0]
[0.1,{"$f":"'Daily Calcs'!J1785/1000000","v":0},{"$f":"'Daily Calcs'!K1785/1000000","v":0},0]
[0.1,{"$f":"'Daily Calcs'!J1786/1000000","v":0},{"$f":"'Daily Calcs'!K1786/1000000","v":0},0]
[0.1,{"$f":"'Daily Calcs'!J1787/1000000","v":5.8861246473454736E-7},{"$f":"'Daily Calcs'!K1787/1000000","v":5.8861261411221575E-7},5.8861246473454736E-7]
[0.1,{"$f":"'Daily Calcs'!J1788/1000000","v":4.127072927072928E-7},{"$f":"'Daily Calcs'!K1788/1000000","v":4.1270736649150852E-7},4.127072927072928E-7]
[0.1,{"$f":"'Daily Calcs'!J1789/1000000","v":0},{"$f":"'Daily Calcs'!K1789/1000000","v":0},0]
[0.1,{"$f":"'Daily Calcs'!J1790/1000000","v":0},{"$f":"'Daily Calcs'!K1790/1000000","v":0},0]
[0.1,{"$f":"'Daily Calcs'!J1791/1000000","v":0},{"$f":"'Daily Calcs'!K1791/1000000","v":0},0]
[0.1,{"$f":"'Daily Calcs'!J1792/1000000","v":0},{"$f":"'Daily Calcs'!K1792/1000000","v":0},0]
[0.1,{"$f":"'Daily Calcs'!J1793/1000000","v":3.3929281877859556E-7},{"$f":"'Daily Calcs'!K1793/1000000","v":3.3929283625074603E-7},3.3929281877859556E-7]
[0.1,{"$f":"'Daily Calcs'!J1794/1000000","v":0},{"$f":"'Daily Calcs'!K1794/1000000","v":0},0]
[0.1,{"$f":"'Daily Calcs'!J1795/1000000","v":0},{"$f":"'Daily Calcs'!K1795/1000000","v":0},{"$f":"B1799","v":0}]
[0.1,{"$f":"'Daily Calcs'!J1796/1000000","v":0},{"$f":"'Daily Calcs'!K1796/1000000","v":0},0]
[0.1,{"$f":"'Daily Calcs'!J1797/1000000","v":0},{"$f":"'Daily Calcs'!K1797/1000000","v":0},0]
[0.1,{"$f":"'Daily Calcs'!J1798/1000000","v":0},{"$f":"'Daily Calcs'!K1798/1000000","v":0},0]
[0.1,{"$f":"'Daily Calcs'!J1799/1000000","v":0},{"$f":"'Daily Calcs'!K1799/1000000","v":0},0]
[0.1,{"$f":"'Daily Calcs'!J1800/1000000","v":0},{"$f":"'Daily Calcs'!K1800/1000000","v":0},0]
[0.1,{"$f":"'Daily Calcs'!J1801/1000000","v":0},{"$f":"'Daily Calcs'!K1801/1000000","v":0},0]
[0.1,{"$f":"'Daily Calcs'!J1802/1000000","v":0},{"$f":"'Daily Calcs'!K1802/1000000","v":0},0]
[0.1,{"$f":"'Daily Calcs'!J1803/1000000","v":0},{"$f":"'Daily Calcs'!K1803/1000000","v":0},0]
[0.1,{"$f":"'Daily Calcs'!J1804/1000000","v":0},{"$f":"'Daily Calcs'!K1804/1000000","v":0},0]
[0.1,{"$f":"'Daily Calcs'!J1805/1000000","v":0},{"$f":"'Daily Calcs'!K1805/1000000","v":0},0]
[0.1,{"$f":"'Daily Calcs'!J1806/1000000","v":0},{"$f":"'Daily Calcs'!K1806/1000000","v":0},0]
[0.1,{"$f":"'Daily Calcs'!J1807/1000000","v":0},{"$f":"'Daily Calcs'!K1807/1000000","v":0},0]
[0.1,{"$f":"'Daily Calcs'!J1808/1000000","v":2.0453007388992476E-7},{"$f":"'Daily Calcs'!K1808/1000000","v":2.0453007919508319E-7},2.0453007388992476E-7]
[0.1,{"$f":"'Daily Calcs'!J1809/1000000","v":0},{"$f":"'Daily Calcs'!K1809/1000000","v":0},0]
[0.1,{"$f":"'Daily Calcs'!J1810/1000000","v":0},{"$f":"'Daily Calcs'!K1810/1000000","v":0},0]
[0.1,{"$f":"'Daily Calcs'!J1811/1000000","v":1.5403293359205185E-7},{"$f":"'Daily Calcs'!K1811/1000000","v":1.5403293680843169E-7},1.5403293359205185E-7]
[0.1,{"$f":"'Daily Calcs'!J1812/1000000","v":1.2117859788791644E-7},{"$f":"'Daily Calcs'!K1812/1000000","v":1.2117859972751361E-7},1.2117859788791644E-7]
[0.1,{"$f":"'Daily Calcs'!J1813/1000000","v":0},{"$f":"'Daily Calcs'!K1813/1000000","v":0},0]
[0.1,{"$f":"'Daily Calcs'!J1814/1000000","v":0},{"$f":"'Daily Calcs'!K1814/1000000","v":0},0]
[0.1,{"$f":"'Daily Calcs'!J1815/1000000","v":0},{"$f":"'Daily Calcs'!K1815/1000000","v":0},0]
[0.1,{"$f":"'Daily Calcs'!J1816/1000000","v":0},{"$f":"'Daily Calcs'!K1816/1000000","v":0},0]
[0.1,{"$f":"'Daily Calcs'!J1817/1000000","v":0},{"$f":"'Daily Calcs'!K1817/1000000","v":0},0]
[0.1,{"$f":"'Daily Calcs'!J1818/1000000","v":0},{"$f":"'Daily Calcs'!K1818/1000000","v":0},0]
[0.1,{"$f":"'Daily Calcs'!J1819/1000000","v":0},{"$f":"'Daily Calcs'!K1819/1000000","v":0},0]
[0.1,{"$f":"'Daily Calcs'!J1820/1000000","v":0},{"$f":"'Daily Calcs'!K1820/1000000","v":0},0]
[0.1,{"$f":"'Daily Calcs'!J1821/1000000","v":8.0800579382810021E-8},{"$f":"'Daily Calcs'!K1821/1000000","v":8.0800579874291121E-8},8.0800579382810021E-8]
[0.1,{"$f":"'Daily Calcs'!J1822/1000000","v":0},{"$f":"'Daily Calcs'!K1822/1000000","v":0},0]
[0.1,{"$f":"'Daily Calcs'!J1823/1000000","v":0},{"$f":"'Daily Calcs'!K1823/1000000","v":0},0]
[0.1,{"$f":"'Daily Calcs'!J1824/1000000","v":0},{"$f":"'Daily Calcs'!K1824/1000000","v":0},0]
[0.1,{"$f":"'Daily Calcs'!J1825/1000000","v":0},{"$f":"'Daily Calcs'!K1825/1000000","v":0},0]
[0.1,{"$f":"'Daily Calcs'!J1826/1000000","v":0},{"$f":"'Daily Calcs'!K1826/1000000","v":0},0]
[0.1,{"$f":"'Daily Calcs'!J1827/1000000","v":0},{"$f":"'Daily Calcs'!K1827/1000000","v":0},0]
[0.1,{"$f":"'Daily Calcs'!J1828/1000000","v":0},{"$f":"'Daily Calcs'!K1828/1000000","v":0},0]
[0.1,{"$f":"'Daily Calcs'!J1829/1000000","v":0},{"$f":"'Daily Calcs'!K1829/1000000","v":0},0]
[0.1,{"$f":"'Daily Calcs'!J1830/1000000","v":4.5687913409500905E-8},{"$f":"'Daily Calcs'!K1830/1000000","v":4.5687913564125068E-8},4.5687913409500905E-8]
[0.1,{"$f":"'Daily Calcs'!J1831/1000000","v":0},{"$f":"'Daily Calcs'!K1831/1000000","v":0},0]
[0.1,{"$f":"'Daily Calcs'!J1832/1000000","v":2.3038934580849622E-8},{"$f":"'Daily Calcs'!K1832/1000000","v":2.3038934632543576E-8},2.3038934580849622E-8]
[0.1,{"$f":"'Daily Calcs'!J1833/1000000","v":0},{"$f":"'Daily Calcs'!K1833/1000000","v":0},0]
[0.1,{"$f":"'Daily Calcs'!J1834/1000000","v":0},{"$f":"'Daily Calcs'!K1834/1000000","v":0},0]
[0.1,{"$f":"'Daily Calcs'!J1835/1000000","v":0},{"$f":"'Daily Calcs'!K1835/1000000","v":0},0]
[0.1,{"$f":"'Daily Calcs'!J1836/1000000","v":0},{"$f":"'Daily Calcs'!K1836/1000000","v":0},0]
[0.1,{"$f":"'Daily Calcs'!J1837/1000000","v":0},{"$f":"'Daily Calcs'!K1837/1000000","v":0},0]
[0.1,{"$f":"'Daily Calcs'!J1838/1000000","v":0},{"$f":"'Daily Calcs'!K1838/1000000","v":0},0]
[0.1,{"$f":"'Daily Calcs'!J1839/1000000","v":0},{"$f":"'Daily Calcs'!K1839/1000000","v":0},0]
[0.1,{"$f":"'Daily Calcs'!J1840/1000000","v":1.661814556331007E-8},{"$f":"'Daily Calcs'!K1840/1000000","v":1.661814557310678E-8},1.661814556331007E-8]
[0.1,{"$f":"'Daily Calcs'!J1841/1000000","v":9.8953447808054585E-9},{"$f":"'Daily Calcs'!K1841/1000000","v":9.895344787869298E-9},9.8953447808054585E-9]
[0.1,{"$f":"'Daily Calcs'!J1842/1000000","v":5.1228637020661509E-9},{"$f":"'Daily Calcs'!K1842/1000000","v":5.1228637044106802E-9},5.1228637020661509E-9]
[0.1,{"$f":"'Daily Calcs'!J1843/1000000","v":0},{"$f":"'Daily Calcs'!K1843/1000000","v":0},0]
[0.1,{"$f":"'Daily Calcs'!J1844/1000000","v":0},{"$f":"'Daily Calcs'!K1844/1000000","v":0},0]
[0.1,{"$f":"'Daily Calcs'!J1845/1000000","v":0},{"$f":"'Daily Calcs'!K1845/1000000","v":0},0]
[0.1,{"$f":"'Daily Calcs'!J1846/1000000","v":0},{"$f":"'Daily Calcs'!K1846/1000000","v":0},0]
[0.1,{"$f":"'Daily Calcs'!J1847/1000000","v":0},{"$f":"'Daily Calcs'!K1847/1000000","v":0},0]
[0.1,{"$f":"'Daily Calcs'!J1848/1000000","v":0},{"$f":"'Daily Calcs'!K1848/1000000","v":0},0]
[0.1,{"$f":"'Daily Calcs'!J1849/1000000","v":3.1472481282017602E-9},{"$f":"'Daily Calcs'!K1849/1000000","v":3.1472481286808694E-9},3.1472481282017602E-9]
[0.1,{"$f":"'Daily Calcs'!J1850/1000000","v":0},{"$f":"'Daily Calcs'!K1850/1000000","v":0},0]
[0.1,{"$f":"'Daily Calcs'!J1851/1000000","v":0},{"$f":"'Daily Calcs'!K1851/1000000","v":0},0]
[0.1,{"$f":"'Daily Calcs'!J1852/1000000","v":2.2245190927361472E-9},{"$f":"'Daily Calcs'!K1852/1000000","v":2.2245190929695097E-9},2.2245190927361472E-9]
[0.1,{"$f":"'Daily Calcs'!J1853/1000000","v":1.7356788731524241E-9},{"$f":"'Daily Calcs'!K1853/1000000","v":1.7356788732847467E-9},1.7356788731524241E-9]
[0.1,{"$f":"'Daily Calcs'!J1854/1000000","v":0},{"$f":"'Daily Calcs'!K1854/1000000","v":0},0]
[0.1,{"$f":"'Daily Calcs'!J1855/1000000","v":0},{"$f":"'Daily Calcs'!K1855/1000000","v":0},0]
[0.1,{"$f":"'Daily Calcs'!J1856/1000000","v":1.1765331018275983E-9},{"$f":"'Daily Calcs'!K1856/1000000","v":1.17653310189451E-9},1.1765331018275983E-9]
[0.1,{"$f":"'Daily Calcs'!J1857/1000000","v":0},{"$f":"'Daily Calcs'!K1857/1000000","v":0},0]
[0.1,{"$f":"'Daily Calcs'!J1858/1000000","v":0},{"$f":"'Daily Calcs'!K1858/1000000","v":0},0]
[0.1,{"$f":"'Daily Calcs'!J1859/1000000","v":8.4191187107600615E-10},{"$f":"'Daily Calcs'!K1859/1000000","v":8.4191187111172929E-10},{"$f":"B1863","v":8.4191187107600615E-10}]
[0.1,{"$f":"'Daily Calcs'!J1860/1000000","v":0},{"$f":"'Daily Calcs'!K1860/1000000","v":0},0]
[0.1,{"$f":"'Daily Calcs'!J1861/1000000","v":0},{"$f":"'Daily Calcs'!K1861/1000000","v":0},0]
[0.1,{"$f":"'Daily Calcs'!J1862/1000000","v":0},{"$f":"'Daily Calcs'!K1862/1000000","v":0},0]
[0.1,{"$f":"'Daily Calcs'!J1863/1000000","v":0},{"$f":"'Daily Calcs'!K1863/1000000","v":0},0]
[0.1,{"$f":"'Daily Calcs'!J1864/1000000","v":0},{"$f":"'Daily Calcs'!K1864/1000000","v":0},0]
[0.1,{"$f":"'Daily Calcs'!J1865/1000000","v":0},{"$f":"'Daily Calcs'!K1865/1000000","v":0},0]
[0.1,{"$f":"'Daily Calcs'!J1866/1000000","v":0},{"$f":"'Daily Calcs'!K1866/1000000","v":0},0]
[0.1,{"$f":"'Daily Calcs'!J1867/1000000","v":0},{"$f":"'Daily Calcs'!K1867/1000000","v":0},0]
[0.1,{"$f":"'Daily Calcs'!J1868/1000000","v":5.1737089201877934E-10},{"$f":"'Daily Calcs'!K1868/1000000","v":5.1737089203209561E-10},5.1737089201877934E-10]
[0.1,{"$f":"'Daily Calcs'!J1869/1000000","v":0},{"$f":"'Daily Calcs'!K1869/1000000","v":0},0]
[0.1,{"$f":"'Daily Calcs'!J1870/1000000","v":2.3916019783171197E-10},{"$f":"'Daily Calcs'!K1870/1000000","v":2.3916019783862761E-10},2.3916019783171197E-10]
[0.1,{"$f":"'Daily Calcs'!J1871/1000000","v":1.0952442692666737E-10},{"$f":"'Daily Calcs'!K1871/1000000","v":1.0952442692853581E-10},1.0952442692666737E-10]
[0.1,{"$f":"'Daily Calcs'!J1872/1000000","v":0},{"$f":"'Daily Calcs'!K1872/1000000","v":0},0]
[0.1,{"$f":"'Daily Calcs'!J1873/1000000","v":6.4786502972743411E-11},{"$f":"'Daily Calcs'!K1873/1000000","v":6.478650297335546E-11},6.4786502972743411E-11]
[0.1,{"$f":"'Daily Calcs'!J1874/1000000","v":3.2932253941201539E-11},{"$f":"'Daily Calcs'!K1874/1000000","v":3.2932253941452084E-11},3.2932253941201539E-11]
[0.1,{"$f":"'Daily Calcs'!J1875/1000000","v":0},{"$f":"'Daily Calcs'!K1875/1000000","v":0},0]
[0.1,{"$f":"'Daily Calcs'!J1876/1000000","v":0},{"$f":"'Daily Calcs'!K1876/1000000","v":0},0]
[0.1,{"$f":"'Daily Calcs'!J1877/1000000","v":0},{"$f":"'Daily Calcs'!K1877/1000000","v":0},0]
[0.1,{"$f":"'Daily Calcs'!J1878/1000000","v":0},{"$f":"'Daily Calcs'!K1878/1000000","v":0},0]
[0.1,{"$f":"'Daily Calcs'!J1879/1000000","v":0},{"$f":"'Daily Calcs'!K1879/1000000","v":0},0]
[0.1,{"$f":"'Daily Calcs'!J1880/1000000","v":0},{"$f":"'Daily Calcs'!K1880/1000000","v":0},0]
[0.1,{"$f":"'Daily Calcs'!J1881/1000000","v":0},{"$f":"'Daily Calcs'!K1881/1000000","v":0},0]
[0.1,{"$f":"'Daily Calcs'!J1882/1000000","v":0},{"$f":"'Daily Calcs'!K1882/1000000","v":0},0]
[0.1,{"$f":"'Daily Calcs'!J1883/1000000","v":0},{"$f":"'Daily Calcs'!K1883/1000000","v":0},0]
[0.1,{"$f":"'Daily Calcs'!J1884/1000000","v":0},{"$f":"'Daily Calcs'!K1884/1000000","v":0},0]
[0.1,{"$f":"'Daily Calcs'!J1885/1000000","v":0},{"$f":"'Daily Calcs'!K1885/1000000","v":0},0]
[0.1,{"$f":"'Daily Calcs'!J1886/1000000","v":1.2444778979061174E-11},{"$f":"'Daily Calcs'!K1886/1000000","v":1.2444778979090196E-11},1.2444778979061174E-11]
[0.1,{"$f":"'Daily Calcs'!J1887/1000000","v":0},{"$f":"'Daily Calcs'!K1887/1000000","v":0},0]
[0.1,{"$f":"'Daily Calcs'!J1888/1000000","v":0},{"$f":"'Daily Calcs'!K1888/1000000","v":0},0]
[0.1,{"$f":"'Daily Calcs'!J1889/1000000","v":4.9265459514861632E-12},{"$f":"'Daily Calcs'!K1889/1000000","v":4.9265459514952622E-12},4.9265459514861632E-12]
[0.1,{"$f":"'Daily Calcs'!J1890/1000000","v":2.6577800134138157E-12},{"$f":"'Daily Calcs'!K1890/1000000","v":2.6577800134170364E-12},2.6577800134138157E-12]
[0.1,{"$f":"'Daily Calcs'!J1891/1000000","v":0},{"$f":"'Daily Calcs'!K1891/1000000","v":0},0]
[0.1,{"$f":"'Daily Calcs'!J1892/1000000","v":0},{"$f":"'Daily Calcs'!K1892/1000000","v":0},0]
[0.1,{"$f":"'Daily Calcs'!J1893/1000000","v":0},{"$f":"'Daily Calcs'!K1893/1000000","v":0},0]
[0.1,{"$f":"'Daily Calcs'!J1894/1000000","v":0},{"$f":"'Daily Calcs'!K1894/1000000","v":0},0]
[0.1,{"$f":"'Daily Calcs'!J1895/1000000","v":0},{"$f":"'Daily Calcs'!K1895/1000000","v":0},0]
[0.1,{"$f":"'Daily Calcs'!J1896/1000000","v":0},{"$f":"'Daily Calcs'!K1896/1000000","v":0},0]
[0.1,{"$f":"'Daily Calcs'!J1897/1000000","v":0},{"$f":"'Daily Calcs'!K1897/1000000","v":0},0]
[0.1,{"$f":"'Daily Calcs'!J1898/1000000","v":0},{"$f":"'Daily Calcs'!K1898/1000000","v":0},0]
[0.1,{"$f":"'Daily Calcs'!J1899/1000000","v":0},{"$f":"'Daily Calcs'!K1899/1000000","v":0},0]
[0.1,{"$f":"'Daily Calcs'!J1900/1000000","v":1.2773717875685615E-12},{"$f":"'Daily Calcs'!K1900/1000000","v":1.2773717875690973E-12},1.2773717875685615E-12]
[0.1,{"$f":"'Daily Calcs'!J1901/1000000","v":8.4830884865049541E-13},{"$f":"'Daily Calcs'!K1901/1000000","v":8.4830884865081409E-13},8.4830884865049541E-13]
[0.1,{"$f":"'Daily Calcs'!J1902/1000000","v":0},{"$f":"'Daily Calcs'!K1902/1000000","v":0},0]
[0.1,{"$f":"'Daily Calcs'!J1903/1000000","v":0},{"$f":"'Daily Calcs'!K1903/1000000","v":0},0]
[0.1,{"$f":"'Daily Calcs'!J1904/1000000","v":0},{"$f":"'Daily Calcs'!K1904/1000000","v":0},0]
[0.1,{"$f":"'Daily Calcs'!J1905/1000000","v":0},{"$f":"'Daily Calcs'!K1905/1000000","v":0},0]
[0.1,{"$f":"'Daily Calcs'!J1906/1000000","v":0},{"$f":"'Daily Calcs'!K1906/1000000","v":0},0]
[0.1,{"$f":"'Daily Calcs'!J1907/1000000","v":0},{"$f":"'Daily Calcs'!K1907/1000000","v":0},0]
[0.1,{"$f":"'Daily Calcs'!J1908/1000000","v":0},{"$f":"'Daily Calcs'!K1908/1000000","v":0},0]
[0.1,{"$f":"'Daily Calcs'!J1909/1000000","v":3.8046879190431065E-13},{"$f":"'Daily Calcs'!K1909/1000000","v":3.8046879190437532E-13},3.8046879190431065E-13]
[0.1,{"$f":"'Daily Calcs'!J1910/1000000","v":0},{"$f":"'Daily Calcs'!K1910/1000000","v":0},0]
[0.1,{"$f":"'Daily Calcs'!J1911/1000000","v":0},{"$f":"'Daily Calcs'!K1911/1000000","v":0},0]
[0.1,{"$f":"'Daily Calcs'!J1912/1000000","v":0},{"$f":"'Daily Calcs'!K1912/1000000","v":0},0]
[0.1,{"$f":"'Daily Calcs'!J1913/1000000","v":0},{"$f":"'Daily Calcs'!K1913/1000000","v":0},0]
[0.1,{"$f":"'Daily Calcs'!J1914/1000000","v":0},{"$f":"'Daily Calcs'!K1914/1000000","v":0},0]
[0.1,{"$f":"'Daily Calcs'!J1915/1000000","v":0},{"$f":"'Daily Calcs'!K1915/1000000","v":0},0]
[0.1,{"$f":"'Daily Calcs'!J1916/1000000","v":0},{"$f":"'Daily Calcs'!K1916/1000000","v":0},0]
[0.1,{"$f":"'Daily Calcs'!J1917/1000000","v":0},{"$f":"'Daily Calcs'!K1917/1000000","v":0},0]
[0.1,{"$f":"'Daily Calcs'!J1918/1000000","v":0},{"$f":"'Daily Calcs'!K1918/1000000","v":0},0]
[0.1,{"$f":"'Daily Calcs'!J1919/1000000","v":0},{"$f":"'Daily Calcs'!K1919/1000000","v":0},0]
[0.1,{"$f":"'Daily Calcs'!J1920/1000000","v":1.7686979110293322E-13},{"$f":"'Daily Calcs'!K1920/1000000","v":1.7686979110294945E-13},1.7686979110293322E-13]
[0.1,{"$f":"'Daily Calcs'!J1921/1000000","v":8.7635845358988058E-14},{"$f":"'Daily Calcs'!K1921/1000000","v":8.763584535899986E-14},8.7635845358988058E-14]
[0.1,{"$f":"'Daily Calcs'!J1922/1000000","v":0},{"$f":"'Daily Calcs'!K1922/1000000","v":0},0]
[0.1,{"$f":"'Daily Calcs'!J1923/1000000","v":0},{"$f":"'Daily Calcs'!K1923/1000000","v":0},{"$f":"B1927","v":0}]
[0.1,{"$f":"'Daily Calcs'!J1924/1000000","v":0},{"$f":"'Daily Calcs'!K1924/1000000","v":0},0]
[0.1,{"$f":"'Daily Calcs'!J1925/1000000","v":0},{"$f":"'Daily Calcs'!K1925/1000000","v":0},0]
[0.1,{"$f":"'Daily Calcs'!J1926/1000000","v":0},{"$f":"'Daily Calcs'!K1926/1000000","v":0},0]
[0.1,{"$f":"'Daily Calcs'!J1927/1000000","v":0},{"$f":"'Daily Calcs'!K1927/1000000","v":0},0]
[0.1,{"$f":"'Daily Calcs'!J1928/1000000","v":0},{"$f":"'Daily Calcs'!K1928/1000000","v":0},0]
[0.1,{"$f":"'Daily Calcs'!J1929/1000000","v":0},{"$f":"'Daily Calcs'!K1929/1000000","v":0},0]
[0.1,{"$f":"'Daily Calcs'!J1930/1000000","v":0},{"$f":"'Daily Calcs'!K1930/1000000","v":0},0]
[0.1,{"$f":"'Daily Calcs'!J1931/1000000","v":0},{"$f":"'Daily Calcs'!K1931/1000000","v":0},0]
[0.1,{"$f":"'Daily Calcs'!J1932/1000000","v":0},{"$f":"'Daily Calcs'!K1932/1000000","v":0},0]
[0.1,{"$f":"'Daily Calcs'!J1933/1000000","v":0},{"$f":"'Daily Calcs'!K1933/1000000","v":0},0]
[0.1,{"$f":"'Daily Calcs'!J1934/1000000","v":0},{"$f":"'Daily Calcs'!K1934/1000000","v":0},0]
[0.1,{"$f":"'Daily Calcs'!J1935/1000000","v":0},{"$f":"'Daily Calcs'!K1935/1000000","v":0},0]
[0.1,{"$f":"'Daily Calcs'!J1936/1000000","v":0},{"$f":"'Daily Calcs'!K1936/1000000","v":0},0]
[0.1,{"$f":"'Daily Calcs'!J1937/1000000","v":0},{"$f":"'Daily Calcs'!K1937/1000000","v":0},0]
[0.1,{"$f":"'Daily Calcs'!J1938/1000000","v":0},{"$f":"'Daily Calcs'!K1938/1000000","v":0},0]
[0.1,{"$f":"'Daily Calcs'!J1939/1000000","v":3.3676866973204368E-14},{"$f":"'Daily Calcs'!K1939/1000000","v":3.3676866973205321E-14},3.3676866973204368E-14]
[0.1,{"$f":"'Daily Calcs'!J1940/1000000","v":0},{"$f":"'Daily Calcs'!K1940/1000000","v":0},0]
[0.1,{"$f":"'Daily Calcs'!J1941/1000000","v":0},{"$f":"'Daily Calcs'!K1941/1000000","v":0},0]
[0.1,{"$f":"'Daily Calcs'!J1942/1000000","v":0},{"$f":"'Daily Calcs'!K1942/1000000","v":0},0]
[0.1,{"$f":"'Daily Calcs'!J1943/1000000","v":1.3861320100314816E-14},{"$f":"'Daily Calcs'!K1943/1000000","v":1.3861320100315274E-14},1.3861320100314816E-14]
[0.1,{"$f":"'Daily Calcs'!J1944/1000000","v":6.4229819109092369E-15},{"$f":"'Daily Calcs'!K1944/1000000","v":6.4229819109094089E-15},6.4229819109092369E-15]
[0.1,{"$f":"'Daily Calcs'!J1945/1000000","v":0},{"$f":"'Daily Calcs'!K1945/1000000","v":0},0]
[0.1,{"$f":"'Daily Calcs'!J1946/1000000","v":0},{"$f":"'Daily Calcs'!K1946/1000000","v":0},0]
[0.1,{"$f":"'Daily Calcs'!J1947/1000000","v":0},{"$f":"'Daily Calcs'!K1947/1000000","v":0},0]
[0.1,{"$f":"'Daily Calcs'!J1948/1000000","v":0},{"$f":"'Daily Calcs'!K1948/1000000","v":0},0]
[0.1,{"$f":"'Daily Calcs'!J1949/1000000","v":0},{"$f":"'Daily Calcs'!K1949/1000000","v":0},0]
[0.1,{"$f":"'Daily Calcs'!J1950/1000000","v":0},{"$f":"'Daily Calcs'!K1950/1000000","v":0},0]
[0.1,{"$f":"'Daily Calcs'!J1951/1000000","v":0},{"$f":"'Daily Calcs'!K1951/1000000","v":0},0]
[0.1,{"$f":"'Daily Calcs'!J1952/1000000","v":0},{"$f":"'Daily Calcs'!K1952/1000000","v":0},0]
[0.1,{"$f":"'Daily Calcs'!J1953/1000000","v":0},{"$f":"'Daily Calcs'!K1953/1000000","v":0},0]
[0.1,{"$f":"'Daily Calcs'!J1954/1000000","v":0},{"$f":"'Daily Calcs'!K1954/1000000","v":0},0]
[0.1,{"$f":"'Daily Calcs'!J1955/1000000","v":0},{"$f":"'Daily Calcs'!K1955/1000000","v":0},0]
[0.1,{"$f":"'Daily Calcs'!J1956/1000000","v":0},{"$f":"'Daily Calcs'!K1956/1000000","v":0},0]
[0.1,{"$f":"'Daily Calcs'!J1957/1000000","v":0},{"$f":"'Daily Calcs'!K1957/1000000","v":0},0]
[0.1,{"$f":"'Daily Calcs'!J1958/1000000","v":0},{"$f":"'Daily Calcs'!K1958/1000000","v":0},0]
[0.1,{"$f":"'Daily Calcs'!J1959/1000000","v":2.3655812859997647E-15},{"$f":"'Daily Calcs'!K1959/1000000","v":2.365581285999788E-15},2.3655812859997647E-15]
[0.1,{"$f":"'Daily Calcs'!J1960/1000000","v":1.1946190595926577E-15},{"$f":"'Daily Calcs'!K1960/1000000","v":1.1946190595926719E-15},1.1946190595926577E-15]
[0.1,{"$f":"'Daily Calcs'!J1961/1000000","v":0},{"$f":"'Daily Calcs'!K1961/1000000","v":0},0]
[0.1,{"$f":"'Daily Calcs'!J1962/1000000","v":0},{"$f":"'Daily Calcs'!K1962/1000000","v":0},0]
[0.1,{"$f":"'Daily Calcs'!J1963/1000000","v":4.9536135315222968E-16},{"$f":"'Daily Calcs'!K1963/1000000","v":4.9536135315223294E-16},4.9536135315222968E-16]
[0.1,{"$f":"'Daily Calcs'!J1964/1000000","v":0},{"$f":"'Daily Calcs'!K1964/1000000","v":0},0]
[0.1,{"$f":"'Daily Calcs'!J1965/1000000","v":0},{"$f":"'Daily Calcs'!K1965/1000000","v":0},0]
[0.1,{"$f":"'Daily Calcs'!J1966/1000000","v":2.3814491480444366E-16},{"$f":"'Daily Calcs'!K1966/1000000","v":2.3814491480444485E-16},2.3814491480444366E-16]
[0.1,{"$f":"'Daily Calcs'!J1967/1000000","v":0},{"$f":"'Daily Calcs'!K1967/1000000","v":0},0]
[0.1,{"$f":"'Daily Calcs'!J1968/1000000","v":1.0112948359196134E-16},{"$f":"'Daily Calcs'!K1968/1000000","v":1.011294835919617E-16},1.0112948359196134E-16]
[0.1,{"$f":"'Daily Calcs'!J1969/1000000","v":0},{"$f":"'Daily Calcs'!K1969/1000000","v":0},0]
[0.1,{"$f":"'Daily Calcs'!J1970/1000000","v":0},{"$f":"'Daily Calcs'!K1970/1000000","v":0},0]
[0.1,{"$f":"'Daily Calcs'!J1971/1000000","v":0},{"$f":"'Daily Calcs'!K1971/1000000","v":0},0]
[0.1,{"$f":"'Daily Calcs'!J1972/1000000","v":0},{"$f":"'Daily Calcs'!K1972/1000000","v":0},0]
[0.1,{"$f":"'Daily Calcs'!J1973/1000000","v":4.3602002181864851E-17},{"$f":"'Daily Calcs'!K1973/1000000","v":4.3602002181864944E-17},4.3602002181864851E-17]
[0.1,{"$f":"'Daily Calcs'!J1974/1000000","v":3.0885777747862966E-17},{"$f":"'Daily Calcs'!K1974/1000000","v":3.0885777747863003E-17},3.0885777747862966E-17]
[0.1,{"$f":"'Daily Calcs'!J1975/1000000","v":0},{"$f":"'Daily Calcs'!K1975/1000000","v":0},0]
[0.1,{"$f":"'Daily Calcs'!J1976/1000000","v":0},{"$f":"'Daily Calcs'!K1976/1000000","v":0},0]
[0.1,{"$f":"'Daily Calcs'!J1977/1000000","v":0},{"$f":"'Daily Calcs'!K1977/1000000","v":0},0]
[0.1,{"$f":"'Daily Calcs'!J1978/1000000","v":0},{"$f":"'Daily Calcs'!K1978/1000000","v":0},0]
[0.1,{"$f":"'Daily Calcs'!J1979/1000000","v":0},{"$f":"'Daily Calcs'!K1979/1000000","v":0},0]
[0.1,{"$f":"'Daily Calcs'!J1980/1000000","v":0},{"$f":"'Daily Calcs'!K1980/1000000","v":0},0]
[0.1,{"$f":"'Daily Calcs'!J1981/1000000","v":0},{"$f":"'Daily Calcs'!K1981/1000000","v":0},0]
[0.1,{"$f":"'Daily Calcs'!J1982/1000000","v":0},{"$f":"'Daily Calcs'!K1982/1000000","v":0},0]
[0.1,{"$f":"'Daily Calcs'!J1983/1000000","v":0},{"$f":"'Daily Calcs'!K1983/1000000","v":0},0]
[0.1,{"$f":"'Daily Calcs'!J1984/1000000","v":0},{"$f":"'Daily Calcs'!K1984/1000000","v":0},0]
[0.1,{"$f":"'Daily Calcs'!J1985/1000000","v":0},{"$f":"'Daily Calcs'!K1985/1000000","v":0},0]
[0.1,{"$f":"'Daily Calcs'!J1986/1000000","v":0},{"$f":"'Daily Calcs'!K1986/1000000","v":0},0]
[0.1,{"$f":"'Daily Calcs'!J1987/1000000","v":1.7148907498315531E-17},{"$f":"'Daily Calcs'!K1987/1000000","v":1.7148907498315534E-17},{"$f":"B1991","v":1.7148907498315531E-17}]
[0.1,{"$f":"'Daily Calcs'!J1988/1000000","v":0},{"$f":"'Daily Calcs'!K1988/1000000","v":0},0]
[0.1,{"$f":"'Daily Calcs'!J1989/1000000","v":0},{"$f":"'Daily Calcs'!K1989/1000000","v":0},0]
[0.1,{"$f":"'Daily Calcs'!J1990/1000000","v":0},{"$f":"'Daily Calcs'!K1990/1000000","v":0},0]
[0.1,{"$f":"'Daily Calcs'!J1991/1000000","v":0},{"$f":"'Daily Calcs'!K1991/1000000","v":0},0]
[0.1,{"$f":"'Daily Calcs'!J1992/1000000","v":8.313131670082693E-18},{"$f":"'Daily Calcs'!K1992/1000000","v":8.3131316700826945E-18},8.313131670082693E-18]
[0.1,{"$f":"'Daily Calcs'!J1993/1000000","v":5.8126104090229664E-18},{"$f":"'Daily Calcs'!K1993/1000000","v":5.8126104090229687E-18},5.8126104090229664E-18]
[0.1,{"$f":"'Daily Calcs'!J1994/1000000","v":0},{"$f":"'Daily Calcs'!K1994/1000000","v":0},0]
[0.1,{"$f":"'Daily Calcs'!J1995/1000000","v":0},{"$f":"'Daily Calcs'!K1995/1000000","v":0},0]
[0.1,{"$f":"'Daily Calcs'!J1996/1000000","v":0},{"$f":"'Daily Calcs'!K1996/1000000","v":0},0]
[0.1,{"$f":"'Daily Calcs'!J1997/1000000","v":0},{"$f":"'Daily Calcs'!K1997/1000000","v":0},0]
[0.1,{"$f":"'Daily Calcs'!J1998/1000000","v":0},{"$f":"'Daily Calcs'!K1998/1000000","v":0},0]
[0.1,{"$f":"'Daily Calcs'!J1999/1000000","v":0},{"$f":"'Daily Calcs'!K1999/1000000","v":0},0]
[0.1,{"$f":"'Daily Calcs'!J2000/1000000","v":0},{"$f":"'Daily Calcs'!K2000/1000000","v":0},0]
[0.1,{"$f":"'Daily Calcs'!J2001/1000000","v":0},{"$f":"'Daily Calcs'!K2001/1000000","v":0},0]
[0.1,{"$f":"'Daily Calcs'!J2002/1000000","v":0},{"$f":"'Daily Calcs'!K2002/1000000","v":0},0]
[0.1,{"$f":"'Daily Calcs'!J2003/1000000","v":0},{"$f":"'Daily Calcs'!K2003/1000000","v":0},0]
[0.1,{"$f":"'Daily Calcs'!J2004/1000000","v":0},{"$f":"'Daily Calcs'!K2004/1000000","v":0},0]
[0.1,{"$f":"'Daily Calcs'!J2005/1000000","v":0},{"$f":"'Daily Calcs'!K2005/1000000","v":0},0]
[0.1,{"$f":"'Daily Calcs'!J2006/1000000","v":0},{"$f":"'Daily Calcs'!K2006/1000000","v":0},0]
[0.1,{"$f":"'Daily Calcs'!J2007/1000000","v":1.317766497461929E-18},{"$f":"'Daily Calcs'!K2007/1000000","v":1.3177664974619294E-18},1.317766497461929E-18]
[0.1,{"$f":"'Daily Calcs'!J2008/1000000","v":1.013088823624633E-18},{"$f":"'Daily Calcs'!K2008/1000000","v":1.0130888236246332E-18},1.013088823624633E-18]
[0.1,{"$f":"'Daily Calcs'!J2009/1000000","v":5.5652034089081845E-19},{"$f":"'Daily Calcs'!K2009/1000000","v":5.5652034089081845E-19},5.5652034089081845E-19]
[0.1,{"$f":"'Daily Calcs'!J2010/1000000","v":0},{"$f":"'Daily Calcs'!K2010/1000000","v":0},0]
[0.1,{"$f":"'Daily Calcs'!J2011/1000000","v":0},{"$f":"'Daily Calcs'!K2011/1000000","v":0},0]
[0.1,{"$f":"'Daily Calcs'!J2012/1000000","v":2.0811603392248553E-19},{"$f":"'Daily Calcs'!K2012/1000000","v":2.0811603392248553E-19},2.0811603392248553E-19]
[0.1,{"$f":"'Daily Calcs'!J2013/1000000","v":0},{"$f":"'Daily Calcs'!K2013/1000000","v":0},0]
[0.1,{"$f":"'Daily Calcs'!J2014/1000000","v":0},{"$f":"'Daily Calcs'!K2014/1000000","v":0},0]
[0.1,{"$f":"'Daily Calcs'!J2015/1000000","v":0},{"$f":"'Daily Calcs'!K2015/1000000","v":0},0]
[0.1,{"$f":"'Daily Calcs'!J2016/1000000","v":0},{"$f":"'Daily Calcs'!K2016/1000000","v":0},0]
[0.1,{"$f":"'Daily Calcs'!J2017/1000000","v":0},{"$f":"'Daily Calcs'!K2017/1000000","v":0},0]
[0.1,{"$f":"'Daily Calcs'!J2018/1000000","v":0},{"$f":"'Daily Calcs'!K2018/1000000","v":0},0]
[0.1,{"$f":"'Daily Calcs'!J2019/1000000","v":0},{"$f":"'Daily Calcs'!K2019/1000000","v":0},0]
[0.1,{"$f":"'Daily Calcs'!J2020/1000000","v":0},{"$f":"'Daily Calcs'!K2020/1000000","v":0},0]
[0.1,{"$f":"'Daily Calcs'!J2021/1000000","v":0},{"$f":"'Daily Calcs'!K2021/1000000","v":0},0]
[0.1,{"$f":"'Daily Calcs'!J2022/1000000","v":0},{"$f":"'Daily Calcs'!K2022/1000000","v":0},0]
[0.1,{"$f":"'Daily Calcs'!J2023/1000000","v":1.684917893142776E-5},{"$f":"'Daily Calcs'!K2023/1000000","v":1.6974102030192607E-5},1.684917893142776E-5]
[0.1,{"$f":"'Daily Calcs'!J2024/1000000","v":1.4410759768901038E-5},{"$f":"'Daily Calcs'!K2024/1000000","v":1.4496957507610114E-5},1.4410759768901038E-5]
[0.1,{"$f":"'Daily Calcs'!J2025/1000000","v":0},{"$f":"'Daily Calcs'!K2025/1000000","v":0},0]
[0.1,{"$f":"'Daily Calcs'!J2026/1000000","v":0},{"$f":"'Daily Calcs'!K2026/1000000","v":0},0]
[0.1,{"$f":"'Daily Calcs'!J2027/1000000","v":1.1808221307016864E-5},{"$f":"'Daily Calcs'!K2027/1000000","v":1.1859025565311991E-5},1.1808221307016864E-5]
[0.1,{"$f":"'Daily Calcs'!J2028/1000000","v":0},{"$f":"'Daily Calcs'!K2028/1000000","v":0},0]
[0.1,{"$f":"'Daily Calcs'!J2029/1000000","v":0},{"$f":"'Daily Calcs'!K2029/1000000","v":0},0]
[0.1,{"$f":"'Daily Calcs'!J2030/1000000","v":0},{"$f":"'Daily Calcs'!K2030/1000000","v":0},0]
[0.1,{"$f":"'Daily Calcs'!J2031/1000000","v":0},{"$f":"'Daily Calcs'!K2031/1000000","v":0},0]
[0.1,{"$f":"'Daily Calcs'!J2032/1000000","v":0},{"$f":"'Daily Calcs'!K2032/1000000","v":0},0]
[0.1,{"$f":"'Daily Calcs'!J2033/1000000","v":0},{"$f":"'Daily Calcs'!K2033/1000000","v":0},0]
[0.1,{"$f":"'Daily Calcs'!J2034/1000000","v":0},{"$f":"'Daily Calcs'!K2034/1000000","v":0},0]
[0.1,{"$f":"'Daily Calcs'!J2035/1000000","v":0},{"$f":"'Daily Calcs'!K2035/1000000","v":0},0]
[0.1,{"$f":"'Daily Calcs'!J2036/1000000","v":0},{"$f":"'Daily Calcs'!K2036/1000000","v":0},0]
[0.1,{"$f":"'Daily Calcs'!J2037/1000000","v":0},{"$f":"'Daily Calcs'!K2037/1000000","v":0},0]
[0.1,{"$f":"'Daily Calcs'!J2038/1000000","v":0},{"$f":"'Daily Calcs'!K2038/1000000","v":0},0]
[0.1,{"$f":"'Daily Calcs'!J2039/1000000","v":0},{"$f":"'Daily Calcs'!K2039/1000000","v":0},0]
[0.1,{"$f":"'Daily Calcs'!J2040/1000000","v":0},{"$f":"'Daily Calcs'!K2040/1000000","v":0},0]
[0.1,{"$f":"'Daily Calcs'!J2041/1000000","v":0},{"$f":"'Daily Calcs'!K2041/1000000","v":0},0]
[0.1,{"$f":"'Daily Calcs'!J2042/1000000","v":0},{"$f":"'Daily Calcs'!K2042/1000000","v":0},0]
[0.1,{"$f":"'Daily Calcs'!J2043/1000000","v":1.7603095828902279E-5},{"$f":"'Daily Calcs'!K2043/1000000","v":1.766183091102446E-5},1.7603095828902279E-5]
[0.1,{"$f":"'Daily Calcs'!J2044/1000000","v":1.5894596186076006E-5},{"$f":"'Daily Calcs'!K2044/1000000","v":1.5918267880599721E-5},1.5894596186076006E-5]
[0.1,{"$f":"'Daily Calcs'!J2045/1000000","v":1.2648289591289511E-5},{"$f":"'Daily Calcs'!K2045/1000000","v":1.266387015519623E-5},1.2648289591289511E-5]
[0.1,{"$f":"'Daily Calcs'!J2046/1000000","v":0},{"$f":"'Daily Calcs'!K2046/1000000","v":0},0]
[0.1,{"$f":"'Daily Calcs'!J2047/1000000","v":0},{"$f":"'Daily Calcs'!K2047/1000000","v":0},0]
[0.1,{"$f":"'Daily Calcs'!J2048/1000000","v":0},{"$f":"'Daily Calcs'!K2048/1000000","v":0},0]
[0.1,{"$f":"'Daily Calcs'!J2049/1000000","v":1.1512570386232059E-5},{"$f":"'Daily Calcs'!K2049/1000000","v":1.1516775795067018E-5},1.1512570386232059E-5]
[0.1,{"$f":"'Daily Calcs'!J2050/1000000","v":1.0217511861482532E-5},{"$f":"'Daily Calcs'!K2050/1000000","v":1.0220297615379876E-5},1.0217511861482532E-5]
[0.1,{"$f":"'Daily Calcs'!J2051/1000000","v":8.071145833333334E-6},{"$f":"'Daily Calcs'!K2051/1000000","v":8.073068854166667E-6},{"$f":"B2055","v":8.071145833333334E-6}]
[0.1,{"$f":"'Daily Calcs'!J2052/1000000","v":0},{"$f":"'Daily Calcs'!K2052/1000000","v":0},0]
[0.1,{"$f":"'Daily Calcs'!J2053/1000000","v":0},{"$f":"'Daily Calcs'!K2053/1000000","v":0},0]
[0.1,{"$f":"'Daily Calcs'!J2054/1000000","v":0},{"$f":"'Daily Calcs'!K2054/1000000","v":0},0]
[0.1,{"$f":"'Daily Calcs'!J2055/1000000","v":0},{"$f":"'Daily Calcs'!K2055/1000000","v":0},0]
[0.1,{"$f":"'Daily Calcs'!J2056/1000000","v":0},{"$f":"'Daily Calcs'!K2056/1000000","v":0},0]
[0.1,{"$f":"'Daily Calcs'!J2057/1000000","v":0},{"$f":"'Daily Calcs'!K2057/1000000","v":0},0]
[0.1,{"$f":"'Daily Calcs'!J2058/1000000","v":0},{"$f":"'Daily Calcs'!K2058/1000000","v":0},0]
[0.1,{"$f":"'Daily Calcs'!J2059/1000000","v":0},{"$f":"'Daily Calcs'!K2059/1000000","v":0},0]
[0.1,{"$f":"'Daily Calcs'!J2060/1000000","v":0},{"$f":"'Daily Calcs'!K2060/1000000","v":0},0]
[0.1,{"$f":"'Daily Calcs'!J2061/1000000","v":0},{"$f":"'Daily Calcs'!K2061/1000000","v":0},0]
[0.1,{"$f":"'Daily Calcs'!J2062/1000000","v":0},{"$f":"'Daily Calcs'!K2062/1000000","v":0},0]
[0.1,{"$f":"'Daily Calcs'!J2063/1000000","v":0},{"$f":"'Daily Calcs'!K2063/1000000","v":0},0]
[0.1,{"$f":"'Daily Calcs'!J2064/1000000","v":5.7276072382680582E-6},{"$f":"'Daily Calcs'!K2064/1000000","v":5.7277812566157576E-6},5.7276072382680582E-6]
[0.1,{"$f":"'Daily Calcs'!J2065/1000000","v":0},{"$f":"'Daily Calcs'!K2065/1000000","v":0},0]
[0.1,{"$f":"'Daily Calcs'!J2066/1000000","v":0},{"$f":"'Daily Calcs'!K2066/1000000","v":0},0]
[0.1,{"$f":"'Daily Calcs'!J2067/1000000","v":0},{"$f":"'Daily Calcs'!K2067/1000000","v":0},0]
[0.1,{"$f":"'Daily Calcs'!J2068/1000000","v":0},{"$f":"'Daily Calcs'!K2068/1000000","v":0},0]
[0.1,{"$f":"'Daily Calcs'!J2069/1000000","v":0},{"$f":"'Daily Calcs'!K2069/1000000","v":0},0]
[0.1,{"$f":"'Daily Calcs'!J2070/1000000","v":0},{"$f":"'Daily Calcs'!K2070/1000000","v":0},0]
[0.1,{"$f":"'Daily Calcs'!J2071/1000000","v":0},{"$f":"'Daily Calcs'!K2071/1000000","v":0},0]
[0.1,{"$f":"'Daily Calcs'!J2072/1000000","v":0},{"$f":"'Daily Calcs'!K2072/1000000","v":0},0]
[0.1,{"$f":"'Daily Calcs'!J2073/1000000","v":0},{"$f":"'Daily Calcs'!K2073/1000000","v":0},0]
[0.1,{"$f":"'Daily Calcs'!J2074/1000000","v":0},{"$f":"'Daily Calcs'!K2074/1000000","v":0},0]
[0.1,{"$f":"'Daily Calcs'!J2075/1000000","v":0},{"$f":"'Daily Calcs'!K2075/1000000","v":0},0]
[0.1,{"$f":"'Daily Calcs'!J2076/1000000","v":0},{"$f":"'Daily Calcs'!K2076/1000000","v":0},0]
[0.1,{"$f":"'Daily Calcs'!J2077/1000000","v":0},{"$f":"'Daily Calcs'!K2077/1000000","v":0},0]
[0.1,{"$f":"'Daily Calcs'!J2078/1000000","v":0},{"$f":"'Daily Calcs'!K2078/1000000","v":0},0]
[0.1,{"$f":"'Daily Calcs'!J2079/1000000","v":0},{"$f":"'Daily Calcs'!K2079/1000000","v":0},0]
[0.1,{"$f":"'Daily Calcs'!J2080/1000000","v":0},{"$f":"'Daily Calcs'!K2080/1000000","v":0},0]
[0.1,{"$f":"'Daily Calcs'!J2081/1000000","v":0},{"$f":"'Daily Calcs'!K2081/1000000","v":0},0]
[0.1,{"$f":"'Daily Calcs'!J2082/1000000","v":0},{"$f":"'Daily Calcs'!K2082/1000000","v":0},0]
[0.1,{"$f":"'Daily Calcs'!J2083/1000000","v":3.6422866373508033E-6},{"$f":"'Daily Calcs'!K2083/1000000","v":3.6423135726465042E-6},3.6422866373508033E-6]
[0.1,{"$f":"'Daily Calcs'!J2084/1000000","v":0},{"$f":"'Daily Calcs'!K2084/1000000","v":0},0]
[0.1,{"$f":"'Daily Calcs'!J2085/1000000","v":3.1505516885011708E-6},{"$f":"'Daily Calcs'!K2085/1000000","v":3.1505676376181644E-6},3.1505516885011708E-6]
[0.1,{"$f":"'Daily Calcs'!J2086/1000000","v":0},{"$f":"'Daily Calcs'!K2086/1000000","v":0},0]
[0.1,{"$f":"'Daily Calcs'!J2087/1000000","v":2.8602603036876358E-6},{"$f":"'Daily Calcs'!K2087/1000000","v":2.8602710919739695E-6},2.8602603036876358E-6]
[0.1,{"$f":"'Daily Calcs'!J2088/1000000","v":2.3767483113870505E-6},{"$f":"'Daily Calcs'!K2088/1000000","v":2.3767572545541383E-6},2.3767483113870505E-6]
[0.1,{"$f":"'Daily Calcs'!J2089/1000000","v":1.9832599118942733E-6},{"$f":"'Daily Calcs'!K2089/1000000","v":1.9832643849339209E-6},1.9832599118942733E-6]
[0.1,{"$f":"'Daily Calcs'!J2090/1000000","v":0},{"$f":"'Daily Calcs'!K2090/1000000","v":0},0]
[0.1,{"$f":"'Daily Calcs'!J2091/1000000","v":0},{"$f":"'Daily Calcs'!K2091/1000000","v":0},0]
[0.1,{"$f":"'Daily Calcs'!J2092/1000000","v":0},{"$f":"'Daily Calcs'!K2092/1000000","v":0},0]
[0.1,{"$f":"'Daily Calcs'!J2093/1000000","v":0},{"$f":"'Daily Calcs'!K2093/1000000","v":0},0]
[0.1,{"$f":"'Daily Calcs'!J2094/1000000","v":0},{"$f":"'Daily Calcs'!K2094/1000000","v":0},0]
[0.1,{"$f":"'Daily Calcs'!J2095/1000000","v":0},{"$f":"'Daily Calcs'!K2095/1000000","v":0},0]
[0.1,{"$f":"'Daily Calcs'!J2096/1000000","v":0},{"$f":"'Daily Calcs'!K2096/1000000","v":0},0]
[0.1,{"$f":"'Daily Calcs'!J2097/1000000","v":0},{"$f":"'Daily Calcs'!K2097/1000000","v":0},0]
[0.1,{"$f":"'Daily Calcs'!J2098/1000000","v":0},{"$f":"'Daily Calcs'!K2098/1000000","v":0},0]
[0.1,{"$f":"'Daily Calcs'!J2099/1000000","v":0},{"$f":"'Daily Calcs'!K2099/1000000","v":0},0]
[0.1,{"$f":"'Daily Calcs'!J2100/1000000","v":0},{"$f":"'Daily Calcs'!K2100/1000000","v":0},0]
[0.1,{"$f":"'Daily Calcs'!J2101/1000000","v":1.1030656804206398E-6},{"$f":"'Daily Calcs'!K2101/1000000","v":1.1030662662864273E-6},1.1030656804206398E-6]
[0.1,{"$f":"'Daily Calcs'!J2102/1000000","v":0},{"$f":"'Daily Calcs'!K2102/1000000","v":0},0]
[0.1,{"$f":"'Daily Calcs'!J2103/1000000","v":0},{"$f":"'Daily Calcs'!K2103/1000000","v":0},0]
[0.1,{"$f":"'Daily Calcs'!J2104/1000000","v":0},{"$f":"'Daily Calcs'!K2104/1000000","v":0},0]
[0.1,{"$f":"'Daily Calcs'!J2105/1000000","v":0},{"$f":"'Daily Calcs'!K2105/1000000","v":0},0]
[0.1,{"$f":"'Daily Calcs'!J2106/1000000","v":0},{"$f":"'Daily Calcs'!K2106/1000000","v":0},0]
[0.1,{"$f":"'Daily Calcs'!J2107/1000000","v":0},{"$f":"'Daily Calcs'!K2107/1000000","v":0},0]
[0.1,{"$f":"'Daily Calcs'!J2108/1000000","v":0},{"$f":"'Daily Calcs'!K2108/1000000","v":0},0]
[0.1,{"$f":"'Daily Calcs'!J2109/1000000","v":0},{"$f":"'Daily Calcs'!K2109/1000000","v":0},0]
[0.1,{"$f":"'Daily Calcs'!J2110/1000000","v":0},{"$f":"'Daily Calcs'!K2110/1000000","v":0},0]
[0.1,{"$f":"'Daily Calcs'!J2111/1000000","v":0},{"$f":"'Daily Calcs'!K2111/1000000","v":0},0]
[0.1,{"$f":"'Daily Calcs'!J2112/1000000","v":0},{"$f":"'Daily Calcs'!K2112/1000000","v":0},0]
[0.1,{"$f":"'Daily Calcs'!J2113/1000000","v":0},{"$f":"'Daily Calcs'!K2113/1000000","v":0},0]
[0.1,{"$f":"'Daily Calcs'!J2114/1000000","v":0},{"$f":"'Daily Calcs'!K2114/1000000","v":0},0]
[0.1,{"$f":"'Daily Calcs'!J2115/1000000","v":4.7081165101033992E-7},{"$f":"'Daily Calcs'!K2115/1000000","v":4.7081172418733528E-7},{"$f":"B2119","v":4.7081165101033992E-7}]
[0.1,{"$f":"'Daily Calcs'!J2116/1000000","v":0},{"$f":"'Daily Calcs'!K2116/1000000","v":0},0]
[0.1,{"$f":"'Daily Calcs'!J2117/1000000","v":0},{"$f":"'Daily Calcs'!K2117/1000000","v":0},0]
[0.1,{"$f":"'Daily Calcs'!J2118/1000000","v":2.5365985902765227E-7},{"$f":"'Daily Calcs'!K2118/1000000","v":2.5365987774195739E-7},2.5365985902765227E-7]
[0.1,{"$f":"'Daily Calcs'!J2119/1000000","v":0},{"$f":"'Daily Calcs'!K2119/1000000","v":0},0]
[0.1,{"$f":"'Daily Calcs'!J2120/1000000","v":0},{"$f":"'Daily Calcs'!K2120/1000000","v":0},0]
[0.1,{"$f":"'Daily Calcs'!J2121/1000000","v":0},{"$f":"'Daily Calcs'!K2121/1000000","v":0},0]
[0.1,{"$f":"'Daily Calcs'!J2122/1000000","v":0},{"$f":"'Daily Calcs'!K2122/1000000","v":0},0]
[0.1,{"$f":"'Daily Calcs'!J2123/1000000","v":1.3415643601190478E-7},{"$f":"'Daily Calcs'!K2123/1000000","v":1.3415643995837983E-7},1.3415643601190478E-7]
[0.1,{"$f":"'Daily Calcs'!J2124/1000000","v":8.448563794255178E-8},{"$f":"'Daily Calcs'!K2124/1000000","v":8.4485639351313738E-8},8.448563794255178E-8]
[0.1,{"$f":"'Daily Calcs'!J2125/1000000","v":0},{"$f":"'Daily Calcs'!K2125/1000000","v":0},0]
[0.1,{"$f":"'Daily Calcs'!J2126/1000000","v":0},{"$f":"'Daily Calcs'!K2126/1000000","v":0},0]
[0.1,{"$f":"'Daily Calcs'!J2127/1000000","v":0},{"$f":"'Daily Calcs'!K2127/1000000","v":0},0]
[0.1,{"$f":"'Daily Calcs'!J2128/1000000","v":0},{"$f":"'Daily Calcs'!K2128/1000000","v":0},0]
[0.1,{"$f":"'Daily Calcs'!J2129/1000000","v":0},{"$f":"'Daily Calcs'!K2129/1000000","v":0},0]
[0.1,{"$f":"'Daily Calcs'!J2130/1000000","v":0},{"$f":"'Daily Calcs'!K2130/1000000","v":0},0]
[0.1,{"$f":"'Daily Calcs'!J2131/1000000","v":0},{"$f":"'Daily Calcs'!K2131/1000000","v":0},0]
[0.1,{"$f":"'Daily Calcs'!J2132/1000000","v":5.4936027461382435E-8},{"$f":"'Daily Calcs'!K2132/1000000","v":5.4936027729747228E-8},5.4936027461382435E-8]
[0.1,{"$f":"'Daily Calcs'!J2133/1000000","v":3.7216232632298238E-8},{"$f":"'Daily Calcs'!K2133/1000000","v":3.7216232811379168E-8},3.7216232632298238E-8]
[0.1,{"$f":"'Daily Calcs'!J2134/1000000","v":0},{"$f":"'Daily Calcs'!K2134/1000000","v":0},0]
[0.1,{"$f":"'Daily Calcs'!J2135/1000000","v":0},{"$f":"'Daily Calcs'!K2135/1000000","v":0},0]
[0.1,{"$f":"'Daily Calcs'!J2136/1000000","v":0},{"$f":"'Daily Calcs'!K2136/1000000","v":0},0]
[0.1,{"$f":"'Daily Calcs'!J2137/1000000","v":0},{"$f":"'Daily Calcs'!K2137/1000000","v":0},0]
[0.1,{"$f":"'Daily Calcs'!J2138/1000000","v":0},{"$f":"'Daily Calcs'!K2138/1000000","v":0},0]
[0.1,{"$f":"'Daily Calcs'!J2139/1000000","v":0},{"$f":"'Daily Calcs'!K2139/1000000","v":0},0]
[0.1,{"$f":"'Daily Calcs'!J2140/1000000","v":2.2467713439669545E-8},{"$f":"'Daily Calcs'!K2140/1000000","v":2.2467713493978154E-8},2.2467713439669545E-8]
[0.1,{"$f":"'Daily Calcs'!J2141/1000000","v":1.2383783163850448E-8},{"$f":"'Daily Calcs'!K2141/1000000","v":1.2383783183702883E-8},1.2383783163850448E-8]
[0.1,{"$f":"'Daily Calcs'!J2142/1000000","v":8.9793272838916574E-9},{"$f":"'Daily Calcs'!K2142/1000000","v":8.9793272915855902E-9},8.9793272838916574E-9]
[0.1,{"$f":"'Daily Calcs'!J2143/1000000","v":0},{"$f":"'Daily Calcs'!K2143/1000000","v":0},0]
[0.1,{"$f":"'Daily Calcs'!J2144/1000000","v":0},{"$f":"'Daily Calcs'!K2144/1000000","v":0},0]
[0.1,{"$f":"'Daily Calcs'!J2145/1000000","v":0},{"$f":"'Daily Calcs'!K2145/1000000","v":0},0]
[0.1,{"$f":"'Daily Calcs'!J2146/1000000","v":0},{"$f":"'Daily Calcs'!K2146/1000000","v":0},0]
[0.1,{"$f":"'Daily Calcs'!J2147/1000000","v":0},{"$f":"'Daily Calcs'!K2147/1000000","v":0},0]
[0.1,{"$f":"'Daily Calcs'!J2148/1000000","v":0},{"$f":"'Daily Calcs'!K2148/1000000","v":0},0]
[0.1,{"$f":"'Daily Calcs'!J2149/1000000","v":0},{"$f":"'Daily Calcs'!K2149/1000000","v":0},0]
[0.1,{"$f":"'Daily Calcs'!J2150/1000000","v":0},{"$f":"'Daily Calcs'!K2150/1000000","v":0},0]
[0.1,{"$f":"'Daily Calcs'!J2151/1000000","v":0},{"$f":"'Daily Calcs'!K2151/1000000","v":0},0]
[0.1,{"$f":"'Daily Calcs'!J2152/1000000","v":0},{"$f":"'Daily Calcs'!K2152/1000000","v":0},0]
[0.1,{"$f":"'Daily Calcs'!J2153/1000000","v":0},{"$f":"'Daily Calcs'!K2153/1000000","v":0},0]
[0.1,{"$f":"'Daily Calcs'!J2154/1000000","v":0},{"$f":"'Daily Calcs'!K2154/1000000","v":0},0]
[0.1,{"$f":"'Daily Calcs'!J2155/1000000","v":0},{"$f":"'Daily Calcs'!K2155/1000000","v":0},0]
[0.1,{"$f":"'Daily Calcs'!J2156/1000000","v":0},{"$f":"'Daily Calcs'!K2156/1000000","v":0},0]
[0.1,{"$f":"'Daily Calcs'!J2157/1000000","v":0},{"$f":"'Daily Calcs'!K2157/1000000","v":0},0]
[0.1,{"$f":"'Daily Calcs'!J2158/1000000","v":0},{"$f":"'Daily Calcs'!K2158/1000000","v":0},0]
[0.1,{"$f":"'Daily Calcs'!J2159/1000000","v":0},{"$f":"'Daily Calcs'!K2159/1000000","v":0},0]
[0.1,{"$f":"'Daily Calcs'!J2160/1000000","v":0},{"$f":"'Daily Calcs'!K2160/1000000","v":0},0]
[0.1,{"$f":"'Daily Calcs'!J2161/1000000","v":0},{"$f":"'Daily Calcs'!K2161/1000000","v":0},0]
[0.1,{"$f":"'Daily Calcs'!J2162/1000000","v":0},{"$f":"'Daily Calcs'!K2162/1000000","v":0},0]
[0.1,{"$f":"'Daily Calcs'!J2163/1000000","v":0},{"$f":"'Daily Calcs'!K2163/1000000","v":0},0]
[0.1,{"$f":"'Daily Calcs'!J2164/1000000","v":0},{"$f":"'Daily Calcs'!K2164/1000000","v":0},0]
[0.1,{"$f":"'Daily Calcs'!J2165/1000000","v":0},{"$f":"'Daily Calcs'!K2165/1000000","v":0},0]
[0.1,{"$f":"'Daily Calcs'!J2166/1000000","v":0},{"$f":"'Daily Calcs'!K2166/1000000","v":0},0]
[0.1,{"$f":"'Daily Calcs'!J2167/1000000","v":0},{"$f":"'Daily Calcs'!K2167/1000000","v":0},0]
[0.1,{"$f":"'Daily Calcs'!J2168/1000000","v":0},{"$f":"'Daily Calcs'!K2168/1000000","v":0},0]
[0.1,{"$f":"'Daily Calcs'!J2169/1000000","v":0},{"$f":"'Daily Calcs'!K2169/1000000","v":0},0]
[0.1,{"$f":"'Daily Calcs'!J2170/1000000","v":4.9796190958708516E-9},{"$f":"'Daily Calcs'!K2170/1000000","v":4.9796190966232171E-9},4.9796190958708516E-9]
[0.1,{"$f":"'Daily Calcs'!J2171/1000000","v":2.3916654594620699E-9},{"$f":"'Daily Calcs'!K2171/1000000","v":2.3916654599459172E-9},2.3916654594620699E-9]
[0.1,{"$f":"'Daily Calcs'!J2172/1000000","v":0},{"$f":"'Daily Calcs'!K2172/1000000","v":0},0]
[0.1,{"$f":"'Daily Calcs'!J2173/1000000","v":0},{"$f":"'Daily Calcs'!K2173/1000000","v":0},0]
[0.1,{"$f":"'Daily Calcs'!J2174/1000000","v":0},{"$f":"'Daily Calcs'!K2174/1000000","v":0},0]
[0.1,{"$f":"'Daily Calcs'!J2175/1000000","v":0},{"$f":"'Daily Calcs'!K2175/1000000","v":0},0]
[0.1,{"$f":"'Daily Calcs'!J2176/1000000","v":0},{"$f":"'Daily Calcs'!K2176/1000000","v":0},0]
[0.1,{"$f":"'Daily Calcs'!J2177/1000000","v":0},{"$f":"'Daily Calcs'!K2177/1000000","v":0},0]
[0.1,{"$f":"'Daily Calcs'!J2178/1000000","v":0},{"$f":"'Daily Calcs'!K2178/1000000","v":0},0]
[0.1,{"$f":"'Daily Calcs'!J2179/1000000","v":0},{"$f":"'Daily Calcs'!K2179/1000000","v":0},{"$f":"B2183","v":0}]
[0.1,{"$f":"'Daily Calcs'!J2180/1000000","v":0},{"$f":"'Daily Calcs'!K2180/1000000","v":0},0]
[0.1,{"$f":"'Daily Calcs'!J2181/1000000","v":0},{"$f":"'Daily Calcs'!K2181/1000000","v":0},0]
[0.1,{"$f":"'Daily Calcs'!J2182/1000000","v":0},{"$f":"'Daily Calcs'!K2182/1000000","v":0},0]
[0.1,{"$f":"'Daily Calcs'!J2183/1000000","v":0},{"$f":"'Daily Calcs'!K2183/1000000","v":0},0]
[0.1,{"$f":"'Daily Calcs'!J2184/1000000","v":1.3912515380004416E-9},{"$f":"'Daily Calcs'!K2184/1000000","v":1.3912515380827711E-9},1.3912515380004416E-9]
[0.1,{"$f":"'Daily Calcs'!J2185/1000000","v":0},{"$f":"'Daily Calcs'!K2185/1000000","v":0},0]
[0.1,{"$f":"'Daily Calcs'!J2186/1000000","v":0},{"$f":"'Daily Calcs'!K2186/1000000","v":0},0]
[0.1,{"$f":"'Daily Calcs'!J2187/1000000","v":0},{"$f":"'Daily Calcs'!K2187/1000000","v":0},0]
[0.1,{"$f":"'Daily Calcs'!J2188/1000000","v":0},{"$f":"'Daily Calcs'!K2188/1000000","v":0},0]
[0.1,{"$f":"'Daily Calcs'!J2189/1000000","v":6.3556924399240763E-10},{"$f":"'Daily Calcs'!K2189/1000000","v":6.3556924403010422E-10},6.3556924399240763E-10]
[0.1,{"$f":"'Daily Calcs'!J2190/1000000","v":0},{"$f":"'Daily Calcs'!K2190/1000000","v":0},0]
[0.1,{"$f":"'Daily Calcs'!J2191/1000000","v":0},{"$f":"'Daily Calcs'!K2191/1000000","v":0},0]
[0.1,{"$f":"'Daily Calcs'!J2192/1000000","v":3.6197854180235152E-10},{"$f":"'Daily Calcs'!K2192/1000000","v":3.6197854181370453E-10},3.6197854180235152E-10]
[0.1,{"$f":"'Daily Calcs'!J2193/1000000","v":2.2155912884184818E-10},{"$f":"'Daily Calcs'!K2193/1000000","v":2.2155912884668186E-10},2.2155912884184818E-10]
[0.1,{"$f":"'Daily Calcs'!J2194/1000000","v":0},{"$f":"'Daily Calcs'!K2194/1000000","v":0},0]
[0.1,{"$f":"'Daily Calcs'!J2195/1000000","v":0},{"$f":"'Daily Calcs'!K2195/1000000","v":0},0]
[0.1,{"$f":"'Daily Calcs'!J2196/1000000","v":0},{"$f":"'Daily Calcs'!K2196/1000000","v":0},0]
[0.1,{"$f":"'Daily Calcs'!J2197/1000000","v":0},{"$f":"'Daily Calcs'!K2197/1000000","v":0},0]
[0.1,{"$f":"'Daily Calcs'!J2198/1000000","v":0},{"$f":"'Daily Calcs'!K2198/1000000","v":0},0]
[0.1,{"$f":"'Daily Calcs'!J2199/1000000","v":1.169110895401002E-10},{"$f":"'Daily Calcs'!K2199/1000000","v":1.1691108954169183E-10},1.169110895401002E-10]
[0.1,{"$f":"'Daily Calcs'!J2200/1000000","v":5.5708122651574895E-11},{"$f":"'Daily Calcs'!K2200/1000000","v":5.5708122652151362E-11},5.5708122651574895E-11]
[0.1,{"$f":"'Daily Calcs'!J2201/1000000","v":0},{"$f":"'Daily Calcs'!K2201/1000000","v":0},0]
[0.1,{"$f":"'Daily Calcs'!J2202/1000000","v":4.1782166073837851E-11},{"$f":"'Daily Calcs'!K2202/1000000","v":4.1782166073996004E-11},4.1782166073837851E-11]
[0.1,{"$f":"'Daily Calcs'!J2203/1000000","v":0},{"$f":"'Daily Calcs'!K2203/1000000","v":0},0]
[0.1,{"$f":"'Daily Calcs'!J2204/1000000","v":0},{"$f":"'Daily Calcs'!K2204/1000000","v":0},0]
[0.1,{"$f":"'Daily Calcs'!J2205/1000000","v":2.9105844547097815E-11},{"$f":"'Daily Calcs'!K2205/1000000","v":2.9105844547187189E-11},2.9105844547097815E-11]
[0.1,{"$f":"'Daily Calcs'!J2206/1000000","v":1.4812608537619643E-11},{"$f":"'Daily Calcs'!K2206/1000000","v":1.4812608537674137E-11},1.4812608537619643E-11]
[0.1,{"$f":"'Daily Calcs'!J2207/1000000","v":0},{"$f":"'Daily Calcs'!K2207/1000000","v":0},0]
[0.1,{"$f":"'Daily Calcs'!J2208/1000000","v":0},{"$f":"'Daily Calcs'!K2208/1000000","v":0},0]
[0.1,{"$f":"'Daily Calcs'!J2209/1000000","v":0},{"$f":"'Daily Calcs'!K2209/1000000","v":0},0]
[0.1,{"$f":"'Daily Calcs'!J2210/1000000","v":0},{"$f":"'Daily Calcs'!K2210/1000000","v":0},0]
[0.1,{"$f":"'Daily Calcs'!J2211/1000000","v":0},{"$f":"'Daily Calcs'!K2211/1000000","v":0},0]
[0.1,{"$f":"'Daily Calcs'!J2212/1000000","v":0},{"$f":"'Daily Calcs'!K2212/1000000","v":0},0]
[0.1,{"$f":"'Daily Calcs'!J2213/1000000","v":0},{"$f":"'Daily Calcs'!K2213/1000000","v":0},0]
[0.1,{"$f":"'Daily Calcs'!J2214/1000000","v":0},{"$f":"'Daily Calcs'!K2214/1000000","v":0},0]
[0.1,{"$f":"'Daily Calcs'!J2215/1000000","v":0},{"$f":"'Daily Calcs'!K2215/1000000","v":0},0]
[0.1,{"$f":"'Daily Calcs'!J2216/1000000","v":0},{"$f":"'Daily Calcs'!K2216/1000000","v":0},0]
[0.1,{"$f":"'Daily Calcs'!J2217/1000000","v":0},{"$f":"'Daily Calcs'!K2217/1000000","v":0},0]
[0.1,{"$f":"'Daily Calcs'!J2218/1000000","v":5.9391696485466403E-12},{"$f":"'Daily Calcs'!K2218/1000000","v":5.9391696485562692E-12},5.9391696485466403E-12]
[0.1,{"$f":"'Daily Calcs'!J2219/1000000","v":4.2499028874789593E-12},{"$f":"'Daily Calcs'!K2219/1000000","v":4.2499028874826671E-12},4.2499028874789593E-12]
[0.1,{"$f":"'Daily Calcs'!J2220/1000000","v":0},{"$f":"'Daily Calcs'!K2220/1000000","v":0},0]
[0.1,{"$f":"'Daily Calcs'!J2221/1000000","v":0},{"$f":"'Daily Calcs'!K2221/1000000","v":0},0]
[0.1,{"$f":"'Daily Calcs'!J2222/1000000","v":0},{"$f":"'Daily Calcs'!K2222/1000000","v":0},0]
[0.1,{"$f":"'Daily Calcs'!J2223/1000000","v":0},{"$f":"'Daily Calcs'!K2223/1000000","v":0},0]
[0.1,{"$f":"'Daily Calcs'!J2224/1000000","v":0},{"$f":"'Daily Calcs'!K2224/1000000","v":0},0]
[0.1,{"$f":"'Daily Calcs'!J2225/1000000","v":0},{"$f":"'Daily Calcs'!K2225/1000000","v":0},0]
[0.1,{"$f":"'Daily Calcs'!J2226/1000000","v":0},{"$f":"'Daily Calcs'!K2226/1000000","v":0},0]
[0.1,{"$f":"'Daily Calcs'!J2227/1000000","v":0},{"$f":"'Daily Calcs'!K2227/1000000","v":0},0]
[0.1,{"$f":"'Daily Calcs'!J2228/1000000","v":0},{"$f":"'Daily Calcs'!K2228/1000000","v":0},0]
[0.1,{"$f":"'Daily Calcs'!J2229/1000000","v":1.351820425794508E-12},{"$f":"'Daily Calcs'!K2229/1000000","v":1.3518204257954848E-12},1.351820425794508E-12]
[0.1,{"$f":"'Daily Calcs'!J2230/1000000","v":0},{"$f":"'Daily Calcs'!K2230/1000000","v":0},0]
[0.1,{"$f":"'Daily Calcs'!J2231/1000000","v":0},{"$f":"'Daily Calcs'!K2231/1000000","v":0},0]
[0.1,{"$f":"'Daily Calcs'!J2232/1000000","v":9.7431154417320184E-13},{"$f":"'Daily Calcs'!K2232/1000000","v":9.7431154417351546E-13},9.7431154417320184E-13]
[0.1,{"$f":"'Daily Calcs'!J2233/1000000","v":0},{"$f":"'Daily Calcs'!K2233/1000000","v":0},0]
[0.1,{"$f":"'Daily Calcs'!J2234/1000000","v":6.3825425262730189E-13},{"$f":"'Daily Calcs'!K2234/1000000","v":6.3825425262747607E-13},6.3825425262730189E-13]
[0.1,{"$f":"'Daily Calcs'!J2235/1000000","v":0},{"$f":"'Daily Calcs'!K2235/1000000","v":0},0]
[0.1,{"$f":"'Daily Calcs'!J2236/1000000","v":0},{"$f":"'Daily Calcs'!K2236/1000000","v":0},0]
[0.1,{"$f":"'Daily Calcs'!J2237/1000000","v":0},{"$f":"'Daily Calcs'!K2237/1000000","v":0},0]
[0.1,{"$f":"'Daily Calcs'!J2238/1000000","v":0},{"$f":"'Daily Calcs'!K2238/1000000","v":0},0]
[0.1,{"$f":"'Daily Calcs'!J2239/1000000","v":0},{"$f":"'Daily Calcs'!K2239/1000000","v":0},0]
[0.1,{"$f":"'Daily Calcs'!J2240/1000000","v":3.3012824562511851E-13},{"$f":"'Daily Calcs'!K2240/1000000","v":3.3012824562518904E-13},3.3012824562511851E-13]
[0.1,{"$f":"'Daily Calcs'!J2241/1000000","v":0},{"$f":"'Daily Calcs'!K2241/1000000","v":0},0]
[0.1,{"$f":"'Daily Calcs'!J2242/1000000","v":0},{"$f":"'Daily Calcs'!K2242/1000000","v":0},0]
[0.1,{"$f":"'Daily Calcs'!J2243/1000000","v":1.3155423533921042E-13},{"$f":"'Daily Calcs'!K2243/1000000","v":1.3155423533923655E-13},{"$f":"B2247","v":1.3155423533921042E-13}]
[0.1,{"$f":"'Daily Calcs'!J2244/1000000","v":0},{"$f":"'Daily Calcs'!K2244/1000000","v":0},0]
[0.1,{"$f":"'Daily Calcs'!J2245/1000000","v":0},{"$f":"'Daily Calcs'!K2245/1000000","v":0},0]
[0.1,{"$f":"'Daily Calcs'!J2246/1000000","v":0},{"$f":"'Daily Calcs'!K2246/1000000","v":0},0]
[0.1,{"$f":"'Daily Calcs'!J2247/1000000","v":0},{"$f":"'Daily Calcs'!K2247/1000000","v":0},0]
[0.1,{"$f":"'Daily Calcs'!J2248/1000000","v":0},{"$f":"'Daily Calcs'!K2248/1000000","v":0},0]
[0.1,{"$f":"'Daily Calcs'!J2249/1000000","v":0},{"$f":"'Daily Calcs'!K2249/1000000","v":0},0]
[0.1,{"$f":"'Daily Calcs'!J2250/1000000","v":0},{"$f":"'Daily Calcs'!K2250/1000000","v":0},0]
[0.1,{"$f":"'Daily Calcs'!J2251/1000000","v":0},{"$f":"'Daily Calcs'!K2251/1000000","v":0},0]
[0.1,{"$f":"'Daily Calcs'!J2252/1000000","v":0},{"$f":"'Daily Calcs'!K2252/1000000","v":0},0]
[0.1,{"$f":"'Daily Calcs'!J2253/1000000","v":0},{"$f":"'Daily Calcs'!K2253/1000000","v":0},0]
[0.1,{"$f":"'Daily Calcs'!J2254/1000000","v":0},{"$f":"'Daily Calcs'!K2254/1000000","v":0},0]
[0.1,{"$f":"'Daily Calcs'!J2255/1000000","v":0},{"$f":"'Daily Calcs'!K2255/1000000","v":0},0]
[0.1,{"$f":"'Daily Calcs'!J2256/1000000","v":0},{"$f":"'Daily Calcs'!K2256/1000000","v":0},0]
[0.1,{"$f":"'Daily Calcs'!J2257/1000000","v":3.067354687139471E-14},{"$f":"'Daily Calcs'!K2257/1000000","v":3.0673546871396521E-14},3.067354687139471E-14]
[0.1,{"$f":"'Daily Calcs'!J2258/1000000","v":0},{"$f":"'Daily Calcs'!K2258/1000000","v":0},0]
[0.1,{"$f":"'Daily Calcs'!J2259/1000000","v":0},{"$f":"'Daily Calcs'!K2259/1000000","v":0},0]
[0.1,{"$f":"'Daily Calcs'!J2260/1000000","v":0},{"$f":"'Daily Calcs'!K2260/1000000","v":0},0]
[0.1,{"$f":"'Daily Calcs'!J2261/1000000","v":1.0360869116077272E-14},{"$f":"'Daily Calcs'!K2261/1000000","v":1.036086911607781E-14},1.0360869116077272E-14]
[0.1,{"$f":"'Daily Calcs'!J2262/1000000","v":0},{"$f":"'Daily Calcs'!K2262/1000000","v":0},0]
[0.1,{"$f":"'Daily Calcs'!J2263/1000000","v":0},{"$f":"'Daily Calcs'!K2263/1000000","v":0},0]
[0.1,{"$f":"'Daily Calcs'!J2264/1000000","v":0},{"$f":"'Daily Calcs'!K2264/1000000","v":0},0]
[0.1,{"$f":"'Daily Calcs'!J2265/1000000","v":0},{"$f":"'Daily Calcs'!K2265/1000000","v":0},0]
[0.1,{"$f":"'Daily Calcs'!J2266/1000000","v":0},{"$f":"'Daily Calcs'!K2266/1000000","v":0},0]
[0.1,{"$f":"'Daily Calcs'!J2267/1000000","v":0},{"$f":"'Daily Calcs'!K2267/1000000","v":0},0]
[0.1,{"$f":"'Daily Calcs'!J2268/1000000","v":0},{"$f":"'Daily Calcs'!K2268/1000000","v":0},0]
[0.1,{"$f":"'Daily Calcs'!J2269/1000000","v":0},{"$f":"'Daily Calcs'!K2269/1000000","v":0},0]
[0.1,{"$f":"'Daily Calcs'!J2270/1000000","v":0},{"$f":"'Daily Calcs'!K2270/1000000","v":0},0]
[0.1,{"$f":"'Daily Calcs'!J2271/1000000","v":0},{"$f":"'Daily Calcs'!K2271/1000000","v":0},0]
[0.1,{"$f":"'Daily Calcs'!J2272/1000000","v":0},{"$f":"'Daily Calcs'!K2272/1000000","v":0},0]
[0.1,{"$f":"'Daily Calcs'!J2273/1000000","v":0},{"$f":"'Daily Calcs'!K2273/1000000","v":0},0]
[0.1,{"$f":"'Daily Calcs'!J2274/1000000","v":0},{"$f":"'Daily Calcs'!K2274/1000000","v":0},0]
[0.1,{"$f":"'Daily Calcs'!J2275/1000000","v":0},{"$f":"'Daily Calcs'!K2275/1000000","v":0},0]
[0.1,{"$f":"'Daily Calcs'!J2276/1000000","v":0},{"$f":"'Daily Calcs'!K2276/1000000","v":0},0]
[0.1,{"$f":"'Daily Calcs'!J2277/1000000","v":0},{"$f":"'Daily Calcs'!K2277/1000000","v":0},0]
[0.1,{"$f":"'Daily Calcs'!J2278/1000000","v":0},{"$f":"'Daily Calcs'!K2278/1000000","v":0},0]
[0.1,{"$f":"'Daily Calcs'!J2279/1000000","v":0},{"$f":"'Daily Calcs'!K2279/1000000","v":0},0]
[0.1,{"$f":"'Daily Calcs'!J2280/1000000","v":0},{"$f":"'Daily Calcs'!K2280/1000000","v":0},0]
[0.1,{"$f":"'Daily Calcs'!J2281/1000000","v":0},{"$f":"'Daily Calcs'!K2281/1000000","v":0},0]
[0.1,{"$f":"'Daily Calcs'!J2282/1000000","v":0},{"$f":"'Daily Calcs'!K2282/1000000","v":0},0]
[0.1,{"$f":"'Daily Calcs'!J2283/1000000","v":0},{"$f":"'Daily Calcs'!K2283/1000000","v":0},0]
[0.1,{"$f":"'Daily Calcs'!J2284/1000000","v":0},{"$f":"'Daily Calcs'!K2284/1000000","v":0},0]
[0.1,{"$f":"'Daily Calcs'!J2285/1000000","v":0},{"$f":"'Daily Calcs'!K2285/1000000","v":0},0]
[0.1,{"$f":"'Daily Calcs'!J2286/1000000","v":0},{"$f":"'Daily Calcs'!K2286/1000000","v":0},0]
[0.1,{"$f":"'Daily Calcs'!J2287/1000000","v":0},{"$f":"'Daily Calcs'!K2287/1000000","v":0},0]
[0.1,{"$f":"'Daily Calcs'!J2288/1000000","v":0},{"$f":"'Daily Calcs'!K2288/1000000","v":0},0]
[0.1,{"$f":"'Daily Calcs'!J2289/1000000","v":0},{"$f":"'Daily Calcs'!K2289/1000000","v":0},0]
[0.1,{"$f":"'Daily Calcs'!J2290/1000000","v":0},{"$f":"'Daily Calcs'!K2290/1000000","v":0},0]
[0.1,{"$f":"'Daily Calcs'!J2291/1000000","v":0},{"$f":"'Daily Calcs'!K2291/1000000","v":0},0]
[0.1,{"$f":"'Daily Calcs'!J2292/1000000","v":0},{"$f":"'Daily Calcs'!K2292/1000000","v":0},0]
[0.1,{"$f":"'Daily Calcs'!J2293/1000000","v":0},{"$f":"'Daily Calcs'!K2293/1000000","v":0},0]
[0.1,{"$f":"'Daily Calcs'!J2294/1000000","v":0},{"$f":"'Daily Calcs'!K2294/1000000","v":0},0]
[0.1,{"$f":"'Daily Calcs'!J2295/1000000","v":0},{"$f":"'Daily Calcs'!K2295/1000000","v":0},0]
[0.1,{"$f":"'Daily Calcs'!J2296/1000000","v":0},{"$f":"'Daily Calcs'!K2296/1000000","v":0},0]
[0.1,{"$f":"'Daily Calcs'!J2297/1000000","v":0},{"$f":"'Daily Calcs'!K2297/1000000","v":0},0]
[0.1,{"$f":"'Daily Calcs'!J2298/1000000","v":0},{"$f":"'Daily Calcs'!K2298/1000000","v":0},0]
[0.1,{"$f":"'Daily Calcs'!J2299/1000000","v":0},{"$f":"'Daily Calcs'!K2299/1000000","v":0},0]
[0.1,{"$f":"'Daily Calcs'!J2300/1000000","v":0},{"$f":"'Daily Calcs'!K2300/1000000","v":0},0]
[0.1,{"$f":"'Daily Calcs'!J2301/1000000","v":0},{"$f":"'Daily Calcs'!K2301/1000000","v":0},0]
[0.1,{"$f":"'Daily Calcs'!J2302/1000000","v":0},{"$f":"'Daily Calcs'!K2302/1000000","v":0},0]
[0.1,{"$f":"'Daily Calcs'!J2303/1000000","v":0},{"$f":"'Daily Calcs'!K2303/1000000","v":0},0]
[0.1,{"$f":"'Daily Calcs'!J2304/1000000","v":2.6691756017893915E-15},{"$f":"'Daily Calcs'!K2304/1000000","v":2.6691756017894049E-15},2.6691756017893915E-15]
[0.1,{"$f":"'Daily Calcs'!J2305/1000000","v":1.5818208430913347E-15},{"$f":"'Daily Calcs'!K2305/1000000","v":1.5818208430913453E-15},1.5818208430913347E-15]
[0.1,{"$f":"'Daily Calcs'!J2306/1000000","v":8.5303439917964015E-16},{"$f":"'Daily Calcs'!K2306/1000000","v":8.5303439917964528E-16},8.5303439917964015E-16]
[0.1,{"$f":"'Daily Calcs'!J2307/1000000","v":0},{"$f":"'Daily Calcs'!K2307/1000000","v":0},{"$f":"B2311","v":0}]
[0.1,{"$f":"'Daily Calcs'!J2308/1000000","v":3.5868758051072212E-16},{"$f":"'Daily Calcs'!K2308/1000000","v":3.5868758051072379E-16},3.5868758051072212E-16]
[0.1,{"$f":"'Daily Calcs'!J2309/1000000","v":0},{"$f":"'Daily Calcs'!K2309/1000000","v":0},0]
[0.1,{"$f":"'Daily Calcs'!J2310/1000000","v":0},{"$f":"'Daily Calcs'!K2310/1000000","v":0},0]
[0.1,{"$f":"'Daily Calcs'!J2311/1000000","v":0},{"$f":"'Daily Calcs'!K2311/1000000","v":0},0]
[0.1,{"$f":"'Daily Calcs'!J2312/1000000","v":0},{"$f":"'Daily Calcs'!K2312/1000000","v":0},0]
[0.1,{"$f":"'Daily Calcs'!J2313/1000000","v":0},{"$f":"'Daily Calcs'!K2313/1000000","v":0},0]
[0.1,{"$f":"'Daily Calcs'!J2314/1000000","v":0},{"$f":"'Daily Calcs'!K2314/1000000","v":0},0]
[0.1,{"$f":"'Daily Calcs'!J2315/1000000","v":0},{"$f":"'Daily Calcs'!K2315/1000000","v":0},0]
[0.1,{"$f":"'Daily Calcs'!J2316/1000000","v":1.5285571142284573E-16},{"$f":"'Daily Calcs'!K2316/1000000","v":1.5285571142284595E-16},1.5285571142284573E-16]
[0.1,{"$f":"'Daily Calcs'!J2317/1000000","v":0},{"$f":"'Daily Calcs'!K2317/1000000","v":0},0]
[0.1,{"$f":"'Daily Calcs'!J2318/1000000","v":8.3205617462982752E-17},{"$f":"'Daily Calcs'!K2318/1000000","v":8.32056174629829E-17},8.3205617462982752E-17]
[0.1,{"$f":"'Daily Calcs'!J2319/1000000","v":6.8815892382293117E-17},{"$f":"'Daily Calcs'!K2319/1000000","v":6.8815892382293191E-17},6.8815892382293117E-17]
[0.1,{"$f":"'Daily Calcs'!J2320/1000000","v":0},{"$f":"'Daily Calcs'!K2320/1000000","v":0},0]
[0.1,{"$f":"'Daily Calcs'!J2321/1000000","v":0},{"$f":"'Daily Calcs'!K2321/1000000","v":0},0]
[0.1,{"$f":"'Daily Calcs'!J2322/1000000","v":0},{"$f":"'Daily Calcs'!K2322/1000000","v":0},0]
[0.1,{"$f":"'Daily Calcs'!J2323/1000000","v":0},{"$f":"'Daily Calcs'!K2323/1000000","v":0},0]
[0.1,{"$f":"'Daily Calcs'!J2324/1000000","v":0},{"$f":"'Daily Calcs'!K2324/1000000","v":0},0]
[0.1,{"$f":"'Daily Calcs'!J2325/1000000","v":0},{"$f":"'Daily Calcs'!K2325/1000000","v":0},0]
[0.1,{"$f":"'Daily Calcs'!J2326/1000000","v":0},{"$f":"'Daily Calcs'!K2326/1000000","v":0},0]
[0.1,{"$f":"'Daily Calcs'!J2327/1000000","v":0},{"$f":"'Daily Calcs'!K2327/1000000","v":0},0]
[0.1,{"$f":"'Daily Calcs'!J2328/1000000","v":0},{"$f":"'Daily Calcs'!K2328/1000000","v":0},0]
[0.1,{"$f":"'Daily Calcs'!J2329/1000000","v":0},{"$f":"'Daily Calcs'!K2329/1000000","v":0},0]
[0.1,{"$f":"'Daily Calcs'!J2330/1000000","v":0},{"$f":"'Daily Calcs'!K2330/1000000","v":0},0]
[0.1,{"$f":"'Daily Calcs'!J2331/1000000","v":0},{"$f":"'Daily Calcs'!K2331/1000000","v":0},0]
[0.1,{"$f":"'Daily Calcs'!J2332/1000000","v":0},{"$f":"'Daily Calcs'!K2332/1000000","v":0},0]
[0.1,{"$f":"'Daily Calcs'!J2333/1000000","v":1.7638624215663489E-17},{"$f":"'Daily Calcs'!K2333/1000000","v":1.7638624215663495E-17},1.7638624215663489E-17]
[0.1,{"$f":"'Daily Calcs'!J2334/1000000","v":7.8481275286144058E-18},{"$f":"'Daily Calcs'!K2334/1000000","v":7.8481275286144105E-18},7.8481275286144058E-18]
[0.1,{"$f":"'Daily Calcs'!J2335/1000000","v":0},{"$f":"'Daily Calcs'!K2335/1000000","v":0},0]
[0.1,{"$f":"'Daily Calcs'!J2336/1000000","v":0},{"$f":"'Daily Calcs'!K2336/1000000","v":0},0]
[0.1,{"$f":"'Daily Calcs'!J2337/1000000","v":0},{"$f":"'Daily Calcs'!K2337/1000000","v":0},0]
[0.1,{"$f":"'Daily Calcs'!J2338/1000000","v":0},{"$f":"'Daily Calcs'!K2338/1000000","v":0},0]
[0.1,{"$f":"'Daily Calcs'!J2339/1000000","v":0},{"$f":"'Daily Calcs'!K2339/1000000","v":0},0]
[0.1,{"$f":"'Daily Calcs'!J2340/1000000","v":0},{"$f":"'Daily Calcs'!K2340/1000000","v":0},0]
[0.1,{"$f":"'Daily Calcs'!J2341/1000000","v":0},{"$f":"'Daily Calcs'!K2341/1000000","v":0},0]
[0.1,{"$f":"'Daily Calcs'!J2342/1000000","v":0},{"$f":"'Daily Calcs'!K2342/1000000","v":0},0]
[0.1,{"$f":"'Daily Calcs'!J2343/1000000","v":3.1201608302317367E-18},{"$f":"'Daily Calcs'!K2343/1000000","v":3.1201608302317371E-18},3.1201608302317367E-18]
[0.1,{"$f":"'Daily Calcs'!J2344/1000000","v":1.7647163965681603E-18},{"$f":"'Daily Calcs'!K2344/1000000","v":1.7647163965681607E-18},1.7647163965681603E-18]
[0.1,{"$f":"'Daily Calcs'!J2345/1000000","v":0},{"$f":"'Daily Calcs'!K2345/1000000","v":0},0]
[0.1,{"$f":"'Daily Calcs'!J2346/1000000","v":8.1846686839450952E-19},{"$f":"'Daily Calcs'!K2346/1000000","v":8.1846686839450962E-19},8.1846686839450952E-19]
[0.1,{"$f":"'Daily Calcs'!J2347/1000000","v":0},{"$f":"'Daily Calcs'!K2347/1000000","v":0},0]
[0.1,{"$f":"'Daily Calcs'!J2348/1000000","v":0},{"$f":"'Daily Calcs'!K2348/1000000","v":0},0]
[0.1,{"$f":"'Daily Calcs'!J2349/1000000","v":0},{"$f":"'Daily Calcs'!K2349/1000000","v":0},0]
[0.1,{"$f":"'Daily Calcs'!J2350/1000000","v":0},{"$f":"'Daily Calcs'!K2350/1000000","v":0},0]
[0.1,{"$f":"'Daily Calcs'!J2351/1000000","v":0},{"$f":"'Daily Calcs'!K2351/1000000","v":0},0]
[0.1,{"$f":"'Daily Calcs'!J2352/1000000","v":0},{"$f":"'Daily Calcs'!K2352/1000000","v":0},0]
[0.1,{"$f":"'Daily Calcs'!J2353/1000000","v":0},{"$f":"'Daily Calcs'!K2353/1000000","v":0},0]
[0.1,{"$f":"'Daily Calcs'!J2354/1000000","v":0},{"$f":"'Daily Calcs'!K2354/1000000","v":0},0]
[0.1,{"$f":"'Daily Calcs'!J2355/1000000","v":0},{"$f":"'Daily Calcs'!K2355/1000000","v":0},0]
[0.1,{"$f":"'Daily Calcs'!J2356/1000000","v":0},{"$f":"'Daily Calcs'!K2356/1000000","v":0},0]
[0.1,{"$f":"'Daily Calcs'!J2357/1000000","v":0},{"$f":"'Daily Calcs'!K2357/1000000","v":0},0]
[0.1,{"$f":"'Daily Calcs'!J2358/1000000","v":0},{"$f":"'Daily Calcs'!K2358/1000000","v":0},0]
[0.1,{"$f":"'Daily Calcs'!J2359/1000000","v":0},{"$f":"'Daily Calcs'!K2359/1000000","v":0},0]
[0.1,{"$f":"'Daily Calcs'!J2360/1000000","v":0},{"$f":"'Daily Calcs'!K2360/1000000","v":0},0]
[0.1,{"$f":"'Daily Calcs'!J2361/1000000","v":0},{"$f":"'Daily Calcs'!K2361/1000000","v":0},0]
[0.1,{"$f":"'Daily Calcs'!J2362/1000000","v":0},{"$f":"'Daily Calcs'!K2362/1000000","v":0},0]
[0.1,{"$f":"'Daily Calcs'!J2363/1000000","v":0},{"$f":"'Daily Calcs'!K2363/1000000","v":0},0]
[0.1,{"$f":"'Daily Calcs'!J2364/1000000","v":0},{"$f":"'Daily Calcs'!K2364/1000000","v":0},0]
[0.1,{"$f":"'Daily Calcs'!J2365/1000000","v":0},{"$f":"'Daily Calcs'!K2365/1000000","v":0},0]
[0.1,{"$f":"'Daily Calcs'!J2366/1000000","v":1.4751392990896082E-19},{"$f":"'Daily Calcs'!K2366/1000000","v":1.4751392990896082E-19},1.4751392990896082E-19]
[0.1,{"$f":"'Daily Calcs'!J2367/1000000","v":1.1521912694473817E-19},{"$f":"'Daily Calcs'!K2367/1000000","v":1.1521912694473817E-19},1.1521912694473817E-19]
[0.1,{"$f":"'Daily Calcs'!J2368/1000000","v":0},{"$f":"'Daily Calcs'!K2368/1000000","v":0},0]
[0.1,{"$f":"'Daily Calcs'!J2369/1000000","v":0},{"$f":"'Daily Calcs'!K2369/1000000","v":0},0]
[0.1,{"$f":"'Daily Calcs'!J2370/1000000","v":0},{"$f":"'Daily Calcs'!K2370/1000000","v":0},0]
[0.1,{"$f":"'Daily Calcs'!J2371/1000000","v":0},{"$f":"'Daily Calcs'!K2371/1000000","v":0},{"$f":"B2375","v":0}]
[0.1,{"$f":"'Daily Calcs'!J2372/1000000","v":4.4843737047169025E-20},{"$f":"'Daily Calcs'!K2372/1000000","v":4.4843737047169025E-20},4.4843737047169025E-20]
[0.1,{"$f":"'Daily Calcs'!J2373/1000000","v":0},{"$f":"'Daily Calcs'!K2373/1000000","v":0},0]
[0.1,{"$f":"'Daily Calcs'!J2374/1000000","v":0},{"$f":"'Daily Calcs'!K2374/1000000","v":0},0]
[0.1,{"$f":"'Daily Calcs'!J2375/1000000","v":0},{"$f":"'Daily Calcs'!K2375/1000000","v":0},0]
[0.1,{"$f":"'Daily Calcs'!J2376/1000000","v":0},{"$f":"'Daily Calcs'!K2376/1000000","v":0},0]
[0.1,{"$f":"'Daily Calcs'!J2377/1000000","v":0},{"$f":"'Daily Calcs'!K2377/1000000","v":0},0]
[0.1,{"$f":"'Daily Calcs'!J2378/1000000","v":0},{"$f":"'Daily Calcs'!K2378/1000000","v":0},0]
[0.1,{"$f":"'Daily Calcs'!J2379/1000000","v":0},{"$f":"'Daily Calcs'!K2379/1000000","v":0},0]
[0.1,{"$f":"'Daily Calcs'!J2380/1000000","v":1.4893636446635625E-20},{"$f":"'Daily Calcs'!K2380/1000000","v":1.4893636446635625E-20},1.4893636446635625E-20]
[0.1,{"$f":"'Daily Calcs'!J2381/1000000","v":6.6923615977575331E-21},{"$f":"'Daily Calcs'!K2381/1000000","v":6.6923615977575331E-21},6.6923615977575331E-21]
[0.1,{"$f":"'Daily Calcs'!J2382/1000000","v":0},{"$f":"'Daily Calcs'!K2382/1000000","v":0},0]
[0.1,{"$f":"'Daily Calcs'!J2383/1000000","v":4.0022222222222232E-21},{"$f":"'Daily Calcs'!K2383/1000000","v":4.0022222222222232E-21},4.0022222222222232E-21]
[0.1,{"$f":"'Daily Calcs'!J2384/1000000","v":0},{"$f":"'Daily Calcs'!K2384/1000000","v":0},0]
[0.1,{"$f":"'Daily Calcs'!J2385/1000000","v":0},{"$f":"'Daily Calcs'!K2385/1000000","v":0},0]
[0.1,{"$f":"'Daily Calcs'!J2386/1000000","v":1.4536294267266679E-21},{"$f":"'Daily Calcs'!K2386/1000000","v":1.4536294267266679E-21},1.4536294267266679E-21]
[0.1,{"$f":"'Daily Calcs'!J2387/1000000","v":0},{"$f":"'Daily Calcs'!K2387/1000000","v":0},0]
[0.1,{"$f":"'Daily Calcs'!J2388/1000000","v":0},{"$f":"'Daily Calcs'!K2388/1000000","v":0},0]
[0.1,{"$f":"'Daily Calcs'!J2389/1000000","v":0},{"$f":"'Daily Calcs'!K2389/1000000","v":0},0]
[0.1,{"$f":"'Daily Calcs'!J2390/1000000","v":0},{"$f":"'Daily Calcs'!K2390/1000000","v":0},0]
[0.1,{"$f":"'Daily Calcs'!J2391/1000000","v":0},{"$f":"'Daily Calcs'!K2391/1000000","v":0},0]
[0.1,{"$f":"'Daily Calcs'!J2392/1000000","v":0},{"$f":"'Daily Calcs'!K2392/1000000","v":0},0]
[0.1,{"$f":"'Daily Calcs'!J2393/1000000","v":0},{"$f":"'Daily Calcs'!K2393/1000000","v":0},0]
[0.1,{"$f":"'Daily Calcs'!J2394/1000000","v":0},{"$f":"'Daily Calcs'!K2394/1000000","v":0},0]
[0.1,{"$f":"'Daily Calcs'!J2395/1000000","v":1.3669858291842206E-5},{"$f":"'Daily Calcs'!K2395/1000000","v":1.3782171581769437E-5},1.3669858291842206E-5]
[0.1,{"$f":"'Daily Calcs'!J2396/1000000","v":1.1794061614237256E-5},{"$f":"'Daily Calcs'!K2396/1000000","v":1.1869202174620139E-5},1.1794061614237256E-5]
[0.1,{"$f":"'Daily Calcs'!J2397/1000000","v":1.0592951614228209E-5},{"$f":"'Daily Calcs'!K2397/1000000","v":1.0625226320545469E-5},1.0592951614228209E-5]
[0.1,{"$f":"'Daily Calcs'!J2398/1000000","v":0},{"$f":"'Daily Calcs'!K2398/1000000","v":0},0]
[0.1,{"$f":"'Daily Calcs'!J2399/1000000","v":2.6407156839177171E-5},{"$f":"'Daily Calcs'!K2399/1000000","v":2.6623493251828707E-5},2.6407156839177171E-5]
[0.1,{"$f":"'Daily Calcs'!J2400/1000000","v":0},{"$f":"'Daily Calcs'!K2400/1000000","v":0},0]
[0.1,{"$f":"'Daily Calcs'!J2401/1000000","v":0},{"$f":"'Daily Calcs'!K2401/1000000","v":0},0]
[0.1,{"$f":"'Daily Calcs'!J2402/1000000","v":2.0245866136716863E-5},{"$f":"'Daily Calcs'!K2402/1000000","v":2.0336948712069099E-5},2.0245866136716863E-5]
[0.1,{"$f":"'Daily Calcs'!J2403/1000000","v":0},{"$f":"'Daily Calcs'!K2403/1000000","v":0},0]
[0.1,{"$f":"'Daily Calcs'!J2404/1000000","v":0},{"$f":"'Daily Calcs'!K2404/1000000","v":0},0]
[0.1,{"$f":"'Daily Calcs'!J2405/1000000","v":0},{"$f":"'Daily Calcs'!K2405/1000000","v":0},0]
[0.1,{"$f":"'Daily Calcs'!J2406/1000000","v":0},{"$f":"'Daily Calcs'!K2406/1000000","v":0},0]
[0.1,{"$f":"'Daily Calcs'!J2407/1000000","v":0},{"$f":"'Daily Calcs'!K2407/1000000","v":0},0]
[0.1,{"$f":"'Daily Calcs'!J2408/1000000","v":1.5510509136389985E-5},{"$f":"'Daily Calcs'!K2408/1000000","v":1.5528484487965589E-5},1.5510509136389985E-5]
[0.1,{"$f":"'Daily Calcs'!J2409/1000000","v":0},{"$f":"'Daily Calcs'!K2409/1000000","v":0},0]
[0.1,{"$f":"'Daily Calcs'!J2410/1000000","v":0},{"$f":"'Daily Calcs'!K2410/1000000","v":0},0]
[0.1,{"$f":"'Daily Calcs'!J2411/1000000","v":0},{"$f":"'Daily Calcs'!K2411/1000000","v":0},0]
[0.1,{"$f":"'Daily Calcs'!J2412/1000000","v":0},{"$f":"'Daily Calcs'!K2412/1000000","v":0},0]
[0.1,{"$f":"'Daily Calcs'!J2413/1000000","v":0},{"$f":"'Daily Calcs'!K2413/1000000","v":0},0]
[0.1,{"$f":"'Daily Calcs'!J2414/1000000","v":0},{"$f":"'Daily Calcs'!K2414/1000000","v":0},0]
[0.1,{"$f":"'Daily Calcs'!J2415/1000000","v":0},{"$f":"'Daily Calcs'!K2415/1000000","v":0},0]
[0.1,{"$f":"'Daily Calcs'!J2416/1000000","v":0},{"$f":"'Daily Calcs'!K2416/1000000","v":0},0]
[0.1,{"$f":"'Daily Calcs'!J2417/1000000","v":0},{"$f":"'Daily Calcs'!K2417/1000000","v":0},0]
[0.1,{"$f":"'Daily Calcs'!J2418/1000000","v":0},{"$f":"'Daily Calcs'!K2418/1000000","v":0},0]
[0.1,{"$f":"'Daily Calcs'!J2419/1000000","v":0},{"$f":"'Daily Calcs'!K2419/1000000","v":0},0]
[0.1,{"$f":"'Daily Calcs'!J2420/1000000","v":0},{"$f":"'Daily Calcs'!K2420/1000000","v":0},0]
[0.1,{"$f":"'Daily Calcs'!J2421/1000000","v":0},{"$f":"'Daily Calcs'!K2421/1000000","v":0},0]
[0.1,{"$f":"'Daily Calcs'!J2422/1000000","v":0},{"$f":"'Daily Calcs'!K2422/1000000","v":0},0]
[0.1,{"$f":"'Daily Calcs'!J2423/1000000","v":7.5671658854464388E-6},{"$f":"'Daily Calcs'!K2423/1000000","v":7.5695356122099008E-6},7.5671658854464388E-6]
[0.1,{"$f":"'Daily Calcs'!J2424/1000000","v":6.4165953375962943E-6},{"$f":"'Daily Calcs'!K2424/1000000","v":6.417754241981774E-6},6.4165953375962943E-6]
[0.1,{"$f":"'Daily Calcs'!J2425/1000000","v":5.483659684792249E-6},{"$f":"'Daily Calcs'!K2425/1000000","v":5.4842223920311114E-6},5.483659684792249E-6]
[0.1,{"$f":"'Daily Calcs'!J2426/1000000","v":4.3370853080568715E-6},{"$f":"'Daily Calcs'!K2426/1000000","v":4.3373569016587668E-6},4.3370853080568715E-6]
[0.1,{"$f":"'Daily Calcs'!J2427/1000000","v":2.9633189721759731E-6},{"$f":"'Daily Calcs'!K2427/1000000","v":2.9634055407748158E-6},2.9633189721759731E-6]
[0.1,{"$f":"'Daily Calcs'!J2428/1000000","v":2.1248611419684515E-6},{"$f":"'Daily Calcs'!K2428/1000000","v":2.1248892455009997E-6},2.1248611419684515E-6]
[0.1,{"$f":"'Daily Calcs'!J2429/1000000","v":0},{"$f":"'Daily Calcs'!K2429/1000000","v":0},0]
[0.1,{"$f":"'Daily Calcs'!J2430/1000000","v":1.7256911209954395E-6},{"$f":"'Daily Calcs'!K2430/1000000","v":1.7257012003828612E-6},1.7256911209954395E-6]
[0.1,{"$f":"'Daily Calcs'!J2431/1000000","v":1.5127212761661172E-6},{"$f":"'Daily Calcs'!K2431/1000000","v":1.5127254240425389E-6},1.5127212761661172E-6]
[0.1,{"$f":"'Daily Calcs'!J2432/1000000","v":0},{"$f":"'Daily Calcs'!K2432/1000000","v":0},0]
[0.1,{"$f":"'Daily Calcs'!J2433/1000000","v":0},{"$f":"'Daily Calcs'!K2433/1000000","v":0},0]
[0.1,{"$f":"'Daily Calcs'!J2434/1000000","v":0},{"$f":"'Daily Calcs'!K2434/1000000","v":0},0]
[0.1,{"$f":"'Daily Calcs'!J2435/1000000","v":0},{"$f":"'Daily Calcs'!K2435/1000000","v":0},{"$f":"B2439","v":0}]
[0.1,{"$f":"'Daily Calcs'!J2436/1000000","v":0},{"$f":"'Daily Calcs'!K2436/1000000","v":0},0]
[0.1,{"$f":"'Daily Calcs'!J2437/1000000","v":0},{"$f":"'Daily Calcs'!K2437/1000000","v":0},0]
[0.1,{"$f":"'Daily Calcs'!J2438/1000000","v":1.1902724455340212E-6},{"$f":"'Daily Calcs'!K2438/1000000","v":1.1902739623710627E-6},1.1902724455340212E-6]
[0.1,{"$f":"'Daily Calcs'!J2439/1000000","v":9.4250679198179022E-7},{"$f":"'Daily Calcs'!K2439/1000000","v":9.4250786878625435E-7},9.4250679198179022E-7]
[0.1,{"$f":"'Daily Calcs'!J2440/1000000","v":0},{"$f":"'Daily Calcs'!K2440/1000000","v":0},0]
[0.1,{"$f":"'Daily Calcs'!J2441/1000000","v":0},{"$f":"'Daily Calcs'!K2441/1000000","v":0},0]
[0.1,{"$f":"'Daily Calcs'!J2442/1000000","v":0},{"$f":"'Daily Calcs'!K2442/1000000","v":0},0]
[0.1,{"$f":"'Daily Calcs'!J2443/1000000","v":0},{"$f":"'Daily Calcs'!K2443/1000000","v":0},0]
[0.1,{"$f":"'Daily Calcs'!J2444/1000000","v":5.9606820087580364E-7},{"$f":"'Daily Calcs'!K2444/1000000","v":5.9606853381160896E-7},5.9606820087580364E-7]
[0.1,{"$f":"'Daily Calcs'!J2445/1000000","v":0},{"$f":"'Daily Calcs'!K2445/1000000","v":0},0]
[0.1,{"$f":"'Daily Calcs'!J2446/1000000","v":0},{"$f":"'Daily Calcs'!K2446/1000000","v":0},0]
[0.1,{"$f":"'Daily Calcs'!J2447/1000000","v":0},{"$f":"'Daily Calcs'!K2447/1000000","v":0},0]
[0.1,{"$f":"'Daily Calcs'!J2448/1000000","v":0},{"$f":"'Daily Calcs'!K2448/1000000","v":0},0]
[0.1,{"$f":"'Daily Calcs'!J2449/1000000","v":0},{"$f":"'Daily Calcs'!K2449/1000000","v":0},0]
[0.1,{"$f":"'Daily Calcs'!J2450/1000000","v":0},{"$f":"'Daily Calcs'!K2450/1000000","v":0},0]
[0.1,{"$f":"'Daily Calcs'!J2451/1000000","v":0},{"$f":"'Daily Calcs'!K2451/1000000","v":0},0]
[0.1,{"$f":"'Daily Calcs'!J2452/1000000","v":0},{"$f":"'Daily Calcs'!K2452/1000000","v":0},0]
[0.1,{"$f":"'Daily Calcs'!J2453/1000000","v":0},{"$f":"'Daily Calcs'!K2453/1000000","v":0},0]
[0.1,{"$f":"'Daily Calcs'!J2454/1000000","v":0},{"$f":"'Daily Calcs'!K2454/1000000","v":0},0]
[0.1,{"$f":"'Daily Calcs'!J2455/1000000","v":0},{"$f":"'Daily Calcs'!K2455/1000000","v":0},0]
[0.1,{"$f":"'Daily Calcs'!J2456/1000000","v":0},{"$f":"'Daily Calcs'!K2456/1000000","v":0},0]
[0.1,{"$f":"'Daily Calcs'!J2457/1000000","v":0},{"$f":"'Daily Calcs'!K2457/1000000","v":0},0]
[0.1,{"$f":"'Daily Calcs'!J2458/1000000","v":0},{"$f":"'Daily Calcs'!K2458/1000000","v":0},0]
[0.1,{"$f":"'Daily Calcs'!J2459/1000000","v":0},{"$f":"'Daily Calcs'!K2459/1000000","v":0},0]
[0.1,{"$f":"'Daily Calcs'!J2460/1000000","v":0},{"$f":"'Daily Calcs'!K2460/1000000","v":0},0]
[0.1,{"$f":"'Daily Calcs'!J2461/1000000","v":0},{"$f":"'Daily Calcs'!K2461/1000000","v":0},0]
[0.1,{"$f":"'Daily Calcs'!J2462/1000000","v":0},{"$f":"'Daily Calcs'!K2462/1000000","v":0},0]
[0.1,{"$f":"'Daily Calcs'!J2463/1000000","v":0},{"$f":"'Daily Calcs'!K2463/1000000","v":0},0]
[0.1,{"$f":"'Daily Calcs'!J2464/1000000","v":0},{"$f":"'Daily Calcs'!K2464/1000000","v":0},0]
[0.1,{"$f":"'Daily Calcs'!J2465/1000000","v":0},{"$f":"'Daily Calcs'!K2465/1000000","v":0},0]
[0.1,{"$f":"'Daily Calcs'!J2466/1000000","v":0},{"$f":"'Daily Calcs'!K2466/1000000","v":0},0]
[0.1,{"$f":"'Daily Calcs'!J2467/1000000","v":0},{"$f":"'Daily Calcs'!K2467/1000000","v":0},0]
[0.1,{"$f":"'Daily Calcs'!J2468/1000000","v":0},{"$f":"'Daily Calcs'!K2468/1000000","v":0},0]
[0.1,{"$f":"'Daily Calcs'!J2469/1000000","v":0},{"$f":"'Daily Calcs'!K2469/1000000","v":0},0]
[0.1,{"$f":"'Daily Calcs'!J2470/1000000","v":0},{"$f":"'Daily Calcs'!K2470/1000000","v":0},0]
[0.1,{"$f":"'Daily Calcs'!J2471/1000000","v":0},{"$f":"'Daily Calcs'!K2471/1000000","v":0},0]
[0.1,{"$f":"'Daily Calcs'!J2472/1000000","v":0},{"$f":"'Daily Calcs'!K2472/1000000","v":0},0]
[0.1,{"$f":"'Daily Calcs'!J2473/1000000","v":3.5008462439786489E-7},{"$f":"'Daily Calcs'!K2473/1000000","v":3.5008466159788222E-7},3.5008462439786489E-7]
[0.1,{"$f":"'Daily Calcs'!J2474/1000000","v":2.2857055840655408E-7},{"$f":"'Daily Calcs'!K2474/1000000","v":2.28570584575675E-7},2.2857055840655408E-7]
[0.1,{"$f":"'Daily Calcs'!J2475/1000000","v":0},{"$f":"'Daily Calcs'!K2475/1000000","v":0},0]
[0.1,{"$f":"'Daily Calcs'!J2476/1000000","v":0},{"$f":"'Daily Calcs'!K2476/1000000","v":0},0]
[0.1,{"$f":"'Daily Calcs'!J2477/1000000","v":0},{"$f":"'Daily Calcs'!K2477/1000000","v":0},0]
[0.1,{"$f":"'Daily Calcs'!J2478/1000000","v":0},{"$f":"'Daily Calcs'!K2478/1000000","v":0},0]
[0.1,{"$f":"'Daily Calcs'!J2479/1000000","v":0},{"$f":"'Daily Calcs'!K2479/1000000","v":0},0]
[0.1,{"$f":"'Daily Calcs'!J2480/1000000","v":0},{"$f":"'Daily Calcs'!K2480/1000000","v":0},0]
[0.1,{"$f":"'Daily Calcs'!J2481/1000000","v":0},{"$f":"'Daily Calcs'!K2481/1000000","v":0},0]
[0.1,{"$f":"'Daily Calcs'!J2482/1000000","v":0},{"$f":"'Daily Calcs'!K2482/1000000","v":0},0]
[0.1,{"$f":"'Daily Calcs'!J2483/1000000","v":0},{"$f":"'Daily Calcs'!K2483/1000000","v":0},0]
[0.1,{"$f":"'Daily Calcs'!J2484/1000000","v":0},{"$f":"'Daily Calcs'!K2484/1000000","v":0},0]
[0.1,{"$f":"'Daily Calcs'!J2485/1000000","v":0},{"$f":"'Daily Calcs'!K2485/1000000","v":0},0]
[0.1,{"$f":"'Daily Calcs'!J2486/1000000","v":0},{"$f":"'Daily Calcs'!K2486/1000000","v":0},0]
[0.1,{"$f":"'Daily Calcs'!J2487/1000000","v":0},{"$f":"'Daily Calcs'!K2487/1000000","v":0},0]
[0.1,{"$f":"'Daily Calcs'!J2488/1000000","v":0},{"$f":"'Daily Calcs'!K2488/1000000","v":0},0]
[0.1,{"$f":"'Daily Calcs'!J2489/1000000","v":0},{"$f":"'Daily Calcs'!K2489/1000000","v":0},0]
[0.1,{"$f":"'Daily Calcs'!J2490/1000000","v":0},{"$f":"'Daily Calcs'!K2490/1000000","v":0},0]
[0.1,{"$f":"'Daily Calcs'!J2491/1000000","v":0},{"$f":"'Daily Calcs'!K2491/1000000","v":0},0]
[0.1,{"$f":"'Daily Calcs'!J2492/1000000","v":0},{"$f":"'Daily Calcs'!K2492/1000000","v":0},0]
[0.1,{"$f":"'Daily Calcs'!J2493/1000000","v":0},{"$f":"'Daily Calcs'!K2493/1000000","v":0},0]
[0.1,{"$f":"'Daily Calcs'!J2494/1000000","v":0},{"$f":"'Daily Calcs'!K2494/1000000","v":0},0]
[0.1,{"$f":"'Daily Calcs'!J2495/1000000","v":0},{"$f":"'Daily Calcs'!K2495/1000000","v":0},0]
[0.1,{"$f":"'Daily Calcs'!J2496/1000000","v":9.5477036285206806E-8},{"$f":"'Daily Calcs'!K2496/1000000","v":9.5477038333069019E-8},9.5477036285206806E-8]
[0.1,{"$f":"'Daily Calcs'!J2497/1000000","v":5.5539449972576981E-8},{"$f":"'Daily Calcs'!K2497/1000000","v":5.553945067699601E-8},5.5539449972576981E-8]
[0.1,{"$f":"'Daily Calcs'!J2498/1000000","v":0},{"$f":"'Daily Calcs'!K2498/1000000","v":0},0]
[0.1,{"$f":"'Daily Calcs'!J2499/1000000","v":0},{"$f":"'Daily Calcs'!K2499/1000000","v":0},{"$f":"B2503","v":0}]
[0.1,{"$f":"'Daily Calcs'!J2500/1000000","v":0},{"$f":"'Daily Calcs'!K2500/1000000","v":0},0]
[0.1,{"$f":"'Daily Calcs'!J2501/1000000","v":0},{"$f":"'Daily Calcs'!K2501/1000000","v":0},0]
[0.1,{"$f":"'Daily Calcs'!J2502/1000000","v":0},{"$f":"'Daily Calcs'!K2502/1000000","v":0},0]
[0.1,{"$f":"'Daily Calcs'!J2503/1000000","v":0},{"$f":"'Daily Calcs'!K2503/1000000","v":0},0]
[0.1,{"$f":"'Daily Calcs'!J2504/1000000","v":0},{"$f":"'Daily Calcs'!K2504/1000000","v":0},0]
[0.1,{"$f":"'Daily Calcs'!J2505/1000000","v":0},{"$f":"'Daily Calcs'!K2505/1000000","v":0},0]
[0.1,{"$f":"'Daily Calcs'!J2506/1000000","v":0},{"$f":"'Daily Calcs'!K2506/1000000","v":0},0]
[0.1,{"$f":"'Daily Calcs'!J2507/1000000","v":0},{"$f":"'Daily Calcs'!K2507/1000000","v":0},0]
[0.1,{"$f":"'Daily Calcs'!J2508/1000000","v":0},{"$f":"'Daily Calcs'!K2508/1000000","v":0},0]
[0.1,{"$f":"'Daily Calcs'!J2509/1000000","v":0},{"$f":"'Daily Calcs'!K2509/1000000","v":0},0]
[0.1,{"$f":"'Daily Calcs'!J2510/1000000","v":0},{"$f":"'Daily Calcs'!K2510/1000000","v":0},0]
[0.1,{"$f":"'Daily Calcs'!J2511/1000000","v":0},{"$f":"'Daily Calcs'!K2511/1000000","v":0},0]
[0.1,{"$f":"'Daily Calcs'!J2512/1000000","v":0},{"$f":"'Daily Calcs'!K2512/1000000","v":0},0]
[0.1,{"$f":"'Daily Calcs'!J2513/1000000","v":0},{"$f":"'Daily Calcs'!K2513/1000000","v":0},0]
[0.1,{"$f":"'Daily Calcs'!J2514/1000000","v":0},{"$f":"'Daily Calcs'!K2514/1000000","v":0},0]
[0.1,{"$f":"'Daily Calcs'!J2515/1000000","v":0},{"$f":"'Daily Calcs'!K2515/1000000","v":0},0]
[0.1,{"$f":"'Daily Calcs'!J2516/1000000","v":0},{"$f":"'Daily Calcs'!K2516/1000000","v":0},0]
[0.1,{"$f":"'Daily Calcs'!J2517/1000000","v":3.4114857744994728E-8},{"$f":"'Daily Calcs'!K2517/1000000","v":3.4114857853869207E-8},3.4114857744994728E-8]
[0.1,{"$f":"'Daily Calcs'!J2518/1000000","v":0},{"$f":"'Daily Calcs'!K2518/1000000","v":0},0]
[0.1,{"$f":"'Daily Calcs'!J2519/1000000","v":0},{"$f":"'Daily Calcs'!K2519/1000000","v":0},0]
[0.1,{"$f":"'Daily Calcs'!J2520/1000000","v":1.7054766255968878E-8},{"$f":"'Daily Calcs'!K2520/1000000","v":1.7054766303684494E-8},1.7054766255968878E-8]
[0.1,{"$f":"'Daily Calcs'!J2521/1000000","v":0},{"$f":"'Daily Calcs'!K2521/1000000","v":0},0]
[0.1,{"$f":"'Daily Calcs'!J2522/1000000","v":0},{"$f":"'Daily Calcs'!K2522/1000000","v":0},0]
[0.1,{"$f":"'Daily Calcs'!J2523/1000000","v":1.392662276575729E-8},{"$f":"'Daily Calcs'!K2523/1000000","v":1.3926622779894636E-8},1.392662276575729E-8]
[0.1,{"$f":"'Daily Calcs'!J2524/1000000","v":0},{"$f":"'Daily Calcs'!K2524/1000000","v":0},0]
[0.1,{"$f":"'Daily Calcs'!J2525/1000000","v":1.116030857022086E-8},{"$f":"'Daily Calcs'!K2525/1000000","v":1.1160308578669026E-8},1.116030857022086E-8]
[0.1,{"$f":"'Daily Calcs'!J2526/1000000","v":9.6619740340997969E-9},{"$f":"'Daily Calcs'!K2526/1000000","v":9.6619740393187854E-9},9.6619740340997969E-9]
[0.1,{"$f":"'Daily Calcs'!J2527/1000000","v":0},{"$f":"'Daily Calcs'!K2527/1000000","v":0},0]
[0.1,{"$f":"'Daily Calcs'!J2528/1000000","v":5.7594298458256556E-9},{"$f":"'Daily Calcs'!K2528/1000000","v":5.7594298498088809E-9},5.7594298458256556E-9]
[0.1,{"$f":"'Daily Calcs'!J2529/1000000","v":0},{"$f":"'Daily Calcs'!K2529/1000000","v":0},0]
[0.1,{"$f":"'Daily Calcs'!J2530/1000000","v":0},{"$f":"'Daily Calcs'!K2530/1000000","v":0},0]
[0.1,{"$f":"'Daily Calcs'!J2531/1000000","v":0},{"$f":"'Daily Calcs'!K2531/1000000","v":0},0]
[0.1,{"$f":"'Daily Calcs'!J2532/1000000","v":0},{"$f":"'Daily Calcs'!K2532/1000000","v":0},0]
[0.1,{"$f":"'Daily Calcs'!J2533/1000000","v":0},{"$f":"'Daily Calcs'!K2533/1000000","v":0},0]
[0.1,{"$f":"'Daily Calcs'!J2534/1000000","v":0},{"$f":"'Daily Calcs'!K2534/1000000","v":0},0]
[0.1,{"$f":"'Daily Calcs'!J2535/1000000","v":0},{"$f":"'Daily Calcs'!K2535/1000000","v":0},0]
[0.1,{"$f":"'Daily Calcs'!J2536/1000000","v":3.2355840880431048E-9},{"$f":"'Daily Calcs'!K2536/1000000","v":3.2355840890565636E-9},3.2355840880431048E-9]
[0.1,{"$f":"'Daily Calcs'!J2537/1000000","v":1.8277412332591928E-9},{"$f":"'Daily Calcs'!K2537/1000000","v":1.8277412336655862E-9},1.8277412332591928E-9]
[0.1,{"$f":"'Daily Calcs'!J2538/1000000","v":0},{"$f":"'Daily Calcs'!K2538/1000000","v":0},0]
[0.1,{"$f":"'Daily Calcs'!J2539/1000000","v":0},{"$f":"'Daily Calcs'!K2539/1000000","v":0},0]
[0.1,{"$f":"'Daily Calcs'!J2540/1000000","v":1.1430055792731133E-9},{"$f":"'Daily Calcs'!K2540/1000000","v":1.1430055794192428E-9},1.1430055792731133E-9]
[0.1,{"$f":"'Daily Calcs'!J2541/1000000","v":0},{"$f":"'Daily Calcs'!K2541/1000000","v":0},0]
[0.1,{"$f":"'Daily Calcs'!J2542/1000000","v":0},{"$f":"'Daily Calcs'!K2542/1000000","v":0},0]
[0.1,{"$f":"'Daily Calcs'!J2543/1000000","v":0},{"$f":"'Daily Calcs'!K2543/1000000","v":0},0]
[0.1,{"$f":"'Daily Calcs'!J2544/1000000","v":6.5819435042156435E-10},{"$f":"'Daily Calcs'!K2544/1000000","v":6.5819435047480448E-10},6.5819435042156435E-10]
[0.1,{"$f":"'Daily Calcs'!J2545/1000000","v":3.5333632219980571E-10},{"$f":"'Daily Calcs'!K2545/1000000","v":3.5333632221967676E-10},3.5333632219980571E-10]
[0.1,{"$f":"'Daily Calcs'!J2546/1000000","v":0},{"$f":"'Daily Calcs'!K2546/1000000","v":0},0]
[0.1,{"$f":"'Daily Calcs'!J2547/1000000","v":0},{"$f":"'Daily Calcs'!K2547/1000000","v":0},0]
[0.1,{"$f":"'Daily Calcs'!J2548/1000000","v":2.2661237140596149E-10},{"$f":"'Daily Calcs'!K2548/1000000","v":2.2661237141345226E-10},2.2661237140596149E-10]
[0.1,{"$f":"'Daily Calcs'!J2549/1000000","v":0},{"$f":"'Daily Calcs'!K2549/1000000","v":0},0]
[0.1,{"$f":"'Daily Calcs'!J2550/1000000","v":0},{"$f":"'Daily Calcs'!K2550/1000000","v":0},0]
[0.1,{"$f":"'Daily Calcs'!J2551/1000000","v":0},{"$f":"'Daily Calcs'!K2551/1000000","v":0},0]
[0.1,{"$f":"'Daily Calcs'!J2552/1000000","v":0},{"$f":"'Daily Calcs'!K2552/1000000","v":0},0]
[0.1,{"$f":"'Daily Calcs'!J2553/1000000","v":1.7520245263890755E-10},{"$f":"'Daily Calcs'!K2553/1000000","v":1.7520245264139235E-10},1.7520245263890755E-10]
[0.1,{"$f":"'Daily Calcs'!J2554/1000000","v":1.1623995167510803E-10},{"$f":"'Daily Calcs'!K2554/1000000","v":1.1623995167711316E-10},1.1623995167510803E-10]
[0.1,{"$f":"'Daily Calcs'!J2555/1000000","v":0},{"$f":"'Daily Calcs'!K2555/1000000","v":0},0]
[0.1,{"$f":"'Daily Calcs'!J2556/1000000","v":0},{"$f":"'Daily Calcs'!K2556/1000000","v":0},0]
[0.1,{"$f":"'Daily Calcs'!J2557/1000000","v":8.0672868044338011E-11},{"$f":"'Daily Calcs'!K2557/1000000","v":8.0672868045186659E-11},8.0672868044338011E-11]
[0.1,{"$f":"'Daily Calcs'!J2558/1000000","v":5.3171550836899415E-11},{"$f":"'Daily Calcs'!K2558/1000000","v":5.3171550837318227E-11},5.3171550836899415E-11]
[0.1,{"$f":"'Daily Calcs'!J2559/1000000","v":0},{"$f":"'Daily Calcs'!K2559/1000000","v":0},0]
[0.1,{"$f":"'Daily Calcs'!J2560/1000000","v":0},{"$f":"'Daily Calcs'!K2560/1000000","v":0},0]
[0.1,{"$f":"'Daily Calcs'!J2561/1000000","v":2.4298112811595943E-11},{"$f":"'Daily Calcs'!K2561/1000000","v":2.4298112811748132E-11},2.4298112811595943E-11]
[0.1,{"$f":"'Daily Calcs'!J2562/1000000","v":0},{"$f":"'Daily Calcs'!K2562/1000000","v":0},0]
[0.1,{"$f":"'Daily Calcs'!J2563/1000000","v":1.3829287651299691E-11},{"$f":"'Daily Calcs'!K2563/1000000","v":1.3829287651354849E-11},{"$f":"B2567","v":1.3829287651299691E-11}]
[0.1,{"$f":"'Daily Calcs'!J2564/1000000","v":0},{"$f":"'Daily Calcs'!K2564/1000000","v":0},0]
[0.1,{"$f":"'Daily Calcs'!J2565/1000000","v":0},{"$f":"'Daily Calcs'!K2565/1000000","v":0},0]
[0.1,{"$f":"'Daily Calcs'!J2566/1000000","v":6.9414593454045842E-12},{"$f":"'Daily Calcs'!K2566/1000000","v":6.9414593454238509E-12},6.9414593454045842E-12]
[0.1,{"$f":"'Daily Calcs'!J2567/1000000","v":3.3267007260016135E-12},{"$f":"'Daily Calcs'!K2567/1000000","v":3.3267007260084175E-12},3.3267007260016135E-12]
[0.1,{"$f":"'Daily Calcs'!J2568/1000000","v":0},{"$f":"'Daily Calcs'!K2568/1000000","v":0},0]
[0.1,{"$f":"'Daily Calcs'!J2569/1000000","v":0},{"$f":"'Daily Calcs'!K2569/1000000","v":0},0]
[0.1,{"$f":"'Daily Calcs'!J2570/1000000","v":0},{"$f":"'Daily Calcs'!K2570/1000000","v":0},0]
[0.1,{"$f":"'Daily Calcs'!J2571/1000000","v":0},{"$f":"'Daily Calcs'!K2571/1000000","v":0},0]
[0.1,{"$f":"'Daily Calcs'!J2572/1000000","v":0},{"$f":"'Daily Calcs'!K2572/1000000","v":0},0]
[0.1,{"$f":"'Daily Calcs'!J2573/1000000","v":0},{"$f":"'Daily Calcs'!K2573/1000000","v":0},0]
[0.1,{"$f":"'Daily Calcs'!J2574/1000000","v":0},{"$f":"'Daily Calcs'!K2574/1000000","v":0},0]
[0.1,{"$f":"'Daily Calcs'!J2575/1000000","v":0},{"$f":"'Daily Calcs'!K2575/1000000","v":0},0]
[0.1,{"$f":"'Daily Calcs'!J2576/1000000","v":0},{"$f":"'Daily Calcs'!K2576/1000000","v":0},0]
[0.1,{"$f":"'Daily Calcs'!J2577/1000000","v":0},{"$f":"'Daily Calcs'!K2577/1000000","v":0},0]
[0.1,{"$f":"'Daily Calcs'!J2578/1000000","v":0},{"$f":"'Daily Calcs'!K2578/1000000","v":0},0]
[0.1,{"$f":"'Daily Calcs'!J2579/1000000","v":0},{"$f":"'Daily Calcs'!K2579/1000000","v":0},0]
[0.1,{"$f":"'Daily Calcs'!J2580/1000000","v":1.8145952412601355E-12},{"$f":"'Daily Calcs'!K2580/1000000","v":1.8145952412613666E-12},1.8145952412601355E-12]
[0.1,{"$f":"'Daily Calcs'!J2581/1000000","v":1.3206827500715172E-12},{"$f":"'Daily Calcs'!K2581/1000000","v":1.3206827500722633E-12},1.3206827500715172E-12]
[0.1,{"$f":"'Daily Calcs'!J2582/1000000","v":0},{"$f":"'Daily Calcs'!K2582/1000000","v":0},0]
[0.1,{"$f":"'Daily Calcs'!J2583/1000000","v":0},{"$f":"'Daily Calcs'!K2583/1000000","v":0},0]
[0.1,{"$f":"'Daily Calcs'!J2584/1000000","v":0},{"$f":"'Daily Calcs'!K2584/1000000","v":0},0]
[0.1,{"$f":"'Daily Calcs'!J2585/1000000","v":0},{"$f":"'Daily Calcs'!K2585/1000000","v":0},0]
[0.1,{"$f":"'Daily Calcs'!J2586/1000000","v":0},{"$f":"'Daily Calcs'!K2586/1000000","v":0},0]
[0.1,{"$f":"'Daily Calcs'!J2587/1000000","v":0},{"$f":"'Daily Calcs'!K2587/1000000","v":0},0]
[0.1,{"$f":"'Daily Calcs'!J2588/1000000","v":0},{"$f":"'Daily Calcs'!K2588/1000000","v":0},0]
[0.1,{"$f":"'Daily Calcs'!J2589/1000000","v":0},{"$f":"'Daily Calcs'!K2589/1000000","v":0},0]
[0.1,{"$f":"'Daily Calcs'!J2590/1000000","v":8.9327061283156941E-13},{"$f":"'Daily Calcs'!K2590/1000000","v":8.9327061283188849E-13},8.9327061283156941E-13]
[0.1,{"$f":"'Daily Calcs'!J2591/1000000","v":0},{"$f":"'Daily Calcs'!K2591/1000000","v":0},0]
[0.1,{"$f":"'Daily Calcs'!J2592/1000000","v":0},{"$f":"'Daily Calcs'!K2592/1000000","v":0},0]
[0.1,{"$f":"'Daily Calcs'!J2593/1000000","v":0},{"$f":"'Daily Calcs'!K2593/1000000","v":0},0]
[0.1,{"$f":"'Daily Calcs'!J2594/1000000","v":0},{"$f":"'Daily Calcs'!K2594/1000000","v":0},0]
[0.1,{"$f":"'Daily Calcs'!J2595/1000000","v":0},{"$f":"'Daily Calcs'!K2595/1000000","v":0},0]
[0.1,{"$f":"'Daily Calcs'!J2596/1000000","v":0},{"$f":"'Daily Calcs'!K2596/1000000","v":0},0]
[0.1,{"$f":"'Daily Calcs'!J2597/1000000","v":0},{"$f":"'Daily Calcs'!K2597/1000000","v":0},0]
[0.1,{"$f":"'Daily Calcs'!J2598/1000000","v":0},{"$f":"'Daily Calcs'!K2598/1000000","v":0},0]
[0.1,{"$f":"'Daily Calcs'!J2599/1000000","v":0},{"$f":"'Daily Calcs'!K2599/1000000","v":0},0]
[0.1,{"$f":"'Daily Calcs'!J2600/1000000","v":0},{"$f":"'Daily Calcs'!K2600/1000000","v":0},0]
[0.1,{"$f":"'Daily Calcs'!J2601/1000000","v":0},{"$f":"'Daily Calcs'!K2601/1000000","v":0},0]
[0.1,{"$f":"'Daily Calcs'!J2602/1000000","v":0},{"$f":"'Daily Calcs'!K2602/1000000","v":0},0]
[0.1,{"$f":"'Daily Calcs'!J2603/1000000","v":0},{"$f":"'Daily Calcs'!K2603/1000000","v":0},0]
[0.1,{"$f":"'Daily Calcs'!J2604/1000000","v":0},{"$f":"'Daily Calcs'!K2604/1000000","v":0},0]
[0.1,{"$f":"'Daily Calcs'!J2605/1000000","v":0},{"$f":"'Daily Calcs'!K2605/1000000","v":0},0]
[0.1,{"$f":"'Daily Calcs'!J2606/1000000","v":0},{"$f":"'Daily Calcs'!K2606/1000000","v":0},0]
[0.1,{"$f":"'Daily Calcs'!J2607/1000000","v":0},{"$f":"'Daily Calcs'!K2607/1000000","v":0},0]
[0.1,{"$f":"'Daily Calcs'!J2608/1000000","v":0},{"$f":"'Daily Calcs'!K2608/1000000","v":0},0]
[0.1,{"$f":"'Daily Calcs'!J2609/1000000","v":0},{"$f":"'Daily Calcs'!K2609/1000000","v":0},0]
[0.1,{"$f":"'Daily Calcs'!J2610/1000000","v":0},{"$f":"'Daily Calcs'!K2610/1000000","v":0},0]
[0.1,{"$f":"'Daily Calcs'!J2611/1000000","v":0},{"$f":"'Daily Calcs'!K2611/1000000","v":0},0]
[0.1,{"$f":"'Daily Calcs'!J2612/1000000","v":0},{"$f":"'Daily Calcs'!K2612/1000000","v":0},0]
[0.1,{"$f":"'Daily Calcs'!J2613/1000000","v":0},{"$f":"'Daily Calcs'!K2613/1000000","v":0},0]
[0.1,{"$f":"'Daily Calcs'!J2614/1000000","v":0},{"$f":"'Daily Calcs'!K2614/1000000","v":0},0]
[0.1,{"$f":"'Daily Calcs'!J2615/1000000","v":0},{"$f":"'Daily Calcs'!K2615/1000000","v":0},0]
[0.1,{"$f":"'Daily Calcs'!J2616/1000000","v":4.5456249926760958E-13},{"$f":"'Daily Calcs'!K2616/1000000","v":4.545624992676733E-13},4.5456249926760958E-13]
[0.1,{"$f":"'Daily Calcs'!J2617/1000000","v":2.5875706214689265E-13},{"$f":"'Daily Calcs'!K2617/1000000","v":2.587570621469438E-13},2.5875706214689265E-13]
[0.1,{"$f":"'Daily Calcs'!J2618/1000000","v":0},{"$f":"'Daily Calcs'!K2618/1000000","v":0},0]
[0.1,{"$f":"'Daily Calcs'!J2619/1000000","v":0},{"$f":"'Daily Calcs'!K2619/1000000","v":0},0]
[0.1,{"$f":"'Daily Calcs'!J2620/1000000","v":0},{"$f":"'Daily Calcs'!K2620/1000000","v":0},0]
[0.1,{"$f":"'Daily Calcs'!J2621/1000000","v":0},{"$f":"'Daily Calcs'!K2621/1000000","v":0},0]
[0.1,{"$f":"'Daily Calcs'!J2622/1000000","v":0},{"$f":"'Daily Calcs'!K2622/1000000","v":0},0]
[0.1,{"$f":"'Daily Calcs'!J2623/1000000","v":0},{"$f":"'Daily Calcs'!K2623/1000000","v":0},0]
[0.1,{"$f":"'Daily Calcs'!J2624/1000000","v":0},{"$f":"'Daily Calcs'!K2624/1000000","v":0},0]
[0.1,{"$f":"'Daily Calcs'!J2625/1000000","v":0},{"$f":"'Daily Calcs'!K2625/1000000","v":0},0]
[0.1,{"$f":"'Daily Calcs'!J2626/1000000","v":0},{"$f":"'Daily Calcs'!K2626/1000000","v":0},0]
[0.1,{"$f":"'Daily Calcs'!J2627/1000000","v":9.3626655008743435E-14},{"$f":"'Daily Calcs'!K2627/1000000","v":9.3626655008753002E-14},{"$f":"B2631","v":9.3626655008743435E-14}]
[0.1,{"$f":"'Daily Calcs'!J2628/1000000","v":5.0858452833869867E-14},{"$f":"'Daily Calcs'!K2628/1000000","v":5.0858452833875282E-14},5.0858452833869867E-14]
[0.1,{"$f":"'Daily Calcs'!J2629/1000000","v":2.1239287240192014E-14},{"$f":"'Daily Calcs'!K2629/1000000","v":2.1239287240193708E-14},2.1239287240192014E-14]
[0.1,{"$f":"'Daily Calcs'!J2630/1000000","v":0},{"$f":"'Daily Calcs'!K2630/1000000","v":0},0]
[0.1,{"$f":"'Daily Calcs'!J2631/1000000","v":0},{"$f":"'Daily Calcs'!K2631/1000000","v":0},0]
[0.1,{"$f":"'Daily Calcs'!J2632/1000000","v":0},{"$f":"'Daily Calcs'!K2632/1000000","v":0},0]
[0.1,{"$f":"'Daily Calcs'!J2633/1000000","v":1.5456983906218955E-14},{"$f":"'Daily Calcs'!K2633/1000000","v":1.5456983906219346E-14},1.5456983906218955E-14]
[0.1,{"$f":"'Daily Calcs'!J2634/1000000","v":0},{"$f":"'Daily Calcs'!K2634/1000000","v":0},0]
[0.1,{"$f":"'Daily Calcs'!J2635/1000000","v":0},{"$f":"'Daily Calcs'!K2635/1000000","v":0},0]
[0.1,{"$f":"'Daily Calcs'!J2636/1000000","v":0},{"$f":"'Daily Calcs'!K2636/1000000","v":0},0]
[0.1,{"$f":"'Daily Calcs'!J2637/1000000","v":0},{"$f":"'Daily Calcs'!K2637/1000000","v":0},0]
[0.1,{"$f":"'Daily Calcs'!J2638/1000000","v":0},{"$f":"'Daily Calcs'!K2638/1000000","v":0},0]
[0.1,{"$f":"'Daily Calcs'!J2639/1000000","v":7.4414045853575383E-15},{"$f":"'Daily Calcs'!K2639/1000000","v":7.4414045853576851E-15},7.4414045853575383E-15]
[0.1,{"$f":"'Daily Calcs'!J2640/1000000","v":0},{"$f":"'Daily Calcs'!K2640/1000000","v":0},0]
[0.1,{"$f":"'Daily Calcs'!J2641/1000000","v":0},{"$f":"'Daily Calcs'!K2641/1000000","v":0},0]
[0.1,{"$f":"'Daily Calcs'!J2642/1000000","v":0},{"$f":"'Daily Calcs'!K2642/1000000","v":0},0]
[0.1,{"$f":"'Daily Calcs'!J2643/1000000","v":0},{"$f":"'Daily Calcs'!K2643/1000000","v":0},0]
[0.1,{"$f":"'Daily Calcs'!J2644/1000000","v":0},{"$f":"'Daily Calcs'!K2644/1000000","v":0},0]
[0.1,{"$f":"'Daily Calcs'!J2645/1000000","v":0},{"$f":"'Daily Calcs'!K2645/1000000","v":0},0]
[0.1,{"$f":"'Daily Calcs'!J2646/1000000","v":0},{"$f":"'Daily Calcs'!K2646/1000000","v":0},0]
[0.1,{"$f":"'Daily Calcs'!J2647/1000000","v":0},{"$f":"'Daily Calcs'!K2647/1000000","v":0},0]
[0.1,{"$f":"'Daily Calcs'!J2648/1000000","v":0},{"$f":"'Daily Calcs'!K2648/1000000","v":0},0]
[0.1,{"$f":"'Daily Calcs'!J2649/1000000","v":0},{"$f":"'Daily Calcs'!K2649/1000000","v":0},0]
[0.1,{"$f":"'Daily Calcs'!J2650/1000000","v":0},{"$f":"'Daily Calcs'!K2650/1000000","v":0},0]
[0.1,{"$f":"'Daily Calcs'!J2651/1000000","v":0},{"$f":"'Daily Calcs'!K2651/1000000","v":0},0]
[0.1,{"$f":"'Daily Calcs'!J2652/1000000","v":2.1880559085133414E-15},{"$f":"'Daily Calcs'!K2652/1000000","v":2.1880559085133769E-15},2.1880559085133414E-15]
[0.1,{"$f":"'Daily Calcs'!J2653/1000000","v":9.4572064604745897E-16},{"$f":"'Daily Calcs'!K2653/1000000","v":9.4572064604747317E-16},9.4572064604745897E-16]
[0.1,{"$f":"'Daily Calcs'!J2654/1000000","v":0},{"$f":"'Daily Calcs'!K2654/1000000","v":0},0]
[0.1,{"$f":"'Daily Calcs'!J2655/1000000","v":0},{"$f":"'Daily Calcs'!K2655/1000000","v":0},0]
[0.1,{"$f":"'Daily Calcs'!J2656/1000000","v":0},{"$f":"'Daily Calcs'!K2656/1000000","v":0},0]
[0.1,{"$f":"'Daily Calcs'!J2657/1000000","v":0},{"$f":"'Daily Calcs'!K2657/1000000","v":0},0]
[0.1,{"$f":"'Daily Calcs'!J2658/1000000","v":5.5384588636205588E-16},{"$f":"'Daily Calcs'!K2658/1000000","v":5.5384588636205924E-16},5.5384588636205588E-16]
[0.1,{"$f":"'Daily Calcs'!J2659/1000000","v":0},{"$f":"'Daily Calcs'!K2659/1000000","v":0},0]
[0.1,{"$f":"'Daily Calcs'!J2660/1000000","v":0},{"$f":"'Daily Calcs'!K2660/1000000","v":0},0]
[0.1,{"$f":"'Daily Calcs'!J2661/1000000","v":0},{"$f":"'Daily Calcs'!K2661/1000000","v":0},0]
[0.1,{"$f":"'Daily Calcs'!J2662/1000000","v":2.5952318378073968E-16},{"$f":"'Daily Calcs'!K2662/1000000","v":2.5952318378074121E-16},2.5952318378073968E-16]
[0.1,{"$f":"'Daily Calcs'!J2663/1000000","v":0},{"$f":"'Daily Calcs'!K2663/1000000","v":0},0]
[0.1,{"$f":"'Daily Calcs'!J2664/1000000","v":0},{"$f":"'Daily Calcs'!K2664/1000000","v":0},0]
[0.1,{"$f":"'Daily Calcs'!J2665/1000000","v":0},{"$f":"'Daily Calcs'!K2665/1000000","v":0},0]
[0.1,{"$f":"'Daily Calcs'!J2666/1000000","v":0},{"$f":"'Daily Calcs'!K2666/1000000","v":0},0]
[0.1,{"$f":"'Daily Calcs'!J2667/1000000","v":0},{"$f":"'Daily Calcs'!K2667/1000000","v":0},0]
[0.1,{"$f":"'Daily Calcs'!J2668/1000000","v":0},{"$f":"'Daily Calcs'!K2668/1000000","v":0},0]
[0.1,{"$f":"'Daily Calcs'!J2669/1000000","v":0},{"$f":"'Daily Calcs'!K2669/1000000","v":0},0]
[0.1,{"$f":"'Daily Calcs'!J2670/1000000","v":0},{"$f":"'Daily Calcs'!K2670/1000000","v":0},0]
[0.1,{"$f":"'Daily Calcs'!J2671/1000000","v":0},{"$f":"'Daily Calcs'!K2671/1000000","v":0},0]
[0.1,{"$f":"'Daily Calcs'!J2672/1000000","v":1.127061084539955E-16},{"$f":"'Daily Calcs'!K2672/1000000","v":1.1270610845399572E-16},1.127061084539955E-16]
[0.1,{"$f":"'Daily Calcs'!J2673/1000000","v":0},{"$f":"'Daily Calcs'!K2673/1000000","v":0},0]
[0.1,{"$f":"'Daily Calcs'!J2674/1000000","v":0},{"$f":"'Daily Calcs'!K2674/1000000","v":0},0]
[0.1,{"$f":"'Daily Calcs'!J2675/1000000","v":0},{"$f":"'Daily Calcs'!K2675/1000000","v":0},0]
[0.1,{"$f":"'Daily Calcs'!J2676/1000000","v":4.049224710804823E-17},{"$f":"'Daily Calcs'!K2676/1000000","v":4.0492247108048329E-17},4.049224710804823E-17]
[0.1,{"$f":"'Daily Calcs'!J2677/1000000","v":1.926309479779107E-17},{"$f":"'Daily Calcs'!K2677/1000000","v":1.9263094797791107E-17},1.926309479779107E-17]
[0.1,{"$f":"'Daily Calcs'!J2678/1000000","v":0},{"$f":"'Daily Calcs'!K2678/1000000","v":0},0]
[0.1,{"$f":"'Daily Calcs'!J2679/1000000","v":0},{"$f":"'Daily Calcs'!K2679/1000000","v":0},0]
[0.1,{"$f":"'Daily Calcs'!J2680/1000000","v":0},{"$f":"'Daily Calcs'!K2680/1000000","v":0},0]
[0.1,{"$f":"'Daily Calcs'!J2681/1000000","v":0},{"$f":"'Daily Calcs'!K2681/1000000","v":0},0]
[0.1,{"$f":"'Daily Calcs'!J2682/1000000","v":0},{"$f":"'Daily Calcs'!K2682/1000000","v":0},0]
[0.1,{"$f":"'Daily Calcs'!J2683/1000000","v":0},{"$f":"'Daily Calcs'!K2683/1000000","v":0},0]
[0.1,{"$f":"'Daily Calcs'!J2684/1000000","v":0},{"$f":"'Daily Calcs'!K2684/1000000","v":0},0]
[0.1,{"$f":"'Daily Calcs'!J2685/1000000","v":0},{"$f":"'Daily Calcs'!K2685/1000000","v":0},0]
[0.1,{"$f":"'Daily Calcs'!J2686/1000000","v":0},{"$f":"'Daily Calcs'!K2686/1000000","v":0},0]
[0.1,{"$f":"'Daily Calcs'!J2687/1000000","v":0},{"$f":"'Daily Calcs'!K2687/1000000","v":0},0]
[0.1,{"$f":"'Daily Calcs'!J2688/1000000","v":0},{"$f":"'Daily Calcs'!K2688/1000000","v":0},0]
[0.1,{"$f":"'Daily Calcs'!J2689/1000000","v":8.9484465687948082E-18},{"$f":"'Daily Calcs'!K2689/1000000","v":8.9484465687948159E-18},8.9484465687948082E-18]
[0.1,{"$f":"'Daily Calcs'!J2690/1000000","v":4.7265970624668204E-18},{"$f":"'Daily Calcs'!K2690/1000000","v":4.7265970624668243E-18},4.7265970624668204E-18]
[0.1,{"$f":"'Daily Calcs'!J2691/1000000","v":0},{"$f":"'Daily Calcs'!K2691/1000000","v":0},{"$f":"B2695","v":0}]
[0.1,{"$f":"'Daily Calcs'!J2692/1000000","v":3.4824573763562071E-18},{"$f":"'Daily Calcs'!K2692/1000000","v":3.4824573763562079E-18},3.4824573763562071E-18]
[0.1,{"$f":"'Daily Calcs'!J2693/1000000","v":1.8458948631621055E-18},{"$f":"'Daily Calcs'!K2693/1000000","v":1.8458948631621063E-18},1.8458948631621055E-18]
[0.1,{"$f":"'Daily Calcs'!J2694/1000000","v":9.0932217298539316E-19},{"$f":"'Daily Calcs'!K2694/1000000","v":9.0932217298539335E-19},9.0932217298539316E-19]
[0.1,{"$f":"'Daily Calcs'!J2695/1000000","v":4.5690292825131613E-19},{"$f":"'Daily Calcs'!K2695/1000000","v":4.5690292825131623E-19},4.5690292825131613E-19]
[0.1,{"$f":"'Daily Calcs'!J2696/1000000","v":2.4060563269788974E-19},{"$f":"'Daily Calcs'!K2696/1000000","v":2.4060563269788979E-19},2.4060563269788974E-19]
[0.1,{"$f":"'Daily Calcs'!J2697/1000000","v":0},{"$f":"'Daily Calcs'!K2697/1000000","v":0},0]
[0.1,{"$f":"'Daily Calcs'!J2698/1000000","v":0},{"$f":"'Daily Calcs'!K2698/1000000","v":0},0]
[0.1,{"$f":"'Daily Calcs'!J2699/1000000","v":0},{"$f":"'Daily Calcs'!K2699/1000000","v":0},0]
[0.1,{"$f":"'Daily Calcs'!J2700/1000000","v":0},{"$f":"'Daily Calcs'!K2700/1000000","v":0},0]
[0.1,{"$f":"'Daily Calcs'!J2701/1000000","v":0},{"$f":"'Daily Calcs'!K2701/1000000","v":0},0]
[0.1,{"$f":"'Daily Calcs'!J2702/1000000","v":0},{"$f":"'Daily Calcs'!K2702/1000000","v":0},0]
[0.1,{"$f":"'Daily Calcs'!J2703/1000000","v":8.2196086649029503E-20},{"$f":"'Daily Calcs'!K2703/1000000","v":8.2196086649029515E-20},8.2196086649029503E-20]
[0.1,{"$f":"'Daily Calcs'!J2704/1000000","v":4.3822061968051655E-20},{"$f":"'Daily Calcs'!K2704/1000000","v":4.3822061968051661E-20},4.3822061968051655E-20]
[0.1,{"$f":"'Daily Calcs'!J2705/1000000","v":0},{"$f":"'Daily Calcs'!K2705/1000000","v":0},0]
[0.1,{"$f":"'Daily Calcs'!J2706/1000000","v":0},{"$f":"'Daily Calcs'!K2706/1000000","v":0},0]
[0.1,{"$f":"'Daily Calcs'!J2707/1000000","v":1.9002810238933886E-20},{"$f":"'Daily Calcs'!K2707/1000000","v":1.9002810238933886E-20},1.9002810238933886E-20]
[0.1,{"$f":"'Daily Calcs'!J2708/1000000","v":0},{"$f":"'Daily Calcs'!K2708/1000000","v":0},0]
[0.1,{"$f":"'Daily Calcs'!J2709/1000000","v":0},{"$f":"'Daily Calcs'!K2709/1000000","v":0},0]
[0.1,{"$f":"'Daily Calcs'!J2710/1000000","v":0},{"$f":"'Daily Calcs'!K2710/1000000","v":0},0]
[0.1,{"$f":"'Daily Calcs'!J2711/1000000","v":1.1026067335668902E-20},{"$f":"'Daily Calcs'!K2711/1000000","v":1.1026067335668902E-20},1.1026067335668902E-20]
[0.1,{"$f":"'Daily Calcs'!J2712/1000000","v":0},{"$f":"'Daily Calcs'!K2712/1000000","v":0},0]
[0.1,{"$f":"'Daily Calcs'!J2713/1000000","v":0},{"$f":"'Daily Calcs'!K2713/1000000","v":0},0]
[0.1,{"$f":"'Daily Calcs'!J2714/1000000","v":0},{"$f":"'Daily Calcs'!K2714/1000000","v":0},0]
[0.1,{"$f":"'Daily Calcs'!J2715/1000000","v":0},{"$f":"'Daily Calcs'!K2715/1000000","v":0},0]
[0.1,{"$f":"'Daily Calcs'!J2716/1000000","v":3.3222029788708006E-21},{"$f":"'Daily Calcs'!K2716/1000000","v":3.3222029788708006E-21},3.3222029788708006E-21]
[0.1,{"$f":"'Daily Calcs'!J2717/1000000","v":0},{"$f":"'Daily Calcs'!K2717/1000000","v":0},0]
[0.1,{"$f":"'Daily Calcs'!J2718/1000000","v":0},{"$f":"'Daily Calcs'!K2718/1000000","v":0},0]
[0.1,{"$f":"'Daily Calcs'!J2719/1000000","v":0},{"$f":"'Daily Calcs'!K2719/1000000","v":0},0]
[0.1,{"$f":"'Daily Calcs'!J2720/1000000","v":0},{"$f":"'Daily Calcs'!K2720/1000000","v":0},0]
[0.1,{"$f":"'Daily Calcs'!J2721/1000000","v":0},{"$f":"'Daily Calcs'!K2721/1000000","v":0},0]
[0.1,{"$f":"'Daily Calcs'!J2722/1000000","v":0},{"$f":"'Daily Calcs'!K2722/1000000","v":0},0]
[0.1,{"$f":"'Daily Calcs'!J2723/1000000","v":0},{"$f":"'Daily Calcs'!K2723/1000000","v":0},0]
[0.1,{"$f":"'Daily Calcs'!J2724/1000000","v":0},{"$f":"'Daily Calcs'!K2724/1000000","v":0},0]
[0.1,{"$f":"'Daily Calcs'!J2725/1000000","v":0},{"$f":"'Daily Calcs'!K2725/1000000","v":0},0]
[0.1,{"$f":"'Daily Calcs'!J2726/1000000","v":0},{"$f":"'Daily Calcs'!K2726/1000000","v":0},0]
[0.1,{"$f":"'Daily Calcs'!J2727/1000000","v":0},{"$f":"'Daily Calcs'!K2727/1000000","v":0},0]
[0.1,{"$f":"'Daily Calcs'!J2728/1000000","v":0},{"$f":"'Daily Calcs'!K2728/1000000","v":0},0]
[0.1,{"$f":"'Daily Calcs'!J2729/1000000","v":0},{"$f":"'Daily Calcs'!K2729/1000000","v":0},0]
[0.1,{"$f":"'Daily Calcs'!J2730/1000000","v":0},{"$f":"'Daily Calcs'!K2730/1000000","v":0},0]
[0.1,{"$f":"'Daily Calcs'!J2731/1000000","v":0},{"$f":"'Daily Calcs'!K2731/1000000","v":0},0]
[0.1,{"$f":"'Daily Calcs'!J2732/1000000","v":0},{"$f":"'Daily Calcs'!K2732/1000000","v":0},0]
[0.1,{"$f":"'Daily Calcs'!J2733/1000000","v":0},{"$f":"'Daily Calcs'!K2733/1000000","v":0},0]
[0.1,{"$f":"'Daily Calcs'!J2734/1000000","v":0},{"$f":"'Daily Calcs'!K2734/1000000","v":0},0]
[0.1,{"$f":"'Daily Calcs'!J2735/1000000","v":7.5766329919734297E-22},{"$f":"'Daily Calcs'!K2735/1000000","v":7.5766329919734297E-22},7.5766329919734297E-22]
[0.1,{"$f":"'Daily Calcs'!J2736/1000000","v":0},{"$f":"'Daily Calcs'!K2736/1000000","v":0},0]
[0.1,{"$f":"'Daily Calcs'!J2737/1000000","v":0},{"$f":"'Daily Calcs'!K2737/1000000","v":0},0]
[0.1,{"$f":"'Daily Calcs'!J2738/1000000","v":0},{"$f":"'Daily Calcs'!K2738/1000000","v":0},0]
[0.1,{"$f":"'Daily Calcs'!J2739/1000000","v":0},{"$f":"'Daily Calcs'!K2739/1000000","v":0},0]
[0.1,{"$f":"'Daily Calcs'!J2740/1000000","v":0},{"$f":"'Daily Calcs'!K2740/1000000","v":0},0]
[0.1,{"$f":"'Daily Calcs'!J2741/1000000","v":2.3027172692566805E-22},{"$f":"'Daily Calcs'!K2741/1000000","v":2.3027172692566805E-22},2.3027172692566805E-22]
[0.1,{"$f":"'Daily Calcs'!J2742/1000000","v":1.2663250714966637E-22},{"$f":"'Daily Calcs'!K2742/1000000","v":1.2663250714966637E-22},1.2663250714966637E-22]
[0.1,{"$f":"'Daily Calcs'!J2743/1000000","v":8.5623384370650238E-23},{"$f":"'Daily Calcs'!K2743/1000000","v":8.5623384370650238E-23},8.5623384370650238E-23]
[0.1,{"$f":"'Daily Calcs'!J2744/1000000","v":0},{"$f":"'Daily Calcs'!K2744/1000000","v":0},0]
[0.1,{"$f":"'Daily Calcs'!J2745/1000000","v":0},{"$f":"'Daily Calcs'!K2745/1000000","v":0},0]
[0.1,{"$f":"'Daily Calcs'!J2746/1000000","v":0},{"$f":"'Daily Calcs'!K2746/1000000","v":0},0]
[0.1,{"$f":"'Daily Calcs'!J2747/1000000","v":0},{"$f":"'Daily Calcs'!K2747/1000000","v":0},0]
[0.1,{"$f":"'Daily Calcs'!J2748/1000000","v":0},{"$f":"'Daily Calcs'!K2748/1000000","v":0},0]
[0.1,{"$f":"'Daily Calcs'!J2749/1000000","v":3.6396279472204194E-23},{"$f":"'Daily Calcs'!K2749/1000000","v":3.6396279472204194E-23},3.6396279472204194E-23]
[0.1,{"$f":"'Daily Calcs'!J2750/1000000","v":0},{"$f":"'Daily Calcs'!K2750/1000000","v":0},0]
[0.1,{"$f":"'Daily Calcs'!J2751/1000000","v":0},{"$f":"'Daily Calcs'!K2751/1000000","v":0},0]
[0.1,{"$f":"'Daily Calcs'!J2752/1000000","v":0},{"$f":"'Daily Calcs'!K2752/1000000","v":0},0]
[0.1,{"$f":"'Daily Calcs'!J2753/1000000","v":0},{"$f":"'Daily Calcs'!K2753/1000000","v":0},0]
[0.1,{"$f":"'Daily Calcs'!J2754/1000000","v":0},{"$f":"'Daily Calcs'!K2754/1000000","v":0},0]
[0.1,{"$f":"'Daily Calcs'!J2755/1000000","v":1.4561131187698576E-5},{"$f":"'Daily Calcs'!K2755/1000000","v":1.473322257524678E-5},{"$f":"B2759","v":1.4561131187698576E-5}]
[0.1,{"$f":"'Daily Calcs'!J2756/1000000","v":1.2119601734774908E-5},{"$f":"'Daily Calcs'!K2756/1000000","v":1.220577240241891E-5},1.2119601734774908E-5]
[0.1,{"$f":"'Daily Calcs'!J2757/1000000","v":1.0031902869435229E-5},{"$f":"'Daily Calcs'!K2757/1000000","v":1.0068873737557882E-5},1.0031902869435229E-5]
[0.1,{"$f":"'Daily Calcs'!J2758/1000000","v":0},{"$f":"'Daily Calcs'!K2758/1000000","v":0},0]
[0.1,{"$f":"'Daily Calcs'!J2759/1000000","v":8.8104115005115564E-6},{"$f":"'Daily Calcs'!K2759/1000000","v":8.8216565800197666E-6},8.8104115005115564E-6]
[0.1,{"$f":"'Daily Calcs'!J2760/1000000","v":0},{"$f":"'Daily Calcs'!K2760/1000000","v":0},0]
[0.1,{"$f":"'Daily Calcs'!J2761/1000000","v":0},{"$f":"'Daily Calcs'!K2761/1000000","v":0},0]
[0.1,{"$f":"'Daily Calcs'!J2762/1000000","v":0},{"$f":"'Daily Calcs'!K2762/1000000","v":0},0]
[0.1,{"$f":"'Daily Calcs'!J2763/1000000","v":0},{"$f":"'Daily Calcs'!K2763/1000000","v":0},0]
[0.1,{"$f":"'Daily Calcs'!J2764/1000000","v":0},{"$f":"'Daily Calcs'!K2764/1000000","v":0},0]
[0.1,{"$f":"'Daily Calcs'!J2765/1000000","v":0},{"$f":"'Daily Calcs'!K2765/1000000","v":0},0]
[0.1,{"$f":"'Daily Calcs'!J2766/1000000","v":0},{"$f":"'Daily Calcs'!K2766/1000000","v":0},0]
[0.1,{"$f":"'Daily Calcs'!J2767/1000000","v":0},{"$f":"'Daily Calcs'!K2767/1000000","v":0},0]
[0.1,{"$f":"'Daily Calcs'!J2768/1000000","v":0},{"$f":"'Daily Calcs'!K2768/1000000","v":0},0]
[0.1,{"$f":"'Daily Calcs'!J2769/1000000","v":0},{"$f":"'Daily Calcs'!K2769/1000000","v":0},0]
[0.1,{"$f":"'Daily Calcs'!J2770/1000000","v":1.9646149548375078E-5},{"$f":"'Daily Calcs'!K2770/1000000","v":1.9732455535897195E-5},1.9646149548375078E-5]
[0.1,{"$f":"'Daily Calcs'!J2771/1000000","v":0},{"$f":"'Daily Calcs'!K2771/1000000","v":0},0]
[0.1,{"$f":"'Daily Calcs'!J2772/1000000","v":1.4654735775789295E-5},{"$f":"'Daily Calcs'!K2772/1000000","v":1.4702044572007431E-5},1.4654735775789295E-5]
[0.1,{"$f":"'Daily Calcs'!J2773/1000000","v":0},{"$f":"'Daily Calcs'!K2773/1000000","v":0},0]
[0.1,{"$f":"'Daily Calcs'!J2774/1000000","v":0},{"$f":"'Daily Calcs'!K2774/1000000","v":0},0]
[0.1,{"$f":"'Daily Calcs'!J2775/1000000","v":0},{"$f":"'Daily Calcs'!K2775/1000000","v":0},0]
[0.1,{"$f":"'Daily Calcs'!J2776/1000000","v":0},{"$f":"'Daily Calcs'!K2776/1000000","v":0},0]
[0.1,{"$f":"'Daily Calcs'!J2777/1000000","v":0},{"$f":"'Daily Calcs'!K2777/1000000","v":0},0]
[0.1,{"$f":"'Daily Calcs'!J2778/1000000","v":0},{"$f":"'Daily Calcs'!K2778/1000000","v":0},0]
[0.1,{"$f":"'Daily Calcs'!J2779/1000000","v":0},{"$f":"'Daily Calcs'!K2779/1000000","v":0},0]
[0.1,{"$f":"'Daily Calcs'!J2780/1000000","v":0},{"$f":"'Daily Calcs'!K2780/1000000","v":0},0]
[0.1,{"$f":"'Daily Calcs'!J2781/1000000","v":0},{"$f":"'Daily Calcs'!K2781/1000000","v":0},0]
[0.1,{"$f":"'Daily Calcs'!J2782/1000000","v":0},{"$f":"'Daily Calcs'!K2782/1000000","v":0},0]
[0.1,{"$f":"'Daily Calcs'!J2783/1000000","v":0},{"$f":"'Daily Calcs'!K2783/1000000","v":0},0]
[0.1,{"$f":"'Daily Calcs'!J2784/1000000","v":0},{"$f":"'Daily Calcs'!K2784/1000000","v":0},0]
[0.1,{"$f":"'Daily Calcs'!J2785/1000000","v":0},{"$f":"'Daily Calcs'!K2785/1000000","v":0},0]
[0.1,{"$f":"'Daily Calcs'!J2786/1000000","v":0},{"$f":"'Daily Calcs'!K2786/1000000","v":0},0]
[0.1,{"$f":"'Daily Calcs'!J2787/1000000","v":0},{"$f":"'Daily Calcs'!K2787/1000000","v":0},0]
[0.1,{"$f":"'Daily Calcs'!J2788/1000000","v":0},{"$f":"'Daily Calcs'!K2788/1000000","v":0},0]
[0.1,{"$f":"'Daily Calcs'!J2789/1000000","v":7.8269546200109351E-6},{"$f":"'Daily Calcs'!K2789/1000000","v":7.8313208492801176E-6},7.8269546200109351E-6]
[0.1,{"$f":"'Daily Calcs'!J2790/1000000","v":0},{"$f":"'Daily Calcs'!K2790/1000000","v":0},0]
[0.1,{"$f":"'Daily Calcs'!J2791/1000000","v":0},{"$f":"'Daily Calcs'!K2791/1000000","v":0},0]
[0.1,{"$f":"'Daily Calcs'!J2792/1000000","v":0},{"$f":"'Daily Calcs'!K2792/1000000","v":0},0]
[0.1,{"$f":"'Daily Calcs'!J2793/1000000","v":0},{"$f":"'Daily Calcs'!K2793/1000000","v":0},0]
[0.1,{"$f":"'Daily Calcs'!J2794/1000000","v":5.6283650689428757E-6},{"$f":"'Daily Calcs'!K2794/1000000","v":5.6293825782446925E-6},5.6283650689428757E-6]
[0.1,{"$f":"'Daily Calcs'!J2795/1000000","v":0},{"$f":"'Daily Calcs'!K2795/1000000","v":0},0]
[0.1,{"$f":"'Daily Calcs'!J2796/1000000","v":0},{"$f":"'Daily Calcs'!K2796/1000000","v":0},0]
[0.1,{"$f":"'Daily Calcs'!J2797/1000000","v":0},{"$f":"'Daily Calcs'!K2797/1000000","v":0},0]
[0.1,{"$f":"'Daily Calcs'!J2798/1000000","v":0},{"$f":"'Daily Calcs'!K2798/1000000","v":0},0]
[0.1,{"$f":"'Daily Calcs'!J2799/1000000","v":0},{"$f":"'Daily Calcs'!K2799/1000000","v":0},0]
[0.1,{"$f":"'Daily Calcs'!J2800/1000000","v":0},{"$f":"'Daily Calcs'!K2800/1000000","v":0},0]
[0.1,{"$f":"'Daily Calcs'!J2801/1000000","v":3.9905348281565892E-6},{"$f":"'Daily Calcs'!K2801/1000000","v":3.9907803896342582E-6},3.9905348281565892E-6]
[0.1,{"$f":"'Daily Calcs'!J2802/1000000","v":3.4531687532177255E-6},{"$f":"'Daily Calcs'!K2802/1000000","v":3.4533507540464861E-6},3.4531687532177255E-6]
[0.1,{"$f":"'Daily Calcs'!J2803/1000000","v":0},{"$f":"'Daily Calcs'!K2803/1000000","v":0},0]
[0.1,{"$f":"'Daily Calcs'!J2804/1000000","v":0},{"$f":"'Daily Calcs'!K2804/1000000","v":0},0]
[0.1,{"$f":"'Daily Calcs'!J2805/1000000","v":0},{"$f":"'Daily Calcs'!K2805/1000000","v":0},0]
[0.1,{"$f":"'Daily Calcs'!J2806/1000000","v":0},{"$f":"'Daily Calcs'!K2806/1000000","v":0},0]
[0.1,{"$f":"'Daily Calcs'!J2807/1000000","v":0},{"$f":"'Daily Calcs'!K2807/1000000","v":0},0]
[0.1,{"$f":"'Daily Calcs'!J2808/1000000","v":0},{"$f":"'Daily Calcs'!K2808/1000000","v":0},0]
[0.1,{"$f":"'Daily Calcs'!J2809/1000000","v":0},{"$f":"'Daily Calcs'!K2809/1000000","v":0},0]
[0.1,{"$f":"'Daily Calcs'!J2810/1000000","v":0},{"$f":"'Daily Calcs'!K2810/1000000","v":0},0]
[0.1,{"$f":"'Daily Calcs'!J2811/1000000","v":0},{"$f":"'Daily Calcs'!K2811/1000000","v":0},0]
[0.1,{"$f":"'Daily Calcs'!J2812/1000000","v":0},{"$f":"'Daily Calcs'!K2812/1000000","v":0},0]
[0.1,{"$f":"'Daily Calcs'!J2813/1000000","v":0},{"$f":"'Daily Calcs'!K2813/1000000","v":0},0]
[0.1,{"$f":"'Daily Calcs'!J2814/1000000","v":0},{"$f":"'Daily Calcs'!K2814/1000000","v":0},0]
[0.1,{"$f":"'Daily Calcs'!J2815/1000000","v":0},{"$f":"'Daily Calcs'!K2815/1000000","v":0},0]
[0.1,{"$f":"'Daily Calcs'!J2816/1000000","v":0},{"$f":"'Daily Calcs'!K2816/1000000","v":0},0]
[0.1,{"$f":"'Daily Calcs'!J2817/1000000","v":0},{"$f":"'Daily Calcs'!K2817/1000000","v":0},0]
[0.1,{"$f":"'Daily Calcs'!J2818/1000000","v":0},{"$f":"'Daily Calcs'!K2818/1000000","v":0},0]
[0.1,{"$f":"'Daily Calcs'!J2819/1000000","v":2.0628022810943477E-6},{"$f":"'Daily Calcs'!K2819/1000000","v":2.0628366394764069E-6},{"$f":"B2823","v":2.0628022810943477E-6}]
[0.1,{"$f":"'Daily Calcs'!J2820/1000000","v":0},{"$f":"'Daily Calcs'!K2820/1000000","v":0},0]
[0.1,{"$f":"'Daily Calcs'!J2821/1000000","v":0},{"$f":"'Daily Calcs'!K2821/1000000","v":0},0]
[0.1,{"$f":"'Daily Calcs'!J2822/1000000","v":0},{"$f":"'Daily Calcs'!K2822/1000000","v":0},0]
[0.1,{"$f":"'Daily Calcs'!J2823/1000000","v":0},{"$f":"'Daily Calcs'!K2823/1000000","v":0},0]
[0.1,{"$f":"'Daily Calcs'!J2824/1000000","v":0},{"$f":"'Daily Calcs'!K2824/1000000","v":0},0]
[0.1,{"$f":"'Daily Calcs'!J2825/1000000","v":0},{"$f":"'Daily Calcs'!K2825/1000000","v":0},0]
[0.1,{"$f":"'Daily Calcs'!J2826/1000000","v":0},{"$f":"'Daily Calcs'!K2826/1000000","v":0},0]
[0.1,{"$f":"'Daily Calcs'!J2827/1000000","v":0},{"$f":"'Daily Calcs'!K2827/1000000","v":0},0]
[0.1,{"$f":"'Daily Calcs'!J2828/1000000","v":0},{"$f":"'Daily Calcs'!K2828/1000000","v":0},0]
[0.1,{"$f":"'Daily Calcs'!J2829/1000000","v":0},{"$f":"'Daily Calcs'!K2829/1000000","v":0},0]
[0.1,{"$f":"'Daily Calcs'!J2830/1000000","v":0},{"$f":"'Daily Calcs'!K2830/1000000","v":0},0]
[0.1,{"$f":"'Daily Calcs'!J2831/1000000","v":0},{"$f":"'Daily Calcs'!K2831/1000000","v":0},0]
[0.1,{"$f":"'Daily Calcs'!J2832/1000000","v":0},{"$f":"'Daily Calcs'!K2832/1000000","v":0},0]
[0.1,{"$f":"'Daily Calcs'!J2833/1000000","v":0},{"$f":"'Daily Calcs'!K2833/1000000","v":0},0]
[0.1,{"$f":"'Daily Calcs'!J2834/1000000","v":0},{"$f":"'Daily Calcs'!K2834/1000000","v":0},0]
[0.1,{"$f":"'Daily Calcs'!J2835/1000000","v":0},{"$f":"'Daily Calcs'!K2835/1000000","v":0},0]
[0.1,{"$f":"'Daily Calcs'!J2836/1000000","v":0},{"$f":"'Daily Calcs'!K2836/1000000","v":0},0]
[0.1,{"$f":"'Daily Calcs'!J2837/1000000","v":9.4736048265460012E-7},{"$f":"'Daily Calcs'!K2837/1000000","v":9.4736398054298647E-7},9.4736048265460012E-7]
[0.1,{"$f":"'Daily Calcs'!J2838/1000000","v":0},{"$f":"'Daily Calcs'!K2838/1000000","v":0},0]
[0.1,{"$f":"'Daily Calcs'!J2839/1000000","v":0},{"$f":"'Daily Calcs'!K2839/1000000","v":0},0]
[0.1,{"$f":"'Daily Calcs'!J2840/1000000","v":0},{"$f":"'Daily Calcs'!K2840/1000000","v":0},0]
[0.1,{"$f":"'Daily Calcs'!J2841/1000000","v":0},{"$f":"'Daily Calcs'!K2841/1000000","v":0},0]
[0.1,{"$f":"'Daily Calcs'!J2842/1000000","v":0},{"$f":"'Daily Calcs'!K2842/1000000","v":0},0]
[0.1,{"$f":"'Daily Calcs'!J2843/1000000","v":0},{"$f":"'Daily Calcs'!K2843/1000000","v":0},0]
[0.1,{"$f":"'Daily Calcs'!J2844/1000000","v":0},{"$f":"'Daily Calcs'!K2844/1000000","v":0},0]
[0.1,{"$f":"'Daily Calcs'!J2845/1000000","v":0},{"$f":"'Daily Calcs'!K2845/1000000","v":0},0]
[0.1,{"$f":"'Daily Calcs'!J2846/1000000","v":0},{"$f":"'Daily Calcs'!K2846/1000000","v":0},0]
[0.1,{"$f":"'Daily Calcs'!J2847/1000000","v":0},{"$f":"'Daily Calcs'!K2847/1000000","v":0},0]
[0.1,{"$f":"'Daily Calcs'!J2848/1000000","v":0},{"$f":"'Daily Calcs'!K2848/1000000","v":0},0]
[0.1,{"$f":"'Daily Calcs'!J2849/1000000","v":5.1778908510426017E-7},{"$f":"'Daily Calcs'!K2849/1000000","v":5.177896258305897E-7},5.1778908510426017E-7]
[0.1,{"$f":"'Daily Calcs'!J2850/1000000","v":4.5597489539748953E-7},{"$f":"'Daily Calcs'!K2850/1000000","v":4.5597509369037656E-7},4.5597489539748953E-7]
[0.1,{"$f":"'Daily Calcs'!J2851/1000000","v":0},{"$f":"'Daily Calcs'!K2851/1000000","v":0},0]
[0.1,{"$f":"'Daily Calcs'!J2852/1000000","v":0},{"$f":"'Daily Calcs'!K2852/1000000","v":0},0]
[0.1,{"$f":"'Daily Calcs'!J2853/1000000","v":0},{"$f":"'Daily Calcs'!K2853/1000000","v":0},0]
[0.1,{"$f":"'Daily Calcs'!J2854/1000000","v":0},{"$f":"'Daily Calcs'!K2854/1000000","v":0},0]
[0.1,{"$f":"'Daily Calcs'!J2855/1000000","v":0},{"$f":"'Daily Calcs'!K2855/1000000","v":0},0]
[0.1,{"$f":"'Daily Calcs'!J2856/1000000","v":0},{"$f":"'Daily Calcs'!K2856/1000000","v":0},0]
[0.1,{"$f":"'Daily Calcs'!J2857/1000000","v":0},{"$f":"'Daily Calcs'!K2857/1000000","v":0},0]
[0.1,{"$f":"'Daily Calcs'!J2858/1000000","v":0},{"$f":"'Daily Calcs'!K2858/1000000","v":0},0]
[0.1,{"$f":"'Daily Calcs'!J2859/1000000","v":0},{"$f":"'Daily Calcs'!K2859/1000000","v":0},0]
[0.1,{"$f":"'Daily Calcs'!J2860/1000000","v":0},{"$f":"'Daily Calcs'!K2860/1000000","v":0},0]
[0.1,{"$f":"'Daily Calcs'!J2861/1000000","v":0},{"$f":"'Daily Calcs'!K2861/1000000","v":0},0]
[0.1,{"$f":"'Daily Calcs'!J2862/1000000","v":0},{"$f":"'Daily Calcs'!K2862/1000000","v":0},0]
[0.1,{"$f":"'Daily Calcs'!J2863/1000000","v":0},{"$f":"'Daily Calcs'!K2863/1000000","v":0},0]
[0.1,{"$f":"'Daily Calcs'!J2864/1000000","v":0},{"$f":"'Daily Calcs'!K2864/1000000","v":0},0]
[0.1,{"$f":"'Daily Calcs'!J2865/1000000","v":3.2856292179436288E-7},{"$f":"'Daily Calcs'!K2865/1000000","v":3.2856298059051213E-7},3.2856292179436288E-7]
[0.1,{"$f":"'Daily Calcs'!J2866/1000000","v":2.2808660313235256E-7},{"$f":"'Daily Calcs'!K2866/1000000","v":2.2808664598474227E-7},2.2808660313235256E-7]
[0.1,{"$f":"'Daily Calcs'!J2867/1000000","v":0},{"$f":"'Daily Calcs'!K2867/1000000","v":0},0]
[0.1,{"$f":"'Daily Calcs'!J2868/1000000","v":0},{"$f":"'Daily Calcs'!K2868/1000000","v":0},0]
[0.1,{"$f":"'Daily Calcs'!J2869/1000000","v":0},{"$f":"'Daily Calcs'!K2869/1000000","v":0},0]
[0.1,{"$f":"'Daily Calcs'!J2870/1000000","v":0},{"$f":"'Daily Calcs'!K2870/1000000","v":0},0]
[0.1,{"$f":"'Daily Calcs'!J2871/1000000","v":1.4284305993690852E-7},{"$f":"'Daily Calcs'!K2871/1000000","v":1.4284307380717664E-7},1.4284305993690852E-7]
[0.1,{"$f":"'Daily Calcs'!J2872/1000000","v":0},{"$f":"'Daily Calcs'!K2872/1000000","v":0},0]
[0.1,{"$f":"'Daily Calcs'!J2873/1000000","v":9.4366880491617686E-8},{"$f":"'Daily Calcs'!K2873/1000000","v":9.4366885949436683E-8},9.4366880491617686E-8]
[0.1,{"$f":"'Daily Calcs'!J2874/1000000","v":0},{"$f":"'Daily Calcs'!K2874/1000000","v":0},0]
[0.1,{"$f":"'Daily Calcs'!J2875/1000000","v":0},{"$f":"'Daily Calcs'!K2875/1000000","v":0},0]
[0.1,{"$f":"'Daily Calcs'!J2876/1000000","v":0},{"$f":"'Daily Calcs'!K2876/1000000","v":0},0]
[0.1,{"$f":"'Daily Calcs'!J2877/1000000","v":0},{"$f":"'Daily Calcs'!K2877/1000000","v":0},0]
[0.1,{"$f":"'Daily Calcs'!J2878/1000000","v":7.9936659497530203E-8},{"$f":"'Daily Calcs'!K2878/1000000","v":7.9936661105740825E-8},7.9936659497530203E-8]
[0.1,{"$f":"'Daily Calcs'!J2879/1000000","v":5.0007600709399548E-8},{"$f":"'Daily Calcs'!K2879/1000000","v":5.0007601920889286E-8},5.0007600709399548E-8]
[0.1,{"$f":"'Daily Calcs'!J2880/1000000","v":3.2984162206848534E-8},{"$f":"'Daily Calcs'!K2880/1000000","v":3.2984162662380888E-8},3.2984162206848534E-8]
[0.1,{"$f":"'Daily Calcs'!J2881/1000000","v":0},{"$f":"'Daily Calcs'!K2881/1000000","v":0},0]
[0.1,{"$f":"'Daily Calcs'!J2882/1000000","v":0},{"$f":"'Daily Calcs'!K2882/1000000","v":0},0]
[0.1,{"$f":"'Daily Calcs'!J2883/1000000","v":0},{"$f":"'Daily Calcs'!K2883/1000000","v":0},{"$f":"B2887","v":0}]
[0.1,{"$f":"'Daily Calcs'!J2884/1000000","v":0},{"$f":"'Daily Calcs'!K2884/1000000","v":0},0]
[0.1,{"$f":"'Daily Calcs'!J2885/1000000","v":0},{"$f":"'Daily Calcs'!K2885/1000000","v":0},0]
[0.1,{"$f":"'Daily Calcs'!J2886/1000000","v":0},{"$f":"'Daily Calcs'!K2886/1000000","v":0},0]
[0.1,{"$f":"'Daily Calcs'!J2887/1000000","v":0},{"$f":"'Daily Calcs'!K2887/1000000","v":0},0]
[0.1,{"$f":"'Daily Calcs'!J2888/1000000","v":0},{"$f":"'Daily Calcs'!K2888/1000000","v":0},0]
[0.1,{"$f":"'Daily Calcs'!J2889/1000000","v":0},{"$f":"'Daily Calcs'!K2889/1000000","v":0},0]
[0.1,{"$f":"'Daily Calcs'!J2890/1000000","v":0},{"$f":"'Daily Calcs'!K2890/1000000","v":0},0]
[0.1,{"$f":"'Daily Calcs'!J2891/1000000","v":0},{"$f":"'Daily Calcs'!K2891/1000000","v":0},0]
[0.1,{"$f":"'Daily Calcs'!J2892/1000000","v":0},{"$f":"'Daily Calcs'!K2892/1000000","v":0},0]
[0.1,{"$f":"'Daily Calcs'!J2893/1000000","v":1.8330726574719176E-8},{"$f":"'Daily Calcs'!K2893/1000000","v":1.8330726637410063E-8},1.8330726574719176E-8]
[0.1,{"$f":"'Daily Calcs'!J2894/1000000","v":0},{"$f":"'Daily Calcs'!K2894/1000000","v":0},0]
[0.1,{"$f":"'Daily Calcs'!J2895/1000000","v":1.1335664335664337E-8},{"$f":"'Daily Calcs'!K2895/1000000","v":1.1335664369874127E-8},1.1335664335664337E-8]
[0.1,{"$f":"'Daily Calcs'!J2896/1000000","v":0},{"$f":"'Daily Calcs'!K2896/1000000","v":0},0]
[0.1,{"$f":"'Daily Calcs'!J2897/1000000","v":0},{"$f":"'Daily Calcs'!K2897/1000000","v":0},0]
[0.1,{"$f":"'Daily Calcs'!J2898/1000000","v":0},{"$f":"'Daily Calcs'!K2898/1000000","v":0},0]
[0.1,{"$f":"'Daily Calcs'!J2899/1000000","v":0},{"$f":"'Daily Calcs'!K2899/1000000","v":0},0]
[0.1,{"$f":"'Daily Calcs'!J2900/1000000","v":0},{"$f":"'Daily Calcs'!K2900/1000000","v":0},0]
[0.1,{"$f":"'Daily Calcs'!J2901/1000000","v":0},{"$f":"'Daily Calcs'!K2901/1000000","v":0},0]
[0.1,{"$f":"'Daily Calcs'!J2902/1000000","v":0},{"$f":"'Daily Calcs'!K2902/1000000","v":0},0]
[0.1,{"$f":"'Daily Calcs'!J2903/1000000","v":0},{"$f":"'Daily Calcs'!K2903/1000000","v":0},0]
[0.1,{"$f":"'Daily Calcs'!J2904/1000000","v":0},{"$f":"'Daily Calcs'!K2904/1000000","v":0},0]
[0.1,{"$f":"'Daily Calcs'!J2905/1000000","v":7.1844610676640596E-9},{"$f":"'Daily Calcs'!K2905/1000000","v":7.1844610750860261E-9},7.1844610676640596E-9]
[0.1,{"$f":"'Daily Calcs'!J2906/1000000","v":0},{"$f":"'Daily Calcs'!K2906/1000000","v":0},0]
[0.1,{"$f":"'Daily Calcs'!J2907/1000000","v":0},{"$f":"'Daily Calcs'!K2907/1000000","v":0},0]
[0.1,{"$f":"'Daily Calcs'!J2908/1000000","v":0},{"$f":"'Daily Calcs'!K2908/1000000","v":0},0]
[0.1,{"$f":"'Daily Calcs'!J2909/1000000","v":0},{"$f":"'Daily Calcs'!K2909/1000000","v":0},0]
[0.1,{"$f":"'Daily Calcs'!J2910/1000000","v":0},{"$f":"'Daily Calcs'!K2910/1000000","v":0},0]
[0.1,{"$f":"'Daily Calcs'!J2911/1000000","v":0},{"$f":"'Daily Calcs'!K2911/1000000","v":0},0]
[0.1,{"$f":"'Daily Calcs'!J2912/1000000","v":0},{"$f":"'Daily Calcs'!K2912/1000000","v":0},0]
[0.1,{"$f":"'Daily Calcs'!J2913/1000000","v":4.4057772877618513E-9},{"$f":"'Daily Calcs'!K2913/1000000","v":4.4057772912142443E-9},4.4057772877618513E-9]
[0.1,{"$f":"'Daily Calcs'!J2914/1000000","v":2.4443159005069927E-9},{"$f":"'Daily Calcs'!K2914/1000000","v":2.4443159020400491E-9},2.4443159005069927E-9]
[0.1,{"$f":"'Daily Calcs'!J2915/1000000","v":0},{"$f":"'Daily Calcs'!K2915/1000000","v":0},0]
[0.1,{"$f":"'Daily Calcs'!J2916/1000000","v":0},{"$f":"'Daily Calcs'!K2916/1000000","v":0},0]
[0.1,{"$f":"'Daily Calcs'!J2917/1000000","v":0},{"$f":"'Daily Calcs'!K2917/1000000","v":0},0]
[0.1,{"$f":"'Daily Calcs'!J2918/1000000","v":0},{"$f":"'Daily Calcs'!K2918/1000000","v":0},0]
[0.1,{"$f":"'Daily Calcs'!J2919/1000000","v":0},{"$f":"'Daily Calcs'!K2919/1000000","v":0},0]
[0.1,{"$f":"'Daily Calcs'!J2920/1000000","v":1.48647163407144E-9},{"$f":"'Daily Calcs'!K2920/1000000","v":1.4864716345209308E-9},1.48647163407144E-9]
[0.1,{"$f":"'Daily Calcs'!J2921/1000000","v":0},{"$f":"'Daily Calcs'!K2921/1000000","v":0},0]
[0.1,{"$f":"'Daily Calcs'!J2922/1000000","v":1.2682308592226702E-9},{"$f":"'Daily Calcs'!K2922/1000000","v":1.2682308593897893E-9},1.2682308592226702E-9]
[0.1,{"$f":"'Daily Calcs'!J2923/1000000","v":8.9199699802142316E-10},{"$f":"'Daily Calcs'!K2923/1000000","v":8.9199699817508354E-10},8.9199699802142316E-10]
[0.1,{"$f":"'Daily Calcs'!J2924/1000000","v":0},{"$f":"'Daily Calcs'!K2924/1000000","v":0},0]
[0.1,{"$f":"'Daily Calcs'!J2925/1000000","v":0},{"$f":"'Daily Calcs'!K2925/1000000","v":0},0]
[0.1,{"$f":"'Daily Calcs'!J2926/1000000","v":0},{"$f":"'Daily Calcs'!K2926/1000000","v":0},0]
[0.1,{"$f":"'Daily Calcs'!J2927/1000000","v":0},{"$f":"'Daily Calcs'!K2927/1000000","v":0},0]
[0.1,{"$f":"'Daily Calcs'!J2928/1000000","v":0},{"$f":"'Daily Calcs'!K2928/1000000","v":0},0]
[0.1,{"$f":"'Daily Calcs'!J2929/1000000","v":0},{"$f":"'Daily Calcs'!K2929/1000000","v":0},0]
[0.1,{"$f":"'Daily Calcs'!J2930/1000000","v":0},{"$f":"'Daily Calcs'!K2930/1000000","v":0},0]
[0.1,{"$f":"'Daily Calcs'!J2931/1000000","v":0},{"$f":"'Daily Calcs'!K2931/1000000","v":0},0]
[0.1,{"$f":"'Daily Calcs'!J2932/1000000","v":0},{"$f":"'Daily Calcs'!K2932/1000000","v":0},0]
[0.1,{"$f":"'Daily Calcs'!J2933/1000000","v":0},{"$f":"'Daily Calcs'!K2933/1000000","v":0},0]
[0.1,{"$f":"'Daily Calcs'!J2934/1000000","v":0},{"$f":"'Daily Calcs'!K2934/1000000","v":0},0]
[0.1,{"$f":"'Daily Calcs'!J2935/1000000","v":0},{"$f":"'Daily Calcs'!K2935/1000000","v":0},0]
[0.1,{"$f":"'Daily Calcs'!J2936/1000000","v":0},{"$f":"'Daily Calcs'!K2936/1000000","v":0},0]
[0.1,{"$f":"'Daily Calcs'!J2937/1000000","v":0},{"$f":"'Daily Calcs'!K2937/1000000","v":0},0]
[0.1,{"$f":"'Daily Calcs'!J2938/1000000","v":0},{"$f":"'Daily Calcs'!K2938/1000000","v":0},0]
[0.1,{"$f":"'Daily Calcs'!J2939/1000000","v":0},{"$f":"'Daily Calcs'!K2939/1000000","v":0},0]
[0.1,{"$f":"'Daily Calcs'!J2940/1000000","v":0},{"$f":"'Daily Calcs'!K2940/1000000","v":0},0]
[0.1,{"$f":"'Daily Calcs'!J2941/1000000","v":0},{"$f":"'Daily Calcs'!K2941/1000000","v":0},0]
[0.1,{"$f":"'Daily Calcs'!J2942/1000000","v":2.9656781072975673E-10},{"$f":"'Daily Calcs'!K2942/1000000","v":2.9656781075164362E-10},2.9656781072975673E-10]
[0.1,{"$f":"'Daily Calcs'!J2943/1000000","v":2.0675347222222225E-10},{"$f":"'Daily Calcs'!K2943/1000000","v":2.0675347223000765E-10},2.0675347222222225E-10]
[0.1,{"$f":"'Daily Calcs'!J2944/1000000","v":0},{"$f":"'Daily Calcs'!K2944/1000000","v":0},0]
[0.1,{"$f":"'Daily Calcs'!J2945/1000000","v":1.5250185852347457E-10},{"$f":"'Daily Calcs'!K2945/1000000","v":1.525018585276829E-10},1.5250185852347457E-10]
[0.1,{"$f":"'Daily Calcs'!J2946/1000000","v":0},{"$f":"'Daily Calcs'!K2946/1000000","v":0},0]
[0.1,{"$f":"'Daily Calcs'!J2947/1000000","v":0},{"$f":"'Daily Calcs'!K2947/1000000","v":0},{"$f":"B2951","v":0}]
[0.1,{"$f":"'Daily Calcs'!J2948/1000000","v":0},{"$f":"'Daily Calcs'!K2948/1000000","v":0},0]
[0.1,{"$f":"'Daily Calcs'!J2949/1000000","v":0},{"$f":"'Daily Calcs'!K2949/1000000","v":0},0]
[0.1,{"$f":"'Daily Calcs'!J2950/1000000","v":0},{"$f":"'Daily Calcs'!K2950/1000000","v":0},0]
[0.1,{"$f":"'Daily Calcs'!J2951/1000000","v":7.4209390178089574E-11},{"$f":"'Daily Calcs'!K2951/1000000","v":7.4209390178961849E-11},7.4209390178089574E-11]
[0.1,{"$f":"'Daily Calcs'!J2952/1000000","v":0},{"$f":"'Daily Calcs'!K2952/1000000","v":0},0]
[0.1,{"$f":"'Daily Calcs'!J2953/1000000","v":0},{"$f":"'Daily Calcs'!K2953/1000000","v":0},0]
[0.1,{"$f":"'Daily Calcs'!J2954/1000000","v":0},{"$f":"'Daily Calcs'!K2954/1000000","v":0},0]
[0.1,{"$f":"'Daily Calcs'!J2955/1000000","v":0},{"$f":"'Daily Calcs'!K2955/1000000","v":0},0]
[0.1,{"$f":"'Daily Calcs'!J2956/1000000","v":0},{"$f":"'Daily Calcs'!K2956/1000000","v":0},0]
[0.1,{"$f":"'Daily Calcs'!J2957/1000000","v":3.0348849826388883E-11},{"$f":"'Daily Calcs'!K2957/1000000","v":3.0348849826665775E-11},3.0348849826388883E-11]
[0.1,{"$f":"'Daily Calcs'!J2958/1000000","v":0},{"$f":"'Daily Calcs'!K2958/1000000","v":0},0]
[0.1,{"$f":"'Daily Calcs'!J2959/1000000","v":0},{"$f":"'Daily Calcs'!K2959/1000000","v":0},0]
[0.1,{"$f":"'Daily Calcs'!J2960/1000000","v":1.5392980721700447E-11},{"$f":"'Daily Calcs'!K2960/1000000","v":1.539298072179785E-11},1.5392980721700447E-11]
[0.1,{"$f":"'Daily Calcs'!J2961/1000000","v":0},{"$f":"'Daily Calcs'!K2961/1000000","v":0},0]
[0.1,{"$f":"'Daily Calcs'!J2962/1000000","v":8.7006694855532066E-12},{"$f":"'Daily Calcs'!K2962/1000000","v":8.7006694855923168E-12},8.7006694855532066E-12]
[0.1,{"$f":"'Daily Calcs'!J2963/1000000","v":0},{"$f":"'Daily Calcs'!K2963/1000000","v":0},0]
[0.1,{"$f":"'Daily Calcs'!J2964/1000000","v":0},{"$f":"'Daily Calcs'!K2964/1000000","v":0},0]
[0.1,{"$f":"'Daily Calcs'!J2965/1000000","v":0},{"$f":"'Daily Calcs'!K2965/1000000","v":0},0]
[0.1,{"$f":"'Daily Calcs'!J2966/1000000","v":0},{"$f":"'Daily Calcs'!K2966/1000000","v":0},0]
[0.1,{"$f":"'Daily Calcs'!J2967/1000000","v":0},{"$f":"'Daily Calcs'!K2967/1000000","v":0},0]
[0.1,{"$f":"'Daily Calcs'!J2968/1000000","v":0},{"$f":"'Daily Calcs'!K2968/1000000","v":0},0]
[0.1,{"$f":"'Daily Calcs'!J2969/1000000","v":3.4478440941342659E-12},{"$f":"'Daily Calcs'!K2969/1000000","v":3.4478440941416487E-12},3.4478440941342659E-12]
[0.1,{"$f":"'Daily Calcs'!J2970/1000000","v":0},{"$f":"'Daily Calcs'!K2970/1000000","v":0},0]
[0.1,{"$f":"'Daily Calcs'!J2971/1000000","v":0},{"$f":"'Daily Calcs'!K2971/1000000","v":0},0]
[0.1,{"$f":"'Daily Calcs'!J2972/1000000","v":0},{"$f":"'Daily Calcs'!K2972/1000000","v":0},0]
[0.1,{"$f":"'Daily Calcs'!J2973/1000000","v":0},{"$f":"'Daily Calcs'!K2973/1000000","v":0},0]
[0.1,{"$f":"'Daily Calcs'!J2974/1000000","v":0},{"$f":"'Daily Calcs'!K2974/1000000","v":0},0]
[0.1,{"$f":"'Daily Calcs'!J2975/1000000","v":0},{"$f":"'Daily Calcs'!K2975/1000000","v":0},0]
[0.1,{"$f":"'Daily Calcs'!J2976/1000000","v":1.6551921973608722E-12},{"$f":"'Daily Calcs'!K2976/1000000","v":1.6551921973623086E-12},1.6551921973608722E-12]
[0.1,{"$f":"'Daily Calcs'!J2977/1000000","v":0},{"$f":"'Daily Calcs'!K2977/1000000","v":0},0]
[0.1,{"$f":"'Daily Calcs'!J2978/1000000","v":0},{"$f":"'Daily Calcs'!K2978/1000000","v":0},0]
[0.1,{"$f":"'Daily Calcs'!J2979/1000000","v":0},{"$f":"'Daily Calcs'!K2979/1000000","v":0},0]
[0.1,{"$f":"'Daily Calcs'!J2980/1000000","v":0},{"$f":"'Daily Calcs'!K2980/1000000","v":0},0]
[0.1,{"$f":"'Daily Calcs'!J2981/1000000","v":0},{"$f":"'Daily Calcs'!K2981/1000000","v":0},0]
[0.1,{"$f":"'Daily Calcs'!J2982/1000000","v":0},{"$f":"'Daily Calcs'!K2982/1000000","v":0},0]
[0.1,{"$f":"'Daily Calcs'!J2983/1000000","v":0},{"$f":"'Daily Calcs'!K2983/1000000","v":0},0]
[0.1,{"$f":"'Daily Calcs'!J2984/1000000","v":0},{"$f":"'Daily Calcs'!K2984/1000000","v":0},0]
[0.1,{"$f":"'Daily Calcs'!J2985/1000000","v":0},{"$f":"'Daily Calcs'!K2985/1000000","v":0},0]
[0.1,{"$f":"'Daily Calcs'!J2986/1000000","v":0},{"$f":"'Daily Calcs'!K2986/1000000","v":0},0]
[0.1,{"$f":"'Daily Calcs'!J2987/1000000","v":0},{"$f":"'Daily Calcs'!K2987/1000000","v":0},0]
[0.1,{"$f":"'Daily Calcs'!J2988/1000000","v":4.8296023751844226E-13},{"$f":"'Daily Calcs'!K2988/1000000","v":4.829602375187059E-13},4.8296023751844226E-13]
[0.1,{"$f":"'Daily Calcs'!J2989/1000000","v":0},{"$f":"'Daily Calcs'!K2989/1000000","v":0},0]
[0.1,{"$f":"'Daily Calcs'!J2990/1000000","v":3.0480751217684528E-13},{"$f":"'Daily Calcs'!K2990/1000000","v":3.0480751217693434E-13},3.0480751217684528E-13]
[0.1,{"$f":"'Daily Calcs'!J2991/1000000","v":0},{"$f":"'Daily Calcs'!K2991/1000000","v":0},0]
[0.1,{"$f":"'Daily Calcs'!J2992/1000000","v":0},{"$f":"'Daily Calcs'!K2992/1000000","v":0},0]
[0.1,{"$f":"'Daily Calcs'!J2993/1000000","v":0},{"$f":"'Daily Calcs'!K2993/1000000","v":0},0]
[0.1,{"$f":"'Daily Calcs'!J2994/1000000","v":0},{"$f":"'Daily Calcs'!K2994/1000000","v":0},0]
[0.1,{"$f":"'Daily Calcs'!J2995/1000000","v":0},{"$f":"'Daily Calcs'!K2995/1000000","v":0},0]
[0.1,{"$f":"'Daily Calcs'!J2996/1000000","v":0},{"$f":"'Daily Calcs'!K2996/1000000","v":0},0]
[0.1,{"$f":"'Daily Calcs'!J2997/1000000","v":0},{"$f":"'Daily Calcs'!K2997/1000000","v":0},0]
[0.1,{"$f":"'Daily Calcs'!J2998/1000000","v":0},{"$f":"'Daily Calcs'!K2998/1000000","v":0},0]
[0.1,{"$f":"'Daily Calcs'!J2999/1000000","v":0},{"$f":"'Daily Calcs'!K2999/1000000","v":0},0]
[0.1,{"$f":"'Daily Calcs'!J3000/1000000","v":9.134050880626222E-14},{"$f":"'Daily Calcs'!K3000/1000000","v":9.1340508806284674E-14},9.134050880626222E-14]
[0.1,{"$f":"'Daily Calcs'!J3001/1000000","v":0},{"$f":"'Daily Calcs'!K3001/1000000","v":0},0]
[0.1,{"$f":"'Daily Calcs'!J3002/1000000","v":0},{"$f":"'Daily Calcs'!K3002/1000000","v":0},0]
[0.1,{"$f":"'Daily Calcs'!J3003/1000000","v":0},{"$f":"'Daily Calcs'!K3003/1000000","v":0},0]
[0.1,{"$f":"'Daily Calcs'!J3004/1000000","v":0},{"$f":"'Daily Calcs'!K3004/1000000","v":0},0]
[0.1,{"$f":"'Daily Calcs'!J3005/1000000","v":4.4023590951244674E-14},{"$f":"'Daily Calcs'!K3005/1000000","v":4.4023590951249325E-14},4.4023590951244674E-14]
[0.1,{"$f":"'Daily Calcs'!J3006/1000000","v":2.4378982962673951E-14},{"$f":"'Daily Calcs'!K3006/1000000","v":2.43789829626771E-14},2.4378982962673951E-14]
[0.1,{"$f":"'Daily Calcs'!J3007/1000000","v":0},{"$f":"'Daily Calcs'!K3007/1000000","v":0},0]
[0.1,{"$f":"'Daily Calcs'!J3008/1000000","v":0},{"$f":"'Daily Calcs'!K3008/1000000","v":0},0]
[0.1,{"$f":"'Daily Calcs'!J3009/1000000","v":0},{"$f":"'Daily Calcs'!K3009/1000000","v":0},0]
[0.1,{"$f":"'Daily Calcs'!J3010/1000000","v":0},{"$f":"'Daily Calcs'!K3010/1000000","v":0},0]
[0.1,{"$f":"'Daily Calcs'!J3011/1000000","v":0},{"$f":"'Daily Calcs'!K3011/1000000","v":0},{"$f":"B3015","v":0}]
[0.1,{"$f":"'Daily Calcs'!J3012/1000000","v":0},{"$f":"'Daily Calcs'!K3012/1000000","v":0},0]
[0.1,{"$f":"'Daily Calcs'!J3013/1000000","v":0},{"$f":"'Daily Calcs'!K3013/1000000","v":0},0]
[0.1,{"$f":"'Daily Calcs'!J3014/1000000","v":0},{"$f":"'Daily Calcs'!K3014/1000000","v":0},0]
[0.1,{"$f":"'Daily Calcs'!J3015/1000000","v":0},{"$f":"'Daily Calcs'!K3015/1000000","v":0},0]
[0.1,{"$f":"'Daily Calcs'!J3016/1000000","v":0},{"$f":"'Daily Calcs'!K3016/1000000","v":0},0]
[0.1,{"$f":"'Daily Calcs'!J3017/1000000","v":0},{"$f":"'Daily Calcs'!K3017/1000000","v":0},0]
[0.1,{"$f":"'Daily Calcs'!J3018/1000000","v":9.071205178558439E-15},{"$f":"'Daily Calcs'!K3018/1000000","v":9.0712051785588933E-15},9.071205178558439E-15]
[0.1,{"$f":"'Daily Calcs'!J3019/1000000","v":0},{"$f":"'Daily Calcs'!K3019/1000000","v":0},0]
[0.1,{"$f":"'Daily Calcs'!J3020/1000000","v":0},{"$f":"'Daily Calcs'!K3020/1000000","v":0},0]
[0.1,{"$f":"'Daily Calcs'!J3021/1000000","v":0},{"$f":"'Daily Calcs'!K3021/1000000","v":0},0]
[0.1,{"$f":"'Daily Calcs'!J3022/1000000","v":0},{"$f":"'Daily Calcs'!K3022/1000000","v":0},0]
[0.1,{"$f":"'Daily Calcs'!J3023/1000000","v":0},{"$f":"'Daily Calcs'!K3023/1000000","v":0},0]
[0.1,{"$f":"'Daily Calcs'!J3024/1000000","v":0},{"$f":"'Daily Calcs'!K3024/1000000","v":0},0]
[0.1,{"$f":"'Daily Calcs'!J3025/1000000","v":0},{"$f":"'Daily Calcs'!K3025/1000000","v":0},0]
[0.1,{"$f":"'Daily Calcs'!J3026/1000000","v":0},{"$f":"'Daily Calcs'!K3026/1000000","v":0},0]
[0.1,{"$f":"'Daily Calcs'!J3027/1000000","v":2.4703468854904886E-15},{"$f":"'Daily Calcs'!K3027/1000000","v":2.4703468854905758E-15},2.4703468854904886E-15]
[0.1,{"$f":"'Daily Calcs'!J3028/1000000","v":1.4702174192718385E-15},{"$f":"'Daily Calcs'!K3028/1000000","v":1.4702174192718762E-15},1.4702174192718385E-15]
[0.1,{"$f":"'Daily Calcs'!J3029/1000000","v":0},{"$f":"'Daily Calcs'!K3029/1000000","v":0},0]
[0.1,{"$f":"'Daily Calcs'!J3030/1000000","v":7.7471632478396518E-16},{"$f":"'Daily Calcs'!K3030/1000000","v":7.7471632478398185E-16},7.7471632478396518E-16]
[0.1,{"$f":"'Daily Calcs'!J3031/1000000","v":3.1499935954912261E-16},{"$f":"'Daily Calcs'!K3031/1000000","v":3.1499935954912789E-16},3.1499935954912261E-16]
[0.1,{"$f":"'Daily Calcs'!J3032/1000000","v":0},{"$f":"'Daily Calcs'!K3032/1000000","v":0},0]
[0.1,{"$f":"'Daily Calcs'!J3033/1000000","v":0},{"$f":"'Daily Calcs'!K3033/1000000","v":0},0]
[0.1,{"$f":"'Daily Calcs'!J3034/1000000","v":0},{"$f":"'Daily Calcs'!K3034/1000000","v":0},0]
[0.1,{"$f":"'Daily Calcs'!J3035/1000000","v":0},{"$f":"'Daily Calcs'!K3035/1000000","v":0},0]
[0.1,{"$f":"'Daily Calcs'!J3036/1000000","v":0},{"$f":"'Daily Calcs'!K3036/1000000","v":0},0]
[0.1,{"$f":"'Daily Calcs'!J3037/1000000","v":0},{"$f":"'Daily Calcs'!K3037/1000000","v":0},0]
[0.1,{"$f":"'Daily Calcs'!J3038/1000000","v":0},{"$f":"'Daily Calcs'!K3038/1000000","v":0},0]
[0.1,{"$f":"'Daily Calcs'!J3039/1000000","v":0},{"$f":"'Daily Calcs'!K3039/1000000","v":0},0]
[0.1,{"$f":"'Daily Calcs'!J3040/1000000","v":0},{"$f":"'Daily Calcs'!K3040/1000000","v":0},0]
[0.1,{"$f":"'Daily Calcs'!J3041/1000000","v":0},{"$f":"'Daily Calcs'!K3041/1000000","v":0},0]
[0.1,{"$f":"'Daily Calcs'!J3042/1000000","v":0},{"$f":"'Daily Calcs'!K3042/1000000","v":0},0]
[0.1,{"$f":"'Daily Calcs'!J3043/1000000","v":0},{"$f":"'Daily Calcs'!K3043/1000000","v":0},0]
[0.1,{"$f":"'Daily Calcs'!J3044/1000000","v":0},{"$f":"'Daily Calcs'!K3044/1000000","v":0},0]
[0.1,{"$f":"'Daily Calcs'!J3045/1000000","v":0},{"$f":"'Daily Calcs'!K3045/1000000","v":0},0]
[0.1,{"$f":"'Daily Calcs'!J3046/1000000","v":0},{"$f":"'Daily Calcs'!K3046/1000000","v":0},0]
[0.1,{"$f":"'Daily Calcs'!J3047/1000000","v":0},{"$f":"'Daily Calcs'!K3047/1000000","v":0},0]
[0.1,{"$f":"'Daily Calcs'!J3048/1000000","v":0},{"$f":"'Daily Calcs'!K3048/1000000","v":0},0]
[0.1,{"$f":"'Daily Calcs'!J3049/1000000","v":0},{"$f":"'Daily Calcs'!K3049/1000000","v":0},0]
[0.1,{"$f":"'Daily Calcs'!J3050/1000000","v":0},{"$f":"'Daily Calcs'!K3050/1000000","v":0},0]
[0.1,{"$f":"'Daily Calcs'!J3051/1000000","v":6.109949389338426E-17},{"$f":"'Daily Calcs'!K3051/1000000","v":6.1099493893384617E-17},6.109949389338426E-17]
[0.1,{"$f":"'Daily Calcs'!J3052/1000000","v":0},{"$f":"'Daily Calcs'!K3052/1000000","v":0},0]
[0.1,{"$f":"'Daily Calcs'!J3053/1000000","v":0},{"$f":"'Daily Calcs'!K3053/1000000","v":0},0]
[0.1,{"$f":"'Daily Calcs'!J3054/1000000","v":0},{"$f":"'Daily Calcs'!K3054/1000000","v":0},0]
[0.1,{"$f":"'Daily Calcs'!J3055/1000000","v":0},{"$f":"'Daily Calcs'!K3055/1000000","v":0},0]
[0.1,{"$f":"'Daily Calcs'!J3056/1000000","v":0},{"$f":"'Daily Calcs'!K3056/1000000","v":0},0]
[0.1,{"$f":"'Daily Calcs'!J3057/1000000","v":2.8111699643767257E-17},{"$f":"'Daily Calcs'!K3057/1000000","v":2.8111699643767318E-17},2.8111699643767257E-17]
[0.1,{"$f":"'Daily Calcs'!J3058/1000000","v":1.560136827316596E-17},{"$f":"'Daily Calcs'!K3058/1000000","v":1.560136827316601E-17},1.560136827316596E-17]
[0.1,{"$f":"'Daily Calcs'!J3059/1000000","v":7.4933478471214325E-18},{"$f":"'Daily Calcs'!K3059/1000000","v":7.4933478471214464E-18},7.4933478471214325E-18]
[0.1,{"$f":"'Daily Calcs'!J3060/1000000","v":0},{"$f":"'Daily Calcs'!K3060/1000000","v":0},0]
[0.1,{"$f":"'Daily Calcs'!J3061/1000000","v":3.2977309037281998E-18},{"$f":"'Daily Calcs'!K3061/1000000","v":3.2977309037282044E-18},3.2977309037281998E-18]
[0.1,{"$f":"'Daily Calcs'!J3062/1000000","v":0},{"$f":"'Daily Calcs'!K3062/1000000","v":0},0]
[0.1,{"$f":"'Daily Calcs'!J3063/1000000","v":0},{"$f":"'Daily Calcs'!K3063/1000000","v":0},0]
[0.1,{"$f":"'Daily Calcs'!J3064/1000000","v":0},{"$f":"'Daily Calcs'!K3064/1000000","v":0},0]
[0.1,{"$f":"'Daily Calcs'!J3065/1000000","v":0},{"$f":"'Daily Calcs'!K3065/1000000","v":0},0]
[0.1,{"$f":"'Daily Calcs'!J3066/1000000","v":0},{"$f":"'Daily Calcs'!K3066/1000000","v":0},0]
[0.1,{"$f":"'Daily Calcs'!J3067/1000000","v":0},{"$f":"'Daily Calcs'!K3067/1000000","v":0},0]
[0.1,{"$f":"'Daily Calcs'!J3068/1000000","v":0},{"$f":"'Daily Calcs'!K3068/1000000","v":0},0]
[0.1,{"$f":"'Daily Calcs'!J3069/1000000","v":0},{"$f":"'Daily Calcs'!K3069/1000000","v":0},0]
[0.1,{"$f":"'Daily Calcs'!J3070/1000000","v":0},{"$f":"'Daily Calcs'!K3070/1000000","v":0},0]
[0.1,{"$f":"'Daily Calcs'!J3071/1000000","v":0},{"$f":"'Daily Calcs'!K3071/1000000","v":0},0]
[0.1,{"$f":"'Daily Calcs'!J3072/1000000","v":0},{"$f":"'Daily Calcs'!K3072/1000000","v":0},0]
[0.1,{"$f":"'Daily Calcs'!J3073/1000000","v":0},{"$f":"'Daily Calcs'!K3073/1000000","v":0},0]
[0.1,{"$f":"'Daily Calcs'!J3074/1000000","v":0},{"$f":"'Daily Calcs'!K3074/1000000","v":0},0]
[0.1,{"$f":"'Daily Calcs'!J3075/1000000","v":0},{"$f":"'Daily Calcs'!K3075/1000000","v":0},{"$f":"B3079","v":0}]
[0.1,{"$f":"'Daily Calcs'!J3076/1000000","v":0},{"$f":"'Daily Calcs'!K3076/1000000","v":0},0]
[0.1,{"$f":"'Daily Calcs'!J3077/1000000","v":0},{"$f":"'Daily Calcs'!K3077/1000000","v":0},0]
[0.1,{"$f":"'Daily Calcs'!J3078/1000000","v":0},{"$f":"'Daily Calcs'!K3078/1000000","v":0},0]
[0.1,{"$f":"'Daily Calcs'!J3079/1000000","v":0},{"$f":"'Daily Calcs'!K3079/1000000","v":0},0]
[0.1,{"$f":"'Daily Calcs'!J3080/1000000","v":0},{"$f":"'Daily Calcs'!K3080/1000000","v":0},0]
[0.1,{"$f":"'Daily Calcs'!J3081/1000000","v":0},{"$f":"'Daily Calcs'!K3081/1000000","v":0},0]
[0.1,{"$f":"'Daily Calcs'!J3082/1000000","v":0},{"$f":"'Daily Calcs'!K3082/1000000","v":0},0]
[0.1,{"$f":"'Daily Calcs'!J3083/1000000","v":0},{"$f":"'Daily Calcs'!K3083/1000000","v":0},0]
[0.1,{"$f":"'Daily Calcs'!J3084/1000000","v":0},{"$f":"'Daily Calcs'!K3084/1000000","v":0},0]
[0.1,{"$f":"'Daily Calcs'!J3085/1000000","v":0},{"$f":"'Daily Calcs'!K3085/1000000","v":0},0]
[0.1,{"$f":"'Daily Calcs'!J3086/1000000","v":0},{"$f":"'Daily Calcs'!K3086/1000000","v":0},0]
[0.1,{"$f":"'Daily Calcs'!J3087/1000000","v":0},{"$f":"'Daily Calcs'!K3087/1000000","v":0},0]
[0.1,{"$f":"'Daily Calcs'!J3088/1000000","v":0},{"$f":"'Daily Calcs'!K3088/1000000","v":0},0]
[0.1,{"$f":"'Daily Calcs'!J3089/1000000","v":6.8346729428482618E-19},{"$f":"'Daily Calcs'!K3089/1000000","v":6.8346729428482627E-19},6.8346729428482618E-19]
[0.1,{"$f":"'Daily Calcs'!J3090/1000000","v":0},{"$f":"'Daily Calcs'!K3090/1000000","v":0},0]
[0.1,{"$f":"'Daily Calcs'!J3091/1000000","v":0},{"$f":"'Daily Calcs'!K3091/1000000","v":0},0]
[0.1,{"$f":"'Daily Calcs'!J3092/1000000","v":0},{"$f":"'Daily Calcs'!K3092/1000000","v":0},0]
[0.1,{"$f":"'Daily Calcs'!J3093/1000000","v":0},{"$f":"'Daily Calcs'!K3093/1000000","v":0},0]
[0.1,{"$f":"'Daily Calcs'!J3094/1000000","v":0},{"$f":"'Daily Calcs'!K3094/1000000","v":0},0]
[0.1,{"$f":"'Daily Calcs'!J3095/1000000","v":0},{"$f":"'Daily Calcs'!K3095/1000000","v":0},0]
[0.1,{"$f":"'Daily Calcs'!J3096/1000000","v":0},{"$f":"'Daily Calcs'!K3096/1000000","v":0},0]
[0.1,{"$f":"'Daily Calcs'!J3097/1000000","v":0},{"$f":"'Daily Calcs'!K3097/1000000","v":0},0]
[0.1,{"$f":"'Daily Calcs'!J3098/1000000","v":0},{"$f":"'Daily Calcs'!K3098/1000000","v":0},0]
[0.1,{"$f":"'Daily Calcs'!J3099/1000000","v":0},{"$f":"'Daily Calcs'!K3099/1000000","v":0},0]
[0.1,{"$f":"'Daily Calcs'!J3100/1000000","v":0},{"$f":"'Daily Calcs'!K3100/1000000","v":0},0]
[0.1,{"$f":"'Daily Calcs'!J3101/1000000","v":0},{"$f":"'Daily Calcs'!K3101/1000000","v":0},0]
[0.1,{"$f":"'Daily Calcs'!J3102/1000000","v":0},{"$f":"'Daily Calcs'!K3102/1000000","v":0},0]
[0.1,{"$f":"'Daily Calcs'!J3103/1000000","v":0},{"$f":"'Daily Calcs'!K3103/1000000","v":0},0]
[0.1,{"$f":"'Daily Calcs'!J3104/1000000","v":0},{"$f":"'Daily Calcs'!K3104/1000000","v":0},0]
[0.1,{"$f":"'Daily Calcs'!J3105/1000000","v":0},{"$f":"'Daily Calcs'!K3105/1000000","v":0},0]
[0.1,{"$f":"'Daily Calcs'!J3106/1000000","v":0},{"$f":"'Daily Calcs'!K3106/1000000","v":0},0]
[0.1,{"$f":"'Daily Calcs'!J3107/1000000","v":0},{"$f":"'Daily Calcs'!K3107/1000000","v":0},0]
[0.1,{"$f":"'Daily Calcs'!J3108/1000000","v":0},{"$f":"'Daily Calcs'!K3108/1000000","v":0},0]
[0.1,{"$f":"'Daily Calcs'!J3109/1000000","v":0},{"$f":"'Daily Calcs'!K3109/1000000","v":0},0]
[0.1,{"$f":"'Daily Calcs'!J3110/1000000","v":0},{"$f":"'Daily Calcs'!K3110/1000000","v":0},0]
[0.1,{"$f":"'Daily Calcs'!J3111/1000000","v":0},{"$f":"'Daily Calcs'!K3111/1000000","v":0},0]
[0.1,{"$f":"'Daily Calcs'!J3112/1000000","v":0},{"$f":"'Daily Calcs'!K3112/1000000","v":0},0]
[0.1,{"$f":"'Daily Calcs'!J3113/1000000","v":0},{"$f":"'Daily Calcs'!K3113/1000000","v":0},0]
[0.1,{"$f":"'Daily Calcs'!J3114/1000000","v":0},{"$f":"'Daily Calcs'!K3114/1000000","v":0},0]
[0.1,{"$f":"'Daily Calcs'!J3115/1000000","v":0},{"$f":"'Daily Calcs'!K3115/1000000","v":0},0]
[0.1,{"$f":"'Daily Calcs'!J3116/1000000","v":0},{"$f":"'Daily Calcs'!K3116/1000000","v":0},0]
[0.1,{"$f":"'Daily Calcs'!J3117/1000000","v":0},{"$f":"'Daily Calcs'!K3117/1000000","v":0},0]
[0.1,{"$f":"'Daily Calcs'!J3118/1000000","v":0},{"$f":"'Daily Calcs'!K3118/1000000","v":0},0]
[0.1,{"$f":"'Daily Calcs'!J3119/1000000","v":0},{"$f":"'Daily Calcs'!K3119/1000000","v":0},0]
[0.1,{"$f":"'Daily Calcs'!J3120/1000000","v":1.4828702241869275E-5},{"$f":"'Daily Calcs'!K3120/1000000","v":1.4941700873592254E-5},1.4828702241869275E-5]
[0.1,{"$f":"'Daily Calcs'!J3121/1000000","v":1.1672062156037552E-5},{"$f":"'Daily Calcs'!K3121/1000000","v":1.1754119456134672E-5},1.1672062156037552E-5]
[0.1,{"$f":"'Daily Calcs'!J3122/1000000","v":0},{"$f":"'Daily Calcs'!K3122/1000000","v":0},0]
[0.1,{"$f":"'Daily Calcs'!J3123/1000000","v":0},{"$f":"'Daily Calcs'!K3123/1000000","v":0},0]
[0.1,{"$f":"'Daily Calcs'!J3124/1000000","v":0},{"$f":"'Daily Calcs'!K3124/1000000","v":0},0]
[0.1,{"$f":"'Daily Calcs'!J3125/1000000","v":0},{"$f":"'Daily Calcs'!K3125/1000000","v":0},0]
[0.1,{"$f":"'Daily Calcs'!J3126/1000000","v":0},{"$f":"'Daily Calcs'!K3126/1000000","v":0},0]
[0.1,{"$f":"'Daily Calcs'!J3127/1000000","v":0},{"$f":"'Daily Calcs'!K3127/1000000","v":0},0]
[0.1,{"$f":"'Daily Calcs'!J3128/1000000","v":0},{"$f":"'Daily Calcs'!K3128/1000000","v":0},0]
[0.1,{"$f":"'Daily Calcs'!J3129/1000000","v":2.5673992948766036E-5},{"$f":"'Daily Calcs'!K3129/1000000","v":2.5846163078538747E-5},2.5673992948766036E-5]
[0.1,{"$f":"'Daily Calcs'!J3130/1000000","v":0},{"$f":"'Daily Calcs'!K3130/1000000","v":0},0]
[0.1,{"$f":"'Daily Calcs'!J3131/1000000","v":0},{"$f":"'Daily Calcs'!K3131/1000000","v":0},0]
[0.1,{"$f":"'Daily Calcs'!J3132/1000000","v":0},{"$f":"'Daily Calcs'!K3132/1000000","v":0},0]
[0.1,{"$f":"'Daily Calcs'!J3133/1000000","v":0},{"$f":"'Daily Calcs'!K3133/1000000","v":0},0]
[0.1,{"$f":"'Daily Calcs'!J3134/1000000","v":0},{"$f":"'Daily Calcs'!K3134/1000000","v":0},0]
[0.1,{"$f":"'Daily Calcs'!J3135/1000000","v":0},{"$f":"'Daily Calcs'!K3135/1000000","v":0},0]
[0.1,{"$f":"'Daily Calcs'!J3136/1000000","v":0},{"$f":"'Daily Calcs'!K3136/1000000","v":0},0]
[0.1,{"$f":"'Daily Calcs'!J3137/1000000","v":1.5199009482394153E-5},{"$f":"'Daily Calcs'!K3137/1000000","v":1.5244529806124302E-5},1.5199009482394153E-5]
[0.1,{"$f":"'Daily Calcs'!J3138/1000000","v":0},{"$f":"'Daily Calcs'!K3138/1000000","v":0},0]
[0.1,{"$f":"'Daily Calcs'!J3139/1000000","v":0},{"$f":"'Daily Calcs'!K3139/1000000","v":0},{"$f":"B3143","v":0}]
[0.1,{"$f":"'Daily Calcs'!J3140/1000000","v":0},{"$f":"'Daily Calcs'!K3140/1000000","v":0},0]
[0.1,{"$f":"'Daily Calcs'!J3141/1000000","v":0},{"$f":"'Daily Calcs'!K3141/1000000","v":0},0]
[0.1,{"$f":"'Daily Calcs'!J3142/1000000","v":0},{"$f":"'Daily Calcs'!K3142/1000000","v":0},0]
[0.1,{"$f":"'Daily Calcs'!J3143/1000000","v":0},{"$f":"'Daily Calcs'!K3143/1000000","v":0},0]
[0.1,{"$f":"'Daily Calcs'!J3144/1000000","v":0},{"$f":"'Daily Calcs'!K3144/1000000","v":0},0]
[0.1,{"$f":"'Daily Calcs'!J3145/1000000","v":0},{"$f":"'Daily Calcs'!K3145/1000000","v":0},0]
[0.1,{"$f":"'Daily Calcs'!J3146/1000000","v":0},{"$f":"'Daily Calcs'!K3146/1000000","v":0},0]
[0.1,{"$f":"'Daily Calcs'!J3147/1000000","v":1.0938109986206179E-5},{"$f":"'Daily Calcs'!K3147/1000000","v":1.0944165994326315E-5},1.0938109986206179E-5]
[0.1,{"$f":"'Daily Calcs'!J3148/1000000","v":1.0230379188712521E-5},{"$f":"'Daily Calcs'!K3148/1000000","v":1.0234398148148147E-5},1.0230379188712521E-5]
[0.1,{"$f":"'Daily Calcs'!J3149/1000000","v":0},{"$f":"'Daily Calcs'!K3149/1000000","v":0},0]
[0.1,{"$f":"'Daily Calcs'!J3150/1000000","v":7.1945348521833455E-6},{"$f":"'Daily Calcs'!K3150/1000000","v":7.1967442704095463E-6},7.1945348521833455E-6]
[0.1,{"$f":"'Daily Calcs'!J3151/1000000","v":0},{"$f":"'Daily Calcs'!K3151/1000000","v":0},0]
[0.1,{"$f":"'Daily Calcs'!J3152/1000000","v":0},{"$f":"'Daily Calcs'!K3152/1000000","v":0},0]
[0.1,{"$f":"'Daily Calcs'!J3153/1000000","v":5.612948026280647E-6},{"$f":"'Daily Calcs'!K3153/1000000","v":5.6136313231130807E-6},5.612948026280647E-6]
[0.1,{"$f":"'Daily Calcs'!J3154/1000000","v":0},{"$f":"'Daily Calcs'!K3154/1000000","v":0},0]
[0.1,{"$f":"'Daily Calcs'!J3155/1000000","v":0},{"$f":"'Daily Calcs'!K3155/1000000","v":0},0]
[0.1,{"$f":"'Daily Calcs'!J3156/1000000","v":0},{"$f":"'Daily Calcs'!K3156/1000000","v":0},0]
[0.1,{"$f":"'Daily Calcs'!J3157/1000000","v":3.5935350756533701E-6},{"$f":"'Daily Calcs'!K3157/1000000","v":3.5936973521320492E-6},3.5935350756533701E-6]
[0.1,{"$f":"'Daily Calcs'!J3158/1000000","v":3.3188381834215166E-6},{"$f":"'Daily Calcs'!K3158/1000000","v":3.3189000275573188E-6},3.3188381834215166E-6]
[0.1,{"$f":"'Daily Calcs'!J3159/1000000","v":0},{"$f":"'Daily Calcs'!K3159/1000000","v":0},0]
[0.1,{"$f":"'Daily Calcs'!J3160/1000000","v":0},{"$f":"'Daily Calcs'!K3160/1000000","v":0},0]
[0.1,{"$f":"'Daily Calcs'!J3161/1000000","v":0},{"$f":"'Daily Calcs'!K3161/1000000","v":0},0]
[0.1,{"$f":"'Daily Calcs'!J3162/1000000","v":0},{"$f":"'Daily Calcs'!K3162/1000000","v":0},0]
[0.1,{"$f":"'Daily Calcs'!J3163/1000000","v":0},{"$f":"'Daily Calcs'!K3163/1000000","v":0},0]
[0.1,{"$f":"'Daily Calcs'!J3164/1000000","v":0},{"$f":"'Daily Calcs'!K3164/1000000","v":0},0]
[0.1,{"$f":"'Daily Calcs'!J3165/1000000","v":0},{"$f":"'Daily Calcs'!K3165/1000000","v":0},0]
[0.1,{"$f":"'Daily Calcs'!J3166/1000000","v":0},{"$f":"'Daily Calcs'!K3166/1000000","v":0},0]
[0.1,{"$f":"'Daily Calcs'!J3167/1000000","v":0},{"$f":"'Daily Calcs'!K3167/1000000","v":0},0]
[0.1,{"$f":"'Daily Calcs'!J3168/1000000","v":0},{"$f":"'Daily Calcs'!K3168/1000000","v":0},0]
[0.1,{"$f":"'Daily Calcs'!J3169/1000000","v":0},{"$f":"'Daily Calcs'!K3169/1000000","v":0},0]
[0.1,{"$f":"'Daily Calcs'!J3170/1000000","v":0},{"$f":"'Daily Calcs'!K3170/1000000","v":0},0]
[0.1,{"$f":"'Daily Calcs'!J3171/1000000","v":0},{"$f":"'Daily Calcs'!K3171/1000000","v":0},0]
[0.1,{"$f":"'Daily Calcs'!J3172/1000000","v":0},{"$f":"'Daily Calcs'!K3172/1000000","v":0},0]
[0.1,{"$f":"'Daily Calcs'!J3173/1000000","v":0},{"$f":"'Daily Calcs'!K3173/1000000","v":0},0]
[0.1,{"$f":"'Daily Calcs'!J3174/1000000","v":0},{"$f":"'Daily Calcs'!K3174/1000000","v":0},0]
[0.1,{"$f":"'Daily Calcs'!J3175/1000000","v":0},{"$f":"'Daily Calcs'!K3175/1000000","v":0},0]
[0.1,{"$f":"'Daily Calcs'!J3176/1000000","v":0},{"$f":"'Daily Calcs'!K3176/1000000","v":0},0]
[0.1,{"$f":"'Daily Calcs'!J3177/1000000","v":0},{"$f":"'Daily Calcs'!K3177/1000000","v":0},0]
[0.1,{"$f":"'Daily Calcs'!J3178/1000000","v":0},{"$f":"'Daily Calcs'!K3178/1000000","v":0},0]
[0.1,{"$f":"'Daily Calcs'!J3179/1000000","v":0},{"$f":"'Daily Calcs'!K3179/1000000","v":0},0]
[0.1,{"$f":"'Daily Calcs'!J3180/1000000","v":0},{"$f":"'Daily Calcs'!K3180/1000000","v":0},0]
[0.1,{"$f":"'Daily Calcs'!J3181/1000000","v":0},{"$f":"'Daily Calcs'!K3181/1000000","v":0},0]
[0.1,{"$f":"'Daily Calcs'!J3182/1000000","v":0},{"$f":"'Daily Calcs'!K3182/1000000","v":0},0]
[0.1,{"$f":"'Daily Calcs'!J3183/1000000","v":0},{"$f":"'Daily Calcs'!K3183/1000000","v":0},0]
[0.1,{"$f":"'Daily Calcs'!J3184/1000000","v":0},{"$f":"'Daily Calcs'!K3184/1000000","v":0},0]
[0.1,{"$f":"'Daily Calcs'!J3185/1000000","v":2.0479467136408679E-6},{"$f":"'Daily Calcs'!K3185/1000000","v":2.0479575140372127E-6},2.0479467136408679E-6]
[0.1,{"$f":"'Daily Calcs'!J3186/1000000","v":0},{"$f":"'Daily Calcs'!K3186/1000000","v":0},0]
[0.1,{"$f":"'Daily Calcs'!J3187/1000000","v":1.720264128290884E-6},{"$f":"'Daily Calcs'!K3187/1000000","v":1.7202710349516703E-6},1.720264128290884E-6]
[0.1,{"$f":"'Daily Calcs'!J3188/1000000","v":1.2094383175173118E-6},{"$f":"'Daily Calcs'!K3188/1000000","v":1.2094418573480377E-6},1.2094383175173118E-6]
[0.1,{"$f":"'Daily Calcs'!J3189/1000000","v":8.2515312034431385E-7},{"$f":"'Daily Calcs'!K3189/1000000","v":8.251543056613143E-7},8.2515312034431385E-7]
[0.1,{"$f":"'Daily Calcs'!J3190/1000000","v":0},{"$f":"'Daily Calcs'!K3190/1000000","v":0},0]
[0.1,{"$f":"'Daily Calcs'!J3191/1000000","v":0},{"$f":"'Daily Calcs'!K3191/1000000","v":0},0]
[0.1,{"$f":"'Daily Calcs'!J3192/1000000","v":0},{"$f":"'Daily Calcs'!K3192/1000000","v":0},0]
[0.1,{"$f":"'Daily Calcs'!J3193/1000000","v":0},{"$f":"'Daily Calcs'!K3193/1000000","v":0},0]
[0.1,{"$f":"'Daily Calcs'!J3194/1000000","v":0},{"$f":"'Daily Calcs'!K3194/1000000","v":0},0]
[0.1,{"$f":"'Daily Calcs'!J3195/1000000","v":0},{"$f":"'Daily Calcs'!K3195/1000000","v":0},0]
[0.1,{"$f":"'Daily Calcs'!J3196/1000000","v":0},{"$f":"'Daily Calcs'!K3196/1000000","v":0},0]
[0.1,{"$f":"'Daily Calcs'!J3197/1000000","v":0},{"$f":"'Daily Calcs'!K3197/1000000","v":0},0]
[0.1,{"$f":"'Daily Calcs'!J3198/1000000","v":0},{"$f":"'Daily Calcs'!K3198/1000000","v":0},0]
[0.1,{"$f":"'Daily Calcs'!J3199/1000000","v":0},{"$f":"'Daily Calcs'!K3199/1000000","v":0},0]
[0.1,{"$f":"'Daily Calcs'!J3200/1000000","v":0},{"$f":"'Daily Calcs'!K3200/1000000","v":0},0]
[0.1,{"$f":"'Daily Calcs'!J3201/1000000","v":0},{"$f":"'Daily Calcs'!K3201/1000000","v":0},0]
[0.1,{"$f":"'Daily Calcs'!J3202/1000000","v":0},{"$f":"'Daily Calcs'!K3202/1000000","v":0},0]
[0.1,{"$f":"'Daily Calcs'!J3203/1000000","v":0},{"$f":"'Daily Calcs'!K3203/1000000","v":0},{"$f":"B3207","v":0}]
[0.1,{"$f":"'Daily Calcs'!J3204/1000000","v":4.9458408914226488E-7},{"$f":"'Daily Calcs'!K3204/1000000","v":4.9458419403990673E-7},4.9458408914226488E-7]
[0.1,{"$f":"'Daily Calcs'!J3205/1000000","v":0},{"$f":"'Daily Calcs'!K3205/1000000","v":0},0]
[0.1,{"$f":"'Daily Calcs'!J3206/1000000","v":0},{"$f":"'Daily Calcs'!K3206/1000000","v":0},0]
[0.1,{"$f":"'Daily Calcs'!J3207/1000000","v":0},{"$f":"'Daily Calcs'!K3207/1000000","v":0},0]
[0.1,{"$f":"'Daily Calcs'!J3208/1000000","v":0},{"$f":"'Daily Calcs'!K3208/1000000","v":0},0]
[0.1,{"$f":"'Daily Calcs'!J3209/1000000","v":0},{"$f":"'Daily Calcs'!K3209/1000000","v":0},0]
[0.1,{"$f":"'Daily Calcs'!J3210/1000000","v":0},{"$f":"'Daily Calcs'!K3210/1000000","v":0},0]
[0.1,{"$f":"'Daily Calcs'!J3211/1000000","v":0},{"$f":"'Daily Calcs'!K3211/1000000","v":0},0]
[0.1,{"$f":"'Daily Calcs'!J3212/1000000","v":0},{"$f":"'Daily Calcs'!K3212/1000000","v":0},0]
[0.1,{"$f":"'Daily Calcs'!J3213/1000000","v":0},{"$f":"'Daily Calcs'!K3213/1000000","v":0},0]
[0.1,{"$f":"'Daily Calcs'!J3214/1000000","v":0},{"$f":"'Daily Calcs'!K3214/1000000","v":0},0]
[0.1,{"$f":"'Daily Calcs'!J3215/1000000","v":0},{"$f":"'Daily Calcs'!K3215/1000000","v":0},0]
[0.1,{"$f":"'Daily Calcs'!J3216/1000000","v":0},{"$f":"'Daily Calcs'!K3216/1000000","v":0},0]
[0.1,{"$f":"'Daily Calcs'!J3217/1000000","v":2.9934104677028971E-7},{"$f":"'Daily Calcs'!K3217/1000000","v":2.993410707290457E-7},2.9934104677028971E-7]
[0.1,{"$f":"'Daily Calcs'!J3218/1000000","v":0},{"$f":"'Daily Calcs'!K3218/1000000","v":0},0]
[0.1,{"$f":"'Daily Calcs'!J3219/1000000","v":0},{"$f":"'Daily Calcs'!K3219/1000000","v":0},0]
[0.1,{"$f":"'Daily Calcs'!J3220/1000000","v":0},{"$f":"'Daily Calcs'!K3220/1000000","v":0},0]
[0.1,{"$f":"'Daily Calcs'!J3221/1000000","v":0},{"$f":"'Daily Calcs'!K3221/1000000","v":0},0]
[0.1,{"$f":"'Daily Calcs'!J3222/1000000","v":0},{"$f":"'Daily Calcs'!K3222/1000000","v":0},0]
[0.1,{"$f":"'Daily Calcs'!J3223/1000000","v":0},{"$f":"'Daily Calcs'!K3223/1000000","v":0},0]
[0.1,{"$f":"'Daily Calcs'!J3224/1000000","v":0},{"$f":"'Daily Calcs'!K3224/1000000","v":0},0]
[0.1,{"$f":"'Daily Calcs'!J3225/1000000","v":0},{"$f":"'Daily Calcs'!K3225/1000000","v":0},0]
[0.1,{"$f":"'Daily Calcs'!J3226/1000000","v":0},{"$f":"'Daily Calcs'!K3226/1000000","v":0},0]
[0.1,{"$f":"'Daily Calcs'!J3227/1000000","v":0},{"$f":"'Daily Calcs'!K3227/1000000","v":0},0]
[0.1,{"$f":"'Daily Calcs'!J3228/1000000","v":1.4064166370423033E-7},{"$f":"'Daily Calcs'!K3228/1000000","v":1.4064166948080339E-7},1.4064166370423033E-7]
[0.1,{"$f":"'Daily Calcs'!J3229/1000000","v":0},{"$f":"'Daily Calcs'!K3229/1000000","v":0},0]
[0.1,{"$f":"'Daily Calcs'!J3230/1000000","v":0},{"$f":"'Daily Calcs'!K3230/1000000","v":0},0]
[0.1,{"$f":"'Daily Calcs'!J3231/1000000","v":0},{"$f":"'Daily Calcs'!K3231/1000000","v":0},0]
[0.1,{"$f":"'Daily Calcs'!J3232/1000000","v":0},{"$f":"'Daily Calcs'!K3232/1000000","v":0},0]
[0.1,{"$f":"'Daily Calcs'!J3233/1000000","v":0},{"$f":"'Daily Calcs'!K3233/1000000","v":0},0]
[0.1,{"$f":"'Daily Calcs'!J3234/1000000","v":0},{"$f":"'Daily Calcs'!K3234/1000000","v":0},0]
[0.1,{"$f":"'Daily Calcs'!J3235/1000000","v":0},{"$f":"'Daily Calcs'!K3235/1000000","v":0},0]
[0.1,{"$f":"'Daily Calcs'!J3236/1000000","v":0},{"$f":"'Daily Calcs'!K3236/1000000","v":0},0]
[0.1,{"$f":"'Daily Calcs'!J3237/1000000","v":0},{"$f":"'Daily Calcs'!K3237/1000000","v":0},0]
[0.1,{"$f":"'Daily Calcs'!J3238/1000000","v":0},{"$f":"'Daily Calcs'!K3238/1000000","v":0},0]
[0.1,{"$f":"'Daily Calcs'!J3239/1000000","v":9.0983175958727888E-8},{"$f":"'Daily Calcs'!K3239/1000000","v":9.0983177113700351E-8},9.0983175958727888E-8]
[0.1,{"$f":"'Daily Calcs'!J3240/1000000","v":0},{"$f":"'Daily Calcs'!K3240/1000000","v":0},0]
[0.1,{"$f":"'Daily Calcs'!J3241/1000000","v":0},{"$f":"'Daily Calcs'!K3241/1000000","v":0},0]
[0.1,{"$f":"'Daily Calcs'!J3242/1000000","v":0},{"$f":"'Daily Calcs'!K3242/1000000","v":0},0]
[0.1,{"$f":"'Daily Calcs'!J3243/1000000","v":0},{"$f":"'Daily Calcs'!K3243/1000000","v":0},0]
[0.1,{"$f":"'Daily Calcs'!J3244/1000000","v":0},{"$f":"'Daily Calcs'!K3244/1000000","v":0},0]
[0.1,{"$f":"'Daily Calcs'!J3245/1000000","v":0},{"$f":"'Daily Calcs'!K3245/1000000","v":0},0]
[0.1,{"$f":"'Daily Calcs'!J3246/1000000","v":5.4378075683013739E-8},{"$f":"'Daily Calcs'!K3246/1000000","v":5.4378076160699127E-8},5.4378075683013739E-8]
[0.1,{"$f":"'Daily Calcs'!J3247/1000000","v":0},{"$f":"'Daily Calcs'!K3247/1000000","v":0},0]
[0.1,{"$f":"'Daily Calcs'!J3248/1000000","v":0},{"$f":"'Daily Calcs'!K3248/1000000","v":0},0]
[0.1,{"$f":"'Daily Calcs'!J3249/1000000","v":0},{"$f":"'Daily Calcs'!K3249/1000000","v":0},0]
[0.1,{"$f":"'Daily Calcs'!J3250/1000000","v":0},{"$f":"'Daily Calcs'!K3250/1000000","v":0},0]
[0.1,{"$f":"'Daily Calcs'!J3251/1000000","v":0},{"$f":"'Daily Calcs'!K3251/1000000","v":0},0]
[0.1,{"$f":"'Daily Calcs'!J3252/1000000","v":0},{"$f":"'Daily Calcs'!K3252/1000000","v":0},0]
[0.1,{"$f":"'Daily Calcs'!J3253/1000000","v":0},{"$f":"'Daily Calcs'!K3253/1000000","v":0},0]
[0.1,{"$f":"'Daily Calcs'!J3254/1000000","v":0},{"$f":"'Daily Calcs'!K3254/1000000","v":0},0]
[0.1,{"$f":"'Daily Calcs'!J3255/1000000","v":0},{"$f":"'Daily Calcs'!K3255/1000000","v":0},0]
[0.1,{"$f":"'Daily Calcs'!J3256/1000000","v":0},{"$f":"'Daily Calcs'!K3256/1000000","v":0},0]
[0.1,{"$f":"'Daily Calcs'!J3257/1000000","v":0},{"$f":"'Daily Calcs'!K3257/1000000","v":0},0]
[0.1,{"$f":"'Daily Calcs'!J3258/1000000","v":0},{"$f":"'Daily Calcs'!K3258/1000000","v":0},0]
[0.1,{"$f":"'Daily Calcs'!J3259/1000000","v":0},{"$f":"'Daily Calcs'!K3259/1000000","v":0},0]
[0.1,{"$f":"'Daily Calcs'!J3260/1000000","v":0},{"$f":"'Daily Calcs'!K3260/1000000","v":0},0]
[0.1,{"$f":"'Daily Calcs'!J3261/1000000","v":0},{"$f":"'Daily Calcs'!K3261/1000000","v":0},0]
[0.1,{"$f":"'Daily Calcs'!J3262/1000000","v":0},{"$f":"'Daily Calcs'!K3262/1000000","v":0},0]
[0.1,{"$f":"'Daily Calcs'!J3263/1000000","v":0},{"$f":"'Daily Calcs'!K3263/1000000","v":0},0]
[0.1,{"$f":"'Daily Calcs'!J3264/1000000","v":2.2058669185558353E-8},{"$f":"'Daily Calcs'!K3264/1000000","v":2.2058669244485988E-8},2.2058669185558353E-8]
[0.1,{"$f":"'Daily Calcs'!J3265/1000000","v":0},{"$f":"'Daily Calcs'!K3265/1000000","v":0},0]
[0.1,{"$f":"'Daily Calcs'!J3266/1000000","v":0},{"$f":"'Daily Calcs'!K3266/1000000","v":0},0]
[0.1,{"$f":"'Daily Calcs'!J3267/1000000","v":1.5626287212132555E-8},{"$f":"'Daily Calcs'!K3267/1000000","v":1.5626287236860759E-8},{"$f":"B3271","v":1.5626287212132555E-8}]
[0.1,{"$f":"'Daily Calcs'!J3268/1000000","v":0},{"$f":"'Daily Calcs'!K3268/1000000","v":0},0]
[0.1,{"$f":"'Daily Calcs'!J3269/1000000","v":0},{"$f":"'Daily Calcs'!K3269/1000000","v":0},0]
[0.1,{"$f":"'Daily Calcs'!J3270/1000000","v":0},{"$f":"'Daily Calcs'!K3270/1000000","v":0},0]
[0.1,{"$f":"'Daily Calcs'!J3271/1000000","v":0},{"$f":"'Daily Calcs'!K3271/1000000","v":0},0]
[0.1,{"$f":"'Daily Calcs'!J3272/1000000","v":0},{"$f":"'Daily Calcs'!K3272/1000000","v":0},0]
[0.1,{"$f":"'Daily Calcs'!J3273/1000000","v":0},{"$f":"'Daily Calcs'!K3273/1000000","v":0},0]
[0.1,{"$f":"'Daily Calcs'!J3274/1000000","v":0},{"$f":"'Daily Calcs'!K3274/1000000","v":0},0]
[0.1,{"$f":"'Daily Calcs'!J3275/1000000","v":0},{"$f":"'Daily Calcs'!K3275/1000000","v":0},0]
[0.1,{"$f":"'Daily Calcs'!J3276/1000000","v":0},{"$f":"'Daily Calcs'!K3276/1000000","v":0},0]
[0.1,{"$f":"'Daily Calcs'!J3277/1000000","v":0},{"$f":"'Daily Calcs'!K3277/1000000","v":0},0]
[0.1,{"$f":"'Daily Calcs'!J3278/1000000","v":8.4683283431193377E-9},{"$f":"'Daily Calcs'!K3278/1000000","v":8.4683283496776441E-9},8.4683283431193377E-9]
[0.1,{"$f":"'Daily Calcs'!J3279/1000000","v":0},{"$f":"'Daily Calcs'!K3279/1000000","v":0},0]
[0.1,{"$f":"'Daily Calcs'!J3280/1000000","v":0},{"$f":"'Daily Calcs'!K3280/1000000","v":0},0]
[0.1,{"$f":"'Daily Calcs'!J3281/1000000","v":0},{"$f":"'Daily Calcs'!K3281/1000000","v":0},0]
[0.1,{"$f":"'Daily Calcs'!J3282/1000000","v":4.9942579123498093E-9},{"$f":"'Daily Calcs'!K3282/1000000","v":4.9942579154605411E-9},4.9942579123498093E-9]
[0.1,{"$f":"'Daily Calcs'!J3283/1000000","v":0},{"$f":"'Daily Calcs'!K3283/1000000","v":0},0]
[0.1,{"$f":"'Daily Calcs'!J3284/1000000","v":0},{"$f":"'Daily Calcs'!K3284/1000000","v":0},0]
[0.1,{"$f":"'Daily Calcs'!J3285/1000000","v":0},{"$f":"'Daily Calcs'!K3285/1000000","v":0},0]
[0.1,{"$f":"'Daily Calcs'!J3286/1000000","v":0},{"$f":"'Daily Calcs'!K3286/1000000","v":0},0]
[0.1,{"$f":"'Daily Calcs'!J3287/1000000","v":3.6108655468938357E-9},{"$f":"'Daily Calcs'!K3287/1000000","v":3.6108655477583986E-9},3.6108655468938357E-9]
[0.1,{"$f":"'Daily Calcs'!J3288/1000000","v":0},{"$f":"'Daily Calcs'!K3288/1000000","v":0},0]
[0.1,{"$f":"'Daily Calcs'!J3289/1000000","v":0},{"$f":"'Daily Calcs'!K3289/1000000","v":0},0]
[0.1,{"$f":"'Daily Calcs'!J3290/1000000","v":0},{"$f":"'Daily Calcs'!K3290/1000000","v":0},0]
[0.1,{"$f":"'Daily Calcs'!J3291/1000000","v":0},{"$f":"'Daily Calcs'!K3291/1000000","v":0},0]
[0.1,{"$f":"'Daily Calcs'!J3292/1000000","v":0},{"$f":"'Daily Calcs'!K3292/1000000","v":0},0]
[0.1,{"$f":"'Daily Calcs'!J3293/1000000","v":0},{"$f":"'Daily Calcs'!K3293/1000000","v":0},0]
[0.1,{"$f":"'Daily Calcs'!J3294/1000000","v":1.8515731415939086E-9},{"$f":"'Daily Calcs'!K3294/1000000","v":1.8515731419676664E-9},1.8515731415939086E-9]
[0.1,{"$f":"'Daily Calcs'!J3295/1000000","v":0},{"$f":"'Daily Calcs'!K3295/1000000","v":0},0]
[0.1,{"$f":"'Daily Calcs'!J3296/1000000","v":0},{"$f":"'Daily Calcs'!K3296/1000000","v":0},0]
[0.1,{"$f":"'Daily Calcs'!J3297/1000000","v":0},{"$f":"'Daily Calcs'!K3297/1000000","v":0},0]
[0.1,{"$f":"'Daily Calcs'!J3298/1000000","v":0},{"$f":"'Daily Calcs'!K3298/1000000","v":0},0]
[0.1,{"$f":"'Daily Calcs'!J3299/1000000","v":1.3935101354058164E-9},{"$f":"'Daily Calcs'!K3299/1000000","v":1.3935101355291979E-9},1.3935101354058164E-9]
[0.1,{"$f":"'Daily Calcs'!J3300/1000000","v":0},{"$f":"'Daily Calcs'!K3300/1000000","v":0},0]
[0.1,{"$f":"'Daily Calcs'!J3301/1000000","v":0},{"$f":"'Daily Calcs'!K3301/1000000","v":0},0]
[0.1,{"$f":"'Daily Calcs'!J3302/1000000","v":0},{"$f":"'Daily Calcs'!K3302/1000000","v":0},0]
[0.1,{"$f":"'Daily Calcs'!J3303/1000000","v":0},{"$f":"'Daily Calcs'!K3303/1000000","v":0},0]
[0.1,{"$f":"'Daily Calcs'!J3304/1000000","v":0},{"$f":"'Daily Calcs'!K3304/1000000","v":0},0]
[0.1,{"$f":"'Daily Calcs'!J3305/1000000","v":8.9327083427232172E-10},{"$f":"'Daily Calcs'!K3305/1000000","v":8.9327083432606044E-10},8.9327083427232172E-10]
[0.1,{"$f":"'Daily Calcs'!J3306/1000000","v":0},{"$f":"'Daily Calcs'!K3306/1000000","v":0},0]
[0.1,{"$f":"'Daily Calcs'!J3307/1000000","v":6.6305874093142993E-10},{"$f":"'Daily Calcs'!K3307/1000000","v":6.6305874096136498E-10},6.6305874093142993E-10]
[0.1,{"$f":"'Daily Calcs'!J3308/1000000","v":0},{"$f":"'Daily Calcs'!K3308/1000000","v":0},0]
[0.1,{"$f":"'Daily Calcs'!J3309/1000000","v":0},{"$f":"'Daily Calcs'!K3309/1000000","v":0},0]
[0.1,{"$f":"'Daily Calcs'!J3310/1000000","v":0},{"$f":"'Daily Calcs'!K3310/1000000","v":0},0]
[0.1,{"$f":"'Daily Calcs'!J3311/1000000","v":0},{"$f":"'Daily Calcs'!K3311/1000000","v":0},0]
[0.1,{"$f":"'Daily Calcs'!J3312/1000000","v":0},{"$f":"'Daily Calcs'!K3312/1000000","v":0},0]
[0.1,{"$f":"'Daily Calcs'!J3313/1000000","v":0},{"$f":"'Daily Calcs'!K3313/1000000","v":0},0]
[0.1,{"$f":"'Daily Calcs'!J3314/1000000","v":3.5204811443433033E-10},{"$f":"'Daily Calcs'!K3314/1000000","v":3.5204811444767555E-10},3.5204811443433033E-10]
[0.1,{"$f":"'Daily Calcs'!J3315/1000000","v":0},{"$f":"'Daily Calcs'!K3315/1000000","v":0},0]
[0.1,{"$f":"'Daily Calcs'!J3316/1000000","v":0},{"$f":"'Daily Calcs'!K3316/1000000","v":0},0]
[0.1,{"$f":"'Daily Calcs'!J3317/1000000","v":1.8323376435162075E-10},{"$f":"'Daily Calcs'!K3317/1000000","v":1.8323376435633519E-10},1.8323376435162075E-10]
[0.1,{"$f":"'Daily Calcs'!J3318/1000000","v":0},{"$f":"'Daily Calcs'!K3318/1000000","v":0},0]
[0.1,{"$f":"'Daily Calcs'!J3319/1000000","v":0},{"$f":"'Daily Calcs'!K3319/1000000","v":0},0]
[0.1,{"$f":"'Daily Calcs'!J3320/1000000","v":1.1383202763035972E-10},{"$f":"'Daily Calcs'!K3320/1000000","v":1.1383202763187931E-10},1.1383202763035972E-10]
[0.1,{"$f":"'Daily Calcs'!J3321/1000000","v":7.5387569208787285E-11},{"$f":"'Daily Calcs'!K3321/1000000","v":7.5387569209589715E-11},7.5387569208787285E-11]
[0.1,{"$f":"'Daily Calcs'!J3322/1000000","v":5.9514301133297355E-11},{"$f":"'Daily Calcs'!K3322/1000000","v":5.9514301133653651E-11},5.9514301133297355E-11]
[0.1,{"$f":"'Daily Calcs'!J3323/1000000","v":0},{"$f":"'Daily Calcs'!K3323/1000000","v":0},0]
[0.1,{"$f":"'Daily Calcs'!J3324/1000000","v":0},{"$f":"'Daily Calcs'!K3324/1000000","v":0},0]
[0.1,{"$f":"'Daily Calcs'!J3325/1000000","v":0},{"$f":"'Daily Calcs'!K3325/1000000","v":0},0]
[0.1,{"$f":"'Daily Calcs'!J3326/1000000","v":0},{"$f":"'Daily Calcs'!K3326/1000000","v":0},0]
[0.1,{"$f":"'Daily Calcs'!J3327/1000000","v":0},{"$f":"'Daily Calcs'!K3327/1000000","v":0},0]
[0.1,{"$f":"'Daily Calcs'!J3328/1000000","v":0},{"$f":"'Daily Calcs'!K3328/1000000","v":0},0]
[0.1,{"$f":"'Daily Calcs'!J3329/1000000","v":0},{"$f":"'Daily Calcs'!K3329/1000000","v":0},0]
[0.1,{"$f":"'Daily Calcs'!J3330/1000000","v":0},{"$f":"'Daily Calcs'!K3330/1000000","v":0},0]
[0.1,{"$f":"'Daily Calcs'!J3331/1000000","v":0},{"$f":"'Daily Calcs'!K3331/1000000","v":0},{"$f":"B3335","v":0}]
[0.1,{"$f":"'Daily Calcs'!J3332/1000000","v":0},{"$f":"'Daily Calcs'!K3332/1000000","v":0},0]
[0.1,{"$f":"'Daily Calcs'!J3333/1000000","v":0},{"$f":"'Daily Calcs'!K3333/1000000","v":0},0]
[0.1,{"$f":"'Daily Calcs'!J3334/1000000","v":0},{"$f":"'Daily Calcs'!K3334/1000000","v":0},0]
[0.1,{"$f":"'Daily Calcs'!J3335/1000000","v":1.6964783532496492E-11},{"$f":"'Daily Calcs'!K3335/1000000","v":1.6964783532553154E-11},1.6964783532496492E-11]
[0.1,{"$f":"'Daily Calcs'!J3336/1000000","v":0},{"$f":"'Daily Calcs'!K3336/1000000","v":0},0]
[0.1,{"$f":"'Daily Calcs'!J3337/1000000","v":0},{"$f":"'Daily Calcs'!K3337/1000000","v":0},0]
[0.1,{"$f":"'Daily Calcs'!J3338/1000000","v":0},{"$f":"'Daily Calcs'!K3338/1000000","v":0},0]
[0.1,{"$f":"'Daily Calcs'!J3339/1000000","v":0},{"$f":"'Daily Calcs'!K3339/1000000","v":0},0]
[0.1,{"$f":"'Daily Calcs'!J3340/1000000","v":0},{"$f":"'Daily Calcs'!K3340/1000000","v":0},0]
[0.1,{"$f":"'Daily Calcs'!J3341/1000000","v":0},{"$f":"'Daily Calcs'!K3341/1000000","v":0},0]
[0.1,{"$f":"'Daily Calcs'!J3342/1000000","v":0},{"$f":"'Daily Calcs'!K3342/1000000","v":0},0]
[0.1,{"$f":"'Daily Calcs'!J3343/1000000","v":0},{"$f":"'Daily Calcs'!K3343/1000000","v":0},0]
[0.1,{"$f":"'Daily Calcs'!J3344/1000000","v":7.4131782287509542E-12},{"$f":"'Daily Calcs'!K3344/1000000","v":7.4131782287620743E-12},7.4131782287509542E-12]
[0.1,{"$f":"'Daily Calcs'!J3345/1000000","v":0},{"$f":"'Daily Calcs'!K3345/1000000","v":0},0]
[0.1,{"$f":"'Daily Calcs'!J3346/1000000","v":0},{"$f":"'Daily Calcs'!K3346/1000000","v":0},0]
[0.1,{"$f":"'Daily Calcs'!J3347/1000000","v":0},{"$f":"'Daily Calcs'!K3347/1000000","v":0},0]
[0.1,{"$f":"'Daily Calcs'!J3348/1000000","v":0},{"$f":"'Daily Calcs'!K3348/1000000","v":0},0]
[0.1,{"$f":"'Daily Calcs'!J3349/1000000","v":0},{"$f":"'Daily Calcs'!K3349/1000000","v":0},0]
[0.1,{"$f":"'Daily Calcs'!J3350/1000000","v":0},{"$f":"'Daily Calcs'!K3350/1000000","v":0},0]
[0.1,{"$f":"'Daily Calcs'!J3351/1000000","v":0},{"$f":"'Daily Calcs'!K3351/1000000","v":0},0]
[0.1,{"$f":"'Daily Calcs'!J3352/1000000","v":0},{"$f":"'Daily Calcs'!K3352/1000000","v":0},0]
[0.1,{"$f":"'Daily Calcs'!J3353/1000000","v":0},{"$f":"'Daily Calcs'!K3353/1000000","v":0},0]
[0.1,{"$f":"'Daily Calcs'!J3354/1000000","v":0},{"$f":"'Daily Calcs'!K3354/1000000","v":0},0]
[0.1,{"$f":"'Daily Calcs'!J3355/1000000","v":0},{"$f":"'Daily Calcs'!K3355/1000000","v":0},0]
[0.1,{"$f":"'Daily Calcs'!J3356/1000000","v":0},{"$f":"'Daily Calcs'!K3356/1000000","v":0},0]
[0.1,{"$f":"'Daily Calcs'!J3357/1000000","v":0},{"$f":"'Daily Calcs'!K3357/1000000","v":0},0]
[0.1,{"$f":"'Daily Calcs'!J3358/1000000","v":0},{"$f":"'Daily Calcs'!K3358/1000000","v":0},0]
[0.1,{"$f":"'Daily Calcs'!J3359/1000000","v":0},{"$f":"'Daily Calcs'!K3359/1000000","v":0},0]
[0.1,{"$f":"'Daily Calcs'!J3360/1000000","v":0},{"$f":"'Daily Calcs'!K3360/1000000","v":0},0]
[0.1,{"$f":"'Daily Calcs'!J3361/1000000","v":0},{"$f":"'Daily Calcs'!K3361/1000000","v":0},0]
[0.1,{"$f":"'Daily Calcs'!J3362/1000000","v":0},{"$f":"'Daily Calcs'!K3362/1000000","v":0},0]
[0.1,{"$f":"'Daily Calcs'!J3363/1000000","v":0},{"$f":"'Daily Calcs'!K3363/1000000","v":0},0]
[0.1,{"$f":"'Daily Calcs'!J3364/1000000","v":0},{"$f":"'Daily Calcs'!K3364/1000000","v":0},0]
[0.1,{"$f":"'Daily Calcs'!J3365/1000000","v":0},{"$f":"'Daily Calcs'!K3365/1000000","v":0},0]
[0.1,{"$f":"'Daily Calcs'!J3366/1000000","v":1.4863182319816633E-12},{"$f":"'Daily Calcs'!K3366/1000000","v":1.4863182319828665E-12},1.4863182319816633E-12]
[0.1,{"$f":"'Daily Calcs'!J3367/1000000","v":8.4274413529732685E-13},{"$f":"'Daily Calcs'!K3367/1000000","v":8.4274413529779325E-13},8.4274413529732685E-13]
[0.1,{"$f":"'Daily Calcs'!J3368/1000000","v":4.2129555434469053E-13},{"$f":"'Daily Calcs'!K3368/1000000","v":4.2129555434486875E-13},4.2129555434469053E-13]
[0.1,{"$f":"'Daily Calcs'!J3369/1000000","v":0},{"$f":"'Daily Calcs'!K3369/1000000","v":0},0]
[0.1,{"$f":"'Daily Calcs'!J3370/1000000","v":0},{"$f":"'Daily Calcs'!K3370/1000000","v":0},0]
[0.1,{"$f":"'Daily Calcs'!J3371/1000000","v":0},{"$f":"'Daily Calcs'!K3371/1000000","v":0},0]
[0.1,{"$f":"'Daily Calcs'!J3372/1000000","v":0},{"$f":"'Daily Calcs'!K3372/1000000","v":0},0]
[0.1,{"$f":"'Daily Calcs'!J3373/1000000","v":0},{"$f":"'Daily Calcs'!K3373/1000000","v":0},0]
[0.1,{"$f":"'Daily Calcs'!J3374/1000000","v":0},{"$f":"'Daily Calcs'!K3374/1000000","v":0},0]
[0.1,{"$f":"'Daily Calcs'!J3375/1000000","v":0},{"$f":"'Daily Calcs'!K3375/1000000","v":0},0]
[0.1,{"$f":"'Daily Calcs'!J3376/1000000","v":0},{"$f":"'Daily Calcs'!K3376/1000000","v":0},0]
[0.1,{"$f":"'Daily Calcs'!J3377/1000000","v":1.8206240487062408E-13},{"$f":"'Daily Calcs'!K3377/1000000","v":1.8206240487064468E-13},1.8206240487062408E-13]
[0.1,{"$f":"'Daily Calcs'!J3378/1000000","v":0},{"$f":"'Daily Calcs'!K3378/1000000","v":0},0]
[0.1,{"$f":"'Daily Calcs'!J3379/1000000","v":0},{"$f":"'Daily Calcs'!K3379/1000000","v":0},0]
[0.1,{"$f":"'Daily Calcs'!J3380/1000000","v":9.4655292089294927E-14},{"$f":"'Daily Calcs'!K3380/1000000","v":9.465529208930664E-14},9.4655292089294927E-14]
[0.1,{"$f":"'Daily Calcs'!J3381/1000000","v":0},{"$f":"'Daily Calcs'!K3381/1000000","v":0},0]
[0.1,{"$f":"'Daily Calcs'!J3382/1000000","v":0},{"$f":"'Daily Calcs'!K3382/1000000","v":0},0]
[0.1,{"$f":"'Daily Calcs'!J3383/1000000","v":0},{"$f":"'Daily Calcs'!K3383/1000000","v":0},0]
[0.1,{"$f":"'Daily Calcs'!J3384/1000000","v":0},{"$f":"'Daily Calcs'!K3384/1000000","v":0},0]
[0.1,{"$f":"'Daily Calcs'!J3385/1000000","v":0},{"$f":"'Daily Calcs'!K3385/1000000","v":0},0]
[0.1,{"$f":"'Daily Calcs'!J3386/1000000","v":0},{"$f":"'Daily Calcs'!K3386/1000000","v":0},0]
[0.1,{"$f":"'Daily Calcs'!J3387/1000000","v":0},{"$f":"'Daily Calcs'!K3387/1000000","v":0},0]
[0.1,{"$f":"'Daily Calcs'!J3388/1000000","v":0},{"$f":"'Daily Calcs'!K3388/1000000","v":0},0]
[0.1,{"$f":"'Daily Calcs'!J3389/1000000","v":0},{"$f":"'Daily Calcs'!K3389/1000000","v":0},0]
[0.1,{"$f":"'Daily Calcs'!J3390/1000000","v":0},{"$f":"'Daily Calcs'!K3390/1000000","v":0},0]
[0.1,{"$f":"'Daily Calcs'!J3391/1000000","v":0},{"$f":"'Daily Calcs'!K3391/1000000","v":0},0]
[0.1,{"$f":"'Daily Calcs'!J3392/1000000","v":0},{"$f":"'Daily Calcs'!K3392/1000000","v":0},0]
[0.1,{"$f":"'Daily Calcs'!J3393/1000000","v":0},{"$f":"'Daily Calcs'!K3393/1000000","v":0},0]
[0.1,{"$f":"'Daily Calcs'!J3394/1000000","v":0},{"$f":"'Daily Calcs'!K3394/1000000","v":0},0]
[0.1,{"$f":"'Daily Calcs'!J3395/1000000","v":0},{"$f":"'Daily Calcs'!K3395/1000000","v":0},{"$f":"B3399","v":0}]
[0.1,{"$f":"'Daily Calcs'!J3396/1000000","v":0},{"$f":"'Daily Calcs'!K3396/1000000","v":0},0]
[0.1,{"$f":"'Daily Calcs'!J3397/1000000","v":3.2670135326591427E-14},{"$f":"'Daily Calcs'!K3397/1000000","v":3.2670135326592431E-14},3.2670135326591427E-14]
[0.1,{"$f":"'Daily Calcs'!J3398/1000000","v":0},{"$f":"'Daily Calcs'!K3398/1000000","v":0},0]
[0.1,{"$f":"'Daily Calcs'!J3399/1000000","v":0},{"$f":"'Daily Calcs'!K3399/1000000","v":0},0]
[0.1,{"$f":"'Daily Calcs'!J3400/1000000","v":0},{"$f":"'Daily Calcs'!K3400/1000000","v":0},0]
[0.1,{"$f":"'Daily Calcs'!J3401/1000000","v":0},{"$f":"'Daily Calcs'!K3401/1000000","v":0},0]
[0.1,{"$f":"'Daily Calcs'!J3402/1000000","v":0},{"$f":"'Daily Calcs'!K3402/1000000","v":0},0]
[0.1,{"$f":"'Daily Calcs'!J3403/1000000","v":9.1975150505956205E-15},{"$f":"'Daily Calcs'!K3403/1000000","v":9.197515050595854E-15},9.1975150505956205E-15]
[0.1,{"$f":"'Daily Calcs'!J3404/1000000","v":5.3611971104231167E-15},{"$f":"'Daily Calcs'!K3404/1000000","v":5.3611971104232122E-15},5.3611971104231167E-15]
[0.1,{"$f":"'Daily Calcs'!J3405/1000000","v":0},{"$f":"'Daily Calcs'!K3405/1000000","v":0},0]
[0.1,{"$f":"'Daily Calcs'!J3406/1000000","v":0},{"$f":"'Daily Calcs'!K3406/1000000","v":0},0]
[0.1,{"$f":"'Daily Calcs'!J3407/1000000","v":0},{"$f":"'Daily Calcs'!K3407/1000000","v":0},0]
[0.1,{"$f":"'Daily Calcs'!J3408/1000000","v":0},{"$f":"'Daily Calcs'!K3408/1000000","v":0},0]
[0.1,{"$f":"'Daily Calcs'!J3409/1000000","v":0},{"$f":"'Daily Calcs'!K3409/1000000","v":0},0]
[0.1,{"$f":"'Daily Calcs'!J3410/1000000","v":0},{"$f":"'Daily Calcs'!K3410/1000000","v":0},0]
[0.1,{"$f":"'Daily Calcs'!J3411/1000000","v":1.5650684931506849E-15},{"$f":"'Daily Calcs'!K3411/1000000","v":1.5650684931507017E-15},1.5650684931506849E-15]
[0.1,{"$f":"'Daily Calcs'!J3412/1000000","v":0},{"$f":"'Daily Calcs'!K3412/1000000","v":0},0]
[0.1,{"$f":"'Daily Calcs'!J3413/1000000","v":0},{"$f":"'Daily Calcs'!K3413/1000000","v":0},0]
[0.1,{"$f":"'Daily Calcs'!J3414/1000000","v":0},{"$f":"'Daily Calcs'!K3414/1000000","v":0},0]
[0.1,{"$f":"'Daily Calcs'!J3415/1000000","v":0},{"$f":"'Daily Calcs'!K3415/1000000","v":0},0]
[0.1,{"$f":"'Daily Calcs'!J3416/1000000","v":0},{"$f":"'Daily Calcs'!K3416/1000000","v":0},0]
[0.1,{"$f":"'Daily Calcs'!J3417/1000000","v":0},{"$f":"'Daily Calcs'!K3417/1000000","v":0},0]
[0.1,{"$f":"'Daily Calcs'!J3418/1000000","v":0},{"$f":"'Daily Calcs'!K3418/1000000","v":0},0]
[0.1,{"$f":"'Daily Calcs'!J3419/1000000","v":0},{"$f":"'Daily Calcs'!K3419/1000000","v":0},0]
[0.1,{"$f":"'Daily Calcs'!J3420/1000000","v":0},{"$f":"'Daily Calcs'!K3420/1000000","v":0},0]
[0.1,{"$f":"'Daily Calcs'!J3421/1000000","v":0},{"$f":"'Daily Calcs'!K3421/1000000","v":0},0]
[0.1,{"$f":"'Daily Calcs'!J3422/1000000","v":0},{"$f":"'Daily Calcs'!K3422/1000000","v":0},0]
[0.1,{"$f":"'Daily Calcs'!J3423/1000000","v":0},{"$f":"'Daily Calcs'!K3423/1000000","v":0},0]
[0.1,{"$f":"'Daily Calcs'!J3424/1000000","v":0},{"$f":"'Daily Calcs'!K3424/1000000","v":0},0]
[0.1,{"$f":"'Daily Calcs'!J3425/1000000","v":0},{"$f":"'Daily Calcs'!K3425/1000000","v":0},0]
[0.1,{"$f":"'Daily Calcs'!J3426/1000000","v":0},{"$f":"'Daily Calcs'!K3426/1000000","v":0},0]
[0.1,{"$f":"'Daily Calcs'!J3427/1000000","v":0},{"$f":"'Daily Calcs'!K3427/1000000","v":0},0]
[0.1,{"$f":"'Daily Calcs'!J3428/1000000","v":0},{"$f":"'Daily Calcs'!K3428/1000000","v":0},0]
[0.1,{"$f":"'Daily Calcs'!J3429/1000000","v":0},{"$f":"'Daily Calcs'!K3429/1000000","v":0},0]
[0.1,{"$f":"'Daily Calcs'!J3430/1000000","v":0},{"$f":"'Daily Calcs'!K3430/1000000","v":0},0]
[0.1,{"$f":"'Daily Calcs'!J3431/1000000","v":0},{"$f":"'Daily Calcs'!K3431/1000000","v":0},0]
[0.1,{"$f":"'Daily Calcs'!J3432/1000000","v":0},{"$f":"'Daily Calcs'!K3432/1000000","v":0},0]
[0.1,{"$f":"'Daily Calcs'!J3433/1000000","v":0},{"$f":"'Daily Calcs'!K3433/1000000","v":0},0]
[0.1,{"$f":"'Daily Calcs'!J3434/1000000","v":0},{"$f":"'Daily Calcs'!K3434/1000000","v":0},0]
[0.1,{"$f":"'Daily Calcs'!J3435/1000000","v":0},{"$f":"'Daily Calcs'!K3435/1000000","v":0},0]
[0.1,{"$f":"'Daily Calcs'!J3436/1000000","v":0},{"$f":"'Daily Calcs'!K3436/1000000","v":0},0]
[0.1,{"$f":"'Daily Calcs'!J3437/1000000","v":2.8111152634669795E-16},{"$f":"'Daily Calcs'!K3437/1000000","v":2.8111152634669854E-16},2.8111152634669795E-16]
[0.1,{"$f":"'Daily Calcs'!J3438/1000000","v":1.802266797129811E-16},{"$f":"'Daily Calcs'!K3438/1000000","v":1.8022667971298152E-16},1.802266797129811E-16]
[0.1,{"$f":"'Daily Calcs'!J3439/1000000","v":0},{"$f":"'Daily Calcs'!K3439/1000000","v":0},0]
[0.1,{"$f":"'Daily Calcs'!J3440/1000000","v":0},{"$f":"'Daily Calcs'!K3440/1000000","v":0},0]
[0.1,{"$f":"'Daily Calcs'!J3441/1000000","v":8.905659538523095E-17},{"$f":"'Daily Calcs'!K3441/1000000","v":8.9056595385231048E-17},8.905659538523095E-17]
[0.1,{"$f":"'Daily Calcs'!J3442/1000000","v":5.0923498570066734E-17},{"$f":"'Daily Calcs'!K3442/1000000","v":5.0923498570066789E-17},5.0923498570066734E-17]
[0.1,{"$f":"'Daily Calcs'!J3443/1000000","v":2.7579252641754732E-17},{"$f":"'Daily Calcs'!K3443/1000000","v":2.7579252641754747E-17},2.7579252641754732E-17]
[0.1,{"$f":"'Daily Calcs'!J3444/1000000","v":0},{"$f":"'Daily Calcs'!K3444/1000000","v":0},0]
[0.1,{"$f":"'Daily Calcs'!J3445/1000000","v":0},{"$f":"'Daily Calcs'!K3445/1000000","v":0},0]
[0.1,{"$f":"'Daily Calcs'!J3446/1000000","v":0},{"$f":"'Daily Calcs'!K3446/1000000","v":0},0]
[0.1,{"$f":"'Daily Calcs'!J3447/1000000","v":0},{"$f":"'Daily Calcs'!K3447/1000000","v":0},0]
[0.1,{"$f":"'Daily Calcs'!J3448/1000000","v":0},{"$f":"'Daily Calcs'!K3448/1000000","v":0},0]
[0.1,{"$f":"'Daily Calcs'!J3449/1000000","v":0},{"$f":"'Daily Calcs'!K3449/1000000","v":0},0]
[0.1,{"$f":"'Daily Calcs'!J3450/1000000","v":0},{"$f":"'Daily Calcs'!K3450/1000000","v":0},0]
[0.1,{"$f":"'Daily Calcs'!J3451/1000000","v":0},{"$f":"'Daily Calcs'!K3451/1000000","v":0},0]
[0.1,{"$f":"'Daily Calcs'!J3452/1000000","v":0},{"$f":"'Daily Calcs'!K3452/1000000","v":0},0]
[0.1,{"$f":"'Daily Calcs'!J3453/1000000","v":0},{"$f":"'Daily Calcs'!K3453/1000000","v":0},0]
[0.1,{"$f":"'Daily Calcs'!J3454/1000000","v":0},{"$f":"'Daily Calcs'!K3454/1000000","v":0},0]
[0.1,{"$f":"'Daily Calcs'!J3455/1000000","v":0},{"$f":"'Daily Calcs'!K3455/1000000","v":0},0]
[0.1,{"$f":"'Daily Calcs'!J3456/1000000","v":0},{"$f":"'Daily Calcs'!K3456/1000000","v":0},0]
[0.1,{"$f":"'Daily Calcs'!J3457/1000000","v":0},{"$f":"'Daily Calcs'!K3457/1000000","v":0},0]
[0.1,{"$f":"'Daily Calcs'!J3458/1000000","v":0},{"$f":"'Daily Calcs'!K3458/1000000","v":0},0]
[0.1,{"$f":"'Daily Calcs'!J3459/1000000","v":0},{"$f":"'Daily Calcs'!K3459/1000000","v":0},{"$f":"B3463","v":0}]
[0.1,{"$f":"'Daily Calcs'!J3460/1000000","v":8.7073941925564944E-18},{"$f":"'Daily Calcs'!K3460/1000000","v":8.707394192556496E-18},8.7073941925564944E-18]
[0.1,{"$f":"'Daily Calcs'!J3461/1000000","v":0},{"$f":"'Daily Calcs'!K3461/1000000","v":0},0]
[0.1,{"$f":"'Daily Calcs'!J3462/1000000","v":0},{"$f":"'Daily Calcs'!K3462/1000000","v":0},0]
[0.1,{"$f":"'Daily Calcs'!J3463/1000000","v":0},{"$f":"'Daily Calcs'!K3463/1000000","v":0},0]
[0.1,{"$f":"'Daily Calcs'!J3464/1000000","v":5.4361022042067492E-18},{"$f":"'Daily Calcs'!K3464/1000000","v":5.4361022042067492E-18},5.4361022042067492E-18]
[0.1,{"$f":"'Daily Calcs'!J3465/1000000","v":0},{"$f":"'Daily Calcs'!K3465/1000000","v":0},0]
[0.1,{"$f":"'Daily Calcs'!J3466/1000000","v":0},{"$f":"'Daily Calcs'!K3466/1000000","v":0},0]
[0.1,{"$f":"'Daily Calcs'!J3467/1000000","v":0},{"$f":"'Daily Calcs'!K3467/1000000","v":0},0]
[0.1,{"$f":"'Daily Calcs'!J3468/1000000","v":0},{"$f":"'Daily Calcs'!K3468/1000000","v":0},0]
[0.1,{"$f":"'Daily Calcs'!J3469/1000000","v":0},{"$f":"'Daily Calcs'!K3469/1000000","v":0},0]
[0.1,{"$f":"'Daily Calcs'!J3470/1000000","v":0},{"$f":"'Daily Calcs'!K3470/1000000","v":0},0]
[0.1,{"$f":"'Daily Calcs'!J3471/1000000","v":0},{"$f":"'Daily Calcs'!K3471/1000000","v":0},0]
[0.1,{"$f":"'Daily Calcs'!J3472/1000000","v":0},{"$f":"'Daily Calcs'!K3472/1000000","v":0},0]
[0.1,{"$f":"'Daily Calcs'!J3473/1000000","v":0},{"$f":"'Daily Calcs'!K3473/1000000","v":0},0]
[0.1,{"$f":"'Daily Calcs'!J3474/1000000","v":0},{"$f":"'Daily Calcs'!K3474/1000000","v":0},0]
[0.1,{"$f":"'Daily Calcs'!J3475/1000000","v":0},{"$f":"'Daily Calcs'!K3475/1000000","v":0},0]
[0.1,{"$f":"'Daily Calcs'!J3476/1000000","v":0},{"$f":"'Daily Calcs'!K3476/1000000","v":0},0]
[0.1,{"$f":"'Daily Calcs'!J3477/1000000","v":0},{"$f":"'Daily Calcs'!K3477/1000000","v":0},0]
[0.1,{"$f":"'Daily Calcs'!J3478/1000000","v":0},{"$f":"'Daily Calcs'!K3478/1000000","v":0},0]
[0.1,{"$f":"'Daily Calcs'!J3479/1000000","v":0},{"$f":"'Daily Calcs'!K3479/1000000","v":0},0]
[0.1,{"$f":"'Daily Calcs'!J3480/1000000","v":0},{"$f":"'Daily Calcs'!K3480/1000000","v":0},0]
[0.1,{"$f":"'Daily Calcs'!J3481/1000000","v":0},{"$f":"'Daily Calcs'!K3481/1000000","v":0},0]
[0.1,{"$f":"'Daily Calcs'!J3482/1000000","v":0},{"$f":"'Daily Calcs'!K3482/1000000","v":0},0]
[0.1,{"$f":"'Daily Calcs'!J3483/1000000","v":1.218684733329937E-18},{"$f":"'Daily Calcs'!K3483/1000000","v":1.218684733329937E-18},1.218684733329937E-18]
[0.1,{"$f":"'Daily Calcs'!J3484/1000000","v":0},{"$f":"'Daily Calcs'!K3484/1000000","v":0},0]
[0.1,{"$f":"'Daily Calcs'!J3485/1000000","v":0},{"$f":"'Daily Calcs'!K3485/1000000","v":0},0]
[0.1,{"$f":"'Daily Calcs'!J3486/1000000","v":0},{"$f":"'Daily Calcs'!K3486/1000000","v":0},0]
[0.1,{"$f":"'Daily Calcs'!J3487/1000000","v":0},{"$f":"'Daily Calcs'!K3487/1000000","v":0},0]
[0.1,{"$f":"'Daily Calcs'!J3488/1000000","v":0},{"$f":"'Daily Calcs'!K3488/1000000","v":0},0]
[0.1,{"$f":"'Daily Calcs'!J3489/1000000","v":0},{"$f":"'Daily Calcs'!K3489/1000000","v":0},0]
[0.1,{"$f":"'Daily Calcs'!J3490/1000000","v":1.4573514344262295E-5},{"$f":"'Daily Calcs'!K3490/1000000","v":1.4654228995901638E-5},1.4573514344262295E-5]
[0.1,{"$f":"'Daily Calcs'!J3491/1000000","v":1.1231327739094208E-5},{"$f":"'Daily Calcs'!K3491/1000000","v":1.1284628340177349E-5},1.1231327739094208E-5]
[0.1,{"$f":"'Daily Calcs'!J3492/1000000","v":1.0400836820083682E-5},{"$f":"'Daily Calcs'!K3492/1000000","v":1.0418853556485355E-5},1.0400836820083682E-5]
[0.1,{"$f":"'Daily Calcs'!J3493/1000000","v":0},{"$f":"'Daily Calcs'!K3493/1000000","v":0},0]
[0.1,{"$f":"'Daily Calcs'!J3494/1000000","v":0},{"$f":"'Daily Calcs'!K3494/1000000","v":0},0]
[0.1,{"$f":"'Daily Calcs'!J3495/1000000","v":0},{"$f":"'Daily Calcs'!K3495/1000000","v":0},0]
[0.1,{"$f":"'Daily Calcs'!J3496/1000000","v":0},{"$f":"'Daily Calcs'!K3496/1000000","v":0},0]
[0.1,{"$f":"'Daily Calcs'!J3497/1000000","v":2.4095394736842102E-5},{"$f":"'Daily Calcs'!K3497/1000000","v":2.4237580128205127E-5},2.4095394736842102E-5]
[0.1,{"$f":"'Daily Calcs'!J3498/1000000","v":0},{"$f":"'Daily Calcs'!K3498/1000000","v":0},0]
[0.1,{"$f":"'Daily Calcs'!J3499/1000000","v":0},{"$f":"'Daily Calcs'!K3499/1000000","v":0},0]
[0.1,{"$f":"'Daily Calcs'!J3500/1000000","v":0},{"$f":"'Daily Calcs'!K3500/1000000","v":0},0]
[0.1,{"$f":"'Daily Calcs'!J3501/1000000","v":0},{"$f":"'Daily Calcs'!K3501/1000000","v":0},0]
[0.1,{"$f":"'Daily Calcs'!J3502/1000000","v":0},{"$f":"'Daily Calcs'!K3502/1000000","v":0},0]
[0.1,{"$f":"'Daily Calcs'!J3503/1000000","v":0},{"$f":"'Daily Calcs'!K3503/1000000","v":0},0]
[0.1,{"$f":"'Daily Calcs'!J3504/1000000","v":0},{"$f":"'Daily Calcs'!K3504/1000000","v":0},0]
[0.1,{"$f":"'Daily Calcs'!J3505/1000000","v":0},{"$f":"'Daily Calcs'!K3505/1000000","v":0},0]
[0.1,{"$f":"'Daily Calcs'!J3506/1000000","v":0},{"$f":"'Daily Calcs'!K3506/1000000","v":0},0]
[0.1,{"$f":"'Daily Calcs'!J3507/1000000","v":0},{"$f":"'Daily Calcs'!K3507/1000000","v":0},0]
[0.1,{"$f":"'Daily Calcs'!J3508/1000000","v":0},{"$f":"'Daily Calcs'!K3508/1000000","v":0},0]
[0.1,{"$f":"'Daily Calcs'!J3509/1000000","v":0},{"$f":"'Daily Calcs'!K3509/1000000","v":0},0]
[0.1,{"$f":"'Daily Calcs'!J3510/1000000","v":1.87548828125E-5},{"$f":"'Daily Calcs'!K3510/1000000","v":1.8801691623263894E-5},1.87548828125E-5]
[0.1,{"$f":"'Daily Calcs'!J3511/1000000","v":0},{"$f":"'Daily Calcs'!K3511/1000000","v":0},0]
[0.1,{"$f":"'Daily Calcs'!J3512/1000000","v":0},{"$f":"'Daily Calcs'!K3512/1000000","v":0},0]
[0.1,{"$f":"'Daily Calcs'!J3513/1000000","v":0},{"$f":"'Daily Calcs'!K3513/1000000","v":0},0]
[0.1,{"$f":"'Daily Calcs'!J3514/1000000","v":0},{"$f":"'Daily Calcs'!K3514/1000000","v":0},0]
[0.1,{"$f":"'Daily Calcs'!J3515/1000000","v":0},{"$f":"'Daily Calcs'!K3515/1000000","v":0},0]
[0.1,{"$f":"'Daily Calcs'!J3516/1000000","v":0},{"$f":"'Daily Calcs'!K3516/1000000","v":0},0]
[0.1,{"$f":"'Daily Calcs'!J3517/1000000","v":0},{"$f":"'Daily Calcs'!K3517/1000000","v":0},0]
[0.1,{"$f":"'Daily Calcs'!J3518/1000000","v":0},{"$f":"'Daily Calcs'!K3518/1000000","v":0},0]
[0.1,{"$f":"'Daily Calcs'!J3519/1000000","v":0},{"$f":"'Daily Calcs'!K3519/1000000","v":0},0]
[0.1,{"$f":"'Daily Calcs'!J3520/1000000","v":0},{"$f":"'Daily Calcs'!K3520/1000000","v":0},0]
[0.1,{"$f":"'Daily Calcs'!J3521/1000000","v":1.4870242732993705E-5},{"$f":"'Daily Calcs'!K3521/1000000","v":1.4890584357207073E-5},1.4870242732993705E-5]
[0.1,{"$f":"'Daily Calcs'!J3522/1000000","v":0},{"$f":"'Daily Calcs'!K3522/1000000","v":0},0]
[0.1,{"$f":"'Daily Calcs'!J3523/1000000","v":9.9238709327842652E-6},{"$f":"'Daily Calcs'!K3523/1000000","v":9.9327281840101868E-6},{"$f":"B3527","v":9.9238709327842652E-6}]
[0.1,{"$f":"'Daily Calcs'!J3524/1000000","v":0},{"$f":"'Daily Calcs'!K3524/1000000","v":0},0]
[0.1,{"$f":"'Daily Calcs'!J3525/1000000","v":0},{"$f":"'Daily Calcs'!K3525/1000000","v":0},0]
[0.1,{"$f":"'Daily Calcs'!J3526/1000000","v":0},{"$f":"'Daily Calcs'!K3526/1000000","v":0},0]
[0.1,{"$f":"'Daily Calcs'!J3527/1000000","v":0},{"$f":"'Daily Calcs'!K3527/1000000","v":0},0]
[0.1,{"$f":"'Daily Calcs'!J3528/1000000","v":0},{"$f":"'Daily Calcs'!K3528/1000000","v":0},0]
[0.1,{"$f":"'Daily Calcs'!J3529/1000000","v":0},{"$f":"'Daily Calcs'!K3529/1000000","v":0},0]
[0.1,{"$f":"'Daily Calcs'!J3530/1000000","v":0},{"$f":"'Daily Calcs'!K3530/1000000","v":0},0]
[0.1,{"$f":"'Daily Calcs'!J3531/1000000","v":0},{"$f":"'Daily Calcs'!K3531/1000000","v":0},0]
[0.1,{"$f":"'Daily Calcs'!J3532/1000000","v":0},{"$f":"'Daily Calcs'!K3532/1000000","v":0},0]
[0.1,{"$f":"'Daily Calcs'!J3533/1000000","v":0},{"$f":"'Daily Calcs'!K3533/1000000","v":0},0]
[0.1,{"$f":"'Daily Calcs'!J3534/1000000","v":0},{"$f":"'Daily Calcs'!K3534/1000000","v":0},0]
[0.1,{"$f":"'Daily Calcs'!J3535/1000000","v":6.7840547811200781E-6},{"$f":"'Daily Calcs'!K3535/1000000","v":6.7849115163796019E-6},6.7840547811200781E-6]
[0.1,{"$f":"'Daily Calcs'!J3536/1000000","v":5.3049026192075206E-6},{"$f":"'Daily Calcs'!K3536/1000000","v":5.3055314400844288E-6},5.3049026192075206E-6]
[0.1,{"$f":"'Daily Calcs'!J3537/1000000","v":0},{"$f":"'Daily Calcs'!K3537/1000000","v":0},0]
[0.1,{"$f":"'Daily Calcs'!J3538/1000000","v":0},{"$f":"'Daily Calcs'!K3538/1000000","v":0},0]
[0.1,{"$f":"'Daily Calcs'!J3539/1000000","v":0},{"$f":"'Daily Calcs'!K3539/1000000","v":0},0]
[0.1,{"$f":"'Daily Calcs'!J3540/1000000","v":0},{"$f":"'Daily Calcs'!K3540/1000000","v":0},0]
[0.1,{"$f":"'Daily Calcs'!J3541/1000000","v":0},{"$f":"'Daily Calcs'!K3541/1000000","v":0},0]
[0.1,{"$f":"'Daily Calcs'!J3542/1000000","v":0},{"$f":"'Daily Calcs'!K3542/1000000","v":0},0]
[0.1,{"$f":"'Daily Calcs'!J3543/1000000","v":0},{"$f":"'Daily Calcs'!K3543/1000000","v":0},0]
[0.1,{"$f":"'Daily Calcs'!J3544/1000000","v":0},{"$f":"'Daily Calcs'!K3544/1000000","v":0},0]
[0.1,{"$f":"'Daily Calcs'!J3545/1000000","v":0},{"$f":"'Daily Calcs'!K3545/1000000","v":0},0]
[0.1,{"$f":"'Daily Calcs'!J3546/1000000","v":0},{"$f":"'Daily Calcs'!K3546/1000000","v":0},0]
[0.1,{"$f":"'Daily Calcs'!J3547/1000000","v":0},{"$f":"'Daily Calcs'!K3547/1000000","v":0},0]
[0.1,{"$f":"'Daily Calcs'!J3548/1000000","v":0},{"$f":"'Daily Calcs'!K3548/1000000","v":0},0]
[0.1,{"$f":"'Daily Calcs'!J3549/1000000","v":0},{"$f":"'Daily Calcs'!K3549/1000000","v":0},0]
[0.1,{"$f":"'Daily Calcs'!J3550/1000000","v":0},{"$f":"'Daily Calcs'!K3550/1000000","v":0},0]
[0.1,{"$f":"'Daily Calcs'!J3551/1000000","v":0},{"$f":"'Daily Calcs'!K3551/1000000","v":0},0]
[0.1,{"$f":"'Daily Calcs'!J3552/1000000","v":0},{"$f":"'Daily Calcs'!K3552/1000000","v":0},0]
[0.1,{"$f":"'Daily Calcs'!J3553/1000000","v":0},{"$f":"'Daily Calcs'!K3553/1000000","v":0},0]
[0.1,{"$f":"'Daily Calcs'!J3554/1000000","v":0},{"$f":"'Daily Calcs'!K3554/1000000","v":0},0]
[0.1,{"$f":"'Daily Calcs'!J3555/1000000","v":0},{"$f":"'Daily Calcs'!K3555/1000000","v":0},0]
[0.1,{"$f":"'Daily Calcs'!J3556/1000000","v":0},{"$f":"'Daily Calcs'!K3556/1000000","v":0},0]
[0.1,{"$f":"'Daily Calcs'!J3557/1000000","v":0},{"$f":"'Daily Calcs'!K3557/1000000","v":0},0]
[0.1,{"$f":"'Daily Calcs'!J3558/1000000","v":0},{"$f":"'Daily Calcs'!K3558/1000000","v":0},0]
[0.1,{"$f":"'Daily Calcs'!J3559/1000000","v":0},{"$f":"'Daily Calcs'!K3559/1000000","v":0},0]
[0.1,{"$f":"'Daily Calcs'!J3560/1000000","v":0},{"$f":"'Daily Calcs'!K3560/1000000","v":0},0]
[0.1,{"$f":"'Daily Calcs'!J3561/1000000","v":0},{"$f":"'Daily Calcs'!K3561/1000000","v":0},0]
[0.1,{"$f":"'Daily Calcs'!J3562/1000000","v":0},{"$f":"'Daily Calcs'!K3562/1000000","v":0},0]
[0.1,{"$f":"'Daily Calcs'!J3563/1000000","v":0},{"$f":"'Daily Calcs'!K3563/1000000","v":0},0]
[0.1,{"$f":"'Daily Calcs'!J3564/1000000","v":0},{"$f":"'Daily Calcs'!K3564/1000000","v":0},0]
[0.1,{"$f":"'Daily Calcs'!J3565/1000000","v":0},{"$f":"'Daily Calcs'!K3565/1000000","v":0},0]
[0.1,{"$f":"'Daily Calcs'!J3566/1000000","v":0},{"$f":"'Daily Calcs'!K3566/1000000","v":0},0]
[0.1,{"$f":"'Daily Calcs'!J3567/1000000","v":0},{"$f":"'Daily Calcs'!K3567/1000000","v":0},0]
[0.1,{"$f":"'Daily Calcs'!J3568/1000000","v":0},{"$f":"'Daily Calcs'!K3568/1000000","v":0},0]
[0.1,{"$f":"'Daily Calcs'!J3569/1000000","v":0},{"$f":"'Daily Calcs'!K3569/1000000","v":0},0]
[0.1,{"$f":"'Daily Calcs'!J3570/1000000","v":0},{"$f":"'Daily Calcs'!K3570/1000000","v":0},0]
[0.1,{"$f":"'Daily Calcs'!J3571/1000000","v":3.1380254668667711E-6},{"$f":"'Daily Calcs'!K3571/1000000","v":3.1380612643695949E-6},3.1380254668667711E-6]
[0.1,{"$f":"'Daily Calcs'!J3572/1000000","v":2.8344769874476986E-6},{"$f":"'Daily Calcs'!K3572/1000000","v":2.834500879497908E-6},2.8344769874476986E-6]
[0.1,{"$f":"'Daily Calcs'!J3573/1000000","v":0},{"$f":"'Daily Calcs'!K3573/1000000","v":0},0]
[0.1,{"$f":"'Daily Calcs'!J3574/1000000","v":0},{"$f":"'Daily Calcs'!K3574/1000000","v":0},0]
[0.1,{"$f":"'Daily Calcs'!J3575/1000000","v":0},{"$f":"'Daily Calcs'!K3575/1000000","v":0},0]
[0.1,{"$f":"'Daily Calcs'!J3576/1000000","v":0},{"$f":"'Daily Calcs'!K3576/1000000","v":0},0]
[0.1,{"$f":"'Daily Calcs'!J3577/1000000","v":0},{"$f":"'Daily Calcs'!K3577/1000000","v":0},0]
[0.1,{"$f":"'Daily Calcs'!J3578/1000000","v":0},{"$f":"'Daily Calcs'!K3578/1000000","v":0},0]
[0.1,{"$f":"'Daily Calcs'!J3579/1000000","v":0},{"$f":"'Daily Calcs'!K3579/1000000","v":0},0]
[0.1,{"$f":"'Daily Calcs'!J3580/1000000","v":2.2836205189146365E-6},{"$f":"'Daily Calcs'!K3580/1000000","v":2.2836289636561695E-6},2.2836205189146365E-6]
[0.1,{"$f":"'Daily Calcs'!J3581/1000000","v":1.5056125791657565E-6},{"$f":"'Daily Calcs'!K3581/1000000","v":1.5056176850840796E-6},1.5056125791657565E-6]
[0.1,{"$f":"'Daily Calcs'!J3582/1000000","v":0},{"$f":"'Daily Calcs'!K3582/1000000","v":0},0]
[0.1,{"$f":"'Daily Calcs'!J3583/1000000","v":0},{"$f":"'Daily Calcs'!K3583/1000000","v":0},0]
[0.1,{"$f":"'Daily Calcs'!J3584/1000000","v":0},{"$f":"'Daily Calcs'!K3584/1000000","v":0},0]
[0.1,{"$f":"'Daily Calcs'!J3585/1000000","v":9.9881854878408953E-7},{"$f":"'Daily Calcs'!K3585/1000000","v":9.9881999901545739E-7},9.9881854878408953E-7]
[0.1,{"$f":"'Daily Calcs'!J3586/1000000","v":0},{"$f":"'Daily Calcs'!K3586/1000000","v":0},0]
[0.1,{"$f":"'Daily Calcs'!J3587/1000000","v":0},{"$f":"'Daily Calcs'!K3587/1000000","v":0},{"$f":"B3591","v":0}]
[0.1,{"$f":"'Daily Calcs'!J3588/1000000","v":0},{"$f":"'Daily Calcs'!K3588/1000000","v":0},0]
[0.1,{"$f":"'Daily Calcs'!J3589/1000000","v":0},{"$f":"'Daily Calcs'!K3589/1000000","v":0},0]
[0.1,{"$f":"'Daily Calcs'!J3590/1000000","v":5.5133468128995361E-7},{"$f":"'Daily Calcs'!K3590/1000000","v":5.5133496223679103E-7},5.5133468128995361E-7]
[0.1,{"$f":"'Daily Calcs'!J3591/1000000","v":0},{"$f":"'Daily Calcs'!K3591/1000000","v":0},0]
[0.1,{"$f":"'Daily Calcs'!J3592/1000000","v":0},{"$f":"'Daily Calcs'!K3592/1000000","v":0},0]
[0.1,{"$f":"'Daily Calcs'!J3593/1000000","v":0},{"$f":"'Daily Calcs'!K3593/1000000","v":0},0]
[0.1,{"$f":"'Daily Calcs'!J3594/1000000","v":0},{"$f":"'Daily Calcs'!K3594/1000000","v":0},0]
[0.1,{"$f":"'Daily Calcs'!J3595/1000000","v":0},{"$f":"'Daily Calcs'!K3595/1000000","v":0},0]
[0.1,{"$f":"'Daily Calcs'!J3596/1000000","v":0},{"$f":"'Daily Calcs'!K3596/1000000","v":0},0]
[0.1,{"$f":"'Daily Calcs'!J3597/1000000","v":0},{"$f":"'Daily Calcs'!K3597/1000000","v":0},0]
[0.1,{"$f":"'Daily Calcs'!J3598/1000000","v":0},{"$f":"'Daily Calcs'!K3598/1000000","v":0},0]
[0.1,{"$f":"'Daily Calcs'!J3599/1000000","v":0},{"$f":"'Daily Calcs'!K3599/1000000","v":0},0]
[0.1,{"$f":"'Daily Calcs'!J3600/1000000","v":0},{"$f":"'Daily Calcs'!K3600/1000000","v":0},0]
[0.1,{"$f":"'Daily Calcs'!J3601/1000000","v":3.2093609186491595E-7},{"$f":"'Daily Calcs'!K3601/1000000","v":3.2093612417122923E-7},3.2093609186491595E-7]
[0.1,{"$f":"'Daily Calcs'!J3602/1000000","v":2.5441409691629954E-7},{"$f":"'Daily Calcs'!K3602/1000000","v":2.5441411747577085E-7},2.5441409691629954E-7]
[0.1,{"$f":"'Daily Calcs'!J3603/1000000","v":0},{"$f":"'Daily Calcs'!K3603/1000000","v":0},0]
[0.1,{"$f":"'Daily Calcs'!J3604/1000000","v":0},{"$f":"'Daily Calcs'!K3604/1000000","v":0},0]
[0.1,{"$f":"'Daily Calcs'!J3605/1000000","v":0},{"$f":"'Daily Calcs'!K3605/1000000","v":0},0]
[0.1,{"$f":"'Daily Calcs'!J3606/1000000","v":0},{"$f":"'Daily Calcs'!K3606/1000000","v":0},0]
[0.1,{"$f":"'Daily Calcs'!J3607/1000000","v":0},{"$f":"'Daily Calcs'!K3607/1000000","v":0},0]
[0.1,{"$f":"'Daily Calcs'!J3608/1000000","v":0},{"$f":"'Daily Calcs'!K3608/1000000","v":0},0]
[0.1,{"$f":"'Daily Calcs'!J3609/1000000","v":0},{"$f":"'Daily Calcs'!K3609/1000000","v":0},0]
[0.1,{"$f":"'Daily Calcs'!J3610/1000000","v":1.7159390690154031E-7},{"$f":"'Daily Calcs'!K3610/1000000","v":1.7159391278240149E-7},1.7159390690154031E-7]
[0.1,{"$f":"'Daily Calcs'!J3611/1000000","v":0},{"$f":"'Daily Calcs'!K3611/1000000","v":0},0]
[0.1,{"$f":"'Daily Calcs'!J3612/1000000","v":1.2734092694422622E-7},{"$f":"'Daily Calcs'!K3612/1000000","v":1.2734093046472901E-7},1.2734092694422622E-7]
[0.1,{"$f":"'Daily Calcs'!J3613/1000000","v":0},{"$f":"'Daily Calcs'!K3613/1000000","v":0},0]
[0.1,{"$f":"'Daily Calcs'!J3614/1000000","v":0},{"$f":"'Daily Calcs'!K3614/1000000","v":0},0]
[0.1,{"$f":"'Daily Calcs'!J3615/1000000","v":0},{"$f":"'Daily Calcs'!K3615/1000000","v":0},0]
[0.1,{"$f":"'Daily Calcs'!J3616/1000000","v":0},{"$f":"'Daily Calcs'!K3616/1000000","v":0},0]
[0.1,{"$f":"'Daily Calcs'!J3617/1000000","v":0},{"$f":"'Daily Calcs'!K3617/1000000","v":0},0]
[0.1,{"$f":"'Daily Calcs'!J3618/1000000","v":0},{"$f":"'Daily Calcs'!K3618/1000000","v":0},0]
[0.1,{"$f":"'Daily Calcs'!J3619/1000000","v":0},{"$f":"'Daily Calcs'!K3619/1000000","v":0},0]
[0.1,{"$f":"'Daily Calcs'!J3620/1000000","v":0},{"$f":"'Daily Calcs'!K3620/1000000","v":0},0]
[0.1,{"$f":"'Daily Calcs'!J3621/1000000","v":0},{"$f":"'Daily Calcs'!K3621/1000000","v":0},0]
[0.1,{"$f":"'Daily Calcs'!J3622/1000000","v":0},{"$f":"'Daily Calcs'!K3622/1000000","v":0},0]
[0.1,{"$f":"'Daily Calcs'!J3623/1000000","v":0},{"$f":"'Daily Calcs'!K3623/1000000","v":0},0]
[0.1,{"$f":"'Daily Calcs'!J3624/1000000","v":0},{"$f":"'Daily Calcs'!K3624/1000000","v":0},0]
[0.1,{"$f":"'Daily Calcs'!J3625/1000000","v":0},{"$f":"'Daily Calcs'!K3625/1000000","v":0},0]
[0.1,{"$f":"'Daily Calcs'!J3626/1000000","v":0},{"$f":"'Daily Calcs'!K3626/1000000","v":0},0]
[0.1,{"$f":"'Daily Calcs'!J3627/1000000","v":0},{"$f":"'Daily Calcs'!K3627/1000000","v":0},0]
[0.1,{"$f":"'Daily Calcs'!J3628/1000000","v":0},{"$f":"'Daily Calcs'!K3628/1000000","v":0},0]
[0.1,{"$f":"'Daily Calcs'!J3629/1000000","v":0},{"$f":"'Daily Calcs'!K3629/1000000","v":0},0]
[0.1,{"$f":"'Daily Calcs'!J3630/1000000","v":0},{"$f":"'Daily Calcs'!K3630/1000000","v":0},0]
[0.1,{"$f":"'Daily Calcs'!J3631/1000000","v":0},{"$f":"'Daily Calcs'!K3631/1000000","v":0},0]
[0.1,{"$f":"'Daily Calcs'!J3632/1000000","v":0},{"$f":"'Daily Calcs'!K3632/1000000","v":0},0]
[0.1,{"$f":"'Daily Calcs'!J3633/1000000","v":0},{"$f":"'Daily Calcs'!K3633/1000000","v":0},0]
[0.1,{"$f":"'Daily Calcs'!J3634/1000000","v":8.9646157502551405E-8},{"$f":"'Daily Calcs'!K3634/1000000","v":8.9646158179046259E-8},8.9646157502551405E-8]
[0.1,{"$f":"'Daily Calcs'!J3635/1000000","v":0},{"$f":"'Daily Calcs'!K3635/1000000","v":0},0]
[0.1,{"$f":"'Daily Calcs'!J3636/1000000","v":0},{"$f":"'Daily Calcs'!K3636/1000000","v":0},0]
[0.1,{"$f":"'Daily Calcs'!J3637/1000000","v":6.9031662643759741E-8},{"$f":"'Daily Calcs'!K3637/1000000","v":6.9031663056992758E-8},6.9031662643759741E-8]
[0.1,{"$f":"'Daily Calcs'!J3638/1000000","v":4.2924401913875606E-8},{"$f":"'Daily Calcs'!K3638/1000000","v":4.2924402208373205E-8},4.2924401913875606E-8]
[0.1,{"$f":"'Daily Calcs'!J3639/1000000","v":0},{"$f":"'Daily Calcs'!K3639/1000000","v":0},0]
[0.1,{"$f":"'Daily Calcs'!J3640/1000000","v":0},{"$f":"'Daily Calcs'!K3640/1000000","v":0},0]
[0.1,{"$f":"'Daily Calcs'!J3641/1000000","v":0},{"$f":"'Daily Calcs'!K3641/1000000","v":0},0]
[0.1,{"$f":"'Daily Calcs'!J3642/1000000","v":3.0871038651767724E-8},{"$f":"'Daily Calcs'!K3642/1000000","v":3.0871038747810956E-8},3.0871038651767724E-8]
[0.1,{"$f":"'Daily Calcs'!J3643/1000000","v":0},{"$f":"'Daily Calcs'!K3643/1000000","v":0},0]
[0.1,{"$f":"'Daily Calcs'!J3644/1000000","v":0},{"$f":"'Daily Calcs'!K3644/1000000","v":0},0]
[0.1,{"$f":"'Daily Calcs'!J3645/1000000","v":1.9796440876189273E-8},{"$f":"'Daily Calcs'!K3645/1000000","v":1.9796440926157662E-8},1.9796440876189273E-8]
[0.1,{"$f":"'Daily Calcs'!J3646/1000000","v":0},{"$f":"'Daily Calcs'!K3646/1000000","v":0},0]
[0.1,{"$f":"'Daily Calcs'!J3647/1000000","v":0},{"$f":"'Daily Calcs'!K3647/1000000","v":0},0]
[0.1,{"$f":"'Daily Calcs'!J3648/1000000","v":0},{"$f":"'Daily Calcs'!K3648/1000000","v":0},0]
[0.1,{"$f":"'Daily Calcs'!J3649/1000000","v":0},{"$f":"'Daily Calcs'!K3649/1000000","v":0},0]
[0.1,{"$f":"'Daily Calcs'!J3650/1000000","v":0},{"$f":"'Daily Calcs'!K3650/1000000","v":0},0]
[0.1,{"$f":"'Daily Calcs'!J3651/1000000","v":1.0898985077626489E-8},{"$f":"'Daily Calcs'!K3651/1000000","v":1.089898509211551E-8},{"$f":"B3655","v":1.0898985077626489E-8}]
[0.1,{"$f":"'Daily Calcs'!J3652/1000000","v":9.0699782059858007E-9},{"$f":"'Daily Calcs'!K3652/1000000","v":9.069978211542843E-9},9.0699782059858007E-9]
[0.1,{"$f":"'Daily Calcs'!J3653/1000000","v":7.137376320926162E-9},{"$f":"'Daily Calcs'!K3653/1000000","v":7.1373763245140331E-9},7.137376320926162E-9]
[0.1,{"$f":"'Daily Calcs'!J3654/1000000","v":0},{"$f":"'Daily Calcs'!K3654/1000000","v":0},0]
[0.1,{"$f":"'Daily Calcs'!J3655/1000000","v":0},{"$f":"'Daily Calcs'!K3655/1000000","v":0},0]
[0.1,{"$f":"'Daily Calcs'!J3656/1000000","v":0},{"$f":"'Daily Calcs'!K3656/1000000","v":0},0]
[0.1,{"$f":"'Daily Calcs'!J3657/1000000","v":3.9007705153370627E-9},{"$f":"'Daily Calcs'!K3657/1000000","v":3.9007705172620336E-9},3.9007705153370627E-9]
[0.1,{"$f":"'Daily Calcs'!J3658/1000000","v":3.2331016121875464E-9},{"$f":"'Daily Calcs'!K3658/1000000","v":3.2331016127736035E-9},3.2331016121875464E-9]
[0.1,{"$f":"'Daily Calcs'!J3659/1000000","v":0},{"$f":"'Daily Calcs'!K3659/1000000","v":0},0]
[0.1,{"$f":"'Daily Calcs'!J3660/1000000","v":0},{"$f":"'Daily Calcs'!K3660/1000000","v":0},0]
[0.1,{"$f":"'Daily Calcs'!J3661/1000000","v":1.7938392243682727E-9},{"$f":"'Daily Calcs'!K3661/1000000","v":1.793839224741175E-9},1.7938392243682727E-9]
[0.1,{"$f":"'Daily Calcs'!J3662/1000000","v":0},{"$f":"'Daily Calcs'!K3662/1000000","v":0},0]
[0.1,{"$f":"'Daily Calcs'!J3663/1000000","v":0},{"$f":"'Daily Calcs'!K3663/1000000","v":0},0]
[0.1,{"$f":"'Daily Calcs'!J3664/1000000","v":0},{"$f":"'Daily Calcs'!K3664/1000000","v":0},0]
[0.1,{"$f":"'Daily Calcs'!J3665/1000000","v":0},{"$f":"'Daily Calcs'!K3665/1000000","v":0},0]
[0.1,{"$f":"'Daily Calcs'!J3666/1000000","v":0},{"$f":"'Daily Calcs'!K3666/1000000","v":0},0]
[0.1,{"$f":"'Daily Calcs'!J3667/1000000","v":9.5175668589407455E-10},{"$f":"'Daily Calcs'!K3667/1000000","v":9.5175668598612631E-10},9.5175668589407455E-10]
[0.1,{"$f":"'Daily Calcs'!J3668/1000000","v":5.2651138325729252E-10},{"$f":"'Daily Calcs'!K3668/1000000","v":5.2651138329971644E-10},5.2651138325729252E-10]
[0.1,{"$f":"'Daily Calcs'!J3669/1000000","v":0},{"$f":"'Daily Calcs'!K3669/1000000","v":0},0]
[0.1,{"$f":"'Daily Calcs'!J3670/1000000","v":0},{"$f":"'Daily Calcs'!K3670/1000000","v":0},0]
[0.1,{"$f":"'Daily Calcs'!J3671/1000000","v":0},{"$f":"'Daily Calcs'!K3671/1000000","v":0},0]
[0.1,{"$f":"'Daily Calcs'!J3672/1000000","v":0},{"$f":"'Daily Calcs'!K3672/1000000","v":0},0]
[0.1,{"$f":"'Daily Calcs'!J3673/1000000","v":0},{"$f":"'Daily Calcs'!K3673/1000000","v":0},0]
[0.1,{"$f":"'Daily Calcs'!J3674/1000000","v":0},{"$f":"'Daily Calcs'!K3674/1000000","v":0},0]
[0.1,{"$f":"'Daily Calcs'!J3675/1000000","v":0},{"$f":"'Daily Calcs'!K3675/1000000","v":0},0]
[0.1,{"$f":"'Daily Calcs'!J3676/1000000","v":3.1871818602498844E-10},{"$f":"'Daily Calcs'!K3676/1000000","v":3.1871818603470337E-10},3.1871818602498844E-10]
[0.1,{"$f":"'Daily Calcs'!J3677/1000000","v":1.7940222149736481E-10},{"$f":"'Daily Calcs'!K3677/1000000","v":1.7940222150348915E-10},1.7940222149736481E-10]
[0.1,{"$f":"'Daily Calcs'!J3678/1000000","v":1.1687956937414637E-10},{"$f":"'Daily Calcs'!K3678/1000000","v":1.1687956937647907E-10},1.1687956937414637E-10]
[0.1,{"$f":"'Daily Calcs'!J3679/1000000","v":0},{"$f":"'Daily Calcs'!K3679/1000000","v":0},0]
[0.1,{"$f":"'Daily Calcs'!J3680/1000000","v":0},{"$f":"'Daily Calcs'!K3680/1000000","v":0},0]
[0.1,{"$f":"'Daily Calcs'!J3681/1000000","v":0},{"$f":"'Daily Calcs'!K3681/1000000","v":0},0]
[0.1,{"$f":"'Daily Calcs'!J3682/1000000","v":0},{"$f":"'Daily Calcs'!K3682/1000000","v":0},0]
[0.1,{"$f":"'Daily Calcs'!J3683/1000000","v":0},{"$f":"'Daily Calcs'!K3683/1000000","v":0},0]
[0.1,{"$f":"'Daily Calcs'!J3684/1000000","v":0},{"$f":"'Daily Calcs'!K3684/1000000","v":0},0]
[0.1,{"$f":"'Daily Calcs'!J3685/1000000","v":0},{"$f":"'Daily Calcs'!K3685/1000000","v":0},0]
[0.1,{"$f":"'Daily Calcs'!J3686/1000000","v":0},{"$f":"'Daily Calcs'!K3686/1000000","v":0},0]
[0.1,{"$f":"'Daily Calcs'!J3687/1000000","v":0},{"$f":"'Daily Calcs'!K3687/1000000","v":0},0]
[0.1,{"$f":"'Daily Calcs'!J3688/1000000","v":5.3426358854471066E-11},{"$f":"'Daily Calcs'!K3688/1000000","v":5.3426358854765911E-11},5.3426358854471066E-11]
[0.1,{"$f":"'Daily Calcs'!J3689/1000000","v":3.0742518877598578E-11},{"$f":"'Daily Calcs'!K3689/1000000","v":3.0742518877797075E-11},3.0742518877598578E-11]
[0.1,{"$f":"'Daily Calcs'!J3690/1000000","v":0},{"$f":"'Daily Calcs'!K3690/1000000","v":0},0]
[0.1,{"$f":"'Daily Calcs'!J3691/1000000","v":1.3891891891891892E-11},{"$f":"'Daily Calcs'!K3691/1000000","v":1.3891891891953502E-11},1.3891891891891892E-11]
[0.1,{"$f":"'Daily Calcs'!J3692/1000000","v":8.7102791714910597E-12},{"$f":"'Daily Calcs'!K3692/1000000","v":8.7102791715136133E-12},8.7102791714910597E-12]
[0.1,{"$f":"'Daily Calcs'!J3693/1000000","v":0},{"$f":"'Daily Calcs'!K3693/1000000","v":0},0]
[0.1,{"$f":"'Daily Calcs'!J3694/1000000","v":0},{"$f":"'Daily Calcs'!K3694/1000000","v":0},0]
[0.1,{"$f":"'Daily Calcs'!J3695/1000000","v":0},{"$f":"'Daily Calcs'!K3695/1000000","v":0},0]
[0.1,{"$f":"'Daily Calcs'!J3696/1000000","v":6.5372227508967125E-12},{"$f":"'Daily Calcs'!K3696/1000000","v":6.5372227509046523E-12},6.5372227508967125E-12]
[0.1,{"$f":"'Daily Calcs'!J3697/1000000","v":0},{"$f":"'Daily Calcs'!K3697/1000000","v":0},0]
[0.1,{"$f":"'Daily Calcs'!J3698/1000000","v":0},{"$f":"'Daily Calcs'!K3698/1000000","v":0},0]
[0.1,{"$f":"'Daily Calcs'!J3699/1000000","v":4.2942028681210231E-12},{"$f":"'Daily Calcs'!K3699/1000000","v":4.2942028681243553E-12},4.2942028681210231E-12]
[0.1,{"$f":"'Daily Calcs'!J3700/1000000","v":0},{"$f":"'Daily Calcs'!K3700/1000000","v":0},0]
[0.1,{"$f":"'Daily Calcs'!J3701/1000000","v":0},{"$f":"'Daily Calcs'!K3701/1000000","v":0},0]
[0.1,{"$f":"'Daily Calcs'!J3702/1000000","v":0},{"$f":"'Daily Calcs'!K3702/1000000","v":0},0]
[0.1,{"$f":"'Daily Calcs'!J3703/1000000","v":0},{"$f":"'Daily Calcs'!K3703/1000000","v":0},0]
[0.1,{"$f":"'Daily Calcs'!J3704/1000000","v":2.0307464225860511E-12},{"$f":"'Daily Calcs'!K3704/1000000","v":2.0307464225880827E-12},2.0307464225860511E-12]
[0.1,{"$f":"'Daily Calcs'!J3705/1000000","v":1.1076212771491742E-12},{"$f":"'Daily Calcs'!K3705/1000000","v":1.1076212771500387E-12},1.1076212771491742E-12]
[0.1,{"$f":"'Daily Calcs'!J3706/1000000","v":5.9702023887929656E-13},{"$f":"'Daily Calcs'!K3706/1000000","v":5.970202388796325E-13},5.9702023887929656E-13]
[0.1,{"$f":"'Daily Calcs'!J3707/1000000","v":0},{"$f":"'Daily Calcs'!K3707/1000000","v":0},0]
[0.1,{"$f":"'Daily Calcs'!J3708/1000000","v":0},{"$f":"'Daily Calcs'!K3708/1000000","v":0},0]
[0.1,{"$f":"'Daily Calcs'!J3709/1000000","v":0},{"$f":"'Daily Calcs'!K3709/1000000","v":0},0]
[0.1,{"$f":"'Daily Calcs'!J3710/1000000","v":2.8233713585368152E-13},{"$f":"'Daily Calcs'!K3710/1000000","v":2.823371358537773E-13},2.8233713585368152E-13]
[0.1,{"$f":"'Daily Calcs'!J3711/1000000","v":0},{"$f":"'Daily Calcs'!K3711/1000000","v":0},0]
[0.1,{"$f":"'Daily Calcs'!J3712/1000000","v":0},{"$f":"'Daily Calcs'!K3712/1000000","v":0},0]
[0.1,{"$f":"'Daily Calcs'!J3713/1000000","v":1.2356947498257094E-13},{"$f":"'Daily Calcs'!K3713/1000000","v":1.2356947498260091E-13},1.2356947498257094E-13]
[0.1,{"$f":"'Daily Calcs'!J3714/1000000","v":5.14700646014548E-14},{"$f":"'Daily Calcs'!K3714/1000000","v":5.1470064601463812E-14},5.14700646014548E-14]
[0.1,{"$f":"'Daily Calcs'!J3715/1000000","v":2.2393400382345605E-14},{"$f":"'Daily Calcs'!K3715/1000000","v":2.2393400382348193E-14},{"$f":"B3719","v":2.2393400382345605E-14}]
[0.1,{"$f":"'Daily Calcs'!J3716/1000000","v":0},{"$f":"'Daily Calcs'!K3716/1000000","v":0},0]
[0.1,{"$f":"'Daily Calcs'!J3717/1000000","v":0},{"$f":"'Daily Calcs'!K3717/1000000","v":0},0]
[0.1,{"$f":"'Daily Calcs'!J3718/1000000","v":1.5801479918447656E-14},{"$f":"'Daily Calcs'!K3718/1000000","v":1.5801479918448353E-14},1.5801479918447656E-14]
[0.1,{"$f":"'Daily Calcs'!J3719/1000000","v":0},{"$f":"'Daily Calcs'!K3719/1000000","v":0},0]
[0.1,{"$f":"'Daily Calcs'!J3720/1000000","v":0},{"$f":"'Daily Calcs'!K3720/1000000","v":0},0]
[0.1,{"$f":"'Daily Calcs'!J3721/1000000","v":0},{"$f":"'Daily Calcs'!K3721/1000000","v":0},0]
[0.1,{"$f":"'Daily Calcs'!J3722/1000000","v":0},{"$f":"'Daily Calcs'!K3722/1000000","v":0},0]
[0.1,{"$f":"'Daily Calcs'!J3723/1000000","v":0},{"$f":"'Daily Calcs'!K3723/1000000","v":0},0]
[0.1,{"$f":"'Daily Calcs'!J3724/1000000","v":0},{"$f":"'Daily Calcs'!K3724/1000000","v":0},0]
[0.1,{"$f":"'Daily Calcs'!J3725/1000000","v":0},{"$f":"'Daily Calcs'!K3725/1000000","v":0},0]
[0.1,{"$f":"'Daily Calcs'!J3726/1000000","v":0},{"$f":"'Daily Calcs'!K3726/1000000","v":0},0]
[0.1,{"$f":"'Daily Calcs'!J3727/1000000","v":8.4277618244526504E-15},{"$f":"'Daily Calcs'!K3727/1000000","v":8.4277618244528255E-15},8.4277618244526504E-15]
[0.1,{"$f":"'Daily Calcs'!J3728/1000000","v":0},{"$f":"'Daily Calcs'!K3728/1000000","v":0},0]
[0.1,{"$f":"'Daily Calcs'!J3729/1000000","v":0},{"$f":"'Daily Calcs'!K3729/1000000","v":0},0]
[0.1,{"$f":"'Daily Calcs'!J3730/1000000","v":0},{"$f":"'Daily Calcs'!K3730/1000000","v":0},0]
[0.1,{"$f":"'Daily Calcs'!J3731/1000000","v":0},{"$f":"'Daily Calcs'!K3731/1000000","v":0},0]
[0.1,{"$f":"'Daily Calcs'!J3732/1000000","v":0},{"$f":"'Daily Calcs'!K3732/1000000","v":0},0]
[0.1,{"$f":"'Daily Calcs'!J3733/1000000","v":0},{"$f":"'Daily Calcs'!K3733/1000000","v":0},0]
[0.1,{"$f":"'Daily Calcs'!J3734/1000000","v":0},{"$f":"'Daily Calcs'!K3734/1000000","v":0},0]
[0.1,{"$f":"'Daily Calcs'!J3735/1000000","v":0},{"$f":"'Daily Calcs'!K3735/1000000","v":0},0]
[0.1,{"$f":"'Daily Calcs'!J3736/1000000","v":0},{"$f":"'Daily Calcs'!K3736/1000000","v":0},0]
[0.1,{"$f":"'Daily Calcs'!J3737/1000000","v":1.2209600724582987E-15},{"$f":"'Daily Calcs'!K3737/1000000","v":1.2209600724583158E-15},1.2209600724582987E-15]
[0.1,{"$f":"'Daily Calcs'!J3738/1000000","v":0},{"$f":"'Daily Calcs'!K3738/1000000","v":0},0]
[0.1,{"$f":"'Daily Calcs'!J3739/1000000","v":0},{"$f":"'Daily Calcs'!K3739/1000000","v":0},0]
[0.1,{"$f":"'Daily Calcs'!J3740/1000000","v":0},{"$f":"'Daily Calcs'!K3740/1000000","v":0},0]
[0.1,{"$f":"'Daily Calcs'!J3741/1000000","v":5.8729026169816083E-16},{"$f":"'Daily Calcs'!K3741/1000000","v":5.8729026169816615E-16},5.8729026169816083E-16]
[0.1,{"$f":"'Daily Calcs'!J3742/1000000","v":0},{"$f":"'Daily Calcs'!K3742/1000000","v":0},0]
[0.1,{"$f":"'Daily Calcs'!J3743/1000000","v":0},{"$f":"'Daily Calcs'!K3743/1000000","v":0},0]
[0.1,{"$f":"'Daily Calcs'!J3744/1000000","v":0},{"$f":"'Daily Calcs'!K3744/1000000","v":0},0]
[0.1,{"$f":"'Daily Calcs'!J3745/1000000","v":3.5140058505451645E-16},{"$f":"'Daily Calcs'!K3745/1000000","v":3.5140058505451788E-16},3.5140058505451645E-16]
[0.1,{"$f":"'Daily Calcs'!J3746/1000000","v":0},{"$f":"'Daily Calcs'!K3746/1000000","v":0},0]
[0.1,{"$f":"'Daily Calcs'!J3747/1000000","v":0},{"$f":"'Daily Calcs'!K3747/1000000","v":0},0]
[0.1,{"$f":"'Daily Calcs'!J3748/1000000","v":0},{"$f":"'Daily Calcs'!K3748/1000000","v":0},0]
[0.1,{"$f":"'Daily Calcs'!J3749/1000000","v":0},{"$f":"'Daily Calcs'!K3749/1000000","v":0},0]
[0.1,{"$f":"'Daily Calcs'!J3750/1000000","v":0},{"$f":"'Daily Calcs'!K3750/1000000","v":0},0]
[0.1,{"$f":"'Daily Calcs'!J3751/1000000","v":0},{"$f":"'Daily Calcs'!K3751/1000000","v":0},0]
[0.1,{"$f":"'Daily Calcs'!J3752/1000000","v":0},{"$f":"'Daily Calcs'!K3752/1000000","v":0},0]
[0.1,{"$f":"'Daily Calcs'!J3753/1000000","v":0},{"$f":"'Daily Calcs'!K3753/1000000","v":0},0]
[0.1,{"$f":"'Daily Calcs'!J3754/1000000","v":0},{"$f":"'Daily Calcs'!K3754/1000000","v":0},0]
[0.1,{"$f":"'Daily Calcs'!J3755/1000000","v":0},{"$f":"'Daily Calcs'!K3755/1000000","v":0},0]
[0.1,{"$f":"'Daily Calcs'!J3756/1000000","v":0},{"$f":"'Daily Calcs'!K3756/1000000","v":0},0]
[0.1,{"$f":"'Daily Calcs'!J3757/1000000","v":0},{"$f":"'Daily Calcs'!K3757/1000000","v":0},0]
[0.1,{"$f":"'Daily Calcs'!J3758/1000000","v":0},{"$f":"'Daily Calcs'!K3758/1000000","v":0},0]
[0.1,{"$f":"'Daily Calcs'!J3759/1000000","v":0},{"$f":"'Daily Calcs'!K3759/1000000","v":0},0]
[0.1,{"$f":"'Daily Calcs'!J3760/1000000","v":0},{"$f":"'Daily Calcs'!K3760/1000000","v":0},0]
[0.1,{"$f":"'Daily Calcs'!J3761/1000000","v":0},{"$f":"'Daily Calcs'!K3761/1000000","v":0},0]
[0.1,{"$f":"'Daily Calcs'!J3762/1000000","v":0},{"$f":"'Daily Calcs'!K3762/1000000","v":0},0]
[0.1,{"$f":"'Daily Calcs'!J3763/1000000","v":0},{"$f":"'Daily Calcs'!K3763/1000000","v":0},0]
[0.1,{"$f":"'Daily Calcs'!J3764/1000000","v":0},{"$f":"'Daily Calcs'!K3764/1000000","v":0},0]
[0.1,{"$f":"'Daily Calcs'!J3765/1000000","v":0},{"$f":"'Daily Calcs'!K3765/1000000","v":0},0]
[0.1,{"$f":"'Daily Calcs'!J3766/1000000","v":6.0837946653246102E-17},{"$f":"'Daily Calcs'!K3766/1000000","v":6.0837946653246226E-17},6.0837946653246102E-17]
[0.1,{"$f":"'Daily Calcs'!J3767/1000000","v":0},{"$f":"'Daily Calcs'!K3767/1000000","v":0},0]
[0.1,{"$f":"'Daily Calcs'!J3768/1000000","v":0},{"$f":"'Daily Calcs'!K3768/1000000","v":0},0]
[0.1,{"$f":"'Daily Calcs'!J3769/1000000","v":0},{"$f":"'Daily Calcs'!K3769/1000000","v":0},0]
[0.1,{"$f":"'Daily Calcs'!J3770/1000000","v":0},{"$f":"'Daily Calcs'!K3770/1000000","v":0},0]
[0.1,{"$f":"'Daily Calcs'!J3771/1000000","v":2.1159484253333753E-17},{"$f":"'Daily Calcs'!K3771/1000000","v":2.1159484253333787E-17},2.1159484253333753E-17]
[0.1,{"$f":"'Daily Calcs'!J3772/1000000","v":0},{"$f":"'Daily Calcs'!K3772/1000000","v":0},0]
[0.1,{"$f":"'Daily Calcs'!J3773/1000000","v":1.023707203233059E-17},{"$f":"'Daily Calcs'!K3773/1000000","v":1.02370720323306E-17},1.023707203233059E-17]
[0.1,{"$f":"'Daily Calcs'!J3774/1000000","v":0},{"$f":"'Daily Calcs'!K3774/1000000","v":0},0]
[0.1,{"$f":"'Daily Calcs'!J3775/1000000","v":0},{"$f":"'Daily Calcs'!K3775/1000000","v":0},0]
[0.1,{"$f":"'Daily Calcs'!J3776/1000000","v":0},{"$f":"'Daily Calcs'!K3776/1000000","v":0},0]
[0.1,{"$f":"'Daily Calcs'!J3777/1000000","v":0},{"$f":"'Daily Calcs'!K3777/1000000","v":0},0]
[0.1,{"$f":"'Daily Calcs'!J3778/1000000","v":0},{"$f":"'Daily Calcs'!K3778/1000000","v":0},0]
[0.1,{"$f":"'Daily Calcs'!J3779/1000000","v":0},{"$f":"'Daily Calcs'!K3779/1000000","v":0},{"$f":"B3783","v":0}]
[0.1,{"$f":"'Daily Calcs'!J3780/1000000","v":0},{"$f":"'Daily Calcs'!K3780/1000000","v":0},0]
[0.1,{"$f":"'Daily Calcs'!J3781/1000000","v":0},{"$f":"'Daily Calcs'!K3781/1000000","v":0},0]
[0.1,{"$f":"'Daily Calcs'!J3782/1000000","v":0},{"$f":"'Daily Calcs'!K3782/1000000","v":0},0]
[0.1,{"$f":"'Daily Calcs'!J3783/1000000","v":0},{"$f":"'Daily Calcs'!K3783/1000000","v":0},0]
[0.1,{"$f":"'Daily Calcs'!J3784/1000000","v":0},{"$f":"'Daily Calcs'!K3784/1000000","v":0},0]
[0.1,{"$f":"'Daily Calcs'!J3785/1000000","v":3.804565980933266E-18},{"$f":"'Daily Calcs'!K3785/1000000","v":3.8045659809332675E-18},3.804565980933266E-18]
[0.1,{"$f":"'Daily Calcs'!J3786/1000000","v":0},{"$f":"'Daily Calcs'!K3786/1000000","v":0},0]
[0.1,{"$f":"'Daily Calcs'!J3787/1000000","v":0},{"$f":"'Daily Calcs'!K3787/1000000","v":0},0]
[0.1,{"$f":"'Daily Calcs'!J3788/1000000","v":1.4918032786885247E-18},{"$f":"'Daily Calcs'!K3788/1000000","v":1.4918032786885257E-18},1.4918032786885247E-18]
[0.1,{"$f":"'Daily Calcs'!J3789/1000000","v":0},{"$f":"'Daily Calcs'!K3789/1000000","v":0},0]
[0.1,{"$f":"'Daily Calcs'!J3790/1000000","v":0},{"$f":"'Daily Calcs'!K3790/1000000","v":0},0]
[0.1,{"$f":"'Daily Calcs'!J3791/1000000","v":0},{"$f":"'Daily Calcs'!K3791/1000000","v":0},0]
[0.1,{"$f":"'Daily Calcs'!J3792/1000000","v":0},{"$f":"'Daily Calcs'!K3792/1000000","v":0},0]
[0.1,{"$f":"'Daily Calcs'!J3793/1000000","v":0},{"$f":"'Daily Calcs'!K3793/1000000","v":0},0]
[0.1,{"$f":"'Daily Calcs'!J3794/1000000","v":0},{"$f":"'Daily Calcs'!K3794/1000000","v":0},0]
[0.1,{"$f":"'Daily Calcs'!J3795/1000000","v":0},{"$f":"'Daily Calcs'!K3795/1000000","v":0},0]
[0.1,{"$f":"'Daily Calcs'!J3796/1000000","v":0},{"$f":"'Daily Calcs'!K3796/1000000","v":0},0]
[0.1,{"$f":"'Daily Calcs'!J3797/1000000","v":0},{"$f":"'Daily Calcs'!K3797/1000000","v":0},0]
[0.1,{"$f":"'Daily Calcs'!J3798/1000000","v":0},{"$f":"'Daily Calcs'!K3798/1000000","v":0},0]
[0.1,{"$f":"'Daily Calcs'!J3799/1000000","v":0},{"$f":"'Daily Calcs'!K3799/1000000","v":0},0]
[0.1,{"$f":"'Daily Calcs'!J3800/1000000","v":0},{"$f":"'Daily Calcs'!K3800/1000000","v":0},0]
[0.1,{"$f":"'Daily Calcs'!J3801/1000000","v":0},{"$f":"'Daily Calcs'!K3801/1000000","v":0},0]
[0.1,{"$f":"'Daily Calcs'!J3802/1000000","v":0},{"$f":"'Daily Calcs'!K3802/1000000","v":0},0]
[0.1,{"$f":"'Daily Calcs'!J3803/1000000","v":0},{"$f":"'Daily Calcs'!K3803/1000000","v":0},0]
[0.1,{"$f":"'Daily Calcs'!J3804/1000000","v":0},{"$f":"'Daily Calcs'!K3804/1000000","v":0},0]
[0.1,{"$f":"'Daily Calcs'!J3805/1000000","v":0},{"$f":"'Daily Calcs'!K3805/1000000","v":0},0]
[0.1,{"$f":"'Daily Calcs'!J3806/1000000","v":0},{"$f":"'Daily Calcs'!K3806/1000000","v":0},0]
[0.1,{"$f":"'Daily Calcs'!J3807/1000000","v":0},{"$f":"'Daily Calcs'!K3807/1000000","v":0},0]
[0.1,{"$f":"'Daily Calcs'!J3808/1000000","v":0},{"$f":"'Daily Calcs'!K3808/1000000","v":0},0]
[0.1,{"$f":"'Daily Calcs'!J3809/1000000","v":0},{"$f":"'Daily Calcs'!K3809/1000000","v":0},0]
[0.1,{"$f":"'Daily Calcs'!J3810/1000000","v":7.051458538184203E-19},{"$f":"'Daily Calcs'!K3810/1000000","v":7.051458538184203E-19},7.051458538184203E-19]
[0.1,{"$f":"'Daily Calcs'!J3811/1000000","v":0},{"$f":"'Daily Calcs'!K3811/1000000","v":0},0]
[0.1,{"$f":"'Daily Calcs'!J3812/1000000","v":4.5368075801749286E-19},{"$f":"'Daily Calcs'!K3812/1000000","v":4.5368075801749286E-19},4.5368075801749286E-19]
[0.1,{"$f":"'Daily Calcs'!J3813/1000000","v":2.3968811556139202E-19},{"$f":"'Daily Calcs'!K3813/1000000","v":2.3968811556139202E-19},2.3968811556139202E-19]
[0.1,{"$f":"'Daily Calcs'!J3814/1000000","v":0},{"$f":"'Daily Calcs'!K3814/1000000","v":0},0]
[0.1,{"$f":"'Daily Calcs'!J3815/1000000","v":0},{"$f":"'Daily Calcs'!K3815/1000000","v":0},0]
[0.1,{"$f":"'Daily Calcs'!J3816/1000000","v":0},{"$f":"'Daily Calcs'!K3816/1000000","v":0},0]
[0.1,{"$f":"'Daily Calcs'!J3817/1000000","v":0},{"$f":"'Daily Calcs'!K3817/1000000","v":0},0]
[0.1,{"$f":"'Daily Calcs'!J3818/1000000","v":0},{"$f":"'Daily Calcs'!K3818/1000000","v":0},0]
[0.1,{"$f":"'Daily Calcs'!J3819/1000000","v":1.1316740498950803E-19},{"$f":"'Daily Calcs'!K3819/1000000","v":1.1316740498950803E-19},1.1316740498950803E-19]
[0.1,{"$f":"'Daily Calcs'!J3820/1000000","v":6.1339147205567901E-20},{"$f":"'Daily Calcs'!K3820/1000000","v":6.1339147205567901E-20},6.1339147205567901E-20]
[0.1,{"$f":"'Daily Calcs'!J3821/1000000","v":4.3807104316546764E-20},{"$f":"'Daily Calcs'!K3821/1000000","v":4.3807104316546764E-20},4.3807104316546764E-20]
[0.1,{"$f":"'Daily Calcs'!J3822/1000000","v":0},{"$f":"'Daily Calcs'!K3822/1000000","v":0},0]
[0.1,{"$f":"'Daily Calcs'!J3823/1000000","v":2.382947917097588E-20},{"$f":"'Daily Calcs'!K3823/1000000","v":2.382947917097588E-20},2.382947917097588E-20]
[0.1,{"$f":"'Daily Calcs'!J3824/1000000","v":0},{"$f":"'Daily Calcs'!K3824/1000000","v":0},0]
[0.1,{"$f":"'Daily Calcs'!J3825/1000000","v":0},{"$f":"'Daily Calcs'!K3825/1000000","v":0},0]
[0.1,{"$f":"'Daily Calcs'!J3826/1000000","v":0},{"$f":"'Daily Calcs'!K3826/1000000","v":0},0]
[0.1,{"$f":"'Daily Calcs'!J3827/1000000","v":0},{"$f":"'Daily Calcs'!K3827/1000000","v":0},0]
[0.1,{"$f":"'Daily Calcs'!J3828/1000000","v":0},{"$f":"'Daily Calcs'!K3828/1000000","v":0},0]
[0.1,{"$f":"'Daily Calcs'!J3829/1000000","v":0},{"$f":"'Daily Calcs'!K3829/1000000","v":0},0]
[0.1,{"$f":"'Daily Calcs'!J3830/1000000","v":0},{"$f":"'Daily Calcs'!K3830/1000000","v":0},0]
[0.1,{"$f":"'Daily Calcs'!J3831/1000000","v":0},{"$f":"'Daily Calcs'!K3831/1000000","v":0},0]
[0.1,{"$f":"'Daily Calcs'!J3832/1000000","v":0},{"$f":"'Daily Calcs'!K3832/1000000","v":0},0]
[0.1,{"$f":"'Daily Calcs'!J3833/1000000","v":0},{"$f":"'Daily Calcs'!K3833/1000000","v":0},0]
[0.1,{"$f":"'Daily Calcs'!J3834/1000000","v":0},{"$f":"'Daily Calcs'!K3834/1000000","v":0},0]
[0.1,{"$f":"'Daily Calcs'!J3835/1000000","v":0},{"$f":"'Daily Calcs'!K3835/1000000","v":0},0]
[0.1,{"$f":"'Daily Calcs'!J3836/1000000","v":0},{"$f":"'Daily Calcs'!K3836/1000000","v":0},0]
[0.1,{"$f":"'Daily Calcs'!J3837/1000000","v":0},{"$f":"'Daily Calcs'!K3837/1000000","v":0},0]
[0.1,{"$f":"'Daily Calcs'!J3838/1000000","v":0},{"$f":"'Daily Calcs'!K3838/1000000","v":0},0]
[0.1,{"$f":"'Daily Calcs'!J3839/1000000","v":6.3024485573054373E-21},{"$f":"'Daily Calcs'!K3839/1000000","v":6.3024485573054373E-21},6.3024485573054373E-21]
[0.1,{"$f":"'Daily Calcs'!J3840/1000000","v":0},{"$f":"'Daily Calcs'!K3840/1000000","v":0},0]
[0.1,{"$f":"'Daily Calcs'!J3841/1000000","v":0},{"$f":"'Daily Calcs'!K3841/1000000","v":0},0]
[0.1,{"$f":"'Daily Calcs'!J3842/1000000","v":2.1324727856760456E-21},{"$f":"'Daily Calcs'!K3842/1000000","v":2.1324727856760456E-21},2.1324727856760456E-21]
[0.1,{"$f":"'Daily Calcs'!J3843/1000000","v":0},{"$f":"'Daily Calcs'!K3843/1000000","v":0},{"$f":"B3847","v":0}]
[0.1,{"$f":"'Daily Calcs'!J3844/1000000","v":0},{"$f":"'Daily Calcs'!K3844/1000000","v":0},0]
[0.1,{"$f":"'Daily Calcs'!J3845/1000000","v":0},{"$f":"'Daily Calcs'!K3845/1000000","v":0},0]
[0.1,{"$f":"'Daily Calcs'!J3846/1000000","v":0},{"$f":"'Daily Calcs'!K3846/1000000","v":0},0]
[0.1,{"$f":"'Daily Calcs'!J3847/1000000","v":0},{"$f":"'Daily Calcs'!K3847/1000000","v":0},0]
[0.1,{"$f":"'Daily Calcs'!J3848/1000000","v":7.9738536432160812E-22},{"$f":"'Daily Calcs'!K3848/1000000","v":7.9738536432160812E-22},7.9738536432160812E-22]
[0.1,{"$f":"'Daily Calcs'!J3849/1000000","v":1.6563527206541522E-5},{"$f":"'Daily Calcs'!K3849/1000000","v":1.6845317975605121E-5},1.6563527206541522E-5]
[0.1,{"$f":"'Daily Calcs'!J3850/1000000","v":1.2656275457557164E-5},{"$f":"'Daily Calcs'!K3850/1000000","v":1.2773165698148048E-5},1.2656275457557164E-5]
[0.1,{"$f":"'Daily Calcs'!J3851/1000000","v":0},{"$f":"'Daily Calcs'!K3851/1000000","v":0},0]
[0.1,{"$f":"'Daily Calcs'!J3852/1000000","v":0},{"$f":"'Daily Calcs'!K3852/1000000","v":0},0]
[0.1,{"$f":"'Daily Calcs'!J3853/1000000","v":1.0269379925774573E-5},{"$f":"'Daily Calcs'!K3853/1000000","v":1.0304035277928362E-5},1.0269379925774573E-5]
[0.1,{"$f":"'Daily Calcs'!J3854/1000000","v":0},{"$f":"'Daily Calcs'!K3854/1000000","v":0},0]
[0.1,{"$f":"'Daily Calcs'!J3855/1000000","v":0},{"$f":"'Daily Calcs'!K3855/1000000","v":0},0]
[0.1,{"$f":"'Daily Calcs'!J3856/1000000","v":0},{"$f":"'Daily Calcs'!K3856/1000000","v":0},0]
[0.1,{"$f":"'Daily Calcs'!J3857/1000000","v":0},{"$f":"'Daily Calcs'!K3857/1000000","v":0},0]
[0.1,{"$f":"'Daily Calcs'!J3858/1000000","v":0},{"$f":"'Daily Calcs'!K3858/1000000","v":0},0]
[0.1,{"$f":"'Daily Calcs'!J3859/1000000","v":0},{"$f":"'Daily Calcs'!K3859/1000000","v":0},0]
[0.1,{"$f":"'Daily Calcs'!J3860/1000000","v":2.2401089823483383E-5},{"$f":"'Daily Calcs'!K3860/1000000","v":2.2617361815599553E-5},2.2401089823483383E-5]
[0.1,{"$f":"'Daily Calcs'!J3861/1000000","v":0},{"$f":"'Daily Calcs'!K3861/1000000","v":0},0]
[0.1,{"$f":"'Daily Calcs'!J3862/1000000","v":0},{"$f":"'Daily Calcs'!K3862/1000000","v":0},0]
[0.1,{"$f":"'Daily Calcs'!J3863/1000000","v":1.78027238403452E-5},{"$f":"'Daily Calcs'!K3863/1000000","v":1.7879662216828478E-5},1.78027238403452E-5]
[0.1,{"$f":"'Daily Calcs'!J3864/1000000","v":1.6261690647482017E-5},{"$f":"'Daily Calcs'!K3864/1000000","v":1.6293863758992809E-5},1.6261690647482017E-5]
[0.1,{"$f":"'Daily Calcs'!J3865/1000000","v":1.1798382248456029E-5},{"$f":"'Daily Calcs'!K3865/1000000","v":1.1817527463518608E-5},1.1798382248456029E-5]
[0.1,{"$f":"'Daily Calcs'!J3866/1000000","v":0},{"$f":"'Daily Calcs'!K3866/1000000","v":0},0]
[0.1,{"$f":"'Daily Calcs'!J3867/1000000","v":0},{"$f":"'Daily Calcs'!K3867/1000000","v":0},0]
[0.1,{"$f":"'Daily Calcs'!J3868/1000000","v":0},{"$f":"'Daily Calcs'!K3868/1000000","v":0},0]
[0.1,{"$f":"'Daily Calcs'!J3869/1000000","v":0},{"$f":"'Daily Calcs'!K3869/1000000","v":0},0]
[0.1,{"$f":"'Daily Calcs'!J3870/1000000","v":0},{"$f":"'Daily Calcs'!K3870/1000000","v":0},0]
[0.1,{"$f":"'Daily Calcs'!J3871/1000000","v":0},{"$f":"'Daily Calcs'!K3871/1000000","v":0},0]
[0.1,{"$f":"'Daily Calcs'!J3872/1000000","v":8.3166868802168804E-6},{"$f":"'Daily Calcs'!K3872/1000000","v":8.3200246129699653E-6},8.3166868802168804E-6]
[0.1,{"$f":"'Daily Calcs'!J3873/1000000","v":0},{"$f":"'Daily Calcs'!K3873/1000000","v":0},0]
[0.1,{"$f":"'Daily Calcs'!J3874/1000000","v":6.8199626035081477E-6},{"$f":"'Daily Calcs'!K3874/1000000","v":6.8213948001068483E-6},6.8199626035081477E-6]
[0.1,{"$f":"'Daily Calcs'!J3875/1000000","v":0},{"$f":"'Daily Calcs'!K3875/1000000","v":0},0]
[0.1,{"$f":"'Daily Calcs'!J3876/1000000","v":0},{"$f":"'Daily Calcs'!K3876/1000000","v":0},0]
[0.1,{"$f":"'Daily Calcs'!J3877/1000000","v":0},{"$f":"'Daily Calcs'!K3877/1000000","v":0},0]
[0.1,{"$f":"'Daily Calcs'!J3878/1000000","v":0},{"$f":"'Daily Calcs'!K3878/1000000","v":0},0]
[0.1,{"$f":"'Daily Calcs'!J3879/1000000","v":0},{"$f":"'Daily Calcs'!K3879/1000000","v":0},0]
[0.1,{"$f":"'Daily Calcs'!J3880/1000000","v":0},{"$f":"'Daily Calcs'!K3880/1000000","v":0},0]
[0.1,{"$f":"'Daily Calcs'!J3881/1000000","v":0},{"$f":"'Daily Calcs'!K3881/1000000","v":0},0]
[0.1,{"$f":"'Daily Calcs'!J3882/1000000","v":0},{"$f":"'Daily Calcs'!K3882/1000000","v":0},0]
[0.1,{"$f":"'Daily Calcs'!J3883/1000000","v":0},{"$f":"'Daily Calcs'!K3883/1000000","v":0},0]
[0.1,{"$f":"'Daily Calcs'!J3884/1000000","v":4.8985514435955956E-6},{"$f":"'Daily Calcs'!K3884/1000000","v":4.8988563349538641E-6},4.8985514435955956E-6]
[0.1,{"$f":"'Daily Calcs'!J3885/1000000","v":0},{"$f":"'Daily Calcs'!K3885/1000000","v":0},0]
[0.1,{"$f":"'Daily Calcs'!J3886/1000000","v":0},{"$f":"'Daily Calcs'!K3886/1000000","v":0},0]
[0.1,{"$f":"'Daily Calcs'!J3887/1000000","v":3.4974962098589614E-6},{"$f":"'Daily Calcs'!K3887/1000000","v":3.4976387375384754E-6},3.4974962098589614E-6]
[0.1,{"$f":"'Daily Calcs'!J3888/1000000","v":0},{"$f":"'Daily Calcs'!K3888/1000000","v":0},0]
[0.1,{"$f":"'Daily Calcs'!J3889/1000000","v":0},{"$f":"'Daily Calcs'!K3889/1000000","v":0},0]
[0.1,{"$f":"'Daily Calcs'!J3890/1000000","v":0},{"$f":"'Daily Calcs'!K3890/1000000","v":0},0]
[0.1,{"$f":"'Daily Calcs'!J3891/1000000","v":0},{"$f":"'Daily Calcs'!K3891/1000000","v":0},0]
[0.1,{"$f":"'Daily Calcs'!J3892/1000000","v":0},{"$f":"'Daily Calcs'!K3892/1000000","v":0},0]
[0.1,{"$f":"'Daily Calcs'!J3893/1000000","v":0},{"$f":"'Daily Calcs'!K3893/1000000","v":0},0]
[0.1,{"$f":"'Daily Calcs'!J3894/1000000","v":0},{"$f":"'Daily Calcs'!K3894/1000000","v":0},0]
[0.1,{"$f":"'Daily Calcs'!J3895/1000000","v":0},{"$f":"'Daily Calcs'!K3895/1000000","v":0},0]
[0.1,{"$f":"'Daily Calcs'!J3896/1000000","v":0},{"$f":"'Daily Calcs'!K3896/1000000","v":0},0]
[0.1,{"$f":"'Daily Calcs'!J3897/1000000","v":0},{"$f":"'Daily Calcs'!K3897/1000000","v":0},0]
[0.1,{"$f":"'Daily Calcs'!J3898/1000000","v":0},{"$f":"'Daily Calcs'!K3898/1000000","v":0},0]
[0.1,{"$f":"'Daily Calcs'!J3899/1000000","v":0},{"$f":"'Daily Calcs'!K3899/1000000","v":0},0]
[0.1,{"$f":"'Daily Calcs'!J3900/1000000","v":0},{"$f":"'Daily Calcs'!K3900/1000000","v":0},0]
[0.1,{"$f":"'Daily Calcs'!J3901/1000000","v":0},{"$f":"'Daily Calcs'!K3901/1000000","v":0},0]
[0.1,{"$f":"'Daily Calcs'!J3902/1000000","v":0},{"$f":"'Daily Calcs'!K3902/1000000","v":0},0]
[0.1,{"$f":"'Daily Calcs'!J3903/1000000","v":0},{"$f":"'Daily Calcs'!K3903/1000000","v":0},0]
[0.1,{"$f":"'Daily Calcs'!J3904/1000000","v":0},{"$f":"'Daily Calcs'!K3904/1000000","v":0},0]
[0.1,{"$f":"'Daily Calcs'!J3905/1000000","v":0},{"$f":"'Daily Calcs'!K3905/1000000","v":0},0]
[0.1,{"$f":"'Daily Calcs'!J3906/1000000","v":0},{"$f":"'Daily Calcs'!K3906/1000000","v":0},0]
[0.1,{"$f":"'Daily Calcs'!J3907/1000000","v":0},{"$f":"'Daily Calcs'!K3907/1000000","v":0},{"$f":"B3911","v":0}]
[0.1,{"$f":"'Daily Calcs'!J3908/1000000","v":0},{"$f":"'Daily Calcs'!K3908/1000000","v":0},0]
[0.1,{"$f":"'Daily Calcs'!J3909/1000000","v":0},{"$f":"'Daily Calcs'!K3909/1000000","v":0},0]
[0.1,{"$f":"'Daily Calcs'!J3910/1000000","v":0},{"$f":"'Daily Calcs'!K3910/1000000","v":0},0]
[0.1,{"$f":"'Daily Calcs'!J3911/1000000","v":0},{"$f":"'Daily Calcs'!K3911/1000000","v":0},0]
[0.1,{"$f":"'Daily Calcs'!J3912/1000000","v":0},{"$f":"'Daily Calcs'!K3912/1000000","v":0},0]
[0.1,{"$f":"'Daily Calcs'!J3913/1000000","v":1.2675904353157572E-6},{"$f":"'Daily Calcs'!K3913/1000000","v":1.2675950474555488E-6},1.2675904353157572E-6]
[0.1,{"$f":"'Daily Calcs'!J3914/1000000","v":0},{"$f":"'Daily Calcs'!K3914/1000000","v":0},0]
[0.1,{"$f":"'Daily Calcs'!J3915/1000000","v":0},{"$f":"'Daily Calcs'!K3915/1000000","v":0},0]
[0.1,{"$f":"'Daily Calcs'!J3916/1000000","v":0},{"$f":"'Daily Calcs'!K3916/1000000","v":0},0]
[0.1,{"$f":"'Daily Calcs'!J3917/1000000","v":0},{"$f":"'Daily Calcs'!K3917/1000000","v":0},0]
[0.1,{"$f":"'Daily Calcs'!J3918/1000000","v":0},{"$f":"'Daily Calcs'!K3918/1000000","v":0},0]
[0.1,{"$f":"'Daily Calcs'!J3919/1000000","v":0},{"$f":"'Daily Calcs'!K3919/1000000","v":0},0]
[0.1,{"$f":"'Daily Calcs'!J3920/1000000","v":0},{"$f":"'Daily Calcs'!K3920/1000000","v":0},0]
[0.1,{"$f":"'Daily Calcs'!J3921/1000000","v":0},{"$f":"'Daily Calcs'!K3921/1000000","v":0},0]
[0.1,{"$f":"'Daily Calcs'!J3922/1000000","v":0},{"$f":"'Daily Calcs'!K3922/1000000","v":0},0]
[0.1,{"$f":"'Daily Calcs'!J3923/1000000","v":0},{"$f":"'Daily Calcs'!K3923/1000000","v":0},0]
[0.1,{"$f":"'Daily Calcs'!J3924/1000000","v":0},{"$f":"'Daily Calcs'!K3924/1000000","v":0},0]
[0.1,{"$f":"'Daily Calcs'!J3925/1000000","v":0},{"$f":"'Daily Calcs'!K3925/1000000","v":0},0]
[0.1,{"$f":"'Daily Calcs'!J3926/1000000","v":0},{"$f":"'Daily Calcs'!K3926/1000000","v":0},0]
[0.1,{"$f":"'Daily Calcs'!J3927/1000000","v":0},{"$f":"'Daily Calcs'!K3927/1000000","v":0},0]
[0.1,{"$f":"'Daily Calcs'!J3928/1000000","v":0},{"$f":"'Daily Calcs'!K3928/1000000","v":0},0]
[0.1,{"$f":"'Daily Calcs'!J3929/1000000","v":0},{"$f":"'Daily Calcs'!K3929/1000000","v":0},0]
[0.1,{"$f":"'Daily Calcs'!J3930/1000000","v":0},{"$f":"'Daily Calcs'!K3930/1000000","v":0},0]
[0.1,{"$f":"'Daily Calcs'!J3931/1000000","v":0},{"$f":"'Daily Calcs'!K3931/1000000","v":0},0]
[0.1,{"$f":"'Daily Calcs'!J3932/1000000","v":0},{"$f":"'Daily Calcs'!K3932/1000000","v":0},0]
[0.1,{"$f":"'Daily Calcs'!J3933/1000000","v":0},{"$f":"'Daily Calcs'!K3933/1000000","v":0},0]
[0.1,{"$f":"'Daily Calcs'!J3934/1000000","v":0},{"$f":"'Daily Calcs'!K3934/1000000","v":0},0]
[0.1,{"$f":"'Daily Calcs'!J3935/1000000","v":0},{"$f":"'Daily Calcs'!K3935/1000000","v":0},0]
[0.1,{"$f":"'Daily Calcs'!J3936/1000000","v":0},{"$f":"'Daily Calcs'!K3936/1000000","v":0},0]
[0.1,{"$f":"'Daily Calcs'!J3937/1000000","v":0},{"$f":"'Daily Calcs'!K3937/1000000","v":0},0]
[0.1,{"$f":"'Daily Calcs'!J3938/1000000","v":0},{"$f":"'Daily Calcs'!K3938/1000000","v":0},0]
[0.1,{"$f":"'Daily Calcs'!J3939/1000000","v":0},{"$f":"'Daily Calcs'!K3939/1000000","v":0},0]
[0.1,{"$f":"'Daily Calcs'!J3940/1000000","v":0},{"$f":"'Daily Calcs'!K3940/1000000","v":0},0]
[0.1,{"$f":"'Daily Calcs'!J3941/1000000","v":0},{"$f":"'Daily Calcs'!K3941/1000000","v":0},0]
[0.1,{"$f":"'Daily Calcs'!J3942/1000000","v":0},{"$f":"'Daily Calcs'!K3942/1000000","v":0},0]
[0.1,{"$f":"'Daily Calcs'!J3943/1000000","v":0},{"$f":"'Daily Calcs'!K3943/1000000","v":0},0]
[0.1,{"$f":"'Daily Calcs'!J3944/1000000","v":0},{"$f":"'Daily Calcs'!K3944/1000000","v":0},0]
[0.1,{"$f":"'Daily Calcs'!J3945/1000000","v":0},{"$f":"'Daily Calcs'!K3945/1000000","v":0},0]
[0.1,{"$f":"'Daily Calcs'!J3946/1000000","v":0},{"$f":"'Daily Calcs'!K3946/1000000","v":0},0]
[0.1,{"$f":"'Daily Calcs'!J3947/1000000","v":0},{"$f":"'Daily Calcs'!K3947/1000000","v":0},0]
[0.1,{"$f":"'Daily Calcs'!J3948/1000000","v":0},{"$f":"'Daily Calcs'!K3948/1000000","v":0},0]
[0.1,{"$f":"'Daily Calcs'!J3949/1000000","v":0},{"$f":"'Daily Calcs'!K3949/1000000","v":0},0]
[0.1,{"$f":"'Daily Calcs'!J3950/1000000","v":0},{"$f":"'Daily Calcs'!K3950/1000000","v":0},0]
[0.1,{"$f":"'Daily Calcs'!J3951/1000000","v":0},{"$f":"'Daily Calcs'!K3951/1000000","v":0},0]
[0.1,{"$f":"'Daily Calcs'!J3952/1000000","v":0},{"$f":"'Daily Calcs'!K3952/1000000","v":0},0]
[0.1,{"$f":"'Daily Calcs'!J3953/1000000","v":0},{"$f":"'Daily Calcs'!K3953/1000000","v":0},0]
[0.1,{"$f":"'Daily Calcs'!J3954/1000000","v":0},{"$f":"'Daily Calcs'!K3954/1000000","v":0},0]
[0.1,{"$f":"'Daily Calcs'!J3955/1000000","v":0},{"$f":"'Daily Calcs'!K3955/1000000","v":0},0]
[0.1,{"$f":"'Daily Calcs'!J3956/1000000","v":0},{"$f":"'Daily Calcs'!K3956/1000000","v":0},0]
[0.1,{"$f":"'Daily Calcs'!J3957/1000000","v":0},{"$f":"'Daily Calcs'!K3957/1000000","v":0},0]
[0.1,{"$f":"'Daily Calcs'!J3958/1000000","v":7.7849944008958562E-7},{"$f":"'Daily Calcs'!K3958/1000000","v":7.7849977451287799E-7},7.7849944008958562E-7]
[0.1,{"$f":"'Daily Calcs'!J3959/1000000","v":0},{"$f":"'Daily Calcs'!K3959/1000000","v":0},0]
[0.1,{"$f":"'Daily Calcs'!J3960/1000000","v":5.1130997001499252E-7},{"$f":"'Daily Calcs'!K3960/1000000","v":5.1131015093703163E-7},5.1130997001499252E-7]
[0.1,{"$f":"'Daily Calcs'!J3961/1000000","v":0},{"$f":"'Daily Calcs'!K3961/1000000","v":0},0]
[0.1,{"$f":"'Daily Calcs'!J3962/1000000","v":0},{"$f":"'Daily Calcs'!K3962/1000000","v":0},0]
[0.1,{"$f":"'Daily Calcs'!J3963/1000000","v":0},{"$f":"'Daily Calcs'!K3963/1000000","v":0},0]
[0.1,{"$f":"'Daily Calcs'!J3964/1000000","v":0},{"$f":"'Daily Calcs'!K3964/1000000","v":0},0]
[0.1,{"$f":"'Daily Calcs'!J3965/1000000","v":0},{"$f":"'Daily Calcs'!K3965/1000000","v":0},0]
[0.1,{"$f":"'Daily Calcs'!J3966/1000000","v":0},{"$f":"'Daily Calcs'!K3966/1000000","v":0},0]
[0.1,{"$f":"'Daily Calcs'!J3967/1000000","v":0},{"$f":"'Daily Calcs'!K3967/1000000","v":0},0]
[0.1,{"$f":"'Daily Calcs'!J3968/1000000","v":0},{"$f":"'Daily Calcs'!K3968/1000000","v":0},0]
[0.1,{"$f":"'Daily Calcs'!J3969/1000000","v":0},{"$f":"'Daily Calcs'!K3969/1000000","v":0},0]
[0.1,{"$f":"'Daily Calcs'!J3970/1000000","v":0},{"$f":"'Daily Calcs'!K3970/1000000","v":0},0]
[0.1,{"$f":"'Daily Calcs'!J3971/1000000","v":0},{"$f":"'Daily Calcs'!K3971/1000000","v":0},{"$f":"B3975","v":0}]
[0.1,{"$f":"'Daily Calcs'!J3972/1000000","v":0},{"$f":"'Daily Calcs'!K3972/1000000","v":0},0]
[0.1,{"$f":"'Daily Calcs'!J3973/1000000","v":0},{"$f":"'Daily Calcs'!K3973/1000000","v":0},0]
[0.1,{"$f":"'Daily Calcs'!J3974/1000000","v":0},{"$f":"'Daily Calcs'!K3974/1000000","v":0},0]
[0.1,{"$f":"'Daily Calcs'!J3975/1000000","v":0},{"$f":"'Daily Calcs'!K3975/1000000","v":0},0]
[0.1,{"$f":"'Daily Calcs'!J3976/1000000","v":0},{"$f":"'Daily Calcs'!K3976/1000000","v":0},0]
[0.1,{"$f":"'Daily Calcs'!J3977/1000000","v":0},{"$f":"'Daily Calcs'!K3977/1000000","v":0},0]
[0.1,{"$f":"'Daily Calcs'!J3978/1000000","v":0},{"$f":"'Daily Calcs'!K3978/1000000","v":0},0]
[0.1,{"$f":"'Daily Calcs'!J3979/1000000","v":0},{"$f":"'Daily Calcs'!K3979/1000000","v":0},0]
[0.1,{"$f":"'Daily Calcs'!J3980/1000000","v":0},{"$f":"'Daily Calcs'!K3980/1000000","v":0},0]
[0.1,{"$f":"'Daily Calcs'!J3981/1000000","v":2.7784502430796696E-7},{"$f":"'Daily Calcs'!K3981/1000000","v":2.7784504657505696E-7},2.7784502430796696E-7]
[0.1,{"$f":"'Daily Calcs'!J3982/1000000","v":0},{"$f":"'Daily Calcs'!K3982/1000000","v":0},0]
[0.1,{"$f":"'Daily Calcs'!J3983/1000000","v":0},{"$f":"'Daily Calcs'!K3983/1000000","v":0},0]
[0.1,{"$f":"'Daily Calcs'!J3984/1000000","v":0},{"$f":"'Daily Calcs'!K3984/1000000","v":0},0]
[0.1,{"$f":"'Daily Calcs'!J3985/1000000","v":1.9231627978596448E-7},{"$f":"'Daily Calcs'!K3985/1000000","v":1.9231628932555722E-7},1.9231627978596448E-7]
[0.1,{"$f":"'Daily Calcs'!J3986/1000000","v":1.3479609216826815E-7},{"$f":"'Daily Calcs'!K3986/1000000","v":1.3479609660314298E-7},1.3479609216826815E-7]
[0.1,{"$f":"'Daily Calcs'!J3987/1000000","v":0},{"$f":"'Daily Calcs'!K3987/1000000","v":0},0]
[0.1,{"$f":"'Daily Calcs'!J3988/1000000","v":0},{"$f":"'Daily Calcs'!K3988/1000000","v":0},0]
[0.1,{"$f":"'Daily Calcs'!J3989/1000000","v":1.1128485105480761E-7},{"$f":"'Daily Calcs'!K3989/1000000","v":1.1128485256482562E-7},1.1128485105480761E-7]
[0.1,{"$f":"'Daily Calcs'!J3990/1000000","v":7.02844355456098E-8},{"$f":"'Daily Calcs'!K3990/1000000","v":7.0284436548024271E-8},7.02844355456098E-8]
[0.1,{"$f":"'Daily Calcs'!J3991/1000000","v":0},{"$f":"'Daily Calcs'!K3991/1000000","v":0},0]
[0.1,{"$f":"'Daily Calcs'!J3992/1000000","v":0},{"$f":"'Daily Calcs'!K3992/1000000","v":0},0]
[0.1,{"$f":"'Daily Calcs'!J3993/1000000","v":5.4772407320506808E-8},{"$f":"'Daily Calcs'!K3993/1000000","v":5.477240755964336E-8},5.4772407320506808E-8]
[0.1,{"$f":"'Daily Calcs'!J3994/1000000","v":3.9852331925017419E-8},{"$f":"'Daily Calcs'!K3994/1000000","v":3.9852332131777341E-8},3.9852331925017419E-8]
[0.1,{"$f":"'Daily Calcs'!J3995/1000000","v":0},{"$f":"'Daily Calcs'!K3995/1000000","v":0},0]
[0.1,{"$f":"'Daily Calcs'!J3996/1000000","v":0},{"$f":"'Daily Calcs'!K3996/1000000","v":0},0]
[0.1,{"$f":"'Daily Calcs'!J3997/1000000","v":0},{"$f":"'Daily Calcs'!K3997/1000000","v":0},0]
[0.1,{"$f":"'Daily Calcs'!J3998/1000000","v":0},{"$f":"'Daily Calcs'!K3998/1000000","v":0},0]
[0.1,{"$f":"'Daily Calcs'!J3999/1000000","v":0},{"$f":"'Daily Calcs'!K3999/1000000","v":0},0]
[0.1,{"$f":"'Daily Calcs'!J4000/1000000","v":0},{"$f":"'Daily Calcs'!K4000/1000000","v":0},0]
[0.1,{"$f":"'Daily Calcs'!J4001/1000000","v":0},{"$f":"'Daily Calcs'!K4001/1000000","v":0},0]
[0.1,{"$f":"'Daily Calcs'!J4002/1000000","v":0},{"$f":"'Daily Calcs'!K4002/1000000","v":0},0]
[0.1,{"$f":"'Daily Calcs'!J4003/1000000","v":2.7620923270836616E-8},{"$f":"'Daily Calcs'!K4003/1000000","v":2.7620923317871436E-8},2.7620923270836616E-8]
[0.1,{"$f":"'Daily Calcs'!J4004/1000000","v":2.0868568009573197E-8},{"$f":"'Daily Calcs'!K4004/1000000","v":2.0868568044826487E-8},2.0868568009573197E-8]
[0.1,{"$f":"'Daily Calcs'!J4005/1000000","v":0},{"$f":"'Daily Calcs'!K4005/1000000","v":0},0]
[0.1,{"$f":"'Daily Calcs'!J4006/1000000","v":0},{"$f":"'Daily Calcs'!K4006/1000000","v":0},0]
[0.1,{"$f":"'Daily Calcs'!J4007/1000000","v":1.5101280220711022E-8},{"$f":"'Daily Calcs'!K4007/1000000","v":1.5101280234939862E-8},1.5101280220711022E-8]
[0.1,{"$f":"'Daily Calcs'!J4008/1000000","v":0},{"$f":"'Daily Calcs'!K4008/1000000","v":0},0]
[0.1,{"$f":"'Daily Calcs'!J4009/1000000","v":0},{"$f":"'Daily Calcs'!K4009/1000000","v":0},0]
[0.1,{"$f":"'Daily Calcs'!J4010/1000000","v":0},{"$f":"'Daily Calcs'!K4010/1000000","v":0},0]
[0.1,{"$f":"'Daily Calcs'!J4011/1000000","v":0},{"$f":"'Daily Calcs'!K4011/1000000","v":0},0]
[0.1,{"$f":"'Daily Calcs'!J4012/1000000","v":0},{"$f":"'Daily Calcs'!K4012/1000000","v":0},0]
[0.1,{"$f":"'Daily Calcs'!J4013/1000000","v":0},{"$f":"'Daily Calcs'!K4013/1000000","v":0},0]
[0.1,{"$f":"'Daily Calcs'!J4014/1000000","v":0},{"$f":"'Daily Calcs'!K4014/1000000","v":0},0]
[0.1,{"$f":"'Daily Calcs'!J4015/1000000","v":0},{"$f":"'Daily Calcs'!K4015/1000000","v":0},0]
[0.1,{"$f":"'Daily Calcs'!J4016/1000000","v":0},{"$f":"'Daily Calcs'!K4016/1000000","v":0},0]
[0.1,{"$f":"'Daily Calcs'!J4017/1000000","v":0},{"$f":"'Daily Calcs'!K4017/1000000","v":0},0]
[0.1,{"$f":"'Daily Calcs'!J4018/1000000","v":0},{"$f":"'Daily Calcs'!K4018/1000000","v":0},0]
[0.1,{"$f":"'Daily Calcs'!J4019/1000000","v":0},{"$f":"'Daily Calcs'!K4019/1000000","v":0},0]
[0.1,{"$f":"'Daily Calcs'!J4020/1000000","v":8.986225349321176E-9},{"$f":"'Daily Calcs'!K4020/1000000","v":8.9862253529572882E-9},8.986225349321176E-9]
[0.1,{"$f":"'Daily Calcs'!J4021/1000000","v":0},{"$f":"'Daily Calcs'!K4021/1000000","v":0},0]
[0.1,{"$f":"'Daily Calcs'!J4022/1000000","v":4.7727053306668513E-9},{"$f":"'Daily Calcs'!K4022/1000000","v":4.7727053329294525E-9},4.7727053306668513E-9]
[0.1,{"$f":"'Daily Calcs'!J4023/1000000","v":0},{"$f":"'Daily Calcs'!K4023/1000000","v":0},0]
[0.1,{"$f":"'Daily Calcs'!J4024/1000000","v":0},{"$f":"'Daily Calcs'!K4024/1000000","v":0},0]
[0.1,{"$f":"'Daily Calcs'!J4025/1000000","v":0},{"$f":"'Daily Calcs'!K4025/1000000","v":0},0]
[0.1,{"$f":"'Daily Calcs'!J4026/1000000","v":0},{"$f":"'Daily Calcs'!K4026/1000000","v":0},0]
[0.1,{"$f":"'Daily Calcs'!J4027/1000000","v":2.0348784414083465E-9},{"$f":"'Daily Calcs'!K4027/1000000","v":2.0348784418899989E-9},2.0348784414083465E-9]
[0.1,{"$f":"'Daily Calcs'!J4028/1000000","v":9.8461809428755942E-10},{"$f":"'Daily Calcs'!K4028/1000000","v":9.8461809442628402E-10},9.8461809428755942E-10]
[0.1,{"$f":"'Daily Calcs'!J4029/1000000","v":5.3226676946800308E-10},{"$f":"'Daily Calcs'!K4029/1000000","v":5.3226676951185709E-10},5.3226676946800308E-10]
[0.1,{"$f":"'Daily Calcs'!J4030/1000000","v":0},{"$f":"'Daily Calcs'!K4030/1000000","v":0},0]
[0.1,{"$f":"'Daily Calcs'!J4031/1000000","v":3.1501262972092887E-10},{"$f":"'Daily Calcs'!K4031/1000000","v":3.1501262973614723E-10},3.1501262972092887E-10]
[0.1,{"$f":"'Daily Calcs'!J4032/1000000","v":0},{"$f":"'Daily Calcs'!K4032/1000000","v":0},0]
[0.1,{"$f":"'Daily Calcs'!J4033/1000000","v":0},{"$f":"'Daily Calcs'!K4033/1000000","v":0},0]
[0.1,{"$f":"'Daily Calcs'!J4034/1000000","v":0},{"$f":"'Daily Calcs'!K4034/1000000","v":0},0]
[0.1,{"$f":"'Daily Calcs'!J4035/1000000","v":0},{"$f":"'Daily Calcs'!K4035/1000000","v":0},{"$f":"B4039","v":0}]
[0.1,{"$f":"'Daily Calcs'!J4036/1000000","v":0},{"$f":"'Daily Calcs'!K4036/1000000","v":0},0]
[0.1,{"$f":"'Daily Calcs'!J4037/1000000","v":0},{"$f":"'Daily Calcs'!K4037/1000000","v":0},0]
[0.1,{"$f":"'Daily Calcs'!J4038/1000000","v":0},{"$f":"'Daily Calcs'!K4038/1000000","v":0},0]
[0.1,{"$f":"'Daily Calcs'!J4039/1000000","v":0},{"$f":"'Daily Calcs'!K4039/1000000","v":0},0]
[0.1,{"$f":"'Daily Calcs'!J4040/1000000","v":0},{"$f":"'Daily Calcs'!K4040/1000000","v":0},0]
[0.1,{"$f":"'Daily Calcs'!J4041/1000000","v":0},{"$f":"'Daily Calcs'!K4041/1000000","v":0},0]
[0.1,{"$f":"'Daily Calcs'!J4042/1000000","v":0},{"$f":"'Daily Calcs'!K4042/1000000","v":0},0]
[0.1,{"$f":"'Daily Calcs'!J4043/1000000","v":0},{"$f":"'Daily Calcs'!K4043/1000000","v":0},0]
[0.1,{"$f":"'Daily Calcs'!J4044/1000000","v":0},{"$f":"'Daily Calcs'!K4044/1000000","v":0},0]
[0.1,{"$f":"'Daily Calcs'!J4045/1000000","v":0},{"$f":"'Daily Calcs'!K4045/1000000","v":0},0]
[0.1,{"$f":"'Daily Calcs'!J4046/1000000","v":0},{"$f":"'Daily Calcs'!K4046/1000000","v":0},0]
[0.1,{"$f":"'Daily Calcs'!J4047/1000000","v":7.5509798465635805E-11},{"$f":"'Daily Calcs'!K4047/1000000","v":7.5509798466646814E-11},7.5509798465635805E-11]
[0.1,{"$f":"'Daily Calcs'!J4048/1000000","v":5.2979096111175998E-11},{"$f":"'Daily Calcs'!K4048/1000000","v":5.2979096111487993E-11},5.2979096111175998E-11]
[0.1,{"$f":"'Daily Calcs'!J4049/1000000","v":0},{"$f":"'Daily Calcs'!K4049/1000000","v":0},0]
[0.1,{"$f":"'Daily Calcs'!J4050/1000000","v":4.0590951061865192E-11},{"$f":"'Daily Calcs'!K4050/1000000","v":4.0590951062037549E-11},4.0590951061865192E-11]
[0.1,{"$f":"'Daily Calcs'!J4051/1000000","v":0},{"$f":"'Daily Calcs'!K4051/1000000","v":0},0]
[0.1,{"$f":"'Daily Calcs'!J4052/1000000","v":1.9600173267001819E-11},{"$f":"'Daily Calcs'!K4052/1000000","v":1.960017326709824E-11},1.9600173267001819E-11]
[0.1,{"$f":"'Daily Calcs'!J4053/1000000","v":0},{"$f":"'Daily Calcs'!K4053/1000000","v":0},0]
[0.1,{"$f":"'Daily Calcs'!J4054/1000000","v":0},{"$f":"'Daily Calcs'!K4054/1000000","v":0},0]
[0.1,{"$f":"'Daily Calcs'!J4055/1000000","v":1.1359633123143467E-11},{"$f":"'Daily Calcs'!K4055/1000000","v":1.1359633123174268E-11},1.1359633123143467E-11]
[0.1,{"$f":"'Daily Calcs'!J4056/1000000","v":0},{"$f":"'Daily Calcs'!K4056/1000000","v":0},0]
[0.1,{"$f":"'Daily Calcs'!J4057/1000000","v":0},{"$f":"'Daily Calcs'!K4057/1000000","v":0},0]
[0.1,{"$f":"'Daily Calcs'!J4058/1000000","v":0},{"$f":"'Daily Calcs'!K4058/1000000","v":0},0]
[0.1,{"$f":"'Daily Calcs'!J4059/1000000","v":0},{"$f":"'Daily Calcs'!K4059/1000000","v":0},0]
[0.1,{"$f":"'Daily Calcs'!J4060/1000000","v":0},{"$f":"'Daily Calcs'!K4060/1000000","v":0},0]
[0.1,{"$f":"'Daily Calcs'!J4061/1000000","v":5.0257091077675231E-12},{"$f":"'Daily Calcs'!K4061/1000000","v":5.0257091077762925E-12},5.0257091077675231E-12]
[0.1,{"$f":"'Daily Calcs'!J4062/1000000","v":0},{"$f":"'Daily Calcs'!K4062/1000000","v":0},0]
[0.1,{"$f":"'Daily Calcs'!J4063/1000000","v":0},{"$f":"'Daily Calcs'!K4063/1000000","v":0},0]
[0.1,{"$f":"'Daily Calcs'!J4064/1000000","v":0},{"$f":"'Daily Calcs'!K4064/1000000","v":0},0]
[0.1,{"$f":"'Daily Calcs'!J4065/1000000","v":3.6967923466516599E-12},{"$f":"'Daily Calcs'!K4065/1000000","v":3.6967923466547618E-12},3.6967923466516599E-12]
[0.1,{"$f":"'Daily Calcs'!J4066/1000000","v":2.6299797142733826E-12},{"$f":"'Daily Calcs'!K4066/1000000","v":2.6299797142753137E-12},2.6299797142733826E-12]
[0.1,{"$f":"'Daily Calcs'!J4067/1000000","v":1.9433584437875471E-12},{"$f":"'Daily Calcs'!K4067/1000000","v":1.9433584437886711E-12},1.9433584437875471E-12]
[0.1,{"$f":"'Daily Calcs'!J4068/1000000","v":0},{"$f":"'Daily Calcs'!K4068/1000000","v":0},0]
[0.1,{"$f":"'Daily Calcs'!J4069/1000000","v":0},{"$f":"'Daily Calcs'!K4069/1000000","v":0},0]
[0.1,{"$f":"'Daily Calcs'!J4070/1000000","v":0},{"$f":"'Daily Calcs'!K4070/1000000","v":0},0]
[0.1,{"$f":"'Daily Calcs'!J4071/1000000","v":0},{"$f":"'Daily Calcs'!K4071/1000000","v":0},0]
[0.1,{"$f":"'Daily Calcs'!J4072/1000000","v":0},{"$f":"'Daily Calcs'!K4072/1000000","v":0},0]
[0.1,{"$f":"'Daily Calcs'!J4073/1000000","v":0},{"$f":"'Daily Calcs'!K4073/1000000","v":0},0]
[0.1,{"$f":"'Daily Calcs'!J4074/1000000","v":0},{"$f":"'Daily Calcs'!K4074/1000000","v":0},0]
[0.1,{"$f":"'Daily Calcs'!J4075/1000000","v":0},{"$f":"'Daily Calcs'!K4075/1000000","v":0},0]
[0.1,{"$f":"'Daily Calcs'!J4076/1000000","v":0},{"$f":"'Daily Calcs'!K4076/1000000","v":0},0]
[0.1,{"$f":"'Daily Calcs'!J4077/1000000","v":0},{"$f":"'Daily Calcs'!K4077/1000000","v":0},0]
[0.1,{"$f":"'Daily Calcs'!J4078/1000000","v":0},{"$f":"'Daily Calcs'!K4078/1000000","v":0},0]
[0.1,{"$f":"'Daily Calcs'!J4079/1000000","v":6.8652825105000391E-13},{"$f":"'Daily Calcs'!K4079/1000000","v":6.8652825105019727E-13},6.8652825105000391E-13]
[0.1,{"$f":"'Daily Calcs'!J4080/1000000","v":3.389604620168814E-13},{"$f":"'Daily Calcs'!K4080/1000000","v":3.3896046201699783E-13},3.389604620168814E-13]
[0.1,{"$f":"'Daily Calcs'!J4081/1000000","v":0},{"$f":"'Daily Calcs'!K4081/1000000","v":0},0]
[0.1,{"$f":"'Daily Calcs'!J4082/1000000","v":0},{"$f":"'Daily Calcs'!K4082/1000000","v":0},0]
[0.1,{"$f":"'Daily Calcs'!J4083/1000000","v":0},{"$f":"'Daily Calcs'!K4083/1000000","v":0},0]
[0.1,{"$f":"'Daily Calcs'!J4084/1000000","v":0},{"$f":"'Daily Calcs'!K4084/1000000","v":0},0]
[0.1,{"$f":"'Daily Calcs'!J4085/1000000","v":0},{"$f":"'Daily Calcs'!K4085/1000000","v":0},0]
[0.1,{"$f":"'Daily Calcs'!J4086/1000000","v":1.5893994540491355E-13},{"$f":"'Daily Calcs'!K4086/1000000","v":1.5893994540493503E-13},1.5893994540491355E-13]
[0.1,{"$f":"'Daily Calcs'!J4087/1000000","v":0},{"$f":"'Daily Calcs'!K4087/1000000","v":0},0]
[0.1,{"$f":"'Daily Calcs'!J4088/1000000","v":0},{"$f":"'Daily Calcs'!K4088/1000000","v":0},0]
[0.1,{"$f":"'Daily Calcs'!J4089/1000000","v":0},{"$f":"'Daily Calcs'!K4089/1000000","v":0},0]
[0.1,{"$f":"'Daily Calcs'!J4090/1000000","v":0},{"$f":"'Daily Calcs'!K4090/1000000","v":0},0]
[0.1,{"$f":"'Daily Calcs'!J4091/1000000","v":0},{"$f":"'Daily Calcs'!K4091/1000000","v":0},0]
[0.1,{"$f":"'Daily Calcs'!J4092/1000000","v":0},{"$f":"'Daily Calcs'!K4092/1000000","v":0},0]
[0.1,{"$f":"'Daily Calcs'!J4093/1000000","v":0},{"$f":"'Daily Calcs'!K4093/1000000","v":0},0]
[0.1,{"$f":"'Daily Calcs'!J4094/1000000","v":5.6286980213006032E-14},{"$f":"'Daily Calcs'!K4094/1000000","v":5.6286980213009863E-14},5.6286980213006032E-14]
[0.1,{"$f":"'Daily Calcs'!J4095/1000000","v":0},{"$f":"'Daily Calcs'!K4095/1000000","v":0},0]
[0.1,{"$f":"'Daily Calcs'!J4096/1000000","v":0},{"$f":"'Daily Calcs'!K4096/1000000","v":0},0]
[0.1,{"$f":"'Daily Calcs'!J4097/1000000","v":0},{"$f":"'Daily Calcs'!K4097/1000000","v":0},0]
[0.1,{"$f":"'Daily Calcs'!J4098/1000000","v":0},{"$f":"'Daily Calcs'!K4098/1000000","v":0},0]
[0.1,{"$f":"'Daily Calcs'!J4099/1000000","v":0},{"$f":"'Daily Calcs'!K4099/1000000","v":0},{"$f":"B4103","v":0}]
[0.1,{"$f":"'Daily Calcs'!J4100/1000000","v":0},{"$f":"'Daily Calcs'!K4100/1000000","v":0},0]
[0.1,{"$f":"'Daily Calcs'!J4101/1000000","v":0},{"$f":"'Daily Calcs'!K4101/1000000","v":0},0]
[0.1,{"$f":"'Daily Calcs'!J4102/1000000","v":0},{"$f":"'Daily Calcs'!K4102/1000000","v":0},0]
[0.1,{"$f":"'Daily Calcs'!J4103/1000000","v":0},{"$f":"'Daily Calcs'!K4103/1000000","v":0},0]
[0.1,{"$f":"'Daily Calcs'!J4104/1000000","v":0},{"$f":"'Daily Calcs'!K4104/1000000","v":0},0]
[0.1,{"$f":"'Daily Calcs'!J4105/1000000","v":0},{"$f":"'Daily Calcs'!K4105/1000000","v":0},0]
[0.1,{"$f":"'Daily Calcs'!J4106/1000000","v":0},{"$f":"'Daily Calcs'!K4106/1000000","v":0},0]
[0.1,{"$f":"'Daily Calcs'!J4107/1000000","v":1.5567706793902799E-14},{"$f":"'Daily Calcs'!K4107/1000000","v":1.5567706793903004E-14},1.5567706793902799E-14]
[0.1,{"$f":"'Daily Calcs'!J4108/1000000","v":0},{"$f":"'Daily Calcs'!K4108/1000000","v":0},0]
[0.1,{"$f":"'Daily Calcs'!J4109/1000000","v":1.0758155976139628E-14},{"$f":"'Daily Calcs'!K4109/1000000","v":1.0758155976139741E-14},1.0758155976139628E-14]
[0.1,{"$f":"'Daily Calcs'!J4110/1000000","v":0},{"$f":"'Daily Calcs'!K4110/1000000","v":0},0]
[0.1,{"$f":"'Daily Calcs'!J4111/1000000","v":0},{"$f":"'Daily Calcs'!K4111/1000000","v":0},0]
[0.1,{"$f":"'Daily Calcs'!J4112/1000000","v":6.1365994236311241E-15},{"$f":"'Daily Calcs'!K4112/1000000","v":6.1365994236311769E-15},6.1365994236311241E-15]
[0.1,{"$f":"'Daily Calcs'!J4113/1000000","v":4.5748837783989997E-15},{"$f":"'Daily Calcs'!K4113/1000000","v":4.5748837783990305E-15},4.5748837783989997E-15]
[0.1,{"$f":"'Daily Calcs'!J4114/1000000","v":0},{"$f":"'Daily Calcs'!K4114/1000000","v":0},0]
[0.1,{"$f":"'Daily Calcs'!J4115/1000000","v":0},{"$f":"'Daily Calcs'!K4115/1000000","v":0},0]
[0.1,{"$f":"'Daily Calcs'!J4116/1000000","v":2.0436331715377465E-15},{"$f":"'Daily Calcs'!K4116/1000000","v":2.0436331715377611E-15},2.0436331715377465E-15]
[0.1,{"$f":"'Daily Calcs'!J4117/1000000","v":0},{"$f":"'Daily Calcs'!K4117/1000000","v":0},0]
[0.1,{"$f":"'Daily Calcs'!J4118/1000000","v":0},{"$f":"'Daily Calcs'!K4118/1000000","v":0},0]
[0.1,{"$f":"'Daily Calcs'!J4119/1000000","v":0},{"$f":"'Daily Calcs'!K4119/1000000","v":0},0]
[0.1,{"$f":"'Daily Calcs'!J4120/1000000","v":0},{"$f":"'Daily Calcs'!K4120/1000000","v":0},0]
[0.1,{"$f":"'Daily Calcs'!J4121/1000000","v":0},{"$f":"'Daily Calcs'!K4121/1000000","v":0},0]
[0.1,{"$f":"'Daily Calcs'!J4122/1000000","v":0},{"$f":"'Daily Calcs'!K4122/1000000","v":0},0]
[0.1,{"$f":"'Daily Calcs'!J4123/1000000","v":0},{"$f":"'Daily Calcs'!K4123/1000000","v":0},0]
[0.1,{"$f":"'Daily Calcs'!J4124/1000000","v":0},{"$f":"'Daily Calcs'!K4124/1000000","v":0},0]
[0.1,{"$f":"'Daily Calcs'!J4125/1000000","v":0},{"$f":"'Daily Calcs'!K4125/1000000","v":0},0]
[0.1,{"$f":"'Daily Calcs'!J4126/1000000","v":0},{"$f":"'Daily Calcs'!K4126/1000000","v":0},0]
[0.1,{"$f":"'Daily Calcs'!J4127/1000000","v":0},{"$f":"'Daily Calcs'!K4127/1000000","v":0},0]
[0.1,{"$f":"'Daily Calcs'!J4128/1000000","v":0},{"$f":"'Daily Calcs'!K4128/1000000","v":0},0]
[0.1,{"$f":"'Daily Calcs'!J4129/1000000","v":0},{"$f":"'Daily Calcs'!K4129/1000000","v":0},0]
[0.1,{"$f":"'Daily Calcs'!J4130/1000000","v":0},{"$f":"'Daily Calcs'!K4130/1000000","v":0},0]
[0.1,{"$f":"'Daily Calcs'!J4131/1000000","v":6.8766582760732024E-16},{"$f":"'Daily Calcs'!K4131/1000000","v":6.8766582760732201E-16},6.8766582760732024E-16]
[0.1,{"$f":"'Daily Calcs'!J4132/1000000","v":0},{"$f":"'Daily Calcs'!K4132/1000000","v":0},0]
[0.1,{"$f":"'Daily Calcs'!J4133/1000000","v":0},{"$f":"'Daily Calcs'!K4133/1000000","v":0},0]
[0.1,{"$f":"'Daily Calcs'!J4134/1000000","v":0},{"$f":"'Daily Calcs'!K4134/1000000","v":0},0]
[0.1,{"$f":"'Daily Calcs'!J4135/1000000","v":0},{"$f":"'Daily Calcs'!K4135/1000000","v":0},0]
[0.1,{"$f":"'Daily Calcs'!J4136/1000000","v":0},{"$f":"'Daily Calcs'!K4136/1000000","v":0},0]
[0.1,{"$f":"'Daily Calcs'!J4137/1000000","v":0},{"$f":"'Daily Calcs'!K4137/1000000","v":0},0]
[0.1,{"$f":"'Daily Calcs'!J4138/1000000","v":0},{"$f":"'Daily Calcs'!K4138/1000000","v":0},0]
[0.1,{"$f":"'Daily Calcs'!J4139/1000000","v":0},{"$f":"'Daily Calcs'!K4139/1000000","v":0},0]
[0.1,{"$f":"'Daily Calcs'!J4140/1000000","v":0},{"$f":"'Daily Calcs'!K4140/1000000","v":0},0]
[0.1,{"$f":"'Daily Calcs'!J4141/1000000","v":0},{"$f":"'Daily Calcs'!K4141/1000000","v":0},0]
[0.1,{"$f":"'Daily Calcs'!J4142/1000000","v":3.9443341753879466E-16},{"$f":"'Daily Calcs'!K4142/1000000","v":3.9443341753879525E-16},3.9443341753879466E-16]
[0.1,{"$f":"'Daily Calcs'!J4143/1000000","v":0},{"$f":"'Daily Calcs'!K4143/1000000","v":0},0]
[0.1,{"$f":"'Daily Calcs'!J4144/1000000","v":0},{"$f":"'Daily Calcs'!K4144/1000000","v":0},0]
[0.1,{"$f":"'Daily Calcs'!J4145/1000000","v":0},{"$f":"'Daily Calcs'!K4145/1000000","v":0},0]
[0.1,{"$f":"'Daily Calcs'!J4146/1000000","v":0},{"$f":"'Daily Calcs'!K4146/1000000","v":0},0]
[0.1,{"$f":"'Daily Calcs'!J4147/1000000","v":1.6838581934753913E-16},{"$f":"'Daily Calcs'!K4147/1000000","v":1.6838581934753941E-16},1.6838581934753913E-16]
[0.1,{"$f":"'Daily Calcs'!J4148/1000000","v":0},{"$f":"'Daily Calcs'!K4148/1000000","v":0},0]
[0.1,{"$f":"'Daily Calcs'!J4149/1000000","v":0},{"$f":"'Daily Calcs'!K4149/1000000","v":0},0]
[0.1,{"$f":"'Daily Calcs'!J4150/1000000","v":0},{"$f":"'Daily Calcs'!K4150/1000000","v":0},0]
[0.1,{"$f":"'Daily Calcs'!J4151/1000000","v":0},{"$f":"'Daily Calcs'!K4151/1000000","v":0},0]
[0.1,{"$f":"'Daily Calcs'!J4152/1000000","v":4.8360370126601889E-17},{"$f":"'Daily Calcs'!K4152/1000000","v":4.8360370126601957E-17},4.8360370126601889E-17]
[0.1,{"$f":"'Daily Calcs'!J4153/1000000","v":0},{"$f":"'Daily Calcs'!K4153/1000000","v":0},0]
[0.1,{"$f":"'Daily Calcs'!J4154/1000000","v":3.1784372364082511E-17},{"$f":"'Daily Calcs'!K4154/1000000","v":3.178437236408253E-17},3.1784372364082511E-17]
[0.1,{"$f":"'Daily Calcs'!J4155/1000000","v":0},{"$f":"'Daily Calcs'!K4155/1000000","v":0},0]
[0.1,{"$f":"'Daily Calcs'!J4156/1000000","v":0},{"$f":"'Daily Calcs'!K4156/1000000","v":0},0]
[0.1,{"$f":"'Daily Calcs'!J4157/1000000","v":0},{"$f":"'Daily Calcs'!K4157/1000000","v":0},0]
[0.1,{"$f":"'Daily Calcs'!J4158/1000000","v":0},{"$f":"'Daily Calcs'!K4158/1000000","v":0},0]
[0.1,{"$f":"'Daily Calcs'!J4159/1000000","v":0},{"$f":"'Daily Calcs'!K4159/1000000","v":0},0]
[0.1,{"$f":"'Daily Calcs'!J4160/1000000","v":0},{"$f":"'Daily Calcs'!K4160/1000000","v":0},0]
[0.1,{"$f":"'Daily Calcs'!J4161/1000000","v":0},{"$f":"'Daily Calcs'!K4161/1000000","v":0},0]
[0.1,{"$f":"'Daily Calcs'!J4162/1000000","v":1.3711748939021665E-17},{"$f":"'Daily Calcs'!K4162/1000000","v":1.3711748939021665E-17},1.3711748939021665E-17]
[0.1,{"$f":"'Daily Calcs'!J4163/1000000","v":0},{"$f":"'Daily Calcs'!K4163/1000000","v":0},{"$f":"B4167","v":0}]
[0.1,{"$f":"'Daily Calcs'!J4164/1000000","v":0},{"$f":"'Daily Calcs'!K4164/1000000","v":0},0]
[0.1,{"$f":"'Daily Calcs'!J4165/1000000","v":0},{"$f":"'Daily Calcs'!K4165/1000000","v":0},0]
[0.1,{"$f":"'Daily Calcs'!J4166/1000000","v":0},{"$f":"'Daily Calcs'!K4166/1000000","v":0},0]
[0.1,{"$f":"'Daily Calcs'!J4167/1000000","v":0},{"$f":"'Daily Calcs'!K4167/1000000","v":0},0]
[0.1,{"$f":"'Daily Calcs'!J4168/1000000","v":0},{"$f":"'Daily Calcs'!K4168/1000000","v":0},0]
[0.1,{"$f":"'Daily Calcs'!J4169/1000000","v":0},{"$f":"'Daily Calcs'!K4169/1000000","v":0},0]
[0.1,{"$f":"'Daily Calcs'!J4170/1000000","v":0},{"$f":"'Daily Calcs'!K4170/1000000","v":0},0]
[0.1,{"$f":"'Daily Calcs'!J4171/1000000","v":0},{"$f":"'Daily Calcs'!K4171/1000000","v":0},0]
[0.1,{"$f":"'Daily Calcs'!J4172/1000000","v":0},{"$f":"'Daily Calcs'!K4172/1000000","v":0},0]
[0.1,{"$f":"'Daily Calcs'!J4173/1000000","v":0},{"$f":"'Daily Calcs'!K4173/1000000","v":0},0]
[0.1,{"$f":"'Daily Calcs'!J4174/1000000","v":0},{"$f":"'Daily Calcs'!K4174/1000000","v":0},0]
[0.1,{"$f":"'Daily Calcs'!J4175/1000000","v":0},{"$f":"'Daily Calcs'!K4175/1000000","v":0},0]
[0.1,{"$f":"'Daily Calcs'!J4176/1000000","v":0},{"$f":"'Daily Calcs'!K4176/1000000","v":0},0]
[0.1,{"$f":"'Daily Calcs'!J4177/1000000","v":0},{"$f":"'Daily Calcs'!K4177/1000000","v":0},0]
[0.1,{"$f":"'Daily Calcs'!J4178/1000000","v":0},{"$f":"'Daily Calcs'!K4178/1000000","v":0},0]
[0.1,{"$f":"'Daily Calcs'!J4179/1000000","v":0},{"$f":"'Daily Calcs'!K4179/1000000","v":0},0]
[0.1,{"$f":"'Daily Calcs'!J4180/1000000","v":0},{"$f":"'Daily Calcs'!K4180/1000000","v":0},0]
[0.1,{"$f":"'Daily Calcs'!J4181/1000000","v":0},{"$f":"'Daily Calcs'!K4181/1000000","v":0},0]
[0.1,{"$f":"'Daily Calcs'!J4182/1000000","v":0},{"$f":"'Daily Calcs'!K4182/1000000","v":0},0]
[0.1,{"$f":"'Daily Calcs'!J4183/1000000","v":0},{"$f":"'Daily Calcs'!K4183/1000000","v":0},0]
[0.1,{"$f":"'Daily Calcs'!J4184/1000000","v":0},{"$f":"'Daily Calcs'!K4184/1000000","v":0},0]
[0.1,{"$f":"'Daily Calcs'!J4185/1000000","v":0},{"$f":"'Daily Calcs'!K4185/1000000","v":0},0]
[0.1,{"$f":"'Daily Calcs'!J4186/1000000","v":0},{"$f":"'Daily Calcs'!K4186/1000000","v":0},0]
[0.1,{"$f":"'Daily Calcs'!J4187/1000000","v":0},{"$f":"'Daily Calcs'!K4187/1000000","v":0},0]
[0.1,{"$f":"'Daily Calcs'!J4188/1000000","v":0},{"$f":"'Daily Calcs'!K4188/1000000","v":0},0]
[0.1,{"$f":"'Daily Calcs'!J4189/1000000","v":2.473828956706884E-18},{"$f":"'Daily Calcs'!K4189/1000000","v":2.473828956706884E-18},2.473828956706884E-18]
[0.1,{"$f":"'Daily Calcs'!J4190/1000000","v":1.0724723597237456E-18},{"$f":"'Daily Calcs'!K4190/1000000","v":1.0724723597237456E-18},1.0724723597237456E-18]
[0.1,{"$f":"'Daily Calcs'!J4191/1000000","v":0},{"$f":"'Daily Calcs'!K4191/1000000","v":0},0]
[0.1,{"$f":"'Daily Calcs'!J4192/1000000","v":0},{"$f":"'Daily Calcs'!K4192/1000000","v":0},0]
[0.1,{"$f":"'Daily Calcs'!J4193/1000000","v":0},{"$f":"'Daily Calcs'!K4193/1000000","v":0},0]
[0.1,{"$f":"'Daily Calcs'!J4194/1000000","v":0},{"$f":"'Daily Calcs'!K4194/1000000","v":0},0]
[0.1,{"$f":"'Daily Calcs'!J4195/1000000","v":0},{"$f":"'Daily Calcs'!K4195/1000000","v":0},0]
[0.1,{"$f":"'Daily Calcs'!J4196/1000000","v":0},{"$f":"'Daily Calcs'!K4196/1000000","v":0},0]
[0.1,{"$f":"'Daily Calcs'!J4197/1000000","v":4.6515031073854604E-19},{"$f":"'Daily Calcs'!K4197/1000000","v":4.6515031073854604E-19},4.6515031073854604E-19]
[0.1,{"$f":"'Daily Calcs'!J4198/1000000","v":0},{"$f":"'Daily Calcs'!K4198/1000000","v":0},0]
[0.1,{"$f":"'Daily Calcs'!J4199/1000000","v":0},{"$f":"'Daily Calcs'!K4199/1000000","v":0},0]
[0.1,{"$f":"'Daily Calcs'!J4200/1000000","v":0},{"$f":"'Daily Calcs'!K4200/1000000","v":0},0]
[0.1,{"$f":"'Daily Calcs'!J4201/1000000","v":0},{"$f":"'Daily Calcs'!K4201/1000000","v":0},0]
[0.1,{"$f":"'Daily Calcs'!J4202/1000000","v":0},{"$f":"'Daily Calcs'!K4202/1000000","v":0},0]
[0.1,{"$f":"'Daily Calcs'!J4203/1000000","v":0},{"$f":"'Daily Calcs'!K4203/1000000","v":0},0]
[0.1,{"$f":"'Daily Calcs'!J4204/1000000","v":2.4221939855993228E-19},{"$f":"'Daily Calcs'!K4204/1000000","v":2.4221939855993228E-19},2.4221939855993228E-19]
[0.1,{"$f":"'Daily Calcs'!J4205/1000000","v":0},{"$f":"'Daily Calcs'!K4205/1000000","v":0},0]
[0.1,{"$f":"'Daily Calcs'!J4206/1000000","v":0},{"$f":"'Daily Calcs'!K4206/1000000","v":0},0]
[0.1,{"$f":"'Daily Calcs'!J4207/1000000","v":0},{"$f":"'Daily Calcs'!K4207/1000000","v":0},0]
[0.1,{"$f":"'Daily Calcs'!J4208/1000000","v":0},{"$f":"'Daily Calcs'!K4208/1000000","v":0},0]
[0.1,{"$f":"'Daily Calcs'!J4209/1000000","v":0},{"$f":"'Daily Calcs'!K4209/1000000","v":0},0]
[0.1,{"$f":"'Daily Calcs'!J4210/1000000","v":0},{"$f":"'Daily Calcs'!K4210/1000000","v":0},0]
[0.1,{"$f":"'Daily Calcs'!J4211/1000000","v":0},{"$f":"'Daily Calcs'!K4211/1000000","v":0},0]
[0.1,{"$f":"'Daily Calcs'!J4212/1000000","v":0},{"$f":"'Daily Calcs'!K4212/1000000","v":0},0]
[0.1,{"$f":"'Daily Calcs'!J4213/1000000","v":0},{"$f":"'Daily Calcs'!K4213/1000000","v":0},0]
[0.1,{"$f":"'Daily Calcs'!J4214/1000000","v":0},{"$f":"'Daily Calcs'!K4214/1000000","v":0},0]
[0.1,{"$f":"'Daily Calcs'!J4215/1000000","v":1.5697527926313727E-5},{"$f":"'Daily Calcs'!K4215/1000000","v":1.5816978358856629E-5},1.5697527926313727E-5]
[0.1,{"$f":"'Daily Calcs'!J4216/1000000","v":0},{"$f":"'Daily Calcs'!K4216/1000000","v":0},0]
[0.1,{"$f":"'Daily Calcs'!J4217/1000000","v":1.3585864391971123E-5},{"$f":"'Daily Calcs'!K4217/1000000","v":1.3653636217322329E-5},1.3585864391971123E-5]
[0.1,{"$f":"'Daily Calcs'!J4218/1000000","v":0},{"$f":"'Daily Calcs'!K4218/1000000","v":0},0]
[0.1,{"$f":"'Daily Calcs'!J4219/1000000","v":0},{"$f":"'Daily Calcs'!K4219/1000000","v":0},0]
[0.1,{"$f":"'Daily Calcs'!J4220/1000000","v":0},{"$f":"'Daily Calcs'!K4220/1000000","v":0},0]
[0.1,{"$f":"'Daily Calcs'!J4221/1000000","v":0},{"$f":"'Daily Calcs'!K4221/1000000","v":0},0]
[0.1,{"$f":"'Daily Calcs'!J4222/1000000","v":0},{"$f":"'Daily Calcs'!K4222/1000000","v":0},0]
[0.1,{"$f":"'Daily Calcs'!J4223/1000000","v":0},{"$f":"'Daily Calcs'!K4223/1000000","v":0},0]
[0.1,{"$f":"'Daily Calcs'!J4224/1000000","v":0},{"$f":"'Daily Calcs'!K4224/1000000","v":0},0]
[0.1,{"$f":"'Daily Calcs'!J4225/1000000","v":0},{"$f":"'Daily Calcs'!K4225/1000000","v":0},0]
[0.1,{"$f":"'Daily Calcs'!J4226/1000000","v":0},{"$f":"'Daily Calcs'!K4226/1000000","v":0},0]
[0.1,{"$f":"'Daily Calcs'!J4227/1000000","v":0},{"$f":"'Daily Calcs'!K4227/1000000","v":0},{"$f":"B4231","v":0}]
[0.1,{"$f":"'Daily Calcs'!J4228/1000000","v":2.4508684952027679E-5},{"$f":"'Daily Calcs'!K4228/1000000","v":2.4628307236865569E-5},2.4508684952027679E-5]
[0.1,{"$f":"'Daily Calcs'!J4229/1000000","v":2.3075797147203171E-5},{"$f":"'Daily Calcs'!K4229/1000000","v":2.3149172000114802E-5},2.3075797147203171E-5]
[0.1,{"$f":"'Daily Calcs'!J4230/1000000","v":2.1115557553956838E-5},{"$f":"'Daily Calcs'!K4230/1000000","v":2.1168817446043169E-5},2.1115557553956838E-5]
[0.1,{"$f":"'Daily Calcs'!J4231/1000000","v":1.5860670548082714E-5},{"$f":"'Daily Calcs'!K4231/1000000","v":1.5901702469383653E-5},1.5860670548082714E-5]
[0.1,{"$f":"'Daily Calcs'!J4232/1000000","v":0},{"$f":"'Daily Calcs'!K4232/1000000","v":0},0]
[0.1,{"$f":"'Daily Calcs'!J4233/1000000","v":0},{"$f":"'Daily Calcs'!K4233/1000000","v":0},0]
[0.1,{"$f":"'Daily Calcs'!J4234/1000000","v":0},{"$f":"'Daily Calcs'!K4234/1000000","v":0},0]
[0.1,{"$f":"'Daily Calcs'!J4235/1000000","v":0},{"$f":"'Daily Calcs'!K4235/1000000","v":0},0]
[0.1,{"$f":"'Daily Calcs'!J4236/1000000","v":1.1907106270824009E-5},{"$f":"'Daily Calcs'!K4236/1000000","v":1.1915053458650354E-5},1.1907106270824009E-5]
[0.1,{"$f":"'Daily Calcs'!J4237/1000000","v":0},{"$f":"'Daily Calcs'!K4237/1000000","v":0},0]
[0.1,{"$f":"'Daily Calcs'!J4238/1000000","v":0},{"$f":"'Daily Calcs'!K4238/1000000","v":0},0]
[0.1,{"$f":"'Daily Calcs'!J4239/1000000","v":0},{"$f":"'Daily Calcs'!K4239/1000000","v":0},0]
[0.1,{"$f":"'Daily Calcs'!J4240/1000000","v":9.5581386091318023E-6},{"$f":"'Daily Calcs'!K4240/1000000","v":9.5605886177567258E-6},9.5581386091318023E-6]
[0.1,{"$f":"'Daily Calcs'!J4241/1000000","v":8.9632250348814038E-6},{"$f":"'Daily Calcs'!K4241/1000000","v":8.9647478572852301E-6},8.9632250348814038E-6]
[0.1,{"$f":"'Daily Calcs'!J4242/1000000","v":0},{"$f":"'Daily Calcs'!K4242/1000000","v":0},0]
[0.1,{"$f":"'Daily Calcs'!J4243/1000000","v":0},{"$f":"'Daily Calcs'!K4243/1000000","v":0},0]
[0.1,{"$f":"'Daily Calcs'!J4244/1000000","v":7.5856654855615203E-6},{"$f":"'Daily Calcs'!K4244/1000000","v":7.5863935414058695E-6},7.5856654855615203E-6]
[0.1,{"$f":"'Daily Calcs'!J4245/1000000","v":0},{"$f":"'Daily Calcs'!K4245/1000000","v":0},0]
[0.1,{"$f":"'Daily Calcs'!J4246/1000000","v":6.5145592450863395E-6},{"$f":"'Daily Calcs'!K4246/1000000","v":6.5150418055384099E-6},6.5145592450863395E-6]
[0.1,{"$f":"'Daily Calcs'!J4247/1000000","v":0},{"$f":"'Daily Calcs'!K4247/1000000","v":0},0]
[0.1,{"$f":"'Daily Calcs'!J4248/1000000","v":0},{"$f":"'Daily Calcs'!K4248/1000000","v":0},0]
[0.1,{"$f":"'Daily Calcs'!J4249/1000000","v":0},{"$f":"'Daily Calcs'!K4249/1000000","v":0},0]
[0.1,{"$f":"'Daily Calcs'!J4250/1000000","v":0},{"$f":"'Daily Calcs'!K4250/1000000","v":0},0]
[0.1,{"$f":"'Daily Calcs'!J4251/1000000","v":4.4211551069874639E-6},{"$f":"'Daily Calcs'!K4251/1000000","v":4.4213265213676905E-6},4.4211551069874639E-6]
[0.1,{"$f":"'Daily Calcs'!J4252/1000000","v":0},{"$f":"'Daily Calcs'!K4252/1000000","v":0},0]
[0.1,{"$f":"'Daily Calcs'!J4253/1000000","v":0},{"$f":"'Daily Calcs'!K4253/1000000","v":0},0]
[0.1,{"$f":"'Daily Calcs'!J4254/1000000","v":0},{"$f":"'Daily Calcs'!K4254/1000000","v":0},0]
[0.1,{"$f":"'Daily Calcs'!J4255/1000000","v":0},{"$f":"'Daily Calcs'!K4255/1000000","v":0},0]
[0.1,{"$f":"'Daily Calcs'!J4256/1000000","v":0},{"$f":"'Daily Calcs'!K4256/1000000","v":0},0]
[0.1,{"$f":"'Daily Calcs'!J4257/1000000","v":0},{"$f":"'Daily Calcs'!K4257/1000000","v":0},0]
[0.1,{"$f":"'Daily Calcs'!J4258/1000000","v":0},{"$f":"'Daily Calcs'!K4258/1000000","v":0},0]
[0.1,{"$f":"'Daily Calcs'!J4259/1000000","v":0},{"$f":"'Daily Calcs'!K4259/1000000","v":0},0]
[0.1,{"$f":"'Daily Calcs'!J4260/1000000","v":0},{"$f":"'Daily Calcs'!K4260/1000000","v":0},0]
[0.1,{"$f":"'Daily Calcs'!J4261/1000000","v":0},{"$f":"'Daily Calcs'!K4261/1000000","v":0},0]
[0.1,{"$f":"'Daily Calcs'!J4262/1000000","v":0},{"$f":"'Daily Calcs'!K4262/1000000","v":0},0]
[0.1,{"$f":"'Daily Calcs'!J4263/1000000","v":0},{"$f":"'Daily Calcs'!K4263/1000000","v":0},0]
[0.1,{"$f":"'Daily Calcs'!J4264/1000000","v":0},{"$f":"'Daily Calcs'!K4264/1000000","v":0},0]
[0.1,{"$f":"'Daily Calcs'!J4265/1000000","v":0},{"$f":"'Daily Calcs'!K4265/1000000","v":0},0]
[0.1,{"$f":"'Daily Calcs'!J4266/1000000","v":0},{"$f":"'Daily Calcs'!K4266/1000000","v":0},0]
[0.1,{"$f":"'Daily Calcs'!J4267/1000000","v":3.3342524773804392E-6},{"$f":"'Daily Calcs'!K4267/1000000","v":3.3342825152951315E-6},3.3342524773804392E-6]
[0.1,{"$f":"'Daily Calcs'!J4268/1000000","v":0},{"$f":"'Daily Calcs'!K4268/1000000","v":0},0]
[0.1,{"$f":"'Daily Calcs'!J4269/1000000","v":0},{"$f":"'Daily Calcs'!K4269/1000000","v":0},0]
[0.1,{"$f":"'Daily Calcs'!J4270/1000000","v":0},{"$f":"'Daily Calcs'!K4270/1000000","v":0},0]
[0.1,{"$f":"'Daily Calcs'!J4271/1000000","v":0},{"$f":"'Daily Calcs'!K4271/1000000","v":0},0]
[0.1,{"$f":"'Daily Calcs'!J4272/1000000","v":0},{"$f":"'Daily Calcs'!K4272/1000000","v":0},0]
[0.1,{"$f":"'Daily Calcs'!J4273/1000000","v":0},{"$f":"'Daily Calcs'!K4273/1000000","v":0},0]
[0.1,{"$f":"'Daily Calcs'!J4274/1000000","v":0},{"$f":"'Daily Calcs'!K4274/1000000","v":0},0]
[0.1,{"$f":"'Daily Calcs'!J4275/1000000","v":0},{"$f":"'Daily Calcs'!K4275/1000000","v":0},0]
[0.1,{"$f":"'Daily Calcs'!J4276/1000000","v":0},{"$f":"'Daily Calcs'!K4276/1000000","v":0},0]
[0.1,{"$f":"'Daily Calcs'!J4277/1000000","v":0},{"$f":"'Daily Calcs'!K4277/1000000","v":0},0]
[0.1,{"$f":"'Daily Calcs'!J4278/1000000","v":0},{"$f":"'Daily Calcs'!K4278/1000000","v":0},0]
[0.1,{"$f":"'Daily Calcs'!J4279/1000000","v":0},{"$f":"'Daily Calcs'!K4279/1000000","v":0},0]
[0.1,{"$f":"'Daily Calcs'!J4280/1000000","v":2.1609382398290579E-6},{"$f":"'Daily Calcs'!K4280/1000000","v":2.160945598844197E-6},2.1609382398290579E-6]
[0.1,{"$f":"'Daily Calcs'!J4281/1000000","v":0},{"$f":"'Daily Calcs'!K4281/1000000","v":0},0]
[0.1,{"$f":"'Daily Calcs'!J4282/1000000","v":0},{"$f":"'Daily Calcs'!K4282/1000000","v":0},0]
[0.1,{"$f":"'Daily Calcs'!J4283/1000000","v":0},{"$f":"'Daily Calcs'!K4283/1000000","v":0},0]
[0.1,{"$f":"'Daily Calcs'!J4284/1000000","v":0},{"$f":"'Daily Calcs'!K4284/1000000","v":0},0]
[0.1,{"$f":"'Daily Calcs'!J4285/1000000","v":0},{"$f":"'Daily Calcs'!K4285/1000000","v":0},0]
[0.1,{"$f":"'Daily Calcs'!J4286/1000000","v":0},{"$f":"'Daily Calcs'!K4286/1000000","v":0},0]
[0.1,{"$f":"'Daily Calcs'!J4287/1000000","v":0},{"$f":"'Daily Calcs'!K4287/1000000","v":0},0]
[0.1,{"$f":"'Daily Calcs'!J4288/1000000","v":0},{"$f":"'Daily Calcs'!K4288/1000000","v":0},0]
[0.1,{"$f":"'Daily Calcs'!J4289/1000000","v":0},{"$f":"'Daily Calcs'!K4289/1000000","v":0},0]
[0.1,{"$f":"'Daily Calcs'!J4290/1000000","v":0},{"$f":"'Daily Calcs'!K4290/1000000","v":0},0]
[0.1,{"$f":"'Daily Calcs'!J4291/1000000","v":0},{"$f":"'Daily Calcs'!K4291/1000000","v":0},{"$f":"B4295","v":0}]
[0.1,{"$f":"'Daily Calcs'!J4292/1000000","v":1.4868956496463521E-6},{"$f":"'Daily Calcs'!K4292/1000000","v":1.4868974040790619E-6},1.4868956496463521E-6]
[0.1,{"$f":"'Daily Calcs'!J4293/1000000","v":0},{"$f":"'Daily Calcs'!K4293/1000000","v":0},0]
[0.1,{"$f":"'Daily Calcs'!J4294/1000000","v":0},{"$f":"'Daily Calcs'!K4294/1000000","v":0},0]
[0.1,{"$f":"'Daily Calcs'!J4295/1000000","v":0},{"$f":"'Daily Calcs'!K4295/1000000","v":0},0]
[0.1,{"$f":"'Daily Calcs'!J4296/1000000","v":0},{"$f":"'Daily Calcs'!K4296/1000000","v":0},0]
[0.1,{"$f":"'Daily Calcs'!J4297/1000000","v":1.1789990789069697E-6},{"$f":"'Daily Calcs'!K4297/1000000","v":1.178999827789718E-6},1.1789990789069697E-6]
[0.1,{"$f":"'Daily Calcs'!J4298/1000000","v":0},{"$f":"'Daily Calcs'!K4298/1000000","v":0},0]
[0.1,{"$f":"'Daily Calcs'!J4299/1000000","v":0},{"$f":"'Daily Calcs'!K4299/1000000","v":0},0]
[0.1,{"$f":"'Daily Calcs'!J4300/1000000","v":0},{"$f":"'Daily Calcs'!K4300/1000000","v":0},0]
[0.1,{"$f":"'Daily Calcs'!J4301/1000000","v":0},{"$f":"'Daily Calcs'!K4301/1000000","v":0},0]
[0.1,{"$f":"'Daily Calcs'!J4302/1000000","v":0},{"$f":"'Daily Calcs'!K4302/1000000","v":0},0]
[0.1,{"$f":"'Daily Calcs'!J4303/1000000","v":0},{"$f":"'Daily Calcs'!K4303/1000000","v":0},0]
[0.1,{"$f":"'Daily Calcs'!J4304/1000000","v":0},{"$f":"'Daily Calcs'!K4304/1000000","v":0},0]
[0.1,{"$f":"'Daily Calcs'!J4305/1000000","v":0},{"$f":"'Daily Calcs'!K4305/1000000","v":0},0]
[0.1,{"$f":"'Daily Calcs'!J4306/1000000","v":0},{"$f":"'Daily Calcs'!K4306/1000000","v":0},0]
[0.1,{"$f":"'Daily Calcs'!J4307/1000000","v":0},{"$f":"'Daily Calcs'!K4307/1000000","v":0},0]
[0.1,{"$f":"'Daily Calcs'!J4308/1000000","v":0},{"$f":"'Daily Calcs'!K4308/1000000","v":0},0]
[0.1,{"$f":"'Daily Calcs'!J4309/1000000","v":0},{"$f":"'Daily Calcs'!K4309/1000000","v":0},0]
[0.1,{"$f":"'Daily Calcs'!J4310/1000000","v":0},{"$f":"'Daily Calcs'!K4310/1000000","v":0},0]
[0.1,{"$f":"'Daily Calcs'!J4311/1000000","v":0},{"$f":"'Daily Calcs'!K4311/1000000","v":0},0]
[0.1,{"$f":"'Daily Calcs'!J4312/1000000","v":0},{"$f":"'Daily Calcs'!K4312/1000000","v":0},0]
[0.1,{"$f":"'Daily Calcs'!J4313/1000000","v":0},{"$f":"'Daily Calcs'!K4313/1000000","v":0},0]
[0.1,{"$f":"'Daily Calcs'!J4314/1000000","v":0},{"$f":"'Daily Calcs'!K4314/1000000","v":0},0]
[0.1,{"$f":"'Daily Calcs'!J4315/1000000","v":0},{"$f":"'Daily Calcs'!K4315/1000000","v":0},0]
[0.1,{"$f":"'Daily Calcs'!J4316/1000000","v":0},{"$f":"'Daily Calcs'!K4316/1000000","v":0},0]
[0.1,{"$f":"'Daily Calcs'!J4317/1000000","v":0},{"$f":"'Daily Calcs'!K4317/1000000","v":0},0]
[0.1,{"$f":"'Daily Calcs'!J4318/1000000","v":0},{"$f":"'Daily Calcs'!K4318/1000000","v":0},0]
[0.1,{"$f":"'Daily Calcs'!J4319/1000000","v":4.1093924413969067E-7},{"$f":"'Daily Calcs'!K4319/1000000","v":4.1093930600861107E-7},4.1093924413969067E-7]
[0.1,{"$f":"'Daily Calcs'!J4320/1000000","v":0},{"$f":"'Daily Calcs'!K4320/1000000","v":0},0]
[0.1,{"$f":"'Daily Calcs'!J4321/1000000","v":0},{"$f":"'Daily Calcs'!K4321/1000000","v":0},0]
[0.1,{"$f":"'Daily Calcs'!J4322/1000000","v":0},{"$f":"'Daily Calcs'!K4322/1000000","v":0},0]
[0.1,{"$f":"'Daily Calcs'!J4323/1000000","v":0},{"$f":"'Daily Calcs'!K4323/1000000","v":0},0]
[0.1,{"$f":"'Daily Calcs'!J4324/1000000","v":0},{"$f":"'Daily Calcs'!K4324/1000000","v":0},0]
[0.1,{"$f":"'Daily Calcs'!J4325/1000000","v":0},{"$f":"'Daily Calcs'!K4325/1000000","v":0},0]
[0.1,{"$f":"'Daily Calcs'!J4326/1000000","v":2.8250616522811346E-7},{"$f":"'Daily Calcs'!K4326/1000000","v":2.8250617908549121E-7},2.8250616522811346E-7]
[0.1,{"$f":"'Daily Calcs'!J4327/1000000","v":0},{"$f":"'Daily Calcs'!K4327/1000000","v":0},0]
[0.1,{"$f":"'Daily Calcs'!J4328/1000000","v":0},{"$f":"'Daily Calcs'!K4328/1000000","v":0},0]
[0.1,{"$f":"'Daily Calcs'!J4329/1000000","v":0},{"$f":"'Daily Calcs'!K4329/1000000","v":0},0]
[0.1,{"$f":"'Daily Calcs'!J4330/1000000","v":1.8054672457797879E-7},{"$f":"'Daily Calcs'!K4330/1000000","v":1.8054672971992123E-7},1.8054672457797879E-7]
[0.1,{"$f":"'Daily Calcs'!J4331/1000000","v":0},{"$f":"'Daily Calcs'!K4331/1000000","v":0},0]
[0.1,{"$f":"'Daily Calcs'!J4332/1000000","v":0},{"$f":"'Daily Calcs'!K4332/1000000","v":0},0]
[0.1,{"$f":"'Daily Calcs'!J4333/1000000","v":0},{"$f":"'Daily Calcs'!K4333/1000000","v":0},0]
[0.1,{"$f":"'Daily Calcs'!J4334/1000000","v":0},{"$f":"'Daily Calcs'!K4334/1000000","v":0},0]
[0.1,{"$f":"'Daily Calcs'!J4335/1000000","v":0},{"$f":"'Daily Calcs'!K4335/1000000","v":0},0]
[0.1,{"$f":"'Daily Calcs'!J4336/1000000","v":1.112429087158329E-7},{"$f":"'Daily Calcs'!K4336/1000000","v":1.1124291037080969E-7},1.112429087158329E-7]
[0.1,{"$f":"'Daily Calcs'!J4337/1000000","v":0},{"$f":"'Daily Calcs'!K4337/1000000","v":0},0]
[0.1,{"$f":"'Daily Calcs'!J4338/1000000","v":0},{"$f":"'Daily Calcs'!K4338/1000000","v":0},0]
[0.1,{"$f":"'Daily Calcs'!J4339/1000000","v":0},{"$f":"'Daily Calcs'!K4339/1000000","v":0},0]
[0.1,{"$f":"'Daily Calcs'!J4340/1000000","v":0},{"$f":"'Daily Calcs'!K4340/1000000","v":0},0]
[0.1,{"$f":"'Daily Calcs'!J4341/1000000","v":0},{"$f":"'Daily Calcs'!K4341/1000000","v":0},0]
[0.1,{"$f":"'Daily Calcs'!J4342/1000000","v":6.4236020109122963E-8},{"$f":"'Daily Calcs'!K4342/1000000","v":6.423602064112125E-8},6.4236020109122963E-8]
[0.1,{"$f":"'Daily Calcs'!J4343/1000000","v":0},{"$f":"'Daily Calcs'!K4343/1000000","v":0},0]
[0.1,{"$f":"'Daily Calcs'!J4344/1000000","v":0},{"$f":"'Daily Calcs'!K4344/1000000","v":0},0]
[0.1,{"$f":"'Daily Calcs'!J4345/1000000","v":0},{"$f":"'Daily Calcs'!K4345/1000000","v":0},0]
[0.1,{"$f":"'Daily Calcs'!J4346/1000000","v":0},{"$f":"'Daily Calcs'!K4346/1000000","v":0},0]
[0.1,{"$f":"'Daily Calcs'!J4347/1000000","v":0},{"$f":"'Daily Calcs'!K4347/1000000","v":0},0]
[0.1,{"$f":"'Daily Calcs'!J4348/1000000","v":3.8370168306474043E-8},{"$f":"'Daily Calcs'!K4348/1000000","v":3.8370168482725744E-8},3.8370168306474043E-8]
[0.1,{"$f":"'Daily Calcs'!J4349/1000000","v":0},{"$f":"'Daily Calcs'!K4349/1000000","v":0},0]
[0.1,{"$f":"'Daily Calcs'!J4350/1000000","v":0},{"$f":"'Daily Calcs'!K4350/1000000","v":0},0]
[0.1,{"$f":"'Daily Calcs'!J4351/1000000","v":0},{"$f":"'Daily Calcs'!K4351/1000000","v":0},0]
[0.1,{"$f":"'Daily Calcs'!J4352/1000000","v":0},{"$f":"'Daily Calcs'!K4352/1000000","v":0},0]
[0.1,{"$f":"'Daily Calcs'!J4353/1000000","v":2.7067567931489509E-8},{"$f":"'Daily Calcs'!K4353/1000000","v":2.7067567983036656E-8},2.7067567931489509E-8]
[0.1,{"$f":"'Daily Calcs'!J4354/1000000","v":0},{"$f":"'Daily Calcs'!K4354/1000000","v":0},0]
[0.1,{"$f":"'Daily Calcs'!J4355/1000000","v":0},{"$f":"'Daily Calcs'!K4355/1000000","v":0},{"$f":"B4359","v":0}]
[0.1,{"$f":"'Daily Calcs'!J4356/1000000","v":0},{"$f":"'Daily Calcs'!K4356/1000000","v":0},0]
[0.1,{"$f":"'Daily Calcs'!J4357/1000000","v":0},{"$f":"'Daily Calcs'!K4357/1000000","v":0},0]
[0.1,{"$f":"'Daily Calcs'!J4358/1000000","v":2.0666532013734598E-8},{"$f":"'Daily Calcs'!K4358/1000000","v":2.0666532037562614E-8},2.0666532013734598E-8]
[0.1,{"$f":"'Daily Calcs'!J4359/1000000","v":1.6794287963119131E-8},{"$f":"'Daily Calcs'!K4359/1000000","v":1.6794287977815817E-8},1.6794287963119131E-8]
[0.1,{"$f":"'Daily Calcs'!J4360/1000000","v":0},{"$f":"'Daily Calcs'!K4360/1000000","v":0},0]
[0.1,{"$f":"'Daily Calcs'!J4361/1000000","v":0},{"$f":"'Daily Calcs'!K4361/1000000","v":0},0]
[0.1,{"$f":"'Daily Calcs'!J4362/1000000","v":0},{"$f":"'Daily Calcs'!K4362/1000000","v":0},0]
[0.1,{"$f":"'Daily Calcs'!J4363/1000000","v":1.2343849248359096E-8},{"$f":"'Daily Calcs'!K4363/1000000","v":1.2343849257695376E-8},1.2343849248359096E-8]
[0.1,{"$f":"'Daily Calcs'!J4364/1000000","v":0},{"$f":"'Daily Calcs'!K4364/1000000","v":0},0]
[0.1,{"$f":"'Daily Calcs'!J4365/1000000","v":0},{"$f":"'Daily Calcs'!K4365/1000000","v":0},0]
[0.1,{"$f":"'Daily Calcs'!J4366/1000000","v":1.0234079472496964E-8},{"$f":"'Daily Calcs'!K4366/1000000","v":1.0234079476601595E-8},1.0234079472496964E-8]
[0.1,{"$f":"'Daily Calcs'!J4367/1000000","v":5.5808394917197142E-9},{"$f":"'Daily Calcs'!K4367/1000000","v":5.5808394944459882E-9},5.5808394917197142E-9]
[0.1,{"$f":"'Daily Calcs'!J4368/1000000","v":3.2162658650634607E-9},{"$f":"'Daily Calcs'!K4368/1000000","v":3.2162658660255515E-9},3.2162658650634607E-9]
[0.1,{"$f":"'Daily Calcs'!J4369/1000000","v":0},{"$f":"'Daily Calcs'!K4369/1000000","v":0},0]
[0.1,{"$f":"'Daily Calcs'!J4370/1000000","v":0},{"$f":"'Daily Calcs'!K4370/1000000","v":0},0]
[0.1,{"$f":"'Daily Calcs'!J4371/1000000","v":0},{"$f":"'Daily Calcs'!K4371/1000000","v":0},0]
[0.1,{"$f":"'Daily Calcs'!J4372/1000000","v":0},{"$f":"'Daily Calcs'!K4372/1000000","v":0},0]
[0.1,{"$f":"'Daily Calcs'!J4373/1000000","v":1.7405622979813382E-9},{"$f":"'Daily Calcs'!K4373/1000000","v":1.7405622982501554E-9},1.7405622979813382E-9]
[0.1,{"$f":"'Daily Calcs'!J4374/1000000","v":9.4934665641813987E-10},{"$f":"'Daily Calcs'!K4374/1000000","v":9.4934665651694845E-10},9.4934665641813987E-10]
[0.1,{"$f":"'Daily Calcs'!J4375/1000000","v":0},{"$f":"'Daily Calcs'!K4375/1000000","v":0},0]
[0.1,{"$f":"'Daily Calcs'!J4376/1000000","v":0},{"$f":"'Daily Calcs'!K4376/1000000","v":0},0]
[0.1,{"$f":"'Daily Calcs'!J4377/1000000","v":0},{"$f":"'Daily Calcs'!K4377/1000000","v":0},0]
[0.1,{"$f":"'Daily Calcs'!J4378/1000000","v":0},{"$f":"'Daily Calcs'!K4378/1000000","v":0},0]
[0.1,{"$f":"'Daily Calcs'!J4379/1000000","v":0},{"$f":"'Daily Calcs'!K4379/1000000","v":0},0]
[0.1,{"$f":"'Daily Calcs'!J4380/1000000","v":0},{"$f":"'Daily Calcs'!K4380/1000000","v":0},0]
[0.1,{"$f":"'Daily Calcs'!J4381/1000000","v":0},{"$f":"'Daily Calcs'!K4381/1000000","v":0},0]
[0.1,{"$f":"'Daily Calcs'!J4382/1000000","v":0},{"$f":"'Daily Calcs'!K4382/1000000","v":0},0]
[0.1,{"$f":"'Daily Calcs'!J4383/1000000","v":0},{"$f":"'Daily Calcs'!K4383/1000000","v":0},0]
[0.1,{"$f":"'Daily Calcs'!J4384/1000000","v":4.3961180124223601E-10},{"$f":"'Daily Calcs'!K4384/1000000","v":4.3961180126395033E-10},4.3961180124223601E-10]
[0.1,{"$f":"'Daily Calcs'!J4385/1000000","v":0},{"$f":"'Daily Calcs'!K4385/1000000","v":0},0]
[0.1,{"$f":"'Daily Calcs'!J4386/1000000","v":0},{"$f":"'Daily Calcs'!K4386/1000000","v":0},0]
[0.1,{"$f":"'Daily Calcs'!J4387/1000000","v":2.9390561516824665E-10},{"$f":"'Daily Calcs'!K4387/1000000","v":2.9390561517429753E-10},2.9390561516824665E-10]
[0.1,{"$f":"'Daily Calcs'!J4388/1000000","v":0},{"$f":"'Daily Calcs'!K4388/1000000","v":0},0]
[0.1,{"$f":"'Daily Calcs'!J4389/1000000","v":1.1887553926798721E-10},{"$f":"'Daily Calcs'!K4389/1000000","v":1.1887553927028868E-10},1.1887553926798721E-10]
[0.1,{"$f":"'Daily Calcs'!J4390/1000000","v":8.9176122818727957E-11},{"$f":"'Daily Calcs'!K4390/1000000","v":8.9176122819436812E-11},8.9176122818727957E-11]
[0.1,{"$f":"'Daily Calcs'!J4391/1000000","v":3.8072073583270433E-11},{"$f":"'Daily Calcs'!K4391/1000000","v":3.8072073583602908E-11},3.8072073583270433E-11]
[0.1,{"$f":"'Daily Calcs'!J4392/1000000","v":2.2835334825971911E-11},{"$f":"'Daily Calcs'!K4392/1000000","v":2.2835334826085267E-11},2.2835334825971911E-11]
[0.1,{"$f":"'Daily Calcs'!J4393/1000000","v":0},{"$f":"'Daily Calcs'!K4393/1000000","v":0},0]
[0.1,{"$f":"'Daily Calcs'!J4394/1000000","v":0},{"$f":"'Daily Calcs'!K4394/1000000","v":0},0]
[0.1,{"$f":"'Daily Calcs'!J4395/1000000","v":0},{"$f":"'Daily Calcs'!K4395/1000000","v":0},0]
[0.1,{"$f":"'Daily Calcs'!J4396/1000000","v":0},{"$f":"'Daily Calcs'!K4396/1000000","v":0},0]
[0.1,{"$f":"'Daily Calcs'!J4397/1000000","v":0},{"$f":"'Daily Calcs'!K4397/1000000","v":0},0]
[0.1,{"$f":"'Daily Calcs'!J4398/1000000","v":0},{"$f":"'Daily Calcs'!K4398/1000000","v":0},0]
[0.1,{"$f":"'Daily Calcs'!J4399/1000000","v":0},{"$f":"'Daily Calcs'!K4399/1000000","v":0},0]
[0.1,{"$f":"'Daily Calcs'!J4400/1000000","v":0},{"$f":"'Daily Calcs'!K4400/1000000","v":0},0]
[0.1,{"$f":"'Daily Calcs'!J4401/1000000","v":0},{"$f":"'Daily Calcs'!K4401/1000000","v":0},0]
[0.1,{"$f":"'Daily Calcs'!J4402/1000000","v":0},{"$f":"'Daily Calcs'!K4402/1000000","v":0},0]
[0.1,{"$f":"'Daily Calcs'!J4403/1000000","v":1.1313031005185921E-11},{"$f":"'Daily Calcs'!K4403/1000000","v":1.1313031005213791E-11},1.1313031005185921E-11]
[0.1,{"$f":"'Daily Calcs'!J4404/1000000","v":0},{"$f":"'Daily Calcs'!K4404/1000000","v":0},0]
[0.1,{"$f":"'Daily Calcs'!J4405/1000000","v":4.9898853674983148E-12},{"$f":"'Daily Calcs'!K4405/1000000","v":4.9898853675083565E-12},4.9898853674983148E-12]
[0.1,{"$f":"'Daily Calcs'!J4406/1000000","v":0},{"$f":"'Daily Calcs'!K4406/1000000","v":0},0]
[0.1,{"$f":"'Daily Calcs'!J4407/1000000","v":0},{"$f":"'Daily Calcs'!K4407/1000000","v":0},0]
[0.1,{"$f":"'Daily Calcs'!J4408/1000000","v":0},{"$f":"'Daily Calcs'!K4408/1000000","v":0},0]
[0.1,{"$f":"'Daily Calcs'!J4409/1000000","v":0},{"$f":"'Daily Calcs'!K4409/1000000","v":0},0]
[0.1,{"$f":"'Daily Calcs'!J4410/1000000","v":2.5010324889867842E-12},{"$f":"'Daily Calcs'!K4410/1000000","v":2.5010324889892815E-12},2.5010324889867842E-12]
[0.1,{"$f":"'Daily Calcs'!J4411/1000000","v":0},{"$f":"'Daily Calcs'!K4411/1000000","v":0},0]
[0.1,{"$f":"'Daily Calcs'!J4412/1000000","v":1.7969014084507043E-12},{"$f":"'Daily Calcs'!K4412/1000000","v":1.7969014084517033E-12},1.7969014084507043E-12]
[0.1,{"$f":"'Daily Calcs'!J4413/1000000","v":0},{"$f":"'Daily Calcs'!K4413/1000000","v":0},0]
[0.1,{"$f":"'Daily Calcs'!J4414/1000000","v":0},{"$f":"'Daily Calcs'!K4414/1000000","v":0},0]
[0.1,{"$f":"'Daily Calcs'!J4415/1000000","v":0},{"$f":"'Daily Calcs'!K4415/1000000","v":0},0]
[0.1,{"$f":"'Daily Calcs'!J4416/1000000","v":6.5623534010946057E-13},{"$f":"'Daily Calcs'!K4416/1000000","v":6.562353401098886E-13},6.5623534010946057E-13]
[0.1,{"$f":"'Daily Calcs'!J4417/1000000","v":0},{"$f":"'Daily Calcs'!K4417/1000000","v":0},0]
[0.1,{"$f":"'Daily Calcs'!J4418/1000000","v":0},{"$f":"'Daily Calcs'!K4418/1000000","v":0},0]
[0.1,{"$f":"'Daily Calcs'!J4419/1000000","v":0},{"$f":"'Daily Calcs'!K4419/1000000","v":0},{"$f":"B4423","v":0}]
[0.1,{"$f":"'Daily Calcs'!J4420/1000000","v":0},{"$f":"'Daily Calcs'!K4420/1000000","v":0},0]
[0.1,{"$f":"'Daily Calcs'!J4421/1000000","v":0},{"$f":"'Daily Calcs'!K4421/1000000","v":0},0]
[0.1,{"$f":"'Daily Calcs'!J4422/1000000","v":0},{"$f":"'Daily Calcs'!K4422/1000000","v":0},0]
[0.1,{"$f":"'Daily Calcs'!J4423/1000000","v":4.4326361334316981E-13},{"$f":"'Daily Calcs'!K4423/1000000","v":4.4326361334325251E-13},4.4326361334316981E-13]
[0.1,{"$f":"'Daily Calcs'!J4424/1000000","v":0},{"$f":"'Daily Calcs'!K4424/1000000","v":0},0]
[0.1,{"$f":"'Daily Calcs'!J4425/1000000","v":0},{"$f":"'Daily Calcs'!K4425/1000000","v":0},0]
[0.1,{"$f":"'Daily Calcs'!J4426/1000000","v":0},{"$f":"'Daily Calcs'!K4426/1000000","v":0},0]
[0.1,{"$f":"'Daily Calcs'!J4427/1000000","v":0},{"$f":"'Daily Calcs'!K4427/1000000","v":0},0]
[0.1,{"$f":"'Daily Calcs'!J4428/1000000","v":0},{"$f":"'Daily Calcs'!K4428/1000000","v":0},0]
[0.1,{"$f":"'Daily Calcs'!J4429/1000000","v":2.8868197142398463E-13},{"$f":"'Daily Calcs'!K4429/1000000","v":2.8868197142402664E-13},2.8868197142398463E-13]
[0.1,{"$f":"'Daily Calcs'!J4430/1000000","v":0},{"$f":"'Daily Calcs'!K4430/1000000","v":0},0]
[0.1,{"$f":"'Daily Calcs'!J4431/1000000","v":0},{"$f":"'Daily Calcs'!K4431/1000000","v":0},0]
[0.1,{"$f":"'Daily Calcs'!J4432/1000000","v":0},{"$f":"'Daily Calcs'!K4432/1000000","v":0},0]
[0.1,{"$f":"'Daily Calcs'!J4433/1000000","v":0},{"$f":"'Daily Calcs'!K4433/1000000","v":0},0]
[0.1,{"$f":"'Daily Calcs'!J4434/1000000","v":0},{"$f":"'Daily Calcs'!K4434/1000000","v":0},0]
[0.1,{"$f":"'Daily Calcs'!J4435/1000000","v":0},{"$f":"'Daily Calcs'!K4435/1000000","v":0},0]
[0.1,{"$f":"'Daily Calcs'!J4436/1000000","v":0},{"$f":"'Daily Calcs'!K4436/1000000","v":0},0]
[0.1,{"$f":"'Daily Calcs'!J4437/1000000","v":0},{"$f":"'Daily Calcs'!K4437/1000000","v":0},0]
[0.1,{"$f":"'Daily Calcs'!J4438/1000000","v":0},{"$f":"'Daily Calcs'!K4438/1000000","v":0},0]
[0.1,{"$f":"'Daily Calcs'!J4439/1000000","v":0},{"$f":"'Daily Calcs'!K4439/1000000","v":0},0]
[0.1,{"$f":"'Daily Calcs'!J4440/1000000","v":0},{"$f":"'Daily Calcs'!K4440/1000000","v":0},0]
[0.1,{"$f":"'Daily Calcs'!J4441/1000000","v":0},{"$f":"'Daily Calcs'!K4441/1000000","v":0},0]
[0.1,{"$f":"'Daily Calcs'!J4442/1000000","v":0},{"$f":"'Daily Calcs'!K4442/1000000","v":0},0]
[0.1,{"$f":"'Daily Calcs'!J4443/1000000","v":0},{"$f":"'Daily Calcs'!K4443/1000000","v":0},0]
[0.1,{"$f":"'Daily Calcs'!J4444/1000000","v":0},{"$f":"'Daily Calcs'!K4444/1000000","v":0},0]
[0.1,{"$f":"'Daily Calcs'!J4445/1000000","v":0},{"$f":"'Daily Calcs'!K4445/1000000","v":0},0]
[0.1,{"$f":"'Daily Calcs'!J4446/1000000","v":0},{"$f":"'Daily Calcs'!K4446/1000000","v":0},0]
[0.1,{"$f":"'Daily Calcs'!J4447/1000000","v":1.3888447089149093E-13},{"$f":"'Daily Calcs'!K4447/1000000","v":1.3888447089150077E-13},1.3888447089149093E-13]
[0.1,{"$f":"'Daily Calcs'!J4448/1000000","v":0},{"$f":"'Daily Calcs'!K4448/1000000","v":0},0]
[0.1,{"$f":"'Daily Calcs'!J4449/1000000","v":7.8882630931572476E-14},{"$f":"'Daily Calcs'!K4449/1000000","v":7.8882630931578939E-14},7.8882630931572476E-14]
[0.1,{"$f":"'Daily Calcs'!J4450/1000000","v":0},{"$f":"'Daily Calcs'!K4450/1000000","v":0},0]
[0.1,{"$f":"'Daily Calcs'!J4451/1000000","v":0},{"$f":"'Daily Calcs'!K4451/1000000","v":0},0]
[0.1,{"$f":"'Daily Calcs'!J4452/1000000","v":3.9651157028888566E-14},{"$f":"'Daily Calcs'!K4452/1000000","v":3.9651157028891318E-14},3.9651157028888566E-14]
[0.1,{"$f":"'Daily Calcs'!J4453/1000000","v":0},{"$f":"'Daily Calcs'!K4453/1000000","v":0},0]
[0.1,{"$f":"'Daily Calcs'!J4454/1000000","v":1.7574318001871446E-14},{"$f":"'Daily Calcs'!K4454/1000000","v":1.7574318001872418E-14},1.7574318001871446E-14]
[0.1,{"$f":"'Daily Calcs'!J4455/1000000","v":0},{"$f":"'Daily Calcs'!K4455/1000000","v":0},0]
[0.1,{"$f":"'Daily Calcs'!J4456/1000000","v":0},{"$f":"'Daily Calcs'!K4456/1000000","v":0},0]
[0.1,{"$f":"'Daily Calcs'!J4457/1000000","v":0},{"$f":"'Daily Calcs'!K4457/1000000","v":0},0]
[0.1,{"$f":"'Daily Calcs'!J4458/1000000","v":0},{"$f":"'Daily Calcs'!K4458/1000000","v":0},0]
[0.1,{"$f":"'Daily Calcs'!J4459/1000000","v":4.7001029563171053E-15},{"$f":"'Daily Calcs'!K4459/1000000","v":4.7001029563172623E-15},4.7001029563171053E-15]
[0.1,{"$f":"'Daily Calcs'!J4460/1000000","v":0},{"$f":"'Daily Calcs'!K4460/1000000","v":0},0]
[0.1,{"$f":"'Daily Calcs'!J4461/1000000","v":0},{"$f":"'Daily Calcs'!K4461/1000000","v":0},0]
[0.1,{"$f":"'Daily Calcs'!J4462/1000000","v":0},{"$f":"'Daily Calcs'!K4462/1000000","v":0},0]
[0.1,{"$f":"'Daily Calcs'!J4463/1000000","v":1.9027382816244367E-15},{"$f":"'Daily Calcs'!K4463/1000000","v":1.902738281624475E-15},1.9027382816244367E-15]
[0.1,{"$f":"'Daily Calcs'!J4464/1000000","v":0},{"$f":"'Daily Calcs'!K4464/1000000","v":0},0]
[0.1,{"$f":"'Daily Calcs'!J4465/1000000","v":0},{"$f":"'Daily Calcs'!K4465/1000000","v":0},0]
[0.1,{"$f":"'Daily Calcs'!J4466/1000000","v":0},{"$f":"'Daily Calcs'!K4466/1000000","v":0},0]
[0.1,{"$f":"'Daily Calcs'!J4467/1000000","v":0},{"$f":"'Daily Calcs'!K4467/1000000","v":0},0]
[0.1,{"$f":"'Daily Calcs'!J4468/1000000","v":8.1232686980609414E-16},{"$f":"'Daily Calcs'!K4468/1000000","v":8.1232686980610331E-16},8.1232686980609414E-16]
[0.1,{"$f":"'Daily Calcs'!J4469/1000000","v":0},{"$f":"'Daily Calcs'!K4469/1000000","v":0},0]
[0.1,{"$f":"'Daily Calcs'!J4470/1000000","v":0},{"$f":"'Daily Calcs'!K4470/1000000","v":0},0]
[0.1,{"$f":"'Daily Calcs'!J4471/1000000","v":0},{"$f":"'Daily Calcs'!K4471/1000000","v":0},0]
[0.1,{"$f":"'Daily Calcs'!J4472/1000000","v":0},{"$f":"'Daily Calcs'!K4472/1000000","v":0},0]
[0.1,{"$f":"'Daily Calcs'!J4473/1000000","v":4.8311631674038998E-16},{"$f":"'Daily Calcs'!K4473/1000000","v":4.8311631674039245E-16},4.8311631674038998E-16]
[0.1,{"$f":"'Daily Calcs'!J4474/1000000","v":1.9172103706961857E-16},{"$f":"'Daily Calcs'!K4474/1000000","v":1.9172103706962007E-16},1.9172103706961857E-16]
[0.1,{"$f":"'Daily Calcs'!J4475/1000000","v":0},{"$f":"'Daily Calcs'!K4475/1000000","v":0},0]
[0.1,{"$f":"'Daily Calcs'!J4476/1000000","v":0},{"$f":"'Daily Calcs'!K4476/1000000","v":0},0]
[0.1,{"$f":"'Daily Calcs'!J4477/1000000","v":0},{"$f":"'Daily Calcs'!K4477/1000000","v":0},0]
[0.1,{"$f":"'Daily Calcs'!J4478/1000000","v":0},{"$f":"'Daily Calcs'!K4478/1000000","v":0},0]
[0.1,{"$f":"'Daily Calcs'!J4479/1000000","v":0},{"$f":"'Daily Calcs'!K4479/1000000","v":0},0]
[0.1,{"$f":"'Daily Calcs'!J4480/1000000","v":0},{"$f":"'Daily Calcs'!K4480/1000000","v":0},0]
[0.1,{"$f":"'Daily Calcs'!J4481/1000000","v":4.7893498716852008E-17},{"$f":"'Daily Calcs'!K4481/1000000","v":4.789349871685223E-17},4.7893498716852008E-17]
[0.1,{"$f":"'Daily Calcs'!J4482/1000000","v":0},{"$f":"'Daily Calcs'!K4482/1000000","v":0},0]
[0.1,{"$f":"'Daily Calcs'!J4483/1000000","v":0},{"$f":"'Daily Calcs'!K4483/1000000","v":0},{"$f":"B4487","v":0}]
[0.1,{"$f":"'Daily Calcs'!J4484/1000000","v":0},{"$f":"'Daily Calcs'!K4484/1000000","v":0},0]
[0.1,{"$f":"'Daily Calcs'!J4485/1000000","v":0},{"$f":"'Daily Calcs'!K4485/1000000","v":0},0]
[0.1,{"$f":"'Daily Calcs'!J4486/1000000","v":0},{"$f":"'Daily Calcs'!K4486/1000000","v":0},0]
[0.1,{"$f":"'Daily Calcs'!J4487/1000000","v":0},{"$f":"'Daily Calcs'!K4487/1000000","v":0},0]
[0.1,{"$f":"'Daily Calcs'!J4488/1000000","v":0},{"$f":"'Daily Calcs'!K4488/1000000","v":0},0]
[0.1,{"$f":"'Daily Calcs'!J4489/1000000","v":0},{"$f":"'Daily Calcs'!K4489/1000000","v":0},0]
[0.1,{"$f":"'Daily Calcs'!J4490/1000000","v":0},{"$f":"'Daily Calcs'!K4490/1000000","v":0},0]
[0.1,{"$f":"'Daily Calcs'!J4491/1000000","v":0},{"$f":"'Daily Calcs'!K4491/1000000","v":0},0]
[0.1,{"$f":"'Daily Calcs'!J4492/1000000","v":0},{"$f":"'Daily Calcs'!K4492/1000000","v":0},0]
[0.1,{"$f":"'Daily Calcs'!J4493/1000000","v":0},{"$f":"'Daily Calcs'!K4493/1000000","v":0},0]
[0.1,{"$f":"'Daily Calcs'!J4494/1000000","v":0},{"$f":"'Daily Calcs'!K4494/1000000","v":0},0]
[0.1,{"$f":"'Daily Calcs'!J4495/1000000","v":0},{"$f":"'Daily Calcs'!K4495/1000000","v":0},0]
[0.1,{"$f":"'Daily Calcs'!J4496/1000000","v":0},{"$f":"'Daily Calcs'!K4496/1000000","v":0},0]
[0.1,{"$f":"'Daily Calcs'!J4497/1000000","v":0},{"$f":"'Daily Calcs'!K4497/1000000","v":0},0]
[0.1,{"$f":"'Daily Calcs'!J4498/1000000","v":2.1456372194062273E-17},{"$f":"'Daily Calcs'!K4498/1000000","v":2.1456372194062304E-17},2.1456372194062273E-17]
[0.1,{"$f":"'Daily Calcs'!J4499/1000000","v":1.3368139444437895E-17},{"$f":"'Daily Calcs'!K4499/1000000","v":1.336813944443792E-17},1.3368139444437895E-17]
[0.1,{"$f":"'Daily Calcs'!J4500/1000000","v":6.5912139503688794E-18},{"$f":"'Daily Calcs'!K4500/1000000","v":6.5912139503688925E-18},6.5912139503688794E-18]
[0.1,{"$f":"'Daily Calcs'!J4501/1000000","v":0},{"$f":"'Daily Calcs'!K4501/1000000","v":0},0]
[0.1,{"$f":"'Daily Calcs'!J4502/1000000","v":0},{"$f":"'Daily Calcs'!K4502/1000000","v":0},0]
[0.1,{"$f":"'Daily Calcs'!J4503/1000000","v":0},{"$f":"'Daily Calcs'!K4503/1000000","v":0},0]
[0.1,{"$f":"'Daily Calcs'!J4504/1000000","v":0},{"$f":"'Daily Calcs'!K4504/1000000","v":0},0]
[0.1,{"$f":"'Daily Calcs'!J4505/1000000","v":0},{"$f":"'Daily Calcs'!K4505/1000000","v":0},0]
[0.1,{"$f":"'Daily Calcs'!J4506/1000000","v":0},{"$f":"'Daily Calcs'!K4506/1000000","v":0},0]
[0.1,{"$f":"'Daily Calcs'!J4507/1000000","v":4.2024682733729197E-18},{"$f":"'Daily Calcs'!K4507/1000000","v":4.2024682733729204E-18},4.2024682733729197E-18]
[0.1,{"$f":"'Daily Calcs'!J4508/1000000","v":0},{"$f":"'Daily Calcs'!K4508/1000000","v":0},0]
[0.1,{"$f":"'Daily Calcs'!J4509/1000000","v":0},{"$f":"'Daily Calcs'!K4509/1000000","v":0},0]
[0.1,{"$f":"'Daily Calcs'!J4510/1000000","v":0},{"$f":"'Daily Calcs'!K4510/1000000","v":0},0]
[0.1,{"$f":"'Daily Calcs'!J4511/1000000","v":0},{"$f":"'Daily Calcs'!K4511/1000000","v":0},0]
[0.1,{"$f":"'Daily Calcs'!J4512/1000000","v":1.6833518883274815E-18},{"$f":"'Daily Calcs'!K4512/1000000","v":1.6833518883274824E-18},1.6833518883274815E-18]
[0.1,{"$f":"'Daily Calcs'!J4513/1000000","v":0},{"$f":"'Daily Calcs'!K4513/1000000","v":0},0]
[0.1,{"$f":"'Daily Calcs'!J4514/1000000","v":0},{"$f":"'Daily Calcs'!K4514/1000000","v":0},0]
[0.1,{"$f":"'Daily Calcs'!J4515/1000000","v":0},{"$f":"'Daily Calcs'!K4515/1000000","v":0},0]
[0.1,{"$f":"'Daily Calcs'!J4516/1000000","v":1.0416726541169707E-18},{"$f":"'Daily Calcs'!K4516/1000000","v":1.0416726541169711E-18},1.0416726541169707E-18]
[0.1,{"$f":"'Daily Calcs'!J4517/1000000","v":0},{"$f":"'Daily Calcs'!K4517/1000000","v":0},0]
[0.1,{"$f":"'Daily Calcs'!J4518/1000000","v":0},{"$f":"'Daily Calcs'!K4518/1000000","v":0},0]
[0.1,{"$f":"'Daily Calcs'!J4519/1000000","v":0},{"$f":"'Daily Calcs'!K4519/1000000","v":0},0]
[0.1,{"$f":"'Daily Calcs'!J4520/1000000","v":0},{"$f":"'Daily Calcs'!K4520/1000000","v":0},0]
[0.1,{"$f":"'Daily Calcs'!J4521/1000000","v":0},{"$f":"'Daily Calcs'!K4521/1000000","v":0},0]
[0.1,{"$f":"'Daily Calcs'!J4522/1000000","v":0},{"$f":"'Daily Calcs'!K4522/1000000","v":0},0]
[0.1,{"$f":"'Daily Calcs'!J4523/1000000","v":3.0944882818489554E-19},{"$f":"'Daily Calcs'!K4523/1000000","v":3.0944882818489564E-19},3.0944882818489554E-19]
[0.1,{"$f":"'Daily Calcs'!J4524/1000000","v":1.4243639314525754E-19},{"$f":"'Daily Calcs'!K4524/1000000","v":1.4243639314525761E-19},1.4243639314525754E-19]
[0.1,{"$f":"'Daily Calcs'!J4525/1000000","v":0},{"$f":"'Daily Calcs'!K4525/1000000","v":0},0]
[0.1,{"$f":"'Daily Calcs'!J4526/1000000","v":0},{"$f":"'Daily Calcs'!K4526/1000000","v":0},0]
[0.1,{"$f":"'Daily Calcs'!J4527/1000000","v":6.8074347410140765E-20},{"$f":"'Daily Calcs'!K4527/1000000","v":6.8074347410140777E-20},6.8074347410140765E-20]
[0.1,{"$f":"'Daily Calcs'!J4528/1000000","v":4.2085137977973017E-20},{"$f":"'Daily Calcs'!K4528/1000000","v":4.2085137977973023E-20},4.2085137977973017E-20]
[0.1,{"$f":"'Daily Calcs'!J4529/1000000","v":0},{"$f":"'Daily Calcs'!K4529/1000000","v":0},0]
[0.1,{"$f":"'Daily Calcs'!J4530/1000000","v":0},{"$f":"'Daily Calcs'!K4530/1000000","v":0},0]
[0.1,{"$f":"'Daily Calcs'!J4531/1000000","v":0},{"$f":"'Daily Calcs'!K4531/1000000","v":0},0]
[0.1,{"$f":"'Daily Calcs'!J4532/1000000","v":1.3500719271138579E-20},{"$f":"'Daily Calcs'!K4532/1000000","v":1.3500719271138579E-20},1.3500719271138579E-20]
[0.1,{"$f":"'Daily Calcs'!J4533/1000000","v":0},{"$f":"'Daily Calcs'!K4533/1000000","v":0},0]
[0.1,{"$f":"'Daily Calcs'!J4534/1000000","v":0},{"$f":"'Daily Calcs'!K4534/1000000","v":0},0]
[0.1,{"$f":"'Daily Calcs'!J4535/1000000","v":0},{"$f":"'Daily Calcs'!K4535/1000000","v":0},0]
[0.1,{"$f":"'Daily Calcs'!J4536/1000000","v":9.3405284704131009E-21},{"$f":"'Daily Calcs'!K4536/1000000","v":9.3405284704131009E-21},9.3405284704131009E-21]
[0.1,{"$f":"'Daily Calcs'!J4537/1000000","v":0},{"$f":"'Daily Calcs'!K4537/1000000","v":0},0]
[0.1,{"$f":"'Daily Calcs'!J4538/1000000","v":0},{"$f":"'Daily Calcs'!K4538/1000000","v":0},0]
[0.1,{"$f":"'Daily Calcs'!J4539/1000000","v":0},{"$f":"'Daily Calcs'!K4539/1000000","v":0},0]
[0.1,{"$f":"'Daily Calcs'!J4540/1000000","v":0},{"$f":"'Daily Calcs'!K4540/1000000","v":0},0]
[0.1,{"$f":"'Daily Calcs'!J4541/1000000","v":4.5072986803124145E-21},{"$f":"'Daily Calcs'!K4541/1000000","v":4.5072986803124145E-21},4.5072986803124145E-21]
[0.1,{"$f":"'Daily Calcs'!J4542/1000000","v":0},{"$f":"'Daily Calcs'!K4542/1000000","v":0},0]
[0.1,{"$f":"'Daily Calcs'!J4543/1000000","v":0},{"$f":"'Daily Calcs'!K4543/1000000","v":0},0]
[0.1,{"$f":"'Daily Calcs'!J4544/1000000","v":1.7860616648566978E-21},{"$f":"'Daily Calcs'!K4544/1000000","v":1.7860616648566978E-21},1.7860616648566978E-21]
[0.1,{"$f":"'Daily Calcs'!J4545/1000000","v":0},{"$f":"'Daily Calcs'!K4545/1000000","v":0},0]
[0.1,{"$f":"'Daily Calcs'!J4546/1000000","v":0},{"$f":"'Daily Calcs'!K4546/1000000","v":0},0]
[0.1,{"$f":"'Daily Calcs'!J4547/1000000","v":0},{"$f":"'Daily Calcs'!K4547/1000000","v":0},{"$f":"B4551","v":0}]
[0.1,{"$f":"'Daily Calcs'!J4548/1000000","v":0},{"$f":"'Daily Calcs'!K4548/1000000","v":0},0]
[0.1,{"$f":"'Daily Calcs'!J4549/1000000","v":0},{"$f":"'Daily Calcs'!K4549/1000000","v":0},0]
[0.1,{"$f":"'Daily Calcs'!J4550/1000000","v":0},{"$f":"'Daily Calcs'!K4550/1000000","v":0},0]
[0.1,{"$f":"'Daily Calcs'!J4551/1000000","v":0},{"$f":"'Daily Calcs'!K4551/1000000","v":0},0]
[0.1,{"$f":"'Daily Calcs'!J4552/1000000","v":0},{"$f":"'Daily Calcs'!K4552/1000000","v":0},0]
[0.1,{"$f":"'Daily Calcs'!J4553/1000000","v":0},{"$f":"'Daily Calcs'!K4553/1000000","v":0},0]
[0.1,{"$f":"'Daily Calcs'!J4554/1000000","v":0},{"$f":"'Daily Calcs'!K4554/1000000","v":0},0]
[0.1,{"$f":"'Daily Calcs'!J4555/1000000","v":4.4166310519567732E-22},{"$f":"'Daily Calcs'!K4555/1000000","v":4.4166310519567732E-22},4.4166310519567732E-22]
[0.1,{"$f":"'Daily Calcs'!J4556/1000000","v":0},{"$f":"'Daily Calcs'!K4556/1000000","v":0},0]
[0.1,{"$f":"'Daily Calcs'!J4557/1000000","v":0},{"$f":"'Daily Calcs'!K4557/1000000","v":0},0]
[0.1,{"$f":"'Daily Calcs'!J4558/1000000","v":0},{"$f":"'Daily Calcs'!K4558/1000000","v":0},0]
[0.1,{"$f":"'Daily Calcs'!J4559/1000000","v":0},{"$f":"'Daily Calcs'!K4559/1000000","v":0},0]
[0.1,{"$f":"'Daily Calcs'!J4560/1000000","v":0},{"$f":"'Daily Calcs'!K4560/1000000","v":0},0]
[0.1,{"$f":"'Daily Calcs'!J4561/1000000","v":0},{"$f":"'Daily Calcs'!K4561/1000000","v":0},0]
[0.1,{"$f":"'Daily Calcs'!J4562/1000000","v":0},{"$f":"'Daily Calcs'!K4562/1000000","v":0},0]
[0.1,{"$f":"'Daily Calcs'!J4563/1000000","v":2.1158888621602115E-22},{"$f":"'Daily Calcs'!K4563/1000000","v":2.1158888621602115E-22},2.1158888621602115E-22]
[0.1,{"$f":"'Daily Calcs'!J4564/1000000","v":0},{"$f":"'Daily Calcs'!K4564/1000000","v":0},0]
[0.1,{"$f":"'Daily Calcs'!J4565/1000000","v":0},{"$f":"'Daily Calcs'!K4565/1000000","v":0},0]
[0.1,{"$f":"'Daily Calcs'!J4566/1000000","v":0},{"$f":"'Daily Calcs'!K4566/1000000","v":0},0]
[0.1,{"$f":"'Daily Calcs'!J4567/1000000","v":0},{"$f":"'Daily Calcs'!K4567/1000000","v":0},0]
[0.1,{"$f":"'Daily Calcs'!J4568/1000000","v":0},{"$f":"'Daily Calcs'!K4568/1000000","v":0},0]
[0.1,{"$f":"'Daily Calcs'!J4569/1000000","v":0},{"$f":"'Daily Calcs'!K4569/1000000","v":0},0]
[0.1,{"$f":"'Daily Calcs'!J4570/1000000","v":0},{"$f":"'Daily Calcs'!K4570/1000000","v":0},0]
[0.1,{"$f":"'Daily Calcs'!J4571/1000000","v":0},{"$f":"'Daily Calcs'!K4571/1000000","v":0},0]
[0.1,{"$f":"'Daily Calcs'!J4572/1000000","v":0},{"$f":"'Daily Calcs'!K4572/1000000","v":0},0]
[0.1,{"$f":"'Daily Calcs'!J4573/1000000","v":0},{"$f":"'Daily Calcs'!K4573/1000000","v":0},0]
[0.1,{"$f":"'Daily Calcs'!J4574/1000000","v":8.8409144288734052E-23},{"$f":"'Daily Calcs'!K4574/1000000","v":8.8409144288734052E-23},8.8409144288734052E-23]
[0.1,{"$f":"'Daily Calcs'!J4575/1000000","v":0},{"$f":"'Daily Calcs'!K4575/1000000","v":0},0]
[0.1,{"$f":"'Daily Calcs'!J4576/1000000","v":0},{"$f":"'Daily Calcs'!K4576/1000000","v":0},0]
[0.1,{"$f":"'Daily Calcs'!J4577/1000000","v":0},{"$f":"'Daily Calcs'!K4577/1000000","v":0},0]
[0.1,{"$f":"'Daily Calcs'!J4578/1000000","v":0},{"$f":"'Daily Calcs'!K4578/1000000","v":0},0]
[0.1,{"$f":"'Daily Calcs'!J4579/1000000","v":0},{"$f":"'Daily Calcs'!K4579/1000000","v":0},0]
[0.1,{"$f":"'Daily Calcs'!J4580/1000000","v":0},{"$f":"'Daily Calcs'!K4580/1000000","v":0},0]
[0.1,{"$f":"'Daily Calcs'!J4581/1000000","v":1.7381703470031544E-5},{"$f":"'Daily Calcs'!K4581/1000000","v":1.7547947504650972E-5},1.7381703470031544E-5]
[0.1,{"$f":"'Daily Calcs'!J4582/1000000","v":1.5765048498085911E-5},{"$f":"'Daily Calcs'!K4582/1000000","v":1.5875626482538338E-5},1.5765048498085911E-5]
[0.1,{"$f":"'Daily Calcs'!J4583/1000000","v":1.3802795150953595E-5},{"$f":"'Daily Calcs'!K4583/1000000","v":1.3891290247857308E-5},1.3802795150953595E-5]
[0.1,{"$f":"'Daily Calcs'!J4584/1000000","v":0},{"$f":"'Daily Calcs'!K4584/1000000","v":0},0]
[0.1,{"$f":"'Daily Calcs'!J4585/1000000","v":0},{"$f":"'Daily Calcs'!K4585/1000000","v":0},0]
[0.1,{"$f":"'Daily Calcs'!J4586/1000000","v":0},{"$f":"'Daily Calcs'!K4586/1000000","v":0},0]
[0.1,{"$f":"'Daily Calcs'!J4587/1000000","v":0},{"$f":"'Daily Calcs'!K4587/1000000","v":0},0]
[0.1,{"$f":"'Daily Calcs'!J4588/1000000","v":0},{"$f":"'Daily Calcs'!K4588/1000000","v":0},0]
[0.1,{"$f":"'Daily Calcs'!J4589/1000000","v":0},{"$f":"'Daily Calcs'!K4589/1000000","v":0},0]
[0.1,{"$f":"'Daily Calcs'!J4590/1000000","v":0},{"$f":"'Daily Calcs'!K4590/1000000","v":0},0]
[0.1,{"$f":"'Daily Calcs'!J4591/1000000","v":2.5691538745246665E-5},{"$f":"'Daily Calcs'!K4591/1000000","v":2.5830431520177032E-5},2.5691538745246665E-5]
[0.1,{"$f":"'Daily Calcs'!J4592/1000000","v":0},{"$f":"'Daily Calcs'!K4592/1000000","v":0},0]
[0.1,{"$f":"'Daily Calcs'!J4593/1000000","v":0},{"$f":"'Daily Calcs'!K4593/1000000","v":0},0]
[0.1,{"$f":"'Daily Calcs'!J4594/1000000","v":0},{"$f":"'Daily Calcs'!K4594/1000000","v":0},0]
[0.1,{"$f":"'Daily Calcs'!J4595/1000000","v":0},{"$f":"'Daily Calcs'!K4595/1000000","v":0},0]
[0.1,{"$f":"'Daily Calcs'!J4596/1000000","v":0},{"$f":"'Daily Calcs'!K4596/1000000","v":0},0]
[0.1,{"$f":"'Daily Calcs'!J4597/1000000","v":0},{"$f":"'Daily Calcs'!K4597/1000000","v":0},0]
[0.1,{"$f":"'Daily Calcs'!J4598/1000000","v":0},{"$f":"'Daily Calcs'!K4598/1000000","v":0},0]
[0.1,{"$f":"'Daily Calcs'!J4599/1000000","v":0},{"$f":"'Daily Calcs'!K4599/1000000","v":0},0]
[0.1,{"$f":"'Daily Calcs'!J4600/1000000","v":0},{"$f":"'Daily Calcs'!K4600/1000000","v":0},0]
[0.1,{"$f":"'Daily Calcs'!J4601/1000000","v":0},{"$f":"'Daily Calcs'!K4601/1000000","v":0},0]
[0.1,{"$f":"'Daily Calcs'!J4602/1000000","v":0},{"$f":"'Daily Calcs'!K4602/1000000","v":0},0]
[0.1,{"$f":"'Daily Calcs'!J4603/1000000","v":0},{"$f":"'Daily Calcs'!K4603/1000000","v":0},0]
[0.1,{"$f":"'Daily Calcs'!J4604/1000000","v":0},{"$f":"'Daily Calcs'!K4604/1000000","v":0},0]
[0.1,{"$f":"'Daily Calcs'!J4605/1000000","v":0},{"$f":"'Daily Calcs'!K4605/1000000","v":0},0]
[0.1,{"$f":"'Daily Calcs'!J4606/1000000","v":0},{"$f":"'Daily Calcs'!K4606/1000000","v":0},0]
[0.1,{"$f":"'Daily Calcs'!J4607/1000000","v":0},{"$f":"'Daily Calcs'!K4607/1000000","v":0},0]
[0.1,{"$f":"'Daily Calcs'!J4608/1000000","v":1.8594533245058168E-5},{"$f":"'Daily Calcs'!K4608/1000000","v":1.8624219868217789E-5},1.8594533245058168E-5]
[0.1,{"$f":"'Daily Calcs'!J4609/1000000","v":0},{"$f":"'Daily Calcs'!K4609/1000000","v":0},0]
[0.1,{"$f":"'Daily Calcs'!J4610/1000000","v":1.5399375735557491E-5},{"$f":"'Daily Calcs'!K4610/1000000","v":1.5418731515120505E-5},1.5399375735557491E-5]
[0.1,{"$f":"'Daily Calcs'!J4611/1000000","v":0},{"$f":"'Daily Calcs'!K4611/1000000","v":0},{"$f":"B4615","v":0}]
[0.1,{"$f":"'Daily Calcs'!J4612/1000000","v":0},{"$f":"'Daily Calcs'!K4612/1000000","v":0},0]
[0.1,{"$f":"'Daily Calcs'!J4613/1000000","v":0},{"$f":"'Daily Calcs'!K4613/1000000","v":0},0]
[0.1,{"$f":"'Daily Calcs'!J4614/1000000","v":0},{"$f":"'Daily Calcs'!K4614/1000000","v":0},0]
[0.1,{"$f":"'Daily Calcs'!J4615/1000000","v":0},{"$f":"'Daily Calcs'!K4615/1000000","v":0},0]
[0.1,{"$f":"'Daily Calcs'!J4616/1000000","v":0},{"$f":"'Daily Calcs'!K4616/1000000","v":0},0]
[0.1,{"$f":"'Daily Calcs'!J4617/1000000","v":0},{"$f":"'Daily Calcs'!K4617/1000000","v":0},0]
[0.1,{"$f":"'Daily Calcs'!J4618/1000000","v":0},{"$f":"'Daily Calcs'!K4618/1000000","v":0},0]
[0.1,{"$f":"'Daily Calcs'!J4619/1000000","v":0},{"$f":"'Daily Calcs'!K4619/1000000","v":0},0]
[0.1,{"$f":"'Daily Calcs'!J4620/1000000","v":0},{"$f":"'Daily Calcs'!K4620/1000000","v":0},0]
[0.1,{"$f":"'Daily Calcs'!J4621/1000000","v":0},{"$f":"'Daily Calcs'!K4621/1000000","v":0},0]
[0.1,{"$f":"'Daily Calcs'!J4622/1000000","v":0},{"$f":"'Daily Calcs'!K4622/1000000","v":0},0]
[0.1,{"$f":"'Daily Calcs'!J4623/1000000","v":0},{"$f":"'Daily Calcs'!K4623/1000000","v":0},0]
[0.1,{"$f":"'Daily Calcs'!J4624/1000000","v":0},{"$f":"'Daily Calcs'!K4624/1000000","v":0},0]
[0.1,{"$f":"'Daily Calcs'!J4625/1000000","v":0},{"$f":"'Daily Calcs'!K4625/1000000","v":0},0]
[0.1,{"$f":"'Daily Calcs'!J4626/1000000","v":0},{"$f":"'Daily Calcs'!K4626/1000000","v":0},0]
[0.1,{"$f":"'Daily Calcs'!J4627/1000000","v":0},{"$f":"'Daily Calcs'!K4627/1000000","v":0},0]
[0.1,{"$f":"'Daily Calcs'!J4628/1000000","v":0},{"$f":"'Daily Calcs'!K4628/1000000","v":0},0]
[0.1,{"$f":"'Daily Calcs'!J4629/1000000","v":0},{"$f":"'Daily Calcs'!K4629/1000000","v":0},0]
[0.1,{"$f":"'Daily Calcs'!J4630/1000000","v":0},{"$f":"'Daily Calcs'!K4630/1000000","v":0},0]
[0.1,{"$f":"'Daily Calcs'!J4631/1000000","v":0},{"$f":"'Daily Calcs'!K4631/1000000","v":0},0]
[0.1,{"$f":"'Daily Calcs'!J4632/1000000","v":0},{"$f":"'Daily Calcs'!K4632/1000000","v":0},0]
[0.1,{"$f":"'Daily Calcs'!J4633/1000000","v":0},{"$f":"'Daily Calcs'!K4633/1000000","v":0},0]
[0.1,{"$f":"'Daily Calcs'!J4634/1000000","v":0},{"$f":"'Daily Calcs'!K4634/1000000","v":0},0]
[0.1,{"$f":"'Daily Calcs'!J4635/1000000","v":0},{"$f":"'Daily Calcs'!K4635/1000000","v":0},0]
[0.1,{"$f":"'Daily Calcs'!J4636/1000000","v":1.078028347377137E-5},{"$f":"'Daily Calcs'!K4636/1000000","v":1.0782886123423115E-5},1.078028347377137E-5]
[0.1,{"$f":"'Daily Calcs'!J4637/1000000","v":0},{"$f":"'Daily Calcs'!K4637/1000000","v":0},0]
[0.1,{"$f":"'Daily Calcs'!J4638/1000000","v":0},{"$f":"'Daily Calcs'!K4638/1000000","v":0},0]
[0.1,{"$f":"'Daily Calcs'!J4639/1000000","v":0},{"$f":"'Daily Calcs'!K4639/1000000","v":0},0]
[0.1,{"$f":"'Daily Calcs'!J4640/1000000","v":8.0892687070452264E-6},{"$f":"'Daily Calcs'!K4640/1000000","v":8.090652217560298E-6},8.0892687070452264E-6]
[0.1,{"$f":"'Daily Calcs'!J4641/1000000","v":0},{"$f":"'Daily Calcs'!K4641/1000000","v":0},0]
[0.1,{"$f":"'Daily Calcs'!J4642/1000000","v":0},{"$f":"'Daily Calcs'!K4642/1000000","v":0},0]
[0.1,{"$f":"'Daily Calcs'!J4643/1000000","v":0},{"$f":"'Daily Calcs'!K4643/1000000","v":0},0]
[0.1,{"$f":"'Daily Calcs'!J4644/1000000","v":5.8147028801312967E-6},{"$f":"'Daily Calcs'!K4644/1000000","v":5.8151226307467525E-6},5.8147028801312967E-6]
[0.1,{"$f":"'Daily Calcs'!J4645/1000000","v":0},{"$f":"'Daily Calcs'!K4645/1000000","v":0},0]
[0.1,{"$f":"'Daily Calcs'!J4646/1000000","v":0},{"$f":"'Daily Calcs'!K4646/1000000","v":0},0]
[0.1,{"$f":"'Daily Calcs'!J4647/1000000","v":0},{"$f":"'Daily Calcs'!K4647/1000000","v":0},0]
[0.1,{"$f":"'Daily Calcs'!J4648/1000000","v":0},{"$f":"'Daily Calcs'!K4648/1000000","v":0},0]
[0.1,{"$f":"'Daily Calcs'!J4649/1000000","v":0},{"$f":"'Daily Calcs'!K4649/1000000","v":0},0]
[0.1,{"$f":"'Daily Calcs'!J4650/1000000","v":0},{"$f":"'Daily Calcs'!K4650/1000000","v":0},0]
[0.1,{"$f":"'Daily Calcs'!J4651/1000000","v":0},{"$f":"'Daily Calcs'!K4651/1000000","v":0},0]
[0.1,{"$f":"'Daily Calcs'!J4652/1000000","v":0},{"$f":"'Daily Calcs'!K4652/1000000","v":0},0]
[0.1,{"$f":"'Daily Calcs'!J4653/1000000","v":0},{"$f":"'Daily Calcs'!K4653/1000000","v":0},0]
[0.1,{"$f":"'Daily Calcs'!J4654/1000000","v":3.7315849845932392E-6},{"$f":"'Daily Calcs'!K4654/1000000","v":3.7316596792694723E-6},3.7315849845932392E-6]
[0.1,{"$f":"'Daily Calcs'!J4655/1000000","v":3.4076343784390305E-6},{"$f":"'Daily Calcs'!K4655/1000000","v":3.4076671277215542E-6},3.4076343784390305E-6]
[0.1,{"$f":"'Daily Calcs'!J4656/1000000","v":0},{"$f":"'Daily Calcs'!K4656/1000000","v":0},0]
[0.1,{"$f":"'Daily Calcs'!J4657/1000000","v":2.4257674886763968E-6},{"$f":"'Daily Calcs'!K4657/1000000","v":2.4257881745632327E-6},2.4257674886763968E-6]
[0.1,{"$f":"'Daily Calcs'!J4658/1000000","v":1.9109505310912498E-6},{"$f":"'Daily Calcs'!K4658/1000000","v":1.9109598777539326E-6},1.9109505310912498E-6]
[0.1,{"$f":"'Daily Calcs'!J4659/1000000","v":0},{"$f":"'Daily Calcs'!K4659/1000000","v":0},0]
[0.1,{"$f":"'Daily Calcs'!J4660/1000000","v":0},{"$f":"'Daily Calcs'!K4660/1000000","v":0},0]
[0.1,{"$f":"'Daily Calcs'!J4661/1000000","v":0},{"$f":"'Daily Calcs'!K4661/1000000","v":0},0]
[0.1,{"$f":"'Daily Calcs'!J4662/1000000","v":0},{"$f":"'Daily Calcs'!K4662/1000000","v":0},0]
[0.1,{"$f":"'Daily Calcs'!J4663/1000000","v":0},{"$f":"'Daily Calcs'!K4663/1000000","v":0},0]
[0.1,{"$f":"'Daily Calcs'!J4664/1000000","v":0},{"$f":"'Daily Calcs'!K4664/1000000","v":0},0]
[0.1,{"$f":"'Daily Calcs'!J4665/1000000","v":0},{"$f":"'Daily Calcs'!K4665/1000000","v":0},0]
[0.1,{"$f":"'Daily Calcs'!J4666/1000000","v":0},{"$f":"'Daily Calcs'!K4666/1000000","v":0},0]
[0.1,{"$f":"'Daily Calcs'!J4667/1000000","v":0},{"$f":"'Daily Calcs'!K4667/1000000","v":0},0]
[0.1,{"$f":"'Daily Calcs'!J4668/1000000","v":0},{"$f":"'Daily Calcs'!K4668/1000000","v":0},0]
[0.1,{"$f":"'Daily Calcs'!J4669/1000000","v":0},{"$f":"'Daily Calcs'!K4669/1000000","v":0},0]
[0.1,{"$f":"'Daily Calcs'!J4670/1000000","v":0},{"$f":"'Daily Calcs'!K4670/1000000","v":0},0]
[0.1,{"$f":"'Daily Calcs'!J4671/1000000","v":0},{"$f":"'Daily Calcs'!K4671/1000000","v":0},0]
[0.1,{"$f":"'Daily Calcs'!J4672/1000000","v":0},{"$f":"'Daily Calcs'!K4672/1000000","v":0},0]
[0.1,{"$f":"'Daily Calcs'!J4673/1000000","v":0},{"$f":"'Daily Calcs'!K4673/1000000","v":0},0]
[0.1,{"$f":"'Daily Calcs'!J4674/1000000","v":0},{"$f":"'Daily Calcs'!K4674/1000000","v":0},0]
[0.1,{"$f":"'Daily Calcs'!J4675/1000000","v":0},{"$f":"'Daily Calcs'!K4675/1000000","v":0},{"$f":"B4679","v":0}]
[0.1,{"$f":"'Daily Calcs'!J4676/1000000","v":0},{"$f":"'Daily Calcs'!K4676/1000000","v":0},0]
[0.1,{"$f":"'Daily Calcs'!J4677/1000000","v":0},{"$f":"'Daily Calcs'!K4677/1000000","v":0},0]
[0.1,{"$f":"'Daily Calcs'!J4678/1000000","v":0},{"$f":"'Daily Calcs'!K4678/1000000","v":0},0]
[0.1,{"$f":"'Daily Calcs'!J4679/1000000","v":0},{"$f":"'Daily Calcs'!K4679/1000000","v":0},0]
[0.1,{"$f":"'Daily Calcs'!J4680/1000000","v":0},{"$f":"'Daily Calcs'!K4680/1000000","v":0},0]
[0.1,{"$f":"'Daily Calcs'!J4681/1000000","v":0},{"$f":"'Daily Calcs'!K4681/1000000","v":0},0]
[0.1,{"$f":"'Daily Calcs'!J4682/1000000","v":0},{"$f":"'Daily Calcs'!K4682/1000000","v":0},0]
[0.1,{"$f":"'Daily Calcs'!J4683/1000000","v":0},{"$f":"'Daily Calcs'!K4683/1000000","v":0},0]
[0.1,{"$f":"'Daily Calcs'!J4684/1000000","v":0},{"$f":"'Daily Calcs'!K4684/1000000","v":0},0]
[0.1,{"$f":"'Daily Calcs'!J4685/1000000","v":0},{"$f":"'Daily Calcs'!K4685/1000000","v":0},0]
[0.1,{"$f":"'Daily Calcs'!J4686/1000000","v":0},{"$f":"'Daily Calcs'!K4686/1000000","v":0},0]
[0.1,{"$f":"'Daily Calcs'!J4687/1000000","v":0},{"$f":"'Daily Calcs'!K4687/1000000","v":0},0]
[0.1,{"$f":"'Daily Calcs'!J4688/1000000","v":0},{"$f":"'Daily Calcs'!K4688/1000000","v":0},0]
[0.1,{"$f":"'Daily Calcs'!J4689/1000000","v":0},{"$f":"'Daily Calcs'!K4689/1000000","v":0},0]
[0.1,{"$f":"'Daily Calcs'!J4690/1000000","v":0},{"$f":"'Daily Calcs'!K4690/1000000","v":0},0]
[0.1,{"$f":"'Daily Calcs'!J4691/1000000","v":0},{"$f":"'Daily Calcs'!K4691/1000000","v":0},0]
[0.1,{"$f":"'Daily Calcs'!J4692/1000000","v":0},{"$f":"'Daily Calcs'!K4692/1000000","v":0},0]
[0.1,{"$f":"'Daily Calcs'!J4693/1000000","v":0},{"$f":"'Daily Calcs'!K4693/1000000","v":0},0]
[0.1,{"$f":"'Daily Calcs'!J4694/1000000","v":0},{"$f":"'Daily Calcs'!K4694/1000000","v":0},0]
[0.1,{"$f":"'Daily Calcs'!J4695/1000000","v":0},{"$f":"'Daily Calcs'!K4695/1000000","v":0},0]
[0.1,{"$f":"'Daily Calcs'!J4696/1000000","v":0},{"$f":"'Daily Calcs'!K4696/1000000","v":0},0]
[0.1,{"$f":"'Daily Calcs'!J4697/1000000","v":0},{"$f":"'Daily Calcs'!K4697/1000000","v":0},0]
[0.1,{"$f":"'Daily Calcs'!J4698/1000000","v":0},{"$f":"'Daily Calcs'!K4698/1000000","v":0},0]
[0.1,{"$f":"'Daily Calcs'!J4699/1000000","v":0},{"$f":"'Daily Calcs'!K4699/1000000","v":0},0]
[0.1,{"$f":"'Daily Calcs'!J4700/1000000","v":0},{"$f":"'Daily Calcs'!K4700/1000000","v":0},0]
[0.1,{"$f":"'Daily Calcs'!J4701/1000000","v":0},{"$f":"'Daily Calcs'!K4701/1000000","v":0},0]
[0.1,{"$f":"'Daily Calcs'!J4702/1000000","v":0},{"$f":"'Daily Calcs'!K4702/1000000","v":0},0]
[0.1,{"$f":"'Daily Calcs'!J4703/1000000","v":0},{"$f":"'Daily Calcs'!K4703/1000000","v":0},0]
[0.1,{"$f":"'Daily Calcs'!J4704/1000000","v":0},{"$f":"'Daily Calcs'!K4704/1000000","v":0},0]
[0.1,{"$f":"'Daily Calcs'!J4705/1000000","v":0},{"$f":"'Daily Calcs'!K4705/1000000","v":0},0]
[0.1,{"$f":"'Daily Calcs'!J4706/1000000","v":0},{"$f":"'Daily Calcs'!K4706/1000000","v":0},0]
[0.1,{"$f":"'Daily Calcs'!J4707/1000000","v":0},{"$f":"'Daily Calcs'!K4707/1000000","v":0},0]
[0.1,{"$f":"'Daily Calcs'!J4708/1000000","v":0},{"$f":"'Daily Calcs'!K4708/1000000","v":0},0]
[0.1,{"$f":"'Daily Calcs'!J4709/1000000","v":6.8008637612877895E-7},{"$f":"'Daily Calcs'!K4709/1000000","v":6.8008661074204934E-7},6.8008637612877895E-7]
[0.1,{"$f":"'Daily Calcs'!J4710/1000000","v":0},{"$f":"'Daily Calcs'!K4710/1000000","v":0},0]
[0.1,{"$f":"'Daily Calcs'!J4711/1000000","v":0},{"$f":"'Daily Calcs'!K4711/1000000","v":0},0]
[0.1,{"$f":"'Daily Calcs'!J4712/1000000","v":0},{"$f":"'Daily Calcs'!K4712/1000000","v":0},0]
[0.1,{"$f":"'Daily Calcs'!J4713/1000000","v":0},{"$f":"'Daily Calcs'!K4713/1000000","v":0},0]
[0.1,{"$f":"'Daily Calcs'!J4714/1000000","v":0},{"$f":"'Daily Calcs'!K4714/1000000","v":0},0]
[0.1,{"$f":"'Daily Calcs'!J4715/1000000","v":5.4240179760319571E-7},{"$f":"'Daily Calcs'!K4715/1000000","v":5.4240184747420104E-7},5.4240179760319571E-7]
[0.1,{"$f":"'Daily Calcs'!J4716/1000000","v":4.4138412445153572E-7},{"$f":"'Daily Calcs'!K4716/1000000","v":4.4138416789788592E-7},4.4138412445153572E-7]
[0.1,{"$f":"'Daily Calcs'!J4717/1000000","v":0},{"$f":"'Daily Calcs'!K4717/1000000","v":0},0]
[0.1,{"$f":"'Daily Calcs'!J4718/1000000","v":0},{"$f":"'Daily Calcs'!K4718/1000000","v":0},0]
[0.1,{"$f":"'Daily Calcs'!J4719/1000000","v":0},{"$f":"'Daily Calcs'!K4719/1000000","v":0},0]
[0.1,{"$f":"'Daily Calcs'!J4720/1000000","v":0},{"$f":"'Daily Calcs'!K4720/1000000","v":0},0]
[0.1,{"$f":"'Daily Calcs'!J4721/1000000","v":0},{"$f":"'Daily Calcs'!K4721/1000000","v":0},0]
[0.1,{"$f":"'Daily Calcs'!J4722/1000000","v":2.9817495580717597E-7},{"$f":"'Daily Calcs'!K4722/1000000","v":2.9817497116382402E-7},2.9817495580717597E-7]
[0.1,{"$f":"'Daily Calcs'!J4723/1000000","v":1.9272030651340996E-7},{"$f":"'Daily Calcs'!K4723/1000000","v":1.927203140457699E-7},1.9272030651340996E-7]
[0.1,{"$f":"'Daily Calcs'!J4724/1000000","v":0},{"$f":"'Daily Calcs'!K4724/1000000","v":0},0]
[0.1,{"$f":"'Daily Calcs'!J4725/1000000","v":0},{"$f":"'Daily Calcs'!K4725/1000000","v":0},0]
[0.1,{"$f":"'Daily Calcs'!J4726/1000000","v":0},{"$f":"'Daily Calcs'!K4726/1000000","v":0},0]
[0.1,{"$f":"'Daily Calcs'!J4727/1000000","v":0},{"$f":"'Daily Calcs'!K4727/1000000","v":0},0]
[0.1,{"$f":"'Daily Calcs'!J4728/1000000","v":0},{"$f":"'Daily Calcs'!K4728/1000000","v":0},0]
[0.1,{"$f":"'Daily Calcs'!J4729/1000000","v":0},{"$f":"'Daily Calcs'!K4729/1000000","v":0},0]
[0.1,{"$f":"'Daily Calcs'!J4730/1000000","v":0},{"$f":"'Daily Calcs'!K4730/1000000","v":0},0]
[0.1,{"$f":"'Daily Calcs'!J4731/1000000","v":0},{"$f":"'Daily Calcs'!K4731/1000000","v":0},0]
[0.1,{"$f":"'Daily Calcs'!J4732/1000000","v":0},{"$f":"'Daily Calcs'!K4732/1000000","v":0},0]
[0.1,{"$f":"'Daily Calcs'!J4733/1000000","v":1.0557040662650602E-7},{"$f":"'Daily Calcs'!K4733/1000000","v":1.0557040819329818E-7},1.0557040662650602E-7]
[0.1,{"$f":"'Daily Calcs'!J4734/1000000","v":0},{"$f":"'Daily Calcs'!K4734/1000000","v":0},0]
[0.1,{"$f":"'Daily Calcs'!J4735/1000000","v":0},{"$f":"'Daily Calcs'!K4735/1000000","v":0},0]
[0.1,{"$f":"'Daily Calcs'!J4736/1000000","v":0},{"$f":"'Daily Calcs'!K4736/1000000","v":0},0]
[0.1,{"$f":"'Daily Calcs'!J4737/1000000","v":0},{"$f":"'Daily Calcs'!K4737/1000000","v":0},0]
[0.1,{"$f":"'Daily Calcs'!J4738/1000000","v":6.5253058954393772E-8},{"$f":"'Daily Calcs'!K4738/1000000","v":6.5253059548883661E-8},6.5253058954393772E-8]
[0.1,{"$f":"'Daily Calcs'!J4739/1000000","v":0},{"$f":"'Daily Calcs'!K4739/1000000","v":0},{"$f":"B4743","v":0}]
[0.1,{"$f":"'Daily Calcs'!J4740/1000000","v":0},{"$f":"'Daily Calcs'!K4740/1000000","v":0},0]
[0.1,{"$f":"'Daily Calcs'!J4741/1000000","v":0},{"$f":"'Daily Calcs'!K4741/1000000","v":0},0]
[0.1,{"$f":"'Daily Calcs'!J4742/1000000","v":0},{"$f":"'Daily Calcs'!K4742/1000000","v":0},0]
[0.1,{"$f":"'Daily Calcs'!J4743/1000000","v":0},{"$f":"'Daily Calcs'!K4743/1000000","v":0},0]
[0.1,{"$f":"'Daily Calcs'!J4744/1000000","v":3.4461546858795921E-8},{"$f":"'Daily Calcs'!K4744/1000000","v":3.4461547024354565E-8},3.4461546858795921E-8]
[0.1,{"$f":"'Daily Calcs'!J4745/1000000","v":0},{"$f":"'Daily Calcs'!K4745/1000000","v":0},0]
[0.1,{"$f":"'Daily Calcs'!J4746/1000000","v":0},{"$f":"'Daily Calcs'!K4746/1000000","v":0},0]
[0.1,{"$f":"'Daily Calcs'!J4747/1000000","v":2.0564619796301788E-8},{"$f":"'Daily Calcs'!K4747/1000000","v":2.056461985125086E-8},2.0564619796301788E-8]
[0.1,{"$f":"'Daily Calcs'!J4748/1000000","v":0},{"$f":"'Daily Calcs'!K4748/1000000","v":0},0]
[0.1,{"$f":"'Daily Calcs'!J4749/1000000","v":1.0013778353589568E-8},{"$f":"'Daily Calcs'!K4749/1000000","v":1.0013778366620395E-8},1.0013778353589568E-8]
[0.1,{"$f":"'Daily Calcs'!J4750/1000000","v":0},{"$f":"'Daily Calcs'!K4750/1000000","v":0},0]
[0.1,{"$f":"'Daily Calcs'!J4751/1000000","v":0},{"$f":"'Daily Calcs'!K4751/1000000","v":0},0]
[0.1,{"$f":"'Daily Calcs'!J4752/1000000","v":5.0156812637937043E-9},{"$f":"'Daily Calcs'!K4752/1000000","v":5.0156812667099833E-9},5.0156812637937043E-9]
[0.1,{"$f":"'Daily Calcs'!J4753/1000000","v":3.8034358141727333E-9},{"$f":"'Daily Calcs'!K4753/1000000","v":3.8034358151373806E-9},3.8034358141727333E-9]
[0.1,{"$f":"'Daily Calcs'!J4754/1000000","v":0},{"$f":"'Daily Calcs'!K4754/1000000","v":0},0]
[0.1,{"$f":"'Daily Calcs'!J4755/1000000","v":0},{"$f":"'Daily Calcs'!K4755/1000000","v":0},0]
[0.1,{"$f":"'Daily Calcs'!J4756/1000000","v":2.8199340072277795E-9},{"$f":"'Daily Calcs'!K4756/1000000","v":2.8199340077327344E-9},2.8199340072277795E-9]
[0.1,{"$f":"'Daily Calcs'!J4757/1000000","v":0},{"$f":"'Daily Calcs'!K4757/1000000","v":0},0]
[0.1,{"$f":"'Daily Calcs'!J4758/1000000","v":0},{"$f":"'Daily Calcs'!K4758/1000000","v":0},0]
[0.1,{"$f":"'Daily Calcs'!J4759/1000000","v":0},{"$f":"'Daily Calcs'!K4759/1000000","v":0},0]
[0.1,{"$f":"'Daily Calcs'!J4760/1000000","v":1.7023069520663734E-9},{"$f":"'Daily Calcs'!K4760/1000000","v":1.7023069522381675E-9},1.7023069520663734E-9]
[0.1,{"$f":"'Daily Calcs'!J4761/1000000","v":0},{"$f":"'Daily Calcs'!K4761/1000000","v":0},0]
[0.1,{"$f":"'Daily Calcs'!J4762/1000000","v":0},{"$f":"'Daily Calcs'!K4762/1000000","v":0},0]
[0.1,{"$f":"'Daily Calcs'!J4763/1000000","v":1.3334120573740809E-9},{"$f":"'Daily Calcs'!K4763/1000000","v":1.3334120574570041E-9},1.3334120573740809E-9]
[0.1,{"$f":"'Daily Calcs'!J4764/1000000","v":0},{"$f":"'Daily Calcs'!K4764/1000000","v":0},0]
[0.1,{"$f":"'Daily Calcs'!J4765/1000000","v":0},{"$f":"'Daily Calcs'!K4765/1000000","v":0},0]
[0.1,{"$f":"'Daily Calcs'!J4766/1000000","v":0},{"$f":"'Daily Calcs'!K4766/1000000","v":0},0]
[0.1,{"$f":"'Daily Calcs'!J4767/1000000","v":0},{"$f":"'Daily Calcs'!K4767/1000000","v":0},0]
[0.1,{"$f":"'Daily Calcs'!J4768/1000000","v":0},{"$f":"'Daily Calcs'!K4768/1000000","v":0},0]
[0.1,{"$f":"'Daily Calcs'!J4769/1000000","v":6.3898671609514973E-10},{"$f":"'Daily Calcs'!K4769/1000000","v":6.3898671614635211E-10},6.3898671609514973E-10]
[0.1,{"$f":"'Daily Calcs'!J4770/1000000","v":0},{"$f":"'Daily Calcs'!K4770/1000000","v":0},0]
[0.1,{"$f":"'Daily Calcs'!J4771/1000000","v":0},{"$f":"'Daily Calcs'!K4771/1000000","v":0},0]
[0.1,{"$f":"'Daily Calcs'!J4772/1000000","v":3.0450954827824219E-10},{"$f":"'Daily Calcs'!K4772/1000000","v":3.0450954829238212E-10},3.0450954827824219E-10]
[0.1,{"$f":"'Daily Calcs'!J4773/1000000","v":2.4779864911502246E-10},{"$f":"'Daily Calcs'!K4773/1000000","v":2.4779864911913133E-10},2.4779864911502246E-10]
[0.1,{"$f":"'Daily Calcs'!J4774/1000000","v":0},{"$f":"'Daily Calcs'!K4774/1000000","v":0},0]
[0.1,{"$f":"'Daily Calcs'!J4775/1000000","v":1.4506141393558612E-10},{"$f":"'Daily Calcs'!K4775/1000000","v":1.450614139389871E-10},1.4506141393558612E-10]
[0.1,{"$f":"'Daily Calcs'!J4776/1000000","v":0},{"$f":"'Daily Calcs'!K4776/1000000","v":0},0]
[0.1,{"$f":"'Daily Calcs'!J4777/1000000","v":8.6252135292107961E-11},{"$f":"'Daily Calcs'!K4777/1000000","v":8.6252135293251577E-11},8.6252135292107961E-11]
[0.1,{"$f":"'Daily Calcs'!J4778/1000000","v":0},{"$f":"'Daily Calcs'!K4778/1000000","v":0},0]
[0.1,{"$f":"'Daily Calcs'!J4779/1000000","v":0},{"$f":"'Daily Calcs'!K4779/1000000","v":0},0]
[0.1,{"$f":"'Daily Calcs'!J4780/1000000","v":0},{"$f":"'Daily Calcs'!K4780/1000000","v":0},0]
[0.1,{"$f":"'Daily Calcs'!J4781/1000000","v":5.3817487449567278E-11},{"$f":"'Daily Calcs'!K4781/1000000","v":5.3817487449872275E-11},5.3817487449567278E-11]
[0.1,{"$f":"'Daily Calcs'!J4782/1000000","v":3.0597360988153951E-11},{"$f":"'Daily Calcs'!K4782/1000000","v":3.0597360988370595E-11},3.0597360988153951E-11]
[0.1,{"$f":"'Daily Calcs'!J4783/1000000","v":0},{"$f":"'Daily Calcs'!K4783/1000000","v":0},0]
[0.1,{"$f":"'Daily Calcs'!J4784/1000000","v":0},{"$f":"'Daily Calcs'!K4784/1000000","v":0},0]
[0.1,{"$f":"'Daily Calcs'!J4785/1000000","v":0},{"$f":"'Daily Calcs'!K4785/1000000","v":0},0]
[0.1,{"$f":"'Daily Calcs'!J4786/1000000","v":1.4285899429756349E-11},{"$f":"'Daily Calcs'!K4786/1000000","v":1.4285899429819517E-11},1.4285899429756349E-11]
[0.1,{"$f":"'Daily Calcs'!J4787/1000000","v":8.4065189525727872E-12},{"$f":"'Daily Calcs'!K4787/1000000","v":8.4065189525986123E-12},8.4065189525727872E-12]
[0.1,{"$f":"'Daily Calcs'!J4788/1000000","v":0},{"$f":"'Daily Calcs'!K4788/1000000","v":0},0]
[0.1,{"$f":"'Daily Calcs'!J4789/1000000","v":0},{"$f":"'Daily Calcs'!K4789/1000000","v":0},0]
[0.1,{"$f":"'Daily Calcs'!J4790/1000000","v":0},{"$f":"'Daily Calcs'!K4790/1000000","v":0},0]
[0.1,{"$f":"'Daily Calcs'!J4791/1000000","v":0},{"$f":"'Daily Calcs'!K4791/1000000","v":0},0]
[0.1,{"$f":"'Daily Calcs'!J4792/1000000","v":0},{"$f":"'Daily Calcs'!K4792/1000000","v":0},0]
[0.1,{"$f":"'Daily Calcs'!J4793/1000000","v":0},{"$f":"'Daily Calcs'!K4793/1000000","v":0},0]
[0.1,{"$f":"'Daily Calcs'!J4794/1000000","v":3.1819173026922757E-12},{"$f":"'Daily Calcs'!K4794/1000000","v":3.1819173026981718E-12},3.1819173026922757E-12]
[0.1,{"$f":"'Daily Calcs'!J4795/1000000","v":1.8449679243981518E-12},{"$f":"'Daily Calcs'!K4795/1000000","v":1.8449679244005489E-12},1.8449679243981518E-12]
[0.1,{"$f":"'Daily Calcs'!J4796/1000000","v":8.6353104726598709E-13},{"$f":"'Daily Calcs'!K4796/1000000","v":8.6353104726689767E-13},8.6353104726598709E-13]
[0.1,{"$f":"'Daily Calcs'!J4797/1000000","v":0},{"$f":"'Daily Calcs'!K4797/1000000","v":0},0]
[0.1,{"$f":"'Daily Calcs'!J4798/1000000","v":0},{"$f":"'Daily Calcs'!K4798/1000000","v":0},0]
[0.1,{"$f":"'Daily Calcs'!J4799/1000000","v":5.5218643817402866E-13},{"$f":"'Daily Calcs'!K4799/1000000","v":5.5218643817425757E-13},5.5218643817402866E-13]
[0.1,{"$f":"'Daily Calcs'!J4800/1000000","v":0},{"$f":"'Daily Calcs'!K4800/1000000","v":0},0]
[0.1,{"$f":"'Daily Calcs'!J4801/1000000","v":3.7314967105263156E-13},{"$f":"'Daily Calcs'!K4801/1000000","v":3.7314967105274773E-13},3.7314967105263156E-13]
[0.1,{"$f":"'Daily Calcs'!J4802/1000000","v":1.9544138596571847E-13},{"$f":"'Daily Calcs'!K4802/1000000","v":1.9544138596579117E-13},1.9544138596571847E-13]
[0.1,{"$f":"'Daily Calcs'!J4803/1000000","v":0},{"$f":"'Daily Calcs'!K4803/1000000","v":0},{"$f":"B4807","v":0}]
[0.1,{"$f":"'Daily Calcs'!J4804/1000000","v":0},{"$f":"'Daily Calcs'!K4804/1000000","v":0},0]
[0.1,{"$f":"'Daily Calcs'!J4805/1000000","v":0},{"$f":"'Daily Calcs'!K4805/1000000","v":0},0]
[0.1,{"$f":"'Daily Calcs'!J4806/1000000","v":0},{"$f":"'Daily Calcs'!K4806/1000000","v":0},0]
[0.1,{"$f":"'Daily Calcs'!J4807/1000000","v":0},{"$f":"'Daily Calcs'!K4807/1000000","v":0},0]
[0.1,{"$f":"'Daily Calcs'!J4808/1000000","v":0},{"$f":"'Daily Calcs'!K4808/1000000","v":0},0]
[0.1,{"$f":"'Daily Calcs'!J4809/1000000","v":0},{"$f":"'Daily Calcs'!K4809/1000000","v":0},0]
[0.1,{"$f":"'Daily Calcs'!J4810/1000000","v":0},{"$f":"'Daily Calcs'!K4810/1000000","v":0},0]
[0.1,{"$f":"'Daily Calcs'!J4811/1000000","v":0},{"$f":"'Daily Calcs'!K4811/1000000","v":0},0]
[0.1,{"$f":"'Daily Calcs'!J4812/1000000","v":0},{"$f":"'Daily Calcs'!K4812/1000000","v":0},0]
[0.1,{"$f":"'Daily Calcs'!J4813/1000000","v":0},{"$f":"'Daily Calcs'!K4813/1000000","v":0},0]
[0.1,{"$f":"'Daily Calcs'!J4814/1000000","v":0},{"$f":"'Daily Calcs'!K4814/1000000","v":0},0]
[0.1,{"$f":"'Daily Calcs'!J4815/1000000","v":0},{"$f":"'Daily Calcs'!K4815/1000000","v":0},0]
[0.1,{"$f":"'Daily Calcs'!J4816/1000000","v":0},{"$f":"'Daily Calcs'!K4816/1000000","v":0},0]
[0.1,{"$f":"'Daily Calcs'!J4817/1000000","v":0},{"$f":"'Daily Calcs'!K4817/1000000","v":0},0]
[0.1,{"$f":"'Daily Calcs'!J4818/1000000","v":0},{"$f":"'Daily Calcs'!K4818/1000000","v":0},0]
[0.1,{"$f":"'Daily Calcs'!J4819/1000000","v":0},{"$f":"'Daily Calcs'!K4819/1000000","v":0},0]
[0.1,{"$f":"'Daily Calcs'!J4820/1000000","v":0},{"$f":"'Daily Calcs'!K4820/1000000","v":0},0]
[0.1,{"$f":"'Daily Calcs'!J4821/1000000","v":0},{"$f":"'Daily Calcs'!K4821/1000000","v":0},0]
[0.1,{"$f":"'Daily Calcs'!J4822/1000000","v":0},{"$f":"'Daily Calcs'!K4822/1000000","v":0},0]
[0.1,{"$f":"'Daily Calcs'!J4823/1000000","v":0},{"$f":"'Daily Calcs'!K4823/1000000","v":0},0]
[0.1,{"$f":"'Daily Calcs'!J4824/1000000","v":0},{"$f":"'Daily Calcs'!K4824/1000000","v":0},0]
[0.1,{"$f":"'Daily Calcs'!J4825/1000000","v":0},{"$f":"'Daily Calcs'!K4825/1000000","v":0},0]
[0.1,{"$f":"'Daily Calcs'!J4826/1000000","v":0},{"$f":"'Daily Calcs'!K4826/1000000","v":0},0]
[0.1,{"$f":"'Daily Calcs'!J4827/1000000","v":0},{"$f":"'Daily Calcs'!K4827/1000000","v":0},0]
[0.1,{"$f":"'Daily Calcs'!J4828/1000000","v":6.9749496277454657E-14},{"$f":"'Daily Calcs'!K4828/1000000","v":6.9749496277461031E-14},6.9749496277454657E-14]
[0.1,{"$f":"'Daily Calcs'!J4829/1000000","v":4.3376836351212843E-14},{"$f":"'Daily Calcs'!K4829/1000000","v":4.337683635121702E-14},4.3376836351212843E-14]
[0.1,{"$f":"'Daily Calcs'!J4830/1000000","v":0},{"$f":"'Daily Calcs'!K4830/1000000","v":0},0]
[0.1,{"$f":"'Daily Calcs'!J4831/1000000","v":0},{"$f":"'Daily Calcs'!K4831/1000000","v":0},0]
[0.1,{"$f":"'Daily Calcs'!J4832/1000000","v":0},{"$f":"'Daily Calcs'!K4832/1000000","v":0},0]
[0.1,{"$f":"'Daily Calcs'!J4833/1000000","v":3.0535341225626741E-14},{"$f":"'Daily Calcs'!K4833/1000000","v":3.053534122562811E-14},3.0535341225626741E-14]
[0.1,{"$f":"'Daily Calcs'!J4834/1000000","v":0},{"$f":"'Daily Calcs'!K4834/1000000","v":0},0]
[0.1,{"$f":"'Daily Calcs'!J4835/1000000","v":0},{"$f":"'Daily Calcs'!K4835/1000000","v":0},0]
[0.1,{"$f":"'Daily Calcs'!J4836/1000000","v":0},{"$f":"'Daily Calcs'!K4836/1000000","v":0},0]
[0.1,{"$f":"'Daily Calcs'!J4837/1000000","v":1.4198738920944619E-14},{"$f":"'Daily Calcs'!K4837/1000000","v":1.4198738920945338E-14},1.4198738920944619E-14]
[0.1,{"$f":"'Daily Calcs'!J4838/1000000","v":9.1110351896139393E-15},{"$f":"'Daily Calcs'!K4838/1000000","v":9.1110351896142438E-15},9.1110351896139393E-15]
[0.1,{"$f":"'Daily Calcs'!J4839/1000000","v":0},{"$f":"'Daily Calcs'!K4839/1000000","v":0},0]
[0.1,{"$f":"'Daily Calcs'!J4840/1000000","v":0},{"$f":"'Daily Calcs'!K4840/1000000","v":0},0]
[0.1,{"$f":"'Daily Calcs'!J4841/1000000","v":3.6906000693721823E-15},{"$f":"'Daily Calcs'!K4841/1000000","v":3.690600069372273E-15},3.6906000693721823E-15]
[0.1,{"$f":"'Daily Calcs'!J4842/1000000","v":0},{"$f":"'Daily Calcs'!K4842/1000000","v":0},0]
[0.1,{"$f":"'Daily Calcs'!J4843/1000000","v":1.41997797170211E-15},{"$f":"'Daily Calcs'!K4843/1000000","v":1.4199779717021398E-15},1.41997797170211E-15]
[0.1,{"$f":"'Daily Calcs'!J4844/1000000","v":0},{"$f":"'Daily Calcs'!K4844/1000000","v":0},0]
[0.1,{"$f":"'Daily Calcs'!J4845/1000000","v":0},{"$f":"'Daily Calcs'!K4845/1000000","v":0},0]
[0.1,{"$f":"'Daily Calcs'!J4846/1000000","v":0},{"$f":"'Daily Calcs'!K4846/1000000","v":0},0]
[0.1,{"$f":"'Daily Calcs'!J4847/1000000","v":0},{"$f":"'Daily Calcs'!K4847/1000000","v":0},0]
[0.1,{"$f":"'Daily Calcs'!J4848/1000000","v":0},{"$f":"'Daily Calcs'!K4848/1000000","v":0},0]
[0.1,{"$f":"'Daily Calcs'!J4849/1000000","v":0},{"$f":"'Daily Calcs'!K4849/1000000","v":0},0]
[0.1,{"$f":"'Daily Calcs'!J4850/1000000","v":0},{"$f":"'Daily Calcs'!K4850/1000000","v":0},0]
[0.1,{"$f":"'Daily Calcs'!J4851/1000000","v":0},{"$f":"'Daily Calcs'!K4851/1000000","v":0},0]
[0.1,{"$f":"'Daily Calcs'!J4852/1000000","v":7.8047540358459377E-16},{"$f":"'Daily Calcs'!K4852/1000000","v":7.8047540358459742E-16},7.8047540358459377E-16]
[0.1,{"$f":"'Daily Calcs'!J4853/1000000","v":5.6485100528438762E-16},{"$f":"'Daily Calcs'!K4853/1000000","v":5.6485100528439019E-16},5.6485100528438762E-16]
[0.1,{"$f":"'Daily Calcs'!J4854/1000000","v":0},{"$f":"'Daily Calcs'!K4854/1000000","v":0},0]
[0.1,{"$f":"'Daily Calcs'!J4855/1000000","v":0},{"$f":"'Daily Calcs'!K4855/1000000","v":0},0]
[0.1,{"$f":"'Daily Calcs'!J4856/1000000","v":0},{"$f":"'Daily Calcs'!K4856/1000000","v":0},0]
[0.1,{"$f":"'Daily Calcs'!J4857/1000000","v":0},{"$f":"'Daily Calcs'!K4857/1000000","v":0},0]
[0.1,{"$f":"'Daily Calcs'!J4858/1000000","v":0},{"$f":"'Daily Calcs'!K4858/1000000","v":0},0]
[0.1,{"$f":"'Daily Calcs'!J4859/1000000","v":0},{"$f":"'Daily Calcs'!K4859/1000000","v":0},0]
[0.1,{"$f":"'Daily Calcs'!J4860/1000000","v":0},{"$f":"'Daily Calcs'!K4860/1000000","v":0},0]
[0.1,{"$f":"'Daily Calcs'!J4861/1000000","v":2.8640467503555744E-16},{"$f":"'Daily Calcs'!K4861/1000000","v":2.8640467503555833E-16},2.8640467503555744E-16]
[0.1,{"$f":"'Daily Calcs'!J4862/1000000","v":0},{"$f":"'Daily Calcs'!K4862/1000000","v":0},0]
[0.1,{"$f":"'Daily Calcs'!J4863/1000000","v":0},{"$f":"'Daily Calcs'!K4863/1000000","v":0},0]
[0.1,{"$f":"'Daily Calcs'!J4864/1000000","v":0},{"$f":"'Daily Calcs'!K4864/1000000","v":0},0]
[0.1,{"$f":"'Daily Calcs'!J4865/1000000","v":0},{"$f":"'Daily Calcs'!K4865/1000000","v":0},0]
[0.1,{"$f":"'Daily Calcs'!J4866/1000000","v":0},{"$f":"'Daily Calcs'!K4866/1000000","v":0},0]
[0.1,{"$f":"'Daily Calcs'!J4867/1000000","v":0},{"$f":"'Daily Calcs'!K4867/1000000","v":0},{"$f":"B4871","v":0}]
[0.1,{"$f":"'Daily Calcs'!J4868/1000000","v":0},{"$f":"'Daily Calcs'!K4868/1000000","v":0},0]
[0.1,{"$f":"'Daily Calcs'!J4869/1000000","v":0},{"$f":"'Daily Calcs'!K4869/1000000","v":0},0]
[0.1,{"$f":"'Daily Calcs'!J4870/1000000","v":0},{"$f":"'Daily Calcs'!K4870/1000000","v":0},0]
[0.1,{"$f":"'Daily Calcs'!J4871/1000000","v":1.6333604964583464E-16},{"$f":"'Daily Calcs'!K4871/1000000","v":1.6333604964583491E-16},1.6333604964583464E-16]
[0.1,{"$f":"'Daily Calcs'!J4872/1000000","v":0},{"$f":"'Daily Calcs'!K4872/1000000","v":0},0]
[0.1,{"$f":"'Daily Calcs'!J4873/1000000","v":0},{"$f":"'Daily Calcs'!K4873/1000000","v":0},0]
[0.1,{"$f":"'Daily Calcs'!J4874/1000000","v":0},{"$f":"'Daily Calcs'!K4874/1000000","v":0},0]
[0.1,{"$f":"'Daily Calcs'!J4875/1000000","v":0},{"$f":"'Daily Calcs'!K4875/1000000","v":0},0]
[0.1,{"$f":"'Daily Calcs'!J4876/1000000","v":0},{"$f":"'Daily Calcs'!K4876/1000000","v":0},0]
[0.1,{"$f":"'Daily Calcs'!J4877/1000000","v":0},{"$f":"'Daily Calcs'!K4877/1000000","v":0},0]
[0.1,{"$f":"'Daily Calcs'!J4878/1000000","v":0},{"$f":"'Daily Calcs'!K4878/1000000","v":0},0]
[0.1,{"$f":"'Daily Calcs'!J4879/1000000","v":0},{"$f":"'Daily Calcs'!K4879/1000000","v":0},0]
[0.1,{"$f":"'Daily Calcs'!J4880/1000000","v":4.1875980242983215E-17},{"$f":"'Daily Calcs'!K4880/1000000","v":4.1875980242983264E-17},4.1875980242983215E-17]
[0.1,{"$f":"'Daily Calcs'!J4881/1000000","v":2.6631876031737572E-17},{"$f":"'Daily Calcs'!K4881/1000000","v":2.6631876031737606E-17},2.6631876031737572E-17]
[0.1,{"$f":"'Daily Calcs'!J4882/1000000","v":0},{"$f":"'Daily Calcs'!K4882/1000000","v":0},0]
[0.1,{"$f":"'Daily Calcs'!J4883/1000000","v":0},{"$f":"'Daily Calcs'!K4883/1000000","v":0},0]
[0.1,{"$f":"'Daily Calcs'!J4884/1000000","v":1.7221131186174394E-17},{"$f":"'Daily Calcs'!K4884/1000000","v":1.7221131186174397E-17},1.7221131186174394E-17]
[0.1,{"$f":"'Daily Calcs'!J4885/1000000","v":0},{"$f":"'Daily Calcs'!K4885/1000000","v":0},0]
[0.1,{"$f":"'Daily Calcs'!J4886/1000000","v":0},{"$f":"'Daily Calcs'!K4886/1000000","v":0},0]
[0.1,{"$f":"'Daily Calcs'!J4887/1000000","v":0},{"$f":"'Daily Calcs'!K4887/1000000","v":0},0]
[0.1,{"$f":"'Daily Calcs'!J4888/1000000","v":0},{"$f":"'Daily Calcs'!K4888/1000000","v":0},0]
[0.1,{"$f":"'Daily Calcs'!J4889/1000000","v":0},{"$f":"'Daily Calcs'!K4889/1000000","v":0},0]
[0.1,{"$f":"'Daily Calcs'!J4890/1000000","v":0},{"$f":"'Daily Calcs'!K4890/1000000","v":0},0]
[0.1,{"$f":"'Daily Calcs'!J4891/1000000","v":6.3453875932395442E-18},{"$f":"'Daily Calcs'!K4891/1000000","v":6.3453875932395457E-18},6.3453875932395442E-18]
[0.1,{"$f":"'Daily Calcs'!J4892/1000000","v":3.713581058862217E-18},{"$f":"'Daily Calcs'!K4892/1000000","v":3.7135810588622185E-18},3.713581058862217E-18]
[0.1,{"$f":"'Daily Calcs'!J4893/1000000","v":0},{"$f":"'Daily Calcs'!K4893/1000000","v":0},0]
[0.1,{"$f":"'Daily Calcs'!J4894/1000000","v":0},{"$f":"'Daily Calcs'!K4894/1000000","v":0},0]
[0.1,{"$f":"'Daily Calcs'!J4895/1000000","v":2.1464436165290869E-18},{"$f":"'Daily Calcs'!K4895/1000000","v":2.1464436165290873E-18},2.1464436165290869E-18]
[0.1,{"$f":"'Daily Calcs'!J4896/1000000","v":0},{"$f":"'Daily Calcs'!K4896/1000000","v":0},0]
[0.1,{"$f":"'Daily Calcs'!J4897/1000000","v":0},{"$f":"'Daily Calcs'!K4897/1000000","v":0},0]
[0.1,{"$f":"'Daily Calcs'!J4898/1000000","v":0},{"$f":"'Daily Calcs'!K4898/1000000","v":0},0]
[0.1,{"$f":"'Daily Calcs'!J4899/1000000","v":0},{"$f":"'Daily Calcs'!K4899/1000000","v":0},0]
[0.1,{"$f":"'Daily Calcs'!J4900/1000000","v":0},{"$f":"'Daily Calcs'!K4900/1000000","v":0},0]
[0.1,{"$f":"'Daily Calcs'!J4901/1000000","v":0},{"$f":"'Daily Calcs'!K4901/1000000","v":0},0]
[0.1,{"$f":"'Daily Calcs'!J4902/1000000","v":0},{"$f":"'Daily Calcs'!K4902/1000000","v":0},0]
[0.1,{"$f":"'Daily Calcs'!J4903/1000000","v":0},{"$f":"'Daily Calcs'!K4903/1000000","v":0},0]
[0.1,{"$f":"'Daily Calcs'!J4904/1000000","v":0},{"$f":"'Daily Calcs'!K4904/1000000","v":0},0]
[0.1,{"$f":"'Daily Calcs'!J4905/1000000","v":0},{"$f":"'Daily Calcs'!K4905/1000000","v":0},0]
[0.1,{"$f":"'Daily Calcs'!J4906/1000000","v":4.3041569506142277E-19},{"$f":"'Daily Calcs'!K4906/1000000","v":4.3041569506142286E-19},4.3041569506142277E-19]
[0.1,{"$f":"'Daily Calcs'!J4907/1000000","v":2.2365587942282352E-19},{"$f":"'Daily Calcs'!K4907/1000000","v":2.2365587942282352E-19},2.2365587942282352E-19]
[0.1,{"$f":"'Daily Calcs'!J4908/1000000","v":0},{"$f":"'Daily Calcs'!K4908/1000000","v":0},0]
[0.1,{"$f":"'Daily Calcs'!J4909/1000000","v":0},{"$f":"'Daily Calcs'!K4909/1000000","v":0},0]
[0.1,{"$f":"'Daily Calcs'!J4910/1000000","v":1.1602887494360361E-19},{"$f":"'Daily Calcs'!K4910/1000000","v":1.1602887494360361E-19},1.1602887494360361E-19]
[0.1,{"$f":"'Daily Calcs'!J4911/1000000","v":0},{"$f":"'Daily Calcs'!K4911/1000000","v":0},0]
[0.1,{"$f":"'Daily Calcs'!J4912/1000000","v":0},{"$f":"'Daily Calcs'!K4912/1000000","v":0},0]
[0.1,{"$f":"'Daily Calcs'!J4913/1000000","v":7.8939862134537665E-20},{"$f":"'Daily Calcs'!K4913/1000000","v":7.8939862134537665E-20},7.8939862134537665E-20]
[0.1,{"$f":"'Daily Calcs'!J4914/1000000","v":0},{"$f":"'Daily Calcs'!K4914/1000000","v":0},0]
[0.1,{"$f":"'Daily Calcs'!J4915/1000000","v":0},{"$f":"'Daily Calcs'!K4915/1000000","v":0},0]
[0.1,{"$f":"'Daily Calcs'!J4916/1000000","v":0},{"$f":"'Daily Calcs'!K4916/1000000","v":0},0]
[0.1,{"$f":"'Daily Calcs'!J4917/1000000","v":0},{"$f":"'Daily Calcs'!K4917/1000000","v":0},0]
[0.1,{"$f":"'Daily Calcs'!J4918/1000000","v":0},{"$f":"'Daily Calcs'!K4918/1000000","v":0},0]
[0.1,{"$f":"'Daily Calcs'!J4919/1000000","v":0},{"$f":"'Daily Calcs'!K4919/1000000","v":0},0]
[0.1,{"$f":"'Daily Calcs'!J4920/1000000","v":0},{"$f":"'Daily Calcs'!K4920/1000000","v":0},0]
[0.1,{"$f":"'Daily Calcs'!J4921/1000000","v":0},{"$f":"'Daily Calcs'!K4921/1000000","v":0},0]
[0.1,{"$f":"'Daily Calcs'!J4922/1000000","v":0},{"$f":"'Daily Calcs'!K4922/1000000","v":0},0]
[0.1,{"$f":"'Daily Calcs'!J4923/1000000","v":0},{"$f":"'Daily Calcs'!K4923/1000000","v":0},0]
[0.1,{"$f":"'Daily Calcs'!J4924/1000000","v":0},{"$f":"'Daily Calcs'!K4924/1000000","v":0},0]
[0.1,{"$f":"'Daily Calcs'!J4925/1000000","v":0},{"$f":"'Daily Calcs'!K4925/1000000","v":0},0]
[0.1,{"$f":"'Daily Calcs'!J4926/1000000","v":0},{"$f":"'Daily Calcs'!K4926/1000000","v":0},0]
[0.1,{"$f":"'Daily Calcs'!J4927/1000000","v":0},{"$f":"'Daily Calcs'!K4927/1000000","v":0},0]
[0.1,{"$f":"'Daily Calcs'!J4928/1000000","v":0},{"$f":"'Daily Calcs'!K4928/1000000","v":0},0]
[0.1,{"$f":"'Daily Calcs'!J4929/1000000","v":0},{"$f":"'Daily Calcs'!K4929/1000000","v":0},0]
[0.1,{"$f":"'Daily Calcs'!J4930/1000000","v":0},{"$f":"'Daily Calcs'!K4930/1000000","v":0},0]
[0.1,{"$f":"'Daily Calcs'!J4931/1000000","v":0},{"$f":"'Daily Calcs'!K4931/1000000","v":0},{"$f":"B4935","v":0}]
[0.1,{"$f":"'Daily Calcs'!J4932/1000000","v":1.452672613920077E-20},{"$f":"'Daily Calcs'!K4932/1000000","v":1.452672613920077E-20},1.452672613920077E-20]
[0.1,{"$f":"'Daily Calcs'!J4933/1000000","v":0},{"$f":"'Daily Calcs'!K4933/1000000","v":0},0]
[0.1,{"$f":"'Daily Calcs'!J4934/1000000","v":9.6429539907800786E-21},{"$f":"'Daily Calcs'!K4934/1000000","v":9.6429539907800786E-21},9.6429539907800786E-21]
[0.1,{"$f":"'Daily Calcs'!J4935/1000000","v":4.8159498438468651E-21},{"$f":"'Daily Calcs'!K4935/1000000","v":4.8159498438468651E-21},4.8159498438468651E-21]
[0.1,{"$f":"'Daily Calcs'!J4936/1000000","v":0},{"$f":"'Daily Calcs'!K4936/1000000","v":0},0]
[0.1,{"$f":"'Daily Calcs'!J4937/1000000","v":0},{"$f":"'Daily Calcs'!K4937/1000000","v":0},0]
[0.1,{"$f":"'Daily Calcs'!J4938/1000000","v":0},{"$f":"'Daily Calcs'!K4938/1000000","v":0},0]
[0.1,{"$f":"'Daily Calcs'!J4939/1000000","v":0},{"$f":"'Daily Calcs'!K4939/1000000","v":0},0]
[0.1,{"$f":"'Daily Calcs'!J4940/1000000","v":2.9612694167266738E-21},{"$f":"'Daily Calcs'!K4940/1000000","v":2.9612694167266738E-21},2.9612694167266738E-21]
[0.1,{"$f":"'Daily Calcs'!J4941/1000000","v":2.1920992914370397E-21},{"$f":"'Daily Calcs'!K4941/1000000","v":2.1920992914370397E-21},2.1920992914370397E-21]
[0.1,{"$f":"'Daily Calcs'!J4942/1000000","v":0},{"$f":"'Daily Calcs'!K4942/1000000","v":0},0]
[0.1,{"$f":"'Daily Calcs'!J4943/1000000","v":0},{"$f":"'Daily Calcs'!K4943/1000000","v":0},0]
[0.1,{"$f":"'Daily Calcs'!J4944/1000000","v":0},{"$f":"'Daily Calcs'!K4944/1000000","v":0},0]
[0.1,{"$f":"'Daily Calcs'!J4945/1000000","v":0},{"$f":"'Daily Calcs'!K4945/1000000","v":0},0]
[0.1,{"$f":"'Daily Calcs'!J4946/1000000","v":0},{"$f":"'Daily Calcs'!K4946/1000000","v":0},0]
[0.1,{"$f":"'Daily Calcs'!J4947/1000000","v":0},{"$f":"'Daily Calcs'!K4947/1000000","v":0},0]
[0.1,{"$f":"'Daily Calcs'!J4948/1000000","v":0},{"$f":"'Daily Calcs'!K4948/1000000","v":0},0]
[0.1,{"$f":"'Daily Calcs'!J4949/1000000","v":0},{"$f":"'Daily Calcs'!K4949/1000000","v":0},0]
[0.1,{"$f":"'Daily Calcs'!J4950/1000000","v":1.2298342541436466E-5},{"$f":"'Daily Calcs'!K4950/1000000","v":1.237630601596071E-5},1.2298342541436466E-5]
[0.1,{"$f":"'Daily Calcs'!J4951/1000000","v":0},{"$f":"'Daily Calcs'!K4951/1000000","v":0},0]
[0.1,{"$f":"'Daily Calcs'!J4952/1000000","v":0},{"$f":"'Daily Calcs'!K4952/1000000","v":0},0]
[0.1,{"$f":"'Daily Calcs'!J4953/1000000","v":0},{"$f":"'Daily Calcs'!K4953/1000000","v":0},0]
[0.1,{"$f":"'Daily Calcs'!J4954/1000000","v":0},{"$f":"'Daily Calcs'!K4954/1000000","v":0},0]
[0.1,{"$f":"'Daily Calcs'!J4955/1000000","v":0},{"$f":"'Daily Calcs'!K4955/1000000","v":0},0]
[0.1,{"$f":"'Daily Calcs'!J4956/1000000","v":2.3865608190178723E-5},{"$f":"'Daily Calcs'!K4956/1000000","v":2.4078398837411067E-5},2.3865608190178723E-5]
[0.1,{"$f":"'Daily Calcs'!J4957/1000000","v":0},{"$f":"'Daily Calcs'!K4957/1000000","v":0},0]
[0.1,{"$f":"'Daily Calcs'!J4958/1000000","v":0},{"$f":"'Daily Calcs'!K4958/1000000","v":0},0]
[0.1,{"$f":"'Daily Calcs'!J4959/1000000","v":0},{"$f":"'Daily Calcs'!K4959/1000000","v":0},0]
[0.1,{"$f":"'Daily Calcs'!J4960/1000000","v":0},{"$f":"'Daily Calcs'!K4960/1000000","v":0},0]
[0.1,{"$f":"'Daily Calcs'!J4961/1000000","v":0},{"$f":"'Daily Calcs'!K4961/1000000","v":0},0]
[0.1,{"$f":"'Daily Calcs'!J4962/1000000","v":1.9103064529524126E-5},{"$f":"'Daily Calcs'!K4962/1000000","v":1.915890706751931E-5},1.9103064529524126E-5]
[0.1,{"$f":"'Daily Calcs'!J4963/1000000","v":0},{"$f":"'Daily Calcs'!K4963/1000000","v":0},0]
[0.1,{"$f":"'Daily Calcs'!J4964/1000000","v":1.5672741126420723E-5},{"$f":"'Daily Calcs'!K4964/1000000","v":1.5705439710457806E-5},1.5672741126420723E-5]
[0.1,{"$f":"'Daily Calcs'!J4965/1000000","v":0},{"$f":"'Daily Calcs'!K4965/1000000","v":0},0]
[0.1,{"$f":"'Daily Calcs'!J4966/1000000","v":0},{"$f":"'Daily Calcs'!K4966/1000000","v":0},0]
[0.1,{"$f":"'Daily Calcs'!J4967/1000000","v":0},{"$f":"'Daily Calcs'!K4967/1000000","v":0},0]
[0.1,{"$f":"'Daily Calcs'!J4968/1000000","v":1.0870068815152958E-5},{"$f":"'Daily Calcs'!K4968/1000000","v":1.0880541663827756E-5},1.0870068815152958E-5]
[0.1,{"$f":"'Daily Calcs'!J4969/1000000","v":0},{"$f":"'Daily Calcs'!K4969/1000000","v":0},0]
[0.1,{"$f":"'Daily Calcs'!J4970/1000000","v":8.5534118290411342E-6},{"$f":"'Daily Calcs'!K4970/1000000","v":8.5569863458482157E-6},8.5534118290411342E-6]
[0.1,{"$f":"'Daily Calcs'!J4971/1000000","v":0},{"$f":"'Daily Calcs'!K4971/1000000","v":0},0]
[0.1,{"$f":"'Daily Calcs'!J4972/1000000","v":6.4195303964212827E-6},{"$f":"'Daily Calcs'!K4972/1000000","v":6.4207349151703806E-6},6.4195303964212827E-6]
[0.1,{"$f":"'Daily Calcs'!J4973/1000000","v":0},{"$f":"'Daily Calcs'!K4973/1000000","v":0},0]
[0.1,{"$f":"'Daily Calcs'!J4974/1000000","v":0},{"$f":"'Daily Calcs'!K4974/1000000","v":0},0]
[0.1,{"$f":"'Daily Calcs'!J4975/1000000","v":4.7986815265911845E-6},{"$f":"'Daily Calcs'!K4975/1000000","v":4.7990711857392026E-6},4.7986815265911845E-6]
[0.1,{"$f":"'Daily Calcs'!J4976/1000000","v":0},{"$f":"'Daily Calcs'!K4976/1000000","v":0},0]
[0.1,{"$f":"'Daily Calcs'!J4977/1000000","v":4.3966740576496675E-6},{"$f":"'Daily Calcs'!K4977/1000000","v":4.3968433968957867E-6},4.3966740576496675E-6]
[0.1,{"$f":"'Daily Calcs'!J4978/1000000","v":0},{"$f":"'Daily Calcs'!K4978/1000000","v":0},0]
[0.1,{"$f":"'Daily Calcs'!J4979/1000000","v":3.9089025382964552E-6},{"$f":"'Daily Calcs'!K4979/1000000","v":3.9090051061940348E-6},3.9089025382964552E-6]
[0.1,{"$f":"'Daily Calcs'!J4980/1000000","v":0},{"$f":"'Daily Calcs'!K4980/1000000","v":0},0]
[0.1,{"$f":"'Daily Calcs'!J4981/1000000","v":0},{"$f":"'Daily Calcs'!K4981/1000000","v":0},0]
[0.1,{"$f":"'Daily Calcs'!J4982/1000000","v":0},{"$f":"'Daily Calcs'!K4982/1000000","v":0},0]
[0.1,{"$f":"'Daily Calcs'!J4983/1000000","v":0},{"$f":"'Daily Calcs'!K4983/1000000","v":0},0]
[0.1,{"$f":"'Daily Calcs'!J4984/1000000","v":0},{"$f":"'Daily Calcs'!K4984/1000000","v":0},0]
[0.1,{"$f":"'Daily Calcs'!J4985/1000000","v":0},{"$f":"'Daily Calcs'!K4985/1000000","v":0},0]
[0.1,{"$f":"'Daily Calcs'!J4986/1000000","v":0},{"$f":"'Daily Calcs'!K4986/1000000","v":0},0]
[0.1,{"$f":"'Daily Calcs'!J4987/1000000","v":0},{"$f":"'Daily Calcs'!K4987/1000000","v":0},0]
[0.1,{"$f":"'Daily Calcs'!J4988/1000000","v":0},{"$f":"'Daily Calcs'!K4988/1000000","v":0},0]
[0.1,{"$f":"'Daily Calcs'!J4989/1000000","v":0},{"$f":"'Daily Calcs'!K4989/1000000","v":0},0]
[0.1,{"$f":"'Daily Calcs'!J4990/1000000","v":2.5430553975656919E-6},{"$f":"'Daily Calcs'!K4990/1000000","v":2.5430817165282678E-6},2.5430553975656919E-6]
[0.1,{"$f":"'Daily Calcs'!J4991/1000000","v":0},{"$f":"'Daily Calcs'!K4991/1000000","v":0},0]
[0.1,{"$f":"'Daily Calcs'!J4992/1000000","v":1.8540064102564101E-6},{"$f":"'Daily Calcs'!K4992/1000000","v":1.8540207855769231E-6},1.8540064102564101E-6]
[0.1,{"$f":"'Daily Calcs'!J4993/1000000","v":1.6219924438258104E-6},{"$f":"'Daily Calcs'!K4993/1000000","v":1.621997855864557E-6},1.6219924438258104E-6]
[0.1,{"$f":"'Daily Calcs'!J4994/1000000","v":1.3422255577539742E-6},{"$f":"'Daily Calcs'!K4994/1000000","v":1.3422295391280616E-6},1.3422255577539742E-6]
[0.1,{"$f":"'Daily Calcs'!J4995/1000000","v":0},{"$f":"'Daily Calcs'!K4995/1000000","v":0},{"$f":"B4999","v":0}]
[0.1,{"$f":"'Daily Calcs'!J4996/1000000","v":0},{"$f":"'Daily Calcs'!K4996/1000000","v":0},0]
[0.1,{"$f":"'Daily Calcs'!J4997/1000000","v":0},{"$f":"'Daily Calcs'!K4997/1000000","v":0},0]
[0.1,{"$f":"'Daily Calcs'!J4998/1000000","v":1.0017641597028783E-6},{"$f":"'Daily Calcs'!K4998/1000000","v":1.0017653178272981E-6},1.0017641597028783E-6]
[0.1,{"$f":"'Daily Calcs'!J4999/1000000","v":0},{"$f":"'Daily Calcs'!K4999/1000000","v":0},0]
[0.1,{"$f":"'Daily Calcs'!J5000/1000000","v":0},{"$f":"'Daily Calcs'!K5000/1000000","v":0},0]
[0.1,{"$f":"'Daily Calcs'!J5001/1000000","v":0},{"$f":"'Daily Calcs'!K5001/1000000","v":0},0]
[0.1,{"$f":"'Daily Calcs'!J5002/1000000","v":0},{"$f":"'Daily Calcs'!K5002/1000000","v":0},0]
[0.1,{"$f":"'Daily Calcs'!J5003/1000000","v":0},{"$f":"'Daily Calcs'!K5003/1000000","v":0},0]
[0.1,{"$f":"'Daily Calcs'!J5004/1000000","v":0},{"$f":"'Daily Calcs'!K5004/1000000","v":0},0]
[0.1,{"$f":"'Daily Calcs'!J5005/1000000","v":0},{"$f":"'Daily Calcs'!K5005/1000000","v":0},0]
[0.1,{"$f":"'Daily Calcs'!J5006/1000000","v":0},{"$f":"'Daily Calcs'!K5006/1000000","v":0},0]
[0.1,{"$f":"'Daily Calcs'!J5007/1000000","v":0},{"$f":"'Daily Calcs'!K5007/1000000","v":0},0]
[0.1,{"$f":"'Daily Calcs'!J5008/1000000","v":0},{"$f":"'Daily Calcs'!K5008/1000000","v":0},0]
[0.1,{"$f":"'Daily Calcs'!J5009/1000000","v":0},{"$f":"'Daily Calcs'!K5009/1000000","v":0},0]
[0.1,{"$f":"'Daily Calcs'!J5010/1000000","v":0},{"$f":"'Daily Calcs'!K5010/1000000","v":0},0]
[0.1,{"$f":"'Daily Calcs'!J5011/1000000","v":0},{"$f":"'Daily Calcs'!K5011/1000000","v":0},0]
[0.1,{"$f":"'Daily Calcs'!J5012/1000000","v":0},{"$f":"'Daily Calcs'!K5012/1000000","v":0},0]
[0.1,{"$f":"'Daily Calcs'!J5013/1000000","v":0},{"$f":"'Daily Calcs'!K5013/1000000","v":0},0]
[0.1,{"$f":"'Daily Calcs'!J5014/1000000","v":0},{"$f":"'Daily Calcs'!K5014/1000000","v":0},0]
[0.1,{"$f":"'Daily Calcs'!J5015/1000000","v":0},{"$f":"'Daily Calcs'!K5015/1000000","v":0},0]
[0.1,{"$f":"'Daily Calcs'!J5016/1000000","v":0},{"$f":"'Daily Calcs'!K5016/1000000","v":0},0]
[0.1,{"$f":"'Daily Calcs'!J5017/1000000","v":0},{"$f":"'Daily Calcs'!K5017/1000000","v":0},0]
[0.1,{"$f":"'Daily Calcs'!J5018/1000000","v":0},{"$f":"'Daily Calcs'!K5018/1000000","v":0},0]
[0.1,{"$f":"'Daily Calcs'!J5019/1000000","v":0},{"$f":"'Daily Calcs'!K5019/1000000","v":0},0]
[0.1,{"$f":"'Daily Calcs'!J5020/1000000","v":0},{"$f":"'Daily Calcs'!K5020/1000000","v":0},0]
[0.1,{"$f":"'Daily Calcs'!J5021/1000000","v":0},{"$f":"'Daily Calcs'!K5021/1000000","v":0},0]
[0.1,{"$f":"'Daily Calcs'!J5022/1000000","v":0},{"$f":"'Daily Calcs'!K5022/1000000","v":0},0]
[0.1,{"$f":"'Daily Calcs'!J5023/1000000","v":0},{"$f":"'Daily Calcs'!K5023/1000000","v":0},0]
[0.1,{"$f":"'Daily Calcs'!J5024/1000000","v":0},{"$f":"'Daily Calcs'!K5024/1000000","v":0},0]
[0.1,{"$f":"'Daily Calcs'!J5025/1000000","v":0},{"$f":"'Daily Calcs'!K5025/1000000","v":0},0]
[0.1,{"$f":"'Daily Calcs'!J5026/1000000","v":0},{"$f":"'Daily Calcs'!K5026/1000000","v":0},0]
[0.1,{"$f":"'Daily Calcs'!J5027/1000000","v":0},{"$f":"'Daily Calcs'!K5027/1000000","v":0},0]
[0.1,{"$f":"'Daily Calcs'!J5028/1000000","v":0},{"$f":"'Daily Calcs'!K5028/1000000","v":0},0]
[0.1,{"$f":"'Daily Calcs'!J5029/1000000","v":0},{"$f":"'Daily Calcs'!K5029/1000000","v":0},0]
[0.1,{"$f":"'Daily Calcs'!J5030/1000000","v":0},{"$f":"'Daily Calcs'!K5030/1000000","v":0},0]
[0.1,{"$f":"'Daily Calcs'!J5031/1000000","v":0},{"$f":"'Daily Calcs'!K5031/1000000","v":0},0]
[0.1,{"$f":"'Daily Calcs'!J5032/1000000","v":0},{"$f":"'Daily Calcs'!K5032/1000000","v":0},0]
[0.1,{"$f":"'Daily Calcs'!J5033/1000000","v":0},{"$f":"'Daily Calcs'!K5033/1000000","v":0},0]
[0.1,{"$f":"'Daily Calcs'!J5034/1000000","v":0},{"$f":"'Daily Calcs'!K5034/1000000","v":0},0]
[0.1,{"$f":"'Daily Calcs'!J5035/1000000","v":0},{"$f":"'Daily Calcs'!K5035/1000000","v":0},0]
[0.1,{"$f":"'Daily Calcs'!J5036/1000000","v":0},{"$f":"'Daily Calcs'!K5036/1000000","v":0},0]
[0.1,{"$f":"'Daily Calcs'!J5037/1000000","v":7.103481204965708E-7},{"$f":"'Daily Calcs'!K5037/1000000","v":7.1034832808403507E-7},7.103481204965708E-7]
[0.1,{"$f":"'Daily Calcs'!J5038/1000000","v":4.6530412434218574E-7},{"$f":"'Daily Calcs'!K5038/1000000","v":4.6530427721345137E-7},4.6530412434218574E-7]
[0.1,{"$f":"'Daily Calcs'!J5039/1000000","v":0},{"$f":"'Daily Calcs'!K5039/1000000","v":0},0]
[0.1,{"$f":"'Daily Calcs'!J5040/1000000","v":0},{"$f":"'Daily Calcs'!K5040/1000000","v":0},0]
[0.1,{"$f":"'Daily Calcs'!J5041/1000000","v":0},{"$f":"'Daily Calcs'!K5041/1000000","v":0},0]
[0.1,{"$f":"'Daily Calcs'!J5042/1000000","v":0},{"$f":"'Daily Calcs'!K5042/1000000","v":0},0]
[0.1,{"$f":"'Daily Calcs'!J5043/1000000","v":0},{"$f":"'Daily Calcs'!K5043/1000000","v":0},0]
[0.1,{"$f":"'Daily Calcs'!J5044/1000000","v":0},{"$f":"'Daily Calcs'!K5044/1000000","v":0},0]
[0.1,{"$f":"'Daily Calcs'!J5045/1000000","v":0},{"$f":"'Daily Calcs'!K5045/1000000","v":0},0]
[0.1,{"$f":"'Daily Calcs'!J5046/1000000","v":0},{"$f":"'Daily Calcs'!K5046/1000000","v":0},0]
[0.1,{"$f":"'Daily Calcs'!J5047/1000000","v":0},{"$f":"'Daily Calcs'!K5047/1000000","v":0},0]
[0.1,{"$f":"'Daily Calcs'!J5048/1000000","v":0},{"$f":"'Daily Calcs'!K5048/1000000","v":0},0]
[0.1,{"$f":"'Daily Calcs'!J5049/1000000","v":0},{"$f":"'Daily Calcs'!K5049/1000000","v":0},0]
[0.1,{"$f":"'Daily Calcs'!J5050/1000000","v":0},{"$f":"'Daily Calcs'!K5050/1000000","v":0},0]
[0.1,{"$f":"'Daily Calcs'!J5051/1000000","v":0},{"$f":"'Daily Calcs'!K5051/1000000","v":0},0]
[0.1,{"$f":"'Daily Calcs'!J5052/1000000","v":0},{"$f":"'Daily Calcs'!K5052/1000000","v":0},0]
[0.1,{"$f":"'Daily Calcs'!J5053/1000000","v":0},{"$f":"'Daily Calcs'!K5053/1000000","v":0},0]
[0.1,{"$f":"'Daily Calcs'!J5054/1000000","v":0},{"$f":"'Daily Calcs'!K5054/1000000","v":0},0]
[0.1,{"$f":"'Daily Calcs'!J5055/1000000","v":0},{"$f":"'Daily Calcs'!K5055/1000000","v":0},0]
[0.1,{"$f":"'Daily Calcs'!J5056/1000000","v":0},{"$f":"'Daily Calcs'!K5056/1000000","v":0},0]
[0.1,{"$f":"'Daily Calcs'!J5057/1000000","v":0},{"$f":"'Daily Calcs'!K5057/1000000","v":0},0]
[0.1,{"$f":"'Daily Calcs'!J5058/1000000","v":0},{"$f":"'Daily Calcs'!K5058/1000000","v":0},0]
[0.1,{"$f":"'Daily Calcs'!J5059/1000000","v":0},{"$f":"'Daily Calcs'!K5059/1000000","v":0},{"$f":"B5063","v":0}]
[0.1,{"$f":"'Daily Calcs'!J5060/1000000","v":0},{"$f":"'Daily Calcs'!K5060/1000000","v":0},0]
[0.1,{"$f":"'Daily Calcs'!J5061/1000000","v":0},{"$f":"'Daily Calcs'!K5061/1000000","v":0},0]
[0.1,{"$f":"'Daily Calcs'!J5062/1000000","v":0},{"$f":"'Daily Calcs'!K5062/1000000","v":0},0]
[0.1,{"$f":"'Daily Calcs'!J5063/1000000","v":0},{"$f":"'Daily Calcs'!K5063/1000000","v":0},0]
[0.1,{"$f":"'Daily Calcs'!J5064/1000000","v":2.1271036090835362E-7},{"$f":"'Daily Calcs'!K5064/1000000","v":2.1271037498301904E-7},2.1271036090835362E-7]
[0.1,{"$f":"'Daily Calcs'!J5065/1000000","v":0},{"$f":"'Daily Calcs'!K5065/1000000","v":0},0]
[0.1,{"$f":"'Daily Calcs'!J5066/1000000","v":0},{"$f":"'Daily Calcs'!K5066/1000000","v":0},0]
[0.1,{"$f":"'Daily Calcs'!J5067/1000000","v":1.6073366385088413E-7},{"$f":"'Daily Calcs'!K5067/1000000","v":1.6073366946815752E-7},1.6073366385088413E-7]
[0.1,{"$f":"'Daily Calcs'!J5068/1000000","v":0},{"$f":"'Daily Calcs'!K5068/1000000","v":0},0]
[0.1,{"$f":"'Daily Calcs'!J5069/1000000","v":0},{"$f":"'Daily Calcs'!K5069/1000000","v":0},0]
[0.1,{"$f":"'Daily Calcs'!J5070/1000000","v":1.0802483489907917E-7},{"$f":"'Daily Calcs'!K5070/1000000","v":1.0802483791438005E-7},1.0802483489907917E-7]
[0.1,{"$f":"'Daily Calcs'!J5071/1000000","v":8.5883512692023317E-8},{"$f":"'Daily Calcs'!K5071/1000000","v":8.5883513955688795E-8},8.5883512692023317E-8]
[0.1,{"$f":"'Daily Calcs'!J5072/1000000","v":0},{"$f":"'Daily Calcs'!K5072/1000000","v":0},0]
[0.1,{"$f":"'Daily Calcs'!J5073/1000000","v":6.1267538719792235E-8},{"$f":"'Daily Calcs'!K5073/1000000","v":6.1267539469705139E-8},6.1267538719792235E-8]
[0.1,{"$f":"'Daily Calcs'!J5074/1000000","v":0},{"$f":"'Daily Calcs'!K5074/1000000","v":0},0]
[0.1,{"$f":"'Daily Calcs'!J5075/1000000","v":0},{"$f":"'Daily Calcs'!K5075/1000000","v":0},0]
[0.1,{"$f":"'Daily Calcs'!J5076/1000000","v":0},{"$f":"'Daily Calcs'!K5076/1000000","v":0},0]
[0.1,{"$f":"'Daily Calcs'!J5077/1000000","v":0},{"$f":"'Daily Calcs'!K5077/1000000","v":0},0]
[0.1,{"$f":"'Daily Calcs'!J5078/1000000","v":0},{"$f":"'Daily Calcs'!K5078/1000000","v":0},0]
[0.1,{"$f":"'Daily Calcs'!J5079/1000000","v":0},{"$f":"'Daily Calcs'!K5079/1000000","v":0},0]
[0.1,{"$f":"'Daily Calcs'!J5080/1000000","v":0},{"$f":"'Daily Calcs'!K5080/1000000","v":0},0]
[0.1,{"$f":"'Daily Calcs'!J5081/1000000","v":0},{"$f":"'Daily Calcs'!K5081/1000000","v":0},0]
[0.1,{"$f":"'Daily Calcs'!J5082/1000000","v":0},{"$f":"'Daily Calcs'!K5082/1000000","v":0},0]
[0.1,{"$f":"'Daily Calcs'!J5083/1000000","v":2.849314704984808E-8},{"$f":"'Daily Calcs'!K5083/1000000","v":2.8493147200068997E-8},2.849314704984808E-8]
[0.1,{"$f":"'Daily Calcs'!J5084/1000000","v":0},{"$f":"'Daily Calcs'!K5084/1000000","v":0},0]
[0.1,{"$f":"'Daily Calcs'!J5085/1000000","v":0},{"$f":"'Daily Calcs'!K5085/1000000","v":0},0]
[0.1,{"$f":"'Daily Calcs'!J5086/1000000","v":0},{"$f":"'Daily Calcs'!K5086/1000000","v":0},0]
[0.1,{"$f":"'Daily Calcs'!J5087/1000000","v":0},{"$f":"'Daily Calcs'!K5087/1000000","v":0},0]
[0.1,{"$f":"'Daily Calcs'!J5088/1000000","v":0},{"$f":"'Daily Calcs'!K5088/1000000","v":0},0]
[0.1,{"$f":"'Daily Calcs'!J5089/1000000","v":0},{"$f":"'Daily Calcs'!K5089/1000000","v":0},0]
[0.1,{"$f":"'Daily Calcs'!J5090/1000000","v":1.7220287896897575E-8},{"$f":"'Daily Calcs'!K5090/1000000","v":1.7220287952024114E-8},1.7220287896897575E-8]
[0.1,{"$f":"'Daily Calcs'!J5091/1000000","v":0},{"$f":"'Daily Calcs'!K5091/1000000","v":0},0]
[0.1,{"$f":"'Daily Calcs'!J5092/1000000","v":0},{"$f":"'Daily Calcs'!K5092/1000000","v":0},0]
[0.1,{"$f":"'Daily Calcs'!J5093/1000000","v":0},{"$f":"'Daily Calcs'!K5093/1000000","v":0},0]
[0.1,{"$f":"'Daily Calcs'!J5094/1000000","v":0},{"$f":"'Daily Calcs'!K5094/1000000","v":0},0]
[0.1,{"$f":"'Daily Calcs'!J5095/1000000","v":0},{"$f":"'Daily Calcs'!K5095/1000000","v":0},0]
[0.1,{"$f":"'Daily Calcs'!J5096/1000000","v":0},{"$f":"'Daily Calcs'!K5096/1000000","v":0},0]
[0.1,{"$f":"'Daily Calcs'!J5097/1000000","v":0},{"$f":"'Daily Calcs'!K5097/1000000","v":0},0]
[0.1,{"$f":"'Daily Calcs'!J5098/1000000","v":8.6544876886417771E-9},{"$f":"'Daily Calcs'!K5098/1000000","v":8.6544877031274798E-9},8.6544876886417771E-9]
[0.1,{"$f":"'Daily Calcs'!J5099/1000000","v":0},{"$f":"'Daily Calcs'!K5099/1000000","v":0},0]
[0.1,{"$f":"'Daily Calcs'!J5100/1000000","v":0},{"$f":"'Daily Calcs'!K5100/1000000","v":0},0]
[0.1,{"$f":"'Daily Calcs'!J5101/1000000","v":0},{"$f":"'Daily Calcs'!K5101/1000000","v":0},0]
[0.1,{"$f":"'Daily Calcs'!J5102/1000000","v":4.9219844166091334E-9},{"$f":"'Daily Calcs'!K5102/1000000","v":4.92198442179791E-9},4.9219844166091334E-9]
[0.1,{"$f":"'Daily Calcs'!J5103/1000000","v":0},{"$f":"'Daily Calcs'!K5103/1000000","v":0},0]
[0.1,{"$f":"'Daily Calcs'!J5104/1000000","v":0},{"$f":"'Daily Calcs'!K5104/1000000","v":0},0]
[0.1,{"$f":"'Daily Calcs'!J5105/1000000","v":0},{"$f":"'Daily Calcs'!K5105/1000000","v":0},0]
[0.1,{"$f":"'Daily Calcs'!J5106/1000000","v":0},{"$f":"'Daily Calcs'!K5106/1000000","v":0},0]
[0.1,{"$f":"'Daily Calcs'!J5107/1000000","v":2.339009661835749E-9},{"$f":"'Daily Calcs'!K5107/1000000","v":2.3390096630233091E-9},2.339009661835749E-9]
[0.1,{"$f":"'Daily Calcs'!J5108/1000000","v":1.7117072197846031E-9},{"$f":"'Daily Calcs'!K5108/1000000","v":1.7117072202602814E-9},1.7117072197846031E-9]
[0.1,{"$f":"'Daily Calcs'!J5109/1000000","v":0},{"$f":"'Daily Calcs'!K5109/1000000","v":0},0]
[0.1,{"$f":"'Daily Calcs'!J5110/1000000","v":0},{"$f":"'Daily Calcs'!K5110/1000000","v":0},0]
[0.1,{"$f":"'Daily Calcs'!J5111/1000000","v":1.2848508481185419E-9},{"$f":"'Daily Calcs'!K5111/1000000","v":1.2848508483095845E-9},1.2848508481185419E-9]
[0.1,{"$f":"'Daily Calcs'!J5112/1000000","v":7.398123717384929E-10},{"$f":"'Daily Calcs'!K5112/1000000","v":7.3981237186511274E-10},7.398123717384929E-10]
[0.1,{"$f":"'Daily Calcs'!J5113/1000000","v":0},{"$f":"'Daily Calcs'!K5113/1000000","v":0},0]
[0.1,{"$f":"'Daily Calcs'!J5114/1000000","v":0},{"$f":"'Daily Calcs'!K5114/1000000","v":0},0]
[0.1,{"$f":"'Daily Calcs'!J5115/1000000","v":0},{"$f":"'Daily Calcs'!K5115/1000000","v":0},0]
[0.1,{"$f":"'Daily Calcs'!J5116/1000000","v":0},{"$f":"'Daily Calcs'!K5116/1000000","v":0},0]
[0.1,{"$f":"'Daily Calcs'!J5117/1000000","v":4.4713694377371499E-10},{"$f":"'Daily Calcs'!K5117/1000000","v":4.4713694380190685E-10},4.4713694377371499E-10]
[0.1,{"$f":"'Daily Calcs'!J5118/1000000","v":3.1965432675464205E-10},{"$f":"'Daily Calcs'!K5118/1000000","v":3.1965432676870117E-10},3.1965432675464205E-10]
[0.1,{"$f":"'Daily Calcs'!J5119/1000000","v":0},{"$f":"'Daily Calcs'!K5119/1000000","v":0},0]
[0.1,{"$f":"'Daily Calcs'!J5120/1000000","v":0},{"$f":"'Daily Calcs'!K5120/1000000","v":0},0]
[0.1,{"$f":"'Daily Calcs'!J5121/1000000","v":0},{"$f":"'Daily Calcs'!K5121/1000000","v":0},0]
[0.1,{"$f":"'Daily Calcs'!J5122/1000000","v":1.6254456178112597E-10},{"$f":"'Daily Calcs'!K5122/1000000","v":1.6254456178800211E-10},1.6254456178112597E-10]
[0.1,{"$f":"'Daily Calcs'!J5123/1000000","v":0},{"$f":"'Daily Calcs'!K5123/1000000","v":0},{"$f":"B5127","v":0}]
[0.1,{"$f":"'Daily Calcs'!J5124/1000000","v":7.5409425731245083E-11},{"$f":"'Daily Calcs'!K5124/1000000","v":7.5409425733438611E-11},7.5409425731245083E-11]
[0.1,{"$f":"'Daily Calcs'!J5125/1000000","v":0},{"$f":"'Daily Calcs'!K5125/1000000","v":0},0]
[0.1,{"$f":"'Daily Calcs'!J5126/1000000","v":3.7633587786259535E-11},{"$f":"'Daily Calcs'!K5126/1000000","v":3.7633587786887953E-11},3.7633587786259535E-11]
[0.1,{"$f":"'Daily Calcs'!J5127/1000000","v":0},{"$f":"'Daily Calcs'!K5127/1000000","v":0},0]
[0.1,{"$f":"'Daily Calcs'!J5128/1000000","v":0},{"$f":"'Daily Calcs'!K5128/1000000","v":0},0]
[0.1,{"$f":"'Daily Calcs'!J5129/1000000","v":0},{"$f":"'Daily Calcs'!K5129/1000000","v":0},0]
[0.1,{"$f":"'Daily Calcs'!J5130/1000000","v":0},{"$f":"'Daily Calcs'!K5130/1000000","v":0},0]
[0.1,{"$f":"'Daily Calcs'!J5131/1000000","v":0},{"$f":"'Daily Calcs'!K5131/1000000","v":0},0]
[0.1,{"$f":"'Daily Calcs'!J5132/1000000","v":0},{"$f":"'Daily Calcs'!K5132/1000000","v":0},0]
[0.1,{"$f":"'Daily Calcs'!J5133/1000000","v":0},{"$f":"'Daily Calcs'!K5133/1000000","v":0},0]
[0.1,{"$f":"'Daily Calcs'!J5134/1000000","v":2.164631795399049E-11},{"$f":"'Daily Calcs'!K5134/1000000","v":2.1646317954111123E-11},2.164631795399049E-11]
[0.1,{"$f":"'Daily Calcs'!J5135/1000000","v":0},{"$f":"'Daily Calcs'!K5135/1000000","v":0},0]
[0.1,{"$f":"'Daily Calcs'!J5136/1000000","v":0},{"$f":"'Daily Calcs'!K5136/1000000","v":0},0]
[0.1,{"$f":"'Daily Calcs'!J5137/1000000","v":1.5789842171590883E-11},{"$f":"'Daily Calcs'!K5137/1000000","v":1.5789842171656767E-11},1.5789842171590883E-11]
[0.1,{"$f":"'Daily Calcs'!J5138/1000000","v":7.6519806510654994E-12},{"$f":"'Daily Calcs'!K5138/1000000","v":7.6519806511052961E-12},7.6519806510654994E-12]
[0.1,{"$f":"'Daily Calcs'!J5139/1000000","v":4.5464200695843245E-12},{"$f":"'Daily Calcs'!K5139/1000000","v":4.5464200695988543E-12},4.5464200695843245E-12]
[0.1,{"$f":"'Daily Calcs'!J5140/1000000","v":0},{"$f":"'Daily Calcs'!K5140/1000000","v":0},0]
[0.1,{"$f":"'Daily Calcs'!J5141/1000000","v":0},{"$f":"'Daily Calcs'!K5141/1000000","v":0},0]
[0.1,{"$f":"'Daily Calcs'!J5142/1000000","v":0},{"$f":"'Daily Calcs'!K5142/1000000","v":0},0]
[0.1,{"$f":"'Daily Calcs'!J5143/1000000","v":0},{"$f":"'Daily Calcs'!K5143/1000000","v":0},0]
[0.1,{"$f":"'Daily Calcs'!J5144/1000000","v":0},{"$f":"'Daily Calcs'!K5144/1000000","v":0},0]
[0.1,{"$f":"'Daily Calcs'!J5145/1000000","v":0},{"$f":"'Daily Calcs'!K5145/1000000","v":0},0]
[0.1,{"$f":"'Daily Calcs'!J5146/1000000","v":0},{"$f":"'Daily Calcs'!K5146/1000000","v":0},0]
[0.1,{"$f":"'Daily Calcs'!J5147/1000000","v":0},{"$f":"'Daily Calcs'!K5147/1000000","v":0},0]
[0.1,{"$f":"'Daily Calcs'!J5148/1000000","v":1.5233096786911098E-12},{"$f":"'Daily Calcs'!K5148/1000000","v":1.5233096786937677E-12},1.5233096786911098E-12]
[0.1,{"$f":"'Daily Calcs'!J5149/1000000","v":7.1021699819168166E-13},{"$f":"'Daily Calcs'!K5149/1000000","v":7.1021699819257195E-13},7.1021699819168166E-13]
[0.1,{"$f":"'Daily Calcs'!J5150/1000000","v":4.7206597222222221E-13},{"$f":"'Daily Calcs'!K5150/1000000","v":4.7206597222248454E-13},4.7206597222222221E-13]
[0.1,{"$f":"'Daily Calcs'!J5151/1000000","v":0},{"$f":"'Daily Calcs'!K5151/1000000","v":0},0]
[0.1,{"$f":"'Daily Calcs'!J5152/1000000","v":0},{"$f":"'Daily Calcs'!K5152/1000000","v":0},0]
[0.1,{"$f":"'Daily Calcs'!J5153/1000000","v":0},{"$f":"'Daily Calcs'!K5153/1000000","v":0},0]
[0.1,{"$f":"'Daily Calcs'!J5154/1000000","v":0},{"$f":"'Daily Calcs'!K5154/1000000","v":0},0]
[0.1,{"$f":"'Daily Calcs'!J5155/1000000","v":0},{"$f":"'Daily Calcs'!K5155/1000000","v":0},0]
[0.1,{"$f":"'Daily Calcs'!J5156/1000000","v":0},{"$f":"'Daily Calcs'!K5156/1000000","v":0},0]
[0.1,{"$f":"'Daily Calcs'!J5157/1000000","v":1.9078335232559354E-13},{"$f":"'Daily Calcs'!K5157/1000000","v":1.907833523256883E-13},1.9078335232559354E-13]
[0.1,{"$f":"'Daily Calcs'!J5158/1000000","v":0},{"$f":"'Daily Calcs'!K5158/1000000","v":0},0]
[0.1,{"$f":"'Daily Calcs'!J5159/1000000","v":0},{"$f":"'Daily Calcs'!K5159/1000000","v":0},0]
[0.1,{"$f":"'Daily Calcs'!J5160/1000000","v":0},{"$f":"'Daily Calcs'!K5160/1000000","v":0},0]
[0.1,{"$f":"'Daily Calcs'!J5161/1000000","v":7.5564337865898604E-14},{"$f":"'Daily Calcs'!K5161/1000000","v":7.5564337865924718E-14},7.5564337865898604E-14]
[0.1,{"$f":"'Daily Calcs'!J5162/1000000","v":3.8788541963335482E-14},{"$f":"'Daily Calcs'!K5162/1000000","v":3.8788541963345031E-14},3.8788541963335482E-14]
[0.1,{"$f":"'Daily Calcs'!J5163/1000000","v":1.7585863904979231E-14},{"$f":"'Daily Calcs'!K5163/1000000","v":1.758586390498244E-14},1.7585863904979231E-14]
[0.1,{"$f":"'Daily Calcs'!J5164/1000000","v":0},{"$f":"'Daily Calcs'!K5164/1000000","v":0},0]
[0.1,{"$f":"'Daily Calcs'!J5165/1000000","v":0},{"$f":"'Daily Calcs'!K5165/1000000","v":0},0]
[0.1,{"$f":"'Daily Calcs'!J5166/1000000","v":0},{"$f":"'Daily Calcs'!K5166/1000000","v":0},0]
[0.1,{"$f":"'Daily Calcs'!J5167/1000000","v":1.0831594575074231E-14},{"$f":"'Daily Calcs'!K5167/1000000","v":1.0831594575075026E-14},1.0831594575074231E-14]
[0.1,{"$f":"'Daily Calcs'!J5168/1000000","v":5.1460848884010256E-15},{"$f":"'Daily Calcs'!K5168/1000000","v":5.1460848884014997E-15},5.1460848884010256E-15]
[0.1,{"$f":"'Daily Calcs'!J5169/1000000","v":0},{"$f":"'Daily Calcs'!K5169/1000000","v":0},0]
[0.1,{"$f":"'Daily Calcs'!J5170/1000000","v":0},{"$f":"'Daily Calcs'!K5170/1000000","v":0},0]
[0.1,{"$f":"'Daily Calcs'!J5171/1000000","v":0},{"$f":"'Daily Calcs'!K5171/1000000","v":0},0]
[0.1,{"$f":"'Daily Calcs'!J5172/1000000","v":0},{"$f":"'Daily Calcs'!K5172/1000000","v":0},0]
[0.1,{"$f":"'Daily Calcs'!J5173/1000000","v":0},{"$f":"'Daily Calcs'!K5173/1000000","v":0},0]
[0.1,{"$f":"'Daily Calcs'!J5174/1000000","v":0},{"$f":"'Daily Calcs'!K5174/1000000","v":0},0]
[0.1,{"$f":"'Daily Calcs'!J5175/1000000","v":0},{"$f":"'Daily Calcs'!K5175/1000000","v":0},0]
[0.1,{"$f":"'Daily Calcs'!J5176/1000000","v":0},{"$f":"'Daily Calcs'!K5176/1000000","v":0},0]
[0.1,{"$f":"'Daily Calcs'!J5177/1000000","v":0},{"$f":"'Daily Calcs'!K5177/1000000","v":0},0]
[0.1,{"$f":"'Daily Calcs'!J5178/1000000","v":0},{"$f":"'Daily Calcs'!K5178/1000000","v":0},0]
[0.1,{"$f":"'Daily Calcs'!J5179/1000000","v":0},{"$f":"'Daily Calcs'!K5179/1000000","v":0},0]
[0.1,{"$f":"'Daily Calcs'!J5180/1000000","v":0},{"$f":"'Daily Calcs'!K5180/1000000","v":0},0]
[0.1,{"$f":"'Daily Calcs'!J5181/1000000","v":0},{"$f":"'Daily Calcs'!K5181/1000000","v":0},0]
[0.1,{"$f":"'Daily Calcs'!J5182/1000000","v":0},{"$f":"'Daily Calcs'!K5182/1000000","v":0},0]
[0.1,{"$f":"'Daily Calcs'!J5183/1000000","v":1.6817150063051703E-15},{"$f":"'Daily Calcs'!K5183/1000000","v":1.6817150063051993E-15},1.6817150063051703E-15]
[0.1,{"$f":"'Daily Calcs'!J5184/1000000","v":8.6771341278352167E-16},{"$f":"'Daily Calcs'!K5184/1000000","v":8.6771341278354198E-16},8.6771341278352167E-16]
[0.1,{"$f":"'Daily Calcs'!J5185/1000000","v":4.616623116108428E-16},{"$f":"'Daily Calcs'!K5185/1000000","v":4.6166231161085078E-16},4.616623116108428E-16]
[0.1,{"$f":"'Daily Calcs'!J5186/1000000","v":1.8757540289907265E-16},{"$f":"'Daily Calcs'!K5186/1000000","v":1.8757540289907526E-16},1.8757540289907265E-16]
[0.1,{"$f":"'Daily Calcs'!J5187/1000000","v":0},{"$f":"'Daily Calcs'!K5187/1000000","v":0},{"$f":"B5191","v":0}]
[0.1,{"$f":"'Daily Calcs'!J5188/1000000","v":0},{"$f":"'Daily Calcs'!K5188/1000000","v":0},0]
[0.1,{"$f":"'Daily Calcs'!J5189/1000000","v":8.9668455789825108E-17},{"$f":"'Daily Calcs'!K5189/1000000","v":8.9668455789825848E-17},8.9668455789825108E-17]
[0.1,{"$f":"'Daily Calcs'!J5190/1000000","v":0},{"$f":"'Daily Calcs'!K5190/1000000","v":0},0]
[0.1,{"$f":"'Daily Calcs'!J5191/1000000","v":3.5441150520557613E-17},{"$f":"'Daily Calcs'!K5191/1000000","v":3.5441150520557866E-17},3.5441150520557613E-17]
[0.1,{"$f":"'Daily Calcs'!J5192/1000000","v":0},{"$f":"'Daily Calcs'!K5192/1000000","v":0},0]
[0.1,{"$f":"'Daily Calcs'!J5193/1000000","v":0},{"$f":"'Daily Calcs'!K5193/1000000","v":0},0]
[0.1,{"$f":"'Daily Calcs'!J5194/1000000","v":0},{"$f":"'Daily Calcs'!K5194/1000000","v":0},0]
[0.1,{"$f":"'Daily Calcs'!J5195/1000000","v":0},{"$f":"'Daily Calcs'!K5195/1000000","v":0},0]
[0.1,{"$f":"'Daily Calcs'!J5196/1000000","v":0},{"$f":"'Daily Calcs'!K5196/1000000","v":0},0]
[0.1,{"$f":"'Daily Calcs'!J5197/1000000","v":1.0621660588584514E-17},{"$f":"'Daily Calcs'!K5197/1000000","v":1.0621660588584554E-17},1.0621660588584514E-17]
[0.1,{"$f":"'Daily Calcs'!J5198/1000000","v":0},{"$f":"'Daily Calcs'!K5198/1000000","v":0},0]
[0.1,{"$f":"'Daily Calcs'!J5199/1000000","v":0},{"$f":"'Daily Calcs'!K5199/1000000","v":0},0]
[0.1,{"$f":"'Daily Calcs'!J5200/1000000","v":0},{"$f":"'Daily Calcs'!K5200/1000000","v":0},0]
[0.1,{"$f":"'Daily Calcs'!J5201/1000000","v":0},{"$f":"'Daily Calcs'!K5201/1000000","v":0},0]
[0.1,{"$f":"'Daily Calcs'!J5202/1000000","v":0},{"$f":"'Daily Calcs'!K5202/1000000","v":0},0]
[0.1,{"$f":"'Daily Calcs'!J5203/1000000","v":4.1176698727893266E-18},{"$f":"'Daily Calcs'!K5203/1000000","v":4.1176698727893351E-18},4.1176698727893266E-18]
[0.1,{"$f":"'Daily Calcs'!J5204/1000000","v":0},{"$f":"'Daily Calcs'!K5204/1000000","v":0},0]
[0.1,{"$f":"'Daily Calcs'!J5205/1000000","v":0},{"$f":"'Daily Calcs'!K5205/1000000","v":0},0]
[0.1,{"$f":"'Daily Calcs'!J5206/1000000","v":1.370439101601943E-18},{"$f":"'Daily Calcs'!K5206/1000000","v":1.3704391016019463E-18},1.370439101601943E-18]
[0.1,{"$f":"'Daily Calcs'!J5207/1000000","v":0},{"$f":"'Daily Calcs'!K5207/1000000","v":0},0]
[0.1,{"$f":"'Daily Calcs'!J5208/1000000","v":0},{"$f":"'Daily Calcs'!K5208/1000000","v":0},0]
[0.1,{"$f":"'Daily Calcs'!J5209/1000000","v":0},{"$f":"'Daily Calcs'!K5209/1000000","v":0},0]
[0.1,{"$f":"'Daily Calcs'!J5210/1000000","v":0},{"$f":"'Daily Calcs'!K5210/1000000","v":0},0]
[0.1,{"$f":"'Daily Calcs'!J5211/1000000","v":0},{"$f":"'Daily Calcs'!K5211/1000000","v":0},0]
[0.1,{"$f":"'Daily Calcs'!J5212/1000000","v":0},{"$f":"'Daily Calcs'!K5212/1000000","v":0},0]
[0.1,{"$f":"'Daily Calcs'!J5213/1000000","v":5.9047380086145621E-19},{"$f":"'Daily Calcs'!K5213/1000000","v":5.904738008614566E-19},5.9047380086145621E-19]
[0.1,{"$f":"'Daily Calcs'!J5214/1000000","v":4.4175391257420403E-19},{"$f":"'Daily Calcs'!K5214/1000000","v":4.4175391257420423E-19},4.4175391257420403E-19]
[0.1,{"$f":"'Daily Calcs'!J5215/1000000","v":0},{"$f":"'Daily Calcs'!K5215/1000000","v":0},0]
[0.1,{"$f":"'Daily Calcs'!J5216/1000000","v":0},{"$f":"'Daily Calcs'!K5216/1000000","v":0},0]
[0.1,{"$f":"'Daily Calcs'!J5217/1000000","v":0},{"$f":"'Daily Calcs'!K5217/1000000","v":0},0]
[0.1,{"$f":"'Daily Calcs'!J5218/1000000","v":1.6135977983430538E-19},{"$f":"'Daily Calcs'!K5218/1000000","v":1.613597798343055E-19},1.6135977983430538E-19]
[0.1,{"$f":"'Daily Calcs'!J5219/1000000","v":0},{"$f":"'Daily Calcs'!K5219/1000000","v":0},0]
[0.1,{"$f":"'Daily Calcs'!J5220/1000000","v":0},{"$f":"'Daily Calcs'!K5220/1000000","v":0},0]
[0.1,{"$f":"'Daily Calcs'!J5221/1000000","v":0},{"$f":"'Daily Calcs'!K5221/1000000","v":0},0]
[0.1,{"$f":"'Daily Calcs'!J5222/1000000","v":0},{"$f":"'Daily Calcs'!K5222/1000000","v":0},0]
[0.1,{"$f":"'Daily Calcs'!J5223/1000000","v":0},{"$f":"'Daily Calcs'!K5223/1000000","v":0},0]
[0.1,{"$f":"'Daily Calcs'!J5224/1000000","v":0},{"$f":"'Daily Calcs'!K5224/1000000","v":0},0]
[0.1,{"$f":"'Daily Calcs'!J5225/1000000","v":0},{"$f":"'Daily Calcs'!K5225/1000000","v":0},0]
[0.1,{"$f":"'Daily Calcs'!J5226/1000000","v":0},{"$f":"'Daily Calcs'!K5226/1000000","v":0},0]
[0.1,{"$f":"'Daily Calcs'!J5227/1000000","v":0},{"$f":"'Daily Calcs'!K5227/1000000","v":0},0]
[0.1,{"$f":"'Daily Calcs'!J5228/1000000","v":0},{"$f":"'Daily Calcs'!K5228/1000000","v":0},0]
[0.1,{"$f":"'Daily Calcs'!J5229/1000000","v":0},{"$f":"'Daily Calcs'!K5229/1000000","v":0},0]
[0.1,{"$f":"'Daily Calcs'!J5230/1000000","v":0},{"$f":"'Daily Calcs'!K5230/1000000","v":0},0]
[0.1,{"$f":"'Daily Calcs'!J5231/1000000","v":0},{"$f":"'Daily Calcs'!K5231/1000000","v":0},0]
[0.1,{"$f":"'Daily Calcs'!J5232/1000000","v":0},{"$f":"'Daily Calcs'!K5232/1000000","v":0},0]
[0.1,{"$f":"'Daily Calcs'!J5233/1000000","v":0},{"$f":"'Daily Calcs'!K5233/1000000","v":0},0]
[0.1,{"$f":"'Daily Calcs'!J5234/1000000","v":0},{"$f":"'Daily Calcs'!K5234/1000000","v":0},0]
[0.1,{"$f":"'Daily Calcs'!J5235/1000000","v":0},{"$f":"'Daily Calcs'!K5235/1000000","v":0},0]
[0.1,{"$f":"'Daily Calcs'!J5236/1000000","v":0},{"$f":"'Daily Calcs'!K5236/1000000","v":0},0]
[0.1,{"$f":"'Daily Calcs'!J5237/1000000","v":3.282127102039835E-20},{"$f":"'Daily Calcs'!K5237/1000000","v":3.2821271020398356E-20},3.282127102039835E-20]
[0.1,{"$f":"'Daily Calcs'!J5238/1000000","v":0},{"$f":"'Daily Calcs'!K5238/1000000","v":0},0]
[0.1,{"$f":"'Daily Calcs'!J5239/1000000","v":0},{"$f":"'Daily Calcs'!K5239/1000000","v":0},0]
[0.1,{"$f":"'Daily Calcs'!J5240/1000000","v":0},{"$f":"'Daily Calcs'!K5240/1000000","v":0},0]
[0.1,{"$f":"'Daily Calcs'!J5241/1000000","v":1.4896755942151597E-20},{"$f":"'Daily Calcs'!K5241/1000000","v":1.48967559421516E-20},1.4896755942151597E-20]
[0.1,{"$f":"'Daily Calcs'!J5242/1000000","v":0},{"$f":"'Daily Calcs'!K5242/1000000","v":0},0]
[0.1,{"$f":"'Daily Calcs'!J5243/1000000","v":0},{"$f":"'Daily Calcs'!K5243/1000000","v":0},0]
[0.1,{"$f":"'Daily Calcs'!J5244/1000000","v":0},{"$f":"'Daily Calcs'!K5244/1000000","v":0},0]
[0.1,{"$f":"'Daily Calcs'!J5245/1000000","v":0},{"$f":"'Daily Calcs'!K5245/1000000","v":0},0]
[0.1,{"$f":"'Daily Calcs'!J5246/1000000","v":0},{"$f":"'Daily Calcs'!K5246/1000000","v":0},0]
[0.1,{"$f":"'Daily Calcs'!J5247/1000000","v":0},{"$f":"'Daily Calcs'!K5247/1000000","v":0},0]
[0.1,{"$f":"'Daily Calcs'!J5248/1000000","v":0},{"$f":"'Daily Calcs'!K5248/1000000","v":0},0]
[0.1,{"$f":"'Daily Calcs'!J5249/1000000","v":5.8836809003641173E-21},{"$f":"'Daily Calcs'!K5249/1000000","v":5.8836809003641173E-21},5.8836809003641173E-21]
[0.1,{"$f":"'Daily Calcs'!J5250/1000000","v":3.577898774904095E-21},{"$f":"'Daily Calcs'!K5250/1000000","v":3.577898774904095E-21},3.577898774904095E-21]
[0.1,{"$f":"'Daily Calcs'!J5251/1000000","v":1.7883335477758412E-21},{"$f":"'Daily Calcs'!K5251/1000000","v":1.7883335477758412E-21},{"$f":"B5255","v":1.7883335477758412E-21}]
[0.1,{"$f":"'Daily Calcs'!J5252/1000000","v":0},{"$f":"'Daily Calcs'!K5252/1000000","v":0},0]
[0.1,{"$f":"'Daily Calcs'!J5253/1000000","v":0},{"$f":"'Daily Calcs'!K5253/1000000","v":0},0]
[0.1,{"$f":"'Daily Calcs'!J5254/1000000","v":0},{"$f":"'Daily Calcs'!K5254/1000000","v":0},0]
[0.1,{"$f":"'Daily Calcs'!J5255/1000000","v":0},{"$f":"'Daily Calcs'!K5255/1000000","v":0},0]
[0.1,{"$f":"'Daily Calcs'!J5256/1000000","v":0},{"$f":"'Daily Calcs'!K5256/1000000","v":0},0]
[0.1,{"$f":"'Daily Calcs'!J5257/1000000","v":0},{"$f":"'Daily Calcs'!K5257/1000000","v":0},0]
[0.1,{"$f":"'Daily Calcs'!J5258/1000000","v":0},{"$f":"'Daily Calcs'!K5258/1000000","v":0},0]
[0.1,{"$f":"'Daily Calcs'!J5259/1000000","v":0},{"$f":"'Daily Calcs'!K5259/1000000","v":0},0]
[0.1,{"$f":"'Daily Calcs'!J5260/1000000","v":0},{"$f":"'Daily Calcs'!K5260/1000000","v":0},0]
[0.1,{"$f":"'Daily Calcs'!J5261/1000000","v":0},{"$f":"'Daily Calcs'!K5261/1000000","v":0},0]
[0.1,{"$f":"'Daily Calcs'!J5262/1000000","v":0},{"$f":"'Daily Calcs'!K5262/1000000","v":0},0]
[0.1,{"$f":"'Daily Calcs'!J5263/1000000","v":0},{"$f":"'Daily Calcs'!K5263/1000000","v":0},0]
[0.1,{"$f":"'Daily Calcs'!J5264/1000000","v":0},{"$f":"'Daily Calcs'!K5264/1000000","v":0},0]
[0.1,{"$f":"'Daily Calcs'!J5265/1000000","v":4.5187191957437092E-22},{"$f":"'Daily Calcs'!K5265/1000000","v":4.5187191957437092E-22},4.5187191957437092E-22]
[0.1,{"$f":"'Daily Calcs'!J5266/1000000","v":0},{"$f":"'Daily Calcs'!K5266/1000000","v":0},0]
[0.1,{"$f":"'Daily Calcs'!J5267/1000000","v":0},{"$f":"'Daily Calcs'!K5267/1000000","v":0},0]
[0.1,{"$f":"'Daily Calcs'!J5268/1000000","v":0},{"$f":"'Daily Calcs'!K5268/1000000","v":0},0]
[0.1,{"$f":"'Daily Calcs'!J5269/1000000","v":0},{"$f":"'Daily Calcs'!K5269/1000000","v":0},0]
[0.1,{"$f":"'Daily Calcs'!J5270/1000000","v":0},{"$f":"'Daily Calcs'!K5270/1000000","v":0},0]
[0.1,{"$f":"'Daily Calcs'!J5271/1000000","v":0},{"$f":"'Daily Calcs'!K5271/1000000","v":0},0]
[0.1,{"$f":"'Daily Calcs'!J5272/1000000","v":1.6342415046520157E-22},{"$f":"'Daily Calcs'!K5272/1000000","v":1.6342415046520157E-22},1.6342415046520157E-22]
[0.1,{"$f":"'Daily Calcs'!J5273/1000000","v":0},{"$f":"'Daily Calcs'!K5273/1000000","v":0},0]
[0.1,{"$f":"'Daily Calcs'!J5274/1000000","v":0},{"$f":"'Daily Calcs'!K5274/1000000","v":0},0]
[0.1,{"$f":"'Daily Calcs'!J5275/1000000","v":6.7935148729771406E-23},{"$f":"'Daily Calcs'!K5275/1000000","v":6.7935148729771406E-23},6.7935148729771406E-23]
[0.1,{"$f":"'Daily Calcs'!J5276/1000000","v":3.0541630808950081E-23},{"$f":"'Daily Calcs'!K5276/1000000","v":3.0541630808950081E-23},3.0541630808950081E-23]
[0.1,{"$f":"'Daily Calcs'!J5277/1000000","v":2.0211944467263613E-23},{"$f":"'Daily Calcs'!K5277/1000000","v":2.0211944467263613E-23},2.0211944467263613E-23]
[0.1,{"$f":"'Daily Calcs'!J5278/1000000","v":0},{"$f":"'Daily Calcs'!K5278/1000000","v":0},0]
[0.1,{"$f":"'Daily Calcs'!J5279/1000000","v":0},{"$f":"'Daily Calcs'!K5279/1000000","v":0},0]
[0.1,{"$f":"'Daily Calcs'!J5280/1000000","v":1.4978470371129794E-23},{"$f":"'Daily Calcs'!K5280/1000000","v":1.4978470371129794E-23},1.4978470371129794E-23]
[0.1,{"$f":"'Daily Calcs'!J5281/1000000","v":0},{"$f":"'Daily Calcs'!K5281/1000000","v":0},0]
[0.1,{"$f":"'Daily Calcs'!J5282/1000000","v":0},{"$f":"'Daily Calcs'!K5282/1000000","v":0},0]
[0.1,{"$f":"'Daily Calcs'!J5283/1000000","v":0},{"$f":"'Daily Calcs'!K5283/1000000","v":0},0]
[0.1,{"$f":"'Daily Calcs'!J5284/1000000","v":5.4888691006233308E-24},{"$f":"'Daily Calcs'!K5284/1000000","v":5.4888691006233308E-24},5.4888691006233308E-24]
[0.1,{"$f":"'Daily Calcs'!J5285/1000000","v":3.1528981532272813E-24},{"$f":"'Daily Calcs'!K5285/1000000","v":3.1528981532272813E-24},3.1528981532272813E-24]
[0.1,{"$f":"'Daily Calcs'!J5286/1000000","v":2.4890490473210625E-24},{"$f":"'Daily Calcs'!K5286/1000000","v":2.4890490473210625E-24},2.4890490473210625E-24]
[0.1,{"$f":"'Daily Calcs'!J5287/1000000","v":0},{"$f":"'Daily Calcs'!K5287/1000000","v":0},0]
[0.1,{"$f":"'Daily Calcs'!J5288/1000000","v":0},{"$f":"'Daily Calcs'!K5288/1000000","v":0},0]
[0.1,{"$f":"'Daily Calcs'!J5289/1000000","v":0},{"$f":"'Daily Calcs'!K5289/1000000","v":0},0]
[0.1,{"$f":"'Daily Calcs'!J5290/1000000","v":1.0786046244764473E-24},{"$f":"'Daily Calcs'!K5290/1000000","v":1.0786046244764473E-24},1.0786046244764473E-24]
[0.1,{"$f":"'Daily Calcs'!J5291/1000000","v":0},{"$f":"'Daily Calcs'!K5291/1000000","v":0},0]
[0.1,{"$f":"'Daily Calcs'!J5292/1000000","v":0},{"$f":"'Daily Calcs'!K5292/1000000","v":0},0]
[0.1,{"$f":"'Daily Calcs'!J5293/1000000","v":0},{"$f":"'Daily Calcs'!K5293/1000000","v":0},0]
[0.1,{"$f":"'Daily Calcs'!J5294/1000000","v":5.9563820091776854E-25},{"$f":"'Daily Calcs'!K5294/1000000","v":5.9563820091776854E-25},5.9563820091776854E-25]
[0.1,{"$f":"'Daily Calcs'!J5295/1000000","v":0},{"$f":"'Daily Calcs'!K5295/1000000","v":0},0]
[0.1,{"$f":"'Daily Calcs'!J5296/1000000","v":0},{"$f":"'Daily Calcs'!K5296/1000000","v":0},0]
[0.1,{"$f":"'Daily Calcs'!J5297/1000000","v":0},{"$f":"'Daily Calcs'!K5297/1000000","v":0},0]
[0.1,{"$f":"'Daily Calcs'!J5298/1000000","v":0},{"$f":"'Daily Calcs'!K5298/1000000","v":0},0]
[0.1,{"$f":"'Daily Calcs'!J5299/1000000","v":0},{"$f":"'Daily Calcs'!K5299/1000000","v":0},0]
[0.1,{"$f":"'Daily Calcs'!J5300/1000000","v":0},{"$f":"'Daily Calcs'!K5300/1000000","v":0},0]
[0.1,{"$f":"'Daily Calcs'!J5301/1000000","v":2.3833805068815765E-25},{"$f":"'Daily Calcs'!K5301/1000000","v":2.3833805068815765E-25},2.3833805068815765E-25]
[0.1,{"$f":"'Daily Calcs'!J5302/1000000","v":1.1411749824638063E-25},{"$f":"'Daily Calcs'!K5302/1000000","v":1.1411749824638063E-25},1.1411749824638063E-25]
[0.1,{"$f":"'Daily Calcs'!J5303/1000000","v":0},{"$f":"'Daily Calcs'!K5303/1000000","v":0},0]
[0.1,{"$f":"'Daily Calcs'!J5304/1000000","v":0},{"$f":"'Daily Calcs'!K5304/1000000","v":0},0]
[0.1,{"$f":"'Daily Calcs'!J5305/1000000","v":4.5102174387317281E-26},{"$f":"'Daily Calcs'!K5305/1000000","v":4.5102174387317281E-26},4.5102174387317281E-26]
[0.1,{"$f":"'Daily Calcs'!J5306/1000000","v":2.0906833361877037E-26},{"$f":"'Daily Calcs'!K5306/1000000","v":2.0906833361877037E-26},2.0906833361877037E-26]
[0.1,{"$f":"'Daily Calcs'!J5307/1000000","v":0},{"$f":"'Daily Calcs'!K5307/1000000","v":0},0]
[0.1,{"$f":"'Daily Calcs'!J5308/1000000","v":0},{"$f":"'Daily Calcs'!K5308/1000000","v":0},0]
[0.1,{"$f":"'Daily Calcs'!J5309/1000000","v":7.7114864370841552E-27},{"$f":"'Daily Calcs'!K5309/1000000","v":7.7114864370841552E-27},7.7114864370841552E-27]
[0.1,{"$f":"'Daily Calcs'!J5310/1000000","v":0},{"$f":"'Daily Calcs'!K5310/1000000","v":0},0]
[0.1,{"$f":"'Daily Calcs'!J5311/1000000","v":0},{"$f":"'Daily Calcs'!K5311/1000000","v":0},0]
[0.1,{"$f":"'Daily Calcs'!J5312/1000000","v":1.3083731583858834E-5},{"$f":"'Daily Calcs'!K5312/1000000","v":1.3266368803551735E-5},1.3083731583858834E-5]
[0.1,{"$f":"'Daily Calcs'!J5313/1000000","v":0},{"$f":"'Daily Calcs'!K5313/1000000","v":0},0]
[0.1,{"$f":"'Daily Calcs'!J5314/1000000","v":0},{"$f":"'Daily Calcs'!K5314/1000000","v":0},0]
[0.1,{"$f":"'Daily Calcs'!J5315/1000000","v":0},{"$f":"'Daily Calcs'!K5315/1000000","v":0},{"$f":"B5319","v":0}]
[0.1,{"$f":"'Daily Calcs'!J5316/1000000","v":0},{"$f":"'Daily Calcs'!K5316/1000000","v":0},0]
[0.1,{"$f":"'Daily Calcs'!J5317/1000000","v":0},{"$f":"'Daily Calcs'!K5317/1000000","v":0},0]
[0.1,{"$f":"'Daily Calcs'!J5318/1000000","v":0},{"$f":"'Daily Calcs'!K5318/1000000","v":0},0]
[0.1,{"$f":"'Daily Calcs'!J5319/1000000","v":9.3106988600155771E-6},{"$f":"'Daily Calcs'!K5319/1000000","v":9.3362819514267497E-6},9.3106988600155771E-6]
[0.1,{"$f":"'Daily Calcs'!J5320/1000000","v":2.6769037656903763E-5},{"$f":"'Daily Calcs'!K5320/1000000","v":2.7028594142259415E-5},2.6769037656903763E-5]
[0.1,{"$f":"'Daily Calcs'!J5321/1000000","v":0},{"$f":"'Daily Calcs'!K5321/1000000","v":0},0]
[0.1,{"$f":"'Daily Calcs'!J5322/1000000","v":0},{"$f":"'Daily Calcs'!K5322/1000000","v":0},0]
[0.1,{"$f":"'Daily Calcs'!J5323/1000000","v":0},{"$f":"'Daily Calcs'!K5323/1000000","v":0},0]
[0.1,{"$f":"'Daily Calcs'!J5324/1000000","v":2.0608643764384967E-5},{"$f":"'Daily Calcs'!K5324/1000000","v":2.0691357940499528E-5},2.0608643764384967E-5]
[0.1,{"$f":"'Daily Calcs'!J5325/1000000","v":1.7188900747065103E-5},{"$f":"'Daily Calcs'!K5325/1000000","v":1.7235797462350292E-5},1.7188900747065103E-5]
[0.1,{"$f":"'Daily Calcs'!J5326/1000000","v":1.5179932906373895E-5},{"$f":"'Daily Calcs'!K5326/1000000","v":1.5200235263364266E-5},1.5179932906373895E-5]
[0.1,{"$f":"'Daily Calcs'!J5327/1000000","v":0},{"$f":"'Daily Calcs'!K5327/1000000","v":0},0]
[0.1,{"$f":"'Daily Calcs'!J5328/1000000","v":0},{"$f":"'Daily Calcs'!K5328/1000000","v":0},0]
[0.1,{"$f":"'Daily Calcs'!J5329/1000000","v":0},{"$f":"'Daily Calcs'!K5329/1000000","v":0},0]
[0.1,{"$f":"'Daily Calcs'!J5330/1000000","v":0},{"$f":"'Daily Calcs'!K5330/1000000","v":0},0]
[0.1,{"$f":"'Daily Calcs'!J5331/1000000","v":1.3259309348537703E-5},{"$f":"'Daily Calcs'!K5331/1000000","v":1.3266936943859593E-5},1.3259309348537703E-5]
[0.1,{"$f":"'Daily Calcs'!J5332/1000000","v":9.8919308357348708E-6},{"$f":"'Daily Calcs'!K5332/1000000","v":9.8968401296829983E-6},9.8919308357348708E-6]
[0.1,{"$f":"'Daily Calcs'!J5333/1000000","v":0},{"$f":"'Daily Calcs'!K5333/1000000","v":0},0]
[0.1,{"$f":"'Daily Calcs'!J5334/1000000","v":0},{"$f":"'Daily Calcs'!K5334/1000000","v":0},0]
[0.1,{"$f":"'Daily Calcs'!J5335/1000000","v":0},{"$f":"'Daily Calcs'!K5335/1000000","v":0},0]
[0.1,{"$f":"'Daily Calcs'!J5336/1000000","v":8.6711252008511739E-6},{"$f":"'Daily Calcs'!K5336/1000000","v":8.6724894688843531E-6},8.6711252008511739E-6]
[0.1,{"$f":"'Daily Calcs'!J5337/1000000","v":0},{"$f":"'Daily Calcs'!K5337/1000000","v":0},0]
[0.1,{"$f":"'Daily Calcs'!J5338/1000000","v":0},{"$f":"'Daily Calcs'!K5338/1000000","v":0},0]
[0.1,{"$f":"'Daily Calcs'!J5339/1000000","v":0},{"$f":"'Daily Calcs'!K5339/1000000","v":0},0]
[0.1,{"$f":"'Daily Calcs'!J5340/1000000","v":0},{"$f":"'Daily Calcs'!K5340/1000000","v":0},0]
[0.1,{"$f":"'Daily Calcs'!J5341/1000000","v":0},{"$f":"'Daily Calcs'!K5341/1000000","v":0},0]
[0.1,{"$f":"'Daily Calcs'!J5342/1000000","v":0},{"$f":"'Daily Calcs'!K5342/1000000","v":0},0]
[0.1,{"$f":"'Daily Calcs'!J5343/1000000","v":0},{"$f":"'Daily Calcs'!K5343/1000000","v":0},0]
[0.1,{"$f":"'Daily Calcs'!J5344/1000000","v":0},{"$f":"'Daily Calcs'!K5344/1000000","v":0},0]
[0.1,{"$f":"'Daily Calcs'!J5345/1000000","v":0},{"$f":"'Daily Calcs'!K5345/1000000","v":0},0]
[0.1,{"$f":"'Daily Calcs'!J5346/1000000","v":0},{"$f":"'Daily Calcs'!K5346/1000000","v":0},0]
[0.1,{"$f":"'Daily Calcs'!J5347/1000000","v":0},{"$f":"'Daily Calcs'!K5347/1000000","v":0},0]
[0.1,{"$f":"'Daily Calcs'!J5348/1000000","v":0},{"$f":"'Daily Calcs'!K5348/1000000","v":0},0]
[0.1,{"$f":"'Daily Calcs'!J5349/1000000","v":0},{"$f":"'Daily Calcs'!K5349/1000000","v":0},0]
[0.1,{"$f":"'Daily Calcs'!J5350/1000000","v":0},{"$f":"'Daily Calcs'!K5350/1000000","v":0},0]
[0.1,{"$f":"'Daily Calcs'!J5351/1000000","v":0},{"$f":"'Daily Calcs'!K5351/1000000","v":0},0]
[0.1,{"$f":"'Daily Calcs'!J5352/1000000","v":5.966104702750665E-6},{"$f":"'Daily Calcs'!K5352/1000000","v":5.9665045874001775E-6},5.966104702750665E-6]
[0.1,{"$f":"'Daily Calcs'!J5353/1000000","v":4.6838541666666676E-6},{"$f":"'Daily Calcs'!K5353/1000000","v":4.6841491354166663E-6},4.6838541666666676E-6]
[0.1,{"$f":"'Daily Calcs'!J5354/1000000","v":0},{"$f":"'Daily Calcs'!K5354/1000000","v":0},0]
[0.1,{"$f":"'Daily Calcs'!J5355/1000000","v":0},{"$f":"'Daily Calcs'!K5355/1000000","v":0},0]
[0.1,{"$f":"'Daily Calcs'!J5356/1000000","v":0},{"$f":"'Daily Calcs'!K5356/1000000","v":0},0]
[0.1,{"$f":"'Daily Calcs'!J5357/1000000","v":4.1936955911260884E-6},{"$f":"'Daily Calcs'!K5357/1000000","v":4.1937726832350454E-6},4.1936955911260884E-6]
[0.1,{"$f":"'Daily Calcs'!J5358/1000000","v":0},{"$f":"'Daily Calcs'!K5358/1000000","v":0},0]
[0.1,{"$f":"'Daily Calcs'!J5359/1000000","v":0},{"$f":"'Daily Calcs'!K5359/1000000","v":0},0]
[0.1,{"$f":"'Daily Calcs'!J5360/1000000","v":0},{"$f":"'Daily Calcs'!K5360/1000000","v":0},0]
[0.1,{"$f":"'Daily Calcs'!J5361/1000000","v":0},{"$f":"'Daily Calcs'!K5361/1000000","v":0},0]
[0.1,{"$f":"'Daily Calcs'!J5362/1000000","v":0},{"$f":"'Daily Calcs'!K5362/1000000","v":0},0]
[0.1,{"$f":"'Daily Calcs'!J5363/1000000","v":0},{"$f":"'Daily Calcs'!K5363/1000000","v":0},0]
[0.1,{"$f":"'Daily Calcs'!J5364/1000000","v":3.0189428366419518E-6},{"$f":"'Daily Calcs'!K5364/1000000","v":3.0189644424778763E-6},3.0189428366419518E-6]
[0.1,{"$f":"'Daily Calcs'!J5365/1000000","v":0},{"$f":"'Daily Calcs'!K5365/1000000","v":0},0]
[0.1,{"$f":"'Daily Calcs'!J5366/1000000","v":0},{"$f":"'Daily Calcs'!K5366/1000000","v":0},0]
[0.1,{"$f":"'Daily Calcs'!J5367/1000000","v":0},{"$f":"'Daily Calcs'!K5367/1000000","v":0},0]
[0.1,{"$f":"'Daily Calcs'!J5368/1000000","v":0},{"$f":"'Daily Calcs'!K5368/1000000","v":0},0]
[0.1,{"$f":"'Daily Calcs'!J5369/1000000","v":0},{"$f":"'Daily Calcs'!K5369/1000000","v":0},0]
[0.1,{"$f":"'Daily Calcs'!J5370/1000000","v":0},{"$f":"'Daily Calcs'!K5370/1000000","v":0},0]
[0.1,{"$f":"'Daily Calcs'!J5371/1000000","v":0},{"$f":"'Daily Calcs'!K5371/1000000","v":0},0]
[0.1,{"$f":"'Daily Calcs'!J5372/1000000","v":0},{"$f":"'Daily Calcs'!K5372/1000000","v":0},0]
[0.1,{"$f":"'Daily Calcs'!J5373/1000000","v":0},{"$f":"'Daily Calcs'!K5373/1000000","v":0},0]
[0.1,{"$f":"'Daily Calcs'!J5374/1000000","v":2.1088773885350321E-6},{"$f":"'Daily Calcs'!K5374/1000000","v":2.1088829335854565E-6},2.1088773885350321E-6]
[0.1,{"$f":"'Daily Calcs'!J5375/1000000","v":1.4853538892782062E-6},{"$f":"'Daily Calcs'!K5375/1000000","v":1.4853575126839525E-6},1.4853538892782062E-6]
[0.1,{"$f":"'Daily Calcs'!J5376/1000000","v":0},{"$f":"'Daily Calcs'!K5376/1000000","v":0},0]
[0.1,{"$f":"'Daily Calcs'!J5377/1000000","v":0},{"$f":"'Daily Calcs'!K5377/1000000","v":0},0]
[0.1,{"$f":"'Daily Calcs'!J5378/1000000","v":0},{"$f":"'Daily Calcs'!K5378/1000000","v":0},0]
[0.1,{"$f":"'Daily Calcs'!J5379/1000000","v":0},{"$f":"'Daily Calcs'!K5379/1000000","v":0},{"$f":"B5383","v":0}]
[0.1,{"$f":"'Daily Calcs'!J5380/1000000","v":1.0463205080313784E-6},{"$f":"'Daily Calcs'!K5380/1000000","v":1.0463212429510645E-6},1.0463205080313784E-6]
[0.1,{"$f":"'Daily Calcs'!J5381/1000000","v":0},{"$f":"'Daily Calcs'!K5381/1000000","v":0},0]
[0.1,{"$f":"'Daily Calcs'!J5382/1000000","v":0},{"$f":"'Daily Calcs'!K5382/1000000","v":0},0]
[0.1,{"$f":"'Daily Calcs'!J5383/1000000","v":0},{"$f":"'Daily Calcs'!K5383/1000000","v":0},0]
[0.1,{"$f":"'Daily Calcs'!J5384/1000000","v":0},{"$f":"'Daily Calcs'!K5384/1000000","v":0},0]
[0.1,{"$f":"'Daily Calcs'!J5385/1000000","v":0},{"$f":"'Daily Calcs'!K5385/1000000","v":0},0]
[0.1,{"$f":"'Daily Calcs'!J5386/1000000","v":0},{"$f":"'Daily Calcs'!K5386/1000000","v":0},0]
[0.1,{"$f":"'Daily Calcs'!J5387/1000000","v":0},{"$f":"'Daily Calcs'!K5387/1000000","v":0},0]
[0.1,{"$f":"'Daily Calcs'!J5388/1000000","v":8.1015912897822454E-7},{"$f":"'Daily Calcs'!K5388/1000000","v":8.1015934304857628E-7},8.1015912897822454E-7]
[0.1,{"$f":"'Daily Calcs'!J5389/1000000","v":0},{"$f":"'Daily Calcs'!K5389/1000000","v":0},0]
[0.1,{"$f":"'Daily Calcs'!J5390/1000000","v":0},{"$f":"'Daily Calcs'!K5390/1000000","v":0},0]
[0.1,{"$f":"'Daily Calcs'!J5391/1000000","v":0},{"$f":"'Daily Calcs'!K5391/1000000","v":0},0]
[0.1,{"$f":"'Daily Calcs'!J5392/1000000","v":4.3116282431162822E-7},{"$f":"'Daily Calcs'!K5392/1000000","v":4.3116290406157411E-7},4.3116282431162822E-7]
[0.1,{"$f":"'Daily Calcs'!J5393/1000000","v":0},{"$f":"'Daily Calcs'!K5393/1000000","v":0},0]
[0.1,{"$f":"'Daily Calcs'!J5394/1000000","v":2.849986237269474E-7},{"$f":"'Daily Calcs'!K5394/1000000","v":2.8499865025048162E-7},2.849986237269474E-7]
[0.1,{"$f":"'Daily Calcs'!J5395/1000000","v":0},{"$f":"'Daily Calcs'!K5395/1000000","v":0},0]
[0.1,{"$f":"'Daily Calcs'!J5396/1000000","v":0},{"$f":"'Daily Calcs'!K5396/1000000","v":0},0]
[0.1,{"$f":"'Daily Calcs'!J5397/1000000","v":0},{"$f":"'Daily Calcs'!K5397/1000000","v":0},0]
[0.1,{"$f":"'Daily Calcs'!J5398/1000000","v":0},{"$f":"'Daily Calcs'!K5398/1000000","v":0},0]
[0.1,{"$f":"'Daily Calcs'!J5399/1000000","v":0},{"$f":"'Daily Calcs'!K5399/1000000","v":0},0]
[0.1,{"$f":"'Daily Calcs'!J5400/1000000","v":0},{"$f":"'Daily Calcs'!K5400/1000000","v":0},0]
[0.1,{"$f":"'Daily Calcs'!J5401/1000000","v":0},{"$f":"'Daily Calcs'!K5401/1000000","v":0},0]
[0.1,{"$f":"'Daily Calcs'!J5402/1000000","v":0},{"$f":"'Daily Calcs'!K5402/1000000","v":0},0]
[0.1,{"$f":"'Daily Calcs'!J5403/1000000","v":0},{"$f":"'Daily Calcs'!K5403/1000000","v":0},0]
[0.1,{"$f":"'Daily Calcs'!J5404/1000000","v":1.1413793103448278E-7},{"$f":"'Daily Calcs'!K5404/1000000","v":1.1413793413237325E-7},1.1413793103448278E-7]
[0.1,{"$f":"'Daily Calcs'!J5405/1000000","v":0},{"$f":"'Daily Calcs'!K5405/1000000","v":0},0]
[0.1,{"$f":"'Daily Calcs'!J5406/1000000","v":0},{"$f":"'Daily Calcs'!K5406/1000000","v":0},0]
[0.1,{"$f":"'Daily Calcs'!J5407/1000000","v":0},{"$f":"'Daily Calcs'!K5407/1000000","v":0},0]
[0.1,{"$f":"'Daily Calcs'!J5408/1000000","v":0},{"$f":"'Daily Calcs'!K5408/1000000","v":0},0]
[0.1,{"$f":"'Daily Calcs'!J5409/1000000","v":0},{"$f":"'Daily Calcs'!K5409/1000000","v":0},0]
[0.1,{"$f":"'Daily Calcs'!J5410/1000000","v":0},{"$f":"'Daily Calcs'!K5410/1000000","v":0},0]
[0.1,{"$f":"'Daily Calcs'!J5411/1000000","v":0},{"$f":"'Daily Calcs'!K5411/1000000","v":0},0]
[0.1,{"$f":"'Daily Calcs'!J5412/1000000","v":0},{"$f":"'Daily Calcs'!K5412/1000000","v":0},0]
[0.1,{"$f":"'Daily Calcs'!J5413/1000000","v":0},{"$f":"'Daily Calcs'!K5413/1000000","v":0},0]
[0.1,{"$f":"'Daily Calcs'!J5414/1000000","v":0},{"$f":"'Daily Calcs'!K5414/1000000","v":0},0]
[0.1,{"$f":"'Daily Calcs'!J5415/1000000","v":0},{"$f":"'Daily Calcs'!K5415/1000000","v":0},0]
[0.1,{"$f":"'Daily Calcs'!J5416/1000000","v":0},{"$f":"'Daily Calcs'!K5416/1000000","v":0},0]
[0.1,{"$f":"'Daily Calcs'!J5417/1000000","v":0},{"$f":"'Daily Calcs'!K5417/1000000","v":0},0]
[0.1,{"$f":"'Daily Calcs'!J5418/1000000","v":0},{"$f":"'Daily Calcs'!K5418/1000000","v":0},0]
[0.1,{"$f":"'Daily Calcs'!J5419/1000000","v":0},{"$f":"'Daily Calcs'!K5419/1000000","v":0},0]
[0.1,{"$f":"'Daily Calcs'!J5420/1000000","v":0},{"$f":"'Daily Calcs'!K5420/1000000","v":0},0]
[0.1,{"$f":"'Daily Calcs'!J5421/1000000","v":0},{"$f":"'Daily Calcs'!K5421/1000000","v":0},0]
[0.1,{"$f":"'Daily Calcs'!J5422/1000000","v":0},{"$f":"'Daily Calcs'!K5422/1000000","v":0},0]
[0.1,{"$f":"'Daily Calcs'!J5423/1000000","v":0},{"$f":"'Daily Calcs'!K5423/1000000","v":0},0]
[0.1,{"$f":"'Daily Calcs'!J5424/1000000","v":0},{"$f":"'Daily Calcs'!K5424/1000000","v":0},0]
[0.1,{"$f":"'Daily Calcs'!J5425/1000000","v":5.5865291653238798E-8},{"$f":"'Daily Calcs'!K5425/1000000","v":5.586529203939736E-8},5.5865291653238798E-8]
[0.1,{"$f":"'Daily Calcs'!J5426/1000000","v":0},{"$f":"'Daily Calcs'!K5426/1000000","v":0},0]
[0.1,{"$f":"'Daily Calcs'!J5427/1000000","v":0},{"$f":"'Daily Calcs'!K5427/1000000","v":0},0]
[0.1,{"$f":"'Daily Calcs'!J5428/1000000","v":0},{"$f":"'Daily Calcs'!K5428/1000000","v":0},0]
[0.1,{"$f":"'Daily Calcs'!J5429/1000000","v":0},{"$f":"'Daily Calcs'!K5429/1000000","v":0},0]
[0.1,{"$f":"'Daily Calcs'!J5430/1000000","v":2.8294636575201608E-8},{"$f":"'Daily Calcs'!K5430/1000000","v":2.829463670158034E-8},2.8294636575201608E-8]
[0.1,{"$f":"'Daily Calcs'!J5431/1000000","v":0},{"$f":"'Daily Calcs'!K5431/1000000","v":0},0]
[0.1,{"$f":"'Daily Calcs'!J5432/1000000","v":0},{"$f":"'Daily Calcs'!K5432/1000000","v":0},0]
[0.1,{"$f":"'Daily Calcs'!J5433/1000000","v":0},{"$f":"'Daily Calcs'!K5433/1000000","v":0},0]
[0.1,{"$f":"'Daily Calcs'!J5434/1000000","v":0},{"$f":"'Daily Calcs'!K5434/1000000","v":0},0]
[0.1,{"$f":"'Daily Calcs'!J5435/1000000","v":0},{"$f":"'Daily Calcs'!K5435/1000000","v":0},0]
[0.1,{"$f":"'Daily Calcs'!J5436/1000000","v":0},{"$f":"'Daily Calcs'!K5436/1000000","v":0},0]
[0.1,{"$f":"'Daily Calcs'!J5437/1000000","v":0},{"$f":"'Daily Calcs'!K5437/1000000","v":0},0]
[0.1,{"$f":"'Daily Calcs'!J5438/1000000","v":1.8827016066136325E-8},{"$f":"'Daily Calcs'!K5438/1000000","v":1.8827016091833481E-8},1.8827016066136325E-8]
[0.1,{"$f":"'Daily Calcs'!J5439/1000000","v":0},{"$f":"'Daily Calcs'!K5439/1000000","v":0},0]
[0.1,{"$f":"'Daily Calcs'!J5440/1000000","v":0},{"$f":"'Daily Calcs'!K5440/1000000","v":0},0]
[0.1,{"$f":"'Daily Calcs'!J5441/1000000","v":1.3762265501506158E-8},{"$f":"'Daily Calcs'!K5441/1000000","v":1.3762265514862955E-8},1.3762265501506158E-8]
[0.1,{"$f":"'Daily Calcs'!J5442/1000000","v":0},{"$f":"'Daily Calcs'!K5442/1000000","v":0},0]
[0.1,{"$f":"'Daily Calcs'!J5443/1000000","v":0},{"$f":"'Daily Calcs'!K5443/1000000","v":0},{"$f":"B5447","v":0}]
[0.1,{"$f":"'Daily Calcs'!J5444/1000000","v":0},{"$f":"'Daily Calcs'!K5444/1000000","v":0},0]
[0.1,{"$f":"'Daily Calcs'!J5445/1000000","v":1.1618015281973409E-8},{"$f":"'Daily Calcs'!K5445/1000000","v":1.1618015288446118E-8},1.1618015281973409E-8]
[0.1,{"$f":"'Daily Calcs'!J5446/1000000","v":0},{"$f":"'Daily Calcs'!K5446/1000000","v":0},0]
[0.1,{"$f":"'Daily Calcs'!J5447/1000000","v":0},{"$f":"'Daily Calcs'!K5447/1000000","v":0},0]
[0.1,{"$f":"'Daily Calcs'!J5448/1000000","v":7.2588377199764939E-9},{"$f":"'Daily Calcs'!K5448/1000000","v":7.2588377242767462E-9},7.2588377199764939E-9]
[0.1,{"$f":"'Daily Calcs'!J5449/1000000","v":5.144143746412961E-9},{"$f":"'Daily Calcs'!K5449/1000000","v":5.1441437486603677E-9},5.144143746412961E-9]
[0.1,{"$f":"'Daily Calcs'!J5450/1000000","v":0},{"$f":"'Daily Calcs'!K5450/1000000","v":0},0]
[0.1,{"$f":"'Daily Calcs'!J5451/1000000","v":0},{"$f":"'Daily Calcs'!K5451/1000000","v":0},0]
[0.1,{"$f":"'Daily Calcs'!J5452/1000000","v":0},{"$f":"'Daily Calcs'!K5452/1000000","v":0},0]
[0.1,{"$f":"'Daily Calcs'!J5453/1000000","v":0},{"$f":"'Daily Calcs'!K5453/1000000","v":0},0]
[0.1,{"$f":"'Daily Calcs'!J5454/1000000","v":0},{"$f":"'Daily Calcs'!K5454/1000000","v":0},0]
[0.1,{"$f":"'Daily Calcs'!J5455/1000000","v":0},{"$f":"'Daily Calcs'!K5455/1000000","v":0},0]
[0.1,{"$f":"'Daily Calcs'!J5456/1000000","v":0},{"$f":"'Daily Calcs'!K5456/1000000","v":0},0]
[0.1,{"$f":"'Daily Calcs'!J5457/1000000","v":0},{"$f":"'Daily Calcs'!K5457/1000000","v":0},0]
[0.1,{"$f":"'Daily Calcs'!J5458/1000000","v":0},{"$f":"'Daily Calcs'!K5458/1000000","v":0},0]
[0.1,{"$f":"'Daily Calcs'!J5459/1000000","v":0},{"$f":"'Daily Calcs'!K5459/1000000","v":0},0]
[0.1,{"$f":"'Daily Calcs'!J5460/1000000","v":0},{"$f":"'Daily Calcs'!K5460/1000000","v":0},0]
[0.1,{"$f":"'Daily Calcs'!J5461/1000000","v":0},{"$f":"'Daily Calcs'!K5461/1000000","v":0},0]
[0.1,{"$f":"'Daily Calcs'!J5462/1000000","v":0},{"$f":"'Daily Calcs'!K5462/1000000","v":0},0]
[0.1,{"$f":"'Daily Calcs'!J5463/1000000","v":0},{"$f":"'Daily Calcs'!K5463/1000000","v":0},0]
[0.1,{"$f":"'Daily Calcs'!J5464/1000000","v":2.9049654049654047E-9},{"$f":"'Daily Calcs'!K5464/1000000","v":2.9049654052428774E-9},2.9049654049654047E-9]
[0.1,{"$f":"'Daily Calcs'!J5465/1000000","v":1.8442111445561998E-9},{"$f":"'Daily Calcs'!K5465/1000000","v":1.8442111447629214E-9},1.8442111445561998E-9]
[0.1,{"$f":"'Daily Calcs'!J5466/1000000","v":0},{"$f":"'Daily Calcs'!K5466/1000000","v":0},0]
[0.1,{"$f":"'Daily Calcs'!J5467/1000000","v":0},{"$f":"'Daily Calcs'!K5467/1000000","v":0},0]
[0.1,{"$f":"'Daily Calcs'!J5468/1000000","v":0},{"$f":"'Daily Calcs'!K5468/1000000","v":0},0]
[0.1,{"$f":"'Daily Calcs'!J5469/1000000","v":0},{"$f":"'Daily Calcs'!K5469/1000000","v":0},0]
[0.1,{"$f":"'Daily Calcs'!J5470/1000000","v":0},{"$f":"'Daily Calcs'!K5470/1000000","v":0},0]
[0.1,{"$f":"'Daily Calcs'!J5471/1000000","v":0},{"$f":"'Daily Calcs'!K5471/1000000","v":0},0]
[0.1,{"$f":"'Daily Calcs'!J5472/1000000","v":0},{"$f":"'Daily Calcs'!K5472/1000000","v":0},0]
[0.1,{"$f":"'Daily Calcs'!J5473/1000000","v":1.0792201382033562E-9},{"$f":"'Daily Calcs'!K5473/1000000","v":1.0792201382581836E-9},1.0792201382033562E-9]
[0.1,{"$f":"'Daily Calcs'!J5474/1000000","v":0},{"$f":"'Daily Calcs'!K5474/1000000","v":0},0]
[0.1,{"$f":"'Daily Calcs'!J5475/1000000","v":0},{"$f":"'Daily Calcs'!K5475/1000000","v":0},0]
[0.1,{"$f":"'Daily Calcs'!J5476/1000000","v":0},{"$f":"'Daily Calcs'!K5476/1000000","v":0},0]
[0.1,{"$f":"'Daily Calcs'!J5477/1000000","v":0},{"$f":"'Daily Calcs'!K5477/1000000","v":0},0]
[0.1,{"$f":"'Daily Calcs'!J5478/1000000","v":6.1651955694011774E-10},{"$f":"'Daily Calcs'!K5478/1000000","v":6.1651955696554392E-10},6.1651955694011774E-10]
[0.1,{"$f":"'Daily Calcs'!J5479/1000000","v":3.5597358588930395E-10},{"$f":"'Daily Calcs'!K5479/1000000","v":3.5597358590009644E-10},3.5597358588930395E-10]
[0.1,{"$f":"'Daily Calcs'!J5480/1000000","v":0},{"$f":"'Daily Calcs'!K5480/1000000","v":0},0]
[0.1,{"$f":"'Daily Calcs'!J5481/1000000","v":0},{"$f":"'Daily Calcs'!K5481/1000000","v":0},0]
[0.1,{"$f":"'Daily Calcs'!J5482/1000000","v":2.1897492422154864E-10},{"$f":"'Daily Calcs'!K5482/1000000","v":2.1897492422517562E-10},2.1897492422154864E-10]
[0.1,{"$f":"'Daily Calcs'!J5483/1000000","v":0},{"$f":"'Daily Calcs'!K5483/1000000","v":0},0]
[0.1,{"$f":"'Daily Calcs'!J5484/1000000","v":0},{"$f":"'Daily Calcs'!K5484/1000000","v":0},0]
[0.1,{"$f":"'Daily Calcs'!J5485/1000000","v":0},{"$f":"'Daily Calcs'!K5485/1000000","v":0},0]
[0.1,{"$f":"'Daily Calcs'!J5486/1000000","v":1.4882587971400537E-10},{"$f":"'Daily Calcs'!K5486/1000000","v":1.4882587971521047E-10},1.4882587971400537E-10]
[0.1,{"$f":"'Daily Calcs'!J5487/1000000","v":0},{"$f":"'Daily Calcs'!K5487/1000000","v":0},0]
[0.1,{"$f":"'Daily Calcs'!J5488/1000000","v":0},{"$f":"'Daily Calcs'!K5488/1000000","v":0},0]
[0.1,{"$f":"'Daily Calcs'!J5489/1000000","v":0},{"$f":"'Daily Calcs'!K5489/1000000","v":0},0]
[0.1,{"$f":"'Daily Calcs'!J5490/1000000","v":0},{"$f":"'Daily Calcs'!K5490/1000000","v":0},0]
[0.1,{"$f":"'Daily Calcs'!J5491/1000000","v":0},{"$f":"'Daily Calcs'!K5491/1000000","v":0},0]
[0.1,{"$f":"'Daily Calcs'!J5492/1000000","v":6.7509322315785806E-11},{"$f":"'Daily Calcs'!K5492/1000000","v":6.7509322316270637E-11},6.7509322315785806E-11]
[0.1,{"$f":"'Daily Calcs'!J5493/1000000","v":0},{"$f":"'Daily Calcs'!K5493/1000000","v":0},0]
[0.1,{"$f":"'Daily Calcs'!J5494/1000000","v":0},{"$f":"'Daily Calcs'!K5494/1000000","v":0},0]
[0.1,{"$f":"'Daily Calcs'!J5495/1000000","v":0},{"$f":"'Daily Calcs'!K5495/1000000","v":0},0]
[0.1,{"$f":"'Daily Calcs'!J5496/1000000","v":0},{"$f":"'Daily Calcs'!K5496/1000000","v":0},0]
[0.1,{"$f":"'Daily Calcs'!J5497/1000000","v":0},{"$f":"'Daily Calcs'!K5497/1000000","v":0},0]
[0.1,{"$f":"'Daily Calcs'!J5498/1000000","v":0},{"$f":"'Daily Calcs'!K5498/1000000","v":0},0]
[0.1,{"$f":"'Daily Calcs'!J5499/1000000","v":0},{"$f":"'Daily Calcs'!K5499/1000000","v":0},0]
[0.1,{"$f":"'Daily Calcs'!J5500/1000000","v":0},{"$f":"'Daily Calcs'!K5500/1000000","v":0},0]
[0.1,{"$f":"'Daily Calcs'!J5501/1000000","v":0},{"$f":"'Daily Calcs'!K5501/1000000","v":0},0]
[0.1,{"$f":"'Daily Calcs'!J5502/1000000","v":0},{"$f":"'Daily Calcs'!K5502/1000000","v":0},0]
[0.1,{"$f":"'Daily Calcs'!J5503/1000000","v":0},{"$f":"'Daily Calcs'!K5503/1000000","v":0},0]
[0.1,{"$f":"'Daily Calcs'!J5504/1000000","v":0},{"$f":"'Daily Calcs'!K5504/1000000","v":0},0]
[0.1,{"$f":"'Daily Calcs'!J5505/1000000","v":1.6070815082023538E-11},{"$f":"'Daily Calcs'!K5505/1000000","v":1.6070815082080623E-11},1.6070815082023538E-11]
[0.1,{"$f":"'Daily Calcs'!J5506/1000000","v":1.2512142471667566E-11},{"$f":"'Daily Calcs'!K5506/1000000","v":1.2512142471687128E-11},1.2512142471667566E-11]
[0.1,{"$f":"'Daily Calcs'!J5507/1000000","v":0},{"$f":"'Daily Calcs'!K5507/1000000","v":0},{"$f":"B5511","v":0}]
[0.1,{"$f":"'Daily Calcs'!J5508/1000000","v":0},{"$f":"'Daily Calcs'!K5508/1000000","v":0},0]
[0.1,{"$f":"'Daily Calcs'!J5509/1000000","v":0},{"$f":"'Daily Calcs'!K5509/1000000","v":0},0]
[0.1,{"$f":"'Daily Calcs'!J5510/1000000","v":0},{"$f":"'Daily Calcs'!K5510/1000000","v":0},0]
[0.1,{"$f":"'Daily Calcs'!J5511/1000000","v":8.4794735935211491E-12},{"$f":"'Daily Calcs'!K5511/1000000","v":8.4794735935308459E-12},8.4794735935211491E-12]
[0.1,{"$f":"'Daily Calcs'!J5512/1000000","v":0},{"$f":"'Daily Calcs'!K5512/1000000","v":0},0]
[0.1,{"$f":"'Daily Calcs'!J5513/1000000","v":0},{"$f":"'Daily Calcs'!K5513/1000000","v":0},0]
[0.1,{"$f":"'Daily Calcs'!J5514/1000000","v":0},{"$f":"'Daily Calcs'!K5514/1000000","v":0},0]
[0.1,{"$f":"'Daily Calcs'!J5515/1000000","v":0},{"$f":"'Daily Calcs'!K5515/1000000","v":0},0]
[0.1,{"$f":"'Daily Calcs'!J5516/1000000","v":0},{"$f":"'Daily Calcs'!K5516/1000000","v":0},0]
[0.1,{"$f":"'Daily Calcs'!J5517/1000000","v":0},{"$f":"'Daily Calcs'!K5517/1000000","v":0},0]
[0.1,{"$f":"'Daily Calcs'!J5518/1000000","v":0},{"$f":"'Daily Calcs'!K5518/1000000","v":0},0]
[0.1,{"$f":"'Daily Calcs'!J5519/1000000","v":0},{"$f":"'Daily Calcs'!K5519/1000000","v":0},0]
[0.1,{"$f":"'Daily Calcs'!J5520/1000000","v":0},{"$f":"'Daily Calcs'!K5520/1000000","v":0},0]
[0.1,{"$f":"'Daily Calcs'!J5521/1000000","v":0},{"$f":"'Daily Calcs'!K5521/1000000","v":0},0]
[0.1,{"$f":"'Daily Calcs'!J5522/1000000","v":0},{"$f":"'Daily Calcs'!K5522/1000000","v":0},0]
[0.1,{"$f":"'Daily Calcs'!J5523/1000000","v":0},{"$f":"'Daily Calcs'!K5523/1000000","v":0},0]
[0.1,{"$f":"'Daily Calcs'!J5524/1000000","v":0},{"$f":"'Daily Calcs'!K5524/1000000","v":0},0]
[0.1,{"$f":"'Daily Calcs'!J5525/1000000","v":0},{"$f":"'Daily Calcs'!K5525/1000000","v":0},0]
[0.1,{"$f":"'Daily Calcs'!J5526/1000000","v":0},{"$f":"'Daily Calcs'!K5526/1000000","v":0},0]
[0.1,{"$f":"'Daily Calcs'!J5527/1000000","v":0},{"$f":"'Daily Calcs'!K5527/1000000","v":0},0]
[0.1,{"$f":"'Daily Calcs'!J5528/1000000","v":3.8753879930350518E-12},{"$f":"'Daily Calcs'!K5528/1000000","v":3.8753879930369396E-12},3.8753879930350518E-12]
[0.1,{"$f":"'Daily Calcs'!J5529/1000000","v":0},{"$f":"'Daily Calcs'!K5529/1000000","v":0},0]
[0.1,{"$f":"'Daily Calcs'!J5530/1000000","v":0},{"$f":"'Daily Calcs'!K5530/1000000","v":0},0]
[0.1,{"$f":"'Daily Calcs'!J5531/1000000","v":2.237733867888508E-12},{"$f":"'Daily Calcs'!K5531/1000000","v":2.2377338678894301E-12},2.237733867888508E-12]
[0.1,{"$f":"'Daily Calcs'!J5532/1000000","v":1.3421579059374336E-12},{"$f":"'Daily Calcs'!K5532/1000000","v":1.3421579059380513E-12},1.3421579059374336E-12]
[0.1,{"$f":"'Daily Calcs'!J5533/1000000","v":0},{"$f":"'Daily Calcs'!K5533/1000000","v":0},0]
[0.1,{"$f":"'Daily Calcs'!J5534/1000000","v":0},{"$f":"'Daily Calcs'!K5534/1000000","v":0},0]
[0.1,{"$f":"'Daily Calcs'!J5535/1000000","v":0},{"$f":"'Daily Calcs'!K5535/1000000","v":0},0]
[0.1,{"$f":"'Daily Calcs'!J5536/1000000","v":0},{"$f":"'Daily Calcs'!K5536/1000000","v":0},0]
[0.1,{"$f":"'Daily Calcs'!J5537/1000000","v":0},{"$f":"'Daily Calcs'!K5537/1000000","v":0},0]
[0.1,{"$f":"'Daily Calcs'!J5538/1000000","v":0},{"$f":"'Daily Calcs'!K5538/1000000","v":0},0]
[0.1,{"$f":"'Daily Calcs'!J5539/1000000","v":0},{"$f":"'Daily Calcs'!K5539/1000000","v":0},0]
[0.1,{"$f":"'Daily Calcs'!J5540/1000000","v":0},{"$f":"'Daily Calcs'!K5540/1000000","v":0},0]
[0.1,{"$f":"'Daily Calcs'!J5541/1000000","v":0},{"$f":"'Daily Calcs'!K5541/1000000","v":0},0]
[0.1,{"$f":"'Daily Calcs'!J5542/1000000","v":0},{"$f":"'Daily Calcs'!K5542/1000000","v":0},0]
[0.1,{"$f":"'Daily Calcs'!J5543/1000000","v":0},{"$f":"'Daily Calcs'!K5543/1000000","v":0},0]
[0.1,{"$f":"'Daily Calcs'!J5544/1000000","v":0},{"$f":"'Daily Calcs'!K5544/1000000","v":0},0]
[0.1,{"$f":"'Daily Calcs'!J5545/1000000","v":0},{"$f":"'Daily Calcs'!K5545/1000000","v":0},0]
[0.1,{"$f":"'Daily Calcs'!J5546/1000000","v":0},{"$f":"'Daily Calcs'!K5546/1000000","v":0},0]
[0.1,{"$f":"'Daily Calcs'!J5547/1000000","v":0},{"$f":"'Daily Calcs'!K5547/1000000","v":0},0]
[0.1,{"$f":"'Daily Calcs'!J5548/1000000","v":6.369822191318169E-13},{"$f":"'Daily Calcs'!K5548/1000000","v":6.3698221913189829E-13},6.369822191318169E-13]
[0.1,{"$f":"'Daily Calcs'!J5549/1000000","v":0},{"$f":"'Daily Calcs'!K5549/1000000","v":0},0]
[0.1,{"$f":"'Daily Calcs'!J5550/1000000","v":0},{"$f":"'Daily Calcs'!K5550/1000000","v":0},0]
[0.1,{"$f":"'Daily Calcs'!J5551/1000000","v":2.52661141174053E-13},{"$f":"'Daily Calcs'!K5551/1000000","v":2.5266114117409324E-13},2.52661141174053E-13]
[0.1,{"$f":"'Daily Calcs'!J5552/1000000","v":1.317359435192541E-13},{"$f":"'Daily Calcs'!K5552/1000000","v":1.3173594351926897E-13},1.317359435192541E-13]
[0.1,{"$f":"'Daily Calcs'!J5553/1000000","v":0},{"$f":"'Daily Calcs'!K5553/1000000","v":0},0]
[0.1,{"$f":"'Daily Calcs'!J5554/1000000","v":4.7898958099093023E-14},{"$f":"'Daily Calcs'!K5554/1000000","v":4.7898958099096771E-14},4.7898958099093023E-14]
[0.1,{"$f":"'Daily Calcs'!J5555/1000000","v":2.0053572971571764E-14},{"$f":"'Daily Calcs'!K5555/1000000","v":2.0053572971572773E-14},2.0053572971571764E-14]
[0.1,{"$f":"'Daily Calcs'!J5556/1000000","v":0},{"$f":"'Daily Calcs'!K5556/1000000","v":0},0]
[0.1,{"$f":"'Daily Calcs'!J5557/1000000","v":0},{"$f":"'Daily Calcs'!K5557/1000000","v":0},0]
[0.1,{"$f":"'Daily Calcs'!J5558/1000000","v":0},{"$f":"'Daily Calcs'!K5558/1000000","v":0},0]
[0.1,{"$f":"'Daily Calcs'!J5559/1000000","v":0},{"$f":"'Daily Calcs'!K5559/1000000","v":0},0]
[0.1,{"$f":"'Daily Calcs'!J5560/1000000","v":9.4492732451975758E-15},{"$f":"'Daily Calcs'!K5560/1000000","v":9.4492732451977745E-15},9.4492732451975758E-15]
[0.1,{"$f":"'Daily Calcs'!J5561/1000000","v":0},{"$f":"'Daily Calcs'!K5561/1000000","v":0},0]
[0.1,{"$f":"'Daily Calcs'!J5562/1000000","v":0},{"$f":"'Daily Calcs'!K5562/1000000","v":0},0]
[0.1,{"$f":"'Daily Calcs'!J5563/1000000","v":0},{"$f":"'Daily Calcs'!K5563/1000000","v":0},0]
[0.1,{"$f":"'Daily Calcs'!J5564/1000000","v":0},{"$f":"'Daily Calcs'!K5564/1000000","v":0},0]
[0.1,{"$f":"'Daily Calcs'!J5565/1000000","v":0},{"$f":"'Daily Calcs'!K5565/1000000","v":0},0]
[0.1,{"$f":"'Daily Calcs'!J5566/1000000","v":5.0318910016469527E-15},{"$f":"'Daily Calcs'!K5566/1000000","v":5.0318910016469992E-15},5.0318910016469527E-15]
[0.1,{"$f":"'Daily Calcs'!J5567/1000000","v":0},{"$f":"'Daily Calcs'!K5567/1000000","v":0},0]
[0.1,{"$f":"'Daily Calcs'!J5568/1000000","v":0},{"$f":"'Daily Calcs'!K5568/1000000","v":0},0]
[0.1,{"$f":"'Daily Calcs'!J5569/1000000","v":2.1849175083676429E-15},{"$f":"'Daily Calcs'!K5569/1000000","v":2.184917508367663E-15},2.1849175083676429E-15]
[0.1,{"$f":"'Daily Calcs'!J5570/1000000","v":9.9788980070339982E-16},{"$f":"'Daily Calcs'!K5570/1000000","v":9.9788980070340791E-16},9.9788980070339982E-16]
[0.1,{"$f":"'Daily Calcs'!J5571/1000000","v":0},{"$f":"'Daily Calcs'!K5571/1000000","v":0},{"$f":"B5575","v":0}]
[0.1,{"$f":"'Daily Calcs'!J5572/1000000","v":0},{"$f":"'Daily Calcs'!K5572/1000000","v":0},0]
[0.1,{"$f":"'Daily Calcs'!J5573/1000000","v":0},{"$f":"'Daily Calcs'!K5573/1000000","v":0},0]
[0.1,{"$f":"'Daily Calcs'!J5574/1000000","v":0},{"$f":"'Daily Calcs'!K5574/1000000","v":0},0]
[0.1,{"$f":"'Daily Calcs'!J5575/1000000","v":0},{"$f":"'Daily Calcs'!K5575/1000000","v":0},0]
[0.1,{"$f":"'Daily Calcs'!J5576/1000000","v":0},{"$f":"'Daily Calcs'!K5576/1000000","v":0},0]
[0.1,{"$f":"'Daily Calcs'!J5577/1000000","v":0},{"$f":"'Daily Calcs'!K5577/1000000","v":0},0]
[0.1,{"$f":"'Daily Calcs'!J5578/1000000","v":0},{"$f":"'Daily Calcs'!K5578/1000000","v":0},0]
[0.1,{"$f":"'Daily Calcs'!J5579/1000000","v":0},{"$f":"'Daily Calcs'!K5579/1000000","v":0},0]
[0.1,{"$f":"'Daily Calcs'!J5580/1000000","v":0},{"$f":"'Daily Calcs'!K5580/1000000","v":0},0]
[0.1,{"$f":"'Daily Calcs'!J5581/1000000","v":0},{"$f":"'Daily Calcs'!K5581/1000000","v":0},0]
[0.1,{"$f":"'Daily Calcs'!J5582/1000000","v":0},{"$f":"'Daily Calcs'!K5582/1000000","v":0},0]
[0.1,{"$f":"'Daily Calcs'!J5583/1000000","v":0},{"$f":"'Daily Calcs'!K5583/1000000","v":0},0]
[0.1,{"$f":"'Daily Calcs'!J5584/1000000","v":0},{"$f":"'Daily Calcs'!K5584/1000000","v":0},0]
[0.1,{"$f":"'Daily Calcs'!J5585/1000000","v":0},{"$f":"'Daily Calcs'!K5585/1000000","v":0},0]
[0.1,{"$f":"'Daily Calcs'!J5586/1000000","v":0},{"$f":"'Daily Calcs'!K5586/1000000","v":0},0]
[0.1,{"$f":"'Daily Calcs'!J5587/1000000","v":0},{"$f":"'Daily Calcs'!K5587/1000000","v":0},0]
[0.1,{"$f":"'Daily Calcs'!J5588/1000000","v":0},{"$f":"'Daily Calcs'!K5588/1000000","v":0},0]
[0.1,{"$f":"'Daily Calcs'!J5589/1000000","v":0},{"$f":"'Daily Calcs'!K5589/1000000","v":0},0]
[0.1,{"$f":"'Daily Calcs'!J5590/1000000","v":0},{"$f":"'Daily Calcs'!K5590/1000000","v":0},0]
[0.1,{"$f":"'Daily Calcs'!J5591/1000000","v":0},{"$f":"'Daily Calcs'!K5591/1000000","v":0},0]
[0.1,{"$f":"'Daily Calcs'!J5592/1000000","v":0},{"$f":"'Daily Calcs'!K5592/1000000","v":0},0]
[0.1,{"$f":"'Daily Calcs'!J5593/1000000","v":0},{"$f":"'Daily Calcs'!K5593/1000000","v":0},0]
[0.1,{"$f":"'Daily Calcs'!J5594/1000000","v":0},{"$f":"'Daily Calcs'!K5594/1000000","v":0},0]
[0.1,{"$f":"'Daily Calcs'!J5595/1000000","v":4.4121170631524902E-16},{"$f":"'Daily Calcs'!K5595/1000000","v":4.4121170631525E-16},4.4121170631524902E-16]
[0.1,{"$f":"'Daily Calcs'!J5596/1000000","v":0},{"$f":"'Daily Calcs'!K5596/1000000","v":0},0]
[0.1,{"$f":"'Daily Calcs'!J5597/1000000","v":0},{"$f":"'Daily Calcs'!K5597/1000000","v":0},0]
[0.1,{"$f":"'Daily Calcs'!J5598/1000000","v":0},{"$f":"'Daily Calcs'!K5598/1000000","v":0},0]
[0.1,{"$f":"'Daily Calcs'!J5599/1000000","v":0},{"$f":"'Daily Calcs'!K5599/1000000","v":0},0]
[0.1,{"$f":"'Daily Calcs'!J5600/1000000","v":1.9454344874405975E-16},{"$f":"'Daily Calcs'!K5600/1000000","v":1.9454344874406024E-16},1.9454344874405975E-16]
[0.1,{"$f":"'Daily Calcs'!J5601/1000000","v":0},{"$f":"'Daily Calcs'!K5601/1000000","v":0},0]
[0.1,{"$f":"'Daily Calcs'!J5602/1000000","v":0},{"$f":"'Daily Calcs'!K5602/1000000","v":0},0]
[0.1,{"$f":"'Daily Calcs'!J5603/1000000","v":0},{"$f":"'Daily Calcs'!K5603/1000000","v":0},0]
[0.1,{"$f":"'Daily Calcs'!J5604/1000000","v":0},{"$f":"'Daily Calcs'!K5604/1000000","v":0},0]
[0.1,{"$f":"'Daily Calcs'!J5605/1000000","v":0},{"$f":"'Daily Calcs'!K5605/1000000","v":0},0]
[0.1,{"$f":"'Daily Calcs'!J5606/1000000","v":0},{"$f":"'Daily Calcs'!K5606/1000000","v":0},0]
[0.1,{"$f":"'Daily Calcs'!J5607/1000000","v":0},{"$f":"'Daily Calcs'!K5607/1000000","v":0},0]
[0.1,{"$f":"'Daily Calcs'!J5608/1000000","v":9.4738134708663341E-17},{"$f":"'Daily Calcs'!K5608/1000000","v":9.473813470866344E-17},9.4738134708663341E-17]
[0.1,{"$f":"'Daily Calcs'!J5609/1000000","v":0},{"$f":"'Daily Calcs'!K5609/1000000","v":0},0]
[0.1,{"$f":"'Daily Calcs'!J5610/1000000","v":0},{"$f":"'Daily Calcs'!K5610/1000000","v":0},0]
[0.1,{"$f":"'Daily Calcs'!J5611/1000000","v":0},{"$f":"'Daily Calcs'!K5611/1000000","v":0},0]
[0.1,{"$f":"'Daily Calcs'!J5612/1000000","v":0},{"$f":"'Daily Calcs'!K5612/1000000","v":0},0]
[0.1,{"$f":"'Daily Calcs'!J5613/1000000","v":0},{"$f":"'Daily Calcs'!K5613/1000000","v":0},0]
[0.1,{"$f":"'Daily Calcs'!J5614/1000000","v":2.8036529680365293E-17},{"$f":"'Daily Calcs'!K5614/1000000","v":2.8036529680365324E-17},2.8036529680365293E-17]
[0.1,{"$f":"'Daily Calcs'!J5615/1000000","v":1.5063684834123223E-17},{"$f":"'Daily Calcs'!K5615/1000000","v":1.5063684834123232E-17},1.5063684834123223E-17]
[0.1,{"$f":"'Daily Calcs'!J5616/1000000","v":0},{"$f":"'Daily Calcs'!K5616/1000000","v":0},0]
[0.1,{"$f":"'Daily Calcs'!J5617/1000000","v":0},{"$f":"'Daily Calcs'!K5617/1000000","v":0},0]
[0.1,{"$f":"'Daily Calcs'!J5618/1000000","v":0},{"$f":"'Daily Calcs'!K5618/1000000","v":0},0]
[0.1,{"$f":"'Daily Calcs'!J5619/1000000","v":0},{"$f":"'Daily Calcs'!K5619/1000000","v":0},0]
[0.1,{"$f":"'Daily Calcs'!J5620/1000000","v":0},{"$f":"'Daily Calcs'!K5620/1000000","v":0},0]
[0.1,{"$f":"'Daily Calcs'!J5621/1000000","v":0},{"$f":"'Daily Calcs'!K5621/1000000","v":0},0]
[0.1,{"$f":"'Daily Calcs'!J5622/1000000","v":0},{"$f":"'Daily Calcs'!K5622/1000000","v":0},0]
[0.1,{"$f":"'Daily Calcs'!J5623/1000000","v":0},{"$f":"'Daily Calcs'!K5623/1000000","v":0},0]
[0.1,{"$f":"'Daily Calcs'!J5624/1000000","v":0},{"$f":"'Daily Calcs'!K5624/1000000","v":0},0]
[0.1,{"$f":"'Daily Calcs'!J5625/1000000","v":0},{"$f":"'Daily Calcs'!K5625/1000000","v":0},0]
[0.1,{"$f":"'Daily Calcs'!J5626/1000000","v":0},{"$f":"'Daily Calcs'!K5626/1000000","v":0},0]
[0.1,{"$f":"'Daily Calcs'!J5627/1000000","v":3.3291873963515752E-18},{"$f":"'Daily Calcs'!K5627/1000000","v":3.3291873963515764E-18},3.3291873963515752E-18]
[0.1,{"$f":"'Daily Calcs'!J5628/1000000","v":1.4865659255160964E-18},{"$f":"'Daily Calcs'!K5628/1000000","v":1.486565925516097E-18},1.4865659255160964E-18]
[0.1,{"$f":"'Daily Calcs'!J5629/1000000","v":0},{"$f":"'Daily Calcs'!K5629/1000000","v":0},0]
[0.1,{"$f":"'Daily Calcs'!J5630/1000000","v":0},{"$f":"'Daily Calcs'!K5630/1000000","v":0},0]
[0.1,{"$f":"'Daily Calcs'!J5631/1000000","v":0},{"$f":"'Daily Calcs'!K5631/1000000","v":0},0]
[0.1,{"$f":"'Daily Calcs'!J5632/1000000","v":0},{"$f":"'Daily Calcs'!K5632/1000000","v":0},0]
[0.1,{"$f":"'Daily Calcs'!J5633/1000000","v":7.3210512972196407E-19},{"$f":"'Daily Calcs'!K5633/1000000","v":7.3210512972196407E-19},7.3210512972196407E-19]
[0.1,{"$f":"'Daily Calcs'!J5634/1000000","v":0},{"$f":"'Daily Calcs'!K5634/1000000","v":0},0]
[0.1,{"$f":"'Daily Calcs'!J5635/1000000","v":0},{"$f":"'Daily Calcs'!K5635/1000000","v":0},{"$f":"B5639","v":0}]
[0.1,{"$f":"'Daily Calcs'!J5636/1000000","v":0},{"$f":"'Daily Calcs'!K5636/1000000","v":0},0]
[0.1,{"$f":"'Daily Calcs'!J5637/1000000","v":0},{"$f":"'Daily Calcs'!K5637/1000000","v":0},0]
[0.1,{"$f":"'Daily Calcs'!J5638/1000000","v":0},{"$f":"'Daily Calcs'!K5638/1000000","v":0},0]
[0.1,{"$f":"'Daily Calcs'!J5639/1000000","v":0},{"$f":"'Daily Calcs'!K5639/1000000","v":0},0]
[0.1,{"$f":"'Daily Calcs'!J5640/1000000","v":0},{"$f":"'Daily Calcs'!K5640/1000000","v":0},0]
[0.1,{"$f":"'Daily Calcs'!J5641/1000000","v":3.1476676298873618E-19},{"$f":"'Daily Calcs'!K5641/1000000","v":3.1476676298873618E-19},3.1476676298873618E-19]
[0.1,{"$f":"'Daily Calcs'!J5642/1000000","v":0},{"$f":"'Daily Calcs'!K5642/1000000","v":0},0]
[0.1,{"$f":"'Daily Calcs'!J5643/1000000","v":0},{"$f":"'Daily Calcs'!K5643/1000000","v":0},0]
[0.1,{"$f":"'Daily Calcs'!J5644/1000000","v":0},{"$f":"'Daily Calcs'!K5644/1000000","v":0},0]
[0.1,{"$f":"'Daily Calcs'!J5645/1000000","v":0},{"$f":"'Daily Calcs'!K5645/1000000","v":0},0]
[0.1,{"$f":"'Daily Calcs'!J5646/1000000","v":0},{"$f":"'Daily Calcs'!K5646/1000000","v":0},0]
[0.1,{"$f":"'Daily Calcs'!J5647/1000000","v":0},{"$f":"'Daily Calcs'!K5647/1000000","v":0},0]
[0.1,{"$f":"'Daily Calcs'!J5648/1000000","v":0},{"$f":"'Daily Calcs'!K5648/1000000","v":0},0]
[0.1,{"$f":"'Daily Calcs'!J5649/1000000","v":0},{"$f":"'Daily Calcs'!K5649/1000000","v":0},0]
[0.1,{"$f":"'Daily Calcs'!J5650/1000000","v":0},{"$f":"'Daily Calcs'!K5650/1000000","v":0},0]
[0.1,{"$f":"'Daily Calcs'!J5651/1000000","v":0},{"$f":"'Daily Calcs'!K5651/1000000","v":0},0]
[0.1,{"$f":"'Daily Calcs'!J5652/1000000","v":0},{"$f":"'Daily Calcs'!K5652/1000000","v":0},0]
[0.1,{"$f":"'Daily Calcs'!J5653/1000000","v":0},{"$f":"'Daily Calcs'!K5653/1000000","v":0},0]
[0.1,{"$f":"'Daily Calcs'!J5654/1000000","v":0},{"$f":"'Daily Calcs'!K5654/1000000","v":0},0]
[0.1,{"$f":"'Daily Calcs'!J5655/1000000","v":0},{"$f":"'Daily Calcs'!K5655/1000000","v":0},0]
[0.1,{"$f":"'Daily Calcs'!J5656/1000000","v":0},{"$f":"'Daily Calcs'!K5656/1000000","v":0},0]
[0.1,{"$f":"'Daily Calcs'!J5657/1000000","v":0},{"$f":"'Daily Calcs'!K5657/1000000","v":0},0]
[0.1,{"$f":"'Daily Calcs'!J5658/1000000","v":0},{"$f":"'Daily Calcs'!K5658/1000000","v":0},0]
[0.1,{"$f":"'Daily Calcs'!J5659/1000000","v":0},{"$f":"'Daily Calcs'!K5659/1000000","v":0},0]
[0.1,{"$f":"'Daily Calcs'!J5660/1000000","v":0},{"$f":"'Daily Calcs'!K5660/1000000","v":0},0]
[0.1,{"$f":"'Daily Calcs'!J5661/1000000","v":4.9074769053117792E-20},{"$f":"'Daily Calcs'!K5661/1000000","v":4.9074769053117792E-20},4.9074769053117792E-20]
[0.1,{"$f":"'Daily Calcs'!J5662/1000000","v":0},{"$f":"'Daily Calcs'!K5662/1000000","v":0},0]
[0.1,{"$f":"'Daily Calcs'!J5663/1000000","v":0},{"$f":"'Daily Calcs'!K5663/1000000","v":0},0]
[0.1,{"$f":"'Daily Calcs'!J5664/1000000","v":0},{"$f":"'Daily Calcs'!K5664/1000000","v":0},0]
[0.1,{"$f":"'Daily Calcs'!J5665/1000000","v":1.5629025626969987E-20},{"$f":"'Daily Calcs'!K5665/1000000","v":1.5629025626969987E-20},1.5629025626969987E-20]
[0.1,{"$f":"'Daily Calcs'!J5666/1000000","v":8.3825447646152017E-21},{"$f":"'Daily Calcs'!K5666/1000000","v":8.3825447646152017E-21},8.3825447646152017E-21]
[0.1,{"$f":"'Daily Calcs'!J5667/1000000","v":3.9294322867110689E-21},{"$f":"'Daily Calcs'!K5667/1000000","v":3.9294322867110689E-21},3.9294322867110689E-21]
[0.1,{"$f":"'Daily Calcs'!J5668/1000000","v":0},{"$f":"'Daily Calcs'!K5668/1000000","v":0},0]
[0.1,{"$f":"'Daily Calcs'!J5669/1000000","v":0},{"$f":"'Daily Calcs'!K5669/1000000","v":0},0]
[0.1,{"$f":"'Daily Calcs'!J5670/1000000","v":0},{"$f":"'Daily Calcs'!K5670/1000000","v":0},0]
[0.1,{"$f":"'Daily Calcs'!J5671/1000000","v":0},{"$f":"'Daily Calcs'!K5671/1000000","v":0},0]
[0.1,{"$f":"'Daily Calcs'!J5672/1000000","v":0},{"$f":"'Daily Calcs'!K5672/1000000","v":0},0]
[0.1,{"$f":"'Daily Calcs'!J5673/1000000","v":0},{"$f":"'Daily Calcs'!K5673/1000000","v":0},0]
[0.1,{"$f":"'Daily Calcs'!J5674/1000000","v":0},{"$f":"'Daily Calcs'!K5674/1000000","v":0},0]
[0.1,{"$f":"'Daily Calcs'!J5675/1000000","v":0},{"$f":"'Daily Calcs'!K5675/1000000","v":0},0]
[0.1,{"$f":"'Daily Calcs'!J5676/1000000","v":0},{"$f":"'Daily Calcs'!K5676/1000000","v":0},0]
[0.1,{"$f":"'Daily Calcs'!J5677/1000000","v":0},{"$f":"'Daily Calcs'!K5677/1000000","v":0},0]
[0.1,{"$f":"'Daily Calcs'!J5678/1000000","v":0},{"$f":"'Daily Calcs'!K5678/1000000","v":0},0]
[0.1,{"$f":"'Daily Calcs'!J5679/1000000","v":0},{"$f":"'Daily Calcs'!K5679/1000000","v":0},0]
[0.1,{"$f":"'Daily Calcs'!J5680/1000000","v":0},{"$f":"'Daily Calcs'!K5680/1000000","v":0},0]
[0.1,{"$f":"'Daily Calcs'!J5681/1000000","v":0},{"$f":"'Daily Calcs'!K5681/1000000","v":0},0]
[0.1,{"$f":"'Daily Calcs'!J5682/1000000","v":0},{"$f":"'Daily Calcs'!K5682/1000000","v":0},0]
[0.1,{"$f":"'Daily Calcs'!J5683/1000000","v":0},{"$f":"'Daily Calcs'!K5683/1000000","v":0},0]
[0.1,{"$f":"'Daily Calcs'!J5684/1000000","v":0},{"$f":"'Daily Calcs'!K5684/1000000","v":0},0]
[0.1,{"$f":"'Daily Calcs'!J5685/1000000","v":0},{"$f":"'Daily Calcs'!K5685/1000000","v":0},0]
[0.1,{"$f":"'Daily Calcs'!J5686/1000000","v":0},{"$f":"'Daily Calcs'!K5686/1000000","v":0},0]
[0.1,{"$f":"'Daily Calcs'!J5687/1000000","v":0},{"$f":"'Daily Calcs'!K5687/1000000","v":0},0]
[0.1,{"$f":"'Daily Calcs'!J5688/1000000","v":2.3377399138268704E-5},{"$f":"'Daily Calcs'!K5688/1000000","v":2.3577036819428126E-5},2.3377399138268704E-5]
[0.1,{"$f":"'Daily Calcs'!J5689/1000000","v":0},{"$f":"'Daily Calcs'!K5689/1000000","v":0},0]
[0.1,{"$f":"'Daily Calcs'!J5690/1000000","v":0},{"$f":"'Daily Calcs'!K5690/1000000","v":0},0]
[0.1,{"$f":"'Daily Calcs'!J5691/1000000","v":0},{"$f":"'Daily Calcs'!K5691/1000000","v":0},0]
[0.1,{"$f":"'Daily Calcs'!J5692/1000000","v":0},{"$f":"'Daily Calcs'!K5692/1000000","v":0},0]
[0.1,{"$f":"'Daily Calcs'!J5693/1000000","v":0},{"$f":"'Daily Calcs'!K5693/1000000","v":0},0]
[0.1,{"$f":"'Daily Calcs'!J5694/1000000","v":0},{"$f":"'Daily Calcs'!K5694/1000000","v":0},0]
[0.1,{"$f":"'Daily Calcs'!J5695/1000000","v":0},{"$f":"'Daily Calcs'!K5695/1000000","v":0},0]
[0.1,{"$f":"'Daily Calcs'!J5696/1000000","v":0},{"$f":"'Daily Calcs'!K5696/1000000","v":0},0]
[0.1,{"$f":"'Daily Calcs'!J5697/1000000","v":0},{"$f":"'Daily Calcs'!K5697/1000000","v":0},0]
[0.1,{"$f":"'Daily Calcs'!J5698/1000000","v":0},{"$f":"'Daily Calcs'!K5698/1000000","v":0},0]
[0.1,{"$f":"'Daily Calcs'!J5699/1000000","v":0},{"$f":"'Daily Calcs'!K5699/1000000","v":0},{"$f":"B5703","v":0}]
[0.1,{"$f":"'Daily Calcs'!J5700/1000000","v":0},{"$f":"'Daily Calcs'!K5700/1000000","v":0},0]
[0.1,{"$f":"'Daily Calcs'!J5701/1000000","v":0},{"$f":"'Daily Calcs'!K5701/1000000","v":0},0]
[0.1,{"$f":"'Daily Calcs'!J5702/1000000","v":0},{"$f":"'Daily Calcs'!K5702/1000000","v":0},0]
[0.1,{"$f":"'Daily Calcs'!J5703/1000000","v":0},{"$f":"'Daily Calcs'!K5703/1000000","v":0},0]
[0.1,{"$f":"'Daily Calcs'!J5704/1000000","v":0},{"$f":"'Daily Calcs'!K5704/1000000","v":0},0]
[0.1,{"$f":"'Daily Calcs'!J5705/1000000","v":0},{"$f":"'Daily Calcs'!K5705/1000000","v":0},0]
[0.1,{"$f":"'Daily Calcs'!J5706/1000000","v":0},{"$f":"'Daily Calcs'!K5706/1000000","v":0},0]
[0.1,{"$f":"'Daily Calcs'!J5707/1000000","v":0},{"$f":"'Daily Calcs'!K5707/1000000","v":0},0]
[0.1,{"$f":"'Daily Calcs'!J5708/1000000","v":0},{"$f":"'Daily Calcs'!K5708/1000000","v":0},0]
[0.1,{"$f":"'Daily Calcs'!J5709/1000000","v":0},{"$f":"'Daily Calcs'!K5709/1000000","v":0},0]
[0.1,{"$f":"'Daily Calcs'!J5710/1000000","v":0},{"$f":"'Daily Calcs'!K5710/1000000","v":0},0]
[0.1,{"$f":"'Daily Calcs'!J5711/1000000","v":0},{"$f":"'Daily Calcs'!K5711/1000000","v":0},0]
[0.1,{"$f":"'Daily Calcs'!J5712/1000000","v":0},{"$f":"'Daily Calcs'!K5712/1000000","v":0},0]
[0.1,{"$f":"'Daily Calcs'!J5713/1000000","v":0},{"$f":"'Daily Calcs'!K5713/1000000","v":0},0]
[0.1,{"$f":"'Daily Calcs'!J5714/1000000","v":0},{"$f":"'Daily Calcs'!K5714/1000000","v":0},0]
[0.1,{"$f":"'Daily Calcs'!J5715/1000000","v":0},{"$f":"'Daily Calcs'!K5715/1000000","v":0},0]
[0.1,{"$f":"'Daily Calcs'!J5716/1000000","v":0},{"$f":"'Daily Calcs'!K5716/1000000","v":0},0]
[0.1,{"$f":"'Daily Calcs'!J5717/1000000","v":0},{"$f":"'Daily Calcs'!K5717/1000000","v":0},0]
[0.1,{"$f":"'Daily Calcs'!J5718/1000000","v":0},{"$f":"'Daily Calcs'!K5718/1000000","v":0},0]
[0.1,{"$f":"'Daily Calcs'!J5719/1000000","v":0},{"$f":"'Daily Calcs'!K5719/1000000","v":0},0]
[0.1,{"$f":"'Daily Calcs'!J5720/1000000","v":0},{"$f":"'Daily Calcs'!K5720/1000000","v":0},0]
[0.1,{"$f":"'Daily Calcs'!J5721/1000000","v":0},{"$f":"'Daily Calcs'!K5721/1000000","v":0},0]
[0.1,{"$f":"'Daily Calcs'!J5722/1000000","v":0},{"$f":"'Daily Calcs'!K5722/1000000","v":0},0]
[0.1,{"$f":"'Daily Calcs'!J5723/1000000","v":0},{"$f":"'Daily Calcs'!K5723/1000000","v":0},0]
[0.1,{"$f":"'Daily Calcs'!J5724/1000000","v":0},{"$f":"'Daily Calcs'!K5724/1000000","v":0},0]
[0.1,{"$f":"'Daily Calcs'!J5725/1000000","v":0},{"$f":"'Daily Calcs'!K5725/1000000","v":0},0]
[0.1,{"$f":"'Daily Calcs'!J5726/1000000","v":0},{"$f":"'Daily Calcs'!K5726/1000000","v":0},0]
[0.1,{"$f":"'Daily Calcs'!J5727/1000000","v":0},{"$f":"'Daily Calcs'!K5727/1000000","v":0},0]
[0.1,{"$f":"'Daily Calcs'!J5728/1000000","v":0},{"$f":"'Daily Calcs'!K5728/1000000","v":0},0]
[0.1,{"$f":"'Daily Calcs'!J5729/1000000","v":0},{"$f":"'Daily Calcs'!K5729/1000000","v":0},0]
[0.1,{"$f":"'Daily Calcs'!J5730/1000000","v":0},{"$f":"'Daily Calcs'!K5730/1000000","v":0},0]
[0.1,{"$f":"'Daily Calcs'!J5731/1000000","v":0},{"$f":"'Daily Calcs'!K5731/1000000","v":0},0]
[0.1,{"$f":"'Daily Calcs'!J5732/1000000","v":0},{"$f":"'Daily Calcs'!K5732/1000000","v":0},0]
[0.1,{"$f":"'Daily Calcs'!J5733/1000000","v":0},{"$f":"'Daily Calcs'!K5733/1000000","v":0},0]
[0.1,{"$f":"'Daily Calcs'!J5734/1000000","v":0},{"$f":"'Daily Calcs'!K5734/1000000","v":0},0]
[0.1,{"$f":"'Daily Calcs'!J5735/1000000","v":0},{"$f":"'Daily Calcs'!K5735/1000000","v":0},0]
[0.1,{"$f":"'Daily Calcs'!J5736/1000000","v":0},{"$f":"'Daily Calcs'!K5736/1000000","v":0},0]
[0.1,{"$f":"'Daily Calcs'!J5737/1000000","v":0},{"$f":"'Daily Calcs'!K5737/1000000","v":0},0]
[0.1,{"$f":"'Daily Calcs'!J5738/1000000","v":0},{"$f":"'Daily Calcs'!K5738/1000000","v":0},0]
[0.1,{"$f":"'Daily Calcs'!J5739/1000000","v":0},{"$f":"'Daily Calcs'!K5739/1000000","v":0},0]
[0.1,{"$f":"'Daily Calcs'!J5740/1000000","v":0},{"$f":"'Daily Calcs'!K5740/1000000","v":0},0]
[0.1,{"$f":"'Daily Calcs'!J5741/1000000","v":0},{"$f":"'Daily Calcs'!K5741/1000000","v":0},0]
[0.1,{"$f":"'Daily Calcs'!J5742/1000000","v":0},{"$f":"'Daily Calcs'!K5742/1000000","v":0},0]
[0.1,{"$f":"'Daily Calcs'!J5743/1000000","v":0},{"$f":"'Daily Calcs'!K5743/1000000","v":0},0]
[0.1,{"$f":"'Daily Calcs'!J5744/1000000","v":0},{"$f":"'Daily Calcs'!K5744/1000000","v":0},0]
[0.1,{"$f":"'Daily Calcs'!J5745/1000000","v":0},{"$f":"'Daily Calcs'!K5745/1000000","v":0},0]
[0.1,{"$f":"'Daily Calcs'!J5746/1000000","v":0},{"$f":"'Daily Calcs'!K5746/1000000","v":0},0]
[0.1,{"$f":"'Daily Calcs'!J5747/1000000","v":0},{"$f":"'Daily Calcs'!K5747/1000000","v":0},0]
[0.1,{"$f":"'Daily Calcs'!J5748/1000000","v":0},{"$f":"'Daily Calcs'!K5748/1000000","v":0},0]
[0.1,{"$f":"'Daily Calcs'!J5749/1000000","v":0},{"$f":"'Daily Calcs'!K5749/1000000","v":0},0]
[0.1,{"$f":"'Daily Calcs'!J5750/1000000","v":0},{"$f":"'Daily Calcs'!K5750/1000000","v":0},0]
[0.1,{"$f":"'Daily Calcs'!J5751/1000000","v":0},{"$f":"'Daily Calcs'!K5751/1000000","v":0},0]
[0.1,{"$f":"'Daily Calcs'!J5752/1000000","v":0},{"$f":"'Daily Calcs'!K5752/1000000","v":0},0]
[0.1,{"$f":"'Daily Calcs'!J5753/1000000","v":0},{"$f":"'Daily Calcs'!K5753/1000000","v":0},0]
[0.1,{"$f":"'Daily Calcs'!J5754/1000000","v":0},{"$f":"'Daily Calcs'!K5754/1000000","v":0},0]
[0.1,{"$f":"'Daily Calcs'!J5755/1000000","v":0},{"$f":"'Daily Calcs'!K5755/1000000","v":0},0]
[0.1,{"$f":"'Daily Calcs'!J5756/1000000","v":0},{"$f":"'Daily Calcs'!K5756/1000000","v":0},0]
[0.1,{"$f":"'Daily Calcs'!J5757/1000000","v":0},{"$f":"'Daily Calcs'!K5757/1000000","v":0},0]
[0.1,{"$f":"'Daily Calcs'!J5758/1000000","v":0},{"$f":"'Daily Calcs'!K5758/1000000","v":0},0]
[0.1,{"$f":"'Daily Calcs'!J5759/1000000","v":0},{"$f":"'Daily Calcs'!K5759/1000000","v":0},0]
[0.1,{"$f":"'Daily Calcs'!J5760/1000000","v":8.1834727004426951E-6},{"$f":"'Daily Calcs'!K5760/1000000","v":8.1850137727496309E-6},8.1834727004426951E-6]
[0.1,{"$f":"'Daily Calcs'!J5761/1000000","v":6.6416223810396435E-6},{"$f":"'Daily Calcs'!K5761/1000000","v":6.6423497444668413E-6},6.6416223810396435E-6]
[0.1,{"$f":"'Daily Calcs'!J5762/1000000","v":0},{"$f":"'Daily Calcs'!K5762/1000000","v":0},0]
[0.1,{"$f":"'Daily Calcs'!J5763/1000000","v":0},{"$f":"'Daily Calcs'!K5763/1000000","v":0},{"$f":"B5767","v":0}]
[0.1,{"$f":"'Daily Calcs'!J5764/1000000","v":0},{"$f":"'Daily Calcs'!K5764/1000000","v":0},0]
[0.1,{"$f":"'Daily Calcs'!J5765/1000000","v":0},{"$f":"'Daily Calcs'!K5765/1000000","v":0},0]
[0.1,{"$f":"'Daily Calcs'!J5766/1000000","v":0},{"$f":"'Daily Calcs'!K5766/1000000","v":0},0]
[0.1,{"$f":"'Daily Calcs'!J5767/1000000","v":0},{"$f":"'Daily Calcs'!K5767/1000000","v":0},0]
[0.1,{"$f":"'Daily Calcs'!J5768/1000000","v":0},{"$f":"'Daily Calcs'!K5768/1000000","v":0},0]
[0.1,{"$f":"'Daily Calcs'!J5769/1000000","v":0},{"$f":"'Daily Calcs'!K5769/1000000","v":0},0]
[0.1,{"$f":"'Daily Calcs'!J5770/1000000","v":5.3063572910771553E-6},{"$f":"'Daily Calcs'!K5770/1000000","v":5.3065056970382949E-6},5.3063572910771553E-6]
[0.1,{"$f":"'Daily Calcs'!J5771/1000000","v":0},{"$f":"'Daily Calcs'!K5771/1000000","v":0},0]
[0.1,{"$f":"'Daily Calcs'!J5772/1000000","v":0},{"$f":"'Daily Calcs'!K5772/1000000","v":0},0]
[0.1,{"$f":"'Daily Calcs'!J5773/1000000","v":4.2640969162995598E-6},{"$f":"'Daily Calcs'!K5773/1000000","v":4.2641838913362694E-6},4.2640969162995598E-6]
[0.1,{"$f":"'Daily Calcs'!J5774/1000000","v":0},{"$f":"'Daily Calcs'!K5774/1000000","v":0},0]
[0.1,{"$f":"'Daily Calcs'!J5775/1000000","v":0},{"$f":"'Daily Calcs'!K5775/1000000","v":0},0]
[0.1,{"$f":"'Daily Calcs'!J5776/1000000","v":0},{"$f":"'Daily Calcs'!K5776/1000000","v":0},0]
[0.1,{"$f":"'Daily Calcs'!J5777/1000000","v":0},{"$f":"'Daily Calcs'!K5777/1000000","v":0},0]
[0.1,{"$f":"'Daily Calcs'!J5778/1000000","v":3.4441111777644468E-6},{"$f":"'Daily Calcs'!K5778/1000000","v":3.4441402132906749E-6},3.4441111777644468E-6]
[0.1,{"$f":"'Daily Calcs'!J5779/1000000","v":0},{"$f":"'Daily Calcs'!K5779/1000000","v":0},0]
[0.1,{"$f":"'Daily Calcs'!J5780/1000000","v":0},{"$f":"'Daily Calcs'!K5780/1000000","v":0},0]
[0.1,{"$f":"'Daily Calcs'!J5781/1000000","v":0},{"$f":"'Daily Calcs'!K5781/1000000","v":0},0]
[0.1,{"$f":"'Daily Calcs'!J5782/1000000","v":0},{"$f":"'Daily Calcs'!K5782/1000000","v":0},0]
[0.1,{"$f":"'Daily Calcs'!J5783/1000000","v":2.7277889723392564E-6},{"$f":"'Daily Calcs'!K5783/1000000","v":2.7278024867191791E-6},2.7277889723392564E-6]
[0.1,{"$f":"'Daily Calcs'!J5784/1000000","v":0},{"$f":"'Daily Calcs'!K5784/1000000","v":0},0]
[0.1,{"$f":"'Daily Calcs'!J5785/1000000","v":0},{"$f":"'Daily Calcs'!K5785/1000000","v":0},0]
[0.1,{"$f":"'Daily Calcs'!J5786/1000000","v":0},{"$f":"'Daily Calcs'!K5786/1000000","v":0},0]
[0.1,{"$f":"'Daily Calcs'!J5787/1000000","v":0},{"$f":"'Daily Calcs'!K5787/1000000","v":0},0]
[0.1,{"$f":"'Daily Calcs'!J5788/1000000","v":0},{"$f":"'Daily Calcs'!K5788/1000000","v":0},0]
[0.1,{"$f":"'Daily Calcs'!J5789/1000000","v":0},{"$f":"'Daily Calcs'!K5789/1000000","v":0},0]
[0.1,{"$f":"'Daily Calcs'!J5790/1000000","v":0},{"$f":"'Daily Calcs'!K5790/1000000","v":0},0]
[0.1,{"$f":"'Daily Calcs'!J5791/1000000","v":0},{"$f":"'Daily Calcs'!K5791/1000000","v":0},0]
[0.1,{"$f":"'Daily Calcs'!J5792/1000000","v":0},{"$f":"'Daily Calcs'!K5792/1000000","v":0},0]
[0.1,{"$f":"'Daily Calcs'!J5793/1000000","v":0},{"$f":"'Daily Calcs'!K5793/1000000","v":0},0]
[0.1,{"$f":"'Daily Calcs'!J5794/1000000","v":0},{"$f":"'Daily Calcs'!K5794/1000000","v":0},0]
[0.1,{"$f":"'Daily Calcs'!J5795/1000000","v":0},{"$f":"'Daily Calcs'!K5795/1000000","v":0},0]
[0.1,{"$f":"'Daily Calcs'!J5796/1000000","v":0},{"$f":"'Daily Calcs'!K5796/1000000","v":0},0]
[0.1,{"$f":"'Daily Calcs'!J5797/1000000","v":0},{"$f":"'Daily Calcs'!K5797/1000000","v":0},0]
[0.1,{"$f":"'Daily Calcs'!J5798/1000000","v":1.7827515400410678E-6},{"$f":"'Daily Calcs'!K5798/1000000","v":1.7827535003080085E-6},1.7827515400410678E-6]
[0.1,{"$f":"'Daily Calcs'!J5799/1000000","v":1.2330296659658958E-6},{"$f":"'Daily Calcs'!K5799/1000000","v":1.2330309772015889E-6},1.2330296659658958E-6]
[0.1,{"$f":"'Daily Calcs'!J5800/1000000","v":0},{"$f":"'Daily Calcs'!K5800/1000000","v":0},0]
[0.1,{"$f":"'Daily Calcs'!J5801/1000000","v":0},{"$f":"'Daily Calcs'!K5801/1000000","v":0},0]
[0.1,{"$f":"'Daily Calcs'!J5802/1000000","v":0},{"$f":"'Daily Calcs'!K5802/1000000","v":0},0]
[0.1,{"$f":"'Daily Calcs'!J5803/1000000","v":0},{"$f":"'Daily Calcs'!K5803/1000000","v":0},0]
[0.1,{"$f":"'Daily Calcs'!J5804/1000000","v":0},{"$f":"'Daily Calcs'!K5804/1000000","v":0},0]
[0.1,{"$f":"'Daily Calcs'!J5805/1000000","v":0},{"$f":"'Daily Calcs'!K5805/1000000","v":0},0]
[0.1,{"$f":"'Daily Calcs'!J5806/1000000","v":0},{"$f":"'Daily Calcs'!K5806/1000000","v":0},0]
[0.1,{"$f":"'Daily Calcs'!J5807/1000000","v":0},{"$f":"'Daily Calcs'!K5807/1000000","v":0},0]
[0.1,{"$f":"'Daily Calcs'!J5808/1000000","v":0},{"$f":"'Daily Calcs'!K5808/1000000","v":0},0]
[0.1,{"$f":"'Daily Calcs'!J5809/1000000","v":0},{"$f":"'Daily Calcs'!K5809/1000000","v":0},0]
[0.1,{"$f":"'Daily Calcs'!J5810/1000000","v":0},{"$f":"'Daily Calcs'!K5810/1000000","v":0},0]
[0.1,{"$f":"'Daily Calcs'!J5811/1000000","v":6.9588134346653596E-7},{"$f":"'Daily Calcs'!K5811/1000000","v":6.9588151587924206E-7},6.9588134346653596E-7]
[0.1,{"$f":"'Daily Calcs'!J5812/1000000","v":4.7493875733056195E-7},{"$f":"'Daily Calcs'!K5812/1000000","v":4.7493882880706705E-7},4.7493875733056195E-7]
[0.1,{"$f":"'Daily Calcs'!J5813/1000000","v":3.9248289770255846E-7},{"$f":"'Daily Calcs'!K5813/1000000","v":3.9248292247617539E-7},3.9248289770255846E-7]
[0.1,{"$f":"'Daily Calcs'!J5814/1000000","v":0},{"$f":"'Daily Calcs'!K5814/1000000","v":0},0]
[0.1,{"$f":"'Daily Calcs'!J5815/1000000","v":0},{"$f":"'Daily Calcs'!K5815/1000000","v":0},0]
[0.1,{"$f":"'Daily Calcs'!J5816/1000000","v":0},{"$f":"'Daily Calcs'!K5816/1000000","v":0},0]
[0.1,{"$f":"'Daily Calcs'!J5817/1000000","v":0},{"$f":"'Daily Calcs'!K5817/1000000","v":0},0]
[0.1,{"$f":"'Daily Calcs'!J5818/1000000","v":0},{"$f":"'Daily Calcs'!K5818/1000000","v":0},0]
[0.1,{"$f":"'Daily Calcs'!J5819/1000000","v":0},{"$f":"'Daily Calcs'!K5819/1000000","v":0},0]
[0.1,{"$f":"'Daily Calcs'!J5820/1000000","v":2.6749675093279672E-7},{"$f":"'Daily Calcs'!K5820/1000000","v":2.674967627296357E-7},2.6749675093279672E-7]
[0.1,{"$f":"'Daily Calcs'!J5821/1000000","v":2.0279035092390431E-7},{"$f":"'Daily Calcs'!K5821/1000000","v":2.0279035738590978E-7},2.0279035092390431E-7]
[0.1,{"$f":"'Daily Calcs'!J5822/1000000","v":0},{"$f":"'Daily Calcs'!K5822/1000000","v":0},0]
[0.1,{"$f":"'Daily Calcs'!J5823/1000000","v":0},{"$f":"'Daily Calcs'!K5823/1000000","v":0},0]
[0.1,{"$f":"'Daily Calcs'!J5824/1000000","v":0},{"$f":"'Daily Calcs'!K5824/1000000","v":0},0]
[0.1,{"$f":"'Daily Calcs'!J5825/1000000","v":1.7632822839856306E-7},{"$f":"'Daily Calcs'!K5825/1000000","v":1.7632823059340137E-7},1.7632822839856306E-7]
[0.1,{"$f":"'Daily Calcs'!J5826/1000000","v":1.1687499999999999E-7},{"$f":"'Daily Calcs'!K5826/1000000","v":1.1687500182895833E-7},1.1687499999999999E-7]
[0.1,{"$f":"'Daily Calcs'!J5827/1000000","v":0},{"$f":"'Daily Calcs'!K5827/1000000","v":0},{"$f":"B5831","v":0}]
[0.1,{"$f":"'Daily Calcs'!J5828/1000000","v":0},{"$f":"'Daily Calcs'!K5828/1000000","v":0},0]
[0.1,{"$f":"'Daily Calcs'!J5829/1000000","v":8.5671839302880108E-8},{"$f":"'Daily Calcs'!K5829/1000000","v":8.567183988797893E-8},8.5671839302880108E-8]
[0.1,{"$f":"'Daily Calcs'!J5830/1000000","v":0},{"$f":"'Daily Calcs'!K5830/1000000","v":0},0]
[0.1,{"$f":"'Daily Calcs'!J5831/1000000","v":0},{"$f":"'Daily Calcs'!K5831/1000000","v":0},0]
[0.1,{"$f":"'Daily Calcs'!J5832/1000000","v":0},{"$f":"'Daily Calcs'!K5832/1000000","v":0},0]
[0.1,{"$f":"'Daily Calcs'!J5833/1000000","v":0},{"$f":"'Daily Calcs'!K5833/1000000","v":0},0]
[0.1,{"$f":"'Daily Calcs'!J5834/1000000","v":5.9465842447297526E-8},{"$f":"'Daily Calcs'!K5834/1000000","v":5.9465842676913924E-8},5.9465842447297526E-8]
[0.1,{"$f":"'Daily Calcs'!J5835/1000000","v":0},{"$f":"'Daily Calcs'!K5835/1000000","v":0},0]
[0.1,{"$f":"'Daily Calcs'!J5836/1000000","v":0},{"$f":"'Daily Calcs'!K5836/1000000","v":0},0]
[0.1,{"$f":"'Daily Calcs'!J5837/1000000","v":0},{"$f":"'Daily Calcs'!K5837/1000000","v":0},0]
[0.1,{"$f":"'Daily Calcs'!J5838/1000000","v":0},{"$f":"'Daily Calcs'!K5838/1000000","v":0},0]
[0.1,{"$f":"'Daily Calcs'!J5839/1000000","v":3.2325892005342488E-8},{"$f":"'Daily Calcs'!K5839/1000000","v":3.2325892101812632E-8},3.2325892005342488E-8]
[0.1,{"$f":"'Daily Calcs'!J5840/1000000","v":0},{"$f":"'Daily Calcs'!K5840/1000000","v":0},0]
[0.1,{"$f":"'Daily Calcs'!J5841/1000000","v":0},{"$f":"'Daily Calcs'!K5841/1000000","v":0},0]
[0.1,{"$f":"'Daily Calcs'!J5842/1000000","v":0},{"$f":"'Daily Calcs'!K5842/1000000","v":0},0]
[0.1,{"$f":"'Daily Calcs'!J5843/1000000","v":0},{"$f":"'Daily Calcs'!K5843/1000000","v":0},0]
[0.1,{"$f":"'Daily Calcs'!J5844/1000000","v":0},{"$f":"'Daily Calcs'!K5844/1000000","v":0},0]
[0.1,{"$f":"'Daily Calcs'!J5845/1000000","v":2.454749366101034E-8},{"$f":"'Daily Calcs'!K5845/1000000","v":2.4547493684061829E-8},2.454749366101034E-8]
[0.1,{"$f":"'Daily Calcs'!J5846/1000000","v":0},{"$f":"'Daily Calcs'!K5846/1000000","v":0},0]
[0.1,{"$f":"'Daily Calcs'!J5847/1000000","v":0},{"$f":"'Daily Calcs'!K5847/1000000","v":0},0]
[0.1,{"$f":"'Daily Calcs'!J5848/1000000","v":1.6231421446384037E-8},{"$f":"'Daily Calcs'!K5848/1000000","v":1.623142145846683E-8},1.6231421446384037E-8]
[0.1,{"$f":"'Daily Calcs'!J5849/1000000","v":0},{"$f":"'Daily Calcs'!K5849/1000000","v":0},0]
[0.1,{"$f":"'Daily Calcs'!J5850/1000000","v":0},{"$f":"'Daily Calcs'!K5850/1000000","v":0},0]
[0.1,{"$f":"'Daily Calcs'!J5851/1000000","v":9.0588337786037875E-9},{"$f":"'Daily Calcs'!K5851/1000000","v":9.0588337842830193E-9},9.0588337786037875E-9]
[0.1,{"$f":"'Daily Calcs'!J5852/1000000","v":0},{"$f":"'Daily Calcs'!K5852/1000000","v":0},0]
[0.1,{"$f":"'Daily Calcs'!J5853/1000000","v":0},{"$f":"'Daily Calcs'!K5853/1000000","v":0},0]
[0.1,{"$f":"'Daily Calcs'!J5854/1000000","v":4.5224478285391997E-9},{"$f":"'Daily Calcs'!K5854/1000000","v":4.5224478302223915E-9},4.5224478285391997E-9]
[0.1,{"$f":"'Daily Calcs'!J5855/1000000","v":0},{"$f":"'Daily Calcs'!K5855/1000000","v":0},0]
[0.1,{"$f":"'Daily Calcs'!J5856/1000000","v":0},{"$f":"'Daily Calcs'!K5856/1000000","v":0},0]
[0.1,{"$f":"'Daily Calcs'!J5857/1000000","v":0},{"$f":"'Daily Calcs'!K5857/1000000","v":0},0]
[0.1,{"$f":"'Daily Calcs'!J5858/1000000","v":0},{"$f":"'Daily Calcs'!K5858/1000000","v":0},0]
[0.1,{"$f":"'Daily Calcs'!J5859/1000000","v":2.666804528770097E-9},{"$f":"'Daily Calcs'!K5859/1000000","v":2.6668045292000928E-9},2.666804528770097E-9]
[0.1,{"$f":"'Daily Calcs'!J5860/1000000","v":0},{"$f":"'Daily Calcs'!K5860/1000000","v":0},0]
[0.1,{"$f":"'Daily Calcs'!J5861/1000000","v":0},{"$f":"'Daily Calcs'!K5861/1000000","v":0},0]
[0.1,{"$f":"'Daily Calcs'!J5862/1000000","v":0},{"$f":"'Daily Calcs'!K5862/1000000","v":0},0]
[0.1,{"$f":"'Daily Calcs'!J5863/1000000","v":0},{"$f":"'Daily Calcs'!K5863/1000000","v":0},0]
[0.1,{"$f":"'Daily Calcs'!J5864/1000000","v":0},{"$f":"'Daily Calcs'!K5864/1000000","v":0},0]
[0.1,{"$f":"'Daily Calcs'!J5865/1000000","v":0},{"$f":"'Daily Calcs'!K5865/1000000","v":0},0]
[0.1,{"$f":"'Daily Calcs'!J5866/1000000","v":0},{"$f":"'Daily Calcs'!K5866/1000000","v":0},0]
[0.1,{"$f":"'Daily Calcs'!J5867/1000000","v":0},{"$f":"'Daily Calcs'!K5867/1000000","v":0},0]
[0.1,{"$f":"'Daily Calcs'!J5868/1000000","v":0},{"$f":"'Daily Calcs'!K5868/1000000","v":0},0]
[0.1,{"$f":"'Daily Calcs'!J5869/1000000","v":1.7350347059130524E-9},{"$f":"'Daily Calcs'!K5869/1000000","v":1.7350347060400346E-9},1.7350347059130524E-9]
[0.1,{"$f":"'Daily Calcs'!J5870/1000000","v":0},{"$f":"'Daily Calcs'!K5870/1000000","v":0},0]
[0.1,{"$f":"'Daily Calcs'!J5871/1000000","v":0},{"$f":"'Daily Calcs'!K5871/1000000","v":0},0]
[0.1,{"$f":"'Daily Calcs'!J5872/1000000","v":0},{"$f":"'Daily Calcs'!K5872/1000000","v":0},0]
[0.1,{"$f":"'Daily Calcs'!J5873/1000000","v":0},{"$f":"'Daily Calcs'!K5873/1000000","v":0},0]
[0.1,{"$f":"'Daily Calcs'!J5874/1000000","v":0},{"$f":"'Daily Calcs'!K5874/1000000","v":0},0]
[0.1,{"$f":"'Daily Calcs'!J5875/1000000","v":0},{"$f":"'Daily Calcs'!K5875/1000000","v":0},0]
[0.1,{"$f":"'Daily Calcs'!J5876/1000000","v":0},{"$f":"'Daily Calcs'!K5876/1000000","v":0},0]
[0.1,{"$f":"'Daily Calcs'!J5877/1000000","v":0},{"$f":"'Daily Calcs'!K5877/1000000","v":0},0]
[0.1,{"$f":"'Daily Calcs'!J5878/1000000","v":0},{"$f":"'Daily Calcs'!K5878/1000000","v":0},0]
[0.1,{"$f":"'Daily Calcs'!J5879/1000000","v":0},{"$f":"'Daily Calcs'!K5879/1000000","v":0},0]
[0.1,{"$f":"'Daily Calcs'!J5880/1000000","v":0},{"$f":"'Daily Calcs'!K5880/1000000","v":0},0]
[0.1,{"$f":"'Daily Calcs'!J5881/1000000","v":0},{"$f":"'Daily Calcs'!K5881/1000000","v":0},0]
[0.1,{"$f":"'Daily Calcs'!J5882/1000000","v":0},{"$f":"'Daily Calcs'!K5882/1000000","v":0},0]
[0.1,{"$f":"'Daily Calcs'!J5883/1000000","v":0},{"$f":"'Daily Calcs'!K5883/1000000","v":0},0]
[0.1,{"$f":"'Daily Calcs'!J5884/1000000","v":0},{"$f":"'Daily Calcs'!K5884/1000000","v":0},0]
[0.1,{"$f":"'Daily Calcs'!J5885/1000000","v":0},{"$f":"'Daily Calcs'!K5885/1000000","v":0},0]
[0.1,{"$f":"'Daily Calcs'!J5886/1000000","v":0},{"$f":"'Daily Calcs'!K5886/1000000","v":0},0]
[0.1,{"$f":"'Daily Calcs'!J5887/1000000","v":0},{"$f":"'Daily Calcs'!K5887/1000000","v":0},0]
[0.1,{"$f":"'Daily Calcs'!J5888/1000000","v":0},{"$f":"'Daily Calcs'!K5888/1000000","v":0},0]
[0.1,{"$f":"'Daily Calcs'!J5889/1000000","v":0},{"$f":"'Daily Calcs'!K5889/1000000","v":0},0]
[0.1,{"$f":"'Daily Calcs'!J5890/1000000","v":0},{"$f":"'Daily Calcs'!K5890/1000000","v":0},0]
[0.1,{"$f":"'Daily Calcs'!J5891/1000000","v":0},{"$f":"'Daily Calcs'!K5891/1000000","v":0},{"$f":"B5895","v":0}]
[0.1,{"$f":"'Daily Calcs'!J5892/1000000","v":0},{"$f":"'Daily Calcs'!K5892/1000000","v":0},0]
[0.1,{"$f":"'Daily Calcs'!J5893/1000000","v":0},{"$f":"'Daily Calcs'!K5893/1000000","v":0},0]
[0.1,{"$f":"'Daily Calcs'!J5894/1000000","v":0},{"$f":"'Daily Calcs'!K5894/1000000","v":0},0]
[0.1,{"$f":"'Daily Calcs'!J5895/1000000","v":0},{"$f":"'Daily Calcs'!K5895/1000000","v":0},0]
[0.1,{"$f":"'Daily Calcs'!J5896/1000000","v":0},{"$f":"'Daily Calcs'!K5896/1000000","v":0},0]
[0.1,{"$f":"'Daily Calcs'!J5897/1000000","v":0},{"$f":"'Daily Calcs'!K5897/1000000","v":0},0]
[0.1,{"$f":"'Daily Calcs'!J5898/1000000","v":0},{"$f":"'Daily Calcs'!K5898/1000000","v":0},0]
[0.1,{"$f":"'Daily Calcs'!J5899/1000000","v":0},{"$f":"'Daily Calcs'!K5899/1000000","v":0},0]
[0.1,{"$f":"'Daily Calcs'!J5900/1000000","v":4.6147774296170494E-10},{"$f":"'Daily Calcs'!K5900/1000000","v":4.6147774297167934E-10},4.6147774296170494E-10]
[0.1,{"$f":"'Daily Calcs'!J5901/1000000","v":0},{"$f":"'Daily Calcs'!K5901/1000000","v":0},0]
[0.1,{"$f":"'Daily Calcs'!J5902/1000000","v":0},{"$f":"'Daily Calcs'!K5902/1000000","v":0},0]
[0.1,{"$f":"'Daily Calcs'!J5903/1000000","v":2.4789021057707766E-10},{"$f":"'Daily Calcs'!K5903/1000000","v":2.478902105808298E-10},2.4789021057707766E-10]
[0.1,{"$f":"'Daily Calcs'!J5904/1000000","v":0},{"$f":"'Daily Calcs'!K5904/1000000","v":0},0]
[0.1,{"$f":"'Daily Calcs'!J5905/1000000","v":0},{"$f":"'Daily Calcs'!K5905/1000000","v":0},0]
[0.1,{"$f":"'Daily Calcs'!J5906/1000000","v":0},{"$f":"'Daily Calcs'!K5906/1000000","v":0},0]
[0.1,{"$f":"'Daily Calcs'!J5907/1000000","v":0},{"$f":"'Daily Calcs'!K5907/1000000","v":0},0]
[0.1,{"$f":"'Daily Calcs'!J5908/1000000","v":1.4322969448835918E-10},{"$f":"'Daily Calcs'!K5908/1000000","v":1.4322969448940035E-10},1.4322969448835918E-10]
[0.1,{"$f":"'Daily Calcs'!J5909/1000000","v":1.1749248138835481E-10},{"$f":"'Daily Calcs'!K5909/1000000","v":1.1749248138890259E-10},1.1749248138835481E-10]
[0.1,{"$f":"'Daily Calcs'!J5910/1000000","v":5.8496640537513999E-11},{"$f":"'Daily Calcs'!K5910/1000000","v":5.8496640537938394E-11},5.8496640537513999E-11]
[0.1,{"$f":"'Daily Calcs'!J5911/1000000","v":0},{"$f":"'Daily Calcs'!K5911/1000000","v":0},0]
[0.1,{"$f":"'Daily Calcs'!J5912/1000000","v":0},{"$f":"'Daily Calcs'!K5912/1000000","v":0},0]
[0.1,{"$f":"'Daily Calcs'!J5913/1000000","v":0},{"$f":"'Daily Calcs'!K5913/1000000","v":0},0]
[0.1,{"$f":"'Daily Calcs'!J5914/1000000","v":0},{"$f":"'Daily Calcs'!K5914/1000000","v":0},0]
[0.1,{"$f":"'Daily Calcs'!J5915/1000000","v":0},{"$f":"'Daily Calcs'!K5915/1000000","v":0},0]
[0.1,{"$f":"'Daily Calcs'!J5916/1000000","v":2.6314501126015865E-11},{"$f":"'Daily Calcs'!K5916/1000000","v":2.6314501126097126E-11},2.6314501126015865E-11]
[0.1,{"$f":"'Daily Calcs'!J5917/1000000","v":0},{"$f":"'Daily Calcs'!K5917/1000000","v":0},0]
[0.1,{"$f":"'Daily Calcs'!J5918/1000000","v":0},{"$f":"'Daily Calcs'!K5918/1000000","v":0},0]
[0.1,{"$f":"'Daily Calcs'!J5919/1000000","v":0},{"$f":"'Daily Calcs'!K5919/1000000","v":0},0]
[0.1,{"$f":"'Daily Calcs'!J5920/1000000","v":0},{"$f":"'Daily Calcs'!K5920/1000000","v":0},0]
[0.1,{"$f":"'Daily Calcs'!J5921/1000000","v":0},{"$f":"'Daily Calcs'!K5921/1000000","v":0},0]
[0.1,{"$f":"'Daily Calcs'!J5922/1000000","v":0},{"$f":"'Daily Calcs'!K5922/1000000","v":0},0]
[0.1,{"$f":"'Daily Calcs'!J5923/1000000","v":0},{"$f":"'Daily Calcs'!K5923/1000000","v":0},0]
[0.1,{"$f":"'Daily Calcs'!J5924/1000000","v":1.4674036152765822E-11},{"$f":"'Daily Calcs'!K5924/1000000","v":1.467403615278116E-11},1.4674036152765822E-11]
[0.1,{"$f":"'Daily Calcs'!J5925/1000000","v":6.3873583532591742E-12},{"$f":"'Daily Calcs'!K5925/1000000","v":6.3873583532688524E-12},6.3873583532591742E-12]
[0.1,{"$f":"'Daily Calcs'!J5926/1000000","v":0},{"$f":"'Daily Calcs'!K5926/1000000","v":0},0]
[0.1,{"$f":"'Daily Calcs'!J5927/1000000","v":0},{"$f":"'Daily Calcs'!K5927/1000000","v":0},0]
[0.1,{"$f":"'Daily Calcs'!J5928/1000000","v":0},{"$f":"'Daily Calcs'!K5928/1000000","v":0},0]
[0.1,{"$f":"'Daily Calcs'!J5929/1000000","v":0},{"$f":"'Daily Calcs'!K5929/1000000","v":0},0]
[0.1,{"$f":"'Daily Calcs'!J5930/1000000","v":0},{"$f":"'Daily Calcs'!K5930/1000000","v":0},0]
[0.1,{"$f":"'Daily Calcs'!J5931/1000000","v":0},{"$f":"'Daily Calcs'!K5931/1000000","v":0},0]
[0.1,{"$f":"'Daily Calcs'!J5932/1000000","v":0},{"$f":"'Daily Calcs'!K5932/1000000","v":0},0]
[0.1,{"$f":"'Daily Calcs'!J5933/1000000","v":2.1749144011003483E-12},{"$f":"'Daily Calcs'!K5933/1000000","v":2.1749144011015418E-12},2.1749144011003483E-12]
[0.1,{"$f":"'Daily Calcs'!J5934/1000000","v":1.079092702169625E-12},{"$f":"'Daily Calcs'!K5934/1000000","v":1.0790927021701351E-12},1.079092702169625E-12]
[0.1,{"$f":"'Daily Calcs'!J5935/1000000","v":0},{"$f":"'Daily Calcs'!K5935/1000000","v":0},0]
[0.1,{"$f":"'Daily Calcs'!J5936/1000000","v":0},{"$f":"'Daily Calcs'!K5936/1000000","v":0},0]
[0.1,{"$f":"'Daily Calcs'!J5937/1000000","v":0},{"$f":"'Daily Calcs'!K5937/1000000","v":0},0]
[0.1,{"$f":"'Daily Calcs'!J5938/1000000","v":7.1755015278331341E-13},{"$f":"'Daily Calcs'!K5938/1000000","v":7.1755015278345407E-13},7.1755015278331341E-13]
[0.1,{"$f":"'Daily Calcs'!J5939/1000000","v":3.5630177514792899E-13},{"$f":"'Daily Calcs'!K5939/1000000","v":3.5630177514801976E-13},3.5630177514792899E-13]
[0.1,{"$f":"'Daily Calcs'!J5940/1000000","v":2.9089878223142532E-13},{"$f":"'Daily Calcs'!K5940/1000000","v":2.9089878223145223E-13},2.9089878223142532E-13]
[0.1,{"$f":"'Daily Calcs'!J5941/1000000","v":0},{"$f":"'Daily Calcs'!K5941/1000000","v":0},0]
[0.1,{"$f":"'Daily Calcs'!J5942/1000000","v":0},{"$f":"'Daily Calcs'!K5942/1000000","v":0},0]
[0.1,{"$f":"'Daily Calcs'!J5943/1000000","v":0},{"$f":"'Daily Calcs'!K5943/1000000","v":0},0]
[0.1,{"$f":"'Daily Calcs'!J5944/1000000","v":0},{"$f":"'Daily Calcs'!K5944/1000000","v":0},0]
[0.1,{"$f":"'Daily Calcs'!J5945/1000000","v":0},{"$f":"'Daily Calcs'!K5945/1000000","v":0},0]
[0.1,{"$f":"'Daily Calcs'!J5946/1000000","v":0},{"$f":"'Daily Calcs'!K5946/1000000","v":0},0]
[0.1,{"$f":"'Daily Calcs'!J5947/1000000","v":0},{"$f":"'Daily Calcs'!K5947/1000000","v":0},0]
[0.1,{"$f":"'Daily Calcs'!J5948/1000000","v":0},{"$f":"'Daily Calcs'!K5948/1000000","v":0},0]
[0.1,{"$f":"'Daily Calcs'!J5949/1000000","v":0},{"$f":"'Daily Calcs'!K5949/1000000","v":0},0]
[0.1,{"$f":"'Daily Calcs'!J5950/1000000","v":0},{"$f":"'Daily Calcs'!K5950/1000000","v":0},0]
[0.1,{"$f":"'Daily Calcs'!J5951/1000000","v":0},{"$f":"'Daily Calcs'!K5951/1000000","v":0},0]
[0.1,{"$f":"'Daily Calcs'!J5952/1000000","v":0},{"$f":"'Daily Calcs'!K5952/1000000","v":0},0]
[0.1,{"$f":"'Daily Calcs'!J5953/1000000","v":0},{"$f":"'Daily Calcs'!K5953/1000000","v":0},0]
[0.1,{"$f":"'Daily Calcs'!J5954/1000000","v":0},{"$f":"'Daily Calcs'!K5954/1000000","v":0},0]
[0.1,{"$f":"'Daily Calcs'!J5955/1000000","v":0},{"$f":"'Daily Calcs'!K5955/1000000","v":0},{"$f":"B5959","v":0}]
[0.1,{"$f":"'Daily Calcs'!J5956/1000000","v":0},{"$f":"'Daily Calcs'!K5956/1000000","v":0},0]
[0.1,{"$f":"'Daily Calcs'!J5957/1000000","v":0},{"$f":"'Daily Calcs'!K5957/1000000","v":0},0]
[0.1,{"$f":"'Daily Calcs'!J5958/1000000","v":0},{"$f":"'Daily Calcs'!K5958/1000000","v":0},0]
[0.1,{"$f":"'Daily Calcs'!J5959/1000000","v":0},{"$f":"'Daily Calcs'!K5959/1000000","v":0},0]
[0.1,{"$f":"'Daily Calcs'!J5960/1000000","v":0},{"$f":"'Daily Calcs'!K5960/1000000","v":0},0]
[0.1,{"$f":"'Daily Calcs'!J5961/1000000","v":0},{"$f":"'Daily Calcs'!K5961/1000000","v":0},0]
[0.1,{"$f":"'Daily Calcs'!J5962/1000000","v":0},{"$f":"'Daily Calcs'!K5962/1000000","v":0},0]
[0.1,{"$f":"'Daily Calcs'!J5963/1000000","v":0},{"$f":"'Daily Calcs'!K5963/1000000","v":0},0]
[0.1,{"$f":"'Daily Calcs'!J5964/1000000","v":0},{"$f":"'Daily Calcs'!K5964/1000000","v":0},0]
[0.1,{"$f":"'Daily Calcs'!J5965/1000000","v":0},{"$f":"'Daily Calcs'!K5965/1000000","v":0},0]
[0.1,{"$f":"'Daily Calcs'!J5966/1000000","v":0},{"$f":"'Daily Calcs'!K5966/1000000","v":0},0]
[0.1,{"$f":"'Daily Calcs'!J5967/1000000","v":0},{"$f":"'Daily Calcs'!K5967/1000000","v":0},0]
[0.1,{"$f":"'Daily Calcs'!J5968/1000000","v":0},{"$f":"'Daily Calcs'!K5968/1000000","v":0},0]
[0.1,{"$f":"'Daily Calcs'!J5969/1000000","v":0},{"$f":"'Daily Calcs'!K5969/1000000","v":0},0]
[0.1,{"$f":"'Daily Calcs'!J5970/1000000","v":0},{"$f":"'Daily Calcs'!K5970/1000000","v":0},0]
[0.1,{"$f":"'Daily Calcs'!J5971/1000000","v":0},{"$f":"'Daily Calcs'!K5971/1000000","v":0},0]
[0.1,{"$f":"'Daily Calcs'!J5972/1000000","v":8.1344228457127053E-14},{"$f":"'Daily Calcs'!K5972/1000000","v":8.1344228457130007E-14},8.1344228457127053E-14]
[0.1,{"$f":"'Daily Calcs'!J5973/1000000","v":0},{"$f":"'Daily Calcs'!K5973/1000000","v":0},0]
[0.1,{"$f":"'Daily Calcs'!J5974/1000000","v":0},{"$f":"'Daily Calcs'!K5974/1000000","v":0},0]
[0.1,{"$f":"'Daily Calcs'!J5975/1000000","v":0},{"$f":"'Daily Calcs'!K5975/1000000","v":0},0]
[0.1,{"$f":"'Daily Calcs'!J5976/1000000","v":0},{"$f":"'Daily Calcs'!K5976/1000000","v":0},0]
[0.1,{"$f":"'Daily Calcs'!J5977/1000000","v":0},{"$f":"'Daily Calcs'!K5977/1000000","v":0},0]
[0.1,{"$f":"'Daily Calcs'!J5978/1000000","v":0},{"$f":"'Daily Calcs'!K5978/1000000","v":0},0]
[0.1,{"$f":"'Daily Calcs'!J5979/1000000","v":0},{"$f":"'Daily Calcs'!K5979/1000000","v":0},0]
[0.1,{"$f":"'Daily Calcs'!J5980/1000000","v":0},{"$f":"'Daily Calcs'!K5980/1000000","v":0},0]
[0.1,{"$f":"'Daily Calcs'!J5981/1000000","v":0},{"$f":"'Daily Calcs'!K5981/1000000","v":0},0]
[0.1,{"$f":"'Daily Calcs'!J5982/1000000","v":0},{"$f":"'Daily Calcs'!K5982/1000000","v":0},0]
[0.1,{"$f":"'Daily Calcs'!J5983/1000000","v":0},{"$f":"'Daily Calcs'!K5983/1000000","v":0},0]
[0.1,{"$f":"'Daily Calcs'!J5984/1000000","v":0},{"$f":"'Daily Calcs'!K5984/1000000","v":0},0]
[0.1,{"$f":"'Daily Calcs'!J5985/1000000","v":0},{"$f":"'Daily Calcs'!K5985/1000000","v":0},0]
[0.1,{"$f":"'Daily Calcs'!J5986/1000000","v":0},{"$f":"'Daily Calcs'!K5986/1000000","v":0},0]
[0.1,{"$f":"'Daily Calcs'!J5987/1000000","v":0},{"$f":"'Daily Calcs'!K5987/1000000","v":0},0]
[0.1,{"$f":"'Daily Calcs'!J5988/1000000","v":0},{"$f":"'Daily Calcs'!K5988/1000000","v":0},0]
[0.1,{"$f":"'Daily Calcs'!J5989/1000000","v":4.0388406850497431E-14},{"$f":"'Daily Calcs'!K5989/1000000","v":4.0388406850498011E-14},4.0388406850497431E-14]
[0.1,{"$f":"'Daily Calcs'!J5990/1000000","v":0},{"$f":"'Daily Calcs'!K5990/1000000","v":0},0]
[0.1,{"$f":"'Daily Calcs'!J5991/1000000","v":2.8715728715728718E-14},{"$f":"'Daily Calcs'!K5991/1000000","v":2.8715728715729058E-14},2.8715728715728718E-14]
[0.1,{"$f":"'Daily Calcs'!J5992/1000000","v":0},{"$f":"'Daily Calcs'!K5992/1000000","v":0},0]
[0.1,{"$f":"'Daily Calcs'!J5993/1000000","v":1.5721076477433091E-14},{"$f":"'Daily Calcs'!K5993/1000000","v":1.5721076477433324E-14},1.5721076477433091E-14]
[0.1,{"$f":"'Daily Calcs'!J5994/1000000","v":0},{"$f":"'Daily Calcs'!K5994/1000000","v":0},0]
[0.1,{"$f":"'Daily Calcs'!J5995/1000000","v":0},{"$f":"'Daily Calcs'!K5995/1000000","v":0},0]
[0.1,{"$f":"'Daily Calcs'!J5996/1000000","v":0},{"$f":"'Daily Calcs'!K5996/1000000","v":0},0]
[0.1,{"$f":"'Daily Calcs'!J5997/1000000","v":0},{"$f":"'Daily Calcs'!K5997/1000000","v":0},0]
[0.1,{"$f":"'Daily Calcs'!J5998/1000000","v":0},{"$f":"'Daily Calcs'!K5998/1000000","v":0},0]
[0.1,{"$f":"'Daily Calcs'!J5999/1000000","v":0},{"$f":"'Daily Calcs'!K5999/1000000","v":0},0]
[0.1,{"$f":"'Daily Calcs'!J6000/1000000","v":0},{"$f":"'Daily Calcs'!K6000/1000000","v":0},0]
[0.1,{"$f":"'Daily Calcs'!J6001/1000000","v":0},{"$f":"'Daily Calcs'!K6001/1000000","v":0},0]
[0.1,{"$f":"'Daily Calcs'!J6002/1000000","v":0},{"$f":"'Daily Calcs'!K6002/1000000","v":0},0]
[0.1,{"$f":"'Daily Calcs'!J6003/1000000","v":0},{"$f":"'Daily Calcs'!K6003/1000000","v":0},0]
[0.1,{"$f":"'Daily Calcs'!J6004/1000000","v":0},{"$f":"'Daily Calcs'!K6004/1000000","v":0},0]
[0.1,{"$f":"'Daily Calcs'!J6005/1000000","v":0},{"$f":"'Daily Calcs'!K6005/1000000","v":0},0]
[0.1,{"$f":"'Daily Calcs'!J6006/1000000","v":0},{"$f":"'Daily Calcs'!K6006/1000000","v":0},0]
[0.1,{"$f":"'Daily Calcs'!J6007/1000000","v":0},{"$f":"'Daily Calcs'!K6007/1000000","v":0},0]
[0.1,{"$f":"'Daily Calcs'!J6008/1000000","v":5.0824949698189132E-15},{"$f":"'Daily Calcs'!K6008/1000000","v":5.0824949698189242E-15},5.0824949698189132E-15]
[0.1,{"$f":"'Daily Calcs'!J6009/1000000","v":0},{"$f":"'Daily Calcs'!K6009/1000000","v":0},0]
[0.1,{"$f":"'Daily Calcs'!J6010/1000000","v":0},{"$f":"'Daily Calcs'!K6010/1000000","v":0},0]
[0.1,{"$f":"'Daily Calcs'!J6011/1000000","v":0},{"$f":"'Daily Calcs'!K6011/1000000","v":0},0]
[0.1,{"$f":"'Daily Calcs'!J6012/1000000","v":0},{"$f":"'Daily Calcs'!K6012/1000000","v":0},0]
[0.1,{"$f":"'Daily Calcs'!J6013/1000000","v":0},{"$f":"'Daily Calcs'!K6013/1000000","v":0},0]
[0.1,{"$f":"'Daily Calcs'!J6014/1000000","v":0},{"$f":"'Daily Calcs'!K6014/1000000","v":0},0]
[0.1,{"$f":"'Daily Calcs'!J6015/1000000","v":0},{"$f":"'Daily Calcs'!K6015/1000000","v":0},0]
[0.1,{"$f":"'Daily Calcs'!J6016/1000000","v":0},{"$f":"'Daily Calcs'!K6016/1000000","v":0},0]
[0.1,{"$f":"'Daily Calcs'!J6017/1000000","v":0},{"$f":"'Daily Calcs'!K6017/1000000","v":0},0]
[0.1,{"$f":"'Daily Calcs'!J6018/1000000","v":1.2830962141306968E-15},{"$f":"'Daily Calcs'!K6018/1000000","v":1.2830962141306975E-15},1.2830962141306968E-15]
[0.1,{"$f":"'Daily Calcs'!J6019/1000000","v":0},{"$f":"'Daily Calcs'!K6019/1000000","v":0},{"$f":"B6023","v":0}]
[0.1,{"$f":"'Daily Calcs'!J6020/1000000","v":0},{"$f":"'Daily Calcs'!K6020/1000000","v":0},0]
[0.1,{"$f":"'Daily Calcs'!J6021/1000000","v":0},{"$f":"'Daily Calcs'!K6021/1000000","v":0},0]
[0.1,{"$f":"'Daily Calcs'!J6022/1000000","v":0},{"$f":"'Daily Calcs'!K6022/1000000","v":0},0]
[0.1,{"$f":"'Daily Calcs'!J6023/1000000","v":0},{"$f":"'Daily Calcs'!K6023/1000000","v":0},0]
[0.1,{"$f":"'Daily Calcs'!J6024/1000000","v":0},{"$f":"'Daily Calcs'!K6024/1000000","v":0},0]
[0.1,{"$f":"'Daily Calcs'!J6025/1000000","v":0},{"$f":"'Daily Calcs'!K6025/1000000","v":0},0]
[0.1,{"$f":"'Daily Calcs'!J6026/1000000","v":0},{"$f":"'Daily Calcs'!K6026/1000000","v":0},0]
[0.1,{"$f":"'Daily Calcs'!J6027/1000000","v":4.5649501876051239E-16},{"$f":"'Daily Calcs'!K6027/1000000","v":4.5649501876051249E-16},4.5649501876051239E-16]
[0.1,{"$f":"'Daily Calcs'!J6028/1000000","v":0},{"$f":"'Daily Calcs'!K6028/1000000","v":0},0]
[0.1,{"$f":"'Daily Calcs'!J6029/1000000","v":0},{"$f":"'Daily Calcs'!K6029/1000000","v":0},0]
[0.1,{"$f":"'Daily Calcs'!J6030/1000000","v":0},{"$f":"'Daily Calcs'!K6030/1000000","v":0},0]
[0.1,{"$f":"'Daily Calcs'!J6031/1000000","v":0},{"$f":"'Daily Calcs'!K6031/1000000","v":0},0]
[0.1,{"$f":"'Daily Calcs'!J6032/1000000","v":0},{"$f":"'Daily Calcs'!K6032/1000000","v":0},0]
[0.1,{"$f":"'Daily Calcs'!J6033/1000000","v":0},{"$f":"'Daily Calcs'!K6033/1000000","v":0},0]
[0.1,{"$f":"'Daily Calcs'!J6034/1000000","v":0},{"$f":"'Daily Calcs'!K6034/1000000","v":0},0]
[0.1,{"$f":"'Daily Calcs'!J6035/1000000","v":0},{"$f":"'Daily Calcs'!K6035/1000000","v":0},0]
[0.1,{"$f":"'Daily Calcs'!J6036/1000000","v":0},{"$f":"'Daily Calcs'!K6036/1000000","v":0},0]
[0.1,{"$f":"'Daily Calcs'!J6037/1000000","v":0},{"$f":"'Daily Calcs'!K6037/1000000","v":0},0]
[0.1,{"$f":"'Daily Calcs'!J6038/1000000","v":0},{"$f":"'Daily Calcs'!K6038/1000000","v":0},0]
[0.1,{"$f":"'Daily Calcs'!J6039/1000000","v":0},{"$f":"'Daily Calcs'!K6039/1000000","v":0},0]
[0.1,{"$f":"'Daily Calcs'!J6040/1000000","v":0},{"$f":"'Daily Calcs'!K6040/1000000","v":0},0]
[0.1,{"$f":"'Daily Calcs'!J6041/1000000","v":0},{"$f":"'Daily Calcs'!K6041/1000000","v":0},0]
[0.1,{"$f":"'Daily Calcs'!J6042/1000000","v":0},{"$f":"'Daily Calcs'!K6042/1000000","v":0},0]
[0.1,{"$f":"'Daily Calcs'!J6043/1000000","v":0},{"$f":"'Daily Calcs'!K6043/1000000","v":0},0]
[0.1,{"$f":"'Daily Calcs'!J6044/1000000","v":0},{"$f":"'Daily Calcs'!K6044/1000000","v":0},0]
[0.1,{"$f":"'Daily Calcs'!J6045/1000000","v":0},{"$f":"'Daily Calcs'!K6045/1000000","v":0},0]
[0.1,{"$f":"'Daily Calcs'!J6046/1000000","v":0},{"$f":"'Daily Calcs'!K6046/1000000","v":0},0]
[0.1,{"$f":"'Daily Calcs'!J6047/1000000","v":0},{"$f":"'Daily Calcs'!K6047/1000000","v":0},0]
[0.1,{"$f":"'Daily Calcs'!J6048/1000000","v":0},{"$f":"'Daily Calcs'!K6048/1000000","v":0},0]
[0.1,{"$f":"'Daily Calcs'!J6049/1000000","v":0},{"$f":"'Daily Calcs'!K6049/1000000","v":0},0]
[0.1,{"$f":"'Daily Calcs'!J6050/1000000","v":0},{"$f":"'Daily Calcs'!K6050/1000000","v":0},0]
[0.1,{"$f":"'Daily Calcs'!J6051/1000000","v":0},{"$f":"'Daily Calcs'!K6051/1000000","v":0},0]
[0.1,{"$f":"'Daily Calcs'!J6052/1000000","v":0},{"$f":"'Daily Calcs'!K6052/1000000","v":0},0]
[0.1,{"$f":"'Daily Calcs'!J6053/1000000","v":2.5219990501997371E-5},{"$f":"'Daily Calcs'!K6053/1000000","v":2.5370338296505293E-5},2.5219990501997371E-5]
[0.1,{"$f":"'Daily Calcs'!J6054/1000000","v":2.3029676258992804E-5},{"$f":"'Daily Calcs'!K6054/1000000","v":2.3092693345323739E-5},2.3029676258992804E-5]
[0.1,{"$f":"'Daily Calcs'!J6055/1000000","v":1.669588908070781E-5},{"$f":"'Daily Calcs'!K6055/1000000","v":1.6733318946914114E-5},1.669588908070781E-5]
[0.1,{"$f":"'Daily Calcs'!J6056/1000000","v":0},{"$f":"'Daily Calcs'!K6056/1000000","v":0},0]
[0.1,{"$f":"'Daily Calcs'!J6057/1000000","v":0},{"$f":"'Daily Calcs'!K6057/1000000","v":0},0]
[0.1,{"$f":"'Daily Calcs'!J6058/1000000","v":0},{"$f":"'Daily Calcs'!K6058/1000000","v":0},0]
[0.1,{"$f":"'Daily Calcs'!J6059/1000000","v":1.4958097224490821E-5},{"$f":"'Daily Calcs'!K6059/1000000","v":1.4968749701591927E-5},1.4958097224490821E-5]
[0.1,{"$f":"'Daily Calcs'!J6060/1000000","v":1.1806641056210535E-5},{"$f":"'Daily Calcs'!K6060/1000000","v":1.1814412725747339E-5},1.1806641056210535E-5]
[0.1,{"$f":"'Daily Calcs'!J6061/1000000","v":0},{"$f":"'Daily Calcs'!K6061/1000000","v":0},0]
[0.1,{"$f":"'Daily Calcs'!J6062/1000000","v":0},{"$f":"'Daily Calcs'!K6062/1000000","v":0},0]
[0.1,{"$f":"'Daily Calcs'!J6063/1000000","v":0},{"$f":"'Daily Calcs'!K6063/1000000","v":0},0]
[0.1,{"$f":"'Daily Calcs'!J6064/1000000","v":0},{"$f":"'Daily Calcs'!K6064/1000000","v":0},0]
[0.1,{"$f":"'Daily Calcs'!J6065/1000000","v":0},{"$f":"'Daily Calcs'!K6065/1000000","v":0},0]
[0.1,{"$f":"'Daily Calcs'!J6066/1000000","v":0},{"$f":"'Daily Calcs'!K6066/1000000","v":0},0]
[0.1,{"$f":"'Daily Calcs'!J6067/1000000","v":0},{"$f":"'Daily Calcs'!K6067/1000000","v":0},0]
[0.1,{"$f":"'Daily Calcs'!J6068/1000000","v":0},{"$f":"'Daily Calcs'!K6068/1000000","v":0},0]
[0.1,{"$f":"'Daily Calcs'!J6069/1000000","v":0},{"$f":"'Daily Calcs'!K6069/1000000","v":0},0]
[0.1,{"$f":"'Daily Calcs'!J6070/1000000","v":0},{"$f":"'Daily Calcs'!K6070/1000000","v":0},0]
[0.1,{"$f":"'Daily Calcs'!J6071/1000000","v":0},{"$f":"'Daily Calcs'!K6071/1000000","v":0},0]
[0.1,{"$f":"'Daily Calcs'!J6072/1000000","v":0},{"$f":"'Daily Calcs'!K6072/1000000","v":0},0]
[0.1,{"$f":"'Daily Calcs'!J6073/1000000","v":0},{"$f":"'Daily Calcs'!K6073/1000000","v":0},0]
[0.1,{"$f":"'Daily Calcs'!J6074/1000000","v":8.6190937940761639E-6},{"$f":"'Daily Calcs'!K6074/1000000","v":8.6200464122002808E-6},8.6190937940761639E-6]
[0.1,{"$f":"'Daily Calcs'!J6075/1000000","v":0},{"$f":"'Daily Calcs'!K6075/1000000","v":0},0]
[0.1,{"$f":"'Daily Calcs'!J6076/1000000","v":0},{"$f":"'Daily Calcs'!K6076/1000000","v":0},0]
[0.1,{"$f":"'Daily Calcs'!J6077/1000000","v":0},{"$f":"'Daily Calcs'!K6077/1000000","v":0},0]
[0.1,{"$f":"'Daily Calcs'!J6078/1000000","v":0},{"$f":"'Daily Calcs'!K6078/1000000","v":0},0]
[0.1,{"$f":"'Daily Calcs'!J6079/1000000","v":0},{"$f":"'Daily Calcs'!K6079/1000000","v":0},0]
[0.1,{"$f":"'Daily Calcs'!J6080/1000000","v":0},{"$f":"'Daily Calcs'!K6080/1000000","v":0},0]
[0.1,{"$f":"'Daily Calcs'!J6081/1000000","v":0},{"$f":"'Daily Calcs'!K6081/1000000","v":0},0]
[0.1,{"$f":"'Daily Calcs'!J6082/1000000","v":0},{"$f":"'Daily Calcs'!K6082/1000000","v":0},0]
[0.1,{"$f":"'Daily Calcs'!J6083/1000000","v":4.3883796208144056E-6},{"$f":"'Daily Calcs'!K6083/1000000","v":4.3885547234991709E-6},{"$f":"B6087","v":4.3883796208144056E-6}]
[0.1,{"$f":"'Daily Calcs'!J6084/1000000","v":0},{"$f":"'Daily Calcs'!K6084/1000000","v":0},0]
[0.1,{"$f":"'Daily Calcs'!J6085/1000000","v":0},{"$f":"'Daily Calcs'!K6085/1000000","v":0},0]
[0.1,{"$f":"'Daily Calcs'!J6086/1000000","v":0},{"$f":"'Daily Calcs'!K6086/1000000","v":0},0]
[0.1,{"$f":"'Daily Calcs'!J6087/1000000","v":0},{"$f":"'Daily Calcs'!K6087/1000000","v":0},0]
[0.1,{"$f":"'Daily Calcs'!J6088/1000000","v":0},{"$f":"'Daily Calcs'!K6088/1000000","v":0},0]
[0.1,{"$f":"'Daily Calcs'!J6089/1000000","v":0},{"$f":"'Daily Calcs'!K6089/1000000","v":0},0]
[0.1,{"$f":"'Daily Calcs'!J6090/1000000","v":0},{"$f":"'Daily Calcs'!K6090/1000000","v":0},0]
[0.1,{"$f":"'Daily Calcs'!J6091/1000000","v":0},{"$f":"'Daily Calcs'!K6091/1000000","v":0},0]
[0.1,{"$f":"'Daily Calcs'!J6092/1000000","v":0},{"$f":"'Daily Calcs'!K6092/1000000","v":0},0]
[0.1,{"$f":"'Daily Calcs'!J6093/1000000","v":0},{"$f":"'Daily Calcs'!K6093/1000000","v":0},0]
[0.1,{"$f":"'Daily Calcs'!J6094/1000000","v":0},{"$f":"'Daily Calcs'!K6094/1000000","v":0},0]
[0.1,{"$f":"'Daily Calcs'!J6095/1000000","v":2.522173571348378E-6},{"$f":"'Daily Calcs'!K6095/1000000","v":2.5222012630515328E-6},2.522173571348378E-6]
[0.1,{"$f":"'Daily Calcs'!J6096/1000000","v":0},{"$f":"'Daily Calcs'!K6096/1000000","v":0},0]
[0.1,{"$f":"'Daily Calcs'!J6097/1000000","v":0},{"$f":"'Daily Calcs'!K6097/1000000","v":0},0]
[0.1,{"$f":"'Daily Calcs'!J6098/1000000","v":0},{"$f":"'Daily Calcs'!K6098/1000000","v":0},0]
[0.1,{"$f":"'Daily Calcs'!J6099/1000000","v":0},{"$f":"'Daily Calcs'!K6099/1000000","v":0},0]
[0.1,{"$f":"'Daily Calcs'!J6100/1000000","v":0},{"$f":"'Daily Calcs'!K6100/1000000","v":0},0]
[0.1,{"$f":"'Daily Calcs'!J6101/1000000","v":0},{"$f":"'Daily Calcs'!K6101/1000000","v":0},0]
[0.1,{"$f":"'Daily Calcs'!J6102/1000000","v":0},{"$f":"'Daily Calcs'!K6102/1000000","v":0},0]
[0.1,{"$f":"'Daily Calcs'!J6103/1000000","v":1.6135768027728462E-6},{"$f":"'Daily Calcs'!K6103/1000000","v":1.6135819742440892E-6},1.6135768027728462E-6]
[0.1,{"$f":"'Daily Calcs'!J6104/1000000","v":1.3599529473271468E-6},{"$f":"'Daily Calcs'!K6104/1000000","v":1.3599559671938307E-6},1.3599529473271468E-6]
[0.1,{"$f":"'Daily Calcs'!J6105/1000000","v":9.3937664618086043E-7},{"$f":"'Daily Calcs'!K6105/1000000","v":9.3937806870061464E-7},9.3937664618086043E-7]
[0.1,{"$f":"'Daily Calcs'!J6106/1000000","v":0},{"$f":"'Daily Calcs'!K6106/1000000","v":0},0]
[0.1,{"$f":"'Daily Calcs'!J6107/1000000","v":6.7551271895079661E-7},{"$f":"'Daily Calcs'!K6107/1000000","v":6.7551316120940065E-7},6.7551271895079661E-7]
[0.1,{"$f":"'Daily Calcs'!J6108/1000000","v":0},{"$f":"'Daily Calcs'!K6108/1000000","v":0},0]
[0.1,{"$f":"'Daily Calcs'!J6109/1000000","v":0},{"$f":"'Daily Calcs'!K6109/1000000","v":0},0]
[0.1,{"$f":"'Daily Calcs'!J6110/1000000","v":0},{"$f":"'Daily Calcs'!K6110/1000000","v":0},0]
[0.1,{"$f":"'Daily Calcs'!J6111/1000000","v":0},{"$f":"'Daily Calcs'!K6111/1000000","v":0},0]
[0.1,{"$f":"'Daily Calcs'!J6112/1000000","v":0},{"$f":"'Daily Calcs'!K6112/1000000","v":0},0]
[0.1,{"$f":"'Daily Calcs'!J6113/1000000","v":0},{"$f":"'Daily Calcs'!K6113/1000000","v":0},0]
[0.1,{"$f":"'Daily Calcs'!J6114/1000000","v":0},{"$f":"'Daily Calcs'!K6114/1000000","v":0},0]
[0.1,{"$f":"'Daily Calcs'!J6115/1000000","v":4.6151895524280463E-7},{"$f":"'Daily Calcs'!K6115/1000000","v":4.6151902090306837E-7},4.6151895524280463E-7]
[0.1,{"$f":"'Daily Calcs'!J6116/1000000","v":0},{"$f":"'Daily Calcs'!K6116/1000000","v":0},0]
[0.1,{"$f":"'Daily Calcs'!J6117/1000000","v":0},{"$f":"'Daily Calcs'!K6117/1000000","v":0},0]
[0.1,{"$f":"'Daily Calcs'!J6118/1000000","v":0},{"$f":"'Daily Calcs'!K6118/1000000","v":0},0]
[0.1,{"$f":"'Daily Calcs'!J6119/1000000","v":0},{"$f":"'Daily Calcs'!K6119/1000000","v":0},0]
[0.1,{"$f":"'Daily Calcs'!J6120/1000000","v":0},{"$f":"'Daily Calcs'!K6120/1000000","v":0},0]
[0.1,{"$f":"'Daily Calcs'!J6121/1000000","v":0},{"$f":"'Daily Calcs'!K6121/1000000","v":0},0]
[0.1,{"$f":"'Daily Calcs'!J6122/1000000","v":0},{"$f":"'Daily Calcs'!K6122/1000000","v":0},0]
[0.1,{"$f":"'Daily Calcs'!J6123/1000000","v":0},{"$f":"'Daily Calcs'!K6123/1000000","v":0},0]
[0.1,{"$f":"'Daily Calcs'!J6124/1000000","v":0},{"$f":"'Daily Calcs'!K6124/1000000","v":0},0]
[0.1,{"$f":"'Daily Calcs'!J6125/1000000","v":0},{"$f":"'Daily Calcs'!K6125/1000000","v":0},0]
[0.1,{"$f":"'Daily Calcs'!J6126/1000000","v":2.6380247793921025E-7},{"$f":"'Daily Calcs'!K6126/1000000","v":2.6380248936268823E-7},2.6380247793921025E-7]
[0.1,{"$f":"'Daily Calcs'!J6127/1000000","v":1.688160911040449E-7},{"$f":"'Daily Calcs'!K6127/1000000","v":1.6881609839939359E-7},1.688160911040449E-7]
[0.1,{"$f":"'Daily Calcs'!J6128/1000000","v":0},{"$f":"'Daily Calcs'!K6128/1000000","v":0},0]
[0.1,{"$f":"'Daily Calcs'!J6129/1000000","v":0},{"$f":"'Daily Calcs'!K6129/1000000","v":0},0]
[0.1,{"$f":"'Daily Calcs'!J6130/1000000","v":0},{"$f":"'Daily Calcs'!K6130/1000000","v":0},0]
[0.1,{"$f":"'Daily Calcs'!J6131/1000000","v":0},{"$f":"'Daily Calcs'!K6131/1000000","v":0},0]
[0.1,{"$f":"'Daily Calcs'!J6132/1000000","v":0},{"$f":"'Daily Calcs'!K6132/1000000","v":0},0]
[0.1,{"$f":"'Daily Calcs'!J6133/1000000","v":0},{"$f":"'Daily Calcs'!K6133/1000000","v":0},0]
[0.1,{"$f":"'Daily Calcs'!J6134/1000000","v":0},{"$f":"'Daily Calcs'!K6134/1000000","v":0},0]
[0.1,{"$f":"'Daily Calcs'!J6135/1000000","v":0},{"$f":"'Daily Calcs'!K6135/1000000","v":0},0]
[0.1,{"$f":"'Daily Calcs'!J6136/1000000","v":0},{"$f":"'Daily Calcs'!K6136/1000000","v":0},0]
[0.1,{"$f":"'Daily Calcs'!J6137/1000000","v":0},{"$f":"'Daily Calcs'!K6137/1000000","v":0},0]
[0.1,{"$f":"'Daily Calcs'!J6138/1000000","v":0},{"$f":"'Daily Calcs'!K6138/1000000","v":0},0]
[0.1,{"$f":"'Daily Calcs'!J6139/1000000","v":0},{"$f":"'Daily Calcs'!K6139/1000000","v":0},0]
[0.1,{"$f":"'Daily Calcs'!J6140/1000000","v":0},{"$f":"'Daily Calcs'!K6140/1000000","v":0},0]
[0.1,{"$f":"'Daily Calcs'!J6141/1000000","v":0},{"$f":"'Daily Calcs'!K6141/1000000","v":0},0]
[0.1,{"$f":"'Daily Calcs'!J6142/1000000","v":0},{"$f":"'Daily Calcs'!K6142/1000000","v":0},0]
[0.1,{"$f":"'Daily Calcs'!J6143/1000000","v":5.9856342201893956E-8},{"$f":"'Daily Calcs'!K6143/1000000","v":5.9856342983154014E-8},5.9856342201893956E-8]
[0.1,{"$f":"'Daily Calcs'!J6144/1000000","v":0},{"$f":"'Daily Calcs'!K6144/1000000","v":0},0]
[0.1,{"$f":"'Daily Calcs'!J6145/1000000","v":0},{"$f":"'Daily Calcs'!K6145/1000000","v":0},0]
[0.1,{"$f":"'Daily Calcs'!J6146/1000000","v":0},{"$f":"'Daily Calcs'!K6146/1000000","v":0},0]
[0.1,{"$f":"'Daily Calcs'!J6147/1000000","v":0},{"$f":"'Daily Calcs'!K6147/1000000","v":0},{"$f":"B6151","v":0}]
[0.1,{"$f":"'Daily Calcs'!J6148/1000000","v":0},{"$f":"'Daily Calcs'!K6148/1000000","v":0},0]
[0.1,{"$f":"'Daily Calcs'!J6149/1000000","v":0},{"$f":"'Daily Calcs'!K6149/1000000","v":0},0]
[0.1,{"$f":"'Daily Calcs'!J6150/1000000","v":0},{"$f":"'Daily Calcs'!K6150/1000000","v":0},0]
[0.1,{"$f":"'Daily Calcs'!J6151/1000000","v":0},{"$f":"'Daily Calcs'!K6151/1000000","v":0},0]
[0.1,{"$f":"'Daily Calcs'!J6152/1000000","v":0},{"$f":"'Daily Calcs'!K6152/1000000","v":0},0]
[0.1,{"$f":"'Daily Calcs'!J6153/1000000","v":2.5194374537379715E-8},{"$f":"'Daily Calcs'!K6153/1000000","v":2.5194374643014061E-8},2.5194374537379715E-8]
[0.1,{"$f":"'Daily Calcs'!J6154/1000000","v":1.4275651249335458E-8},{"$f":"'Daily Calcs'!K6154/1000000","v":1.4275651282385256E-8},1.4275651249335458E-8]
[0.1,{"$f":"'Daily Calcs'!J6155/1000000","v":8.6762679162072761E-9},{"$f":"'Daily Calcs'!K6155/1000000","v":8.6762679276205901E-9},8.6762679162072761E-9]
[0.1,{"$f":"'Daily Calcs'!J6156/1000000","v":0},{"$f":"'Daily Calcs'!K6156/1000000","v":0},0]
[0.1,{"$f":"'Daily Calcs'!J6157/1000000","v":0},{"$f":"'Daily Calcs'!K6157/1000000","v":0},0]
[0.1,{"$f":"'Daily Calcs'!J6158/1000000","v":0},{"$f":"'Daily Calcs'!K6158/1000000","v":0},0]
[0.1,{"$f":"'Daily Calcs'!J6159/1000000","v":0},{"$f":"'Daily Calcs'!K6159/1000000","v":0},0]
[0.1,{"$f":"'Daily Calcs'!J6160/1000000","v":0},{"$f":"'Daily Calcs'!K6160/1000000","v":0},0]
[0.1,{"$f":"'Daily Calcs'!J6161/1000000","v":0},{"$f":"'Daily Calcs'!K6161/1000000","v":0},0]
[0.1,{"$f":"'Daily Calcs'!J6162/1000000","v":0},{"$f":"'Daily Calcs'!K6162/1000000","v":0},0]
[0.1,{"$f":"'Daily Calcs'!J6163/1000000","v":0},{"$f":"'Daily Calcs'!K6163/1000000","v":0},0]
[0.1,{"$f":"'Daily Calcs'!J6164/1000000","v":0},{"$f":"'Daily Calcs'!K6164/1000000","v":0},0]
[0.1,{"$f":"'Daily Calcs'!J6165/1000000","v":0},{"$f":"'Daily Calcs'!K6165/1000000","v":0},0]
[0.1,{"$f":"'Daily Calcs'!J6166/1000000","v":0},{"$f":"'Daily Calcs'!K6166/1000000","v":0},0]
[0.1,{"$f":"'Daily Calcs'!J6167/1000000","v":0},{"$f":"'Daily Calcs'!K6167/1000000","v":0},0]
[0.1,{"$f":"'Daily Calcs'!J6168/1000000","v":0},{"$f":"'Daily Calcs'!K6168/1000000","v":0},0]
[0.1,{"$f":"'Daily Calcs'!J6169/1000000","v":0},{"$f":"'Daily Calcs'!K6169/1000000","v":0},0]
[0.1,{"$f":"'Daily Calcs'!J6170/1000000","v":0},{"$f":"'Daily Calcs'!K6170/1000000","v":0},0]
[0.1,{"$f":"'Daily Calcs'!J6171/1000000","v":0},{"$f":"'Daily Calcs'!K6171/1000000","v":0},0]
[0.1,{"$f":"'Daily Calcs'!J6172/1000000","v":0},{"$f":"'Daily Calcs'!K6172/1000000","v":0},0]
[0.1,{"$f":"'Daily Calcs'!J6173/1000000","v":0},{"$f":"'Daily Calcs'!K6173/1000000","v":0},0]
[0.1,{"$f":"'Daily Calcs'!J6174/1000000","v":0},{"$f":"'Daily Calcs'!K6174/1000000","v":0},0]
[0.1,{"$f":"'Daily Calcs'!J6175/1000000","v":0},{"$f":"'Daily Calcs'!K6175/1000000","v":0},0]
[0.1,{"$f":"'Daily Calcs'!J6176/1000000","v":0},{"$f":"'Daily Calcs'!K6176/1000000","v":0},0]
[0.1,{"$f":"'Daily Calcs'!J6177/1000000","v":2.7504683402023225E-9},{"$f":"'Daily Calcs'!K6177/1000000","v":2.7504683407772569E-9},2.7504683402023225E-9]
[0.1,{"$f":"'Daily Calcs'!J6178/1000000","v":0},{"$f":"'Daily Calcs'!K6178/1000000","v":0},0]
[0.1,{"$f":"'Daily Calcs'!J6179/1000000","v":1.9785733180495549E-9},{"$f":"'Daily Calcs'!K6179/1000000","v":1.9785733183146373E-9},1.9785733180495549E-9]
[0.1,{"$f":"'Daily Calcs'!J6180/1000000","v":0},{"$f":"'Daily Calcs'!K6180/1000000","v":0},0]
[0.1,{"$f":"'Daily Calcs'!J6181/1000000","v":0},{"$f":"'Daily Calcs'!K6181/1000000","v":0},0]
[0.1,{"$f":"'Daily Calcs'!J6182/1000000","v":0},{"$f":"'Daily Calcs'!K6182/1000000","v":0},0]
[0.1,{"$f":"'Daily Calcs'!J6183/1000000","v":0},{"$f":"'Daily Calcs'!K6183/1000000","v":0},0]
[0.1,{"$f":"'Daily Calcs'!J6184/1000000","v":0},{"$f":"'Daily Calcs'!K6184/1000000","v":0},0]
[0.1,{"$f":"'Daily Calcs'!J6185/1000000","v":0},{"$f":"'Daily Calcs'!K6185/1000000","v":0},0]
[0.1,{"$f":"'Daily Calcs'!J6186/1000000","v":0},{"$f":"'Daily Calcs'!K6186/1000000","v":0},0]
[0.1,{"$f":"'Daily Calcs'!J6187/1000000","v":0},{"$f":"'Daily Calcs'!K6187/1000000","v":0},0]
[0.1,{"$f":"'Daily Calcs'!J6188/1000000","v":0},{"$f":"'Daily Calcs'!K6188/1000000","v":0},0]
[0.1,{"$f":"'Daily Calcs'!J6189/1000000","v":0},{"$f":"'Daily Calcs'!K6189/1000000","v":0},0]
[0.1,{"$f":"'Daily Calcs'!J6190/1000000","v":0},{"$f":"'Daily Calcs'!K6190/1000000","v":0},0]
[0.1,{"$f":"'Daily Calcs'!J6191/1000000","v":0},{"$f":"'Daily Calcs'!K6191/1000000","v":0},0]
[0.1,{"$f":"'Daily Calcs'!J6192/1000000","v":0},{"$f":"'Daily Calcs'!K6192/1000000","v":0},0]
[0.1,{"$f":"'Daily Calcs'!J6193/1000000","v":1.0626776905998533E-9},{"$f":"'Daily Calcs'!K6193/1000000","v":1.0626776906371031E-9},1.0626776905998533E-9]
[0.1,{"$f":"'Daily Calcs'!J6194/1000000","v":0},{"$f":"'Daily Calcs'!K6194/1000000","v":0},0]
[0.1,{"$f":"'Daily Calcs'!J6195/1000000","v":0},{"$f":"'Daily Calcs'!K6195/1000000","v":0},0]
[0.1,{"$f":"'Daily Calcs'!J6196/1000000","v":7.5855111903533055E-10},{"$f":"'Daily Calcs'!K6196/1000000","v":7.5855111905751729E-10},7.5855111903533055E-10]
[0.1,{"$f":"'Daily Calcs'!J6197/1000000","v":0},{"$f":"'Daily Calcs'!K6197/1000000","v":0},0]
[0.1,{"$f":"'Daily Calcs'!J6198/1000000","v":0},{"$f":"'Daily Calcs'!K6198/1000000","v":0},0]
[0.1,{"$f":"'Daily Calcs'!J6199/1000000","v":0},{"$f":"'Daily Calcs'!K6199/1000000","v":0},0]
[0.1,{"$f":"'Daily Calcs'!J6200/1000000","v":0},{"$f":"'Daily Calcs'!K6200/1000000","v":0},0]
[0.1,{"$f":"'Daily Calcs'!J6201/1000000","v":0},{"$f":"'Daily Calcs'!K6201/1000000","v":0},0]
[0.1,{"$f":"'Daily Calcs'!J6202/1000000","v":0},{"$f":"'Daily Calcs'!K6202/1000000","v":0},0]
[0.1,{"$f":"'Daily Calcs'!J6203/1000000","v":5.3691606064341186E-10},{"$f":"'Daily Calcs'!K6203/1000000","v":5.3691606065290603E-10},5.3691606064341186E-10]
[0.1,{"$f":"'Daily Calcs'!J6204/1000000","v":4.2418781889814638E-10},{"$f":"'Daily Calcs'!K6204/1000000","v":4.2418781890410803E-10},4.2418781889814638E-10]
[0.1,{"$f":"'Daily Calcs'!J6205/1000000","v":0},{"$f":"'Daily Calcs'!K6205/1000000","v":0},0]
[0.1,{"$f":"'Daily Calcs'!J6206/1000000","v":0},{"$f":"'Daily Calcs'!K6206/1000000","v":0},0]
[0.1,{"$f":"'Daily Calcs'!J6207/1000000","v":0},{"$f":"'Daily Calcs'!K6207/1000000","v":0},0]
[0.1,{"$f":"'Daily Calcs'!J6208/1000000","v":0},{"$f":"'Daily Calcs'!K6208/1000000","v":0},0]
[0.1,{"$f":"'Daily Calcs'!J6209/1000000","v":2.0189133731822644E-10},{"$f":"'Daily Calcs'!K6209/1000000","v":2.018913373208454E-10},2.0189133731822644E-10]
[0.1,{"$f":"'Daily Calcs'!J6210/1000000","v":0},{"$f":"'Daily Calcs'!K6210/1000000","v":0},0]
[0.1,{"$f":"'Daily Calcs'!J6211/1000000","v":0},{"$f":"'Daily Calcs'!K6211/1000000","v":0},{"$f":"B6215","v":0}]
[0.1,{"$f":"'Daily Calcs'!J6212/1000000","v":0},{"$f":"'Daily Calcs'!K6212/1000000","v":0},0]
[0.1,{"$f":"'Daily Calcs'!J6213/1000000","v":0},{"$f":"'Daily Calcs'!K6213/1000000","v":0},0]
[0.1,{"$f":"'Daily Calcs'!J6214/1000000","v":0},{"$f":"'Daily Calcs'!K6214/1000000","v":0},0]
[0.1,{"$f":"'Daily Calcs'!J6215/1000000","v":0},{"$f":"'Daily Calcs'!K6215/1000000","v":0},0]
[0.1,{"$f":"'Daily Calcs'!J6216/1000000","v":1.0133202889825406E-10},{"$f":"'Daily Calcs'!K6216/1000000","v":1.0133202889887883E-10},1.0133202889825406E-10]
[0.1,{"$f":"'Daily Calcs'!J6217/1000000","v":0},{"$f":"'Daily Calcs'!K6217/1000000","v":0},0]
[0.1,{"$f":"'Daily Calcs'!J6218/1000000","v":4.4343594549780113E-11},{"$f":"'Daily Calcs'!K6218/1000000","v":4.4343594549981467E-11},4.4343594549780113E-11]
[0.1,{"$f":"'Daily Calcs'!J6219/1000000","v":0},{"$f":"'Daily Calcs'!K6219/1000000","v":0},0]
[0.1,{"$f":"'Daily Calcs'!J6220/1000000","v":0},{"$f":"'Daily Calcs'!K6220/1000000","v":0},0]
[0.1,{"$f":"'Daily Calcs'!J6221/1000000","v":0},{"$f":"'Daily Calcs'!K6221/1000000","v":0},0]
[0.1,{"$f":"'Daily Calcs'!J6222/1000000","v":3.4016928657799271E-11},{"$f":"'Daily Calcs'!K6222/1000000","v":3.4016928657853878E-11},3.4016928657799271E-11]
[0.1,{"$f":"'Daily Calcs'!J6223/1000000","v":0},{"$f":"'Daily Calcs'!K6223/1000000","v":0},0]
[0.1,{"$f":"'Daily Calcs'!J6224/1000000","v":0},{"$f":"'Daily Calcs'!K6224/1000000","v":0},0]
[0.1,{"$f":"'Daily Calcs'!J6225/1000000","v":0},{"$f":"'Daily Calcs'!K6225/1000000","v":0},0]
[0.1,{"$f":"'Daily Calcs'!J6226/1000000","v":0},{"$f":"'Daily Calcs'!K6226/1000000","v":0},0]
[0.1,{"$f":"'Daily Calcs'!J6227/1000000","v":1.5475397930157965E-11},{"$f":"'Daily Calcs'!K6227/1000000","v":1.5475397930188606E-11},1.5475397930157965E-11]
[0.1,{"$f":"'Daily Calcs'!J6228/1000000","v":0},{"$f":"'Daily Calcs'!K6228/1000000","v":0},0]
[0.1,{"$f":"'Daily Calcs'!J6229/1000000","v":7.1025015599296616E-12},{"$f":"'Daily Calcs'!K6229/1000000","v":7.10250155993965E-12},7.1025015599296616E-12]
[0.1,{"$f":"'Daily Calcs'!J6230/1000000","v":0},{"$f":"'Daily Calcs'!K6230/1000000","v":0},0]
[0.1,{"$f":"'Daily Calcs'!J6231/1000000","v":0},{"$f":"'Daily Calcs'!K6231/1000000","v":0},0]
[0.1,{"$f":"'Daily Calcs'!J6232/1000000","v":0},{"$f":"'Daily Calcs'!K6232/1000000","v":0},0]
[0.1,{"$f":"'Daily Calcs'!J6233/1000000","v":0},{"$f":"'Daily Calcs'!K6233/1000000","v":0},0]
[0.1,{"$f":"'Daily Calcs'!J6234/1000000","v":2.903992710404241E-12},{"$f":"'Daily Calcs'!K6234/1000000","v":2.9039927104065399E-12},2.903992710404241E-12]
[0.1,{"$f":"'Daily Calcs'!J6235/1000000","v":1.2577653731880796E-12},{"$f":"'Daily Calcs'!K6235/1000000","v":1.2577653731887685E-12},1.2577653731880796E-12]
[0.1,{"$f":"'Daily Calcs'!J6236/1000000","v":0},{"$f":"'Daily Calcs'!K6236/1000000","v":0},0]
[0.1,{"$f":"'Daily Calcs'!J6237/1000000","v":0},{"$f":"'Daily Calcs'!K6237/1000000","v":0},0]
[0.1,{"$f":"'Daily Calcs'!J6238/1000000","v":0},{"$f":"'Daily Calcs'!K6238/1000000","v":0},0]
[0.1,{"$f":"'Daily Calcs'!J6239/1000000","v":0},{"$f":"'Daily Calcs'!K6239/1000000","v":0},0]
[0.1,{"$f":"'Daily Calcs'!J6240/1000000","v":0},{"$f":"'Daily Calcs'!K6240/1000000","v":0},0]
[0.1,{"$f":"'Daily Calcs'!J6241/1000000","v":0},{"$f":"'Daily Calcs'!K6241/1000000","v":0},0]
[0.1,{"$f":"'Daily Calcs'!J6242/1000000","v":0},{"$f":"'Daily Calcs'!K6242/1000000","v":0},0]
[0.1,{"$f":"'Daily Calcs'!J6243/1000000","v":0},{"$f":"'Daily Calcs'!K6243/1000000","v":0},0]
[0.1,{"$f":"'Daily Calcs'!J6244/1000000","v":0},{"$f":"'Daily Calcs'!K6244/1000000","v":0},0]
[0.1,{"$f":"'Daily Calcs'!J6245/1000000","v":0},{"$f":"'Daily Calcs'!K6245/1000000","v":0},0]
[0.1,{"$f":"'Daily Calcs'!J6246/1000000","v":0},{"$f":"'Daily Calcs'!K6246/1000000","v":0},0]
[0.1,{"$f":"'Daily Calcs'!J6247/1000000","v":0},{"$f":"'Daily Calcs'!K6247/1000000","v":0},0]
[0.1,{"$f":"'Daily Calcs'!J6248/1000000","v":0},{"$f":"'Daily Calcs'!K6248/1000000","v":0},0]
[0.1,{"$f":"'Daily Calcs'!J6249/1000000","v":0},{"$f":"'Daily Calcs'!K6249/1000000","v":0},0]
[0.1,{"$f":"'Daily Calcs'!J6250/1000000","v":0},{"$f":"'Daily Calcs'!K6250/1000000","v":0},0]
[0.1,{"$f":"'Daily Calcs'!J6251/1000000","v":0},{"$f":"'Daily Calcs'!K6251/1000000","v":0},0]
[0.1,{"$f":"'Daily Calcs'!J6252/1000000","v":0},{"$f":"'Daily Calcs'!K6252/1000000","v":0},0]
[0.1,{"$f":"'Daily Calcs'!J6253/1000000","v":0},{"$f":"'Daily Calcs'!K6253/1000000","v":0},0]
[0.1,{"$f":"'Daily Calcs'!J6254/1000000","v":0},{"$f":"'Daily Calcs'!K6254/1000000","v":0},0]
[0.1,{"$f":"'Daily Calcs'!J6255/1000000","v":0},{"$f":"'Daily Calcs'!K6255/1000000","v":0},0]
[0.1,{"$f":"'Daily Calcs'!J6256/1000000","v":0},{"$f":"'Daily Calcs'!K6256/1000000","v":0},0]
[0.1,{"$f":"'Daily Calcs'!J6257/1000000","v":0},{"$f":"'Daily Calcs'!K6257/1000000","v":0},0]
[0.1,{"$f":"'Daily Calcs'!J6258/1000000","v":0},{"$f":"'Daily Calcs'!K6258/1000000","v":0},0]
[0.1,{"$f":"'Daily Calcs'!J6259/1000000","v":0},{"$f":"'Daily Calcs'!K6259/1000000","v":0},0]
[0.1,{"$f":"'Daily Calcs'!J6260/1000000","v":0},{"$f":"'Daily Calcs'!K6260/1000000","v":0},0]
[0.1,{"$f":"'Daily Calcs'!J6261/1000000","v":0},{"$f":"'Daily Calcs'!K6261/1000000","v":0},0]
[0.1,{"$f":"'Daily Calcs'!J6262/1000000","v":0},{"$f":"'Daily Calcs'!K6262/1000000","v":0},0]
[0.1,{"$f":"'Daily Calcs'!J6263/1000000","v":0},{"$f":"'Daily Calcs'!K6263/1000000","v":0},0]
[0.1,{"$f":"'Daily Calcs'!J6264/1000000","v":0},{"$f":"'Daily Calcs'!K6264/1000000","v":0},0]
[0.1,{"$f":"'Daily Calcs'!J6265/1000000","v":0},{"$f":"'Daily Calcs'!K6265/1000000","v":0},0]
[0.1,{"$f":"'Daily Calcs'!J6266/1000000","v":0},{"$f":"'Daily Calcs'!K6266/1000000","v":0},0]
[0.1,{"$f":"'Daily Calcs'!J6267/1000000","v":0},{"$f":"'Daily Calcs'!K6267/1000000","v":0},0]
[0.1,{"$f":"'Daily Calcs'!J6268/1000000","v":0},{"$f":"'Daily Calcs'!K6268/1000000","v":0},0]
[0.1,{"$f":"'Daily Calcs'!J6269/1000000","v":0},{"$f":"'Daily Calcs'!K6269/1000000","v":0},0]
[0.1,{"$f":"'Daily Calcs'!J6270/1000000","v":0},{"$f":"'Daily Calcs'!K6270/1000000","v":0},0]
[0.1,{"$f":"'Daily Calcs'!J6271/1000000","v":4.5650569055675182E-13},{"$f":"'Daily Calcs'!K6271/1000000","v":4.5650569055677353E-13},4.5650569055675182E-13]
[0.1,{"$f":"'Daily Calcs'!J6272/1000000","v":3.4886353346011049E-13},{"$f":"'Daily Calcs'!K6272/1000000","v":3.4886353346013023E-13},3.4886353346011049E-13]
[0.1,{"$f":"'Daily Calcs'!J6273/1000000","v":0},{"$f":"'Daily Calcs'!K6273/1000000","v":0},0]
[0.1,{"$f":"'Daily Calcs'!J6274/1000000","v":0},{"$f":"'Daily Calcs'!K6274/1000000","v":0},0]
[0.1,{"$f":"'Daily Calcs'!J6275/1000000","v":0},{"$f":"'Daily Calcs'!K6275/1000000","v":0},{"$f":"B6279","v":0}]
[0.1,{"$f":"'Daily Calcs'!J6276/1000000","v":0},{"$f":"'Daily Calcs'!K6276/1000000","v":0},0]
[0.1,{"$f":"'Daily Calcs'!J6277/1000000","v":0},{"$f":"'Daily Calcs'!K6277/1000000","v":0},0]
[0.1,{"$f":"'Daily Calcs'!J6278/1000000","v":1.0411009955811104E-13},{"$f":"'Daily Calcs'!K6278/1000000","v":1.0411009955811687E-13},1.0411009955811104E-13]
[0.1,{"$f":"'Daily Calcs'!J6279/1000000","v":0},{"$f":"'Daily Calcs'!K6279/1000000","v":0},0]
[0.1,{"$f":"'Daily Calcs'!J6280/1000000","v":0},{"$f":"'Daily Calcs'!K6280/1000000","v":0},0]
[0.1,{"$f":"'Daily Calcs'!J6281/1000000","v":0},{"$f":"'Daily Calcs'!K6281/1000000","v":0},0]
[0.1,{"$f":"'Daily Calcs'!J6282/1000000","v":0},{"$f":"'Daily Calcs'!K6282/1000000","v":0},0]
[0.1,{"$f":"'Daily Calcs'!J6283/1000000","v":5.5363532361317333E-14},{"$f":"'Daily Calcs'!K6283/1000000","v":5.5363532361318286E-14},5.5363532361317333E-14]
[0.1,{"$f":"'Daily Calcs'!J6284/1000000","v":0},{"$f":"'Daily Calcs'!K6284/1000000","v":0},0]
[0.1,{"$f":"'Daily Calcs'!J6285/1000000","v":0},{"$f":"'Daily Calcs'!K6285/1000000","v":0},0]
[0.1,{"$f":"'Daily Calcs'!J6286/1000000","v":0},{"$f":"'Daily Calcs'!K6286/1000000","v":0},0]
[0.1,{"$f":"'Daily Calcs'!J6287/1000000","v":0},{"$f":"'Daily Calcs'!K6287/1000000","v":0},0]
[0.1,{"$f":"'Daily Calcs'!J6288/1000000","v":0},{"$f":"'Daily Calcs'!K6288/1000000","v":0},0]
[0.1,{"$f":"'Daily Calcs'!J6289/1000000","v":0},{"$f":"'Daily Calcs'!K6289/1000000","v":0},0]
[0.1,{"$f":"'Daily Calcs'!J6290/1000000","v":0},{"$f":"'Daily Calcs'!K6290/1000000","v":0},0]
[0.1,{"$f":"'Daily Calcs'!J6291/1000000","v":0},{"$f":"'Daily Calcs'!K6291/1000000","v":0},0]
[0.1,{"$f":"'Daily Calcs'!J6292/1000000","v":0},{"$f":"'Daily Calcs'!K6292/1000000","v":0},0]
[0.1,{"$f":"'Daily Calcs'!J6293/1000000","v":0},{"$f":"'Daily Calcs'!K6293/1000000","v":0},0]
[0.1,{"$f":"'Daily Calcs'!J6294/1000000","v":0},{"$f":"'Daily Calcs'!K6294/1000000","v":0},0]
[0.1,{"$f":"'Daily Calcs'!J6295/1000000","v":0},{"$f":"'Daily Calcs'!K6295/1000000","v":0},0]
[0.1,{"$f":"'Daily Calcs'!J6296/1000000","v":0},{"$f":"'Daily Calcs'!K6296/1000000","v":0},0]
[0.1,{"$f":"'Daily Calcs'!J6297/1000000","v":0},{"$f":"'Daily Calcs'!K6297/1000000","v":0},0]
[0.1,{"$f":"'Daily Calcs'!J6298/1000000","v":0},{"$f":"'Daily Calcs'!K6298/1000000","v":0},0]
[0.1,{"$f":"'Daily Calcs'!J6299/1000000","v":0},{"$f":"'Daily Calcs'!K6299/1000000","v":0},0]
[0.1,{"$f":"'Daily Calcs'!J6300/1000000","v":0},{"$f":"'Daily Calcs'!K6300/1000000","v":0},0]
[0.1,{"$f":"'Daily Calcs'!J6301/1000000","v":0},{"$f":"'Daily Calcs'!K6301/1000000","v":0},0]
[0.1,{"$f":"'Daily Calcs'!J6302/1000000","v":0},{"$f":"'Daily Calcs'!K6302/1000000","v":0},0]
[0.1,{"$f":"'Daily Calcs'!J6303/1000000","v":0},{"$f":"'Daily Calcs'!K6303/1000000","v":0},0]
[0.1,{"$f":"'Daily Calcs'!J6304/1000000","v":0},{"$f":"'Daily Calcs'!K6304/1000000","v":0},0]
[0.1,{"$f":"'Daily Calcs'!J6305/1000000","v":0},{"$f":"'Daily Calcs'!K6305/1000000","v":0},0]
[0.1,{"$f":"'Daily Calcs'!J6306/1000000","v":0},{"$f":"'Daily Calcs'!K6306/1000000","v":0},0]
[0.1,{"$f":"'Daily Calcs'!J6307/1000000","v":0},{"$f":"'Daily Calcs'!K6307/1000000","v":0},0]
[0.1,{"$f":"'Daily Calcs'!J6308/1000000","v":0},{"$f":"'Daily Calcs'!K6308/1000000","v":0},0]
[0.1,{"$f":"'Daily Calcs'!J6309/1000000","v":0},{"$f":"'Daily Calcs'!K6309/1000000","v":0},0]
[0.1,{"$f":"'Daily Calcs'!J6310/1000000","v":0},{"$f":"'Daily Calcs'!K6310/1000000","v":0},0]
[0.1,{"$f":"'Daily Calcs'!J6311/1000000","v":2.044181156307233E-14},{"$f":"'Daily Calcs'!K6311/1000000","v":2.0441811563072469E-14},2.044181156307233E-14]
[0.1,{"$f":"'Daily Calcs'!J6312/1000000","v":1.5832703723691313E-14},{"$f":"'Daily Calcs'!K6312/1000000","v":1.5832703723691402E-14},1.5832703723691313E-14]
[0.1,{"$f":"'Daily Calcs'!J6313/1000000","v":7.9765361830642355E-15},{"$f":"'Daily Calcs'!K6313/1000000","v":7.9765361830643001E-15},7.9765361830642355E-15]
[0.1,{"$f":"'Daily Calcs'!J6314/1000000","v":0},{"$f":"'Daily Calcs'!K6314/1000000","v":0},0]
[0.1,{"$f":"'Daily Calcs'!J6315/1000000","v":0},{"$f":"'Daily Calcs'!K6315/1000000","v":0},0]
[0.1,{"$f":"'Daily Calcs'!J6316/1000000","v":0},{"$f":"'Daily Calcs'!K6316/1000000","v":0},0]
[0.1,{"$f":"'Daily Calcs'!J6317/1000000","v":0},{"$f":"'Daily Calcs'!K6317/1000000","v":0},0]
[0.1,{"$f":"'Daily Calcs'!J6318/1000000","v":2.7481896153253557E-15},{"$f":"'Daily Calcs'!K6318/1000000","v":2.7481896153253687E-15},2.7481896153253557E-15]
[0.1,{"$f":"'Daily Calcs'!J6319/1000000","v":0},{"$f":"'Daily Calcs'!K6319/1000000","v":0},0]
[0.1,{"$f":"'Daily Calcs'!J6320/1000000","v":0},{"$f":"'Daily Calcs'!K6320/1000000","v":0},0]
[0.1,{"$f":"'Daily Calcs'!J6321/1000000","v":0},{"$f":"'Daily Calcs'!K6321/1000000","v":0},0]
[0.1,{"$f":"'Daily Calcs'!J6322/1000000","v":0},{"$f":"'Daily Calcs'!K6322/1000000","v":0},0]
[0.1,{"$f":"'Daily Calcs'!J6323/1000000","v":0},{"$f":"'Daily Calcs'!K6323/1000000","v":0},0]
[0.1,{"$f":"'Daily Calcs'!J6324/1000000","v":0},{"$f":"'Daily Calcs'!K6324/1000000","v":0},0]
[0.1,{"$f":"'Daily Calcs'!J6325/1000000","v":1.0795766590389015E-15},{"$f":"'Daily Calcs'!K6325/1000000","v":1.079576659038904E-15},1.0795766590389015E-15]
[0.1,{"$f":"'Daily Calcs'!J6326/1000000","v":0},{"$f":"'Daily Calcs'!K6326/1000000","v":0},0]
[0.1,{"$f":"'Daily Calcs'!J6327/1000000","v":0},{"$f":"'Daily Calcs'!K6327/1000000","v":0},0]
[0.1,{"$f":"'Daily Calcs'!J6328/1000000","v":0},{"$f":"'Daily Calcs'!K6328/1000000","v":0},0]
[0.1,{"$f":"'Daily Calcs'!J6329/1000000","v":0},{"$f":"'Daily Calcs'!K6329/1000000","v":0},0]
[0.1,{"$f":"'Daily Calcs'!J6330/1000000","v":0},{"$f":"'Daily Calcs'!K6330/1000000","v":0},0]
[0.1,{"$f":"'Daily Calcs'!J6331/1000000","v":3.403171663386966E-16},{"$f":"'Daily Calcs'!K6331/1000000","v":3.403171663386972E-16},3.403171663386966E-16]
[0.1,{"$f":"'Daily Calcs'!J6332/1000000","v":0},{"$f":"'Daily Calcs'!K6332/1000000","v":0},0]
[0.1,{"$f":"'Daily Calcs'!J6333/1000000","v":2.2392468969774468E-16},{"$f":"'Daily Calcs'!K6333/1000000","v":2.2392468969774488E-16},2.2392468969774468E-16]
[0.1,{"$f":"'Daily Calcs'!J6334/1000000","v":1.6692887029288698E-16},{"$f":"'Daily Calcs'!K6334/1000000","v":1.6692887029288713E-16},1.6692887029288698E-16]
[0.1,{"$f":"'Daily Calcs'!J6335/1000000","v":0},{"$f":"'Daily Calcs'!K6335/1000000","v":0},0]
[0.1,{"$f":"'Daily Calcs'!J6336/1000000","v":0},{"$f":"'Daily Calcs'!K6336/1000000","v":0},0]
[0.1,{"$f":"'Daily Calcs'!J6337/1000000","v":8.2087396171903208E-17},{"$f":"'Daily Calcs'!K6337/1000000","v":8.2087396171903282E-17},8.2087396171903208E-17]
[0.1,{"$f":"'Daily Calcs'!J6338/1000000","v":3.706836224086685E-17},{"$f":"'Daily Calcs'!K6338/1000000","v":3.7068362240866875E-17},3.706836224086685E-17]
[0.1,{"$f":"'Daily Calcs'!J6339/1000000","v":0},{"$f":"'Daily Calcs'!K6339/1000000","v":0},{"$f":"B6343","v":0}]
[0.1,{"$f":"'Daily Calcs'!J6340/1000000","v":0},{"$f":"'Daily Calcs'!K6340/1000000","v":0},0]
[0.1,{"$f":"'Daily Calcs'!J6341/1000000","v":0},{"$f":"'Daily Calcs'!K6341/1000000","v":0},0]
[0.1,{"$f":"'Daily Calcs'!J6342/1000000","v":0},{"$f":"'Daily Calcs'!K6342/1000000","v":0},0]
[0.1,{"$f":"'Daily Calcs'!J6343/1000000","v":1.7024736842105266E-17},{"$f":"'Daily Calcs'!K6343/1000000","v":1.7024736842105272E-17},1.7024736842105266E-17]
[0.1,{"$f":"'Daily Calcs'!J6344/1000000","v":0},{"$f":"'Daily Calcs'!K6344/1000000","v":0},0]
[0.1,{"$f":"'Daily Calcs'!J6345/1000000","v":0},{"$f":"'Daily Calcs'!K6345/1000000","v":0},0]
[0.1,{"$f":"'Daily Calcs'!J6346/1000000","v":0},{"$f":"'Daily Calcs'!K6346/1000000","v":0},0]
[0.1,{"$f":"'Daily Calcs'!J6347/1000000","v":0},{"$f":"'Daily Calcs'!K6347/1000000","v":0},0]
[0.1,{"$f":"'Daily Calcs'!J6348/1000000","v":0},{"$f":"'Daily Calcs'!K6348/1000000","v":0},0]
[0.1,{"$f":"'Daily Calcs'!J6349/1000000","v":0},{"$f":"'Daily Calcs'!K6349/1000000","v":0},0]
[0.1,{"$f":"'Daily Calcs'!J6350/1000000","v":0},{"$f":"'Daily Calcs'!K6350/1000000","v":0},0]
[0.1,{"$f":"'Daily Calcs'!J6351/1000000","v":0},{"$f":"'Daily Calcs'!K6351/1000000","v":0},0]
[0.1,{"$f":"'Daily Calcs'!J6352/1000000","v":0},{"$f":"'Daily Calcs'!K6352/1000000","v":0},0]
[0.1,{"$f":"'Daily Calcs'!J6353/1000000","v":0},{"$f":"'Daily Calcs'!K6353/1000000","v":0},0]
[0.1,{"$f":"'Daily Calcs'!J6354/1000000","v":0},{"$f":"'Daily Calcs'!K6354/1000000","v":0},0]
[0.1,{"$f":"'Daily Calcs'!J6355/1000000","v":0},{"$f":"'Daily Calcs'!K6355/1000000","v":0},0]
[0.1,{"$f":"'Daily Calcs'!J6356/1000000","v":5.2631262283903581E-18},{"$f":"'Daily Calcs'!K6356/1000000","v":5.2631262283903589E-18},5.2631262283903581E-18]
[0.1,{"$f":"'Daily Calcs'!J6357/1000000","v":0},{"$f":"'Daily Calcs'!K6357/1000000","v":0},0]
[0.1,{"$f":"'Daily Calcs'!J6358/1000000","v":2.1275832064389824E-18},{"$f":"'Daily Calcs'!K6358/1000000","v":2.1275832064389828E-18},2.1275832064389824E-18]
[0.1,{"$f":"'Daily Calcs'!J6359/1000000","v":0},{"$f":"'Daily Calcs'!K6359/1000000","v":0},0]
[0.1,{"$f":"'Daily Calcs'!J6360/1000000","v":0},{"$f":"'Daily Calcs'!K6360/1000000","v":0},0]
[0.1,{"$f":"'Daily Calcs'!J6361/1000000","v":0},{"$f":"'Daily Calcs'!K6361/1000000","v":0},0]
[0.1,{"$f":"'Daily Calcs'!J6362/1000000","v":0},{"$f":"'Daily Calcs'!K6362/1000000","v":0},0]
[0.1,{"$f":"'Daily Calcs'!J6363/1000000","v":0},{"$f":"'Daily Calcs'!K6363/1000000","v":0},0]
[0.1,{"$f":"'Daily Calcs'!J6364/1000000","v":0},{"$f":"'Daily Calcs'!K6364/1000000","v":0},0]
[0.1,{"$f":"'Daily Calcs'!J6365/1000000","v":0},{"$f":"'Daily Calcs'!K6365/1000000","v":0},0]
[0.1,{"$f":"'Daily Calcs'!J6366/1000000","v":0},{"$f":"'Daily Calcs'!K6366/1000000","v":0},0]
[0.1,{"$f":"'Daily Calcs'!J6367/1000000","v":8.569203382287496E-19},{"$f":"'Daily Calcs'!K6367/1000000","v":8.569203382287496E-19},8.569203382287496E-19]
[0.1,{"$f":"'Daily Calcs'!J6368/1000000","v":3.9248651486944482E-19},{"$f":"'Daily Calcs'!K6368/1000000","v":3.9248651486944482E-19},3.9248651486944482E-19]
[0.1,{"$f":"'Daily Calcs'!J6369/1000000","v":2.4364757709251103E-19},{"$f":"'Daily Calcs'!K6369/1000000","v":2.4364757709251103E-19},2.4364757709251103E-19]
[0.1,{"$f":"'Daily Calcs'!J6370/1000000","v":0},{"$f":"'Daily Calcs'!K6370/1000000","v":0},0]
[0.1,{"$f":"'Daily Calcs'!J6371/1000000","v":0},{"$f":"'Daily Calcs'!K6371/1000000","v":0},0]
[0.1,{"$f":"'Daily Calcs'!J6372/1000000","v":0},{"$f":"'Daily Calcs'!K6372/1000000","v":0},0]
[0.1,{"$f":"'Daily Calcs'!J6373/1000000","v":0},{"$f":"'Daily Calcs'!K6373/1000000","v":0},0]
[0.1,{"$f":"'Daily Calcs'!J6374/1000000","v":0},{"$f":"'Daily Calcs'!K6374/1000000","v":0},0]
[0.1,{"$f":"'Daily Calcs'!J6375/1000000","v":0},{"$f":"'Daily Calcs'!K6375/1000000","v":0},0]
[0.1,{"$f":"'Daily Calcs'!J6376/1000000","v":0},{"$f":"'Daily Calcs'!K6376/1000000","v":0},0]
[0.1,{"$f":"'Daily Calcs'!J6377/1000000","v":0},{"$f":"'Daily Calcs'!K6377/1000000","v":0},0]
[0.1,{"$f":"'Daily Calcs'!J6378/1000000","v":0},{"$f":"'Daily Calcs'!K6378/1000000","v":0},0]
[0.1,{"$f":"'Daily Calcs'!J6379/1000000","v":0},{"$f":"'Daily Calcs'!K6379/1000000","v":0},0]
[0.1,{"$f":"'Daily Calcs'!J6380/1000000","v":0},{"$f":"'Daily Calcs'!K6380/1000000","v":0},0]
[0.1,{"$f":"'Daily Calcs'!J6381/1000000","v":0},{"$f":"'Daily Calcs'!K6381/1000000","v":0},0]
[0.1,{"$f":"'Daily Calcs'!J6382/1000000","v":0},{"$f":"'Daily Calcs'!K6382/1000000","v":0},0]
[0.1,{"$f":"'Daily Calcs'!J6383/1000000","v":0},{"$f":"'Daily Calcs'!K6383/1000000","v":0},0]
[0.1,{"$f":"'Daily Calcs'!J6384/1000000","v":0},{"$f":"'Daily Calcs'!K6384/1000000","v":0},0]
[0.1,{"$f":"'Daily Calcs'!J6385/1000000","v":0},{"$f":"'Daily Calcs'!K6385/1000000","v":0},0]
[0.1,{"$f":"'Daily Calcs'!J6386/1000000","v":0},{"$f":"'Daily Calcs'!K6386/1000000","v":0},0]
[0.1,{"$f":"'Daily Calcs'!J6387/1000000","v":0},{"$f":"'Daily Calcs'!K6387/1000000","v":0},0]
[0.1,{"$f":"'Daily Calcs'!J6388/1000000","v":0},{"$f":"'Daily Calcs'!K6388/1000000","v":0},0]
[0.1,{"$f":"'Daily Calcs'!J6389/1000000","v":0},{"$f":"'Daily Calcs'!K6389/1000000","v":0},0]
[0.1,{"$f":"'Daily Calcs'!J6390/1000000","v":0},{"$f":"'Daily Calcs'!K6390/1000000","v":0},0]
[0.1,{"$f":"'Daily Calcs'!J6391/1000000","v":0},{"$f":"'Daily Calcs'!K6391/1000000","v":0},0]
[0.1,{"$f":"'Daily Calcs'!J6392/1000000","v":0},{"$f":"'Daily Calcs'!K6392/1000000","v":0},0]
[0.1,{"$f":"'Daily Calcs'!J6393/1000000","v":0},{"$f":"'Daily Calcs'!K6393/1000000","v":0},0]
[0.1,{"$f":"'Daily Calcs'!J6394/1000000","v":0},{"$f":"'Daily Calcs'!K6394/1000000","v":0},0]
[0.1,{"$f":"'Daily Calcs'!J6395/1000000","v":0},{"$f":"'Daily Calcs'!K6395/1000000","v":0},0]
[0.1,{"$f":"'Daily Calcs'!J6396/1000000","v":0},{"$f":"'Daily Calcs'!K6396/1000000","v":0},0]
[0.1,{"$f":"'Daily Calcs'!J6397/1000000","v":0},{"$f":"'Daily Calcs'!K6397/1000000","v":0},0]
[0.1,{"$f":"'Daily Calcs'!J6398/1000000","v":0},{"$f":"'Daily Calcs'!K6398/1000000","v":0},0]
[0.1,{"$f":"'Daily Calcs'!J6399/1000000","v":0},{"$f":"'Daily Calcs'!K6399/1000000","v":0},0]
[0.1,{"$f":"'Daily Calcs'!J6400/1000000","v":0},{"$f":"'Daily Calcs'!K6400/1000000","v":0},0]
[0.1,{"$f":"'Daily Calcs'!J6401/1000000","v":0},{"$f":"'Daily Calcs'!K6401/1000000","v":0},0]
[0.1,{"$f":"'Daily Calcs'!J6402/1000000","v":0},{"$f":"'Daily Calcs'!K6402/1000000","v":0},0]
[0.1,{"$f":"'Daily Calcs'!J6403/1000000","v":0},{"$f":"'Daily Calcs'!K6403/1000000","v":0},{"$f":"B6407","v":0}]
[0.1,{"$f":"'Daily Calcs'!J6404/1000000","v":0},{"$f":"'Daily Calcs'!K6404/1000000","v":0},0]
[0.1,{"$f":"'Daily Calcs'!J6405/1000000","v":0},{"$f":"'Daily Calcs'!K6405/1000000","v":0},0]
[0.1,{"$f":"'Daily Calcs'!J6406/1000000","v":1.4272227314390465E-5},{"$f":"'Daily Calcs'!K6406/1000000","v":1.437013748854262E-5},1.4272227314390465E-5]
[0.1,{"$f":"'Daily Calcs'!J6407/1000000","v":0},{"$f":"'Daily Calcs'!K6407/1000000","v":0},0]
[0.1,{"$f":"'Daily Calcs'!J6408/1000000","v":0},{"$f":"'Daily Calcs'!K6408/1000000","v":0},0]
[0.1,{"$f":"'Daily Calcs'!J6409/1000000","v":0},{"$f":"'Daily Calcs'!K6409/1000000","v":0},0]
[0.1,{"$f":"'Daily Calcs'!J6410/1000000","v":0},{"$f":"'Daily Calcs'!K6410/1000000","v":0},0]
[0.1,{"$f":"'Daily Calcs'!J6411/1000000","v":0},{"$f":"'Daily Calcs'!K6411/1000000","v":0},0]
[0.1,{"$f":"'Daily Calcs'!J6412/1000000","v":0},{"$f":"'Daily Calcs'!K6412/1000000","v":0},0]
[0.1,{"$f":"'Daily Calcs'!J6413/1000000","v":0},{"$f":"'Daily Calcs'!K6413/1000000","v":0},0]
[0.1,{"$f":"'Daily Calcs'!J6414/1000000","v":0},{"$f":"'Daily Calcs'!K6414/1000000","v":0},0]
[0.1,{"$f":"'Daily Calcs'!J6415/1000000","v":9.0212780692186509E-6},{"$f":"'Daily Calcs'!K6415/1000000","v":9.0429630014370034E-6},9.0212780692186509E-6]
[0.1,{"$f":"'Daily Calcs'!J6416/1000000","v":0},{"$f":"'Daily Calcs'!K6416/1000000","v":0},0]
[0.1,{"$f":"'Daily Calcs'!J6417/1000000","v":0},{"$f":"'Daily Calcs'!K6417/1000000","v":0},0]
[0.1,{"$f":"'Daily Calcs'!J6418/1000000","v":2.5296691671475282E-5},{"$f":"'Daily Calcs'!K6418/1000000","v":2.5500697249471057E-5},2.5296691671475282E-5]
[0.1,{"$f":"'Daily Calcs'!J6419/1000000","v":0},{"$f":"'Daily Calcs'!K6419/1000000","v":0},0]
[0.1,{"$f":"'Daily Calcs'!J6420/1000000","v":0},{"$f":"'Daily Calcs'!K6420/1000000","v":0},0]
[0.1,{"$f":"'Daily Calcs'!J6421/1000000","v":0},{"$f":"'Daily Calcs'!K6421/1000000","v":0},0]
[0.1,{"$f":"'Daily Calcs'!J6422/1000000","v":2.1878652219559058E-5},{"$f":"'Daily Calcs'!K6422/1000000","v":2.1964849553314977E-5},2.1878652219559058E-5]
[0.1,{"$f":"'Daily Calcs'!J6423/1000000","v":0},{"$f":"'Daily Calcs'!K6423/1000000","v":0},0]
[0.1,{"$f":"'Daily Calcs'!J6424/1000000","v":0},{"$f":"'Daily Calcs'!K6424/1000000","v":0},0]
[0.1,{"$f":"'Daily Calcs'!J6425/1000000","v":1.7864519100756304E-5},{"$f":"'Daily Calcs'!K6425/1000000","v":1.7910613512429237E-5},1.7864519100756304E-5]
[0.1,{"$f":"'Daily Calcs'!J6426/1000000","v":1.4610068932405088E-5},{"$f":"'Daily Calcs'!K6426/1000000","v":1.4643880105627764E-5},1.4610068932405088E-5]
[0.1,{"$f":"'Daily Calcs'!J6427/1000000","v":0},{"$f":"'Daily Calcs'!K6427/1000000","v":0},0]
[0.1,{"$f":"'Daily Calcs'!J6428/1000000","v":0},{"$f":"'Daily Calcs'!K6428/1000000","v":0},0]
[0.1,{"$f":"'Daily Calcs'!J6429/1000000","v":1.12390094377672E-5},{"$f":"'Daily Calcs'!K6429/1000000","v":1.1247964830200852E-5},1.12390094377672E-5]
[0.1,{"$f":"'Daily Calcs'!J6430/1000000","v":1.0136340988358925E-5},{"$f":"'Daily Calcs'!K6430/1000000","v":1.0139700366897677E-5},1.0136340988358925E-5]
[0.1,{"$f":"'Daily Calcs'!J6431/1000000","v":7.2268677800815708E-6},{"$f":"'Daily Calcs'!K6431/1000000","v":7.2287233703205823E-6},7.2268677800815708E-6]
[0.1,{"$f":"'Daily Calcs'!J6432/1000000","v":0},{"$f":"'Daily Calcs'!K6432/1000000","v":0},0]
[0.1,{"$f":"'Daily Calcs'!J6433/1000000","v":5.4409549751642362E-6},{"$f":"'Daily Calcs'!K6433/1000000","v":5.4415599022592532E-6},5.4409549751642362E-6]
[0.1,{"$f":"'Daily Calcs'!J6434/1000000","v":4.7033306741124864E-6},{"$f":"'Daily Calcs'!K6434/1000000","v":4.7035757678500205E-6},4.7033306741124864E-6]
[0.1,{"$f":"'Daily Calcs'!J6435/1000000","v":0},{"$f":"'Daily Calcs'!K6435/1000000","v":0},0]
[0.1,{"$f":"'Daily Calcs'!J6436/1000000","v":0},{"$f":"'Daily Calcs'!K6436/1000000","v":0},0]
[0.1,{"$f":"'Daily Calcs'!J6437/1000000","v":4.2579371347338488E-6},{"$f":"'Daily Calcs'!K6437/1000000","v":4.2580268125098723E-6},4.2579371347338488E-6]
[0.1,{"$f":"'Daily Calcs'!J6438/1000000","v":0},{"$f":"'Daily Calcs'!K6438/1000000","v":0},0]
[0.1,{"$f":"'Daily Calcs'!J6439/1000000","v":0},{"$f":"'Daily Calcs'!K6439/1000000","v":0},0]
[0.1,{"$f":"'Daily Calcs'!J6440/1000000","v":0},{"$f":"'Daily Calcs'!K6440/1000000","v":0},0]
[0.1,{"$f":"'Daily Calcs'!J6441/1000000","v":0},{"$f":"'Daily Calcs'!K6441/1000000","v":0},0]
[0.1,{"$f":"'Daily Calcs'!J6442/1000000","v":0},{"$f":"'Daily Calcs'!K6442/1000000","v":0},0]
[0.1,{"$f":"'Daily Calcs'!J6443/1000000","v":0},{"$f":"'Daily Calcs'!K6443/1000000","v":0},0]
[0.1,{"$f":"'Daily Calcs'!J6444/1000000","v":0},{"$f":"'Daily Calcs'!K6444/1000000","v":0},0]
[0.1,{"$f":"'Daily Calcs'!J6445/1000000","v":0},{"$f":"'Daily Calcs'!K6445/1000000","v":0},0]
[0.1,{"$f":"'Daily Calcs'!J6446/1000000","v":0},{"$f":"'Daily Calcs'!K6446/1000000","v":0},0]
[0.1,{"$f":"'Daily Calcs'!J6447/1000000","v":0},{"$f":"'Daily Calcs'!K6447/1000000","v":0},0]
[0.1,{"$f":"'Daily Calcs'!J6448/1000000","v":0},{"$f":"'Daily Calcs'!K6448/1000000","v":0},0]
[0.1,{"$f":"'Daily Calcs'!J6449/1000000","v":0},{"$f":"'Daily Calcs'!K6449/1000000","v":0},0]
[0.1,{"$f":"'Daily Calcs'!J6450/1000000","v":0},{"$f":"'Daily Calcs'!K6450/1000000","v":0},0]
[0.1,{"$f":"'Daily Calcs'!J6451/1000000","v":0},{"$f":"'Daily Calcs'!K6451/1000000","v":0},0]
[0.1,{"$f":"'Daily Calcs'!J6452/1000000","v":0},{"$f":"'Daily Calcs'!K6452/1000000","v":0},0]
[0.1,{"$f":"'Daily Calcs'!J6453/1000000","v":0},{"$f":"'Daily Calcs'!K6453/1000000","v":0},0]
[0.1,{"$f":"'Daily Calcs'!J6454/1000000","v":0},{"$f":"'Daily Calcs'!K6454/1000000","v":0},0]
[0.1,{"$f":"'Daily Calcs'!J6455/1000000","v":2.9827932042823656E-6},{"$f":"'Daily Calcs'!K6455/1000000","v":2.9828149024867688E-6},2.9827932042823656E-6]
[0.1,{"$f":"'Daily Calcs'!J6456/1000000","v":0},{"$f":"'Daily Calcs'!K6456/1000000","v":0},0]
[0.1,{"$f":"'Daily Calcs'!J6457/1000000","v":0},{"$f":"'Daily Calcs'!K6457/1000000","v":0},0]
[0.1,{"$f":"'Daily Calcs'!J6458/1000000","v":0},{"$f":"'Daily Calcs'!K6458/1000000","v":0},0]
[0.1,{"$f":"'Daily Calcs'!J6459/1000000","v":0},{"$f":"'Daily Calcs'!K6459/1000000","v":0},0]
[0.1,{"$f":"'Daily Calcs'!J6460/1000000","v":0},{"$f":"'Daily Calcs'!K6460/1000000","v":0},0]
[0.1,{"$f":"'Daily Calcs'!J6461/1000000","v":0},{"$f":"'Daily Calcs'!K6461/1000000","v":0},0]
[0.1,{"$f":"'Daily Calcs'!J6462/1000000","v":0},{"$f":"'Daily Calcs'!K6462/1000000","v":0},0]
[0.1,{"$f":"'Daily Calcs'!J6463/1000000","v":0},{"$f":"'Daily Calcs'!K6463/1000000","v":0},0]
[0.1,{"$f":"'Daily Calcs'!J6464/1000000","v":0},{"$f":"'Daily Calcs'!K6464/1000000","v":0},0]
[0.1,{"$f":"'Daily Calcs'!J6465/1000000","v":0},{"$f":"'Daily Calcs'!K6465/1000000","v":0},0]
[0.1,{"$f":"'Daily Calcs'!J6466/1000000","v":0},{"$f":"'Daily Calcs'!K6466/1000000","v":0},0]
[0.1,{"$f":"'Daily Calcs'!J6467/1000000","v":0},{"$f":"'Daily Calcs'!K6467/1000000","v":0},{"$f":"B6471","v":0}]
[0.1,{"$f":"'Daily Calcs'!J6468/1000000","v":0},{"$f":"'Daily Calcs'!K6468/1000000","v":0},0]
[0.1,{"$f":"'Daily Calcs'!J6469/1000000","v":0},{"$f":"'Daily Calcs'!K6469/1000000","v":0},0]
[0.1,{"$f":"'Daily Calcs'!J6470/1000000","v":0},{"$f":"'Daily Calcs'!K6470/1000000","v":0},0]
[0.1,{"$f":"'Daily Calcs'!J6471/1000000","v":0},{"$f":"'Daily Calcs'!K6471/1000000","v":0},0]
[0.1,{"$f":"'Daily Calcs'!J6472/1000000","v":0},{"$f":"'Daily Calcs'!K6472/1000000","v":0},0]
[0.1,{"$f":"'Daily Calcs'!J6473/1000000","v":0},{"$f":"'Daily Calcs'!K6473/1000000","v":0},0]
[0.1,{"$f":"'Daily Calcs'!J6474/1000000","v":0},{"$f":"'Daily Calcs'!K6474/1000000","v":0},0]
[0.1,{"$f":"'Daily Calcs'!J6475/1000000","v":0},{"$f":"'Daily Calcs'!K6475/1000000","v":0},0]
[0.1,{"$f":"'Daily Calcs'!J6476/1000000","v":0},{"$f":"'Daily Calcs'!K6476/1000000","v":0},0]
[0.1,{"$f":"'Daily Calcs'!J6477/1000000","v":0},{"$f":"'Daily Calcs'!K6477/1000000","v":0},0]
[0.1,{"$f":"'Daily Calcs'!J6478/1000000","v":0},{"$f":"'Daily Calcs'!K6478/1000000","v":0},0]
[0.1,{"$f":"'Daily Calcs'!J6479/1000000","v":0},{"$f":"'Daily Calcs'!K6479/1000000","v":0},0]
[0.1,{"$f":"'Daily Calcs'!J6480/1000000","v":0},{"$f":"'Daily Calcs'!K6480/1000000","v":0},0]
[0.1,{"$f":"'Daily Calcs'!J6481/1000000","v":0},{"$f":"'Daily Calcs'!K6481/1000000","v":0},0]
[0.1,{"$f":"'Daily Calcs'!J6482/1000000","v":0},{"$f":"'Daily Calcs'!K6482/1000000","v":0},0]
[0.1,{"$f":"'Daily Calcs'!J6483/1000000","v":0},{"$f":"'Daily Calcs'!K6483/1000000","v":0},0]
[0.1,{"$f":"'Daily Calcs'!J6484/1000000","v":0},{"$f":"'Daily Calcs'!K6484/1000000","v":0},0]
[0.1,{"$f":"'Daily Calcs'!J6485/1000000","v":0},{"$f":"'Daily Calcs'!K6485/1000000","v":0},0]
[0.1,{"$f":"'Daily Calcs'!J6486/1000000","v":0},{"$f":"'Daily Calcs'!K6486/1000000","v":0},0]
[0.1,{"$f":"'Daily Calcs'!J6487/1000000","v":0},{"$f":"'Daily Calcs'!K6487/1000000","v":0},0]
[0.1,{"$f":"'Daily Calcs'!J6488/1000000","v":0},{"$f":"'Daily Calcs'!K6488/1000000","v":0},0]
[0.1,{"$f":"'Daily Calcs'!J6489/1000000","v":0},{"$f":"'Daily Calcs'!K6489/1000000","v":0},0]
[0.1,{"$f":"'Daily Calcs'!J6490/1000000","v":0},{"$f":"'Daily Calcs'!K6490/1000000","v":0},0]
[0.1,{"$f":"'Daily Calcs'!J6491/1000000","v":0},{"$f":"'Daily Calcs'!K6491/1000000","v":0},0]
[0.1,{"$f":"'Daily Calcs'!J6492/1000000","v":0},{"$f":"'Daily Calcs'!K6492/1000000","v":0},0]
[0.1,{"$f":"'Daily Calcs'!J6493/1000000","v":0},{"$f":"'Daily Calcs'!K6493/1000000","v":0},0]
[0.1,{"$f":"'Daily Calcs'!J6494/1000000","v":0},{"$f":"'Daily Calcs'!K6494/1000000","v":0},0]
[0.1,{"$f":"'Daily Calcs'!J6495/1000000","v":0},{"$f":"'Daily Calcs'!K6495/1000000","v":0},0]
[0.1,{"$f":"'Daily Calcs'!J6496/1000000","v":1.210714415516761E-6},{"$f":"'Daily Calcs'!K6496/1000000","v":1.2107161050603928E-6},1.210714415516761E-6]
[0.1,{"$f":"'Daily Calcs'!J6497/1000000","v":0},{"$f":"'Daily Calcs'!K6497/1000000","v":0},0]
[0.1,{"$f":"'Daily Calcs'!J6498/1000000","v":0},{"$f":"'Daily Calcs'!K6498/1000000","v":0},0]
[0.1,{"$f":"'Daily Calcs'!J6499/1000000","v":0},{"$f":"'Daily Calcs'!K6499/1000000","v":0},0]
[0.1,{"$f":"'Daily Calcs'!J6500/1000000","v":0},{"$f":"'Daily Calcs'!K6500/1000000","v":0},0]
[0.1,{"$f":"'Daily Calcs'!J6501/1000000","v":0},{"$f":"'Daily Calcs'!K6501/1000000","v":0},0]
[0.1,{"$f":"'Daily Calcs'!J6502/1000000","v":0},{"$f":"'Daily Calcs'!K6502/1000000","v":0},0]
[0.1,{"$f":"'Daily Calcs'!J6503/1000000","v":0},{"$f":"'Daily Calcs'!K6503/1000000","v":0},0]
[0.1,{"$f":"'Daily Calcs'!J6504/1000000","v":0},{"$f":"'Daily Calcs'!K6504/1000000","v":0},0]
[0.1,{"$f":"'Daily Calcs'!J6505/1000000","v":0},{"$f":"'Daily Calcs'!K6505/1000000","v":0},0]
[0.1,{"$f":"'Daily Calcs'!J6506/1000000","v":0},{"$f":"'Daily Calcs'!K6506/1000000","v":0},0]
[0.1,{"$f":"'Daily Calcs'!J6507/1000000","v":0},{"$f":"'Daily Calcs'!K6507/1000000","v":0},0]
[0.1,{"$f":"'Daily Calcs'!J6508/1000000","v":0},{"$f":"'Daily Calcs'!K6508/1000000","v":0},0]
[0.1,{"$f":"'Daily Calcs'!J6509/1000000","v":0},{"$f":"'Daily Calcs'!K6509/1000000","v":0},0]
[0.1,{"$f":"'Daily Calcs'!J6510/1000000","v":0},{"$f":"'Daily Calcs'!K6510/1000000","v":0},0]
[0.1,{"$f":"'Daily Calcs'!J6511/1000000","v":0},{"$f":"'Daily Calcs'!K6511/1000000","v":0},0]
[0.1,{"$f":"'Daily Calcs'!J6512/1000000","v":0},{"$f":"'Daily Calcs'!K6512/1000000","v":0},0]
[0.1,{"$f":"'Daily Calcs'!J6513/1000000","v":0},{"$f":"'Daily Calcs'!K6513/1000000","v":0},0]
[0.1,{"$f":"'Daily Calcs'!J6514/1000000","v":0},{"$f":"'Daily Calcs'!K6514/1000000","v":0},0]
[0.1,{"$f":"'Daily Calcs'!J6515/1000000","v":0},{"$f":"'Daily Calcs'!K6515/1000000","v":0},0]
[0.1,{"$f":"'Daily Calcs'!J6516/1000000","v":0},{"$f":"'Daily Calcs'!K6516/1000000","v":0},0]
[0.1,{"$f":"'Daily Calcs'!J6517/1000000","v":0},{"$f":"'Daily Calcs'!K6517/1000000","v":0},0]
[0.1,{"$f":"'Daily Calcs'!J6518/1000000","v":0},{"$f":"'Daily Calcs'!K6518/1000000","v":0},0]
[0.1,{"$f":"'Daily Calcs'!J6519/1000000","v":0},{"$f":"'Daily Calcs'!K6519/1000000","v":0},0]
[0.1,{"$f":"'Daily Calcs'!J6520/1000000","v":0},{"$f":"'Daily Calcs'!K6520/1000000","v":0},0]
[0.1,{"$f":"'Daily Calcs'!J6521/1000000","v":0},{"$f":"'Daily Calcs'!K6521/1000000","v":0},0]
[0.1,{"$f":"'Daily Calcs'!J6522/1000000","v":0},{"$f":"'Daily Calcs'!K6522/1000000","v":0},0]
[0.1,{"$f":"'Daily Calcs'!J6523/1000000","v":0},{"$f":"'Daily Calcs'!K6523/1000000","v":0},0]
[0.1,{"$f":"'Daily Calcs'!J6524/1000000","v":0},{"$f":"'Daily Calcs'!K6524/1000000","v":0},0]
[0.1,{"$f":"'Daily Calcs'!J6525/1000000","v":0},{"$f":"'Daily Calcs'!K6525/1000000","v":0},0]
[0.1,{"$f":"'Daily Calcs'!J6526/1000000","v":0},{"$f":"'Daily Calcs'!K6526/1000000","v":0},0]
[0.1,{"$f":"'Daily Calcs'!J6527/1000000","v":0},{"$f":"'Daily Calcs'!K6527/1000000","v":0},0]
[0.1,{"$f":"'Daily Calcs'!J6528/1000000","v":0},{"$f":"'Daily Calcs'!K6528/1000000","v":0},0]
[0.1,{"$f":"'Daily Calcs'!J6529/1000000","v":0},{"$f":"'Daily Calcs'!K6529/1000000","v":0},0]
[0.1,{"$f":"'Daily Calcs'!J6530/1000000","v":0},{"$f":"'Daily Calcs'!K6530/1000000","v":0},0]
[0.1,{"$f":"'Daily Calcs'!J6531/1000000","v":5.1275435591024946E-7},{"$f":"'Daily Calcs'!K6531/1000000","v":5.1275452588476158E-7},{"$f":"B6535","v":5.1275435591024946E-7}]
[0.1,{"$f":"'Daily Calcs'!J6532/1000000","v":0},{"$f":"'Daily Calcs'!K6532/1000000","v":0},0]
[0.1,{"$f":"'Daily Calcs'!J6533/1000000","v":0},{"$f":"'Daily Calcs'!K6533/1000000","v":0},0]
[0.1,{"$f":"'Daily Calcs'!J6534/1000000","v":0},{"$f":"'Daily Calcs'!K6534/1000000","v":0},0]
[0.1,{"$f":"'Daily Calcs'!J6535/1000000","v":0},{"$f":"'Daily Calcs'!K6535/1000000","v":0},0]
[0.1,{"$f":"'Daily Calcs'!J6536/1000000","v":0},{"$f":"'Daily Calcs'!K6536/1000000","v":0},0]
[0.1,{"$f":"'Daily Calcs'!J6537/1000000","v":0},{"$f":"'Daily Calcs'!K6537/1000000","v":0},0]
[0.1,{"$f":"'Daily Calcs'!J6538/1000000","v":0},{"$f":"'Daily Calcs'!K6538/1000000","v":0},0]
[0.1,{"$f":"'Daily Calcs'!J6539/1000000","v":0},{"$f":"'Daily Calcs'!K6539/1000000","v":0},0]
[0.1,{"$f":"'Daily Calcs'!J6540/1000000","v":0},{"$f":"'Daily Calcs'!K6540/1000000","v":0},0]
[0.1,{"$f":"'Daily Calcs'!J6541/1000000","v":2.9694323144104802E-7},{"$f":"'Daily Calcs'!K6541/1000000","v":2.969432668720768E-7},2.9694323144104802E-7]
[0.1,{"$f":"'Daily Calcs'!J6542/1000000","v":0},{"$f":"'Daily Calcs'!K6542/1000000","v":0},0]
[0.1,{"$f":"'Daily Calcs'!J6543/1000000","v":2.1001963647349076E-7},{"$f":"'Daily Calcs'!K6543/1000000","v":2.1001965098383769E-7},2.1001963647349076E-7]
[0.1,{"$f":"'Daily Calcs'!J6544/1000000","v":0},{"$f":"'Daily Calcs'!K6544/1000000","v":0},0]
[0.1,{"$f":"'Daily Calcs'!J6545/1000000","v":0},{"$f":"'Daily Calcs'!K6545/1000000","v":0},0]
[0.1,{"$f":"'Daily Calcs'!J6546/1000000","v":0},{"$f":"'Daily Calcs'!K6546/1000000","v":0},0]
[0.1,{"$f":"'Daily Calcs'!J6547/1000000","v":0},{"$f":"'Daily Calcs'!K6547/1000000","v":0},0]
[0.1,{"$f":"'Daily Calcs'!J6548/1000000","v":1.2048994245288E-7},{"$f":"'Daily Calcs'!K6548/1000000","v":1.2048994729000577E-7},1.2048994245288E-7]
[0.1,{"$f":"'Daily Calcs'!J6549/1000000","v":0},{"$f":"'Daily Calcs'!K6549/1000000","v":0},0]
[0.1,{"$f":"'Daily Calcs'!J6550/1000000","v":0},{"$f":"'Daily Calcs'!K6550/1000000","v":0},0]
[0.1,{"$f":"'Daily Calcs'!J6551/1000000","v":0},{"$f":"'Daily Calcs'!K6551/1000000","v":0},0]
[0.1,{"$f":"'Daily Calcs'!J6552/1000000","v":0},{"$f":"'Daily Calcs'!K6552/1000000","v":0},0]
[0.1,{"$f":"'Daily Calcs'!J6553/1000000","v":8.3362753751103271E-8},{"$f":"'Daily Calcs'!K6553/1000000","v":8.3362755115346434E-8},8.3362753751103271E-8]
[0.1,{"$f":"'Daily Calcs'!J6554/1000000","v":0},{"$f":"'Daily Calcs'!K6554/1000000","v":0},0]
[0.1,{"$f":"'Daily Calcs'!J6555/1000000","v":0},{"$f":"'Daily Calcs'!K6555/1000000","v":0},0]
[0.1,{"$f":"'Daily Calcs'!J6556/1000000","v":0},{"$f":"'Daily Calcs'!K6556/1000000","v":0},0]
[0.1,{"$f":"'Daily Calcs'!J6557/1000000","v":0},{"$f":"'Daily Calcs'!K6557/1000000","v":0},0]
[0.1,{"$f":"'Daily Calcs'!J6558/1000000","v":0},{"$f":"'Daily Calcs'!K6558/1000000","v":0},0]
[0.1,{"$f":"'Daily Calcs'!J6559/1000000","v":0},{"$f":"'Daily Calcs'!K6559/1000000","v":0},0]
[0.1,{"$f":"'Daily Calcs'!J6560/1000000","v":0},{"$f":"'Daily Calcs'!K6560/1000000","v":0},0]
[0.1,{"$f":"'Daily Calcs'!J6561/1000000","v":0},{"$f":"'Daily Calcs'!K6561/1000000","v":0},0]
[0.1,{"$f":"'Daily Calcs'!J6562/1000000","v":0},{"$f":"'Daily Calcs'!K6562/1000000","v":0},0]
[0.1,{"$f":"'Daily Calcs'!J6563/1000000","v":0},{"$f":"'Daily Calcs'!K6563/1000000","v":0},0]
[0.1,{"$f":"'Daily Calcs'!J6564/1000000","v":0},{"$f":"'Daily Calcs'!K6564/1000000","v":0},0]
[0.1,{"$f":"'Daily Calcs'!J6565/1000000","v":0},{"$f":"'Daily Calcs'!K6565/1000000","v":0},0]
[0.1,{"$f":"'Daily Calcs'!J6566/1000000","v":0},{"$f":"'Daily Calcs'!K6566/1000000","v":0},0]
[0.1,{"$f":"'Daily Calcs'!J6567/1000000","v":0},{"$f":"'Daily Calcs'!K6567/1000000","v":0},0]
[0.1,{"$f":"'Daily Calcs'!J6568/1000000","v":3.9704346691032501E-8},{"$f":"'Daily Calcs'!K6568/1000000","v":3.9704346884476569E-8},3.9704346691032501E-8]
[0.1,{"$f":"'Daily Calcs'!J6569/1000000","v":0},{"$f":"'Daily Calcs'!K6569/1000000","v":0},0]
[0.1,{"$f":"'Daily Calcs'!J6570/1000000","v":0},{"$f":"'Daily Calcs'!K6570/1000000","v":0},0]
[0.1,{"$f":"'Daily Calcs'!J6571/1000000","v":0},{"$f":"'Daily Calcs'!K6571/1000000","v":0},0]
[0.1,{"$f":"'Daily Calcs'!J6572/1000000","v":0},{"$f":"'Daily Calcs'!K6572/1000000","v":0},0]
[0.1,{"$f":"'Daily Calcs'!J6573/1000000","v":0},{"$f":"'Daily Calcs'!K6573/1000000","v":0},0]
[0.1,{"$f":"'Daily Calcs'!J6574/1000000","v":3.0471055128979377E-8},{"$f":"'Daily Calcs'!K6574/1000000","v":3.0471055188500555E-8},3.0471055128979377E-8]
[0.1,{"$f":"'Daily Calcs'!J6575/1000000","v":0},{"$f":"'Daily Calcs'!K6575/1000000","v":0},0]
[0.1,{"$f":"'Daily Calcs'!J6576/1000000","v":1.7233667021462925E-8},{"$f":"'Daily Calcs'!K6576/1000000","v":1.7233667056688809E-8},1.7233667021462925E-8]
[0.1,{"$f":"'Daily Calcs'!J6577/1000000","v":1.3365107631068977E-8},{"$f":"'Daily Calcs'!K6577/1000000","v":1.3365107642906825E-8},1.3365107631068977E-8]
[0.1,{"$f":"'Daily Calcs'!J6578/1000000","v":0},{"$f":"'Daily Calcs'!K6578/1000000","v":0},0]
[0.1,{"$f":"'Daily Calcs'!J6579/1000000","v":0},{"$f":"'Daily Calcs'!K6579/1000000","v":0},0]
[0.1,{"$f":"'Daily Calcs'!J6580/1000000","v":0},{"$f":"'Daily Calcs'!K6580/1000000","v":0},0]
[0.1,{"$f":"'Daily Calcs'!J6581/1000000","v":0},{"$f":"'Daily Calcs'!K6581/1000000","v":0},0]
[0.1,{"$f":"'Daily Calcs'!J6582/1000000","v":8.0158296943231462E-9},{"$f":"'Daily Calcs'!K6582/1000000","v":8.0158297002955408E-9},8.0158296943231462E-9]
[0.1,{"$f":"'Daily Calcs'!J6583/1000000","v":0},{"$f":"'Daily Calcs'!K6583/1000000","v":0},0]
[0.1,{"$f":"'Daily Calcs'!J6584/1000000","v":0},{"$f":"'Daily Calcs'!K6584/1000000","v":0},0]
[0.1,{"$f":"'Daily Calcs'!J6585/1000000","v":0},{"$f":"'Daily Calcs'!K6585/1000000","v":0},0]
[0.1,{"$f":"'Daily Calcs'!J6586/1000000","v":0},{"$f":"'Daily Calcs'!K6586/1000000","v":0},0]
[0.1,{"$f":"'Daily Calcs'!J6587/1000000","v":4.2140856615889068E-9},{"$f":"'Daily Calcs'!K6587/1000000","v":4.2140856635207325E-9},4.2140856615889068E-9]
[0.1,{"$f":"'Daily Calcs'!J6588/1000000","v":0},{"$f":"'Daily Calcs'!K6588/1000000","v":0},0]
[0.1,{"$f":"'Daily Calcs'!J6589/1000000","v":0},{"$f":"'Daily Calcs'!K6589/1000000","v":0},0]
[0.1,{"$f":"'Daily Calcs'!J6590/1000000","v":0},{"$f":"'Daily Calcs'!K6590/1000000","v":0},0]
[0.1,{"$f":"'Daily Calcs'!J6591/1000000","v":0},{"$f":"'Daily Calcs'!K6591/1000000","v":0},0]
[0.1,{"$f":"'Daily Calcs'!J6592/1000000","v":0},{"$f":"'Daily Calcs'!K6592/1000000","v":0},0]
[0.1,{"$f":"'Daily Calcs'!J6593/1000000","v":0},{"$f":"'Daily Calcs'!K6593/1000000","v":0},0]
[0.1,{"$f":"'Daily Calcs'!J6594/1000000","v":2.646766169154229E-9},{"$f":"'Daily Calcs'!K6594/1000000","v":2.6467661695440486E-9},2.646766169154229E-9]
[0.1,{"$f":"'Daily Calcs'!J6595/1000000","v":1.3733543970510794E-9},{"$f":"'Daily Calcs'!K6595/1000000","v":1.3733543972876249E-9},{"$f":"B6599","v":1.3733543970510794E-9}]
[0.1,{"$f":"'Daily Calcs'!J6596/1000000","v":0},{"$f":"'Daily Calcs'!K6596/1000000","v":0},0]
[0.1,{"$f":"'Daily Calcs'!J6597/1000000","v":0},{"$f":"'Daily Calcs'!K6597/1000000","v":0},0]
[0.1,{"$f":"'Daily Calcs'!J6598/1000000","v":6.373928321378089E-10},{"$f":"'Daily Calcs'!K6598/1000000","v":6.3739283219069211E-10},6.373928321378089E-10]
[0.1,{"$f":"'Daily Calcs'!J6599/1000000","v":0},{"$f":"'Daily Calcs'!K6599/1000000","v":0},0]
[0.1,{"$f":"'Daily Calcs'!J6600/1000000","v":0},{"$f":"'Daily Calcs'!K6600/1000000","v":0},0]
[0.1,{"$f":"'Daily Calcs'!J6601/1000000","v":0},{"$f":"'Daily Calcs'!K6601/1000000","v":0},0]
[0.1,{"$f":"'Daily Calcs'!J6602/1000000","v":0},{"$f":"'Daily Calcs'!K6602/1000000","v":0},0]
[0.1,{"$f":"'Daily Calcs'!J6603/1000000","v":0},{"$f":"'Daily Calcs'!K6603/1000000","v":0},0]
[0.1,{"$f":"'Daily Calcs'!J6604/1000000","v":0},{"$f":"'Daily Calcs'!K6604/1000000","v":0},0]
[0.1,{"$f":"'Daily Calcs'!J6605/1000000","v":0},{"$f":"'Daily Calcs'!K6605/1000000","v":0},0]
[0.1,{"$f":"'Daily Calcs'!J6606/1000000","v":0},{"$f":"'Daily Calcs'!K6606/1000000","v":0},0]
[0.1,{"$f":"'Daily Calcs'!J6607/1000000","v":0},{"$f":"'Daily Calcs'!K6607/1000000","v":0},0]
[0.1,{"$f":"'Daily Calcs'!J6608/1000000","v":0},{"$f":"'Daily Calcs'!K6608/1000000","v":0},0]
[0.1,{"$f":"'Daily Calcs'!J6609/1000000","v":0},{"$f":"'Daily Calcs'!K6609/1000000","v":0},0]
[0.1,{"$f":"'Daily Calcs'!J6610/1000000","v":0},{"$f":"'Daily Calcs'!K6610/1000000","v":0},0]
[0.1,{"$f":"'Daily Calcs'!J6611/1000000","v":0},{"$f":"'Daily Calcs'!K6611/1000000","v":0},0]
[0.1,{"$f":"'Daily Calcs'!J6612/1000000","v":2.1307395035042906E-10},{"$f":"'Daily Calcs'!K6612/1000000","v":2.1307395035587139E-10},2.1307395035042906E-10]
[0.1,{"$f":"'Daily Calcs'!J6613/1000000","v":1.5700518514638875E-10},{"$f":"'Daily Calcs'!K6613/1000000","v":1.5700518514839601E-10},1.5700518514638875E-10]
[0.1,{"$f":"'Daily Calcs'!J6614/1000000","v":0},{"$f":"'Daily Calcs'!K6614/1000000","v":0},0]
[0.1,{"$f":"'Daily Calcs'!J6615/1000000","v":0},{"$f":"'Daily Calcs'!K6615/1000000","v":0},0]
[0.1,{"$f":"'Daily Calcs'!J6616/1000000","v":0},{"$f":"'Daily Calcs'!K6616/1000000","v":0},0]
[0.1,{"$f":"'Daily Calcs'!J6617/1000000","v":0},{"$f":"'Daily Calcs'!K6617/1000000","v":0},0]
[0.1,{"$f":"'Daily Calcs'!J6618/1000000","v":0},{"$f":"'Daily Calcs'!K6618/1000000","v":0},0]
[0.1,{"$f":"'Daily Calcs'!J6619/1000000","v":0},{"$f":"'Daily Calcs'!K6619/1000000","v":0},0]
[0.1,{"$f":"'Daily Calcs'!J6620/1000000","v":0},{"$f":"'Daily Calcs'!K6620/1000000","v":0},0]
[0.1,{"$f":"'Daily Calcs'!J6621/1000000","v":0},{"$f":"'Daily Calcs'!K6621/1000000","v":0},0]
[0.1,{"$f":"'Daily Calcs'!J6622/1000000","v":0},{"$f":"'Daily Calcs'!K6622/1000000","v":0},0]
[0.1,{"$f":"'Daily Calcs'!J6623/1000000","v":0},{"$f":"'Daily Calcs'!K6623/1000000","v":0},0]
[0.1,{"$f":"'Daily Calcs'!J6624/1000000","v":5.5407568052647329E-11},{"$f":"'Daily Calcs'!K6624/1000000","v":5.5407568053157693E-11},5.5407568052647329E-11]
[0.1,{"$f":"'Daily Calcs'!J6625/1000000","v":0},{"$f":"'Daily Calcs'!K6625/1000000","v":0},0]
[0.1,{"$f":"'Daily Calcs'!J6626/1000000","v":3.6477527319281235E-11},{"$f":"'Daily Calcs'!K6626/1000000","v":3.6477527319454322E-11},3.6477527319281235E-11]
[0.1,{"$f":"'Daily Calcs'!J6627/1000000","v":0},{"$f":"'Daily Calcs'!K6627/1000000","v":0},0]
[0.1,{"$f":"'Daily Calcs'!J6628/1000000","v":2.1805261359754014E-11},{"$f":"'Daily Calcs'!K6628/1000000","v":2.1805261359841766E-11},2.1805261359754014E-11]
[0.1,{"$f":"'Daily Calcs'!J6629/1000000","v":1.4439429116922607E-11},{"$f":"'Daily Calcs'!K6629/1000000","v":1.4439429116960436E-11},1.4439429116922607E-11]
[0.1,{"$f":"'Daily Calcs'!J6630/1000000","v":7.1158505249247477E-12},{"$f":"'Daily Calcs'!K6630/1000000","v":7.1158505249434885E-12},7.1158505249247477E-12]
[0.1,{"$f":"'Daily Calcs'!J6631/1000000","v":3.8335951798642717E-12},{"$f":"'Daily Calcs'!K6631/1000000","v":3.833595179870848E-12},3.8335951798642717E-12]
[0.1,{"$f":"'Daily Calcs'!J6632/1000000","v":0},{"$f":"'Daily Calcs'!K6632/1000000","v":0},0]
[0.1,{"$f":"'Daily Calcs'!J6633/1000000","v":0},{"$f":"'Daily Calcs'!K6633/1000000","v":0},0]
[0.1,{"$f":"'Daily Calcs'!J6634/1000000","v":0},{"$f":"'Daily Calcs'!K6634/1000000","v":0},0]
[0.1,{"$f":"'Daily Calcs'!J6635/1000000","v":0},{"$f":"'Daily Calcs'!K6635/1000000","v":0},0]
[0.1,{"$f":"'Daily Calcs'!J6636/1000000","v":0},{"$f":"'Daily Calcs'!K6636/1000000","v":0},0]
[0.1,{"$f":"'Daily Calcs'!J6637/1000000","v":1.7441384491826216E-12},{"$f":"'Daily Calcs'!K6637/1000000","v":1.7441384491842501E-12},1.7441384491826216E-12]
[0.1,{"$f":"'Daily Calcs'!J6638/1000000","v":8.2749240890688274E-13},{"$f":"'Daily Calcs'!K6638/1000000","v":8.274924089075526E-13},8.2749240890688274E-13]
[0.1,{"$f":"'Daily Calcs'!J6639/1000000","v":0},{"$f":"'Daily Calcs'!K6639/1000000","v":0},0]
[0.1,{"$f":"'Daily Calcs'!J6640/1000000","v":0},{"$f":"'Daily Calcs'!K6640/1000000","v":0},0]
[0.1,{"$f":"'Daily Calcs'!J6641/1000000","v":0},{"$f":"'Daily Calcs'!K6641/1000000","v":0},0]
[0.1,{"$f":"'Daily Calcs'!J6642/1000000","v":0},{"$f":"'Daily Calcs'!K6642/1000000","v":0},0]
[0.1,{"$f":"'Daily Calcs'!J6643/1000000","v":0},{"$f":"'Daily Calcs'!K6643/1000000","v":0},0]
[0.1,{"$f":"'Daily Calcs'!J6644/1000000","v":0},{"$f":"'Daily Calcs'!K6644/1000000","v":0},0]
[0.1,{"$f":"'Daily Calcs'!J6645/1000000","v":0},{"$f":"'Daily Calcs'!K6645/1000000","v":0},0]
[0.1,{"$f":"'Daily Calcs'!J6646/1000000","v":0},{"$f":"'Daily Calcs'!K6646/1000000","v":0},0]
[0.1,{"$f":"'Daily Calcs'!J6647/1000000","v":0},{"$f":"'Daily Calcs'!K6647/1000000","v":0},0]
[0.1,{"$f":"'Daily Calcs'!J6648/1000000","v":0},{"$f":"'Daily Calcs'!K6648/1000000","v":0},0]
[0.1,{"$f":"'Daily Calcs'!J6649/1000000","v":0},{"$f":"'Daily Calcs'!K6649/1000000","v":0},0]
[0.1,{"$f":"'Daily Calcs'!J6650/1000000","v":0},{"$f":"'Daily Calcs'!K6650/1000000","v":0},0]
[0.1,{"$f":"'Daily Calcs'!J6651/1000000","v":0},{"$f":"'Daily Calcs'!K6651/1000000","v":0},0]
[0.1,{"$f":"'Daily Calcs'!J6652/1000000","v":0},{"$f":"'Daily Calcs'!K6652/1000000","v":0},0]
[0.1,{"$f":"'Daily Calcs'!J6653/1000000","v":0},{"$f":"'Daily Calcs'!K6653/1000000","v":0},0]
[0.1,{"$f":"'Daily Calcs'!J6654/1000000","v":0},{"$f":"'Daily Calcs'!K6654/1000000","v":0},0]
[0.1,{"$f":"'Daily Calcs'!J6655/1000000","v":0},{"$f":"'Daily Calcs'!K6655/1000000","v":0},0]
[0.1,{"$f":"'Daily Calcs'!J6656/1000000","v":0},{"$f":"'Daily Calcs'!K6656/1000000","v":0},0]
[0.1,{"$f":"'Daily Calcs'!J6657/1000000","v":2.4771433500086254E-13},{"$f":"'Daily Calcs'!K6657/1000000","v":2.4771433500090096E-13},2.4771433500086254E-13]
[0.1,{"$f":"'Daily Calcs'!J6658/1000000","v":0},{"$f":"'Daily Calcs'!K6658/1000000","v":0},0]
[0.1,{"$f":"'Daily Calcs'!J6659/1000000","v":0},{"$f":"'Daily Calcs'!K6659/1000000","v":0},{"$f":"B6663","v":0}]
[0.1,{"$f":"'Daily Calcs'!J6660/1000000","v":0},{"$f":"'Daily Calcs'!K6660/1000000","v":0},0]
[0.1,{"$f":"'Daily Calcs'!J6661/1000000","v":0},{"$f":"'Daily Calcs'!K6661/1000000","v":0},0]
[0.1,{"$f":"'Daily Calcs'!J6662/1000000","v":0},{"$f":"'Daily Calcs'!K6662/1000000","v":0},0]
[0.1,{"$f":"'Daily Calcs'!J6663/1000000","v":0},{"$f":"'Daily Calcs'!K6663/1000000","v":0},0]
[0.1,{"$f":"'Daily Calcs'!J6664/1000000","v":0},{"$f":"'Daily Calcs'!K6664/1000000","v":0},0]
[0.1,{"$f":"'Daily Calcs'!J6665/1000000","v":0},{"$f":"'Daily Calcs'!K6665/1000000","v":0},0]
[0.1,{"$f":"'Daily Calcs'!J6666/1000000","v":0},{"$f":"'Daily Calcs'!K6666/1000000","v":0},0]
[0.1,{"$f":"'Daily Calcs'!J6667/1000000","v":0},{"$f":"'Daily Calcs'!K6667/1000000","v":0},0]
[0.1,{"$f":"'Daily Calcs'!J6668/1000000","v":7.4210261569416504E-14},{"$f":"'Daily Calcs'!K6668/1000000","v":7.4210261569425099E-14},7.4210261569416504E-14]
[0.1,{"$f":"'Daily Calcs'!J6669/1000000","v":3.194924688932548E-14},{"$f":"'Daily Calcs'!K6669/1000000","v":3.1949246889329355E-14},3.194924688932548E-14]
[0.1,{"$f":"'Daily Calcs'!J6670/1000000","v":0},{"$f":"'Daily Calcs'!K6670/1000000","v":0},0]
[0.1,{"$f":"'Daily Calcs'!J6671/1000000","v":0},{"$f":"'Daily Calcs'!K6671/1000000","v":0},0]
[0.1,{"$f":"'Daily Calcs'!J6672/1000000","v":0},{"$f":"'Daily Calcs'!K6672/1000000","v":0},0]
[0.1,{"$f":"'Daily Calcs'!J6673/1000000","v":2.0941386948372805E-14},{"$f":"'Daily Calcs'!K6673/1000000","v":2.0941386948373613E-14},2.0941386948372805E-14]
[0.1,{"$f":"'Daily Calcs'!J6674/1000000","v":0},{"$f":"'Daily Calcs'!K6674/1000000","v":0},0]
[0.1,{"$f":"'Daily Calcs'!J6675/1000000","v":0},{"$f":"'Daily Calcs'!K6675/1000000","v":0},0]
[0.1,{"$f":"'Daily Calcs'!J6676/1000000","v":0},{"$f":"'Daily Calcs'!K6676/1000000","v":0},0]
[0.1,{"$f":"'Daily Calcs'!J6677/1000000","v":6.1991839202055314E-15},{"$f":"'Daily Calcs'!K6677/1000000","v":6.1991839202057996E-15},6.1991839202055314E-15]
[0.1,{"$f":"'Daily Calcs'!J6678/1000000","v":2.3365641536124062E-15},{"$f":"'Daily Calcs'!K6678/1000000","v":2.3365641536124728E-15},2.3365641536124062E-15]
[0.1,{"$f":"'Daily Calcs'!J6679/1000000","v":0},{"$f":"'Daily Calcs'!K6679/1000000","v":0},0]
[0.1,{"$f":"'Daily Calcs'!J6680/1000000","v":0},{"$f":"'Daily Calcs'!K6680/1000000","v":0},0]
[0.1,{"$f":"'Daily Calcs'!J6681/1000000","v":0},{"$f":"'Daily Calcs'!K6681/1000000","v":0},0]
[0.1,{"$f":"'Daily Calcs'!J6682/1000000","v":0},{"$f":"'Daily Calcs'!K6682/1000000","v":0},0]
[0.1,{"$f":"'Daily Calcs'!J6683/1000000","v":0},{"$f":"'Daily Calcs'!K6683/1000000","v":0},0]
[0.1,{"$f":"'Daily Calcs'!J6684/1000000","v":0},{"$f":"'Daily Calcs'!K6684/1000000","v":0},0]
[0.1,{"$f":"'Daily Calcs'!J6685/1000000","v":0},{"$f":"'Daily Calcs'!K6685/1000000","v":0},0]
[0.1,{"$f":"'Daily Calcs'!J6686/1000000","v":0},{"$f":"'Daily Calcs'!K6686/1000000","v":0},0]
[0.1,{"$f":"'Daily Calcs'!J6687/1000000","v":0},{"$f":"'Daily Calcs'!K6687/1000000","v":0},0]
[0.1,{"$f":"'Daily Calcs'!J6688/1000000","v":0},{"$f":"'Daily Calcs'!K6688/1000000","v":0},0]
[0.1,{"$f":"'Daily Calcs'!J6689/1000000","v":0},{"$f":"'Daily Calcs'!K6689/1000000","v":0},0]
[0.1,{"$f":"'Daily Calcs'!J6690/1000000","v":7.0601460075277236E-16},{"$f":"'Daily Calcs'!K6690/1000000","v":7.0601460075277966E-16},7.0601460075277236E-16]
[0.1,{"$f":"'Daily Calcs'!J6691/1000000","v":3.1747849190283398E-16},{"$f":"'Daily Calcs'!K6691/1000000","v":3.1747849190283783E-16},3.1747849190283398E-16]
[0.1,{"$f":"'Daily Calcs'!J6692/1000000","v":0},{"$f":"'Daily Calcs'!K6692/1000000","v":0},0]
[0.1,{"$f":"'Daily Calcs'!J6693/1000000","v":0},{"$f":"'Daily Calcs'!K6693/1000000","v":0},0]
[0.1,{"$f":"'Daily Calcs'!J6694/1000000","v":0},{"$f":"'Daily Calcs'!K6694/1000000","v":0},0]
[0.1,{"$f":"'Daily Calcs'!J6695/1000000","v":0},{"$f":"'Daily Calcs'!K6695/1000000","v":0},0]
[0.1,{"$f":"'Daily Calcs'!J6696/1000000","v":0},{"$f":"'Daily Calcs'!K6696/1000000","v":0},0]
[0.1,{"$f":"'Daily Calcs'!J6697/1000000","v":0},{"$f":"'Daily Calcs'!K6697/1000000","v":0},0]
[0.1,{"$f":"'Daily Calcs'!J6698/1000000","v":0},{"$f":"'Daily Calcs'!K6698/1000000","v":0},0]
[0.1,{"$f":"'Daily Calcs'!J6699/1000000","v":0},{"$f":"'Daily Calcs'!K6699/1000000","v":0},0]
[0.1,{"$f":"'Daily Calcs'!J6700/1000000","v":0},{"$f":"'Daily Calcs'!K6700/1000000","v":0},0]
[0.1,{"$f":"'Daily Calcs'!J6701/1000000","v":0},{"$f":"'Daily Calcs'!K6701/1000000","v":0},0]
[0.1,{"$f":"'Daily Calcs'!J6702/1000000","v":0},{"$f":"'Daily Calcs'!K6702/1000000","v":0},0]
[0.1,{"$f":"'Daily Calcs'!J6703/1000000","v":0},{"$f":"'Daily Calcs'!K6703/1000000","v":0},0]
[0.1,{"$f":"'Daily Calcs'!J6704/1000000","v":1.0422547466977602E-16},{"$f":"'Daily Calcs'!K6704/1000000","v":1.0422547466977626E-16},1.0422547466977602E-16]
[0.1,{"$f":"'Daily Calcs'!J6705/1000000","v":0},{"$f":"'Daily Calcs'!K6705/1000000","v":0},0]
[0.1,{"$f":"'Daily Calcs'!J6706/1000000","v":0},{"$f":"'Daily Calcs'!K6706/1000000","v":0},0]
[0.1,{"$f":"'Daily Calcs'!J6707/1000000","v":0},{"$f":"'Daily Calcs'!K6707/1000000","v":0},0]
[0.1,{"$f":"'Daily Calcs'!J6708/1000000","v":0},{"$f":"'Daily Calcs'!K6708/1000000","v":0},0]
[0.1,{"$f":"'Daily Calcs'!J6709/1000000","v":0},{"$f":"'Daily Calcs'!K6709/1000000","v":0},0]
[0.1,{"$f":"'Daily Calcs'!J6710/1000000","v":0},{"$f":"'Daily Calcs'!K6710/1000000","v":0},0]
[0.1,{"$f":"'Daily Calcs'!J6711/1000000","v":0},{"$f":"'Daily Calcs'!K6711/1000000","v":0},0]
[0.1,{"$f":"'Daily Calcs'!J6712/1000000","v":0},{"$f":"'Daily Calcs'!K6712/1000000","v":0},0]
[0.1,{"$f":"'Daily Calcs'!J6713/1000000","v":0},{"$f":"'Daily Calcs'!K6713/1000000","v":0},0]
[0.1,{"$f":"'Daily Calcs'!J6714/1000000","v":0},{"$f":"'Daily Calcs'!K6714/1000000","v":0},0]
[0.1,{"$f":"'Daily Calcs'!J6715/1000000","v":0},{"$f":"'Daily Calcs'!K6715/1000000","v":0},0]
[0.1,{"$f":"'Daily Calcs'!J6716/1000000","v":0},{"$f":"'Daily Calcs'!K6716/1000000","v":0},0]
[0.1,{"$f":"'Daily Calcs'!J6717/1000000","v":0},{"$f":"'Daily Calcs'!K6717/1000000","v":0},0]
[0.1,{"$f":"'Daily Calcs'!J6718/1000000","v":0},{"$f":"'Daily Calcs'!K6718/1000000","v":0},0]
[0.1,{"$f":"'Daily Calcs'!J6719/1000000","v":0},{"$f":"'Daily Calcs'!K6719/1000000","v":0},0]
[0.1,{"$f":"'Daily Calcs'!J6720/1000000","v":0},{"$f":"'Daily Calcs'!K6720/1000000","v":0},0]
[0.1,{"$f":"'Daily Calcs'!J6721/1000000","v":0},{"$f":"'Daily Calcs'!K6721/1000000","v":0},0]
[0.1,{"$f":"'Daily Calcs'!J6722/1000000","v":0},{"$f":"'Daily Calcs'!K6722/1000000","v":0},0]
[0.1,{"$f":"'Daily Calcs'!J6723/1000000","v":0},{"$f":"'Daily Calcs'!K6723/1000000","v":0},{"$f":"B6727","v":0}]
[0.1,{"$f":"'Daily Calcs'!J6724/1000000","v":1.7608937968219406E-17},{"$f":"'Daily Calcs'!K6724/1000000","v":1.7608937968219415E-17},1.7608937968219406E-17]
[0.1,{"$f":"'Daily Calcs'!J6725/1000000","v":0},{"$f":"'Daily Calcs'!K6725/1000000","v":0},0]
[0.1,{"$f":"'Daily Calcs'!J6726/1000000","v":1.3489794515840835E-17},{"$f":"'Daily Calcs'!K6726/1000000","v":1.3489794515840839E-17},1.3489794515840835E-17]
[0.1,{"$f":"'Daily Calcs'!J6727/1000000","v":0},{"$f":"'Daily Calcs'!K6727/1000000","v":0},0]
[0.1,{"$f":"'Daily Calcs'!J6728/1000000","v":0},{"$f":"'Daily Calcs'!K6728/1000000","v":0},0]
[0.1,{"$f":"'Daily Calcs'!J6729/1000000","v":0},{"$f":"'Daily Calcs'!K6729/1000000","v":0},0]
[0.1,{"$f":"'Daily Calcs'!J6730/1000000","v":0},{"$f":"'Daily Calcs'!K6730/1000000","v":0},0]
[0.1,{"$f":"'Daily Calcs'!J6731/1000000","v":0},{"$f":"'Daily Calcs'!K6731/1000000","v":0},0]
[0.1,{"$f":"'Daily Calcs'!J6732/1000000","v":0},{"$f":"'Daily Calcs'!K6732/1000000","v":0},0]
[0.1,{"$f":"'Daily Calcs'!J6733/1000000","v":5.0050345351445877E-18},{"$f":"'Daily Calcs'!K6733/1000000","v":5.0050345351445885E-18},5.0050345351445877E-18]
[0.1,{"$f":"'Daily Calcs'!J6734/1000000","v":0},{"$f":"'Daily Calcs'!K6734/1000000","v":0},0]
[0.1,{"$f":"'Daily Calcs'!J6735/1000000","v":0},{"$f":"'Daily Calcs'!K6735/1000000","v":0},0]
[0.1,{"$f":"'Daily Calcs'!J6736/1000000","v":0},{"$f":"'Daily Calcs'!K6736/1000000","v":0},0]
[0.1,{"$f":"'Daily Calcs'!J6737/1000000","v":0},{"$f":"'Daily Calcs'!K6737/1000000","v":0},0]
[0.1,{"$f":"'Daily Calcs'!J6738/1000000","v":0},{"$f":"'Daily Calcs'!K6738/1000000","v":0},0]
[0.1,{"$f":"'Daily Calcs'!J6739/1000000","v":0},{"$f":"'Daily Calcs'!K6739/1000000","v":0},0]
[0.1,{"$f":"'Daily Calcs'!J6740/1000000","v":0},{"$f":"'Daily Calcs'!K6740/1000000","v":0},0]
[0.1,{"$f":"'Daily Calcs'!J6741/1000000","v":0},{"$f":"'Daily Calcs'!K6741/1000000","v":0},0]
[0.1,{"$f":"'Daily Calcs'!J6742/1000000","v":0},{"$f":"'Daily Calcs'!K6742/1000000","v":0},0]
[0.1,{"$f":"'Daily Calcs'!J6743/1000000","v":0},{"$f":"'Daily Calcs'!K6743/1000000","v":0},0]
[0.1,{"$f":"'Daily Calcs'!J6744/1000000","v":0},{"$f":"'Daily Calcs'!K6744/1000000","v":0},0]
[0.1,{"$f":"'Daily Calcs'!J6745/1000000","v":0},{"$f":"'Daily Calcs'!K6745/1000000","v":0},0]
[0.1,{"$f":"'Daily Calcs'!J6746/1000000","v":0},{"$f":"'Daily Calcs'!K6746/1000000","v":0},0]
[0.1,{"$f":"'Daily Calcs'!J6747/1000000","v":0},{"$f":"'Daily Calcs'!K6747/1000000","v":0},0]
[0.1,{"$f":"'Daily Calcs'!J6748/1000000","v":0},{"$f":"'Daily Calcs'!K6748/1000000","v":0},0]
[0.1,{"$f":"'Daily Calcs'!J6749/1000000","v":0},{"$f":"'Daily Calcs'!K6749/1000000","v":0},0]
[0.1,{"$f":"'Daily Calcs'!J6750/1000000","v":0},{"$f":"'Daily Calcs'!K6750/1000000","v":0},0]
[0.1,{"$f":"'Daily Calcs'!J6751/1000000","v":0},{"$f":"'Daily Calcs'!K6751/1000000","v":0},0]
[0.1,{"$f":"'Daily Calcs'!J6752/1000000","v":0},{"$f":"'Daily Calcs'!K6752/1000000","v":0},0]
[0.1,{"$f":"'Daily Calcs'!J6753/1000000","v":0},{"$f":"'Daily Calcs'!K6753/1000000","v":0},0]
[0.1,{"$f":"'Daily Calcs'!J6754/1000000","v":0},{"$f":"'Daily Calcs'!K6754/1000000","v":0},0]
[0.1,{"$f":"'Daily Calcs'!J6755/1000000","v":0},{"$f":"'Daily Calcs'!K6755/1000000","v":0},0]
[0.1,{"$f":"'Daily Calcs'!J6756/1000000","v":0},{"$f":"'Daily Calcs'!K6756/1000000","v":0},0]
[0.1,{"$f":"'Daily Calcs'!J6757/1000000","v":0},{"$f":"'Daily Calcs'!K6757/1000000","v":0},0]
[0.1,{"$f":"'Daily Calcs'!J6758/1000000","v":0},{"$f":"'Daily Calcs'!K6758/1000000","v":0},0]
[0.1,{"$f":"'Daily Calcs'!J6759/1000000","v":0},{"$f":"'Daily Calcs'!K6759/1000000","v":0},0]
[0.1,{"$f":"'Daily Calcs'!J6760/1000000","v":0},{"$f":"'Daily Calcs'!K6760/1000000","v":0},0]
[0.1,{"$f":"'Daily Calcs'!J6761/1000000","v":0},{"$f":"'Daily Calcs'!K6761/1000000","v":0},0]
[0.1,{"$f":"'Daily Calcs'!J6762/1000000","v":0},{"$f":"'Daily Calcs'!K6762/1000000","v":0},0]
[0.1,{"$f":"'Daily Calcs'!J6763/1000000","v":0},{"$f":"'Daily Calcs'!K6763/1000000","v":0},0]
[0.1,{"$f":"'Daily Calcs'!J6764/1000000","v":0},{"$f":"'Daily Calcs'!K6764/1000000","v":0},0]
[0.1,{"$f":"'Daily Calcs'!J6765/1000000","v":5.8347292015633721E-19},{"$f":"'Daily Calcs'!K6765/1000000","v":5.8347292015633721E-19},5.8347292015633721E-19]
[0.1,{"$f":"'Daily Calcs'!J6766/1000000","v":0},{"$f":"'Daily Calcs'!K6766/1000000","v":0},0]
[0.1,{"$f":"'Daily Calcs'!J6767/1000000","v":0},{"$f":"'Daily Calcs'!K6767/1000000","v":0},0]
[0.1,{"$f":"'Daily Calcs'!J6768/1000000","v":2.8512620431563018E-19},{"$f":"'Daily Calcs'!K6768/1000000","v":2.8512620431563018E-19},2.8512620431563018E-19]
[0.1,{"$f":"'Daily Calcs'!J6769/1000000","v":0},{"$f":"'Daily Calcs'!K6769/1000000","v":0},0]
[0.1,{"$f":"'Daily Calcs'!J6770/1000000","v":0},{"$f":"'Daily Calcs'!K6770/1000000","v":0},0]
[0.1,{"$f":"'Daily Calcs'!J6771/1000000","v":0},{"$f":"'Daily Calcs'!K6771/1000000","v":0},0]
[0.1,{"$f":"'Daily Calcs'!J6772/1000000","v":0},{"$f":"'Daily Calcs'!K6772/1000000","v":0},0]
[0.1,{"$f":"'Daily Calcs'!J6773/1000000","v":0},{"$f":"'Daily Calcs'!K6773/1000000","v":0},0]
[0.1,{"$f":"'Daily Calcs'!J6774/1000000","v":1.6357310013548462E-5},{"$f":"'Daily Calcs'!K6774/1000000","v":1.6487042739253603E-5},1.6357310013548462E-5]
[0.1,{"$f":"'Daily Calcs'!J6775/1000000","v":0},{"$f":"'Daily Calcs'!K6775/1000000","v":0},0]
[0.1,{"$f":"'Daily Calcs'!J6776/1000000","v":1.1329120760423418E-5},{"$f":"'Daily Calcs'!K6776/1000000","v":1.1404163966299417E-5},1.1329120760423418E-5]
[0.1,{"$f":"'Daily Calcs'!J6777/1000000","v":1.037365107913669E-5},{"$f":"'Daily Calcs'!K6777/1000000","v":1.0399849820143885E-5},1.037365107913669E-5]
[0.1,{"$f":"'Daily Calcs'!J6778/1000000","v":0},{"$f":"'Daily Calcs'!K6778/1000000","v":0},0]
[0.1,{"$f":"'Daily Calcs'!J6779/1000000","v":9.7230642050151566E-6},{"$f":"'Daily Calcs'!K6779/1000000","v":9.7355045007807467E-6},9.7230642050151566E-6]
[0.1,{"$f":"'Daily Calcs'!J6780/1000000","v":8.4465830083093084E-6},{"$f":"'Daily Calcs'!K6780/1000000","v":8.4582982872647082E-6},8.4465830083093084E-6]
[0.1,{"$f":"'Daily Calcs'!J6781/1000000","v":2.5829538426941026E-5},{"$f":"'Daily Calcs'!K6781/1000000","v":2.6081733850565015E-5},2.5829538426941026E-5]
[0.1,{"$f":"'Daily Calcs'!J6782/1000000","v":0},{"$f":"'Daily Calcs'!K6782/1000000","v":0},0]
[0.1,{"$f":"'Daily Calcs'!J6783/1000000","v":0},{"$f":"'Daily Calcs'!K6783/1000000","v":0},0]
[0.1,{"$f":"'Daily Calcs'!J6784/1000000","v":0},{"$f":"'Daily Calcs'!K6784/1000000","v":0},0]
[0.1,{"$f":"'Daily Calcs'!J6785/1000000","v":0},{"$f":"'Daily Calcs'!K6785/1000000","v":0},0]
[0.1,{"$f":"'Daily Calcs'!J6786/1000000","v":0},{"$f":"'Daily Calcs'!K6786/1000000","v":0},0]
[0.1,{"$f":"'Daily Calcs'!J6787/1000000","v":0},{"$f":"'Daily Calcs'!K6787/1000000","v":0},{"$f":"B6791","v":0}]
[0.1,{"$f":"'Daily Calcs'!J6788/1000000","v":0},{"$f":"'Daily Calcs'!K6788/1000000","v":0},0]
[0.1,{"$f":"'Daily Calcs'!J6789/1000000","v":0},{"$f":"'Daily Calcs'!K6789/1000000","v":0},0]
[0.1,{"$f":"'Daily Calcs'!J6790/1000000","v":0},{"$f":"'Daily Calcs'!K6790/1000000","v":0},0]
[0.1,{"$f":"'Daily Calcs'!J6791/1000000","v":0},{"$f":"'Daily Calcs'!K6791/1000000","v":0},0]
[0.1,{"$f":"'Daily Calcs'!J6792/1000000","v":0},{"$f":"'Daily Calcs'!K6792/1000000","v":0},0]
[0.1,{"$f":"'Daily Calcs'!J6793/1000000","v":0},{"$f":"'Daily Calcs'!K6793/1000000","v":0},0]
[0.1,{"$f":"'Daily Calcs'!J6794/1000000","v":0},{"$f":"'Daily Calcs'!K6794/1000000","v":0},0]
[0.1,{"$f":"'Daily Calcs'!J6795/1000000","v":0},{"$f":"'Daily Calcs'!K6795/1000000","v":0},0]
[0.1,{"$f":"'Daily Calcs'!J6796/1000000","v":0},{"$f":"'Daily Calcs'!K6796/1000000","v":0},0]
[0.1,{"$f":"'Daily Calcs'!J6797/1000000","v":0},{"$f":"'Daily Calcs'!K6797/1000000","v":0},0]
[0.1,{"$f":"'Daily Calcs'!J6798/1000000","v":1.6504852162450854E-5},{"$f":"'Daily Calcs'!K6798/1000000","v":1.6575252835162833E-5},1.6504852162450854E-5]
[0.1,{"$f":"'Daily Calcs'!J6799/1000000","v":0},{"$f":"'Daily Calcs'!K6799/1000000","v":0},0]
[0.1,{"$f":"'Daily Calcs'!J6800/1000000","v":0},{"$f":"'Daily Calcs'!K6800/1000000","v":0},0]
[0.1,{"$f":"'Daily Calcs'!J6801/1000000","v":0},{"$f":"'Daily Calcs'!K6801/1000000","v":0},0]
[0.1,{"$f":"'Daily Calcs'!J6802/1000000","v":0},{"$f":"'Daily Calcs'!K6802/1000000","v":0},0]
[0.1,{"$f":"'Daily Calcs'!J6803/1000000","v":0},{"$f":"'Daily Calcs'!K6803/1000000","v":0},0]
[0.1,{"$f":"'Daily Calcs'!J6804/1000000","v":0},{"$f":"'Daily Calcs'!K6804/1000000","v":0},0]
[0.1,{"$f":"'Daily Calcs'!J6805/1000000","v":0},{"$f":"'Daily Calcs'!K6805/1000000","v":0},0]
[0.1,{"$f":"'Daily Calcs'!J6806/1000000","v":0},{"$f":"'Daily Calcs'!K6806/1000000","v":0},0]
[0.1,{"$f":"'Daily Calcs'!J6807/1000000","v":0},{"$f":"'Daily Calcs'!K6807/1000000","v":0},0]
[0.1,{"$f":"'Daily Calcs'!J6808/1000000","v":0},{"$f":"'Daily Calcs'!K6808/1000000","v":0},0]
[0.1,{"$f":"'Daily Calcs'!J6809/1000000","v":1.1088016681801366E-5},{"$f":"'Daily Calcs'!K6809/1000000","v":1.1106597719705379E-5},1.1088016681801366E-5]
[0.1,{"$f":"'Daily Calcs'!J6810/1000000","v":1.0378637566137564E-5},{"$f":"'Daily Calcs'!K6810/1000000","v":1.038861000881834E-5},1.0378637566137564E-5]
[0.1,{"$f":"'Daily Calcs'!J6811/1000000","v":8.0325010461710129E-6},{"$f":"'Daily Calcs'!K6811/1000000","v":8.0398430743478864E-6},8.0325010461710129E-6]
[0.1,{"$f":"'Daily Calcs'!J6812/1000000","v":6.0816076597639723E-6},{"$f":"'Daily Calcs'!K6812/1000000","v":6.0842039634825201E-6},6.0816076597639723E-6]
[0.1,{"$f":"'Daily Calcs'!J6813/1000000","v":4.6298646952155113E-6},{"$f":"'Daily Calcs'!K6813/1000000","v":4.6307993443994979E-6},4.6298646952155113E-6]
[0.1,{"$f":"'Daily Calcs'!J6814/1000000","v":0},{"$f":"'Daily Calcs'!K6814/1000000","v":0},0]
[0.1,{"$f":"'Daily Calcs'!J6815/1000000","v":3.4025178068577115E-6},{"$f":"'Daily Calcs'!K6815/1000000","v":3.4028176246480037E-6},3.4025178068577115E-6]
[0.1,{"$f":"'Daily Calcs'!J6816/1000000","v":2.5929643777205293E-6},{"$f":"'Daily Calcs'!K6816/1000000","v":2.5930801456871276E-6},2.5929643777205293E-6]
[0.1,{"$f":"'Daily Calcs'!J6817/1000000","v":0},{"$f":"'Daily Calcs'!K6817/1000000","v":0},0]
[0.1,{"$f":"'Daily Calcs'!J6818/1000000","v":2.3514335672710725E-6},{"$f":"'Daily Calcs'!K6818/1000000","v":2.3514692950729358E-6},2.3514335672710725E-6]
[0.1,{"$f":"'Daily Calcs'!J6819/1000000","v":2.1547318888454434E-6},{"$f":"'Daily Calcs'!K6819/1000000","v":2.1547553507624683E-6},2.1547318888454434E-6]
[0.1,{"$f":"'Daily Calcs'!J6820/1000000","v":0},{"$f":"'Daily Calcs'!K6820/1000000","v":0},0]
[0.1,{"$f":"'Daily Calcs'!J6821/1000000","v":0},{"$f":"'Daily Calcs'!K6821/1000000","v":0},0]
[0.1,{"$f":"'Daily Calcs'!J6822/1000000","v":0},{"$f":"'Daily Calcs'!K6822/1000000","v":0},0]
[0.1,{"$f":"'Daily Calcs'!J6823/1000000","v":0},{"$f":"'Daily Calcs'!K6823/1000000","v":0},0]
[0.1,{"$f":"'Daily Calcs'!J6824/1000000","v":0},{"$f":"'Daily Calcs'!K6824/1000000","v":0},0]
[0.1,{"$f":"'Daily Calcs'!J6825/1000000","v":0},{"$f":"'Daily Calcs'!K6825/1000000","v":0},0]
[0.1,{"$f":"'Daily Calcs'!J6826/1000000","v":0},{"$f":"'Daily Calcs'!K6826/1000000","v":0},0]
[0.1,{"$f":"'Daily Calcs'!J6827/1000000","v":0},{"$f":"'Daily Calcs'!K6827/1000000","v":0},0]
[0.1,{"$f":"'Daily Calcs'!J6828/1000000","v":0},{"$f":"'Daily Calcs'!K6828/1000000","v":0},0]
[0.1,{"$f":"'Daily Calcs'!J6829/1000000","v":0},{"$f":"'Daily Calcs'!K6829/1000000","v":0},0]
[0.1,{"$f":"'Daily Calcs'!J6830/1000000","v":0},{"$f":"'Daily Calcs'!K6830/1000000","v":0},0]
[0.1,{"$f":"'Daily Calcs'!J6831/1000000","v":0},{"$f":"'Daily Calcs'!K6831/1000000","v":0},0]
[0.1,{"$f":"'Daily Calcs'!J6832/1000000","v":0},{"$f":"'Daily Calcs'!K6832/1000000","v":0},0]
[0.1,{"$f":"'Daily Calcs'!J6833/1000000","v":0},{"$f":"'Daily Calcs'!K6833/1000000","v":0},0]
[0.1,{"$f":"'Daily Calcs'!J6834/1000000","v":0},{"$f":"'Daily Calcs'!K6834/1000000","v":0},0]
[0.1,{"$f":"'Daily Calcs'!J6835/1000000","v":9.917968409110743E-7},{"$f":"'Daily Calcs'!K6835/1000000","v":9.9180018334933238E-7},9.917968409110743E-7]
[0.1,{"$f":"'Daily Calcs'!J6836/1000000","v":7.8493785635177828E-7},{"$f":"'Daily Calcs'!K6836/1000000","v":7.8493937790721528E-7},7.8493785635177828E-7]
[0.1,{"$f":"'Daily Calcs'!J6837/1000000","v":0},{"$f":"'Daily Calcs'!K6837/1000000","v":0},0]
[0.1,{"$f":"'Daily Calcs'!J6838/1000000","v":0},{"$f":"'Daily Calcs'!K6838/1000000","v":0},0]
[0.1,{"$f":"'Daily Calcs'!J6839/1000000","v":5.5437831690674744E-7},{"$f":"'Daily Calcs'!K6839/1000000","v":5.5437888684609549E-7},5.5437831690674744E-7]
[0.1,{"$f":"'Daily Calcs'!J6840/1000000","v":0},{"$f":"'Daily Calcs'!K6840/1000000","v":0},0]
[0.1,{"$f":"'Daily Calcs'!J6841/1000000","v":0},{"$f":"'Daily Calcs'!K6841/1000000","v":0},0]
[0.1,{"$f":"'Daily Calcs'!J6842/1000000","v":0},{"$f":"'Daily Calcs'!K6842/1000000","v":0},0]
[0.1,{"$f":"'Daily Calcs'!J6843/1000000","v":0},{"$f":"'Daily Calcs'!K6843/1000000","v":0},0]
[0.1,{"$f":"'Daily Calcs'!J6844/1000000","v":0},{"$f":"'Daily Calcs'!K6844/1000000","v":0},0]
[0.1,{"$f":"'Daily Calcs'!J6845/1000000","v":3.1753104082571146E-7},{"$f":"'Daily Calcs'!K6845/1000000","v":3.175311701905881E-7},3.1753104082571146E-7]
[0.1,{"$f":"'Daily Calcs'!J6846/1000000","v":2.0188716502115656E-7},{"$f":"'Daily Calcs'!K6846/1000000","v":2.0188720671368126E-7},2.0188716502115656E-7]
[0.1,{"$f":"'Daily Calcs'!J6847/1000000","v":0},{"$f":"'Daily Calcs'!K6847/1000000","v":0},0]
[0.1,{"$f":"'Daily Calcs'!J6848/1000000","v":0},{"$f":"'Daily Calcs'!K6848/1000000","v":0},0]
[0.1,{"$f":"'Daily Calcs'!J6849/1000000","v":0},{"$f":"'Daily Calcs'!K6849/1000000","v":0},0]
[0.1,{"$f":"'Daily Calcs'!J6850/1000000","v":0},{"$f":"'Daily Calcs'!K6850/1000000","v":0},0]
[0.1,{"$f":"'Daily Calcs'!J6851/1000000","v":0},{"$f":"'Daily Calcs'!K6851/1000000","v":0},{"$f":"B6855","v":0}]
[0.1,{"$f":"'Daily Calcs'!J6852/1000000","v":1.0573978393612025E-7},{"$f":"'Daily Calcs'!K6852/1000000","v":1.057397928736496E-7},1.0573978393612025E-7]
[0.1,{"$f":"'Daily Calcs'!J6853/1000000","v":0},{"$f":"'Daily Calcs'!K6853/1000000","v":0},0]
[0.1,{"$f":"'Daily Calcs'!J6854/1000000","v":0},{"$f":"'Daily Calcs'!K6854/1000000","v":0},0]
[0.1,{"$f":"'Daily Calcs'!J6855/1000000","v":0},{"$f":"'Daily Calcs'!K6855/1000000","v":0},0]
[0.1,{"$f":"'Daily Calcs'!J6856/1000000","v":0},{"$f":"'Daily Calcs'!K6856/1000000","v":0},0]
[0.1,{"$f":"'Daily Calcs'!J6857/1000000","v":0},{"$f":"'Daily Calcs'!K6857/1000000","v":0},0]
[0.1,{"$f":"'Daily Calcs'!J6858/1000000","v":0},{"$f":"'Daily Calcs'!K6858/1000000","v":0},0]
[0.1,{"$f":"'Daily Calcs'!J6859/1000000","v":0},{"$f":"'Daily Calcs'!K6859/1000000","v":0},0]
[0.1,{"$f":"'Daily Calcs'!J6860/1000000","v":0},{"$f":"'Daily Calcs'!K6860/1000000","v":0},0]
[0.1,{"$f":"'Daily Calcs'!J6861/1000000","v":0},{"$f":"'Daily Calcs'!K6861/1000000","v":0},0]
[0.1,{"$f":"'Daily Calcs'!J6862/1000000","v":0},{"$f":"'Daily Calcs'!K6862/1000000","v":0},0]
[0.1,{"$f":"'Daily Calcs'!J6863/1000000","v":0},{"$f":"'Daily Calcs'!K6863/1000000","v":0},0]
[0.1,{"$f":"'Daily Calcs'!J6864/1000000","v":0},{"$f":"'Daily Calcs'!K6864/1000000","v":0},0]
[0.1,{"$f":"'Daily Calcs'!J6865/1000000","v":0},{"$f":"'Daily Calcs'!K6865/1000000","v":0},0]
[0.1,{"$f":"'Daily Calcs'!J6866/1000000","v":0},{"$f":"'Daily Calcs'!K6866/1000000","v":0},0]
[0.1,{"$f":"'Daily Calcs'!J6867/1000000","v":0},{"$f":"'Daily Calcs'!K6867/1000000","v":0},0]
[0.1,{"$f":"'Daily Calcs'!J6868/1000000","v":0},{"$f":"'Daily Calcs'!K6868/1000000","v":0},0]
[0.1,{"$f":"'Daily Calcs'!J6869/1000000","v":0},{"$f":"'Daily Calcs'!K6869/1000000","v":0},0]
[0.1,{"$f":"'Daily Calcs'!J6870/1000000","v":0},{"$f":"'Daily Calcs'!K6870/1000000","v":0},0]
[0.1,{"$f":"'Daily Calcs'!J6871/1000000","v":0},{"$f":"'Daily Calcs'!K6871/1000000","v":0},0]
[0.1,{"$f":"'Daily Calcs'!J6872/1000000","v":0},{"$f":"'Daily Calcs'!K6872/1000000","v":0},0]
[0.1,{"$f":"'Daily Calcs'!J6873/1000000","v":0},{"$f":"'Daily Calcs'!K6873/1000000","v":0},0]
[0.1,{"$f":"'Daily Calcs'!J6874/1000000","v":0},{"$f":"'Daily Calcs'!K6874/1000000","v":0},0]
[0.1,{"$f":"'Daily Calcs'!J6875/1000000","v":0},{"$f":"'Daily Calcs'!K6875/1000000","v":0},0]
[0.1,{"$f":"'Daily Calcs'!J6876/1000000","v":0},{"$f":"'Daily Calcs'!K6876/1000000","v":0},0]
[0.1,{"$f":"'Daily Calcs'!J6877/1000000","v":5.2296781819158649E-8},{"$f":"'Daily Calcs'!K6877/1000000","v":5.2296782438922612E-8},5.2296781819158649E-8]
[0.1,{"$f":"'Daily Calcs'!J6878/1000000","v":0},{"$f":"'Daily Calcs'!K6878/1000000","v":0},0]
[0.1,{"$f":"'Daily Calcs'!J6879/1000000","v":0},{"$f":"'Daily Calcs'!K6879/1000000","v":0},0]
[0.1,{"$f":"'Daily Calcs'!J6880/1000000","v":4.4876143047267417E-8},{"$f":"'Daily Calcs'!K6880/1000000","v":4.4876143403030962E-8},4.4876143047267417E-8]
[0.1,{"$f":"'Daily Calcs'!J6881/1000000","v":2.8511734855692991E-8},{"$f":"'Daily Calcs'!K6881/1000000","v":2.8511735120012686E-8},2.8511734855692991E-8]
[0.1,{"$f":"'Daily Calcs'!J6882/1000000","v":0},{"$f":"'Daily Calcs'!K6882/1000000","v":0},0]
[0.1,{"$f":"'Daily Calcs'!J6883/1000000","v":0},{"$f":"'Daily Calcs'!K6883/1000000","v":0},0]
[0.1,{"$f":"'Daily Calcs'!J6884/1000000","v":0},{"$f":"'Daily Calcs'!K6884/1000000","v":0},0]
[0.1,{"$f":"'Daily Calcs'!J6885/1000000","v":0},{"$f":"'Daily Calcs'!K6885/1000000","v":0},0]
[0.1,{"$f":"'Daily Calcs'!J6886/1000000","v":0},{"$f":"'Daily Calcs'!K6886/1000000","v":0},0]
[0.1,{"$f":"'Daily Calcs'!J6887/1000000","v":0},{"$f":"'Daily Calcs'!K6887/1000000","v":0},0]
[0.1,{"$f":"'Daily Calcs'!J6888/1000000","v":0},{"$f":"'Daily Calcs'!K6888/1000000","v":0},0]
[0.1,{"$f":"'Daily Calcs'!J6889/1000000","v":1.3430689732644349E-8},{"$f":"'Daily Calcs'!K6889/1000000","v":1.3430689783449787E-8},1.3430689732644349E-8]
[0.1,{"$f":"'Daily Calcs'!J6890/1000000","v":9.1871338440739063E-9},{"$f":"'Daily Calcs'!K6890/1000000","v":9.1871338686700077E-9},9.1871338440739063E-9]
[0.1,{"$f":"'Daily Calcs'!J6891/1000000","v":0},{"$f":"'Daily Calcs'!K6891/1000000","v":0},0]
[0.1,{"$f":"'Daily Calcs'!J6892/1000000","v":0},{"$f":"'Daily Calcs'!K6892/1000000","v":0},0]
[0.1,{"$f":"'Daily Calcs'!J6893/1000000","v":0},{"$f":"'Daily Calcs'!K6893/1000000","v":0},0]
[0.1,{"$f":"'Daily Calcs'!J6894/1000000","v":0},{"$f":"'Daily Calcs'!K6894/1000000","v":0},0]
[0.1,{"$f":"'Daily Calcs'!J6895/1000000","v":0},{"$f":"'Daily Calcs'!K6895/1000000","v":0},0]
[0.1,{"$f":"'Daily Calcs'!J6896/1000000","v":0},{"$f":"'Daily Calcs'!K6896/1000000","v":0},0]
[0.1,{"$f":"'Daily Calcs'!J6897/1000000","v":0},{"$f":"'Daily Calcs'!K6897/1000000","v":0},0]
[0.1,{"$f":"'Daily Calcs'!J6898/1000000","v":0},{"$f":"'Daily Calcs'!K6898/1000000","v":0},0]
[0.1,{"$f":"'Daily Calcs'!J6899/1000000","v":0},{"$f":"'Daily Calcs'!K6899/1000000","v":0},0]
[0.1,{"$f":"'Daily Calcs'!J6900/1000000","v":0},{"$f":"'Daily Calcs'!K6900/1000000","v":0},0]
[0.1,{"$f":"'Daily Calcs'!J6901/1000000","v":0},{"$f":"'Daily Calcs'!K6901/1000000","v":0},0]
[0.1,{"$f":"'Daily Calcs'!J6902/1000000","v":0},{"$f":"'Daily Calcs'!K6902/1000000","v":0},0]
[0.1,{"$f":"'Daily Calcs'!J6903/1000000","v":3.7690937870993282E-9},{"$f":"'Daily Calcs'!K6903/1000000","v":3.7690937908878121E-9},3.7690937870993282E-9]
[0.1,{"$f":"'Daily Calcs'!J6904/1000000","v":2.1742564809415254E-9},{"$f":"'Daily Calcs'!K6904/1000000","v":2.1742564824833798E-9},2.1742564809415254E-9]
[0.1,{"$f":"'Daily Calcs'!J6905/1000000","v":0},{"$f":"'Daily Calcs'!K6905/1000000","v":0},0]
[0.1,{"$f":"'Daily Calcs'!J6906/1000000","v":0},{"$f":"'Daily Calcs'!K6906/1000000","v":0},0]
[0.1,{"$f":"'Daily Calcs'!J6907/1000000","v":0},{"$f":"'Daily Calcs'!K6907/1000000","v":0},0]
[0.1,{"$f":"'Daily Calcs'!J6908/1000000","v":0},{"$f":"'Daily Calcs'!K6908/1000000","v":0},0]
[0.1,{"$f":"'Daily Calcs'!J6909/1000000","v":0},{"$f":"'Daily Calcs'!K6909/1000000","v":0},0]
[0.1,{"$f":"'Daily Calcs'!J6910/1000000","v":0},{"$f":"'Daily Calcs'!K6910/1000000","v":0},0]
[0.1,{"$f":"'Daily Calcs'!J6911/1000000","v":0},{"$f":"'Daily Calcs'!K6911/1000000","v":0},0]
[0.1,{"$f":"'Daily Calcs'!J6912/1000000","v":0},{"$f":"'Daily Calcs'!K6912/1000000","v":0},0]
[0.1,{"$f":"'Daily Calcs'!J6913/1000000","v":0},{"$f":"'Daily Calcs'!K6913/1000000","v":0},0]
[0.1,{"$f":"'Daily Calcs'!J6914/1000000","v":0},{"$f":"'Daily Calcs'!K6914/1000000","v":0},0]
[0.1,{"$f":"'Daily Calcs'!J6915/1000000","v":0},{"$f":"'Daily Calcs'!K6915/1000000","v":0},{"$f":"B6919","v":0}]
[0.1,{"$f":"'Daily Calcs'!J6916/1000000","v":0},{"$f":"'Daily Calcs'!K6916/1000000","v":0},0]
[0.1,{"$f":"'Daily Calcs'!J6917/1000000","v":0},{"$f":"'Daily Calcs'!K6917/1000000","v":0},0]
[0.1,{"$f":"'Daily Calcs'!J6918/1000000","v":0},{"$f":"'Daily Calcs'!K6918/1000000","v":0},0]
[0.1,{"$f":"'Daily Calcs'!J6919/1000000","v":0},{"$f":"'Daily Calcs'!K6919/1000000","v":0},0]
[0.1,{"$f":"'Daily Calcs'!J6920/1000000","v":0},{"$f":"'Daily Calcs'!K6920/1000000","v":0},0]
[0.1,{"$f":"'Daily Calcs'!J6921/1000000","v":0},{"$f":"'Daily Calcs'!K6921/1000000","v":0},0]
[0.1,{"$f":"'Daily Calcs'!J6922/1000000","v":0},{"$f":"'Daily Calcs'!K6922/1000000","v":0},0]
[0.1,{"$f":"'Daily Calcs'!J6923/1000000","v":0},{"$f":"'Daily Calcs'!K6923/1000000","v":0},0]
[0.1,{"$f":"'Daily Calcs'!J6924/1000000","v":0},{"$f":"'Daily Calcs'!K6924/1000000","v":0},0]
[0.1,{"$f":"'Daily Calcs'!J6925/1000000","v":0},{"$f":"'Daily Calcs'!K6925/1000000","v":0},0]
[0.1,{"$f":"'Daily Calcs'!J6926/1000000","v":0},{"$f":"'Daily Calcs'!K6926/1000000","v":0},0]
[0.1,{"$f":"'Daily Calcs'!J6927/1000000","v":0},{"$f":"'Daily Calcs'!K6927/1000000","v":0},0]
[0.1,{"$f":"'Daily Calcs'!J6928/1000000","v":0},{"$f":"'Daily Calcs'!K6928/1000000","v":0},0]
[0.1,{"$f":"'Daily Calcs'!J6929/1000000","v":0},{"$f":"'Daily Calcs'!K6929/1000000","v":0},0]
[0.1,{"$f":"'Daily Calcs'!J6930/1000000","v":0},{"$f":"'Daily Calcs'!K6930/1000000","v":0},0]
[0.1,{"$f":"'Daily Calcs'!J6931/1000000","v":0},{"$f":"'Daily Calcs'!K6931/1000000","v":0},0]
[0.1,{"$f":"'Daily Calcs'!J6932/1000000","v":0},{"$f":"'Daily Calcs'!K6932/1000000","v":0},0]
[0.1,{"$f":"'Daily Calcs'!J6933/1000000","v":0},{"$f":"'Daily Calcs'!K6933/1000000","v":0},0]
[0.1,{"$f":"'Daily Calcs'!J6934/1000000","v":0},{"$f":"'Daily Calcs'!K6934/1000000","v":0},0]
[0.1,{"$f":"'Daily Calcs'!J6935/1000000","v":0},{"$f":"'Daily Calcs'!K6935/1000000","v":0},0]
[0.1,{"$f":"'Daily Calcs'!J6936/1000000","v":0},{"$f":"'Daily Calcs'!K6936/1000000","v":0},0]
[0.1,{"$f":"'Daily Calcs'!J6937/1000000","v":0},{"$f":"'Daily Calcs'!K6937/1000000","v":0},0]
[0.1,{"$f":"'Daily Calcs'!J6938/1000000","v":0},{"$f":"'Daily Calcs'!K6938/1000000","v":0},0]
[0.1,{"$f":"'Daily Calcs'!J6939/1000000","v":0},{"$f":"'Daily Calcs'!K6939/1000000","v":0},0]
[0.1,{"$f":"'Daily Calcs'!J6940/1000000","v":0},{"$f":"'Daily Calcs'!K6940/1000000","v":0},0]
[0.1,{"$f":"'Daily Calcs'!J6941/1000000","v":0},{"$f":"'Daily Calcs'!K6941/1000000","v":0},0]
[0.1,{"$f":"'Daily Calcs'!J6942/1000000","v":0},{"$f":"'Daily Calcs'!K6942/1000000","v":0},0]
[0.1,{"$f":"'Daily Calcs'!J6943/1000000","v":0},{"$f":"'Daily Calcs'!K6943/1000000","v":0},0]
[0.1,{"$f":"'Daily Calcs'!J6944/1000000","v":7.303235857323683E-10},{"$f":"'Daily Calcs'!K6944/1000000","v":7.3032358577807924E-10},7.303235857323683E-10]
[0.1,{"$f":"'Daily Calcs'!J6945/1000000","v":0},{"$f":"'Daily Calcs'!K6945/1000000","v":0},0]
[0.1,{"$f":"'Daily Calcs'!J6946/1000000","v":0},{"$f":"'Daily Calcs'!K6946/1000000","v":0},0]
[0.1,{"$f":"'Daily Calcs'!J6947/1000000","v":0},{"$f":"'Daily Calcs'!K6947/1000000","v":0},0]
[0.1,{"$f":"'Daily Calcs'!J6948/1000000","v":4.3909809390980941E-10},{"$f":"'Daily Calcs'!K6948/1000000","v":4.390980939326718E-10},4.3909809390980941E-10]
[0.1,{"$f":"'Daily Calcs'!J6949/1000000","v":0},{"$f":"'Daily Calcs'!K6949/1000000","v":0},0]
[0.1,{"$f":"'Daily Calcs'!J6950/1000000","v":0},{"$f":"'Daily Calcs'!K6950/1000000","v":0},0]
[0.1,{"$f":"'Daily Calcs'!J6951/1000000","v":2.0002854746908844E-10},{"$f":"'Daily Calcs'!K6951/1000000","v":2.000285474762023E-10},2.0002854746908844E-10]
[0.1,{"$f":"'Daily Calcs'!J6952/1000000","v":0},{"$f":"'Daily Calcs'!K6952/1000000","v":0},0]
[0.1,{"$f":"'Daily Calcs'!J6953/1000000","v":0},{"$f":"'Daily Calcs'!K6953/1000000","v":0},0]
[0.1,{"$f":"'Daily Calcs'!J6954/1000000","v":0},{"$f":"'Daily Calcs'!K6954/1000000","v":0},0]
[0.1,{"$f":"'Daily Calcs'!J6955/1000000","v":0},{"$f":"'Daily Calcs'!K6955/1000000","v":0},0]
[0.1,{"$f":"'Daily Calcs'!J6956/1000000","v":0},{"$f":"'Daily Calcs'!K6956/1000000","v":0},0]
[0.1,{"$f":"'Daily Calcs'!J6957/1000000","v":7.2022846918762692E-11},{"$f":"'Daily Calcs'!K6957/1000000","v":7.2022846920011217E-11},7.2022846918762692E-11]
[0.1,{"$f":"'Daily Calcs'!J6958/1000000","v":3.7023500950406079E-11},{"$f":"'Daily Calcs'!K6958/1000000","v":3.7023500950800354E-11},3.7023500950406079E-11]
[0.1,{"$f":"'Daily Calcs'!J6959/1000000","v":0},{"$f":"'Daily Calcs'!K6959/1000000","v":0},0]
[0.1,{"$f":"'Daily Calcs'!J6960/1000000","v":0},{"$f":"'Daily Calcs'!K6960/1000000","v":0},0]
[0.1,{"$f":"'Daily Calcs'!J6961/1000000","v":0},{"$f":"'Daily Calcs'!K6961/1000000","v":0},0]
[0.1,{"$f":"'Daily Calcs'!J6962/1000000","v":1.9106988911679893E-11},{"$f":"'Daily Calcs'!K6962/1000000","v":1.9106988911785966E-11},1.9106988911679893E-11]
[0.1,{"$f":"'Daily Calcs'!J6963/1000000","v":0},{"$f":"'Daily Calcs'!K6963/1000000","v":0},0]
[0.1,{"$f":"'Daily Calcs'!J6964/1000000","v":0},{"$f":"'Daily Calcs'!K6964/1000000","v":0},0]
[0.1,{"$f":"'Daily Calcs'!J6965/1000000","v":0},{"$f":"'Daily Calcs'!K6965/1000000","v":0},0]
[0.1,{"$f":"'Daily Calcs'!J6966/1000000","v":0},{"$f":"'Daily Calcs'!K6966/1000000","v":0},0]
[0.1,{"$f":"'Daily Calcs'!J6967/1000000","v":0},{"$f":"'Daily Calcs'!K6967/1000000","v":0},0]
[0.1,{"$f":"'Daily Calcs'!J6968/1000000","v":0},{"$f":"'Daily Calcs'!K6968/1000000","v":0},0]
[0.1,{"$f":"'Daily Calcs'!J6969/1000000","v":0},{"$f":"'Daily Calcs'!K6969/1000000","v":0},0]
[0.1,{"$f":"'Daily Calcs'!J6970/1000000","v":1.1581442803985117E-11},{"$f":"'Daily Calcs'!K6970/1000000","v":1.1581442804004956E-11},1.1581442803985117E-11]
[0.1,{"$f":"'Daily Calcs'!J6971/1000000","v":8.2126507835733629E-12},{"$f":"'Daily Calcs'!K6971/1000000","v":8.2126507835866188E-12},8.2126507835733629E-12]
[0.1,{"$f":"'Daily Calcs'!J6972/1000000","v":0},{"$f":"'Daily Calcs'!K6972/1000000","v":0},0]
[0.1,{"$f":"'Daily Calcs'!J6973/1000000","v":0},{"$f":"'Daily Calcs'!K6973/1000000","v":0},0]
[0.1,{"$f":"'Daily Calcs'!J6974/1000000","v":0},{"$f":"'Daily Calcs'!K6974/1000000","v":0},0]
[0.1,{"$f":"'Daily Calcs'!J6975/1000000","v":0},{"$f":"'Daily Calcs'!K6975/1000000","v":0},0]
[0.1,{"$f":"'Daily Calcs'!J6976/1000000","v":0},{"$f":"'Daily Calcs'!K6976/1000000","v":0},0]
[0.1,{"$f":"'Daily Calcs'!J6977/1000000","v":0},{"$f":"'Daily Calcs'!K6977/1000000","v":0},0]
[0.1,{"$f":"'Daily Calcs'!J6978/1000000","v":0},{"$f":"'Daily Calcs'!K6978/1000000","v":0},0]
[0.1,{"$f":"'Daily Calcs'!J6979/1000000","v":0},{"$f":"'Daily Calcs'!K6979/1000000","v":0},{"$f":"B6983","v":0}]
[0.1,{"$f":"'Daily Calcs'!J6980/1000000","v":2.6705249540409884E-12},{"$f":"'Daily Calcs'!K6980/1000000","v":2.6705249540443375E-12},2.6705249540409884E-12]
[0.1,{"$f":"'Daily Calcs'!J6981/1000000","v":0},{"$f":"'Daily Calcs'!K6981/1000000","v":0},0]
[0.1,{"$f":"'Daily Calcs'!J6982/1000000","v":0},{"$f":"'Daily Calcs'!K6982/1000000","v":0},0]
[0.1,{"$f":"'Daily Calcs'!J6983/1000000","v":0},{"$f":"'Daily Calcs'!K6983/1000000","v":0},0]
[0.1,{"$f":"'Daily Calcs'!J6984/1000000","v":0},{"$f":"'Daily Calcs'!K6984/1000000","v":0},0]
[0.1,{"$f":"'Daily Calcs'!J6985/1000000","v":0},{"$f":"'Daily Calcs'!K6985/1000000","v":0},0]
[0.1,{"$f":"'Daily Calcs'!J6986/1000000","v":1.7158278059565614E-12},{"$f":"'Daily Calcs'!K6986/1000000","v":1.7158278059573783E-12},1.7158278059565614E-12]
[0.1,{"$f":"'Daily Calcs'!J6987/1000000","v":1.0340041279669763E-12},{"$f":"'Daily Calcs'!K6987/1000000","v":1.0340041279675613E-12},1.0340041279669763E-12]
[0.1,{"$f":"'Daily Calcs'!J6988/1000000","v":0},{"$f":"'Daily Calcs'!K6988/1000000","v":0},0]
[0.1,{"$f":"'Daily Calcs'!J6989/1000000","v":0},{"$f":"'Daily Calcs'!K6989/1000000","v":0},0]
[0.1,{"$f":"'Daily Calcs'!J6990/1000000","v":0},{"$f":"'Daily Calcs'!K6990/1000000","v":0},0]
[0.1,{"$f":"'Daily Calcs'!J6991/1000000","v":0},{"$f":"'Daily Calcs'!K6991/1000000","v":0},0]
[0.1,{"$f":"'Daily Calcs'!J6992/1000000","v":0},{"$f":"'Daily Calcs'!K6992/1000000","v":0},0]
[0.1,{"$f":"'Daily Calcs'!J6993/1000000","v":5.0792693007108616E-13},{"$f":"'Daily Calcs'!K6993/1000000","v":5.0792693007122197E-13},5.0792693007108616E-13]
[0.1,{"$f":"'Daily Calcs'!J6994/1000000","v":0},{"$f":"'Daily Calcs'!K6994/1000000","v":0},0]
[0.1,{"$f":"'Daily Calcs'!J6995/1000000","v":0},{"$f":"'Daily Calcs'!K6995/1000000","v":0},0]
[0.1,{"$f":"'Daily Calcs'!J6996/1000000","v":0},{"$f":"'Daily Calcs'!K6996/1000000","v":0},0]
[0.1,{"$f":"'Daily Calcs'!J6997/1000000","v":0},{"$f":"'Daily Calcs'!K6997/1000000","v":0},0]
[0.1,{"$f":"'Daily Calcs'!J6998/1000000","v":0},{"$f":"'Daily Calcs'!K6998/1000000","v":0},0]
[0.1,{"$f":"'Daily Calcs'!J6999/1000000","v":0},{"$f":"'Daily Calcs'!K6999/1000000","v":0},0]
[0.1,{"$f":"'Daily Calcs'!J7000/1000000","v":0},{"$f":"'Daily Calcs'!K7000/1000000","v":0},0]
[0.1,{"$f":"'Daily Calcs'!J7001/1000000","v":0},{"$f":"'Daily Calcs'!K7001/1000000","v":0},0]
[0.1,{"$f":"'Daily Calcs'!J7002/1000000","v":0},{"$f":"'Daily Calcs'!K7002/1000000","v":0},0]
[0.1,{"$f":"'Daily Calcs'!J7003/1000000","v":0},{"$f":"'Daily Calcs'!K7003/1000000","v":0},0]
[0.1,{"$f":"'Daily Calcs'!J7004/1000000","v":0},{"$f":"'Daily Calcs'!K7004/1000000","v":0},0]
[0.1,{"$f":"'Daily Calcs'!J7005/1000000","v":1.1607995077905454E-13},{"$f":"'Daily Calcs'!K7005/1000000","v":1.16079950779069E-13},1.1607995077905454E-13]
[0.1,{"$f":"'Daily Calcs'!J7006/1000000","v":0},{"$f":"'Daily Calcs'!K7006/1000000","v":0},0]
[0.1,{"$f":"'Daily Calcs'!J7007/1000000","v":5.3901791553919746E-14},{"$f":"'Daily Calcs'!K7007/1000000","v":5.3901791553924814E-14},5.3901791553919746E-14]
[0.1,{"$f":"'Daily Calcs'!J7008/1000000","v":2.3104725950783001E-14},{"$f":"'Daily Calcs'!K7008/1000000","v":2.3104725950784614E-14},2.3104725950783001E-14]
[0.1,{"$f":"'Daily Calcs'!J7009/1000000","v":0},{"$f":"'Daily Calcs'!K7009/1000000","v":0},0]
[0.1,{"$f":"'Daily Calcs'!J7010/1000000","v":0},{"$f":"'Daily Calcs'!K7010/1000000","v":0},0]
[0.1,{"$f":"'Daily Calcs'!J7011/1000000","v":0},{"$f":"'Daily Calcs'!K7011/1000000","v":0},0]
[0.1,{"$f":"'Daily Calcs'!J7012/1000000","v":7.020240354206199E-15},{"$f":"'Daily Calcs'!K7012/1000000","v":7.0202403542064783E-15},7.020240354206199E-15]
[0.1,{"$f":"'Daily Calcs'!J7013/1000000","v":0},{"$f":"'Daily Calcs'!K7013/1000000","v":0},0]
[0.1,{"$f":"'Daily Calcs'!J7014/1000000","v":0},{"$f":"'Daily Calcs'!K7014/1000000","v":0},0]
[0.1,{"$f":"'Daily Calcs'!J7015/1000000","v":0},{"$f":"'Daily Calcs'!K7015/1000000","v":0},0]
[0.1,{"$f":"'Daily Calcs'!J7016/1000000","v":0},{"$f":"'Daily Calcs'!K7016/1000000","v":0},0]
[0.1,{"$f":"'Daily Calcs'!J7017/1000000","v":3.4596988485385303E-15},{"$f":"'Daily Calcs'!K7017/1000000","v":3.4596988485385882E-15},3.4596988485385303E-15]
[0.1,{"$f":"'Daily Calcs'!J7018/1000000","v":0},{"$f":"'Daily Calcs'!K7018/1000000","v":0},0]
[0.1,{"$f":"'Daily Calcs'!J7019/1000000","v":0},{"$f":"'Daily Calcs'!K7019/1000000","v":0},0]
[0.1,{"$f":"'Daily Calcs'!J7020/1000000","v":1.8208836100521933E-15},{"$f":"'Daily Calcs'!K7020/1000000","v":1.8208836100522138E-15},1.8208836100521933E-15]
[0.1,{"$f":"'Daily Calcs'!J7021/1000000","v":1.3555311355311357E-15},{"$f":"'Daily Calcs'!K7021/1000000","v":1.3555311355311469E-15},1.3555311355311357E-15]
[0.1,{"$f":"'Daily Calcs'!J7022/1000000","v":0},{"$f":"'Daily Calcs'!K7022/1000000","v":0},0]
[0.1,{"$f":"'Daily Calcs'!J7023/1000000","v":0},{"$f":"'Daily Calcs'!K7023/1000000","v":0},0]
[0.1,{"$f":"'Daily Calcs'!J7024/1000000","v":8.108356042414266E-16},{"$f":"'Daily Calcs'!K7024/1000000","v":8.1083560424143153E-16},8.108356042414266E-16]
[0.1,{"$f":"'Daily Calcs'!J7025/1000000","v":0},{"$f":"'Daily Calcs'!K7025/1000000","v":0},0]
[0.1,{"$f":"'Daily Calcs'!J7026/1000000","v":0},{"$f":"'Daily Calcs'!K7026/1000000","v":0},0]
[0.1,{"$f":"'Daily Calcs'!J7027/1000000","v":4.6623077631457777E-16},{"$f":"'Daily Calcs'!K7027/1000000","v":4.6623077631458024E-16},4.6623077631457777E-16]
[0.1,{"$f":"'Daily Calcs'!J7028/1000000","v":1.7706767552230238E-16},{"$f":"'Daily Calcs'!K7028/1000000","v":1.7706767552230341E-16},1.7706767552230238E-16]
[0.1,{"$f":"'Daily Calcs'!J7029/1000000","v":1.1351907981658507E-16},{"$f":"'Daily Calcs'!K7029/1000000","v":1.1351907981658534E-16},1.1351907981658507E-16]
[0.1,{"$f":"'Daily Calcs'!J7030/1000000","v":7.3362847222222221E-17},{"$f":"'Daily Calcs'!K7030/1000000","v":7.3362847222222369E-17},7.3362847222222221E-17]
[0.1,{"$f":"'Daily Calcs'!J7031/1000000","v":0},{"$f":"'Daily Calcs'!K7031/1000000","v":0},0]
[0.1,{"$f":"'Daily Calcs'!J7032/1000000","v":0},{"$f":"'Daily Calcs'!K7032/1000000","v":0},0]
[0.1,{"$f":"'Daily Calcs'!J7033/1000000","v":0},{"$f":"'Daily Calcs'!K7033/1000000","v":0},0]
[0.1,{"$f":"'Daily Calcs'!J7034/1000000","v":0},{"$f":"'Daily Calcs'!K7034/1000000","v":0},0]
[0.1,{"$f":"'Daily Calcs'!J7035/1000000","v":0},{"$f":"'Daily Calcs'!K7035/1000000","v":0},0]
[0.1,{"$f":"'Daily Calcs'!J7036/1000000","v":0},{"$f":"'Daily Calcs'!K7036/1000000","v":0},0]
[0.1,{"$f":"'Daily Calcs'!J7037/1000000","v":0},{"$f":"'Daily Calcs'!K7037/1000000","v":0},0]
[0.1,{"$f":"'Daily Calcs'!J7038/1000000","v":0},{"$f":"'Daily Calcs'!K7038/1000000","v":0},0]
[0.1,{"$f":"'Daily Calcs'!J7039/1000000","v":0},{"$f":"'Daily Calcs'!K7039/1000000","v":0},0]
[0.1,{"$f":"'Daily Calcs'!J7040/1000000","v":0},{"$f":"'Daily Calcs'!K7040/1000000","v":0},0]
[0.1,{"$f":"'Daily Calcs'!J7041/1000000","v":0},{"$f":"'Daily Calcs'!K7041/1000000","v":0},0]
[0.1,{"$f":"'Daily Calcs'!J7042/1000000","v":0},{"$f":"'Daily Calcs'!K7042/1000000","v":0},0]
[0.1,{"$f":"'Daily Calcs'!J7043/1000000","v":0},{"$f":"'Daily Calcs'!K7043/1000000","v":0},{"$f":"B7047","v":0}]
[0.1,{"$f":"'Daily Calcs'!J7044/1000000","v":1.3281199647667949E-17},{"$f":"'Daily Calcs'!K7044/1000000","v":1.3281199647667963E-17},1.3281199647667949E-17]
[0.1,{"$f":"'Daily Calcs'!J7045/1000000","v":0},{"$f":"'Daily Calcs'!K7045/1000000","v":0},0]
[0.1,{"$f":"'Daily Calcs'!J7046/1000000","v":0},{"$f":"'Daily Calcs'!K7046/1000000","v":0},0]
[0.1,{"$f":"'Daily Calcs'!J7047/1000000","v":0},{"$f":"'Daily Calcs'!K7047/1000000","v":0},0]
[0.1,{"$f":"'Daily Calcs'!J7048/1000000","v":0},{"$f":"'Daily Calcs'!K7048/1000000","v":0},0]
[0.1,{"$f":"'Daily Calcs'!J7049/1000000","v":0},{"$f":"'Daily Calcs'!K7049/1000000","v":0},0]
[0.1,{"$f":"'Daily Calcs'!J7050/1000000","v":0},{"$f":"'Daily Calcs'!K7050/1000000","v":0},0]
[0.1,{"$f":"'Daily Calcs'!J7051/1000000","v":0},{"$f":"'Daily Calcs'!K7051/1000000","v":0},0]
[0.1,{"$f":"'Daily Calcs'!J7052/1000000","v":0},{"$f":"'Daily Calcs'!K7052/1000000","v":0},0]
[0.1,{"$f":"'Daily Calcs'!J7053/1000000","v":0},{"$f":"'Daily Calcs'!K7053/1000000","v":0},0]
[0.1,{"$f":"'Daily Calcs'!J7054/1000000","v":0},{"$f":"'Daily Calcs'!K7054/1000000","v":0},0]
[0.1,{"$f":"'Daily Calcs'!J7055/1000000","v":0},{"$f":"'Daily Calcs'!K7055/1000000","v":0},0]
[0.1,{"$f":"'Daily Calcs'!J7056/1000000","v":0},{"$f":"'Daily Calcs'!K7056/1000000","v":0},0]
[0.1,{"$f":"'Daily Calcs'!J7057/1000000","v":0},{"$f":"'Daily Calcs'!K7057/1000000","v":0},0]
[0.1,{"$f":"'Daily Calcs'!J7058/1000000","v":0},{"$f":"'Daily Calcs'!K7058/1000000","v":0},0]
[0.1,{"$f":"'Daily Calcs'!J7059/1000000","v":0},{"$f":"'Daily Calcs'!K7059/1000000","v":0},0]
[0.1,{"$f":"'Daily Calcs'!J7060/1000000","v":0},{"$f":"'Daily Calcs'!K7060/1000000","v":0},0]
[0.1,{"$f":"'Daily Calcs'!J7061/1000000","v":0},{"$f":"'Daily Calcs'!K7061/1000000","v":0},0]
[0.1,{"$f":"'Daily Calcs'!J7062/1000000","v":0},{"$f":"'Daily Calcs'!K7062/1000000","v":0},0]
[0.1,{"$f":"'Daily Calcs'!J7063/1000000","v":0},{"$f":"'Daily Calcs'!K7063/1000000","v":0},0]
[0.1,{"$f":"'Daily Calcs'!J7064/1000000","v":0},{"$f":"'Daily Calcs'!K7064/1000000","v":0},0]
[0.1,{"$f":"'Daily Calcs'!J7065/1000000","v":0},{"$f":"'Daily Calcs'!K7065/1000000","v":0},0]
[0.1,{"$f":"'Daily Calcs'!J7066/1000000","v":0},{"$f":"'Daily Calcs'!K7066/1000000","v":0},0]
[0.1,{"$f":"'Daily Calcs'!J7067/1000000","v":0},{"$f":"'Daily Calcs'!K7067/1000000","v":0},0]
[0.1,{"$f":"'Daily Calcs'!J7068/1000000","v":0},{"$f":"'Daily Calcs'!K7068/1000000","v":0},0]
[0.1,{"$f":"'Daily Calcs'!J7069/1000000","v":0},{"$f":"'Daily Calcs'!K7069/1000000","v":0},0]
[0.1,{"$f":"'Daily Calcs'!J7070/1000000","v":0},{"$f":"'Daily Calcs'!K7070/1000000","v":0},0]
[0.1,{"$f":"'Daily Calcs'!J7071/1000000","v":0},{"$f":"'Daily Calcs'!K7071/1000000","v":0},0]
[0.1,{"$f":"'Daily Calcs'!J7072/1000000","v":0},{"$f":"'Daily Calcs'!K7072/1000000","v":0},0]
[0.1,{"$f":"'Daily Calcs'!J7073/1000000","v":0},{"$f":"'Daily Calcs'!K7073/1000000","v":0},0]
[0.1,{"$f":"'Daily Calcs'!J7074/1000000","v":0},{"$f":"'Daily Calcs'!K7074/1000000","v":0},0]
[0.1,{"$f":"'Daily Calcs'!J7075/1000000","v":0},{"$f":"'Daily Calcs'!K7075/1000000","v":0},0]
[0.1,{"$f":"'Daily Calcs'!J7076/1000000","v":0},{"$f":"'Daily Calcs'!K7076/1000000","v":0},0]
[0.1,{"$f":"'Daily Calcs'!J7077/1000000","v":0},{"$f":"'Daily Calcs'!K7077/1000000","v":0},0]
[0.1,{"$f":"'Daily Calcs'!J7078/1000000","v":3.2681925542683608E-18},{"$f":"'Daily Calcs'!K7078/1000000","v":3.2681925542683616E-18},3.2681925542683608E-18]
[0.1,{"$f":"'Daily Calcs'!J7079/1000000","v":0},{"$f":"'Daily Calcs'!K7079/1000000","v":0},0]
[0.1,{"$f":"'Daily Calcs'!J7080/1000000","v":1.5363210360398737E-18},{"$f":"'Daily Calcs'!K7080/1000000","v":1.5363210360398743E-18},1.5363210360398737E-18]
[0.1,{"$f":"'Daily Calcs'!J7081/1000000","v":6.4927916634020207E-19},{"$f":"'Daily Calcs'!K7081/1000000","v":6.4927916634020217E-19},6.4927916634020207E-19]
[0.1,{"$f":"'Daily Calcs'!J7082/1000000","v":0},{"$f":"'Daily Calcs'!K7082/1000000","v":0},0]
[0.1,{"$f":"'Daily Calcs'!J7083/1000000","v":2.7954545454545458E-19},{"$f":"'Daily Calcs'!K7083/1000000","v":2.7954545454545462E-19},2.7954545454545458E-19]
[0.1,{"$f":"'Daily Calcs'!J7084/1000000","v":1.1455737910691311E-19},{"$f":"'Daily Calcs'!K7084/1000000","v":1.1455737910691311E-19},1.1455737910691311E-19]
[0.1,{"$f":"'Daily Calcs'!J7085/1000000","v":0},{"$f":"'Daily Calcs'!K7085/1000000","v":0},0]
[0.1,{"$f":"'Daily Calcs'!J7086/1000000","v":0},{"$f":"'Daily Calcs'!K7086/1000000","v":0},0]
[0.1,{"$f":"'Daily Calcs'!J7087/1000000","v":0},{"$f":"'Daily Calcs'!K7087/1000000","v":0},0]
[0.1,{"$f":"'Daily Calcs'!J7088/1000000","v":0},{"$f":"'Daily Calcs'!K7088/1000000","v":0},0]
[0.1,{"$f":"'Daily Calcs'!J7089/1000000","v":0},{"$f":"'Daily Calcs'!K7089/1000000","v":0},0]
[0.1,{"$f":"'Daily Calcs'!J7090/1000000","v":0},{"$f":"'Daily Calcs'!K7090/1000000","v":0},0]
[0.1,{"$f":"'Daily Calcs'!J7091/1000000","v":0},{"$f":"'Daily Calcs'!K7091/1000000","v":0},0]
[0.1,{"$f":"'Daily Calcs'!J7092/1000000","v":0},{"$f":"'Daily Calcs'!K7092/1000000","v":0},0]
[0.1,{"$f":"'Daily Calcs'!J7093/1000000","v":0},{"$f":"'Daily Calcs'!K7093/1000000","v":0},0]
[0.1,{"$f":"'Daily Calcs'!J7094/1000000","v":0},{"$f":"'Daily Calcs'!K7094/1000000","v":0},0]
[0.1,{"$f":"'Daily Calcs'!J7095/1000000","v":0},{"$f":"'Daily Calcs'!K7095/1000000","v":0},0]
[0.1,{"$f":"'Daily Calcs'!J7096/1000000","v":0},{"$f":"'Daily Calcs'!K7096/1000000","v":0},0]
[0.1,{"$f":"'Daily Calcs'!J7097/1000000","v":0},{"$f":"'Daily Calcs'!K7097/1000000","v":0},0]
[0.1,{"$f":"'Daily Calcs'!J7098/1000000","v":0},{"$f":"'Daily Calcs'!K7098/1000000","v":0},0]
[0.1,{"$f":"'Daily Calcs'!J7099/1000000","v":0},{"$f":"'Daily Calcs'!K7099/1000000","v":0},0]
[0.1,{"$f":"'Daily Calcs'!J7100/1000000","v":0},{"$f":"'Daily Calcs'!K7100/1000000","v":0},0]
[0.1,{"$f":"'Daily Calcs'!J7101/1000000","v":0},{"$f":"'Daily Calcs'!K7101/1000000","v":0},0]
[0.1,{"$f":"'Daily Calcs'!J7102/1000000","v":0},{"$f":"'Daily Calcs'!K7102/1000000","v":0},0]
[0.1,{"$f":"'Daily Calcs'!J7103/1000000","v":0},{"$f":"'Daily Calcs'!K7103/1000000","v":0},0]
[0.1,{"$f":"'Daily Calcs'!J7104/1000000","v":0},{"$f":"'Daily Calcs'!K7104/1000000","v":0},0]
[0.1,{"$f":"'Daily Calcs'!J7105/1000000","v":0},{"$f":"'Daily Calcs'!K7105/1000000","v":0},0]
[0.1,{"$f":"'Daily Calcs'!J7106/1000000","v":0},{"$f":"'Daily Calcs'!K7106/1000000","v":0},0]
[0.1,{"$f":"'Daily Calcs'!J7107/1000000","v":0},{"$f":"'Daily Calcs'!K7107/1000000","v":0},{"$f":"B7111","v":0}]
[0.1,{"$f":"'Daily Calcs'!J7108/1000000","v":0},{"$f":"'Daily Calcs'!K7108/1000000","v":0},0]
[0.1,{"$f":"'Daily Calcs'!J7109/1000000","v":3.9567804708539647E-20},{"$f":"'Daily Calcs'!K7109/1000000","v":3.9567804708539647E-20},3.9567804708539647E-20]
[0.1,{"$f":"'Daily Calcs'!J7110/1000000","v":0},{"$f":"'Daily Calcs'!K7110/1000000","v":0},0]
[0.1,{"$f":"'Daily Calcs'!J7111/1000000","v":0},{"$f":"'Daily Calcs'!K7111/1000000","v":0},0]
[0.1,{"$f":"'Daily Calcs'!J7112/1000000","v":0},{"$f":"'Daily Calcs'!K7112/1000000","v":0},0]
[0.1,{"$f":"'Daily Calcs'!J7113/1000000","v":0},{"$f":"'Daily Calcs'!K7113/1000000","v":0},0]
[0.1,{"$f":"'Daily Calcs'!J7114/1000000","v":0},{"$f":"'Daily Calcs'!K7114/1000000","v":0},0]
[0.1,{"$f":"'Daily Calcs'!J7115/1000000","v":1.0198007314919915E-20},{"$f":"'Daily Calcs'!K7115/1000000","v":1.0198007314919915E-20},1.0198007314919915E-20]
[0.1,{"$f":"'Daily Calcs'!J7116/1000000","v":4.6535142534071296E-21},{"$f":"'Daily Calcs'!K7116/1000000","v":4.6535142534071296E-21},4.6535142534071296E-21]
[0.1,{"$f":"'Daily Calcs'!J7117/1000000","v":2.2786084413313696E-21},{"$f":"'Daily Calcs'!K7117/1000000","v":2.2786084413313696E-21},2.2786084413313696E-21]
[0.1,{"$f":"'Daily Calcs'!J7118/1000000","v":0},{"$f":"'Daily Calcs'!K7118/1000000","v":0},0]
[0.1,{"$f":"'Daily Calcs'!J7119/1000000","v":0},{"$f":"'Daily Calcs'!K7119/1000000","v":0},0]
[0.1,{"$f":"'Daily Calcs'!J7120/1000000","v":0},{"$f":"'Daily Calcs'!K7120/1000000","v":0},0]
[0.1,{"$f":"'Daily Calcs'!J7121/1000000","v":0},{"$f":"'Daily Calcs'!K7121/1000000","v":0},0]
[0.1,{"$f":"'Daily Calcs'!J7122/1000000","v":0},{"$f":"'Daily Calcs'!K7122/1000000","v":0},0]
[0.1,{"$f":"'Daily Calcs'!J7123/1000000","v":0},{"$f":"'Daily Calcs'!K7123/1000000","v":0},0]
[0.1,{"$f":"'Daily Calcs'!J7124/1000000","v":0},{"$f":"'Daily Calcs'!K7124/1000000","v":0},0]
[0.1,{"$f":"'Daily Calcs'!J7125/1000000","v":0},{"$f":"'Daily Calcs'!K7125/1000000","v":0},0]
[0.1,{"$f":"'Daily Calcs'!J7126/1000000","v":0},{"$f":"'Daily Calcs'!K7126/1000000","v":0},0]
[0.1,{"$f":"'Daily Calcs'!J7127/1000000","v":0},{"$f":"'Daily Calcs'!K7127/1000000","v":0},0]
[0.1,{"$f":"'Daily Calcs'!J7128/1000000","v":0},{"$f":"'Daily Calcs'!K7128/1000000","v":0},0]
[0.1,{"$f":"'Daily Calcs'!J7129/1000000","v":0},{"$f":"'Daily Calcs'!K7129/1000000","v":0},0]
[0.1,{"$f":"'Daily Calcs'!J7130/1000000","v":0},{"$f":"'Daily Calcs'!K7130/1000000","v":0},0]
[0.1,{"$f":"'Daily Calcs'!J7131/1000000","v":0},{"$f":"'Daily Calcs'!K7131/1000000","v":0},0]
[0.1,{"$f":"'Daily Calcs'!J7132/1000000","v":0},{"$f":"'Daily Calcs'!K7132/1000000","v":0},0]
[0.1,{"$f":"'Daily Calcs'!J7133/1000000","v":0},{"$f":"'Daily Calcs'!K7133/1000000","v":0},0]
[0.1,{"$f":"'Daily Calcs'!J7134/1000000","v":0},{"$f":"'Daily Calcs'!K7134/1000000","v":0},0]
[0.1,{"$f":"'Daily Calcs'!J7135/1000000","v":0},{"$f":"'Daily Calcs'!K7135/1000000","v":0},0]
[0.1,{"$f":"'Daily Calcs'!J7136/1000000","v":0},{"$f":"'Daily Calcs'!K7136/1000000","v":0},0]
[0.1,{"$f":"'Daily Calcs'!J7137/1000000","v":0},{"$f":"'Daily Calcs'!K7137/1000000","v":0},0]
[0.1,{"$f":"'Daily Calcs'!J7138/1000000","v":0},{"$f":"'Daily Calcs'!K7138/1000000","v":0},0]
[0.1,{"$f":"'Daily Calcs'!J7139/1000000","v":0},{"$f":"'Daily Calcs'!K7139/1000000","v":0},0]
[0.1,{"$f":"'Daily Calcs'!J7140/1000000","v":0},{"$f":"'Daily Calcs'!K7140/1000000","v":0},0]
[0.1,{"$f":"'Daily Calcs'!J7141/1000000","v":0},{"$f":"'Daily Calcs'!K7141/1000000","v":0},0]
[0.1,{"$f":"'Daily Calcs'!J7142/1000000","v":0},{"$f":"'Daily Calcs'!K7142/1000000","v":0},0]
[0.1,{"$f":"'Daily Calcs'!J7143/1000000","v":0},{"$f":"'Daily Calcs'!K7143/1000000","v":0},0]
[0.1,{"$f":"'Daily Calcs'!J7144/1000000","v":0},{"$f":"'Daily Calcs'!K7144/1000000","v":0},0]
[0.1,{"$f":"'Daily Calcs'!J7145/1000000","v":0},{"$f":"'Daily Calcs'!K7145/1000000","v":0},0]
[0.1,{"$f":"'Daily Calcs'!J7146/1000000","v":0},{"$f":"'Daily Calcs'!K7146/1000000","v":0},0]
[0.1,{"$f":"'Daily Calcs'!J7147/1000000","v":0},{"$f":"'Daily Calcs'!K7147/1000000","v":0},0]
[0.1,{"$f":"'Daily Calcs'!J7148/1000000","v":0},{"$f":"'Daily Calcs'!K7148/1000000","v":0},0]
[0.1,{"$f":"'Daily Calcs'!J7149/1000000","v":0},{"$f":"'Daily Calcs'!K7149/1000000","v":0},0]
[0.1,{"$f":"'Daily Calcs'!J7150/1000000","v":0},{"$f":"'Daily Calcs'!K7150/1000000","v":0},0]
[0.1,{"$f":"'Daily Calcs'!J7151/1000000","v":0},{"$f":"'Daily Calcs'!K7151/1000000","v":0},0]
[0.1,{"$f":"'Daily Calcs'!J7152/1000000","v":0},{"$f":"'Daily Calcs'!K7152/1000000","v":0},0]
[0.1,{"$f":"'Daily Calcs'!J7153/1000000","v":0},{"$f":"'Daily Calcs'!K7153/1000000","v":0},0]
[0.1,{"$f":"'Daily Calcs'!J7154/1000000","v":0},{"$f":"'Daily Calcs'!K7154/1000000","v":0},0]
[0.1,{"$f":"'Daily Calcs'!J7155/1000000","v":0},{"$f":"'Daily Calcs'!K7155/1000000","v":0},0]
[0.1,{"$f":"'Daily Calcs'!J7156/1000000","v":0},{"$f":"'Daily Calcs'!K7156/1000000","v":0},0]
[0.1,{"$f":"'Daily Calcs'!J7157/1000000","v":0},{"$f":"'Daily Calcs'!K7157/1000000","v":0},0]
[0.1,{"$f":"'Daily Calcs'!J7158/1000000","v":0},{"$f":"'Daily Calcs'!K7158/1000000","v":0},0]
[0.1,{"$f":"'Daily Calcs'!J7159/1000000","v":0},{"$f":"'Daily Calcs'!K7159/1000000","v":0},0]
[0.1,{"$f":"'Daily Calcs'!J7160/1000000","v":0},{"$f":"'Daily Calcs'!K7160/1000000","v":0},0]
[0.1,{"$f":"'Daily Calcs'!J7161/1000000","v":0},{"$f":"'Daily Calcs'!K7161/1000000","v":0},0]
[0.1,{"$f":"'Daily Calcs'!J7162/1000000","v":0},{"$f":"'Daily Calcs'!K7162/1000000","v":0},0]
[0.1,{"$f":"'Daily Calcs'!J7163/1000000","v":0},{"$f":"'Daily Calcs'!K7163/1000000","v":0},0]
[0.1,{"$f":"'Daily Calcs'!J7164/1000000","v":0},{"$f":"'Daily Calcs'!K7164/1000000","v":0},0]
[0.1,{"$f":"'Daily Calcs'!J7165/1000000","v":0},{"$f":"'Daily Calcs'!K7165/1000000","v":0},0]
[0.1,{"$f":"'Daily Calcs'!J7166/1000000","v":0},{"$f":"'Daily Calcs'!K7166/1000000","v":0},0]
[0.1,{"$f":"'Daily Calcs'!J7167/1000000","v":0},{"$f":"'Daily Calcs'!K7167/1000000","v":0},0]
[0.1,{"$f":"'Daily Calcs'!J7168/1000000","v":0},{"$f":"'Daily Calcs'!K7168/1000000","v":0},0]
[0.1,{"$f":"'Daily Calcs'!J7169/1000000","v":0},{"$f":"'Daily Calcs'!K7169/1000000","v":0},0]
[0.1,{"$f":"'Daily Calcs'!J7170/1000000","v":1.9495247148288972E-5},{"$f":"'Daily Calcs'!K7170/1000000","v":1.9527460076045628E-5},1.9495247148288972E-5]
[0.1,{"$f":"'Daily Calcs'!J7171/1000000","v":0},{"$f":"'Daily Calcs'!K7171/1000000","v":0},{"$f":"B7175","v":0}]
[0.1,{"$f":"'Daily Calcs'!J7172/1000000","v":1.6558032825460323E-5},{"$f":"'Daily Calcs'!K7172/1000000","v":1.6576902758985823E-5},1.6558032825460323E-5]
[0.1,{"$f":"'Daily Calcs'!J7173/1000000","v":1.5682778038479583E-5},{"$f":"'Daily Calcs'!K7173/1000000","v":1.5690829970279993E-5},1.5682778038479583E-5]
[0.1,{"$f":"'Daily Calcs'!J7174/1000000","v":0},{"$f":"'Daily Calcs'!K7174/1000000","v":0},0]
[0.1,{"$f":"'Daily Calcs'!J7175/1000000","v":0},{"$f":"'Daily Calcs'!K7175/1000000","v":0},0]
[0.1,{"$f":"'Daily Calcs'!J7176/1000000","v":0},{"$f":"'Daily Calcs'!K7176/1000000","v":0},0]
[0.1,{"$f":"'Daily Calcs'!J7177/1000000","v":0},{"$f":"'Daily Calcs'!K7177/1000000","v":0},0]
[0.1,{"$f":"'Daily Calcs'!J7178/1000000","v":0},{"$f":"'Daily Calcs'!K7178/1000000","v":0},0]
[0.1,{"$f":"'Daily Calcs'!J7179/1000000","v":0},{"$f":"'Daily Calcs'!K7179/1000000","v":0},0]
[0.1,{"$f":"'Daily Calcs'!J7180/1000000","v":0},{"$f":"'Daily Calcs'!K7180/1000000","v":0},0]
[0.1,{"$f":"'Daily Calcs'!J7181/1000000","v":0},{"$f":"'Daily Calcs'!K7181/1000000","v":0},0]
[0.1,{"$f":"'Daily Calcs'!J7182/1000000","v":0},{"$f":"'Daily Calcs'!K7182/1000000","v":0},0]
[0.1,{"$f":"'Daily Calcs'!J7183/1000000","v":0},{"$f":"'Daily Calcs'!K7183/1000000","v":0},0]
[0.1,{"$f":"'Daily Calcs'!J7184/1000000","v":0},{"$f":"'Daily Calcs'!K7184/1000000","v":0},0]
[0.1,{"$f":"'Daily Calcs'!J7185/1000000","v":1.2612180963788815E-5},{"$f":"'Daily Calcs'!K7185/1000000","v":1.2615027457845758E-5},1.2612180963788815E-5]
[0.1,{"$f":"'Daily Calcs'!J7186/1000000","v":0},{"$f":"'Daily Calcs'!K7186/1000000","v":0},0]
[0.1,{"$f":"'Daily Calcs'!J7187/1000000","v":1.077182034649807E-5},{"$f":"'Daily Calcs'!K7187/1000000","v":1.0773325560390836E-5},1.077182034649807E-5]
[0.1,{"$f":"'Daily Calcs'!J7188/1000000","v":0},{"$f":"'Daily Calcs'!K7188/1000000","v":0},0]
[0.1,{"$f":"'Daily Calcs'!J7189/1000000","v":0},{"$f":"'Daily Calcs'!K7189/1000000","v":0},0]
[0.1,{"$f":"'Daily Calcs'!J7190/1000000","v":0},{"$f":"'Daily Calcs'!K7190/1000000","v":0},0]
[0.1,{"$f":"'Daily Calcs'!J7191/1000000","v":0},{"$f":"'Daily Calcs'!K7191/1000000","v":0},0]
[0.1,{"$f":"'Daily Calcs'!J7192/1000000","v":0},{"$f":"'Daily Calcs'!K7192/1000000","v":0},0]
[0.1,{"$f":"'Daily Calcs'!J7193/1000000","v":0},{"$f":"'Daily Calcs'!K7193/1000000","v":0},0]
[0.1,{"$f":"'Daily Calcs'!J7194/1000000","v":0},{"$f":"'Daily Calcs'!K7194/1000000","v":0},0]
[0.1,{"$f":"'Daily Calcs'!J7195/1000000","v":0},{"$f":"'Daily Calcs'!K7195/1000000","v":0},0]
[0.1,{"$f":"'Daily Calcs'!J7196/1000000","v":0},{"$f":"'Daily Calcs'!K7196/1000000","v":0},0]
[0.1,{"$f":"'Daily Calcs'!J7197/1000000","v":0},{"$f":"'Daily Calcs'!K7197/1000000","v":0},0]
[0.1,{"$f":"'Daily Calcs'!J7198/1000000","v":0},{"$f":"'Daily Calcs'!K7198/1000000","v":0},0]
[0.1,{"$f":"'Daily Calcs'!J7199/1000000","v":0},{"$f":"'Daily Calcs'!K7199/1000000","v":0},0]
[0.1,{"$f":"'Daily Calcs'!J7200/1000000","v":0},{"$f":"'Daily Calcs'!K7200/1000000","v":0},0]
[0.1,{"$f":"'Daily Calcs'!J7201/1000000","v":0},{"$f":"'Daily Calcs'!K7201/1000000","v":0},0]
[0.1,{"$f":"'Daily Calcs'!J7202/1000000","v":0},{"$f":"'Daily Calcs'!K7202/1000000","v":0},0]
[0.1,{"$f":"'Daily Calcs'!J7203/1000000","v":0},{"$f":"'Daily Calcs'!K7203/1000000","v":0},0]
[0.1,{"$f":"'Daily Calcs'!J7204/1000000","v":0},{"$f":"'Daily Calcs'!K7204/1000000","v":0},0]
[0.1,{"$f":"'Daily Calcs'!J7205/1000000","v":0},{"$f":"'Daily Calcs'!K7205/1000000","v":0},0]
[0.1,{"$f":"'Daily Calcs'!J7206/1000000","v":0},{"$f":"'Daily Calcs'!K7206/1000000","v":0},0]
[0.1,{"$f":"'Daily Calcs'!J7207/1000000","v":0},{"$f":"'Daily Calcs'!K7207/1000000","v":0},0]
[0.1,{"$f":"'Daily Calcs'!J7208/1000000","v":0},{"$f":"'Daily Calcs'!K7208/1000000","v":0},0]
[0.1,{"$f":"'Daily Calcs'!J7209/1000000","v":0},{"$f":"'Daily Calcs'!K7209/1000000","v":0},0]
[0.1,{"$f":"'Daily Calcs'!J7210/1000000","v":0},{"$f":"'Daily Calcs'!K7210/1000000","v":0},0]
[0.1,{"$f":"'Daily Calcs'!J7211/1000000","v":0},{"$f":"'Daily Calcs'!K7211/1000000","v":0},0]
[0.1,{"$f":"'Daily Calcs'!J7212/1000000","v":5.2585761075676601E-6},{"$f":"'Daily Calcs'!K7212/1000000","v":5.2587380394184908E-6},5.2585761075676601E-6]
[0.1,{"$f":"'Daily Calcs'!J7213/1000000","v":3.9603552172534093E-6},{"$f":"'Daily Calcs'!K7213/1000000","v":3.9604248517285117E-6},3.9603552172534093E-6]
[0.1,{"$f":"'Daily Calcs'!J7214/1000000","v":2.9350456536263082E-6},{"$f":"'Daily Calcs'!K7214/1000000","v":2.9350738148615546E-6},2.9350456536263082E-6]
[0.1,{"$f":"'Daily Calcs'!J7215/1000000","v":0},{"$f":"'Daily Calcs'!K7215/1000000","v":0},0]
[0.1,{"$f":"'Daily Calcs'!J7216/1000000","v":0},{"$f":"'Daily Calcs'!K7216/1000000","v":0},0]
[0.1,{"$f":"'Daily Calcs'!J7217/1000000","v":0},{"$f":"'Daily Calcs'!K7217/1000000","v":0},0]
[0.1,{"$f":"'Daily Calcs'!J7218/1000000","v":0},{"$f":"'Daily Calcs'!K7218/1000000","v":0},0]
[0.1,{"$f":"'Daily Calcs'!J7219/1000000","v":0},{"$f":"'Daily Calcs'!K7219/1000000","v":0},0]
[0.1,{"$f":"'Daily Calcs'!J7220/1000000","v":0},{"$f":"'Daily Calcs'!K7220/1000000","v":0},0]
[0.1,{"$f":"'Daily Calcs'!J7221/1000000","v":0},{"$f":"'Daily Calcs'!K7221/1000000","v":0},0]
[0.1,{"$f":"'Daily Calcs'!J7222/1000000","v":0},{"$f":"'Daily Calcs'!K7222/1000000","v":0},0]
[0.1,{"$f":"'Daily Calcs'!J7223/1000000","v":0},{"$f":"'Daily Calcs'!K7223/1000000","v":0},0]
[0.1,{"$f":"'Daily Calcs'!J7224/1000000","v":0},{"$f":"'Daily Calcs'!K7224/1000000","v":0},0]
[0.1,{"$f":"'Daily Calcs'!J7225/1000000","v":0},{"$f":"'Daily Calcs'!K7225/1000000","v":0},0]
[0.1,{"$f":"'Daily Calcs'!J7226/1000000","v":0},{"$f":"'Daily Calcs'!K7226/1000000","v":0},0]
[0.1,{"$f":"'Daily Calcs'!J7227/1000000","v":0},{"$f":"'Daily Calcs'!K7227/1000000","v":0},0]
[0.1,{"$f":"'Daily Calcs'!J7228/1000000","v":0},{"$f":"'Daily Calcs'!K7228/1000000","v":0},0]
[0.1,{"$f":"'Daily Calcs'!J7229/1000000","v":0},{"$f":"'Daily Calcs'!K7229/1000000","v":0},0]
[0.1,{"$f":"'Daily Calcs'!J7230/1000000","v":0},{"$f":"'Daily Calcs'!K7230/1000000","v":0},0]
[0.1,{"$f":"'Daily Calcs'!J7231/1000000","v":0},{"$f":"'Daily Calcs'!K7231/1000000","v":0},0]
[0.1,{"$f":"'Daily Calcs'!J7232/1000000","v":0},{"$f":"'Daily Calcs'!K7232/1000000","v":0},0]
[0.1,{"$f":"'Daily Calcs'!J7233/1000000","v":0},{"$f":"'Daily Calcs'!K7233/1000000","v":0},0]
[0.1,{"$f":"'Daily Calcs'!J7234/1000000","v":0},{"$f":"'Daily Calcs'!K7234/1000000","v":0},0]
[0.1,{"$f":"'Daily Calcs'!J7235/1000000","v":0},{"$f":"'Daily Calcs'!K7235/1000000","v":0},{"$f":"B7239","v":0}]
[0.1,{"$f":"'Daily Calcs'!J7236/1000000","v":0},{"$f":"'Daily Calcs'!K7236/1000000","v":0},0]
[0.1,{"$f":"'Daily Calcs'!J7237/1000000","v":0},{"$f":"'Daily Calcs'!K7237/1000000","v":0},0]
[0.1,{"$f":"'Daily Calcs'!J7238/1000000","v":0},{"$f":"'Daily Calcs'!K7238/1000000","v":0},0]
[0.1,{"$f":"'Daily Calcs'!J7239/1000000","v":0},{"$f":"'Daily Calcs'!K7239/1000000","v":0},0]
[0.1,{"$f":"'Daily Calcs'!J7240/1000000","v":0},{"$f":"'Daily Calcs'!K7240/1000000","v":0},0]
[0.1,{"$f":"'Daily Calcs'!J7241/1000000","v":0},{"$f":"'Daily Calcs'!K7241/1000000","v":0},0]
[0.1,{"$f":"'Daily Calcs'!J7242/1000000","v":1.6067275004473071E-6},{"$f":"'Daily Calcs'!K7242/1000000","v":1.6067295021470747E-6},1.6067275004473071E-6]
[0.1,{"$f":"'Daily Calcs'!J7243/1000000","v":1.3641306496895885E-6},{"$f":"'Daily Calcs'!K7243/1000000","v":1.3641315053382897E-6},1.3641306496895885E-6]
[0.1,{"$f":"'Daily Calcs'!J7244/1000000","v":1.0916070493805619E-6},{"$f":"'Daily Calcs'!K7244/1000000","v":1.0916076343860874E-6},1.0916070493805619E-6]
[0.1,{"$f":"'Daily Calcs'!J7245/1000000","v":0},{"$f":"'Daily Calcs'!K7245/1000000","v":0},0]
[0.1,{"$f":"'Daily Calcs'!J7246/1000000","v":0},{"$f":"'Daily Calcs'!K7246/1000000","v":0},0]
[0.1,{"$f":"'Daily Calcs'!J7247/1000000","v":0},{"$f":"'Daily Calcs'!K7247/1000000","v":0},0]
[0.1,{"$f":"'Daily Calcs'!J7248/1000000","v":0},{"$f":"'Daily Calcs'!K7248/1000000","v":0},0]
[0.1,{"$f":"'Daily Calcs'!J7249/1000000","v":8.6373081841432222E-7},{"$f":"'Daily Calcs'!K7249/1000000","v":8.6373095218989762E-7},8.6373081841432222E-7]
[0.1,{"$f":"'Daily Calcs'!J7250/1000000","v":0},{"$f":"'Daily Calcs'!K7250/1000000","v":0},0]
[0.1,{"$f":"'Daily Calcs'!J7251/1000000","v":0},{"$f":"'Daily Calcs'!K7251/1000000","v":0},0]
[0.1,{"$f":"'Daily Calcs'!J7252/1000000","v":0},{"$f":"'Daily Calcs'!K7252/1000000","v":0},0]
[0.1,{"$f":"'Daily Calcs'!J7253/1000000","v":0},{"$f":"'Daily Calcs'!K7253/1000000","v":0},0]
[0.1,{"$f":"'Daily Calcs'!J7254/1000000","v":0},{"$f":"'Daily Calcs'!K7254/1000000","v":0},0]
[0.1,{"$f":"'Daily Calcs'!J7255/1000000","v":0},{"$f":"'Daily Calcs'!K7255/1000000","v":0},0]
[0.1,{"$f":"'Daily Calcs'!J7256/1000000","v":0},{"$f":"'Daily Calcs'!K7256/1000000","v":0},0]
[0.1,{"$f":"'Daily Calcs'!J7257/1000000","v":0},{"$f":"'Daily Calcs'!K7257/1000000","v":0},0]
[0.1,{"$f":"'Daily Calcs'!J7258/1000000","v":0},{"$f":"'Daily Calcs'!K7258/1000000","v":0},0]
[0.1,{"$f":"'Daily Calcs'!J7259/1000000","v":0},{"$f":"'Daily Calcs'!K7259/1000000","v":0},0]
[0.1,{"$f":"'Daily Calcs'!J7260/1000000","v":5.0197938144329901E-7},{"$f":"'Daily Calcs'!K7260/1000000","v":5.0197942290721656E-7},5.0197938144329901E-7]
[0.1,{"$f":"'Daily Calcs'!J7261/1000000","v":0},{"$f":"'Daily Calcs'!K7261/1000000","v":0},0]
[0.1,{"$f":"'Daily Calcs'!J7262/1000000","v":0},{"$f":"'Daily Calcs'!K7262/1000000","v":0},0]
[0.1,{"$f":"'Daily Calcs'!J7263/1000000","v":0},{"$f":"'Daily Calcs'!K7263/1000000","v":0},0]
[0.1,{"$f":"'Daily Calcs'!J7264/1000000","v":0},{"$f":"'Daily Calcs'!K7264/1000000","v":0},0]
[0.1,{"$f":"'Daily Calcs'!J7265/1000000","v":0},{"$f":"'Daily Calcs'!K7265/1000000","v":0},0]
[0.1,{"$f":"'Daily Calcs'!J7266/1000000","v":0},{"$f":"'Daily Calcs'!K7266/1000000","v":0},0]
[0.1,{"$f":"'Daily Calcs'!J7267/1000000","v":0},{"$f":"'Daily Calcs'!K7267/1000000","v":0},0]
[0.1,{"$f":"'Daily Calcs'!J7268/1000000","v":3.720798298044778E-7},{"$f":"'Daily Calcs'!K7268/1000000","v":3.7207984383649072E-7},3.720798298044778E-7]
[0.1,{"$f":"'Daily Calcs'!J7269/1000000","v":0},{"$f":"'Daily Calcs'!K7269/1000000","v":0},0]
[0.1,{"$f":"'Daily Calcs'!J7270/1000000","v":0},{"$f":"'Daily Calcs'!K7270/1000000","v":0},0]
[0.1,{"$f":"'Daily Calcs'!J7271/1000000","v":2.7694618532138604E-7},{"$f":"'Daily Calcs'!K7271/1000000","v":2.7694619118428547E-7},2.7694618532138604E-7]
[0.1,{"$f":"'Daily Calcs'!J7272/1000000","v":2.1461187214611869E-7},{"$f":"'Daily Calcs'!K7272/1000000","v":2.1461187643101763E-7},2.1461187214611869E-7]
[0.1,{"$f":"'Daily Calcs'!J7273/1000000","v":0},{"$f":"'Daily Calcs'!K7273/1000000","v":0},0]
[0.1,{"$f":"'Daily Calcs'!J7274/1000000","v":0},{"$f":"'Daily Calcs'!K7274/1000000","v":0},0]
[0.1,{"$f":"'Daily Calcs'!J7275/1000000","v":0},{"$f":"'Daily Calcs'!K7275/1000000","v":0},0]
[0.1,{"$f":"'Daily Calcs'!J7276/1000000","v":0},{"$f":"'Daily Calcs'!K7276/1000000","v":0},0]
[0.1,{"$f":"'Daily Calcs'!J7277/1000000","v":0},{"$f":"'Daily Calcs'!K7277/1000000","v":0},0]
[0.1,{"$f":"'Daily Calcs'!J7278/1000000","v":0},{"$f":"'Daily Calcs'!K7278/1000000","v":0},0]
[0.1,{"$f":"'Daily Calcs'!J7279/1000000","v":0},{"$f":"'Daily Calcs'!K7279/1000000","v":0},0]
[0.1,{"$f":"'Daily Calcs'!J7280/1000000","v":0},{"$f":"'Daily Calcs'!K7280/1000000","v":0},0]
[0.1,{"$f":"'Daily Calcs'!J7281/1000000","v":0},{"$f":"'Daily Calcs'!K7281/1000000","v":0},0]
[0.1,{"$f":"'Daily Calcs'!J7282/1000000","v":0},{"$f":"'Daily Calcs'!K7282/1000000","v":0},0]
[0.1,{"$f":"'Daily Calcs'!J7283/1000000","v":0},{"$f":"'Daily Calcs'!K7283/1000000","v":0},0]
[0.1,{"$f":"'Daily Calcs'!J7284/1000000","v":1.1874669312169313E-7},{"$f":"'Daily Calcs'!K7284/1000000","v":1.1874669417169311E-7},1.1874669312169313E-7]
[0.1,{"$f":"'Daily Calcs'!J7285/1000000","v":8.473248331744521E-8},{"$f":"'Daily Calcs'!K7285/1000000","v":8.4732483939436353E-8},8.473248331744521E-8]
[0.1,{"$f":"'Daily Calcs'!J7286/1000000","v":0},{"$f":"'Daily Calcs'!K7286/1000000","v":0},0]
[0.1,{"$f":"'Daily Calcs'!J7287/1000000","v":0},{"$f":"'Daily Calcs'!K7287/1000000","v":0},0]
[0.1,{"$f":"'Daily Calcs'!J7288/1000000","v":0},{"$f":"'Daily Calcs'!K7288/1000000","v":0},0]
[0.1,{"$f":"'Daily Calcs'!J7289/1000000","v":0},{"$f":"'Daily Calcs'!K7289/1000000","v":0},0]
[0.1,{"$f":"'Daily Calcs'!J7290/1000000","v":0},{"$f":"'Daily Calcs'!K7290/1000000","v":0},0]
[0.1,{"$f":"'Daily Calcs'!J7291/1000000","v":0},{"$f":"'Daily Calcs'!K7291/1000000","v":0},0]
[0.1,{"$f":"'Daily Calcs'!J7292/1000000","v":0},{"$f":"'Daily Calcs'!K7292/1000000","v":0},0]
[0.1,{"$f":"'Daily Calcs'!J7293/1000000","v":0},{"$f":"'Daily Calcs'!K7293/1000000","v":0},0]
[0.1,{"$f":"'Daily Calcs'!J7294/1000000","v":0},{"$f":"'Daily Calcs'!K7294/1000000","v":0},0]
[0.1,{"$f":"'Daily Calcs'!J7295/1000000","v":0},{"$f":"'Daily Calcs'!K7295/1000000","v":0},0]
[0.1,{"$f":"'Daily Calcs'!J7296/1000000","v":0},{"$f":"'Daily Calcs'!K7296/1000000","v":0},0]
[0.1,{"$f":"'Daily Calcs'!J7297/1000000","v":0},{"$f":"'Daily Calcs'!K7297/1000000","v":0},0]
[0.1,{"$f":"'Daily Calcs'!J7298/1000000","v":0},{"$f":"'Daily Calcs'!K7298/1000000","v":0},0]
[0.1,{"$f":"'Daily Calcs'!J7299/1000000","v":0},{"$f":"'Daily Calcs'!K7299/1000000","v":0},{"$f":"B7303","v":0}]
[0.1,{"$f":"'Daily Calcs'!J7300/1000000","v":0},{"$f":"'Daily Calcs'!K7300/1000000","v":0},0]
[0.1,{"$f":"'Daily Calcs'!J7301/1000000","v":0},{"$f":"'Daily Calcs'!K7301/1000000","v":0},0]
[0.1,{"$f":"'Daily Calcs'!J7302/1000000","v":0},{"$f":"'Daily Calcs'!K7302/1000000","v":0},0]
[0.1,{"$f":"'Daily Calcs'!J7303/1000000","v":0},{"$f":"'Daily Calcs'!K7303/1000000","v":0},0]
[0.1,{"$f":"'Daily Calcs'!J7304/1000000","v":0},{"$f":"'Daily Calcs'!K7304/1000000","v":0},0]
[0.1,{"$f":"'Daily Calcs'!J7305/1000000","v":0},{"$f":"'Daily Calcs'!K7305/1000000","v":0},0]
[0.1,{"$f":"'Daily Calcs'!J7306/1000000","v":0},{"$f":"'Daily Calcs'!K7306/1000000","v":0},0]
[0.1,{"$f":"'Daily Calcs'!J7307/1000000","v":0},{"$f":"'Daily Calcs'!K7307/1000000","v":0},0]
[0.1,{"$f":"'Daily Calcs'!J7308/1000000","v":0},{"$f":"'Daily Calcs'!K7308/1000000","v":0},0]
[0.1,{"$f":"'Daily Calcs'!J7309/1000000","v":0},{"$f":"'Daily Calcs'!K7309/1000000","v":0},0]
[0.1,{"$f":"'Daily Calcs'!J7310/1000000","v":0},{"$f":"'Daily Calcs'!K7310/1000000","v":0},0]
[0.1,{"$f":"'Daily Calcs'!J7311/1000000","v":0},{"$f":"'Daily Calcs'!K7311/1000000","v":0},0]
[0.1,{"$f":"'Daily Calcs'!J7312/1000000","v":0},{"$f":"'Daily Calcs'!K7312/1000000","v":0},0]
[0.1,{"$f":"'Daily Calcs'!J7313/1000000","v":0},{"$f":"'Daily Calcs'!K7313/1000000","v":0},0]
[0.1,{"$f":"'Daily Calcs'!J7314/1000000","v":0},{"$f":"'Daily Calcs'!K7314/1000000","v":0},0]
[0.1,{"$f":"'Daily Calcs'!J7315/1000000","v":0},{"$f":"'Daily Calcs'!K7315/1000000","v":0},0]
[0.1,{"$f":"'Daily Calcs'!J7316/1000000","v":0},{"$f":"'Daily Calcs'!K7316/1000000","v":0},0]
[0.1,{"$f":"'Daily Calcs'!J7317/1000000","v":0},{"$f":"'Daily Calcs'!K7317/1000000","v":0},0]
[0.1,{"$f":"'Daily Calcs'!J7318/1000000","v":0},{"$f":"'Daily Calcs'!K7318/1000000","v":0},0]
[0.1,{"$f":"'Daily Calcs'!J7319/1000000","v":0},{"$f":"'Daily Calcs'!K7319/1000000","v":0},0]
[0.1,{"$f":"'Daily Calcs'!J7320/1000000","v":0},{"$f":"'Daily Calcs'!K7320/1000000","v":0},0]
[0.1,{"$f":"'Daily Calcs'!J7321/1000000","v":0},{"$f":"'Daily Calcs'!K7321/1000000","v":0},0]
[0.1,{"$f":"'Daily Calcs'!J7322/1000000","v":0},{"$f":"'Daily Calcs'!K7322/1000000","v":0},0]
[0.1,{"$f":"'Daily Calcs'!J7323/1000000","v":0},{"$f":"'Daily Calcs'!K7323/1000000","v":0},0]
[0.1,{"$f":"'Daily Calcs'!J7324/1000000","v":0},{"$f":"'Daily Calcs'!K7324/1000000","v":0},0]
[0.1,{"$f":"'Daily Calcs'!J7325/1000000","v":0},{"$f":"'Daily Calcs'!K7325/1000000","v":0},0]
[0.1,{"$f":"'Daily Calcs'!J7326/1000000","v":0},{"$f":"'Daily Calcs'!K7326/1000000","v":0},0]
[0.1,{"$f":"'Daily Calcs'!J7327/1000000","v":0},{"$f":"'Daily Calcs'!K7327/1000000","v":0},0]
[0.1,{"$f":"'Daily Calcs'!J7328/1000000","v":0},{"$f":"'Daily Calcs'!K7328/1000000","v":0},0]
[0.1,{"$f":"'Daily Calcs'!J7329/1000000","v":0},{"$f":"'Daily Calcs'!K7329/1000000","v":0},0]
[0.1,{"$f":"'Daily Calcs'!J7330/1000000","v":0},{"$f":"'Daily Calcs'!K7330/1000000","v":0},0]
[0.1,{"$f":"'Daily Calcs'!J7331/1000000","v":0},{"$f":"'Daily Calcs'!K7331/1000000","v":0},0]
[0.1,{"$f":"'Daily Calcs'!J7332/1000000","v":0},{"$f":"'Daily Calcs'!K7332/1000000","v":0},0]
[0.1,{"$f":"'Daily Calcs'!J7333/1000000","v":0},{"$f":"'Daily Calcs'!K7333/1000000","v":0},0]
[0.1,{"$f":"'Daily Calcs'!J7334/1000000","v":0},{"$f":"'Daily Calcs'!K7334/1000000","v":0},0]
[0.1,{"$f":"'Daily Calcs'!J7335/1000000","v":0},{"$f":"'Daily Calcs'!K7335/1000000","v":0},0]
[0.1,{"$f":"'Daily Calcs'!J7336/1000000","v":0},{"$f":"'Daily Calcs'!K7336/1000000","v":0},0]
[0.1,{"$f":"'Daily Calcs'!J7337/1000000","v":0},{"$f":"'Daily Calcs'!K7337/1000000","v":0},0]
[0.1,{"$f":"'Daily Calcs'!J7338/1000000","v":2.2795185617794928E-8},{"$f":"'Daily Calcs'!K7338/1000000","v":2.279518563215784E-8},2.2795185617794928E-8]
[0.1,{"$f":"'Daily Calcs'!J7339/1000000","v":1.692361111111111E-8},{"$f":"'Daily Calcs'!K7339/1000000","v":1.6923611117804692E-8},1.692361111111111E-8]
[0.1,{"$f":"'Daily Calcs'!J7340/1000000","v":0},{"$f":"'Daily Calcs'!K7340/1000000","v":0},0]
[0.1,{"$f":"'Daily Calcs'!J7341/1000000","v":0},{"$f":"'Daily Calcs'!K7341/1000000","v":0},0]
[0.1,{"$f":"'Daily Calcs'!J7342/1000000","v":0},{"$f":"'Daily Calcs'!K7342/1000000","v":0},0]
[0.1,{"$f":"'Daily Calcs'!J7343/1000000","v":0},{"$f":"'Daily Calcs'!K7343/1000000","v":0},0]
[0.1,{"$f":"'Daily Calcs'!J7344/1000000","v":0},{"$f":"'Daily Calcs'!K7344/1000000","v":0},0]
[0.1,{"$f":"'Daily Calcs'!J7345/1000000","v":0},{"$f":"'Daily Calcs'!K7345/1000000","v":0},0]
[0.1,{"$f":"'Daily Calcs'!J7346/1000000","v":0},{"$f":"'Daily Calcs'!K7346/1000000","v":0},0]
[0.1,{"$f":"'Daily Calcs'!J7347/1000000","v":5.8964941569282132E-9},{"$f":"'Daily Calcs'!K7347/1000000","v":5.8964941588080142E-9},5.8964941569282132E-9]
[0.1,{"$f":"'Daily Calcs'!J7348/1000000","v":0},{"$f":"'Daily Calcs'!K7348/1000000","v":0},0]
[0.1,{"$f":"'Daily Calcs'!J7349/1000000","v":0},{"$f":"'Daily Calcs'!K7349/1000000","v":0},0]
[0.1,{"$f":"'Daily Calcs'!J7350/1000000","v":0},{"$f":"'Daily Calcs'!K7350/1000000","v":0},0]
[0.1,{"$f":"'Daily Calcs'!J7351/1000000","v":0},{"$f":"'Daily Calcs'!K7351/1000000","v":0},0]
[0.1,{"$f":"'Daily Calcs'!J7352/1000000","v":0},{"$f":"'Daily Calcs'!K7352/1000000","v":0},0]
[0.1,{"$f":"'Daily Calcs'!J7353/1000000","v":0},{"$f":"'Daily Calcs'!K7353/1000000","v":0},0]
[0.1,{"$f":"'Daily Calcs'!J7354/1000000","v":3.4343403673903144E-9},{"$f":"'Daily Calcs'!K7354/1000000","v":3.4343403677037799E-9},3.4343403673903144E-9]
[0.1,{"$f":"'Daily Calcs'!J7355/1000000","v":1.8031768858674335E-9},{"$f":"'Daily Calcs'!K7355/1000000","v":1.8031768860598904E-9},1.8031768858674335E-9]
[0.1,{"$f":"'Daily Calcs'!J7356/1000000","v":1.3651076310689784E-9},{"$f":"'Daily Calcs'!K7356/1000000","v":1.3651076311297542E-9},1.3651076310689784E-9]
[0.1,{"$f":"'Daily Calcs'!J7357/1000000","v":0},{"$f":"'Daily Calcs'!K7357/1000000","v":0},0]
[0.1,{"$f":"'Daily Calcs'!J7358/1000000","v":0},{"$f":"'Daily Calcs'!K7358/1000000","v":0},0]
[0.1,{"$f":"'Daily Calcs'!J7359/1000000","v":1.0701333972362009E-9},{"$f":"'Daily Calcs'!K7359/1000000","v":1.0701333972623682E-9},1.0701333972362009E-9]
[0.1,{"$f":"'Daily Calcs'!J7360/1000000","v":0},{"$f":"'Daily Calcs'!K7360/1000000","v":0},0]
[0.1,{"$f":"'Daily Calcs'!J7361/1000000","v":0},{"$f":"'Daily Calcs'!K7361/1000000","v":0},0]
[0.1,{"$f":"'Daily Calcs'!J7362/1000000","v":0},{"$f":"'Daily Calcs'!K7362/1000000","v":0},0]
[0.1,{"$f":"'Daily Calcs'!J7363/1000000","v":0},{"$f":"'Daily Calcs'!K7363/1000000","v":0},{"$f":"B7367","v":0}]
[0.1,{"$f":"'Daily Calcs'!J7364/1000000","v":0},{"$f":"'Daily Calcs'!K7364/1000000","v":0},0]
[0.1,{"$f":"'Daily Calcs'!J7365/1000000","v":0},{"$f":"'Daily Calcs'!K7365/1000000","v":0},0]
[0.1,{"$f":"'Daily Calcs'!J7366/1000000","v":0},{"$f":"'Daily Calcs'!K7366/1000000","v":0},0]
[0.1,{"$f":"'Daily Calcs'!J7367/1000000","v":0},{"$f":"'Daily Calcs'!K7367/1000000","v":0},0]
[0.1,{"$f":"'Daily Calcs'!J7368/1000000","v":0},{"$f":"'Daily Calcs'!K7368/1000000","v":0},0]
[0.1,{"$f":"'Daily Calcs'!J7369/1000000","v":3.9172005914243469E-10},{"$f":"'Daily Calcs'!K7369/1000000","v":3.917200591476312E-10},3.9172005914243469E-10]
[0.1,{"$f":"'Daily Calcs'!J7370/1000000","v":0},{"$f":"'Daily Calcs'!K7370/1000000","v":0},0]
[0.1,{"$f":"'Daily Calcs'!J7371/1000000","v":0},{"$f":"'Daily Calcs'!K7371/1000000","v":0},0]
[0.1,{"$f":"'Daily Calcs'!J7372/1000000","v":0},{"$f":"'Daily Calcs'!K7372/1000000","v":0},0]
[0.1,{"$f":"'Daily Calcs'!J7373/1000000","v":0},{"$f":"'Daily Calcs'!K7373/1000000","v":0},0]
[0.1,{"$f":"'Daily Calcs'!J7374/1000000","v":0},{"$f":"'Daily Calcs'!K7374/1000000","v":0},0]
[0.1,{"$f":"'Daily Calcs'!J7375/1000000","v":0},{"$f":"'Daily Calcs'!K7375/1000000","v":0},0]
[0.1,{"$f":"'Daily Calcs'!J7376/1000000","v":0},{"$f":"'Daily Calcs'!K7376/1000000","v":0},0]
[0.1,{"$f":"'Daily Calcs'!J7377/1000000","v":0},{"$f":"'Daily Calcs'!K7377/1000000","v":0},0]
[0.1,{"$f":"'Daily Calcs'!J7378/1000000","v":0},{"$f":"'Daily Calcs'!K7378/1000000","v":0},0]
[0.1,{"$f":"'Daily Calcs'!J7379/1000000","v":0},{"$f":"'Daily Calcs'!K7379/1000000","v":0},0]
[0.1,{"$f":"'Daily Calcs'!J7380/1000000","v":0},{"$f":"'Daily Calcs'!K7380/1000000","v":0},0]
[0.1,{"$f":"'Daily Calcs'!J7381/1000000","v":0},{"$f":"'Daily Calcs'!K7381/1000000","v":0},0]
[0.1,{"$f":"'Daily Calcs'!J7382/1000000","v":0},{"$f":"'Daily Calcs'!K7382/1000000","v":0},0]
[0.1,{"$f":"'Daily Calcs'!J7383/1000000","v":1.7940819870891636E-10},{"$f":"'Daily Calcs'!K7383/1000000","v":1.7940819870987915E-10},1.7940819870891636E-10]
[0.1,{"$f":"'Daily Calcs'!J7384/1000000","v":0},{"$f":"'Daily Calcs'!K7384/1000000","v":0},0]
[0.1,{"$f":"'Daily Calcs'!J7385/1000000","v":0},{"$f":"'Daily Calcs'!K7385/1000000","v":0},0]
[0.1,{"$f":"'Daily Calcs'!J7386/1000000","v":0},{"$f":"'Daily Calcs'!K7386/1000000","v":0},0]
[0.1,{"$f":"'Daily Calcs'!J7387/1000000","v":0},{"$f":"'Daily Calcs'!K7387/1000000","v":0},0]
[0.1,{"$f":"'Daily Calcs'!J7388/1000000","v":0},{"$f":"'Daily Calcs'!K7388/1000000","v":0},0]
[0.1,{"$f":"'Daily Calcs'!J7389/1000000","v":0},{"$f":"'Daily Calcs'!K7389/1000000","v":0},0]
[0.1,{"$f":"'Daily Calcs'!J7390/1000000","v":0},{"$f":"'Daily Calcs'!K7390/1000000","v":0},0]
[0.1,{"$f":"'Daily Calcs'!J7391/1000000","v":0},{"$f":"'Daily Calcs'!K7391/1000000","v":0},0]
[0.1,{"$f":"'Daily Calcs'!J7392/1000000","v":0},{"$f":"'Daily Calcs'!K7392/1000000","v":0},0]
[0.1,{"$f":"'Daily Calcs'!J7393/1000000","v":0},{"$f":"'Daily Calcs'!K7393/1000000","v":0},0]
[0.1,{"$f":"'Daily Calcs'!J7394/1000000","v":0},{"$f":"'Daily Calcs'!K7394/1000000","v":0},0]
[0.1,{"$f":"'Daily Calcs'!J7395/1000000","v":3.7747692307692309E-11},{"$f":"'Daily Calcs'!K7395/1000000","v":3.7747692307806757E-11},3.7747692307692309E-11]
[0.1,{"$f":"'Daily Calcs'!J7396/1000000","v":0},{"$f":"'Daily Calcs'!K7396/1000000","v":0},0]
[0.1,{"$f":"'Daily Calcs'!J7397/1000000","v":1.8228852419452155E-11},{"$f":"'Daily Calcs'!K7397/1000000","v":1.8228852419494154E-11},1.8228852419452155E-11]
[0.1,{"$f":"'Daily Calcs'!J7398/1000000","v":0},{"$f":"'Daily Calcs'!K7398/1000000","v":0},0]
[0.1,{"$f":"'Daily Calcs'!J7399/1000000","v":0},{"$f":"'Daily Calcs'!K7399/1000000","v":0},0]
[0.1,{"$f":"'Daily Calcs'!J7400/1000000","v":0},{"$f":"'Daily Calcs'!K7400/1000000","v":0},0]
[0.1,{"$f":"'Daily Calcs'!J7401/1000000","v":8.7719298245614013E-12},{"$f":"'Daily Calcs'!K7401/1000000","v":8.7719298245695826E-12},8.7719298245614013E-12]
[0.1,{"$f":"'Daily Calcs'!J7402/1000000","v":0},{"$f":"'Daily Calcs'!K7402/1000000","v":0},0]
[0.1,{"$f":"'Daily Calcs'!J7403/1000000","v":0},{"$f":"'Daily Calcs'!K7403/1000000","v":0},0]
[0.1,{"$f":"'Daily Calcs'!J7404/1000000","v":0},{"$f":"'Daily Calcs'!K7404/1000000","v":0},0]
[0.1,{"$f":"'Daily Calcs'!J7405/1000000","v":0},{"$f":"'Daily Calcs'!K7405/1000000","v":0},0]
[0.1,{"$f":"'Daily Calcs'!J7406/1000000","v":0},{"$f":"'Daily Calcs'!K7406/1000000","v":0},0]
[0.1,{"$f":"'Daily Calcs'!J7407/1000000","v":0},{"$f":"'Daily Calcs'!K7407/1000000","v":0},0]
[0.1,{"$f":"'Daily Calcs'!J7408/1000000","v":0},{"$f":"'Daily Calcs'!K7408/1000000","v":0},0]
[0.1,{"$f":"'Daily Calcs'!J7409/1000000","v":0},{"$f":"'Daily Calcs'!K7409/1000000","v":0},0]
[0.1,{"$f":"'Daily Calcs'!J7410/1000000","v":0},{"$f":"'Daily Calcs'!K7410/1000000","v":0},0]
[0.1,{"$f":"'Daily Calcs'!J7411/1000000","v":0},{"$f":"'Daily Calcs'!K7411/1000000","v":0},0]
[0.1,{"$f":"'Daily Calcs'!J7412/1000000","v":0},{"$f":"'Daily Calcs'!K7412/1000000","v":0},0]
[0.1,{"$f":"'Daily Calcs'!J7413/1000000","v":0},{"$f":"'Daily Calcs'!K7413/1000000","v":0},0]
[0.1,{"$f":"'Daily Calcs'!J7414/1000000","v":0},{"$f":"'Daily Calcs'!K7414/1000000","v":0},0]
[0.1,{"$f":"'Daily Calcs'!J7415/1000000","v":0},{"$f":"'Daily Calcs'!K7415/1000000","v":0},0]
[0.1,{"$f":"'Daily Calcs'!J7416/1000000","v":0},{"$f":"'Daily Calcs'!K7416/1000000","v":0},0]
[0.1,{"$f":"'Daily Calcs'!J7417/1000000","v":0},{"$f":"'Daily Calcs'!K7417/1000000","v":0},0]
[0.1,{"$f":"'Daily Calcs'!J7418/1000000","v":0},{"$f":"'Daily Calcs'!K7418/1000000","v":0},0]
[0.1,{"$f":"'Daily Calcs'!J7419/1000000","v":0},{"$f":"'Daily Calcs'!K7419/1000000","v":0},0]
[0.1,{"$f":"'Daily Calcs'!J7420/1000000","v":0},{"$f":"'Daily Calcs'!K7420/1000000","v":0},0]
[0.1,{"$f":"'Daily Calcs'!J7421/1000000","v":0},{"$f":"'Daily Calcs'!K7421/1000000","v":0},0]
[0.1,{"$f":"'Daily Calcs'!J7422/1000000","v":0},{"$f":"'Daily Calcs'!K7422/1000000","v":0},0]
[0.1,{"$f":"'Daily Calcs'!J7423/1000000","v":0},{"$f":"'Daily Calcs'!K7423/1000000","v":0},0]
[0.1,{"$f":"'Daily Calcs'!J7424/1000000","v":0},{"$f":"'Daily Calcs'!K7424/1000000","v":0},0]
[0.1,{"$f":"'Daily Calcs'!J7425/1000000","v":0},{"$f":"'Daily Calcs'!K7425/1000000","v":0},0]
[0.1,{"$f":"'Daily Calcs'!J7426/1000000","v":0},{"$f":"'Daily Calcs'!K7426/1000000","v":0},0]
[0.1,{"$f":"'Daily Calcs'!J7427/1000000","v":0},{"$f":"'Daily Calcs'!K7427/1000000","v":0},{"$f":"B7431","v":0}]
[0.1,{"$f":"'Daily Calcs'!J7428/1000000","v":0},{"$f":"'Daily Calcs'!K7428/1000000","v":0},0]
[0.1,{"$f":"'Daily Calcs'!J7429/1000000","v":0},{"$f":"'Daily Calcs'!K7429/1000000","v":0},0]
[0.1,{"$f":"'Daily Calcs'!J7430/1000000","v":0},{"$f":"'Daily Calcs'!K7430/1000000","v":0},0]
[0.1,{"$f":"'Daily Calcs'!J7431/1000000","v":0},{"$f":"'Daily Calcs'!K7431/1000000","v":0},0]
[0.1,{"$f":"'Daily Calcs'!J7432/1000000","v":0},{"$f":"'Daily Calcs'!K7432/1000000","v":0},0]
[0.1,{"$f":"'Daily Calcs'!J7433/1000000","v":0},{"$f":"'Daily Calcs'!K7433/1000000","v":0},0]
[0.1,{"$f":"'Daily Calcs'!J7434/1000000","v":0},{"$f":"'Daily Calcs'!K7434/1000000","v":0},0]
[0.1,{"$f":"'Daily Calcs'!J7435/1000000","v":0},{"$f":"'Daily Calcs'!K7435/1000000","v":0},0]
[0.1,{"$f":"'Daily Calcs'!J7436/1000000","v":2.3603900760074578E-12},{"$f":"'Daily Calcs'!K7436/1000000","v":2.3603900760079287E-12},2.3603900760074578E-12]
[0.1,{"$f":"'Daily Calcs'!J7437/1000000","v":0},{"$f":"'Daily Calcs'!K7437/1000000","v":0},0]
[0.1,{"$f":"'Daily Calcs'!J7438/1000000","v":0},{"$f":"'Daily Calcs'!K7438/1000000","v":0},0]
[0.1,{"$f":"'Daily Calcs'!J7439/1000000","v":0},{"$f":"'Daily Calcs'!K7439/1000000","v":0},0]
[0.1,{"$f":"'Daily Calcs'!J7440/1000000","v":1.5570255304916571E-12},{"$f":"'Daily Calcs'!K7440/1000000","v":1.5570255304918659E-12},1.5570255304916571E-12]
[0.1,{"$f":"'Daily Calcs'!J7441/1000000","v":0},{"$f":"'Daily Calcs'!K7441/1000000","v":0},0]
[0.1,{"$f":"'Daily Calcs'!J7442/1000000","v":0},{"$f":"'Daily Calcs'!K7442/1000000","v":0},0]
[0.1,{"$f":"'Daily Calcs'!J7443/1000000","v":0},{"$f":"'Daily Calcs'!K7443/1000000","v":0},0]
[0.1,{"$f":"'Daily Calcs'!J7444/1000000","v":0},{"$f":"'Daily Calcs'!K7444/1000000","v":0},0]
[0.1,{"$f":"'Daily Calcs'!J7445/1000000","v":9.4176835795332926E-13},{"$f":"'Daily Calcs'!K7445/1000000","v":9.4176835795339288E-13},9.4176835795332926E-13]
[0.1,{"$f":"'Daily Calcs'!J7446/1000000","v":0},{"$f":"'Daily Calcs'!K7446/1000000","v":0},0]
[0.1,{"$f":"'Daily Calcs'!J7447/1000000","v":0},{"$f":"'Daily Calcs'!K7447/1000000","v":0},0]
[0.1,{"$f":"'Daily Calcs'!J7448/1000000","v":0},{"$f":"'Daily Calcs'!K7448/1000000","v":0},0]
[0.1,{"$f":"'Daily Calcs'!J7449/1000000","v":0},{"$f":"'Daily Calcs'!K7449/1000000","v":0},0]
[0.1,{"$f":"'Daily Calcs'!J7450/1000000","v":0},{"$f":"'Daily Calcs'!K7450/1000000","v":0},0]
[0.1,{"$f":"'Daily Calcs'!J7451/1000000","v":0},{"$f":"'Daily Calcs'!K7451/1000000","v":0},0]
[0.1,{"$f":"'Daily Calcs'!J7452/1000000","v":3.7156484215307744E-13},{"$f":"'Daily Calcs'!K7452/1000000","v":3.7156484215309693E-13},3.7156484215307744E-13]
[0.1,{"$f":"'Daily Calcs'!J7453/1000000","v":1.9464776185880785E-13},{"$f":"'Daily Calcs'!K7453/1000000","v":1.9464776185881856E-13},1.9464776185880785E-13]
[0.1,{"$f":"'Daily Calcs'!J7454/1000000","v":0},{"$f":"'Daily Calcs'!K7454/1000000","v":0},0]
[0.1,{"$f":"'Daily Calcs'!J7455/1000000","v":0},{"$f":"'Daily Calcs'!K7455/1000000","v":0},0]
[0.1,{"$f":"'Daily Calcs'!J7456/1000000","v":0},{"$f":"'Daily Calcs'!K7456/1000000","v":0},0]
[0.1,{"$f":"'Daily Calcs'!J7457/1000000","v":1.0201962736452851E-13},{"$f":"'Daily Calcs'!K7457/1000000","v":1.0201962736453048E-13},1.0201962736452851E-13]
[0.1,{"$f":"'Daily Calcs'!J7458/1000000","v":0},{"$f":"'Daily Calcs'!K7458/1000000","v":0},0]
[0.1,{"$f":"'Daily Calcs'!J7459/1000000","v":0},{"$f":"'Daily Calcs'!K7459/1000000","v":0},0]
[0.1,{"$f":"'Daily Calcs'!J7460/1000000","v":0},{"$f":"'Daily Calcs'!K7460/1000000","v":0},0]
[0.1,{"$f":"'Daily Calcs'!J7461/1000000","v":0},{"$f":"'Daily Calcs'!K7461/1000000","v":0},0]
[0.1,{"$f":"'Daily Calcs'!J7462/1000000","v":0},{"$f":"'Daily Calcs'!K7462/1000000","v":0},0]
[0.1,{"$f":"'Daily Calcs'!J7463/1000000","v":5.4695630025834148E-14},{"$f":"'Daily Calcs'!K7463/1000000","v":5.4695630025834552E-14},5.4695630025834148E-14]
[0.1,{"$f":"'Daily Calcs'!J7464/1000000","v":2.5926680244399185E-14},{"$f":"'Daily Calcs'!K7464/1000000","v":2.592668024439944E-14},2.5926680244399185E-14]
[0.1,{"$f":"'Daily Calcs'!J7465/1000000","v":0},{"$f":"'Daily Calcs'!K7465/1000000","v":0},0]
[0.1,{"$f":"'Daily Calcs'!J7466/1000000","v":0},{"$f":"'Daily Calcs'!K7466/1000000","v":0},0]
[0.1,{"$f":"'Daily Calcs'!J7467/1000000","v":0},{"$f":"'Daily Calcs'!K7467/1000000","v":0},0]
[0.1,{"$f":"'Daily Calcs'!J7468/1000000","v":0},{"$f":"'Daily Calcs'!K7468/1000000","v":0},0]
[0.1,{"$f":"'Daily Calcs'!J7469/1000000","v":1.0369581425071892E-14},{"$f":"'Daily Calcs'!K7469/1000000","v":1.0369581425071942E-14},1.0369581425071892E-14]
[0.1,{"$f":"'Daily Calcs'!J7470/1000000","v":0},{"$f":"'Daily Calcs'!K7470/1000000","v":0},0]
[0.1,{"$f":"'Daily Calcs'!J7471/1000000","v":0},{"$f":"'Daily Calcs'!K7471/1000000","v":0},0]
[0.1,{"$f":"'Daily Calcs'!J7472/1000000","v":0},{"$f":"'Daily Calcs'!K7472/1000000","v":0},0]
[0.1,{"$f":"'Daily Calcs'!J7473/1000000","v":0},{"$f":"'Daily Calcs'!K7473/1000000","v":0},0]
[0.1,{"$f":"'Daily Calcs'!J7474/1000000","v":0},{"$f":"'Daily Calcs'!K7474/1000000","v":0},0]
[0.1,{"$f":"'Daily Calcs'!J7475/1000000","v":0},{"$f":"'Daily Calcs'!K7475/1000000","v":0},0]
[0.1,{"$f":"'Daily Calcs'!J7476/1000000","v":0},{"$f":"'Daily Calcs'!K7476/1000000","v":0},0]
[0.1,{"$f":"'Daily Calcs'!J7477/1000000","v":0},{"$f":"'Daily Calcs'!K7477/1000000","v":0},0]
[0.1,{"$f":"'Daily Calcs'!J7478/1000000","v":0},{"$f":"'Daily Calcs'!K7478/1000000","v":0},0]
[0.1,{"$f":"'Daily Calcs'!J7479/1000000","v":0},{"$f":"'Daily Calcs'!K7479/1000000","v":0},0]
[0.1,{"$f":"'Daily Calcs'!J7480/1000000","v":0},{"$f":"'Daily Calcs'!K7480/1000000","v":0},0]
[0.1,{"$f":"'Daily Calcs'!J7481/1000000","v":0},{"$f":"'Daily Calcs'!K7481/1000000","v":0},0]
[0.1,{"$f":"'Daily Calcs'!J7482/1000000","v":0},{"$f":"'Daily Calcs'!K7482/1000000","v":0},0]
[0.1,{"$f":"'Daily Calcs'!J7483/1000000","v":0},{"$f":"'Daily Calcs'!K7483/1000000","v":0},0]
[0.1,{"$f":"'Daily Calcs'!J7484/1000000","v":0},{"$f":"'Daily Calcs'!K7484/1000000","v":0},0]
[0.1,{"$f":"'Daily Calcs'!J7485/1000000","v":0},{"$f":"'Daily Calcs'!K7485/1000000","v":0},0]
[0.1,{"$f":"'Daily Calcs'!J7486/1000000","v":0},{"$f":"'Daily Calcs'!K7486/1000000","v":0},0]
[0.1,{"$f":"'Daily Calcs'!J7487/1000000","v":0},{"$f":"'Daily Calcs'!K7487/1000000","v":0},0]
[0.1,{"$f":"'Daily Calcs'!J7488/1000000","v":0},{"$f":"'Daily Calcs'!K7488/1000000","v":0},0]
[0.1,{"$f":"'Daily Calcs'!J7489/1000000","v":4.9429774992294258E-15},{"$f":"'Daily Calcs'!K7489/1000000","v":4.9429774992294282E-15},4.9429774992294258E-15]
[0.1,{"$f":"'Daily Calcs'!J7490/1000000","v":0},{"$f":"'Daily Calcs'!K7490/1000000","v":0},0]
[0.1,{"$f":"'Daily Calcs'!J7491/1000000","v":0},{"$f":"'Daily Calcs'!K7491/1000000","v":0},{"$f":"B7495","v":0}]
[0.1,{"$f":"'Daily Calcs'!J7492/1000000","v":0},{"$f":"'Daily Calcs'!K7492/1000000","v":0},0]
[0.1,{"$f":"'Daily Calcs'!J7493/1000000","v":1.7272434607645877E-15},{"$f":"'Daily Calcs'!K7493/1000000","v":1.727243460764589E-15},1.7272434607645877E-15]
[0.1,{"$f":"'Daily Calcs'!J7494/1000000","v":0},{"$f":"'Daily Calcs'!K7494/1000000","v":0},0]
[0.1,{"$f":"'Daily Calcs'!J7495/1000000","v":0},{"$f":"'Daily Calcs'!K7495/1000000","v":0},0]
[0.1,{"$f":"'Daily Calcs'!J7496/1000000","v":0},{"$f":"'Daily Calcs'!K7496/1000000","v":0},0]
[0.1,{"$f":"'Daily Calcs'!J7497/1000000","v":0},{"$f":"'Daily Calcs'!K7497/1000000","v":0},0]
[0.1,{"$f":"'Daily Calcs'!J7498/1000000","v":0},{"$f":"'Daily Calcs'!K7498/1000000","v":0},0]
[0.1,{"$f":"'Daily Calcs'!J7499/1000000","v":0},{"$f":"'Daily Calcs'!K7499/1000000","v":0},0]
[0.1,{"$f":"'Daily Calcs'!J7500/1000000","v":0},{"$f":"'Daily Calcs'!K7500/1000000","v":0},0]
[0.1,{"$f":"'Daily Calcs'!J7501/1000000","v":0},{"$f":"'Daily Calcs'!K7501/1000000","v":0},0]
[0.1,{"$f":"'Daily Calcs'!J7502/1000000","v":0},{"$f":"'Daily Calcs'!K7502/1000000","v":0},0]
[0.1,{"$f":"'Daily Calcs'!J7503/1000000","v":0},{"$f":"'Daily Calcs'!K7503/1000000","v":0},0]
[0.1,{"$f":"'Daily Calcs'!J7504/1000000","v":0},{"$f":"'Daily Calcs'!K7504/1000000","v":0},0]
[0.1,{"$f":"'Daily Calcs'!J7505/1000000","v":0},{"$f":"'Daily Calcs'!K7505/1000000","v":0},0]
[0.1,{"$f":"'Daily Calcs'!J7506/1000000","v":0},{"$f":"'Daily Calcs'!K7506/1000000","v":0},0]
[0.1,{"$f":"'Daily Calcs'!J7507/1000000","v":0},{"$f":"'Daily Calcs'!K7507/1000000","v":0},0]
[0.1,{"$f":"'Daily Calcs'!J7508/1000000","v":0},{"$f":"'Daily Calcs'!K7508/1000000","v":0},0]
[0.1,{"$f":"'Daily Calcs'!J7509/1000000","v":0},{"$f":"'Daily Calcs'!K7509/1000000","v":0},0]
[0.1,{"$f":"'Daily Calcs'!J7510/1000000","v":0},{"$f":"'Daily Calcs'!K7510/1000000","v":0},0]
[0.1,{"$f":"'Daily Calcs'!J7511/1000000","v":0},{"$f":"'Daily Calcs'!K7511/1000000","v":0},0]
[0.1,{"$f":"'Daily Calcs'!J7512/1000000","v":0},{"$f":"'Daily Calcs'!K7512/1000000","v":0},0]
[0.1,{"$f":"'Daily Calcs'!J7513/1000000","v":3.0582310932063726E-5},{"$f":"'Daily Calcs'!K7513/1000000","v":3.0799798571690167E-5},3.0582310932063726E-5]
[0.1,{"$f":"'Daily Calcs'!J7514/1000000","v":0},{"$f":"'Daily Calcs'!K7514/1000000","v":0},0]
[0.1,{"$f":"'Daily Calcs'!J7515/1000000","v":0},{"$f":"'Daily Calcs'!K7515/1000000","v":0},0]
[0.1,{"$f":"'Daily Calcs'!J7516/1000000","v":2.6534907323326748E-5},{"$f":"'Daily Calcs'!K7516/1000000","v":2.6642113134982102E-5},2.6534907323326748E-5]
[0.1,{"$f":"'Daily Calcs'!J7517/1000000","v":0},{"$f":"'Daily Calcs'!K7517/1000000","v":0},0]
[0.1,{"$f":"'Daily Calcs'!J7518/1000000","v":0},{"$f":"'Daily Calcs'!K7518/1000000","v":0},0]
[0.1,{"$f":"'Daily Calcs'!J7519/1000000","v":2.2940286960191304E-5},{"$f":"'Daily Calcs'!K7519/1000000","v":2.2988205092136729E-5},2.2940286960191304E-5]
[0.1,{"$f":"'Daily Calcs'!J7520/1000000","v":0},{"$f":"'Daily Calcs'!K7520/1000000","v":0},0]
[0.1,{"$f":"'Daily Calcs'!J7521/1000000","v":0},{"$f":"'Daily Calcs'!K7521/1000000","v":0},0]
[0.1,{"$f":"'Daily Calcs'!J7522/1000000","v":0},{"$f":"'Daily Calcs'!K7522/1000000","v":0},0]
[0.1,{"$f":"'Daily Calcs'!J7523/1000000","v":0},{"$f":"'Daily Calcs'!K7523/1000000","v":0},0]
[0.1,{"$f":"'Daily Calcs'!J7524/1000000","v":1.9697684635285311E-5},{"$f":"'Daily Calcs'!K7524/1000000","v":1.9722535348769094E-5},1.9697684635285311E-5]
[0.1,{"$f":"'Daily Calcs'!J7525/1000000","v":1.7883180019156742E-5},{"$f":"'Daily Calcs'!K7525/1000000","v":1.7898589810781992E-5},1.7883180019156742E-5]
[0.1,{"$f":"'Daily Calcs'!J7526/1000000","v":1.6184336796428426E-5},{"$f":"'Daily Calcs'!K7526/1000000","v":1.6194087286685859E-5},1.6184336796428426E-5]
[0.1,{"$f":"'Daily Calcs'!J7527/1000000","v":0},{"$f":"'Daily Calcs'!K7527/1000000","v":0},0]
[0.1,{"$f":"'Daily Calcs'!J7528/1000000","v":0},{"$f":"'Daily Calcs'!K7528/1000000","v":0},0]
[0.1,{"$f":"'Daily Calcs'!J7529/1000000","v":0},{"$f":"'Daily Calcs'!K7529/1000000","v":0},0]
[0.1,{"$f":"'Daily Calcs'!J7530/1000000","v":0},{"$f":"'Daily Calcs'!K7530/1000000","v":0},0]
[0.1,{"$f":"'Daily Calcs'!J7531/1000000","v":0},{"$f":"'Daily Calcs'!K7531/1000000","v":0},0]
[0.1,{"$f":"'Daily Calcs'!J7532/1000000","v":0},{"$f":"'Daily Calcs'!K7532/1000000","v":0},0]
[0.1,{"$f":"'Daily Calcs'!J7533/1000000","v":0},{"$f":"'Daily Calcs'!K7533/1000000","v":0},0]
[0.1,{"$f":"'Daily Calcs'!J7534/1000000","v":1.0286859209304598E-5},{"$f":"'Daily Calcs'!K7534/1000000","v":1.028955786052876E-5},1.0286859209304598E-5]
[0.1,{"$f":"'Daily Calcs'!J7535/1000000","v":0},{"$f":"'Daily Calcs'!K7535/1000000","v":0},0]
[0.1,{"$f":"'Daily Calcs'!J7536/1000000","v":0},{"$f":"'Daily Calcs'!K7536/1000000","v":0},0]
[0.1,{"$f":"'Daily Calcs'!J7537/1000000","v":0},{"$f":"'Daily Calcs'!K7537/1000000","v":0},0]
[0.1,{"$f":"'Daily Calcs'!J7538/1000000","v":0},{"$f":"'Daily Calcs'!K7538/1000000","v":0},0]
[0.1,{"$f":"'Daily Calcs'!J7539/1000000","v":0},{"$f":"'Daily Calcs'!K7539/1000000","v":0},0]
[0.1,{"$f":"'Daily Calcs'!J7540/1000000","v":0},{"$f":"'Daily Calcs'!K7540/1000000","v":0},0]
[0.1,{"$f":"'Daily Calcs'!J7541/1000000","v":0},{"$f":"'Daily Calcs'!K7541/1000000","v":0},0]
[0.1,{"$f":"'Daily Calcs'!J7542/1000000","v":0},{"$f":"'Daily Calcs'!K7542/1000000","v":0},0]
[0.1,{"$f":"'Daily Calcs'!J7543/1000000","v":0},{"$f":"'Daily Calcs'!K7543/1000000","v":0},0]
[0.1,{"$f":"'Daily Calcs'!J7544/1000000","v":8.4583954502788352E-6},{"$f":"'Daily Calcs'!K7544/1000000","v":8.4587761029208749E-6},8.4583954502788352E-6]
[0.1,{"$f":"'Daily Calcs'!J7545/1000000","v":0},{"$f":"'Daily Calcs'!K7545/1000000","v":0},0]
[0.1,{"$f":"'Daily Calcs'!J7546/1000000","v":0},{"$f":"'Daily Calcs'!K7546/1000000","v":0},0]
[0.1,{"$f":"'Daily Calcs'!J7547/1000000","v":0},{"$f":"'Daily Calcs'!K7547/1000000","v":0},0]
[0.1,{"$f":"'Daily Calcs'!J7548/1000000","v":0},{"$f":"'Daily Calcs'!K7548/1000000","v":0},0]
[0.1,{"$f":"'Daily Calcs'!J7549/1000000","v":0},{"$f":"'Daily Calcs'!K7549/1000000","v":0},0]
[0.1,{"$f":"'Daily Calcs'!J7550/1000000","v":4.5896943104761225E-6},{"$f":"'Daily Calcs'!K7550/1000000","v":4.5898094934184285E-6},4.5896943104761225E-6]
[0.1,{"$f":"'Daily Calcs'!J7551/1000000","v":0},{"$f":"'Daily Calcs'!K7551/1000000","v":0},0]
[0.1,{"$f":"'Daily Calcs'!J7552/1000000","v":4.2405291641611546E-6},{"$f":"'Daily Calcs'!K7552/1000000","v":4.2405623966058658E-6},4.2405291641611546E-6]
[0.1,{"$f":"'Daily Calcs'!J7553/1000000","v":2.8509520327185071E-6},{"$f":"'Daily Calcs'!K7553/1000000","v":2.8509743227431542E-6},2.8509520327185071E-6]
[0.1,{"$f":"'Daily Calcs'!J7554/1000000","v":0},{"$f":"'Daily Calcs'!K7554/1000000","v":0},0]
[0.1,{"$f":"'Daily Calcs'!J7555/1000000","v":0},{"$f":"'Daily Calcs'!K7555/1000000","v":0},{"$f":"B7559","v":0}]
[0.1,{"$f":"'Daily Calcs'!J7556/1000000","v":0},{"$f":"'Daily Calcs'!K7556/1000000","v":0},0]
[0.1,{"$f":"'Daily Calcs'!J7557/1000000","v":0},{"$f":"'Daily Calcs'!K7557/1000000","v":0},0]
[0.1,{"$f":"'Daily Calcs'!J7558/1000000","v":0},{"$f":"'Daily Calcs'!K7558/1000000","v":0},0]
[0.1,{"$f":"'Daily Calcs'!J7559/1000000","v":0},{"$f":"'Daily Calcs'!K7559/1000000","v":0},0]
[0.1,{"$f":"'Daily Calcs'!J7560/1000000","v":0},{"$f":"'Daily Calcs'!K7560/1000000","v":0},0]
[0.1,{"$f":"'Daily Calcs'!J7561/1000000","v":0},{"$f":"'Daily Calcs'!K7561/1000000","v":0},0]
[0.1,{"$f":"'Daily Calcs'!J7562/1000000","v":0},{"$f":"'Daily Calcs'!K7562/1000000","v":0},0]
[0.1,{"$f":"'Daily Calcs'!J7563/1000000","v":0},{"$f":"'Daily Calcs'!K7563/1000000","v":0},0]
[0.1,{"$f":"'Daily Calcs'!J7564/1000000","v":1.6708884336002982E-6},{"$f":"'Daily Calcs'!K7564/1000000","v":1.6708914632613152E-6},1.6708884336002982E-6]
[0.1,{"$f":"'Daily Calcs'!J7565/1000000","v":1.4463996203883112E-6},{"$f":"'Daily Calcs'!K7565/1000000","v":1.4464013304796553E-6},1.4463996203883112E-6]
[0.1,{"$f":"'Daily Calcs'!J7566/1000000","v":0},{"$f":"'Daily Calcs'!K7566/1000000","v":0},0]
[0.1,{"$f":"'Daily Calcs'!J7567/1000000","v":0},{"$f":"'Daily Calcs'!K7567/1000000","v":0},0]
[0.1,{"$f":"'Daily Calcs'!J7568/1000000","v":0},{"$f":"'Daily Calcs'!K7568/1000000","v":0},0]
[0.1,{"$f":"'Daily Calcs'!J7569/1000000","v":0},{"$f":"'Daily Calcs'!K7569/1000000","v":0},0]
[0.1,{"$f":"'Daily Calcs'!J7570/1000000","v":0},{"$f":"'Daily Calcs'!K7570/1000000","v":0},0]
[0.1,{"$f":"'Daily Calcs'!J7571/1000000","v":0},{"$f":"'Daily Calcs'!K7571/1000000","v":0},0]
[0.1,{"$f":"'Daily Calcs'!J7572/1000000","v":0},{"$f":"'Daily Calcs'!K7572/1000000","v":0},0]
[0.1,{"$f":"'Daily Calcs'!J7573/1000000","v":0},{"$f":"'Daily Calcs'!K7573/1000000","v":0},0]
[0.1,{"$f":"'Daily Calcs'!J7574/1000000","v":0},{"$f":"'Daily Calcs'!K7574/1000000","v":0},0]
[0.1,{"$f":"'Daily Calcs'!J7575/1000000","v":0},{"$f":"'Daily Calcs'!K7575/1000000","v":0},0]
[0.1,{"$f":"'Daily Calcs'!J7576/1000000","v":0},{"$f":"'Daily Calcs'!K7576/1000000","v":0},0]
[0.1,{"$f":"'Daily Calcs'!J7577/1000000","v":0},{"$f":"'Daily Calcs'!K7577/1000000","v":0},0]
[0.1,{"$f":"'Daily Calcs'!J7578/1000000","v":0},{"$f":"'Daily Calcs'!K7578/1000000","v":0},0]
[0.1,{"$f":"'Daily Calcs'!J7579/1000000","v":0},{"$f":"'Daily Calcs'!K7579/1000000","v":0},0]
[0.1,{"$f":"'Daily Calcs'!J7580/1000000","v":0},{"$f":"'Daily Calcs'!K7580/1000000","v":0},0]
[0.1,{"$f":"'Daily Calcs'!J7581/1000000","v":0},{"$f":"'Daily Calcs'!K7581/1000000","v":0},0]
[0.1,{"$f":"'Daily Calcs'!J7582/1000000","v":0},{"$f":"'Daily Calcs'!K7582/1000000","v":0},0]
[0.1,{"$f":"'Daily Calcs'!J7583/1000000","v":0},{"$f":"'Daily Calcs'!K7583/1000000","v":0},0]
[0.1,{"$f":"'Daily Calcs'!J7584/1000000","v":0},{"$f":"'Daily Calcs'!K7584/1000000","v":0},0]
[0.1,{"$f":"'Daily Calcs'!J7585/1000000","v":0},{"$f":"'Daily Calcs'!K7585/1000000","v":0},0]
[0.1,{"$f":"'Daily Calcs'!J7586/1000000","v":0},{"$f":"'Daily Calcs'!K7586/1000000","v":0},0]
[0.1,{"$f":"'Daily Calcs'!J7587/1000000","v":0},{"$f":"'Daily Calcs'!K7587/1000000","v":0},0]
[0.1,{"$f":"'Daily Calcs'!J7588/1000000","v":1.0597076811443973E-6},{"$f":"'Daily Calcs'!K7588/1000000","v":1.0597081791437753E-6},1.0597076811443973E-6]
[0.1,{"$f":"'Daily Calcs'!J7589/1000000","v":6.613314363625585E-7},{"$f":"'Daily Calcs'!K7589/1000000","v":6.6133175682020267E-7},6.613314363625585E-7]
[0.1,{"$f":"'Daily Calcs'!J7590/1000000","v":0},{"$f":"'Daily Calcs'!K7590/1000000","v":0},0]
[0.1,{"$f":"'Daily Calcs'!J7591/1000000","v":0},{"$f":"'Daily Calcs'!K7591/1000000","v":0},0]
[0.1,{"$f":"'Daily Calcs'!J7592/1000000","v":0},{"$f":"'Daily Calcs'!K7592/1000000","v":0},0]
[0.1,{"$f":"'Daily Calcs'!J7593/1000000","v":0},{"$f":"'Daily Calcs'!K7593/1000000","v":0},0]
[0.1,{"$f":"'Daily Calcs'!J7594/1000000","v":0},{"$f":"'Daily Calcs'!K7594/1000000","v":0},0]
[0.1,{"$f":"'Daily Calcs'!J7595/1000000","v":0},{"$f":"'Daily Calcs'!K7595/1000000","v":0},0]
[0.1,{"$f":"'Daily Calcs'!J7596/1000000","v":0},{"$f":"'Daily Calcs'!K7596/1000000","v":0},0]
[0.1,{"$f":"'Daily Calcs'!J7597/1000000","v":0},{"$f":"'Daily Calcs'!K7597/1000000","v":0},0]
[0.1,{"$f":"'Daily Calcs'!J7598/1000000","v":0},{"$f":"'Daily Calcs'!K7598/1000000","v":0},0]
[0.1,{"$f":"'Daily Calcs'!J7599/1000000","v":0},{"$f":"'Daily Calcs'!K7599/1000000","v":0},0]
[0.1,{"$f":"'Daily Calcs'!J7600/1000000","v":0},{"$f":"'Daily Calcs'!K7600/1000000","v":0},0]
[0.1,{"$f":"'Daily Calcs'!J7601/1000000","v":0},{"$f":"'Daily Calcs'!K7601/1000000","v":0},0]
[0.1,{"$f":"'Daily Calcs'!J7602/1000000","v":0},{"$f":"'Daily Calcs'!K7602/1000000","v":0},0]
[0.1,{"$f":"'Daily Calcs'!J7603/1000000","v":0},{"$f":"'Daily Calcs'!K7603/1000000","v":0},0]
[0.1,{"$f":"'Daily Calcs'!J7604/1000000","v":3.3268216448525104E-7},{"$f":"'Daily Calcs'!K7604/1000000","v":3.326822058298217E-7},3.3268216448525104E-7]
[0.1,{"$f":"'Daily Calcs'!J7605/1000000","v":0},{"$f":"'Daily Calcs'!K7605/1000000","v":0},0]
[0.1,{"$f":"'Daily Calcs'!J7606/1000000","v":0},{"$f":"'Daily Calcs'!K7606/1000000","v":0},0]
[0.1,{"$f":"'Daily Calcs'!J7607/1000000","v":0},{"$f":"'Daily Calcs'!K7607/1000000","v":0},0]
[0.1,{"$f":"'Daily Calcs'!J7608/1000000","v":0},{"$f":"'Daily Calcs'!K7608/1000000","v":0},0]
[0.1,{"$f":"'Daily Calcs'!J7609/1000000","v":0},{"$f":"'Daily Calcs'!K7609/1000000","v":0},0]
[0.1,{"$f":"'Daily Calcs'!J7610/1000000","v":0},{"$f":"'Daily Calcs'!K7610/1000000","v":0},0]
[0.1,{"$f":"'Daily Calcs'!J7611/1000000","v":0},{"$f":"'Daily Calcs'!K7611/1000000","v":0},0]
[0.1,{"$f":"'Daily Calcs'!J7612/1000000","v":0},{"$f":"'Daily Calcs'!K7612/1000000","v":0},0]
[0.1,{"$f":"'Daily Calcs'!J7613/1000000","v":0},{"$f":"'Daily Calcs'!K7613/1000000","v":0},0]
[0.1,{"$f":"'Daily Calcs'!J7614/1000000","v":0},{"$f":"'Daily Calcs'!K7614/1000000","v":0},0]
[0.1,{"$f":"'Daily Calcs'!J7615/1000000","v":0},{"$f":"'Daily Calcs'!K7615/1000000","v":0},0]
[0.1,{"$f":"'Daily Calcs'!J7616/1000000","v":0},{"$f":"'Daily Calcs'!K7616/1000000","v":0},0]
[0.1,{"$f":"'Daily Calcs'!J7617/1000000","v":0},{"$f":"'Daily Calcs'!K7617/1000000","v":0},0]
[0.1,{"$f":"'Daily Calcs'!J7618/1000000","v":0},{"$f":"'Daily Calcs'!K7618/1000000","v":0},0]
[0.1,{"$f":"'Daily Calcs'!J7619/1000000","v":0},{"$f":"'Daily Calcs'!K7619/1000000","v":0},{"$f":"B7623","v":0}]
[0.1,{"$f":"'Daily Calcs'!J7620/1000000","v":0},{"$f":"'Daily Calcs'!K7620/1000000","v":0},0]
[0.1,{"$f":"'Daily Calcs'!J7621/1000000","v":0},{"$f":"'Daily Calcs'!K7621/1000000","v":0},0]
[0.1,{"$f":"'Daily Calcs'!J7622/1000000","v":0},{"$f":"'Daily Calcs'!K7622/1000000","v":0},0]
[0.1,{"$f":"'Daily Calcs'!J7623/1000000","v":0},{"$f":"'Daily Calcs'!K7623/1000000","v":0},0]
[0.1,{"$f":"'Daily Calcs'!J7624/1000000","v":0},{"$f":"'Daily Calcs'!K7624/1000000","v":0},0]
[0.1,{"$f":"'Daily Calcs'!J7625/1000000","v":0},{"$f":"'Daily Calcs'!K7625/1000000","v":0},0]
[0.1,{"$f":"'Daily Calcs'!J7626/1000000","v":0},{"$f":"'Daily Calcs'!K7626/1000000","v":0},0]
[0.1,{"$f":"'Daily Calcs'!J7627/1000000","v":0},{"$f":"'Daily Calcs'!K7627/1000000","v":0},0]
[0.1,{"$f":"'Daily Calcs'!J7628/1000000","v":0},{"$f":"'Daily Calcs'!K7628/1000000","v":0},0]
[0.1,{"$f":"'Daily Calcs'!J7629/1000000","v":0},{"$f":"'Daily Calcs'!K7629/1000000","v":0},0]
[0.1,{"$f":"'Daily Calcs'!J7630/1000000","v":0},{"$f":"'Daily Calcs'!K7630/1000000","v":0},0]
[0.1,{"$f":"'Daily Calcs'!J7631/1000000","v":0},{"$f":"'Daily Calcs'!K7631/1000000","v":0},0]
[0.1,{"$f":"'Daily Calcs'!J7632/1000000","v":0},{"$f":"'Daily Calcs'!K7632/1000000","v":0},0]
[0.1,{"$f":"'Daily Calcs'!J7633/1000000","v":0},{"$f":"'Daily Calcs'!K7633/1000000","v":0},0]
[0.1,{"$f":"'Daily Calcs'!J7634/1000000","v":0},{"$f":"'Daily Calcs'!K7634/1000000","v":0},0]
[0.1,{"$f":"'Daily Calcs'!J7635/1000000","v":0},{"$f":"'Daily Calcs'!K7635/1000000","v":0},0]
[0.1,{"$f":"'Daily Calcs'!J7636/1000000","v":0},{"$f":"'Daily Calcs'!K7636/1000000","v":0},0]
[0.1,{"$f":"'Daily Calcs'!J7637/1000000","v":0},{"$f":"'Daily Calcs'!K7637/1000000","v":0},0]
[0.1,{"$f":"'Daily Calcs'!J7638/1000000","v":0},{"$f":"'Daily Calcs'!K7638/1000000","v":0},0]
[0.1,{"$f":"'Daily Calcs'!J7639/1000000","v":0},{"$f":"'Daily Calcs'!K7639/1000000","v":0},0]
[0.1,{"$f":"'Daily Calcs'!J7640/1000000","v":8.3774722594042792E-8},{"$f":"'Daily Calcs'!K7640/1000000","v":8.3774723186872166E-8},8.3774722594042792E-8]
[0.1,{"$f":"'Daily Calcs'!J7641/1000000","v":5.7196378395254438E-8},{"$f":"'Daily Calcs'!K7641/1000000","v":5.7196378678250846E-8},5.7196378395254438E-8]
[0.1,{"$f":"'Daily Calcs'!J7642/1000000","v":0},{"$f":"'Daily Calcs'!K7642/1000000","v":0},0]
[0.1,{"$f":"'Daily Calcs'!J7643/1000000","v":0},{"$f":"'Daily Calcs'!K7643/1000000","v":0},0]
[0.1,{"$f":"'Daily Calcs'!J7644/1000000","v":0},{"$f":"'Daily Calcs'!K7644/1000000","v":0},0]
[0.1,{"$f":"'Daily Calcs'!J7645/1000000","v":0},{"$f":"'Daily Calcs'!K7645/1000000","v":0},0]
[0.1,{"$f":"'Daily Calcs'!J7646/1000000","v":0},{"$f":"'Daily Calcs'!K7646/1000000","v":0},0]
[0.1,{"$f":"'Daily Calcs'!J7647/1000000","v":0},{"$f":"'Daily Calcs'!K7647/1000000","v":0},0]
[0.1,{"$f":"'Daily Calcs'!J7648/1000000","v":0},{"$f":"'Daily Calcs'!K7648/1000000","v":0},0]
[0.1,{"$f":"'Daily Calcs'!J7649/1000000","v":0},{"$f":"'Daily Calcs'!K7649/1000000","v":0},0]
[0.1,{"$f":"'Daily Calcs'!J7650/1000000","v":0},{"$f":"'Daily Calcs'!K7650/1000000","v":0},0]
[0.1,{"$f":"'Daily Calcs'!J7651/1000000","v":0},{"$f":"'Daily Calcs'!K7651/1000000","v":0},0]
[0.1,{"$f":"'Daily Calcs'!J7652/1000000","v":0},{"$f":"'Daily Calcs'!K7652/1000000","v":0},0]
[0.1,{"$f":"'Daily Calcs'!J7653/1000000","v":0},{"$f":"'Daily Calcs'!K7653/1000000","v":0},0]
[0.1,{"$f":"'Daily Calcs'!J7654/1000000","v":2.8132491939706251E-8},{"$f":"'Daily Calcs'!K7654/1000000","v":2.8132491989627716E-8},2.8132491939706251E-8]
[0.1,{"$f":"'Daily Calcs'!J7655/1000000","v":2.1960140772667955E-8},{"$f":"'Daily Calcs'!K7655/1000000","v":2.19601407976986E-8},2.1960140772667955E-8]
[0.1,{"$f":"'Daily Calcs'!J7656/1000000","v":0},{"$f":"'Daily Calcs'!K7656/1000000","v":0},0]
[0.1,{"$f":"'Daily Calcs'!J7657/1000000","v":0},{"$f":"'Daily Calcs'!K7657/1000000","v":0},0]
[0.1,{"$f":"'Daily Calcs'!J7658/1000000","v":0},{"$f":"'Daily Calcs'!K7658/1000000","v":0},0]
[0.1,{"$f":"'Daily Calcs'!J7659/1000000","v":0},{"$f":"'Daily Calcs'!K7659/1000000","v":0},0]
[0.1,{"$f":"'Daily Calcs'!J7660/1000000","v":0},{"$f":"'Daily Calcs'!K7660/1000000","v":0},0]
[0.1,{"$f":"'Daily Calcs'!J7661/1000000","v":0},{"$f":"'Daily Calcs'!K7661/1000000","v":0},0]
[0.1,{"$f":"'Daily Calcs'!J7662/1000000","v":0},{"$f":"'Daily Calcs'!K7662/1000000","v":0},0]
[0.1,{"$f":"'Daily Calcs'!J7663/1000000","v":1.6581533182562585E-8},{"$f":"'Daily Calcs'!K7663/1000000","v":1.6581533191989387E-8},1.6581533182562585E-8]
[0.1,{"$f":"'Daily Calcs'!J7664/1000000","v":1.065848484848485E-8},{"$f":"'Daily Calcs'!K7664/1000000","v":1.0658484855934394E-8},1.065848484848485E-8]
[0.1,{"$f":"'Daily Calcs'!J7665/1000000","v":6.2186920222634491E-9},{"$f":"'Daily Calcs'!K7665/1000000","v":6.2186920250573972E-9},6.2186920222634491E-9]
[0.1,{"$f":"'Daily Calcs'!J7666/1000000","v":0},{"$f":"'Daily Calcs'!K7666/1000000","v":0},0]
[0.1,{"$f":"'Daily Calcs'!J7667/1000000","v":0},{"$f":"'Daily Calcs'!K7667/1000000","v":0},0]
[0.1,{"$f":"'Daily Calcs'!J7668/1000000","v":3.4772893475257989E-9},{"$f":"'Daily Calcs'!K7668/1000000","v":3.4772893483815611E-9},3.4772893475257989E-9]
[0.1,{"$f":"'Daily Calcs'!J7669/1000000","v":0},{"$f":"'Daily Calcs'!K7669/1000000","v":0},0]
[0.1,{"$f":"'Daily Calcs'!J7670/1000000","v":0},{"$f":"'Daily Calcs'!K7670/1000000","v":0},0]
[0.1,{"$f":"'Daily Calcs'!J7671/1000000","v":1.7209576006186745E-9},{"$f":"'Daily Calcs'!K7671/1000000","v":1.7209576008632158E-9},1.7209576006186745E-9]
[0.1,{"$f":"'Daily Calcs'!J7672/1000000","v":0},{"$f":"'Daily Calcs'!K7672/1000000","v":0},0]
[0.1,{"$f":"'Daily Calcs'!J7673/1000000","v":0},{"$f":"'Daily Calcs'!K7673/1000000","v":0},0]
[0.1,{"$f":"'Daily Calcs'!J7674/1000000","v":6.9513627343781636E-10},{"$f":"'Daily Calcs'!K7674/1000000","v":6.9513627348636856E-10},6.9513627343781636E-10]
[0.1,{"$f":"'Daily Calcs'!J7675/1000000","v":4.0522259207177055E-10},{"$f":"'Daily Calcs'!K7675/1000000","v":4.0522259208817385E-10},4.0522259207177055E-10]
[0.1,{"$f":"'Daily Calcs'!J7676/1000000","v":0},{"$f":"'Daily Calcs'!K7676/1000000","v":0},0]
[0.1,{"$f":"'Daily Calcs'!J7677/1000000","v":0},{"$f":"'Daily Calcs'!K7677/1000000","v":0},0]
[0.1,{"$f":"'Daily Calcs'!J7678/1000000","v":0},{"$f":"'Daily Calcs'!K7678/1000000","v":0},0]
[0.1,{"$f":"'Daily Calcs'!J7679/1000000","v":0},{"$f":"'Daily Calcs'!K7679/1000000","v":0},0]
[0.1,{"$f":"'Daily Calcs'!J7680/1000000","v":0},{"$f":"'Daily Calcs'!K7680/1000000","v":0},0]
[0.1,{"$f":"'Daily Calcs'!J7681/1000000","v":0},{"$f":"'Daily Calcs'!K7681/1000000","v":0},0]
[0.1,{"$f":"'Daily Calcs'!J7682/1000000","v":0},{"$f":"'Daily Calcs'!K7682/1000000","v":0},0]
[0.1,{"$f":"'Daily Calcs'!J7683/1000000","v":2.0873028133958151E-10},{"$f":"'Daily Calcs'!K7683/1000000","v":2.0873028134218889E-10},{"$f":"B7687","v":2.0873028133958151E-10}]
[0.1,{"$f":"'Daily Calcs'!J7684/1000000","v":1.2715652350905762E-10},{"$f":"'Daily Calcs'!K7684/1000000","v":1.2715652351078537E-10},1.2715652350905762E-10]
[0.1,{"$f":"'Daily Calcs'!J7685/1000000","v":1.0150372232904404E-10},{"$f":"'Daily Calcs'!K7685/1000000","v":1.0150372232960287E-10},1.0150372232904404E-10]
[0.1,{"$f":"'Daily Calcs'!J7686/1000000","v":0},{"$f":"'Daily Calcs'!K7686/1000000","v":0},0]
[0.1,{"$f":"'Daily Calcs'!J7687/1000000","v":0},{"$f":"'Daily Calcs'!K7687/1000000","v":0},0]
[0.1,{"$f":"'Daily Calcs'!J7688/1000000","v":0},{"$f":"'Daily Calcs'!K7688/1000000","v":0},0]
[0.1,{"$f":"'Daily Calcs'!J7689/1000000","v":0},{"$f":"'Daily Calcs'!K7689/1000000","v":0},0]
[0.1,{"$f":"'Daily Calcs'!J7690/1000000","v":0},{"$f":"'Daily Calcs'!K7690/1000000","v":0},0]
[0.1,{"$f":"'Daily Calcs'!J7691/1000000","v":0},{"$f":"'Daily Calcs'!K7691/1000000","v":0},0]
[0.1,{"$f":"'Daily Calcs'!J7692/1000000","v":5.9674601986325315E-11},{"$f":"'Daily Calcs'!K7692/1000000","v":5.9674601986585618E-11},5.9674601986325315E-11]
[0.1,{"$f":"'Daily Calcs'!J7693/1000000","v":0},{"$f":"'Daily Calcs'!K7693/1000000","v":0},0]
[0.1,{"$f":"'Daily Calcs'!J7694/1000000","v":3.4430690349752793E-11},{"$f":"'Daily Calcs'!K7694/1000000","v":3.443069034991388E-11},3.4430690349752793E-11]
[0.1,{"$f":"'Daily Calcs'!J7695/1000000","v":0},{"$f":"'Daily Calcs'!K7695/1000000","v":0},0]
[0.1,{"$f":"'Daily Calcs'!J7696/1000000","v":0},{"$f":"'Daily Calcs'!K7696/1000000","v":0},0]
[0.1,{"$f":"'Daily Calcs'!J7697/1000000","v":0},{"$f":"'Daily Calcs'!K7697/1000000","v":0},0]
[0.1,{"$f":"'Daily Calcs'!J7698/1000000","v":0},{"$f":"'Daily Calcs'!K7698/1000000","v":0},0]
[0.1,{"$f":"'Daily Calcs'!J7699/1000000","v":0},{"$f":"'Daily Calcs'!K7699/1000000","v":0},0]
[0.1,{"$f":"'Daily Calcs'!J7700/1000000","v":0},{"$f":"'Daily Calcs'!K7700/1000000","v":0},0]
[0.1,{"$f":"'Daily Calcs'!J7701/1000000","v":0},{"$f":"'Daily Calcs'!K7701/1000000","v":0},0]
[0.1,{"$f":"'Daily Calcs'!J7702/1000000","v":1.8908886555553911E-11},{"$f":"'Daily Calcs'!K7702/1000000","v":1.8908886555588501E-11},1.8908886555553911E-11]
[0.1,{"$f":"'Daily Calcs'!J7703/1000000","v":0},{"$f":"'Daily Calcs'!K7703/1000000","v":0},0]
[0.1,{"$f":"'Daily Calcs'!J7704/1000000","v":8.4141047749301309E-12},{"$f":"'Daily Calcs'!K7704/1000000","v":8.4141047749488992E-12},8.4141047749301309E-12]
[0.1,{"$f":"'Daily Calcs'!J7705/1000000","v":3.616133181255612E-12},{"$f":"'Daily Calcs'!K7705/1000000","v":3.6161331812608599E-12},3.616133181255612E-12]
[0.1,{"$f":"'Daily Calcs'!J7706/1000000","v":0},{"$f":"'Daily Calcs'!K7706/1000000","v":0},0]
[0.1,{"$f":"'Daily Calcs'!J7707/1000000","v":2.3758073586802773E-12},{"$f":"'Daily Calcs'!K7707/1000000","v":2.3758073586817042E-12},2.3758073586802773E-12]
[0.1,{"$f":"'Daily Calcs'!J7708/1000000","v":0},{"$f":"'Daily Calcs'!K7708/1000000","v":0},0]
[0.1,{"$f":"'Daily Calcs'!J7709/1000000","v":0},{"$f":"'Daily Calcs'!K7709/1000000","v":0},0]
[0.1,{"$f":"'Daily Calcs'!J7710/1000000","v":0},{"$f":"'Daily Calcs'!K7710/1000000","v":0},0]
[0.1,{"$f":"'Daily Calcs'!J7711/1000000","v":1.3208372877781293E-12},{"$f":"'Daily Calcs'!K7711/1000000","v":1.3208372877788494E-12},1.3208372877781293E-12]
[0.1,{"$f":"'Daily Calcs'!J7712/1000000","v":0},{"$f":"'Daily Calcs'!K7712/1000000","v":0},0]
[0.1,{"$f":"'Daily Calcs'!J7713/1000000","v":0},{"$f":"'Daily Calcs'!K7713/1000000","v":0},0]
[0.1,{"$f":"'Daily Calcs'!J7714/1000000","v":0},{"$f":"'Daily Calcs'!K7714/1000000","v":0},0]
[0.1,{"$f":"'Daily Calcs'!J7715/1000000","v":0},{"$f":"'Daily Calcs'!K7715/1000000","v":0},0]
[0.1,{"$f":"'Daily Calcs'!J7716/1000000","v":0},{"$f":"'Daily Calcs'!K7716/1000000","v":0},0]
[0.1,{"$f":"'Daily Calcs'!J7717/1000000","v":0},{"$f":"'Daily Calcs'!K7717/1000000","v":0},0]
[0.1,{"$f":"'Daily Calcs'!J7718/1000000","v":4.4656848589854655E-13},{"$f":"'Daily Calcs'!K7718/1000000","v":4.4656848589869887E-13},4.4656848589854655E-13]
[0.1,{"$f":"'Daily Calcs'!J7719/1000000","v":0},{"$f":"'Daily Calcs'!K7719/1000000","v":0},0]
[0.1,{"$f":"'Daily Calcs'!J7720/1000000","v":0},{"$f":"'Daily Calcs'!K7720/1000000","v":0},0]
[0.1,{"$f":"'Daily Calcs'!J7721/1000000","v":0},{"$f":"'Daily Calcs'!K7721/1000000","v":0},0]
[0.1,{"$f":"'Daily Calcs'!J7722/1000000","v":0},{"$f":"'Daily Calcs'!K7722/1000000","v":0},0]
[0.1,{"$f":"'Daily Calcs'!J7723/1000000","v":0},{"$f":"'Daily Calcs'!K7723/1000000","v":0},0]
[0.1,{"$f":"'Daily Calcs'!J7724/1000000","v":0},{"$f":"'Daily Calcs'!K7724/1000000","v":0},0]
[0.1,{"$f":"'Daily Calcs'!J7725/1000000","v":0},{"$f":"'Daily Calcs'!K7725/1000000","v":0},0]
[0.1,{"$f":"'Daily Calcs'!J7726/1000000","v":0},{"$f":"'Daily Calcs'!K7726/1000000","v":0},0]
[0.1,{"$f":"'Daily Calcs'!J7727/1000000","v":0},{"$f":"'Daily Calcs'!K7727/1000000","v":0},0]
[0.1,{"$f":"'Daily Calcs'!J7728/1000000","v":1.9179758608557313E-13},{"$f":"'Daily Calcs'!K7728/1000000","v":1.9179758608559461E-13},1.9179758608557313E-13]
[0.1,{"$f":"'Daily Calcs'!J7729/1000000","v":9.4680553939252884E-14},{"$f":"'Daily Calcs'!K7729/1000000","v":9.4680553939267336E-14},9.4680553939252884E-14]
[0.1,{"$f":"'Daily Calcs'!J7730/1000000","v":0},{"$f":"'Daily Calcs'!K7730/1000000","v":0},0]
[0.1,{"$f":"'Daily Calcs'!J7731/1000000","v":0},{"$f":"'Daily Calcs'!K7731/1000000","v":0},0]
[0.1,{"$f":"'Daily Calcs'!J7732/1000000","v":0},{"$f":"'Daily Calcs'!K7732/1000000","v":0},0]
[0.1,{"$f":"'Daily Calcs'!J7733/1000000","v":0},{"$f":"'Daily Calcs'!K7733/1000000","v":0},0]
[0.1,{"$f":"'Daily Calcs'!J7734/1000000","v":0},{"$f":"'Daily Calcs'!K7734/1000000","v":0},0]
[0.1,{"$f":"'Daily Calcs'!J7735/1000000","v":0},{"$f":"'Daily Calcs'!K7735/1000000","v":0},0]
[0.1,{"$f":"'Daily Calcs'!J7736/1000000","v":4.7408198752116736E-14},{"$f":"'Daily Calcs'!K7736/1000000","v":4.7408198752119538E-14},4.7408198752116736E-14]
[0.1,{"$f":"'Daily Calcs'!J7737/1000000","v":2.8959344038264438E-14},{"$f":"'Daily Calcs'!K7737/1000000","v":2.8959344038266313E-14},2.8959344038264438E-14]
[0.1,{"$f":"'Daily Calcs'!J7738/1000000","v":0},{"$f":"'Daily Calcs'!K7738/1000000","v":0},0]
[0.1,{"$f":"'Daily Calcs'!J7739/1000000","v":0},{"$f":"'Daily Calcs'!K7739/1000000","v":0},0]
[0.1,{"$f":"'Daily Calcs'!J7740/1000000","v":0},{"$f":"'Daily Calcs'!K7740/1000000","v":0},0]
[0.1,{"$f":"'Daily Calcs'!J7741/1000000","v":0},{"$f":"'Daily Calcs'!K7741/1000000","v":0},0]
[0.1,{"$f":"'Daily Calcs'!J7742/1000000","v":0},{"$f":"'Daily Calcs'!K7742/1000000","v":0},0]
[0.1,{"$f":"'Daily Calcs'!J7743/1000000","v":0},{"$f":"'Daily Calcs'!K7743/1000000","v":0},0]
[0.1,{"$f":"'Daily Calcs'!J7744/1000000","v":1.1500558822100197E-14},{"$f":"'Daily Calcs'!K7744/1000000","v":1.1500558822100555E-14},1.1500558822100197E-14]
[0.1,{"$f":"'Daily Calcs'!J7745/1000000","v":5.0891523935002199E-15},{"$f":"'Daily Calcs'!K7745/1000000","v":5.0891523935004186E-15},5.0891523935002199E-15]
[0.1,{"$f":"'Daily Calcs'!J7746/1000000","v":0},{"$f":"'Daily Calcs'!K7746/1000000","v":0},0]
[0.1,{"$f":"'Daily Calcs'!J7747/1000000","v":3.4473580441640374E-15},{"$f":"'Daily Calcs'!K7747/1000000","v":3.4473580441640997E-15},{"$f":"B7751","v":3.4473580441640374E-15}]
[0.1,{"$f":"'Daily Calcs'!J7748/1000000","v":0},{"$f":"'Daily Calcs'!K7748/1000000","v":0},0]
[0.1,{"$f":"'Daily Calcs'!J7749/1000000","v":0},{"$f":"'Daily Calcs'!K7749/1000000","v":0},0]
[0.1,{"$f":"'Daily Calcs'!J7750/1000000","v":0},{"$f":"'Daily Calcs'!K7750/1000000","v":0},0]
[0.1,{"$f":"'Daily Calcs'!J7751/1000000","v":2.1996898774046619E-15},{"$f":"'Daily Calcs'!K7751/1000000","v":2.1996898774046871E-15},2.1996898774046619E-15]
[0.1,{"$f":"'Daily Calcs'!J7752/1000000","v":0},{"$f":"'Daily Calcs'!K7752/1000000","v":0},0]
[0.1,{"$f":"'Daily Calcs'!J7753/1000000","v":0},{"$f":"'Daily Calcs'!K7753/1000000","v":0},0]
[0.1,{"$f":"'Daily Calcs'!J7754/1000000","v":0},{"$f":"'Daily Calcs'!K7754/1000000","v":0},0]
[0.1,{"$f":"'Daily Calcs'!J7755/1000000","v":0},{"$f":"'Daily Calcs'!K7755/1000000","v":0},0]
[0.1,{"$f":"'Daily Calcs'!J7756/1000000","v":0},{"$f":"'Daily Calcs'!K7756/1000000","v":0},0]
[0.1,{"$f":"'Daily Calcs'!J7757/1000000","v":0},{"$f":"'Daily Calcs'!K7757/1000000","v":0},0]
[0.1,{"$f":"'Daily Calcs'!J7758/1000000","v":0},{"$f":"'Daily Calcs'!K7758/1000000","v":0},0]
[0.1,{"$f":"'Daily Calcs'!J7759/1000000","v":0},{"$f":"'Daily Calcs'!K7759/1000000","v":0},0]
[0.1,{"$f":"'Daily Calcs'!J7760/1000000","v":0},{"$f":"'Daily Calcs'!K7760/1000000","v":0},0]
[0.1,{"$f":"'Daily Calcs'!J7761/1000000","v":0},{"$f":"'Daily Calcs'!K7761/1000000","v":0},0]
[0.1,{"$f":"'Daily Calcs'!J7762/1000000","v":0},{"$f":"'Daily Calcs'!K7762/1000000","v":0},0]
[0.1,{"$f":"'Daily Calcs'!J7763/1000000","v":0},{"$f":"'Daily Calcs'!K7763/1000000","v":0},0]
[0.1,{"$f":"'Daily Calcs'!J7764/1000000","v":0},{"$f":"'Daily Calcs'!K7764/1000000","v":0},0]
[0.1,{"$f":"'Daily Calcs'!J7765/1000000","v":0},{"$f":"'Daily Calcs'!K7765/1000000","v":0},0]
[0.1,{"$f":"'Daily Calcs'!J7766/1000000","v":3.244818244818245E-16},{"$f":"'Daily Calcs'!K7766/1000000","v":3.2448182448182682E-16},3.244818244818245E-16]
[0.1,{"$f":"'Daily Calcs'!J7767/1000000","v":0},{"$f":"'Daily Calcs'!K7767/1000000","v":0},0]
[0.1,{"$f":"'Daily Calcs'!J7768/1000000","v":0},{"$f":"'Daily Calcs'!K7768/1000000","v":0},0]
[0.1,{"$f":"'Daily Calcs'!J7769/1000000","v":1.9793933399274644E-16},{"$f":"'Daily Calcs'!K7769/1000000","v":1.9793933399274708E-16},1.9793933399274644E-16]
[0.1,{"$f":"'Daily Calcs'!J7770/1000000","v":0},{"$f":"'Daily Calcs'!K7770/1000000","v":0},0]
[0.1,{"$f":"'Daily Calcs'!J7771/1000000","v":0},{"$f":"'Daily Calcs'!K7771/1000000","v":0},0]
[0.1,{"$f":"'Daily Calcs'!J7772/1000000","v":0},{"$f":"'Daily Calcs'!K7772/1000000","v":0},0]
[0.1,{"$f":"'Daily Calcs'!J7773/1000000","v":0},{"$f":"'Daily Calcs'!K7773/1000000","v":0},0]
[0.1,{"$f":"'Daily Calcs'!J7774/1000000","v":0},{"$f":"'Daily Calcs'!K7774/1000000","v":0},0]
[0.1,{"$f":"'Daily Calcs'!J7775/1000000","v":0},{"$f":"'Daily Calcs'!K7775/1000000","v":0},0]
[0.1,{"$f":"'Daily Calcs'!J7776/1000000","v":0},{"$f":"'Daily Calcs'!K7776/1000000","v":0},0]
[0.1,{"$f":"'Daily Calcs'!J7777/1000000","v":0},{"$f":"'Daily Calcs'!K7777/1000000","v":0},0]
[0.1,{"$f":"'Daily Calcs'!J7778/1000000","v":7.9184227186397742E-17},{"$f":"'Daily Calcs'!K7778/1000000","v":7.9184227186397853E-17},7.9184227186397742E-17]
[0.1,{"$f":"'Daily Calcs'!J7779/1000000","v":0},{"$f":"'Daily Calcs'!K7779/1000000","v":0},0]
[0.1,{"$f":"'Daily Calcs'!J7780/1000000","v":4.9420520395409604E-17},{"$f":"'Daily Calcs'!K7780/1000000","v":4.9420520395409666E-17},4.9420520395409604E-17]
[0.1,{"$f":"'Daily Calcs'!J7781/1000000","v":2.3999593448716463E-17},{"$f":"'Daily Calcs'!K7781/1000000","v":2.3999593448716494E-17},2.3999593448716463E-17]
[0.1,{"$f":"'Daily Calcs'!J7782/1000000","v":0},{"$f":"'Daily Calcs'!K7782/1000000","v":0},0]
[0.1,{"$f":"'Daily Calcs'!J7783/1000000","v":0},{"$f":"'Daily Calcs'!K7783/1000000","v":0},0]
[0.1,{"$f":"'Daily Calcs'!J7784/1000000","v":0},{"$f":"'Daily Calcs'!K7784/1000000","v":0},0]
[0.1,{"$f":"'Daily Calcs'!J7785/1000000","v":0},{"$f":"'Daily Calcs'!K7785/1000000","v":0},0]
[0.1,{"$f":"'Daily Calcs'!J7786/1000000","v":6.4684257337681595E-18},{"$f":"'Daily Calcs'!K7786/1000000","v":6.4684257337681649E-18},6.4684257337681595E-18]
[0.1,{"$f":"'Daily Calcs'!J7787/1000000","v":0},{"$f":"'Daily Calcs'!K7787/1000000","v":0},0]
[0.1,{"$f":"'Daily Calcs'!J7788/1000000","v":3.8425690560921885E-18},{"$f":"'Daily Calcs'!K7788/1000000","v":3.84256905609219E-18},3.8425690560921885E-18]
[0.1,{"$f":"'Daily Calcs'!J7789/1000000","v":0},{"$f":"'Daily Calcs'!K7789/1000000","v":0},0]
[0.1,{"$f":"'Daily Calcs'!J7790/1000000","v":0},{"$f":"'Daily Calcs'!K7790/1000000","v":0},0]
[0.1,{"$f":"'Daily Calcs'!J7791/1000000","v":0},{"$f":"'Daily Calcs'!K7791/1000000","v":0},0]
[0.1,{"$f":"'Daily Calcs'!J7792/1000000","v":0},{"$f":"'Daily Calcs'!K7792/1000000","v":0},0]
[0.1,{"$f":"'Daily Calcs'!J7793/1000000","v":0},{"$f":"'Daily Calcs'!K7793/1000000","v":0},0]
[0.1,{"$f":"'Daily Calcs'!J7794/1000000","v":0},{"$f":"'Daily Calcs'!K7794/1000000","v":0},0]
[0.1,{"$f":"'Daily Calcs'!J7795/1000000","v":0},{"$f":"'Daily Calcs'!K7795/1000000","v":0},0]
[0.1,{"$f":"'Daily Calcs'!J7796/1000000","v":0},{"$f":"'Daily Calcs'!K7796/1000000","v":0},0]
[0.1,{"$f":"'Daily Calcs'!J7797/1000000","v":0},{"$f":"'Daily Calcs'!K7797/1000000","v":0},0]
[0.1,{"$f":"'Daily Calcs'!J7798/1000000","v":0},{"$f":"'Daily Calcs'!K7798/1000000","v":0},0]
[0.1,{"$f":"'Daily Calcs'!J7799/1000000","v":0},{"$f":"'Daily Calcs'!K7799/1000000","v":0},0]
[0.1,{"$f":"'Daily Calcs'!J7800/1000000","v":0},{"$f":"'Daily Calcs'!K7800/1000000","v":0},0]
[0.1,{"$f":"'Daily Calcs'!J7801/1000000","v":0},{"$f":"'Daily Calcs'!K7801/1000000","v":0},0]
[0.1,{"$f":"'Daily Calcs'!J7802/1000000","v":0},{"$f":"'Daily Calcs'!K7802/1000000","v":0},0]
[0.1,{"$f":"'Daily Calcs'!J7803/1000000","v":0},{"$f":"'Daily Calcs'!K7803/1000000","v":0},0]
[0.1,{"$f":"'Daily Calcs'!J7804/1000000","v":0},{"$f":"'Daily Calcs'!K7804/1000000","v":0},0]
[0.1,{"$f":"'Daily Calcs'!J7805/1000000","v":0},{"$f":"'Daily Calcs'!K7805/1000000","v":0},0]
[0.1,{"$f":"'Daily Calcs'!J7806/1000000","v":0},{"$f":"'Daily Calcs'!K7806/1000000","v":0},0]
[0.1,{"$f":"'Daily Calcs'!J7807/1000000","v":0},{"$f":"'Daily Calcs'!K7807/1000000","v":0},0]
[0.1,{"$f":"'Daily Calcs'!J7808/1000000","v":7.1164569215876105E-19},{"$f":"'Daily Calcs'!K7808/1000000","v":7.1164569215876124E-19},7.1164569215876105E-19]
[0.1,{"$f":"'Daily Calcs'!J7809/1000000","v":0},{"$f":"'Daily Calcs'!K7809/1000000","v":0},0]
[0.1,{"$f":"'Daily Calcs'!J7810/1000000","v":0},{"$f":"'Daily Calcs'!K7810/1000000","v":0},0]
[0.1,{"$f":"'Daily Calcs'!J7811/1000000","v":0},{"$f":"'Daily Calcs'!K7811/1000000","v":0},{"$f":"B7815","v":0}]
[0.1,{"$f":"'Daily Calcs'!J7812/1000000","v":0},{"$f":"'Daily Calcs'!K7812/1000000","v":0},0]
[0.1,{"$f":"'Daily Calcs'!J7813/1000000","v":0},{"$f":"'Daily Calcs'!K7813/1000000","v":0},0]
[0.1,{"$f":"'Daily Calcs'!J7814/1000000","v":0},{"$f":"'Daily Calcs'!K7814/1000000","v":0},0]
[0.1,{"$f":"'Daily Calcs'!J7815/1000000","v":0},{"$f":"'Daily Calcs'!K7815/1000000","v":0},0]
[0.1,{"$f":"'Daily Calcs'!J7816/1000000","v":2.9679446372466482E-19},{"$f":"'Daily Calcs'!K7816/1000000","v":2.9679446372466482E-19},2.9679446372466482E-19]
[0.1,{"$f":"'Daily Calcs'!J7817/1000000","v":0},{"$f":"'Daily Calcs'!K7817/1000000","v":0},0]
[0.1,{"$f":"'Daily Calcs'!J7818/1000000","v":0},{"$f":"'Daily Calcs'!K7818/1000000","v":0},0]
[0.1,{"$f":"'Daily Calcs'!J7819/1000000","v":0},{"$f":"'Daily Calcs'!K7819/1000000","v":0},0]
[0.1,{"$f":"'Daily Calcs'!J7820/1000000","v":0},{"$f":"'Daily Calcs'!K7820/1000000","v":0},0]
[0.1,{"$f":"'Daily Calcs'!J7821/1000000","v":0},{"$f":"'Daily Calcs'!K7821/1000000","v":0},0]
[0.1,{"$f":"'Daily Calcs'!J7822/1000000","v":0},{"$f":"'Daily Calcs'!K7822/1000000","v":0},0]
[0.1,{"$f":"'Daily Calcs'!J7823/1000000","v":0},{"$f":"'Daily Calcs'!K7823/1000000","v":0},0]
[0.1,{"$f":"'Daily Calcs'!J7824/1000000","v":0},{"$f":"'Daily Calcs'!K7824/1000000","v":0},0]
[0.1,{"$f":"'Daily Calcs'!J7825/1000000","v":1.1782297681634062E-19},{"$f":"'Daily Calcs'!K7825/1000000","v":1.1782297681634062E-19},1.1782297681634062E-19]
[0.1,{"$f":"'Daily Calcs'!J7826/1000000","v":5.7523642390562534E-20},{"$f":"'Daily Calcs'!K7826/1000000","v":5.7523642390562534E-20},5.7523642390562534E-20]
[0.1,{"$f":"'Daily Calcs'!J7827/1000000","v":0},{"$f":"'Daily Calcs'!K7827/1000000","v":0},0]
[0.1,{"$f":"'Daily Calcs'!J7828/1000000","v":0},{"$f":"'Daily Calcs'!K7828/1000000","v":0},0]
[0.1,{"$f":"'Daily Calcs'!J7829/1000000","v":0},{"$f":"'Daily Calcs'!K7829/1000000","v":0},0]
[0.1,{"$f":"'Daily Calcs'!J7830/1000000","v":0},{"$f":"'Daily Calcs'!K7830/1000000","v":0},0]
[0.1,{"$f":"'Daily Calcs'!J7831/1000000","v":0},{"$f":"'Daily Calcs'!K7831/1000000","v":0},0]
[0.1,{"$f":"'Daily Calcs'!J7832/1000000","v":0},{"$f":"'Daily Calcs'!K7832/1000000","v":0},0]
[0.1,{"$f":"'Daily Calcs'!J7833/1000000","v":0},{"$f":"'Daily Calcs'!K7833/1000000","v":0},0]
[0.1,{"$f":"'Daily Calcs'!J7834/1000000","v":1.9441579851976569E-20},{"$f":"'Daily Calcs'!K7834/1000000","v":1.9441579851976569E-20},1.9441579851976569E-20]
[0.1,{"$f":"'Daily Calcs'!J7835/1000000","v":0},{"$f":"'Daily Calcs'!K7835/1000000","v":0},0]
[0.1,{"$f":"'Daily Calcs'!J7836/1000000","v":0},{"$f":"'Daily Calcs'!K7836/1000000","v":0},0]
[0.1,{"$f":"'Daily Calcs'!J7837/1000000","v":0},{"$f":"'Daily Calcs'!K7837/1000000","v":0},0]
[0.1,{"$f":"'Daily Calcs'!J7838/1000000","v":0},{"$f":"'Daily Calcs'!K7838/1000000","v":0},0]
[0.1,{"$f":"'Daily Calcs'!J7839/1000000","v":0},{"$f":"'Daily Calcs'!K7839/1000000","v":0},0]
[0.1,{"$f":"'Daily Calcs'!J7840/1000000","v":0},{"$f":"'Daily Calcs'!K7840/1000000","v":0},0]
[0.1,{"$f":"'Daily Calcs'!J7841/1000000","v":0},{"$f":"'Daily Calcs'!K7841/1000000","v":0},0]
[0.1,{"$f":"'Daily Calcs'!J7842/1000000","v":0},{"$f":"'Daily Calcs'!K7842/1000000","v":0},0]
[0.1,{"$f":"'Daily Calcs'!J7843/1000000","v":0},{"$f":"'Daily Calcs'!K7843/1000000","v":0},0]
[0.1,{"$f":"'Daily Calcs'!J7844/1000000","v":9.0676659756551313E-21},{"$f":"'Daily Calcs'!K7844/1000000","v":9.0676659756551313E-21},9.0676659756551313E-21]
[0.1,{"$f":"'Daily Calcs'!J7845/1000000","v":0},{"$f":"'Daily Calcs'!K7845/1000000","v":0},0]
[0.1,{"$f":"'Daily Calcs'!J7846/1000000","v":0},{"$f":"'Daily Calcs'!K7846/1000000","v":0},0]
[0.1,{"$f":"'Daily Calcs'!J7847/1000000","v":0},{"$f":"'Daily Calcs'!K7847/1000000","v":0},0]
[0.1,{"$f":"'Daily Calcs'!J7848/1000000","v":0},{"$f":"'Daily Calcs'!K7848/1000000","v":0},0]
[0.1,{"$f":"'Daily Calcs'!J7849/1000000","v":2.1913175164058556E-21},{"$f":"'Daily Calcs'!K7849/1000000","v":2.1913175164058556E-21},2.1913175164058556E-21]
[0.1,{"$f":"'Daily Calcs'!J7850/1000000","v":1.1882604055496264E-21},{"$f":"'Daily Calcs'!K7850/1000000","v":1.1882604055496264E-21},1.1882604055496264E-21]
[0.1,{"$f":"'Daily Calcs'!J7851/1000000","v":0},{"$f":"'Daily Calcs'!K7851/1000000","v":0},0]
[0.1,{"$f":"'Daily Calcs'!J7852/1000000","v":6.3236608834002576E-22},{"$f":"'Daily Calcs'!K7852/1000000","v":6.3236608834002576E-22},6.3236608834002576E-22]
[0.1,{"$f":"'Daily Calcs'!J7853/1000000","v":0},{"$f":"'Daily Calcs'!K7853/1000000","v":0},0]
[0.1,{"$f":"'Daily Calcs'!J7854/1000000","v":0},{"$f":"'Daily Calcs'!K7854/1000000","v":0},0]
[0.1,{"$f":"'Daily Calcs'!J7855/1000000","v":0},{"$f":"'Daily Calcs'!K7855/1000000","v":0},0]
[0.1,{"$f":"'Daily Calcs'!J7856/1000000","v":2.2896694604011676E-22},{"$f":"'Daily Calcs'!K7856/1000000","v":2.2896694604011676E-22},2.2896694604011676E-22]
[0.1,{"$f":"'Daily Calcs'!J7857/1000000","v":0},{"$f":"'Daily Calcs'!K7857/1000000","v":0},0]
[0.1,{"$f":"'Daily Calcs'!J7858/1000000","v":0},{"$f":"'Daily Calcs'!K7858/1000000","v":0},0]
[0.1,{"$f":"'Daily Calcs'!J7859/1000000","v":1.1886595704341703E-22},{"$f":"'Daily Calcs'!K7859/1000000","v":1.1886595704341703E-22},1.1886595704341703E-22]
[0.1,{"$f":"'Daily Calcs'!J7860/1000000","v":0},{"$f":"'Daily Calcs'!K7860/1000000","v":0},0]
[0.1,{"$f":"'Daily Calcs'!J7861/1000000","v":7.4753417210313763E-23},{"$f":"'Daily Calcs'!K7861/1000000","v":7.4753417210313763E-23},7.4753417210313763E-23]
[0.1,{"$f":"'Daily Calcs'!J7862/1000000","v":5.122818283984312E-23},{"$f":"'Daily Calcs'!K7862/1000000","v":5.122818283984312E-23},5.122818283984312E-23]
[0.1,{"$f":"'Daily Calcs'!J7863/1000000","v":3.6892674425141951E-23},{"$f":"'Daily Calcs'!K7863/1000000","v":3.6892674425141951E-23},3.6892674425141951E-23]
[0.1,{"$f":"'Daily Calcs'!J7864/1000000","v":0},{"$f":"'Daily Calcs'!K7864/1000000","v":0},0]
[0.1,{"$f":"'Daily Calcs'!J7865/1000000","v":0},{"$f":"'Daily Calcs'!K7865/1000000","v":0},0]
[0.1,{"$f":"'Daily Calcs'!J7866/1000000","v":1.6493463721118766E-23},{"$f":"'Daily Calcs'!K7866/1000000","v":1.6493463721118766E-23},1.6493463721118766E-23]
[0.1,{"$f":"'Daily Calcs'!J7867/1000000","v":1.789250916115104E-5},{"$f":"'Daily Calcs'!K7867/1000000","v":1.8123319035309488E-5},1.789250916115104E-5]
[0.1,{"$f":"'Daily Calcs'!J7868/1000000","v":1.5859593139210211E-5},{"$f":"'Daily Calcs'!K7868/1000000","v":1.6031541683286797E-5},1.5859593139210211E-5]
[0.1,{"$f":"'Daily Calcs'!J7869/1000000","v":0},{"$f":"'Daily Calcs'!K7869/1000000","v":0},0]
[0.1,{"$f":"'Daily Calcs'!J7870/1000000","v":1.3427851879488854E-5},{"$f":"'Daily Calcs'!K7870/1000000","v":1.3497200820818953E-5},1.3427851879488854E-5]
[0.1,{"$f":"'Daily Calcs'!J7871/1000000","v":1.2324640287769786E-5},{"$f":"'Daily Calcs'!K7871/1000000","v":1.2356199190647482E-5},1.2324640287769786E-5]
[0.1,{"$f":"'Daily Calcs'!J7872/1000000","v":0},{"$f":"'Daily Calcs'!K7872/1000000","v":0},0]
[0.1,{"$f":"'Daily Calcs'!J7873/1000000","v":0},{"$f":"'Daily Calcs'!K7873/1000000","v":0},0]
[0.1,{"$f":"'Daily Calcs'!J7874/1000000","v":9.9976203141185351E-6},{"$f":"'Daily Calcs'!K7874/1000000","v":1.0008166941963659E-5},9.9976203141185351E-6]
[0.1,{"$f":"'Daily Calcs'!J7875/1000000","v":7.6262363352420601E-6},{"$f":"'Daily Calcs'!K7875/1000000","v":7.6326080166579894E-6},{"$f":"B7879","v":7.6262363352420601E-6}]
[0.1,{"$f":"'Daily Calcs'!J7876/1000000","v":0},{"$f":"'Daily Calcs'!K7876/1000000","v":0},0]
[0.1,{"$f":"'Daily Calcs'!J7877/1000000","v":0},{"$f":"'Daily Calcs'!K7877/1000000","v":0},0]
[0.1,{"$f":"'Daily Calcs'!J7878/1000000","v":0},{"$f":"'Daily Calcs'!K7878/1000000","v":0},0]
[0.1,{"$f":"'Daily Calcs'!J7879/1000000","v":0},{"$f":"'Daily Calcs'!K7879/1000000","v":0},0]
[0.1,{"$f":"'Daily Calcs'!J7880/1000000","v":0},{"$f":"'Daily Calcs'!K7880/1000000","v":0},0]
[0.1,{"$f":"'Daily Calcs'!J7881/1000000","v":0},{"$f":"'Daily Calcs'!K7881/1000000","v":0},0]
[0.1,{"$f":"'Daily Calcs'!J7882/1000000","v":2.0487841715752906E-5},{"$f":"'Daily Calcs'!K7882/1000000","v":2.0591037355887833E-5},2.0487841715752906E-5]
[0.1,{"$f":"'Daily Calcs'!J7883/1000000","v":1.7468063948596343E-5},{"$f":"'Daily Calcs'!K7883/1000000","v":1.7550344220913332E-5},1.7468063948596343E-5]
[0.1,{"$f":"'Daily Calcs'!J7884/1000000","v":0},{"$f":"'Daily Calcs'!K7884/1000000","v":0},0]
[0.1,{"$f":"'Daily Calcs'!J7885/1000000","v":0},{"$f":"'Daily Calcs'!K7885/1000000","v":0},0]
[0.1,{"$f":"'Daily Calcs'!J7886/1000000","v":0},{"$f":"'Daily Calcs'!K7886/1000000","v":0},0]
[0.1,{"$f":"'Daily Calcs'!J7887/1000000","v":0},{"$f":"'Daily Calcs'!K7887/1000000","v":0},0]
[0.1,{"$f":"'Daily Calcs'!J7888/1000000","v":0},{"$f":"'Daily Calcs'!K7888/1000000","v":0},0]
[0.1,{"$f":"'Daily Calcs'!J7889/1000000","v":0},{"$f":"'Daily Calcs'!K7889/1000000","v":0},0]
[0.1,{"$f":"'Daily Calcs'!J7890/1000000","v":0},{"$f":"'Daily Calcs'!K7890/1000000","v":0},0]
[0.1,{"$f":"'Daily Calcs'!J7891/1000000","v":0},{"$f":"'Daily Calcs'!K7891/1000000","v":0},0]
[0.1,{"$f":"'Daily Calcs'!J7892/1000000","v":0},{"$f":"'Daily Calcs'!K7892/1000000","v":0},0]
[0.1,{"$f":"'Daily Calcs'!J7893/1000000","v":1.3070634274865357E-5},{"$f":"'Daily Calcs'!K7893/1000000","v":1.3083868224262856E-5},1.3070634274865357E-5]
[0.1,{"$f":"'Daily Calcs'!J7894/1000000","v":0},{"$f":"'Daily Calcs'!K7894/1000000","v":0},0]
[0.1,{"$f":"'Daily Calcs'!J7895/1000000","v":0},{"$f":"'Daily Calcs'!K7895/1000000","v":0},0]
[0.1,{"$f":"'Daily Calcs'!J7896/1000000","v":0},{"$f":"'Daily Calcs'!K7896/1000000","v":0},0]
[0.1,{"$f":"'Daily Calcs'!J7897/1000000","v":0},{"$f":"'Daily Calcs'!K7897/1000000","v":0},0]
[0.1,{"$f":"'Daily Calcs'!J7898/1000000","v":0},{"$f":"'Daily Calcs'!K7898/1000000","v":0},0]
[0.1,{"$f":"'Daily Calcs'!J7899/1000000","v":0},{"$f":"'Daily Calcs'!K7899/1000000","v":0},0]
[0.1,{"$f":"'Daily Calcs'!J7900/1000000","v":1.1145818128740331E-5},{"$f":"'Daily Calcs'!K7900/1000000","v":1.1152029557728797E-5},1.1145818128740331E-5]
[0.1,{"$f":"'Daily Calcs'!J7901/1000000","v":8.967438494934877E-6},{"$f":"'Daily Calcs'!K7901/1000000","v":8.9720965991316951E-6},8.967438494934877E-6]
[0.1,{"$f":"'Daily Calcs'!J7902/1000000","v":0},{"$f":"'Daily Calcs'!K7902/1000000","v":0},0]
[0.1,{"$f":"'Daily Calcs'!J7903/1000000","v":0},{"$f":"'Daily Calcs'!K7903/1000000","v":0},0]
[0.1,{"$f":"'Daily Calcs'!J7904/1000000","v":0},{"$f":"'Daily Calcs'!K7904/1000000","v":0},0]
[0.1,{"$f":"'Daily Calcs'!J7905/1000000","v":0},{"$f":"'Daily Calcs'!K7905/1000000","v":0},0]
[0.1,{"$f":"'Daily Calcs'!J7906/1000000","v":0},{"$f":"'Daily Calcs'!K7906/1000000","v":0},0]
[0.1,{"$f":"'Daily Calcs'!J7907/1000000","v":0},{"$f":"'Daily Calcs'!K7907/1000000","v":0},0]
[0.1,{"$f":"'Daily Calcs'!J7908/1000000","v":0},{"$f":"'Daily Calcs'!K7908/1000000","v":0},0]
[0.1,{"$f":"'Daily Calcs'!J7909/1000000","v":0},{"$f":"'Daily Calcs'!K7909/1000000","v":0},0]
[0.1,{"$f":"'Daily Calcs'!J7910/1000000","v":0},{"$f":"'Daily Calcs'!K7910/1000000","v":0},0]
[0.1,{"$f":"'Daily Calcs'!J7911/1000000","v":0},{"$f":"'Daily Calcs'!K7911/1000000","v":0},0]
[0.1,{"$f":"'Daily Calcs'!J7912/1000000","v":0},{"$f":"'Daily Calcs'!K7912/1000000","v":0},0]
[0.1,{"$f":"'Daily Calcs'!J7913/1000000","v":0},{"$f":"'Daily Calcs'!K7913/1000000","v":0},0]
[0.1,{"$f":"'Daily Calcs'!J7914/1000000","v":0},{"$f":"'Daily Calcs'!K7914/1000000","v":0},0]
[0.1,{"$f":"'Daily Calcs'!J7915/1000000","v":5.7089289899226625E-6},{"$f":"'Daily Calcs'!K7915/1000000","v":5.7098000677030444E-6},5.7089289899226625E-6]
[0.1,{"$f":"'Daily Calcs'!J7916/1000000","v":4.2735470941883765E-6},{"$f":"'Daily Calcs'!K7916/1000000","v":4.2740054831885993E-6},4.2735470941883765E-6]
[0.1,{"$f":"'Daily Calcs'!J7917/1000000","v":0},{"$f":"'Daily Calcs'!K7917/1000000","v":0},0]
[0.1,{"$f":"'Daily Calcs'!J7918/1000000","v":0},{"$f":"'Daily Calcs'!K7918/1000000","v":0},0]
[0.1,{"$f":"'Daily Calcs'!J7919/1000000","v":0},{"$f":"'Daily Calcs'!K7919/1000000","v":0},0]
[0.1,{"$f":"'Daily Calcs'!J7920/1000000","v":0},{"$f":"'Daily Calcs'!K7920/1000000","v":0},0]
[0.1,{"$f":"'Daily Calcs'!J7921/1000000","v":0},{"$f":"'Daily Calcs'!K7921/1000000","v":0},0]
[0.1,{"$f":"'Daily Calcs'!J7922/1000000","v":0},{"$f":"'Daily Calcs'!K7922/1000000","v":0},0]
[0.1,{"$f":"'Daily Calcs'!J7923/1000000","v":0},{"$f":"'Daily Calcs'!K7923/1000000","v":0},0]
[0.1,{"$f":"'Daily Calcs'!J7924/1000000","v":3.1890415494123489E-6},{"$f":"'Daily Calcs'!K7924/1000000","v":3.1891159741764609E-6},3.1890415494123489E-6]
[0.1,{"$f":"'Daily Calcs'!J7925/1000000","v":2.8124131341209173E-6},{"$f":"'Daily Calcs'!K7925/1000000","v":2.8124619266851979E-6},2.8124131341209173E-6]
[0.1,{"$f":"'Daily Calcs'!J7926/1000000","v":0},{"$f":"'Daily Calcs'!K7926/1000000","v":0},0]
[0.1,{"$f":"'Daily Calcs'!J7927/1000000","v":0},{"$f":"'Daily Calcs'!K7927/1000000","v":0},0]
[0.1,{"$f":"'Daily Calcs'!J7928/1000000","v":0},{"$f":"'Daily Calcs'!K7928/1000000","v":0},0]
[0.1,{"$f":"'Daily Calcs'!J7929/1000000","v":0},{"$f":"'Daily Calcs'!K7929/1000000","v":0},0]
[0.1,{"$f":"'Daily Calcs'!J7930/1000000","v":0},{"$f":"'Daily Calcs'!K7930/1000000","v":0},0]
[0.1,{"$f":"'Daily Calcs'!J7931/1000000","v":0},{"$f":"'Daily Calcs'!K7931/1000000","v":0},0]
[0.1,{"$f":"'Daily Calcs'!J7932/1000000","v":0},{"$f":"'Daily Calcs'!K7932/1000000","v":0},0]
[0.1,{"$f":"'Daily Calcs'!J7933/1000000","v":0},{"$f":"'Daily Calcs'!K7933/1000000","v":0},0]
[0.1,{"$f":"'Daily Calcs'!J7934/1000000","v":0},{"$f":"'Daily Calcs'!K7934/1000000","v":0},0]
[0.1,{"$f":"'Daily Calcs'!J7935/1000000","v":0},{"$f":"'Daily Calcs'!K7935/1000000","v":0},0]
[0.1,{"$f":"'Daily Calcs'!J7936/1000000","v":0},{"$f":"'Daily Calcs'!K7936/1000000","v":0},0]
[0.1,{"$f":"'Daily Calcs'!J7937/1000000","v":0},{"$f":"'Daily Calcs'!K7937/1000000","v":0},0]
[0.1,{"$f":"'Daily Calcs'!J7938/1000000","v":0},{"$f":"'Daily Calcs'!K7938/1000000","v":0},0]
[0.1,{"$f":"'Daily Calcs'!J7939/1000000","v":0},{"$f":"'Daily Calcs'!K7939/1000000","v":0},{"$f":"B7943","v":0}]
[0.1,{"$f":"'Daily Calcs'!J7940/1000000","v":0},{"$f":"'Daily Calcs'!K7940/1000000","v":0},0]
[0.1,{"$f":"'Daily Calcs'!J7941/1000000","v":0},{"$f":"'Daily Calcs'!K7941/1000000","v":0},0]
[0.1,{"$f":"'Daily Calcs'!J7942/1000000","v":0},{"$f":"'Daily Calcs'!K7942/1000000","v":0},0]
[0.1,{"$f":"'Daily Calcs'!J7943/1000000","v":0},{"$f":"'Daily Calcs'!K7943/1000000","v":0},0]
[0.1,{"$f":"'Daily Calcs'!J7944/1000000","v":0},{"$f":"'Daily Calcs'!K7944/1000000","v":0},0]
[0.1,{"$f":"'Daily Calcs'!J7945/1000000","v":0},{"$f":"'Daily Calcs'!K7945/1000000","v":0},0]
[0.1,{"$f":"'Daily Calcs'!J7946/1000000","v":0},{"$f":"'Daily Calcs'!K7946/1000000","v":0},0]
[0.1,{"$f":"'Daily Calcs'!J7947/1000000","v":0},{"$f":"'Daily Calcs'!K7947/1000000","v":0},0]
[0.1,{"$f":"'Daily Calcs'!J7948/1000000","v":0},{"$f":"'Daily Calcs'!K7948/1000000","v":0},0]
[0.1,{"$f":"'Daily Calcs'!J7949/1000000","v":0},{"$f":"'Daily Calcs'!K7949/1000000","v":0},0]
[0.1,{"$f":"'Daily Calcs'!J7950/1000000","v":0},{"$f":"'Daily Calcs'!K7950/1000000","v":0},0]
[0.1,{"$f":"'Daily Calcs'!J7951/1000000","v":1.3577030324154757E-6},{"$f":"'Daily Calcs'!K7951/1000000","v":1.3577134750784245E-6},1.3577030324154757E-6]
[0.1,{"$f":"'Daily Calcs'!J7952/1000000","v":1.0613733663812526E-6},{"$f":"'Daily Calcs'!K7952/1000000","v":1.0613786398715637E-6},1.0613733663812526E-6]
[0.1,{"$f":"'Daily Calcs'!J7953/1000000","v":0},{"$f":"'Daily Calcs'!K7953/1000000","v":0},0]
[0.1,{"$f":"'Daily Calcs'!J7954/1000000","v":9.0272411600723808E-7},{"$f":"'Daily Calcs'!K7954/1000000","v":9.0272593576074719E-7},9.0272411600723808E-7]
[0.1,{"$f":"'Daily Calcs'!J7955/1000000","v":0},{"$f":"'Daily Calcs'!K7955/1000000","v":0},0]
[0.1,{"$f":"'Daily Calcs'!J7956/1000000","v":6.383611447748672E-7},{"$f":"'Daily Calcs'!K7956/1000000","v":6.383623007364595E-7},6.383611447748672E-7]
[0.1,{"$f":"'Daily Calcs'!J7957/1000000","v":4.0477325219049012E-7},{"$f":"'Daily Calcs'!K7957/1000000","v":4.0477360737984382E-7},4.0477325219049012E-7]
[0.1,{"$f":"'Daily Calcs'!J7958/1000000","v":0},{"$f":"'Daily Calcs'!K7958/1000000","v":0},0]
[0.1,{"$f":"'Daily Calcs'!J7959/1000000","v":0},{"$f":"'Daily Calcs'!K7959/1000000","v":0},0]
[0.1,{"$f":"'Daily Calcs'!J7960/1000000","v":0},{"$f":"'Daily Calcs'!K7960/1000000","v":0},0]
[0.1,{"$f":"'Daily Calcs'!J7961/1000000","v":0},{"$f":"'Daily Calcs'!K7961/1000000","v":0},0]
[0.1,{"$f":"'Daily Calcs'!J7962/1000000","v":0},{"$f":"'Daily Calcs'!K7962/1000000","v":0},0]
[0.1,{"$f":"'Daily Calcs'!J7963/1000000","v":0},{"$f":"'Daily Calcs'!K7963/1000000","v":0},0]
[0.1,{"$f":"'Daily Calcs'!J7964/1000000","v":0},{"$f":"'Daily Calcs'!K7964/1000000","v":0},0]
[0.1,{"$f":"'Daily Calcs'!J7965/1000000","v":0},{"$f":"'Daily Calcs'!K7965/1000000","v":0},0]
[0.1,{"$f":"'Daily Calcs'!J7966/1000000","v":0},{"$f":"'Daily Calcs'!K7966/1000000","v":0},0]
[0.1,{"$f":"'Daily Calcs'!J7967/1000000","v":0},{"$f":"'Daily Calcs'!K7967/1000000","v":0},0]
[0.1,{"$f":"'Daily Calcs'!J7968/1000000","v":0},{"$f":"'Daily Calcs'!K7968/1000000","v":0},0]
[0.1,{"$f":"'Daily Calcs'!J7969/1000000","v":0},{"$f":"'Daily Calcs'!K7969/1000000","v":0},0]
[0.1,{"$f":"'Daily Calcs'!J7970/1000000","v":0},{"$f":"'Daily Calcs'!K7970/1000000","v":0},0]
[0.1,{"$f":"'Daily Calcs'!J7971/1000000","v":0},{"$f":"'Daily Calcs'!K7971/1000000","v":0},0]
[0.1,{"$f":"'Daily Calcs'!J7972/1000000","v":0},{"$f":"'Daily Calcs'!K7972/1000000","v":0},0]
[0.1,{"$f":"'Daily Calcs'!J7973/1000000","v":0},{"$f":"'Daily Calcs'!K7973/1000000","v":0},0]
[0.1,{"$f":"'Daily Calcs'!J7974/1000000","v":0},{"$f":"'Daily Calcs'!K7974/1000000","v":0},0]
[0.1,{"$f":"'Daily Calcs'!J7975/1000000","v":0},{"$f":"'Daily Calcs'!K7975/1000000","v":0},0]
[0.1,{"$f":"'Daily Calcs'!J7976/1000000","v":0},{"$f":"'Daily Calcs'!K7976/1000000","v":0},0]
[0.1,{"$f":"'Daily Calcs'!J7977/1000000","v":0},{"$f":"'Daily Calcs'!K7977/1000000","v":0},0]
[0.1,{"$f":"'Daily Calcs'!J7978/1000000","v":2.9823467201778885E-7},{"$f":"'Daily Calcs'!K7978/1000000","v":2.9823471174173604E-7},2.9823467201778885E-7]
[0.1,{"$f":"'Daily Calcs'!J7979/1000000","v":0},{"$f":"'Daily Calcs'!K7979/1000000","v":0},0]
[0.1,{"$f":"'Daily Calcs'!J7980/1000000","v":0},{"$f":"'Daily Calcs'!K7980/1000000","v":0},0]
[0.1,{"$f":"'Daily Calcs'!J7981/1000000","v":0},{"$f":"'Daily Calcs'!K7981/1000000","v":0},0]
[0.1,{"$f":"'Daily Calcs'!J7982/1000000","v":0},{"$f":"'Daily Calcs'!K7982/1000000","v":0},0]
[0.1,{"$f":"'Daily Calcs'!J7983/1000000","v":0},{"$f":"'Daily Calcs'!K7983/1000000","v":0},0]
[0.1,{"$f":"'Daily Calcs'!J7984/1000000","v":0},{"$f":"'Daily Calcs'!K7984/1000000","v":0},0]
[0.1,{"$f":"'Daily Calcs'!J7985/1000000","v":0},{"$f":"'Daily Calcs'!K7985/1000000","v":0},0]
[0.1,{"$f":"'Daily Calcs'!J7986/1000000","v":0},{"$f":"'Daily Calcs'!K7986/1000000","v":0},0]
[0.1,{"$f":"'Daily Calcs'!J7987/1000000","v":2.0242830624692195E-7},{"$f":"'Daily Calcs'!K7987/1000000","v":2.0242832243815584E-7},2.0242830624692195E-7]
[0.1,{"$f":"'Daily Calcs'!J7988/1000000","v":0},{"$f":"'Daily Calcs'!K7988/1000000","v":0},0]
[0.1,{"$f":"'Daily Calcs'!J7989/1000000","v":0},{"$f":"'Daily Calcs'!K7989/1000000","v":0},0]
[0.1,{"$f":"'Daily Calcs'!J7990/1000000","v":0},{"$f":"'Daily Calcs'!K7990/1000000","v":0},0]
[0.1,{"$f":"'Daily Calcs'!J7991/1000000","v":0},{"$f":"'Daily Calcs'!K7991/1000000","v":0},0]
[0.1,{"$f":"'Daily Calcs'!J7992/1000000","v":1.3424585635359115E-7},{"$f":"'Daily Calcs'!K7992/1000000","v":1.3424586594226522E-7},1.3424585635359115E-7]
[0.1,{"$f":"'Daily Calcs'!J7993/1000000","v":9.5135707450165938E-8},{"$f":"'Daily Calcs'!K7993/1000000","v":9.5135712042432751E-8},9.5135707450165938E-8]
[0.1,{"$f":"'Daily Calcs'!J7994/1000000","v":0},{"$f":"'Daily Calcs'!K7994/1000000","v":0},0]
[0.1,{"$f":"'Daily Calcs'!J7995/1000000","v":0},{"$f":"'Daily Calcs'!K7995/1000000","v":0},0]
[0.1,{"$f":"'Daily Calcs'!J7996/1000000","v":0},{"$f":"'Daily Calcs'!K7996/1000000","v":0},0]
[0.1,{"$f":"'Daily Calcs'!J7997/1000000","v":0},{"$f":"'Daily Calcs'!K7997/1000000","v":0},0]
[0.1,{"$f":"'Daily Calcs'!J7998/1000000","v":0},{"$f":"'Daily Calcs'!K7998/1000000","v":0},0]
[0.1,{"$f":"'Daily Calcs'!J7999/1000000","v":0},{"$f":"'Daily Calcs'!K7999/1000000","v":0},0]
[0.1,{"$f":"'Daily Calcs'!J8000/1000000","v":0},{"$f":"'Daily Calcs'!K8000/1000000","v":0},0]
[0.1,{"$f":"'Daily Calcs'!J8001/1000000","v":0},{"$f":"'Daily Calcs'!K8001/1000000","v":0},0]
[0.1,{"$f":"'Daily Calcs'!J8002/1000000","v":0},{"$f":"'Daily Calcs'!K8002/1000000","v":0},0]
[0.1,{"$f":"'Daily Calcs'!J8003/1000000","v":4.732936481093148E-8},{"$f":"'Daily Calcs'!K8003/1000000","v":4.7329365721233858E-8},{"$f":"B8007","v":4.732936481093148E-8}]
[0.1,{"$f":"'Daily Calcs'!J8004/1000000","v":0},{"$f":"'Daily Calcs'!K8004/1000000","v":0},0]
[0.1,{"$f":"'Daily Calcs'!J8005/1000000","v":2.9083197978704205E-8},{"$f":"'Daily Calcs'!K8005/1000000","v":2.9083198270335422E-8},2.9083197978704205E-8]
[0.1,{"$f":"'Daily Calcs'!J8006/1000000","v":0},{"$f":"'Daily Calcs'!K8006/1000000","v":0},0]
[0.1,{"$f":"'Daily Calcs'!J8007/1000000","v":0},{"$f":"'Daily Calcs'!K8007/1000000","v":0},0]
[0.1,{"$f":"'Daily Calcs'!J8008/1000000","v":0},{"$f":"'Daily Calcs'!K8008/1000000","v":0},0]
[0.1,{"$f":"'Daily Calcs'!J8009/1000000","v":0},{"$f":"'Daily Calcs'!K8009/1000000","v":0},0]
[0.1,{"$f":"'Daily Calcs'!J8010/1000000","v":1.4111206953752237E-8},{"$f":"'Daily Calcs'!K8010/1000000","v":1.411120701430562E-8},1.4111206953752237E-8]
[0.1,{"$f":"'Daily Calcs'!J8011/1000000","v":0},{"$f":"'Daily Calcs'!K8011/1000000","v":0},0]
[0.1,{"$f":"'Daily Calcs'!J8012/1000000","v":0},{"$f":"'Daily Calcs'!K8012/1000000","v":0},0]
[0.1,{"$f":"'Daily Calcs'!J8013/1000000","v":0},{"$f":"'Daily Calcs'!K8013/1000000","v":0},0]
[0.1,{"$f":"'Daily Calcs'!J8014/1000000","v":0},{"$f":"'Daily Calcs'!K8014/1000000","v":0},0]
[0.1,{"$f":"'Daily Calcs'!J8015/1000000","v":0},{"$f":"'Daily Calcs'!K8015/1000000","v":0},0]
[0.1,{"$f":"'Daily Calcs'!J8016/1000000","v":6.5538679175042812E-9},{"$f":"'Daily Calcs'!K8016/1000000","v":6.5538679284993685E-9},6.5538679175042812E-9]
[0.1,{"$f":"'Daily Calcs'!J8017/1000000","v":0},{"$f":"'Daily Calcs'!K8017/1000000","v":0},0]
[0.1,{"$f":"'Daily Calcs'!J8018/1000000","v":0},{"$f":"'Daily Calcs'!K8018/1000000","v":0},0]
[0.1,{"$f":"'Daily Calcs'!J8019/1000000","v":0},{"$f":"'Daily Calcs'!K8019/1000000","v":0},0]
[0.1,{"$f":"'Daily Calcs'!J8020/1000000","v":4.0235130495251748E-9},{"$f":"'Daily Calcs'!K8020/1000000","v":4.0235130529615138E-9},4.0235130495251748E-9]
[0.1,{"$f":"'Daily Calcs'!J8021/1000000","v":0},{"$f":"'Daily Calcs'!K8021/1000000","v":0},0]
[0.1,{"$f":"'Daily Calcs'!J8022/1000000","v":0},{"$f":"'Daily Calcs'!K8022/1000000","v":0},0]
[0.1,{"$f":"'Daily Calcs'!J8023/1000000","v":0},{"$f":"'Daily Calcs'!K8023/1000000","v":0},0]
[0.1,{"$f":"'Daily Calcs'!J8024/1000000","v":0},{"$f":"'Daily Calcs'!K8024/1000000","v":0},0]
[0.1,{"$f":"'Daily Calcs'!J8025/1000000","v":0},{"$f":"'Daily Calcs'!K8025/1000000","v":0},0]
[0.1,{"$f":"'Daily Calcs'!J8026/1000000","v":0},{"$f":"'Daily Calcs'!K8026/1000000","v":0},0]
[0.1,{"$f":"'Daily Calcs'!J8027/1000000","v":0},{"$f":"'Daily Calcs'!K8027/1000000","v":0},0]
[0.1,{"$f":"'Daily Calcs'!J8028/1000000","v":0},{"$f":"'Daily Calcs'!K8028/1000000","v":0},0]
[0.1,{"$f":"'Daily Calcs'!J8029/1000000","v":0},{"$f":"'Daily Calcs'!K8029/1000000","v":0},0]
[0.1,{"$f":"'Daily Calcs'!J8030/1000000","v":0},{"$f":"'Daily Calcs'!K8030/1000000","v":0},0]
[0.1,{"$f":"'Daily Calcs'!J8031/1000000","v":0},{"$f":"'Daily Calcs'!K8031/1000000","v":0},0]
[0.1,{"$f":"'Daily Calcs'!J8032/1000000","v":0},{"$f":"'Daily Calcs'!K8032/1000000","v":0},0]
[0.1,{"$f":"'Daily Calcs'!J8033/1000000","v":1.8135482649045645E-9},{"$f":"'Daily Calcs'!K8033/1000000","v":1.8135482654967696E-9},1.8135482649045645E-9]
[0.1,{"$f":"'Daily Calcs'!J8034/1000000","v":0},{"$f":"'Daily Calcs'!K8034/1000000","v":0},0]
[0.1,{"$f":"'Daily Calcs'!J8035/1000000","v":0},{"$f":"'Daily Calcs'!K8035/1000000","v":0},0]
[0.1,{"$f":"'Daily Calcs'!J8036/1000000","v":0},{"$f":"'Daily Calcs'!K8036/1000000","v":0},0]
[0.1,{"$f":"'Daily Calcs'!J8037/1000000","v":9.9492579537034942E-10},{"$f":"'Daily Calcs'!K8037/1000000","v":9.949257955800761E-10},9.9492579537034942E-10]
[0.1,{"$f":"'Daily Calcs'!J8038/1000000","v":4.9689875076439236E-10},{"$f":"'Daily Calcs'!K8038/1000000","v":4.9689875083454172E-10},4.9689875076439236E-10]
[0.1,{"$f":"'Daily Calcs'!J8039/1000000","v":0},{"$f":"'Daily Calcs'!K8039/1000000","v":0},0]
[0.1,{"$f":"'Daily Calcs'!J8040/1000000","v":0},{"$f":"'Daily Calcs'!K8040/1000000","v":0},0]
[0.1,{"$f":"'Daily Calcs'!J8041/1000000","v":0},{"$f":"'Daily Calcs'!K8041/1000000","v":0},0]
[0.1,{"$f":"'Daily Calcs'!J8042/1000000","v":0},{"$f":"'Daily Calcs'!K8042/1000000","v":0},0]
[0.1,{"$f":"'Daily Calcs'!J8043/1000000","v":0},{"$f":"'Daily Calcs'!K8043/1000000","v":0},0]
[0.1,{"$f":"'Daily Calcs'!J8044/1000000","v":0},{"$f":"'Daily Calcs'!K8044/1000000","v":0},0]
[0.1,{"$f":"'Daily Calcs'!J8045/1000000","v":0},{"$f":"'Daily Calcs'!K8045/1000000","v":0},0]
[0.1,{"$f":"'Daily Calcs'!J8046/1000000","v":0},{"$f":"'Daily Calcs'!K8046/1000000","v":0},0]
[0.1,{"$f":"'Daily Calcs'!J8047/1000000","v":0},{"$f":"'Daily Calcs'!K8047/1000000","v":0},0]
[0.1,{"$f":"'Daily Calcs'!J8048/1000000","v":0},{"$f":"'Daily Calcs'!K8048/1000000","v":0},0]
[0.1,{"$f":"'Daily Calcs'!J8049/1000000","v":0},{"$f":"'Daily Calcs'!K8049/1000000","v":0},0]
[0.1,{"$f":"'Daily Calcs'!J8050/1000000","v":0},{"$f":"'Daily Calcs'!K8050/1000000","v":0},0]
[0.1,{"$f":"'Daily Calcs'!J8051/1000000","v":0},{"$f":"'Daily Calcs'!K8051/1000000","v":0},0]
[0.1,{"$f":"'Daily Calcs'!J8052/1000000","v":0},{"$f":"'Daily Calcs'!K8052/1000000","v":0},0]
[0.1,{"$f":"'Daily Calcs'!J8053/1000000","v":0},{"$f":"'Daily Calcs'!K8053/1000000","v":0},0]
[0.1,{"$f":"'Daily Calcs'!J8054/1000000","v":0},{"$f":"'Daily Calcs'!K8054/1000000","v":0},0]
[0.1,{"$f":"'Daily Calcs'!J8055/1000000","v":0},{"$f":"'Daily Calcs'!K8055/1000000","v":0},0]
[0.1,{"$f":"'Daily Calcs'!J8056/1000000","v":0},{"$f":"'Daily Calcs'!K8056/1000000","v":0},0]
[0.1,{"$f":"'Daily Calcs'!J8057/1000000","v":2.032693711544478E-10},{"$f":"'Daily Calcs'!K8057/1000000","v":2.0326937115933674E-10},2.032693711544478E-10]
[0.1,{"$f":"'Daily Calcs'!J8058/1000000","v":0},{"$f":"'Daily Calcs'!K8058/1000000","v":0},0]
[0.1,{"$f":"'Daily Calcs'!J8059/1000000","v":0},{"$f":"'Daily Calcs'!K8059/1000000","v":0},0]
[0.1,{"$f":"'Daily Calcs'!J8060/1000000","v":0},{"$f":"'Daily Calcs'!K8060/1000000","v":0},0]
[0.1,{"$f":"'Daily Calcs'!J8061/1000000","v":0},{"$f":"'Daily Calcs'!K8061/1000000","v":0},0]
[0.1,{"$f":"'Daily Calcs'!J8062/1000000","v":0},{"$f":"'Daily Calcs'!K8062/1000000","v":0},0]
[0.1,{"$f":"'Daily Calcs'!J8063/1000000","v":1.4672749768017321E-10},{"$f":"'Daily Calcs'!K8063/1000000","v":1.4672749768258491E-10},1.4672749768017321E-10]
[0.1,{"$f":"'Daily Calcs'!J8064/1000000","v":0},{"$f":"'Daily Calcs'!K8064/1000000","v":0},0]
[0.1,{"$f":"'Daily Calcs'!J8065/1000000","v":0},{"$f":"'Daily Calcs'!K8065/1000000","v":0},0]
[0.1,{"$f":"'Daily Calcs'!J8066/1000000","v":0},{"$f":"'Daily Calcs'!K8066/1000000","v":0},0]
[0.1,{"$f":"'Daily Calcs'!J8067/1000000","v":0},{"$f":"'Daily Calcs'!K8067/1000000","v":0},{"$f":"B8071","v":0}]
[0.1,{"$f":"'Daily Calcs'!J8068/1000000","v":6.4932322685435846E-11},{"$f":"'Daily Calcs'!K8068/1000000","v":6.4932322686584115E-11},6.4932322685435846E-11]
[0.1,{"$f":"'Daily Calcs'!J8069/1000000","v":3.5011594826555742E-11},{"$f":"'Daily Calcs'!K8069/1000000","v":3.5011594826960847E-11},3.5011594826555742E-11]
[0.1,{"$f":"'Daily Calcs'!J8070/1000000","v":0},{"$f":"'Daily Calcs'!K8070/1000000","v":0},0]
[0.1,{"$f":"'Daily Calcs'!J8071/1000000","v":0},{"$f":"'Daily Calcs'!K8071/1000000","v":0},0]
[0.1,{"$f":"'Daily Calcs'!J8072/1000000","v":2.299191790929526E-11},{"$f":"'Daily Calcs'!K8072/1000000","v":2.2991917909406205E-11},2.299191790929526E-11]
[0.1,{"$f":"'Daily Calcs'!J8073/1000000","v":1.5120524348626834E-11},{"$f":"'Daily Calcs'!K8073/1000000","v":1.5120524348693358E-11},1.5120524348626834E-11]
[0.1,{"$f":"'Daily Calcs'!J8074/1000000","v":0},{"$f":"'Daily Calcs'!K8074/1000000","v":0},0]
[0.1,{"$f":"'Daily Calcs'!J8075/1000000","v":0},{"$f":"'Daily Calcs'!K8075/1000000","v":0},0]
[0.1,{"$f":"'Daily Calcs'!J8076/1000000","v":0},{"$f":"'Daily Calcs'!K8076/1000000","v":0},0]
[0.1,{"$f":"'Daily Calcs'!J8077/1000000","v":0},{"$f":"'Daily Calcs'!K8077/1000000","v":0},0]
[0.1,{"$f":"'Daily Calcs'!J8078/1000000","v":0},{"$f":"'Daily Calcs'!K8078/1000000","v":0},0]
[0.1,{"$f":"'Daily Calcs'!J8079/1000000","v":0},{"$f":"'Daily Calcs'!K8079/1000000","v":0},0]
[0.1,{"$f":"'Daily Calcs'!J8080/1000000","v":9.4076177420934112E-12},{"$f":"'Daily Calcs'!K8080/1000000","v":9.4076177421119194E-12},9.4076177420934112E-12]
[0.1,{"$f":"'Daily Calcs'!J8081/1000000","v":7.1101363593019939E-12},{"$f":"'Daily Calcs'!K8081/1000000","v":7.1101363593137061E-12},7.1101363593019939E-12]
[0.1,{"$f":"'Daily Calcs'!J8082/1000000","v":0},{"$f":"'Daily Calcs'!K8082/1000000","v":0},0]
[0.1,{"$f":"'Daily Calcs'!J8083/1000000","v":0},{"$f":"'Daily Calcs'!K8083/1000000","v":0},0]
[0.1,{"$f":"'Daily Calcs'!J8084/1000000","v":0},{"$f":"'Daily Calcs'!K8084/1000000","v":0},0]
[0.1,{"$f":"'Daily Calcs'!J8085/1000000","v":0},{"$f":"'Daily Calcs'!K8085/1000000","v":0},0]
[0.1,{"$f":"'Daily Calcs'!J8086/1000000","v":0},{"$f":"'Daily Calcs'!K8086/1000000","v":0},0]
[0.1,{"$f":"'Daily Calcs'!J8087/1000000","v":0},{"$f":"'Daily Calcs'!K8087/1000000","v":0},0]
[0.1,{"$f":"'Daily Calcs'!J8088/1000000","v":0},{"$f":"'Daily Calcs'!K8088/1000000","v":0},0]
[0.1,{"$f":"'Daily Calcs'!J8089/1000000","v":2.1932450255175183E-12},{"$f":"'Daily Calcs'!K8089/1000000","v":2.1932450255204143E-12},2.1932450255175183E-12]
[0.1,{"$f":"'Daily Calcs'!J8090/1000000","v":0},{"$f":"'Daily Calcs'!K8090/1000000","v":0},0]
[0.1,{"$f":"'Daily Calcs'!J8091/1000000","v":1.4687217879555213E-12},{"$f":"'Daily Calcs'!K8091/1000000","v":1.4687217879565191E-12},1.4687217879555213E-12]
[0.1,{"$f":"'Daily Calcs'!J8092/1000000","v":0},{"$f":"'Daily Calcs'!K8092/1000000","v":0},0]
[0.1,{"$f":"'Daily Calcs'!J8093/1000000","v":0},{"$f":"'Daily Calcs'!K8093/1000000","v":0},0]
[0.1,{"$f":"'Daily Calcs'!J8094/1000000","v":0},{"$f":"'Daily Calcs'!K8094/1000000","v":0},0]
[0.1,{"$f":"'Daily Calcs'!J8095/1000000","v":9.8549604707840467E-13},{"$f":"'Daily Calcs'!K8095/1000000","v":9.8549604707884654E-13},9.8549604707840467E-13]
[0.1,{"$f":"'Daily Calcs'!J8096/1000000","v":0},{"$f":"'Daily Calcs'!K8096/1000000","v":0},0]
[0.1,{"$f":"'Daily Calcs'!J8097/1000000","v":0},{"$f":"'Daily Calcs'!K8097/1000000","v":0},0]
[0.1,{"$f":"'Daily Calcs'!J8098/1000000","v":0},{"$f":"'Daily Calcs'!K8098/1000000","v":0},0]
[0.1,{"$f":"'Daily Calcs'!J8099/1000000","v":0},{"$f":"'Daily Calcs'!K8099/1000000","v":0},0]
[0.1,{"$f":"'Daily Calcs'!J8100/1000000","v":3.0478781284004354E-13},{"$f":"'Daily Calcs'!K8100/1000000","v":3.0478781284018414E-13},3.0478781284004354E-13]
[0.1,{"$f":"'Daily Calcs'!J8101/1000000","v":0},{"$f":"'Daily Calcs'!K8101/1000000","v":0},0]
[0.1,{"$f":"'Daily Calcs'!J8102/1000000","v":0},{"$f":"'Daily Calcs'!K8102/1000000","v":0},0]
[0.1,{"$f":"'Daily Calcs'!J8103/1000000","v":0},{"$f":"'Daily Calcs'!K8103/1000000","v":0},0]
[0.1,{"$f":"'Daily Calcs'!J8104/1000000","v":0},{"$f":"'Daily Calcs'!K8104/1000000","v":0},0]
[0.1,{"$f":"'Daily Calcs'!J8105/1000000","v":0},{"$f":"'Daily Calcs'!K8105/1000000","v":0},0]
[0.1,{"$f":"'Daily Calcs'!J8106/1000000","v":0},{"$f":"'Daily Calcs'!K8106/1000000","v":0},0]
[0.1,{"$f":"'Daily Calcs'!J8107/1000000","v":0},{"$f":"'Daily Calcs'!K8107/1000000","v":0},0]
[0.1,{"$f":"'Daily Calcs'!J8108/1000000","v":0},{"$f":"'Daily Calcs'!K8108/1000000","v":0},0]
[0.1,{"$f":"'Daily Calcs'!J8109/1000000","v":0},{"$f":"'Daily Calcs'!K8109/1000000","v":0},0]
[0.1,{"$f":"'Daily Calcs'!J8110/1000000","v":0},{"$f":"'Daily Calcs'!K8110/1000000","v":0},0]
[0.1,{"$f":"'Daily Calcs'!J8111/1000000","v":0},{"$f":"'Daily Calcs'!K8111/1000000","v":0},0]
[0.1,{"$f":"'Daily Calcs'!J8112/1000000","v":0},{"$f":"'Daily Calcs'!K8112/1000000","v":0},0]
[0.1,{"$f":"'Daily Calcs'!J8113/1000000","v":0},{"$f":"'Daily Calcs'!K8113/1000000","v":0},0]
[0.1,{"$f":"'Daily Calcs'!J8114/1000000","v":0},{"$f":"'Daily Calcs'!K8114/1000000","v":0},0]
[0.1,{"$f":"'Daily Calcs'!J8115/1000000","v":8.1871736196678989E-14},{"$f":"'Daily Calcs'!K8115/1000000","v":8.1871736196692166E-14},8.1871736196678989E-14]
[0.1,{"$f":"'Daily Calcs'!J8116/1000000","v":0},{"$f":"'Daily Calcs'!K8116/1000000","v":0},0]
[0.1,{"$f":"'Daily Calcs'!J8117/1000000","v":0},{"$f":"'Daily Calcs'!K8117/1000000","v":0},0]
[0.1,{"$f":"'Daily Calcs'!J8118/1000000","v":0},{"$f":"'Daily Calcs'!K8118/1000000","v":0},0]
[0.1,{"$f":"'Daily Calcs'!J8119/1000000","v":2.9865216260726361E-14},{"$f":"'Daily Calcs'!K8119/1000000","v":2.9865216260730128E-14},2.9865216260726361E-14]
[0.1,{"$f":"'Daily Calcs'!J8120/1000000","v":0},{"$f":"'Daily Calcs'!K8120/1000000","v":0},0]
[0.1,{"$f":"'Daily Calcs'!J8121/1000000","v":1.3469993507095816E-14},{"$f":"'Daily Calcs'!K8121/1000000","v":1.3469993507096947E-14},1.3469993507095816E-14]
[0.1,{"$f":"'Daily Calcs'!J8122/1000000","v":0},{"$f":"'Daily Calcs'!K8122/1000000","v":0},0]
[0.1,{"$f":"'Daily Calcs'!J8123/1000000","v":0},{"$f":"'Daily Calcs'!K8123/1000000","v":0},0]
[0.1,{"$f":"'Daily Calcs'!J8124/1000000","v":0},{"$f":"'Daily Calcs'!K8124/1000000","v":0},0]
[0.1,{"$f":"'Daily Calcs'!J8125/1000000","v":0},{"$f":"'Daily Calcs'!K8125/1000000","v":0},0]
[0.1,{"$f":"'Daily Calcs'!J8126/1000000","v":6.6892959559899329E-15},{"$f":"'Daily Calcs'!K8126/1000000","v":6.6892959559901175E-15},6.6892959559899329E-15]
[0.1,{"$f":"'Daily Calcs'!J8127/1000000","v":0},{"$f":"'Daily Calcs'!K8127/1000000","v":0},0]
[0.1,{"$f":"'Daily Calcs'!J8128/1000000","v":3.6053675699955075E-15},{"$f":"'Daily Calcs'!K8128/1000000","v":3.6053675699956243E-15},3.6053675699955075E-15]
[0.1,{"$f":"'Daily Calcs'!J8129/1000000","v":0},{"$f":"'Daily Calcs'!K8129/1000000","v":0},0]
[0.1,{"$f":"'Daily Calcs'!J8130/1000000","v":0},{"$f":"'Daily Calcs'!K8130/1000000","v":0},0]
[0.1,{"$f":"'Daily Calcs'!J8131/1000000","v":2.600896860986547E-15},{"$f":"'Daily Calcs'!K8131/1000000","v":2.6008968609865848E-15},{"$f":"B8135","v":2.600896860986547E-15}]
[0.1,{"$f":"'Daily Calcs'!J8132/1000000","v":2.0759256520238627E-15},{"$f":"'Daily Calcs'!K8132/1000000","v":2.0759256520238855E-15},2.0759256520238627E-15]
[0.1,{"$f":"'Daily Calcs'!J8133/1000000","v":0},{"$f":"'Daily Calcs'!K8133/1000000","v":0},0]
[0.1,{"$f":"'Daily Calcs'!J8134/1000000","v":7.7137452475043549E-16},{"$f":"'Daily Calcs'!K8134/1000000","v":7.7137452475044861E-16},7.7137452475043549E-16]
[0.1,{"$f":"'Daily Calcs'!J8135/1000000","v":0},{"$f":"'Daily Calcs'!K8135/1000000","v":0},0]
[0.1,{"$f":"'Daily Calcs'!J8136/1000000","v":0},{"$f":"'Daily Calcs'!K8136/1000000","v":0},0]
[0.1,{"$f":"'Daily Calcs'!J8137/1000000","v":0},{"$f":"'Daily Calcs'!K8137/1000000","v":0},0]
[0.1,{"$f":"'Daily Calcs'!J8138/1000000","v":0},{"$f":"'Daily Calcs'!K8138/1000000","v":0},0]
[0.1,{"$f":"'Daily Calcs'!J8139/1000000","v":0},{"$f":"'Daily Calcs'!K8139/1000000","v":0},0]
[0.1,{"$f":"'Daily Calcs'!J8140/1000000","v":0},{"$f":"'Daily Calcs'!K8140/1000000","v":0},0]
[0.1,{"$f":"'Daily Calcs'!J8141/1000000","v":0},{"$f":"'Daily Calcs'!K8141/1000000","v":0},0]
[0.1,{"$f":"'Daily Calcs'!J8142/1000000","v":0},{"$f":"'Daily Calcs'!K8142/1000000","v":0},0]
[0.1,{"$f":"'Daily Calcs'!J8143/1000000","v":0},{"$f":"'Daily Calcs'!K8143/1000000","v":0},0]
[0.1,{"$f":"'Daily Calcs'!J8144/1000000","v":2.725742645472201E-16},{"$f":"'Daily Calcs'!K8144/1000000","v":2.7257426454722084E-16},2.725742645472201E-16]
[0.1,{"$f":"'Daily Calcs'!J8145/1000000","v":0},{"$f":"'Daily Calcs'!K8145/1000000","v":0},0]
[0.1,{"$f":"'Daily Calcs'!J8146/1000000","v":0},{"$f":"'Daily Calcs'!K8146/1000000","v":0},0]
[0.1,{"$f":"'Daily Calcs'!J8147/1000000","v":0},{"$f":"'Daily Calcs'!K8147/1000000","v":0},0]
[0.1,{"$f":"'Daily Calcs'!J8148/1000000","v":0},{"$f":"'Daily Calcs'!K8148/1000000","v":0},0]
[0.1,{"$f":"'Daily Calcs'!J8149/1000000","v":0},{"$f":"'Daily Calcs'!K8149/1000000","v":0},0]
[0.1,{"$f":"'Daily Calcs'!J8150/1000000","v":0},{"$f":"'Daily Calcs'!K8150/1000000","v":0},0]
[0.1,{"$f":"'Daily Calcs'!J8151/1000000","v":0},{"$f":"'Daily Calcs'!K8151/1000000","v":0},0]
[0.1,{"$f":"'Daily Calcs'!J8152/1000000","v":0},{"$f":"'Daily Calcs'!K8152/1000000","v":0},0]
[0.1,{"$f":"'Daily Calcs'!J8153/1000000","v":0},{"$f":"'Daily Calcs'!K8153/1000000","v":0},0]
[0.1,{"$f":"'Daily Calcs'!J8154/1000000","v":0},{"$f":"'Daily Calcs'!K8154/1000000","v":0},0]
[0.1,{"$f":"'Daily Calcs'!J8155/1000000","v":0},{"$f":"'Daily Calcs'!K8155/1000000","v":0},0]
[0.1,{"$f":"'Daily Calcs'!J8156/1000000","v":0},{"$f":"'Daily Calcs'!K8156/1000000","v":0},0]
[0.1,{"$f":"'Daily Calcs'!J8157/1000000","v":0},{"$f":"'Daily Calcs'!K8157/1000000","v":0},0]
[0.1,{"$f":"'Daily Calcs'!J8158/1000000","v":0},{"$f":"'Daily Calcs'!K8158/1000000","v":0},0]
[0.1,{"$f":"'Daily Calcs'!J8159/1000000","v":0},{"$f":"'Daily Calcs'!K8159/1000000","v":0},0]
[0.1,{"$f":"'Daily Calcs'!J8160/1000000","v":0},{"$f":"'Daily Calcs'!K8160/1000000","v":0},0]
[0.1,{"$f":"'Daily Calcs'!J8161/1000000","v":0},{"$f":"'Daily Calcs'!K8161/1000000","v":0},0]
[0.1,{"$f":"'Daily Calcs'!J8162/1000000","v":0},{"$f":"'Daily Calcs'!K8162/1000000","v":0},0]
[0.1,{"$f":"'Daily Calcs'!J8163/1000000","v":0},{"$f":"'Daily Calcs'!K8163/1000000","v":0},0]
[0.1,{"$f":"'Daily Calcs'!J8164/1000000","v":0},{"$f":"'Daily Calcs'!K8164/1000000","v":0},0]
[0.1,{"$f":"'Daily Calcs'!J8165/1000000","v":0},{"$f":"'Daily Calcs'!K8165/1000000","v":0},0]
[0.1,{"$f":"'Daily Calcs'!J8166/1000000","v":0},{"$f":"'Daily Calcs'!K8166/1000000","v":0},0]
[0.1,{"$f":"'Daily Calcs'!J8167/1000000","v":0},{"$f":"'Daily Calcs'!K8167/1000000","v":0},0]
[0.1,{"$f":"'Daily Calcs'!J8168/1000000","v":0},{"$f":"'Daily Calcs'!K8168/1000000","v":0},0]
[0.1,{"$f":"'Daily Calcs'!J8169/1000000","v":0},{"$f":"'Daily Calcs'!K8169/1000000","v":0},0]
[0.1,{"$f":"'Daily Calcs'!J8170/1000000","v":0},{"$f":"'Daily Calcs'!K8170/1000000","v":0},0]
[0.1,{"$f":"'Daily Calcs'!J8171/1000000","v":0},{"$f":"'Daily Calcs'!K8171/1000000","v":0},0]
[0.1,{"$f":"'Daily Calcs'!J8172/1000000","v":8.3609958506224058E-17},{"$f":"'Daily Calcs'!K8172/1000000","v":8.3609958506224132E-17},8.3609958506224058E-17]
[0.1,{"$f":"'Daily Calcs'!J8173/1000000","v":0},{"$f":"'Daily Calcs'!K8173/1000000","v":0},0]
[0.1,{"$f":"'Daily Calcs'!J8174/1000000","v":0},{"$f":"'Daily Calcs'!K8174/1000000","v":0},0]
[0.1,{"$f":"'Daily Calcs'!J8175/1000000","v":4.5156950672645742E-17},{"$f":"'Daily Calcs'!K8175/1000000","v":4.5156950672645773E-17},4.5156950672645742E-17]
[0.1,{"$f":"'Daily Calcs'!J8176/1000000","v":0},{"$f":"'Daily Calcs'!K8176/1000000","v":0},0]
[0.1,{"$f":"'Daily Calcs'!J8177/1000000","v":0},{"$f":"'Daily Calcs'!K8177/1000000","v":0},0]
[0.1,{"$f":"'Daily Calcs'!J8178/1000000","v":0},{"$f":"'Daily Calcs'!K8178/1000000","v":0},0]
[0.1,{"$f":"'Daily Calcs'!J8179/1000000","v":0},{"$f":"'Daily Calcs'!K8179/1000000","v":0},0]
[0.1,{"$f":"'Daily Calcs'!J8180/1000000","v":0},{"$f":"'Daily Calcs'!K8180/1000000","v":0},0]
[0.1,{"$f":"'Daily Calcs'!J8181/1000000","v":0},{"$f":"'Daily Calcs'!K8181/1000000","v":0},0]
[0.1,{"$f":"'Daily Calcs'!J8182/1000000","v":0},{"$f":"'Daily Calcs'!K8182/1000000","v":0},0]
[0.1,{"$f":"'Daily Calcs'!J8183/1000000","v":0},{"$f":"'Daily Calcs'!K8183/1000000","v":0},0]
[0.1,{"$f":"'Daily Calcs'!J8184/1000000","v":0},{"$f":"'Daily Calcs'!K8184/1000000","v":0},0]
[0.1,{"$f":"'Daily Calcs'!J8185/1000000","v":0},{"$f":"'Daily Calcs'!K8185/1000000","v":0},0]
[0.1,{"$f":"'Daily Calcs'!J8186/1000000","v":0},{"$f":"'Daily Calcs'!K8186/1000000","v":0},0]
[0.1,{"$f":"'Daily Calcs'!J8187/1000000","v":0},{"$f":"'Daily Calcs'!K8187/1000000","v":0},0]
[0.1,{"$f":"'Daily Calcs'!J8188/1000000","v":0},{"$f":"'Daily Calcs'!K8188/1000000","v":0},0]
[0.1,{"$f":"'Daily Calcs'!J8189/1000000","v":0},{"$f":"'Daily Calcs'!K8189/1000000","v":0},0]
[0.1,{"$f":"'Daily Calcs'!J8190/1000000","v":0},{"$f":"'Daily Calcs'!K8190/1000000","v":0},0]
[0.1,{"$f":"'Daily Calcs'!J8191/1000000","v":0},{"$f":"'Daily Calcs'!K8191/1000000","v":0},0]
[0.1,{"$f":"'Daily Calcs'!J8192/1000000","v":0},{"$f":"'Daily Calcs'!K8192/1000000","v":0},0]
[0.1,{"$f":"'Daily Calcs'!J8193/1000000","v":1.3569629912247236E-17},{"$f":"'Daily Calcs'!K8193/1000000","v":1.3569629912247236E-17},1.3569629912247236E-17]
[0.1,{"$f":"'Daily Calcs'!J8194/1000000","v":8.2786851066787126E-18},{"$f":"'Daily Calcs'!K8194/1000000","v":8.2786851066787142E-18},8.2786851066787126E-18]
[0.1,{"$f":"'Daily Calcs'!J8195/1000000","v":0},{"$f":"'Daily Calcs'!K8195/1000000","v":0},{"$f":"B8199","v":0}]
[0.1,{"$f":"'Daily Calcs'!J8196/1000000","v":0},{"$f":"'Daily Calcs'!K8196/1000000","v":0},0]
[0.1,{"$f":"'Daily Calcs'!J8197/1000000","v":0},{"$f":"'Daily Calcs'!K8197/1000000","v":0},0]
[0.1,{"$f":"'Daily Calcs'!J8198/1000000","v":0},{"$f":"'Daily Calcs'!K8198/1000000","v":0},0]
[0.1,{"$f":"'Daily Calcs'!J8199/1000000","v":0},{"$f":"'Daily Calcs'!K8199/1000000","v":0},0]
[0.1,{"$f":"'Daily Calcs'!J8200/1000000","v":0},{"$f":"'Daily Calcs'!K8200/1000000","v":0},0]
[0.1,{"$f":"'Daily Calcs'!J8201/1000000","v":0},{"$f":"'Daily Calcs'!K8201/1000000","v":0},0]
[0.1,{"$f":"'Daily Calcs'!J8202/1000000","v":0},{"$f":"'Daily Calcs'!K8202/1000000","v":0},0]
[0.1,{"$f":"'Daily Calcs'!J8203/1000000","v":0},{"$f":"'Daily Calcs'!K8203/1000000","v":0},0]
[0.1,{"$f":"'Daily Calcs'!J8204/1000000","v":0},{"$f":"'Daily Calcs'!K8204/1000000","v":0},0]
[0.1,{"$f":"'Daily Calcs'!J8205/1000000","v":0},{"$f":"'Daily Calcs'!K8205/1000000","v":0},0]
[0.1,{"$f":"'Daily Calcs'!J8206/1000000","v":0},{"$f":"'Daily Calcs'!K8206/1000000","v":0},0]
[0.1,{"$f":"'Daily Calcs'!J8207/1000000","v":0},{"$f":"'Daily Calcs'!K8207/1000000","v":0},0]
[0.1,{"$f":"'Daily Calcs'!J8208/1000000","v":0},{"$f":"'Daily Calcs'!K8208/1000000","v":0},0]
[0.1,{"$f":"'Daily Calcs'!J8209/1000000","v":2.9785451153377921E-18},{"$f":"'Daily Calcs'!K8209/1000000","v":2.9785451153377921E-18},2.9785451153377921E-18]
[0.1,{"$f":"'Daily Calcs'!J8210/1000000","v":0},{"$f":"'Daily Calcs'!K8210/1000000","v":0},0]
[0.1,{"$f":"'Daily Calcs'!J8211/1000000","v":0},{"$f":"'Daily Calcs'!K8211/1000000","v":0},0]
[0.1,{"$f":"'Daily Calcs'!J8212/1000000","v":0},{"$f":"'Daily Calcs'!K8212/1000000","v":0},0]
[0.1,{"$f":"'Daily Calcs'!J8213/1000000","v":0},{"$f":"'Daily Calcs'!K8213/1000000","v":0},0]
[0.1,{"$f":"'Daily Calcs'!J8214/1000000","v":0},{"$f":"'Daily Calcs'!K8214/1000000","v":0},0]
[0.1,{"$f":"'Daily Calcs'!J8215/1000000","v":0},{"$f":"'Daily Calcs'!K8215/1000000","v":0},0]
[0.1,{"$f":"'Daily Calcs'!J8216/1000000","v":0},{"$f":"'Daily Calcs'!K8216/1000000","v":0},0]
[0.1,{"$f":"'Daily Calcs'!J8217/1000000","v":0},{"$f":"'Daily Calcs'!K8217/1000000","v":0},0]
[0.1,{"$f":"'Daily Calcs'!J8218/1000000","v":1.2628625772705658E-18},{"$f":"'Daily Calcs'!K8218/1000000","v":1.2628625772705658E-18},1.2628625772705658E-18]
[0.1,{"$f":"'Daily Calcs'!J8219/1000000","v":0},{"$f":"'Daily Calcs'!K8219/1000000","v":0},0]
[0.1,{"$f":"'Daily Calcs'!J8220/1000000","v":0},{"$f":"'Daily Calcs'!K8220/1000000","v":0},0]
[0.1,{"$f":"'Daily Calcs'!J8221/1000000","v":0},{"$f":"'Daily Calcs'!K8221/1000000","v":0},0]
[0.1,{"$f":"'Daily Calcs'!J8222/1000000","v":0},{"$f":"'Daily Calcs'!K8222/1000000","v":0},0]
[0.1,{"$f":"'Daily Calcs'!J8223/1000000","v":0},{"$f":"'Daily Calcs'!K8223/1000000","v":0},0]
[0.1,{"$f":"'Daily Calcs'!J8224/1000000","v":0},{"$f":"'Daily Calcs'!K8224/1000000","v":0},0]
[0.1,{"$f":"'Daily Calcs'!J8225/1000000","v":0},{"$f":"'Daily Calcs'!K8225/1000000","v":0},0]
[0.1,{"$f":"'Daily Calcs'!J8226/1000000","v":0},{"$f":"'Daily Calcs'!K8226/1000000","v":0},0]
[0.1,{"$f":"'Daily Calcs'!J8227/1000000","v":0},{"$f":"'Daily Calcs'!K8227/1000000","v":0},0]
[0.1,{"$f":"'Daily Calcs'!J8228/1000000","v":0},{"$f":"'Daily Calcs'!K8228/1000000","v":0},0]
[0.1,{"$f":"'Daily Calcs'!J8229/1000000","v":0},{"$f":"'Daily Calcs'!K8229/1000000","v":0},0]
[0.1,{"$f":"'Daily Calcs'!J8230/1000000","v":0},{"$f":"'Daily Calcs'!K8230/1000000","v":0},0]
[0.1,{"$f":"'Daily Calcs'!J8231/1000000","v":0},{"$f":"'Daily Calcs'!K8231/1000000","v":0},0]
[0.1,{"$f":"'Daily Calcs'!J8232/1000000","v":0},{"$f":"'Daily Calcs'!K8232/1000000","v":0},0]
[0.1,{"$f":"'Daily Calcs'!J8233/1000000","v":0},{"$f":"'Daily Calcs'!K8233/1000000","v":0},0]
[0.1,{"$f":"'Daily Calcs'!J8234/1000000","v":0},{"$f":"'Daily Calcs'!K8234/1000000","v":0},0]
[0.1,{"$f":"'Daily Calcs'!J8235/1000000","v":0},{"$f":"'Daily Calcs'!K8235/1000000","v":0},0]
[0.1,{"$f":"'Daily Calcs'!J8236/1000000","v":0},{"$f":"'Daily Calcs'!K8236/1000000","v":0},0]
[0.1,{"$f":"'Daily Calcs'!J8237/1000000","v":0},{"$f":"'Daily Calcs'!K8237/1000000","v":0},0]
[0.1,{"$f":"'Daily Calcs'!J8238/1000000","v":0},{"$f":"'Daily Calcs'!K8238/1000000","v":0},0]
[0.1,{"$f":"'Daily Calcs'!J8239/1000000","v":0},{"$f":"'Daily Calcs'!K8239/1000000","v":0},0]
[0.1,{"$f":"'Daily Calcs'!J8240/1000000","v":0},{"$f":"'Daily Calcs'!K8240/1000000","v":0},0]
[0.1,{"$f":"'Daily Calcs'!J8241/1000000","v":0},{"$f":"'Daily Calcs'!K8241/1000000","v":0},0]
[0.1,{"$f":"'Daily Calcs'!J8242/1000000","v":0},{"$f":"'Daily Calcs'!K8242/1000000","v":0},0]
[0.1,{"$f":"'Daily Calcs'!J8243/1000000","v":0},{"$f":"'Daily Calcs'!K8243/1000000","v":0},0]
[0.1,{"$f":"'Daily Calcs'!J8244/1000000","v":0},{"$f":"'Daily Calcs'!K8244/1000000","v":0},0]
[0.1,{"$f":"'Daily Calcs'!J8245/1000000","v":0},{"$f":"'Daily Calcs'!K8245/1000000","v":0},0]
[0.1,{"$f":"'Daily Calcs'!J8246/1000000","v":0},{"$f":"'Daily Calcs'!K8246/1000000","v":0},0]
[0.1,{"$f":"'Daily Calcs'!J8247/1000000","v":0},{"$f":"'Daily Calcs'!K8247/1000000","v":0},0]
[0.1,{"$f":"'Daily Calcs'!J8248/1000000","v":2.5181147665087702E-5},{"$f":"'Daily Calcs'!K8248/1000000","v":2.5374152661518824E-5},2.5181147665087702E-5]
[0.1,{"$f":"'Daily Calcs'!J8249/1000000","v":2.2199118942731273E-5},{"$f":"'Daily Calcs'!K8249/1000000","v":2.2337118942731278E-5},2.2199118942731273E-5]
[0.1,{"$f":"'Daily Calcs'!J8250/1000000","v":0},{"$f":"'Daily Calcs'!K8250/1000000","v":0},0]
[0.1,{"$f":"'Daily Calcs'!J8251/1000000","v":0},{"$f":"'Daily Calcs'!K8251/1000000","v":0},0]
[0.1,{"$f":"'Daily Calcs'!J8252/1000000","v":1.9006198417862402E-5},{"$f":"'Daily Calcs'!K8252/1000000","v":1.905698663287787E-5},1.9006198417862402E-5]
[0.1,{"$f":"'Daily Calcs'!J8253/1000000","v":0},{"$f":"'Daily Calcs'!K8253/1000000","v":0},0]
[0.1,{"$f":"'Daily Calcs'!J8254/1000000","v":0},{"$f":"'Daily Calcs'!K8254/1000000","v":0},0]
[0.1,{"$f":"'Daily Calcs'!J8255/1000000","v":0},{"$f":"'Daily Calcs'!K8255/1000000","v":0},0]
[0.1,{"$f":"'Daily Calcs'!J8256/1000000","v":0},{"$f":"'Daily Calcs'!K8256/1000000","v":0},0]
[0.1,{"$f":"'Daily Calcs'!J8257/1000000","v":0},{"$f":"'Daily Calcs'!K8257/1000000","v":0},0]
[0.1,{"$f":"'Daily Calcs'!J8258/1000000","v":0},{"$f":"'Daily Calcs'!K8258/1000000","v":0},0]
[0.1,{"$f":"'Daily Calcs'!J8259/1000000","v":0},{"$f":"'Daily Calcs'!K8259/1000000","v":0},{"$f":"B8263","v":0}]
[0.1,{"$f":"'Daily Calcs'!J8260/1000000","v":0},{"$f":"'Daily Calcs'!K8260/1000000","v":0},0]
[0.1,{"$f":"'Daily Calcs'!J8261/1000000","v":0},{"$f":"'Daily Calcs'!K8261/1000000","v":0},0]
[0.1,{"$f":"'Daily Calcs'!J8262/1000000","v":0},{"$f":"'Daily Calcs'!K8262/1000000","v":0},0]
[0.1,{"$f":"'Daily Calcs'!J8263/1000000","v":0},{"$f":"'Daily Calcs'!K8263/1000000","v":0},0]
[0.1,{"$f":"'Daily Calcs'!J8264/1000000","v":0},{"$f":"'Daily Calcs'!K8264/1000000","v":0},0]
[0.1,{"$f":"'Daily Calcs'!J8265/1000000","v":0},{"$f":"'Daily Calcs'!K8265/1000000","v":0},0]
[0.1,{"$f":"'Daily Calcs'!J8266/1000000","v":0},{"$f":"'Daily Calcs'!K8266/1000000","v":0},0]
[0.1,{"$f":"'Daily Calcs'!J8267/1000000","v":0},{"$f":"'Daily Calcs'!K8267/1000000","v":0},0]
[0.1,{"$f":"'Daily Calcs'!J8268/1000000","v":0},{"$f":"'Daily Calcs'!K8268/1000000","v":0},0]
[0.1,{"$f":"'Daily Calcs'!J8269/1000000","v":0},{"$f":"'Daily Calcs'!K8269/1000000","v":0},0]
[0.1,{"$f":"'Daily Calcs'!J8270/1000000","v":0},{"$f":"'Daily Calcs'!K8270/1000000","v":0},0]
[0.1,{"$f":"'Daily Calcs'!J8271/1000000","v":0},{"$f":"'Daily Calcs'!K8271/1000000","v":0},0]
[0.1,{"$f":"'Daily Calcs'!J8272/1000000","v":0},{"$f":"'Daily Calcs'!K8272/1000000","v":0},0]
[0.1,{"$f":"'Daily Calcs'!J8273/1000000","v":0},{"$f":"'Daily Calcs'!K8273/1000000","v":0},0]
[0.1,{"$f":"'Daily Calcs'!J8274/1000000","v":0},{"$f":"'Daily Calcs'!K8274/1000000","v":0},0]
[0.1,{"$f":"'Daily Calcs'!J8275/1000000","v":0},{"$f":"'Daily Calcs'!K8275/1000000","v":0},0]
[0.1,{"$f":"'Daily Calcs'!J8276/1000000","v":0},{"$f":"'Daily Calcs'!K8276/1000000","v":0},0]
[0.1,{"$f":"'Daily Calcs'!J8277/1000000","v":0},{"$f":"'Daily Calcs'!K8277/1000000","v":0},0]
[0.1,{"$f":"'Daily Calcs'!J8278/1000000","v":0},{"$f":"'Daily Calcs'!K8278/1000000","v":0},0]
[0.1,{"$f":"'Daily Calcs'!J8279/1000000","v":0},{"$f":"'Daily Calcs'!K8279/1000000","v":0},0]
[0.1,{"$f":"'Daily Calcs'!J8280/1000000","v":0},{"$f":"'Daily Calcs'!K8280/1000000","v":0},0]
[0.1,{"$f":"'Daily Calcs'!J8281/1000000","v":8.7481146304675733E-6},{"$f":"'Daily Calcs'!K8281/1000000","v":8.7519762551174328E-6},8.7481146304675733E-6]
[0.1,{"$f":"'Daily Calcs'!J8282/1000000","v":7.0308056872037915E-6},{"$f":"'Daily Calcs'!K8282/1000000","v":7.032499555687204E-6},7.0308056872037915E-6]
[0.1,{"$f":"'Daily Calcs'!J8283/1000000","v":5.3244434137291269E-6},{"$f":"'Daily Calcs'!K8283/1000000","v":5.3250818645640074E-6},5.3244434137291269E-6]
[0.1,{"$f":"'Daily Calcs'!J8284/1000000","v":4.4048430048925503E-6},{"$f":"'Daily Calcs'!K8284/1000000","v":4.4050996562829005E-6},4.4048430048925503E-6]
[0.1,{"$f":"'Daily Calcs'!J8285/1000000","v":3.5664650776710541E-6},{"$f":"'Daily Calcs'!K8285/1000000","v":3.5665811336416456E-6},3.5664650776710541E-6]
[0.1,{"$f":"'Daily Calcs'!J8286/1000000","v":0},{"$f":"'Daily Calcs'!K8286/1000000","v":0},0]
[0.1,{"$f":"'Daily Calcs'!J8287/1000000","v":0},{"$f":"'Daily Calcs'!K8287/1000000","v":0},0]
[0.1,{"$f":"'Daily Calcs'!J8288/1000000","v":0},{"$f":"'Daily Calcs'!K8288/1000000","v":0},0]
[0.1,{"$f":"'Daily Calcs'!J8289/1000000","v":0},{"$f":"'Daily Calcs'!K8289/1000000","v":0},0]
[0.1,{"$f":"'Daily Calcs'!J8290/1000000","v":0},{"$f":"'Daily Calcs'!K8290/1000000","v":0},0]
[0.1,{"$f":"'Daily Calcs'!J8291/1000000","v":2.9546948635697596E-6},{"$f":"'Daily Calcs'!K8291/1000000","v":2.9547184760999562E-6},2.9546948635697596E-6]
[0.1,{"$f":"'Daily Calcs'!J8292/1000000","v":2.1967261824369953E-6},{"$f":"'Daily Calcs'!K8292/1000000","v":2.1967427524918294E-6},2.1967261824369953E-6]
[0.1,{"$f":"'Daily Calcs'!J8293/1000000","v":0},{"$f":"'Daily Calcs'!K8293/1000000","v":0},0]
[0.1,{"$f":"'Daily Calcs'!J8294/1000000","v":0},{"$f":"'Daily Calcs'!K8294/1000000","v":0},0]
[0.1,{"$f":"'Daily Calcs'!J8295/1000000","v":0},{"$f":"'Daily Calcs'!K8295/1000000","v":0},0]
[0.1,{"$f":"'Daily Calcs'!J8296/1000000","v":0},{"$f":"'Daily Calcs'!K8296/1000000","v":0},0]
[0.1,{"$f":"'Daily Calcs'!J8297/1000000","v":0},{"$f":"'Daily Calcs'!K8297/1000000","v":0},0]
[0.1,{"$f":"'Daily Calcs'!J8298/1000000","v":1.8377685274659927E-6},{"$f":"'Daily Calcs'!K8298/1000000","v":1.8377726774697093E-6},1.8377685274659927E-6]
[0.1,{"$f":"'Daily Calcs'!J8299/1000000","v":1.1505499541704857E-6},{"$f":"'Daily Calcs'!K8299/1000000","v":1.1505526238771768E-6},1.1505499541704857E-6]
[0.1,{"$f":"'Daily Calcs'!J8300/1000000","v":0},{"$f":"'Daily Calcs'!K8300/1000000","v":0},0]
[0.1,{"$f":"'Daily Calcs'!J8301/1000000","v":0},{"$f":"'Daily Calcs'!K8301/1000000","v":0},0]
[0.1,{"$f":"'Daily Calcs'!J8302/1000000","v":0},{"$f":"'Daily Calcs'!K8302/1000000","v":0},0]
[0.1,{"$f":"'Daily Calcs'!J8303/1000000","v":0},{"$f":"'Daily Calcs'!K8303/1000000","v":0},0]
[0.1,{"$f":"'Daily Calcs'!J8304/1000000","v":0},{"$f":"'Daily Calcs'!K8304/1000000","v":0},0]
[0.1,{"$f":"'Daily Calcs'!J8305/1000000","v":0},{"$f":"'Daily Calcs'!K8305/1000000","v":0},0]
[0.1,{"$f":"'Daily Calcs'!J8306/1000000","v":0},{"$f":"'Daily Calcs'!K8306/1000000","v":0},0]
[0.1,{"$f":"'Daily Calcs'!J8307/1000000","v":0},{"$f":"'Daily Calcs'!K8307/1000000","v":0},0]
[0.1,{"$f":"'Daily Calcs'!J8308/1000000","v":0},{"$f":"'Daily Calcs'!K8308/1000000","v":0},0]
[0.1,{"$f":"'Daily Calcs'!J8309/1000000","v":0},{"$f":"'Daily Calcs'!K8309/1000000","v":0},0]
[0.1,{"$f":"'Daily Calcs'!J8310/1000000","v":0},{"$f":"'Daily Calcs'!K8310/1000000","v":0},0]
[0.1,{"$f":"'Daily Calcs'!J8311/1000000","v":0},{"$f":"'Daily Calcs'!K8311/1000000","v":0},0]
[0.1,{"$f":"'Daily Calcs'!J8312/1000000","v":0},{"$f":"'Daily Calcs'!K8312/1000000","v":0},0]
[0.1,{"$f":"'Daily Calcs'!J8313/1000000","v":0},{"$f":"'Daily Calcs'!K8313/1000000","v":0},0]
[0.1,{"$f":"'Daily Calcs'!J8314/1000000","v":0},{"$f":"'Daily Calcs'!K8314/1000000","v":0},0]
[0.1,{"$f":"'Daily Calcs'!J8315/1000000","v":0},{"$f":"'Daily Calcs'!K8315/1000000","v":0},0]
[0.1,{"$f":"'Daily Calcs'!J8316/1000000","v":0},{"$f":"'Daily Calcs'!K8316/1000000","v":0},0]
[0.1,{"$f":"'Daily Calcs'!J8317/1000000","v":0},{"$f":"'Daily Calcs'!K8317/1000000","v":0},0]
[0.1,{"$f":"'Daily Calcs'!J8318/1000000","v":0},{"$f":"'Daily Calcs'!K8318/1000000","v":0},0]
[0.1,{"$f":"'Daily Calcs'!J8319/1000000","v":0},{"$f":"'Daily Calcs'!K8319/1000000","v":0},0]
[0.1,{"$f":"'Daily Calcs'!J8320/1000000","v":0},{"$f":"'Daily Calcs'!K8320/1000000","v":0},0]
[0.1,{"$f":"'Daily Calcs'!J8321/1000000","v":0},{"$f":"'Daily Calcs'!K8321/1000000","v":0},0]
[0.1,{"$f":"'Daily Calcs'!J8322/1000000","v":4.8775553662691659E-7},{"$f":"'Daily Calcs'!K8322/1000000","v":4.8775565682850663E-7},4.8775553662691659E-7]
[0.1,{"$f":"'Daily Calcs'!J8323/1000000","v":0},{"$f":"'Daily Calcs'!K8323/1000000","v":0},{"$f":"B8327","v":0}]
[0.1,{"$f":"'Daily Calcs'!J8324/1000000","v":0},{"$f":"'Daily Calcs'!K8324/1000000","v":0},0]
[0.1,{"$f":"'Daily Calcs'!J8325/1000000","v":0},{"$f":"'Daily Calcs'!K8325/1000000","v":0},0]
[0.1,{"$f":"'Daily Calcs'!J8326/1000000","v":0},{"$f":"'Daily Calcs'!K8326/1000000","v":0},0]
[0.1,{"$f":"'Daily Calcs'!J8327/1000000","v":0},{"$f":"'Daily Calcs'!K8327/1000000","v":0},0]
[0.1,{"$f":"'Daily Calcs'!J8328/1000000","v":0},{"$f":"'Daily Calcs'!K8328/1000000","v":0},0]
[0.1,{"$f":"'Daily Calcs'!J8329/1000000","v":0},{"$f":"'Daily Calcs'!K8329/1000000","v":0},0]
[0.1,{"$f":"'Daily Calcs'!J8330/1000000","v":0},{"$f":"'Daily Calcs'!K8330/1000000","v":0},0]
[0.1,{"$f":"'Daily Calcs'!J8331/1000000","v":0},{"$f":"'Daily Calcs'!K8331/1000000","v":0},0]
[0.1,{"$f":"'Daily Calcs'!J8332/1000000","v":3.1861944943975657E-7},{"$f":"'Daily Calcs'!K8332/1000000","v":3.1861947442246507E-7},3.1861944943975657E-7]
[0.1,{"$f":"'Daily Calcs'!J8333/1000000","v":0},{"$f":"'Daily Calcs'!K8333/1000000","v":0},0]
[0.1,{"$f":"'Daily Calcs'!J8334/1000000","v":0},{"$f":"'Daily Calcs'!K8334/1000000","v":0},0]
[0.1,{"$f":"'Daily Calcs'!J8335/1000000","v":0},{"$f":"'Daily Calcs'!K8335/1000000","v":0},0]
[0.1,{"$f":"'Daily Calcs'!J8336/1000000","v":0},{"$f":"'Daily Calcs'!K8336/1000000","v":0},0]
[0.1,{"$f":"'Daily Calcs'!J8337/1000000","v":0},{"$f":"'Daily Calcs'!K8337/1000000","v":0},0]
[0.1,{"$f":"'Daily Calcs'!J8338/1000000","v":0},{"$f":"'Daily Calcs'!K8338/1000000","v":0},0]
[0.1,{"$f":"'Daily Calcs'!J8339/1000000","v":0},{"$f":"'Daily Calcs'!K8339/1000000","v":0},0]
[0.1,{"$f":"'Daily Calcs'!J8340/1000000","v":0},{"$f":"'Daily Calcs'!K8340/1000000","v":0},0]
[0.1,{"$f":"'Daily Calcs'!J8341/1000000","v":0},{"$f":"'Daily Calcs'!K8341/1000000","v":0},0]
[0.1,{"$f":"'Daily Calcs'!J8342/1000000","v":0},{"$f":"'Daily Calcs'!K8342/1000000","v":0},0]
[0.1,{"$f":"'Daily Calcs'!J8343/1000000","v":0},{"$f":"'Daily Calcs'!K8343/1000000","v":0},0]
[0.1,{"$f":"'Daily Calcs'!J8344/1000000","v":0},{"$f":"'Daily Calcs'!K8344/1000000","v":0},0]
[0.1,{"$f":"'Daily Calcs'!J8345/1000000","v":0},{"$f":"'Daily Calcs'!K8345/1000000","v":0},0]
[0.1,{"$f":"'Daily Calcs'!J8346/1000000","v":0},{"$f":"'Daily Calcs'!K8346/1000000","v":0},0]
[0.1,{"$f":"'Daily Calcs'!J8347/1000000","v":0},{"$f":"'Daily Calcs'!K8347/1000000","v":0},0]
[0.1,{"$f":"'Daily Calcs'!J8348/1000000","v":0},{"$f":"'Daily Calcs'!K8348/1000000","v":0},0]
[0.1,{"$f":"'Daily Calcs'!J8349/1000000","v":0},{"$f":"'Daily Calcs'!K8349/1000000","v":0},0]
[0.1,{"$f":"'Daily Calcs'!J8350/1000000","v":0},{"$f":"'Daily Calcs'!K8350/1000000","v":0},0]
[0.1,{"$f":"'Daily Calcs'!J8351/1000000","v":0},{"$f":"'Daily Calcs'!K8351/1000000","v":0},0]
[0.1,{"$f":"'Daily Calcs'!J8352/1000000","v":0},{"$f":"'Daily Calcs'!K8352/1000000","v":0},0]
[0.1,{"$f":"'Daily Calcs'!J8353/1000000","v":0},{"$f":"'Daily Calcs'!K8353/1000000","v":0},0]
[0.1,{"$f":"'Daily Calcs'!J8354/1000000","v":1.3841226093595785E-7},{"$f":"'Daily Calcs'!K8354/1000000","v":1.3841226388629211E-7},1.3841226093595785E-7]
[0.1,{"$f":"'Daily Calcs'!J8355/1000000","v":8.8231736816642478E-8},{"$f":"'Daily Calcs'!K8355/1000000","v":8.8231738143323674E-8},8.8231736816642478E-8]
[0.1,{"$f":"'Daily Calcs'!J8356/1000000","v":0},{"$f":"'Daily Calcs'!K8356/1000000","v":0},0]
[0.1,{"$f":"'Daily Calcs'!J8357/1000000","v":0},{"$f":"'Daily Calcs'!K8357/1000000","v":0},0]
[0.1,{"$f":"'Daily Calcs'!J8358/1000000","v":0},{"$f":"'Daily Calcs'!K8358/1000000","v":0},0]
[0.1,{"$f":"'Daily Calcs'!J8359/1000000","v":0},{"$f":"'Daily Calcs'!K8359/1000000","v":0},0]
[0.1,{"$f":"'Daily Calcs'!J8360/1000000","v":4.6249420276412203E-8},{"$f":"'Daily Calcs'!K8360/1000000","v":4.6249420622618491E-8},4.6249420276412203E-8]
[0.1,{"$f":"'Daily Calcs'!J8361/1000000","v":0},{"$f":"'Daily Calcs'!K8361/1000000","v":0},0]
[0.1,{"$f":"'Daily Calcs'!J8362/1000000","v":0},{"$f":"'Daily Calcs'!K8362/1000000","v":0},0]
[0.1,{"$f":"'Daily Calcs'!J8363/1000000","v":2.5737461667820756E-8},{"$f":"'Daily Calcs'!K8363/1000000","v":2.5737461770729055E-8},2.5737461667820756E-8]
[0.1,{"$f":"'Daily Calcs'!J8364/1000000","v":1.6027156147850136E-8},{"$f":"'Daily Calcs'!K8364/1000000","v":1.6027156186027988E-8},1.6027156147850136E-8]
[0.1,{"$f":"'Daily Calcs'!J8365/1000000","v":0},{"$f":"'Daily Calcs'!K8365/1000000","v":0},0]
[0.1,{"$f":"'Daily Calcs'!J8366/1000000","v":0},{"$f":"'Daily Calcs'!K8366/1000000","v":0},0]
[0.1,{"$f":"'Daily Calcs'!J8367/1000000","v":1.3202984220010441E-8},{"$f":"'Daily Calcs'!K8367/1000000","v":1.3202984231928966E-8},1.3202984220010441E-8]
[0.1,{"$f":"'Daily Calcs'!J8368/1000000","v":7.8813881496768586E-9},{"$f":"'Daily Calcs'!K8368/1000000","v":7.8813881578976807E-9},7.8813881496768586E-9]
[0.1,{"$f":"'Daily Calcs'!J8369/1000000","v":0},{"$f":"'Daily Calcs'!K8369/1000000","v":0},0]
[0.1,{"$f":"'Daily Calcs'!J8370/1000000","v":0},{"$f":"'Daily Calcs'!K8370/1000000","v":0},0]
[0.1,{"$f":"'Daily Calcs'!J8371/1000000","v":0},{"$f":"'Daily Calcs'!K8371/1000000","v":0},0]
[0.1,{"$f":"'Daily Calcs'!J8372/1000000","v":0},{"$f":"'Daily Calcs'!K8372/1000000","v":0},0]
[0.1,{"$f":"'Daily Calcs'!J8373/1000000","v":3.4964927812585133E-9},{"$f":"'Daily Calcs'!K8373/1000000","v":3.496492783145261E-9},3.4964927812585133E-9]
[0.1,{"$f":"'Daily Calcs'!J8374/1000000","v":0},{"$f":"'Daily Calcs'!K8374/1000000","v":0},0]
[0.1,{"$f":"'Daily Calcs'!J8375/1000000","v":2.4286400768861124E-9},{"$f":"'Daily Calcs'!K8375/1000000","v":2.4286400775602183E-9},2.4286400768861124E-9]
[0.1,{"$f":"'Daily Calcs'!J8376/1000000","v":1.4344073647871116E-9},{"$f":"'Daily Calcs'!K8376/1000000","v":1.4344073650973029E-9},1.4344073647871116E-9]
[0.1,{"$f":"'Daily Calcs'!J8377/1000000","v":0},{"$f":"'Daily Calcs'!K8377/1000000","v":0},0]
[0.1,{"$f":"'Daily Calcs'!J8378/1000000","v":0},{"$f":"'Daily Calcs'!K8378/1000000","v":0},0]
[0.1,{"$f":"'Daily Calcs'!J8379/1000000","v":0},{"$f":"'Daily Calcs'!K8379/1000000","v":0},0]
[0.1,{"$f":"'Daily Calcs'!J8380/1000000","v":0},{"$f":"'Daily Calcs'!K8380/1000000","v":0},0]
[0.1,{"$f":"'Daily Calcs'!J8381/1000000","v":6.5787667521583632E-10},{"$f":"'Daily Calcs'!K8381/1000000","v":6.5787667529272111E-10},6.5787667521583632E-10]
[0.1,{"$f":"'Daily Calcs'!J8382/1000000","v":0},{"$f":"'Daily Calcs'!K8382/1000000","v":0},0]
[0.1,{"$f":"'Daily Calcs'!J8383/1000000","v":0},{"$f":"'Daily Calcs'!K8383/1000000","v":0},0]
[0.1,{"$f":"'Daily Calcs'!J8384/1000000","v":0},{"$f":"'Daily Calcs'!K8384/1000000","v":0},0]
[0.1,{"$f":"'Daily Calcs'!J8385/1000000","v":0},{"$f":"'Daily Calcs'!K8385/1000000","v":0},0]
[0.1,{"$f":"'Daily Calcs'!J8386/1000000","v":0},{"$f":"'Daily Calcs'!K8386/1000000","v":0},0]
[0.1,{"$f":"'Daily Calcs'!J8387/1000000","v":0},{"$f":"'Daily Calcs'!K8387/1000000","v":0},{"$f":"B8391","v":0}]
[0.1,{"$f":"'Daily Calcs'!J8388/1000000","v":0},{"$f":"'Daily Calcs'!K8388/1000000","v":0},0]
[0.1,{"$f":"'Daily Calcs'!J8389/1000000","v":0},{"$f":"'Daily Calcs'!K8389/1000000","v":0},0]
[0.1,{"$f":"'Daily Calcs'!J8390/1000000","v":0},{"$f":"'Daily Calcs'!K8390/1000000","v":0},0]
[0.1,{"$f":"'Daily Calcs'!J8391/1000000","v":0},{"$f":"'Daily Calcs'!K8391/1000000","v":0},0]
[0.1,{"$f":"'Daily Calcs'!J8392/1000000","v":2.8884811076820413E-10},{"$f":"'Daily Calcs'!K8392/1000000","v":2.8884811078287676E-10},2.8884811076820413E-10]
[0.1,{"$f":"'Daily Calcs'!J8393/1000000","v":0},{"$f":"'Daily Calcs'!K8393/1000000","v":0},0]
[0.1,{"$f":"'Daily Calcs'!J8394/1000000","v":0},{"$f":"'Daily Calcs'!K8394/1000000","v":0},0]
[0.1,{"$f":"'Daily Calcs'!J8395/1000000","v":0},{"$f":"'Daily Calcs'!K8395/1000000","v":0},0]
[0.1,{"$f":"'Daily Calcs'!J8396/1000000","v":0},{"$f":"'Daily Calcs'!K8396/1000000","v":0},0]
[0.1,{"$f":"'Daily Calcs'!J8397/1000000","v":1.9447681379200253E-10},{"$f":"'Daily Calcs'!K8397/1000000","v":1.9447681379744349E-10},1.9447681379200253E-10]
[0.1,{"$f":"'Daily Calcs'!J8398/1000000","v":1.0265154447627159E-10},{"$f":"'Daily Calcs'!K8398/1000000","v":1.0265154447878981E-10},1.0265154447627159E-10]
[0.1,{"$f":"'Daily Calcs'!J8399/1000000","v":0},{"$f":"'Daily Calcs'!K8399/1000000","v":0},0]
[0.1,{"$f":"'Daily Calcs'!J8400/1000000","v":0},{"$f":"'Daily Calcs'!K8400/1000000","v":0},0]
[0.1,{"$f":"'Daily Calcs'!J8401/1000000","v":0},{"$f":"'Daily Calcs'!K8401/1000000","v":0},0]
[0.1,{"$f":"'Daily Calcs'!J8402/1000000","v":0},{"$f":"'Daily Calcs'!K8402/1000000","v":0},0]
[0.1,{"$f":"'Daily Calcs'!J8403/1000000","v":0},{"$f":"'Daily Calcs'!K8403/1000000","v":0},0]
[0.1,{"$f":"'Daily Calcs'!J8404/1000000","v":0},{"$f":"'Daily Calcs'!K8404/1000000","v":0},0]
[0.1,{"$f":"'Daily Calcs'!J8405/1000000","v":0},{"$f":"'Daily Calcs'!K8405/1000000","v":0},0]
[0.1,{"$f":"'Daily Calcs'!J8406/1000000","v":0},{"$f":"'Daily Calcs'!K8406/1000000","v":0},0]
[0.1,{"$f":"'Daily Calcs'!J8407/1000000","v":0},{"$f":"'Daily Calcs'!K8407/1000000","v":0},0]
[0.1,{"$f":"'Daily Calcs'!J8408/1000000","v":0},{"$f":"'Daily Calcs'!K8408/1000000","v":0},0]
[0.1,{"$f":"'Daily Calcs'!J8409/1000000","v":0},{"$f":"'Daily Calcs'!K8409/1000000","v":0},0]
[0.1,{"$f":"'Daily Calcs'!J8410/1000000","v":0},{"$f":"'Daily Calcs'!K8410/1000000","v":0},0]
[0.1,{"$f":"'Daily Calcs'!J8411/1000000","v":3.1408430019092378E-11},{"$f":"'Daily Calcs'!K8411/1000000","v":3.1408430019415528E-11},3.1408430019092378E-11]
[0.1,{"$f":"'Daily Calcs'!J8412/1000000","v":0},{"$f":"'Daily Calcs'!K8412/1000000","v":0},0]
[0.1,{"$f":"'Daily Calcs'!J8413/1000000","v":0},{"$f":"'Daily Calcs'!K8413/1000000","v":0},0]
[0.1,{"$f":"'Daily Calcs'!J8414/1000000","v":0},{"$f":"'Daily Calcs'!K8414/1000000","v":0},0]
[0.1,{"$f":"'Daily Calcs'!J8415/1000000","v":0},{"$f":"'Daily Calcs'!K8415/1000000","v":0},0]
[0.1,{"$f":"'Daily Calcs'!J8416/1000000","v":0},{"$f":"'Daily Calcs'!K8416/1000000","v":0},0]
[0.1,{"$f":"'Daily Calcs'!J8417/1000000","v":0},{"$f":"'Daily Calcs'!K8417/1000000","v":0},0]
[0.1,{"$f":"'Daily Calcs'!J8418/1000000","v":1.5794570628500307E-11},{"$f":"'Daily Calcs'!K8418/1000000","v":1.5794570628596322E-11},1.5794570628500307E-11]
[0.1,{"$f":"'Daily Calcs'!J8419/1000000","v":7.5793558850787775E-12},{"$f":"'Daily Calcs'!K8419/1000000","v":7.5793558851147259E-12},7.5793558850787775E-12]
[0.1,{"$f":"'Daily Calcs'!J8420/1000000","v":0},{"$f":"'Daily Calcs'!K8420/1000000","v":0},0]
[0.1,{"$f":"'Daily Calcs'!J8421/1000000","v":0},{"$f":"'Daily Calcs'!K8421/1000000","v":0},0]
[0.1,{"$f":"'Daily Calcs'!J8422/1000000","v":0},{"$f":"'Daily Calcs'!K8422/1000000","v":0},0]
[0.1,{"$f":"'Daily Calcs'!J8423/1000000","v":0},{"$f":"'Daily Calcs'!K8423/1000000","v":0},0]
[0.1,{"$f":"'Daily Calcs'!J8424/1000000","v":5.4473168898471045E-12},{"$f":"'Daily Calcs'!K8424/1000000","v":5.4473168898563941E-12},5.4473168898471045E-12]
[0.1,{"$f":"'Daily Calcs'!J8425/1000000","v":3.2742197970515034E-12},{"$f":"'Daily Calcs'!K8425/1000000","v":3.2742197970582849E-12},3.2742197970515034E-12]
[0.1,{"$f":"'Daily Calcs'!J8426/1000000","v":0},{"$f":"'Daily Calcs'!K8426/1000000","v":0},0]
[0.1,{"$f":"'Daily Calcs'!J8427/1000000","v":1.8924258403767026E-12},{"$f":"'Daily Calcs'!K8427/1000000","v":1.8924258403786817E-12},1.8924258403767026E-12]
[0.1,{"$f":"'Daily Calcs'!J8428/1000000","v":1.384322344322344E-12},{"$f":"'Daily Calcs'!K8428/1000000","v":1.3843223443233749E-12},1.384322344322344E-12]
[0.1,{"$f":"'Daily Calcs'!J8429/1000000","v":0},{"$f":"'Daily Calcs'!K8429/1000000","v":0},0]
[0.1,{"$f":"'Daily Calcs'!J8430/1000000","v":0},{"$f":"'Daily Calcs'!K8430/1000000","v":0},0]
[0.1,{"$f":"'Daily Calcs'!J8431/1000000","v":0},{"$f":"'Daily Calcs'!K8431/1000000","v":0},0]
[0.1,{"$f":"'Daily Calcs'!J8432/1000000","v":0},{"$f":"'Daily Calcs'!K8432/1000000","v":0},0]
[0.1,{"$f":"'Daily Calcs'!J8433/1000000","v":0},{"$f":"'Daily Calcs'!K8433/1000000","v":0},0]
[0.1,{"$f":"'Daily Calcs'!J8434/1000000","v":0},{"$f":"'Daily Calcs'!K8434/1000000","v":0},0]
[0.1,{"$f":"'Daily Calcs'!J8435/1000000","v":8.9795669824086619E-13},{"$f":"'Daily Calcs'!K8435/1000000","v":8.9795669824130129E-13},8.9795669824086619E-13]
[0.1,{"$f":"'Daily Calcs'!J8436/1000000","v":0},{"$f":"'Daily Calcs'!K8436/1000000","v":0},0]
[0.1,{"$f":"'Daily Calcs'!J8437/1000000","v":0},{"$f":"'Daily Calcs'!K8437/1000000","v":0},0]
[0.1,{"$f":"'Daily Calcs'!J8438/1000000","v":0},{"$f":"'Daily Calcs'!K8438/1000000","v":0},0]
[0.1,{"$f":"'Daily Calcs'!J8439/1000000","v":0},{"$f":"'Daily Calcs'!K8439/1000000","v":0},0]
[0.1,{"$f":"'Daily Calcs'!J8440/1000000","v":0},{"$f":"'Daily Calcs'!K8440/1000000","v":0},0]
[0.1,{"$f":"'Daily Calcs'!J8441/1000000","v":0},{"$f":"'Daily Calcs'!K8441/1000000","v":0},0]
[0.1,{"$f":"'Daily Calcs'!J8442/1000000","v":5.2487936081006255E-13},{"$f":"'Daily Calcs'!K8442/1000000","v":5.2487936081021846E-13},5.2487936081006255E-13]
[0.1,{"$f":"'Daily Calcs'!J8443/1000000","v":0},{"$f":"'Daily Calcs'!K8443/1000000","v":0},0]
[0.1,{"$f":"'Daily Calcs'!J8444/1000000","v":3.1407094817354617E-13},{"$f":"'Daily Calcs'!K8444/1000000","v":3.1407094817364623E-13},3.1407094817354617E-13]
[0.1,{"$f":"'Daily Calcs'!J8445/1000000","v":1.3352381496614191E-13},{"$f":"'Daily Calcs'!K8445/1000000","v":1.3352381496618018E-13},1.3352381496614191E-13]
[0.1,{"$f":"'Daily Calcs'!J8446/1000000","v":0},{"$f":"'Daily Calcs'!K8446/1000000","v":0},0]
[0.1,{"$f":"'Daily Calcs'!J8447/1000000","v":0},{"$f":"'Daily Calcs'!K8447/1000000","v":0},0]
[0.1,{"$f":"'Daily Calcs'!J8448/1000000","v":0},{"$f":"'Daily Calcs'!K8448/1000000","v":0},0]
[0.1,{"$f":"'Daily Calcs'!J8449/1000000","v":0},{"$f":"'Daily Calcs'!K8449/1000000","v":0},0]
[0.1,{"$f":"'Daily Calcs'!J8450/1000000","v":0},{"$f":"'Daily Calcs'!K8450/1000000","v":0},0]
[0.1,{"$f":"'Daily Calcs'!J8451/1000000","v":0},{"$f":"'Daily Calcs'!K8451/1000000","v":0},{"$f":"B8455","v":0}]
[0.1,{"$f":"'Daily Calcs'!J8452/1000000","v":0},{"$f":"'Daily Calcs'!K8452/1000000","v":0},0]
[0.1,{"$f":"'Daily Calcs'!J8453/1000000","v":0},{"$f":"'Daily Calcs'!K8453/1000000","v":0},0]
[0.1,{"$f":"'Daily Calcs'!J8454/1000000","v":7.1574090718437298E-14},{"$f":"'Daily Calcs'!K8454/1000000","v":7.1574090718443798E-14},7.1574090718437298E-14]
[0.1,{"$f":"'Daily Calcs'!J8455/1000000","v":0},{"$f":"'Daily Calcs'!K8455/1000000","v":0},0]
[0.1,{"$f":"'Daily Calcs'!J8456/1000000","v":0},{"$f":"'Daily Calcs'!K8456/1000000","v":0},0]
[0.1,{"$f":"'Daily Calcs'!J8457/1000000","v":0},{"$f":"'Daily Calcs'!K8457/1000000","v":0},0]
[0.1,{"$f":"'Daily Calcs'!J8458/1000000","v":0},{"$f":"'Daily Calcs'!K8458/1000000","v":0},0]
[0.1,{"$f":"'Daily Calcs'!J8459/1000000","v":2.1516023007395229E-14},{"$f":"'Daily Calcs'!K8459/1000000","v":2.1516023007397321E-14},2.1516023007395229E-14]
[0.1,{"$f":"'Daily Calcs'!J8460/1000000","v":0},{"$f":"'Daily Calcs'!K8460/1000000","v":0},0]
[0.1,{"$f":"'Daily Calcs'!J8461/1000000","v":0},{"$f":"'Daily Calcs'!K8461/1000000","v":0},0]
[0.1,{"$f":"'Daily Calcs'!J8462/1000000","v":0},{"$f":"'Daily Calcs'!K8462/1000000","v":0},0]
[0.1,{"$f":"'Daily Calcs'!J8463/1000000","v":0},{"$f":"'Daily Calcs'!K8463/1000000","v":0},0]
[0.1,{"$f":"'Daily Calcs'!J8464/1000000","v":0},{"$f":"'Daily Calcs'!K8464/1000000","v":0},0]
[0.1,{"$f":"'Daily Calcs'!J8465/1000000","v":0},{"$f":"'Daily Calcs'!K8465/1000000","v":0},0]
[0.1,{"$f":"'Daily Calcs'!J8466/1000000","v":6.8139317039938698E-15},{"$f":"'Daily Calcs'!K8466/1000000","v":6.8139317039942366E-15},6.8139317039938698E-15]
[0.1,{"$f":"'Daily Calcs'!J8467/1000000","v":0},{"$f":"'Daily Calcs'!K8467/1000000","v":0},0]
[0.1,{"$f":"'Daily Calcs'!J8468/1000000","v":0},{"$f":"'Daily Calcs'!K8468/1000000","v":0},0]
[0.1,{"$f":"'Daily Calcs'!J8469/1000000","v":0},{"$f":"'Daily Calcs'!K8469/1000000","v":0},0]
[0.1,{"$f":"'Daily Calcs'!J8470/1000000","v":0},{"$f":"'Daily Calcs'!K8470/1000000","v":0},0]
[0.1,{"$f":"'Daily Calcs'!J8471/1000000","v":0},{"$f":"'Daily Calcs'!K8471/1000000","v":0},0]
[0.1,{"$f":"'Daily Calcs'!J8472/1000000","v":0},{"$f":"'Daily Calcs'!K8472/1000000","v":0},0]
[0.1,{"$f":"'Daily Calcs'!J8473/1000000","v":0},{"$f":"'Daily Calcs'!K8473/1000000","v":0},0]
[0.1,{"$f":"'Daily Calcs'!J8474/1000000","v":0},{"$f":"'Daily Calcs'!K8474/1000000","v":0},0]
[0.1,{"$f":"'Daily Calcs'!J8475/1000000","v":0},{"$f":"'Daily Calcs'!K8475/1000000","v":0},0]
[0.1,{"$f":"'Daily Calcs'!J8476/1000000","v":0},{"$f":"'Daily Calcs'!K8476/1000000","v":0},0]
[0.1,{"$f":"'Daily Calcs'!J8477/1000000","v":0},{"$f":"'Daily Calcs'!K8477/1000000","v":0},0]
[0.1,{"$f":"'Daily Calcs'!J8478/1000000","v":1.5992636907501148E-15},{"$f":"'Daily Calcs'!K8478/1000000","v":1.5992636907501347E-15},1.5992636907501148E-15]
[0.1,{"$f":"'Daily Calcs'!J8479/1000000","v":0},{"$f":"'Daily Calcs'!K8479/1000000","v":0},0]
[0.1,{"$f":"'Daily Calcs'!J8480/1000000","v":0},{"$f":"'Daily Calcs'!K8480/1000000","v":0},0]
[0.1,{"$f":"'Daily Calcs'!J8481/1000000","v":5.4778512546426305E-16},{"$f":"'Daily Calcs'!K8481/1000000","v":5.4778512546427015E-16},5.4778512546426305E-16]
[0.1,{"$f":"'Daily Calcs'!J8482/1000000","v":0},{"$f":"'Daily Calcs'!K8482/1000000","v":0},0]
[0.1,{"$f":"'Daily Calcs'!J8483/1000000","v":0},{"$f":"'Daily Calcs'!K8483/1000000","v":0},0]
[0.1,{"$f":"'Daily Calcs'!J8484/1000000","v":0},{"$f":"'Daily Calcs'!K8484/1000000","v":0},0]
[0.1,{"$f":"'Daily Calcs'!J8485/1000000","v":3.8525862342022742E-16},{"$f":"'Daily Calcs'!K8485/1000000","v":3.8525862342022865E-16},3.8525862342022742E-16]
[0.1,{"$f":"'Daily Calcs'!J8486/1000000","v":0},{"$f":"'Daily Calcs'!K8486/1000000","v":0},0]
[0.1,{"$f":"'Daily Calcs'!J8487/1000000","v":0},{"$f":"'Daily Calcs'!K8487/1000000","v":0},0]
[0.1,{"$f":"'Daily Calcs'!J8488/1000000","v":2.2183452286545071E-16},{"$f":"'Daily Calcs'!K8488/1000000","v":2.218345228654515E-16},2.2183452286545071E-16]
[0.1,{"$f":"'Daily Calcs'!J8489/1000000","v":9.9860022396416578E-17},{"$f":"'Daily Calcs'!K8489/1000000","v":9.9860022396417083E-17},9.9860022396416578E-17]
[0.1,{"$f":"'Daily Calcs'!J8490/1000000","v":0},{"$f":"'Daily Calcs'!K8490/1000000","v":0},0]
[0.1,{"$f":"'Daily Calcs'!J8491/1000000","v":0},{"$f":"'Daily Calcs'!K8491/1000000","v":0},0]
[0.1,{"$f":"'Daily Calcs'!J8492/1000000","v":0},{"$f":"'Daily Calcs'!K8492/1000000","v":0},0]
[0.1,{"$f":"'Daily Calcs'!J8493/1000000","v":0},{"$f":"'Daily Calcs'!K8493/1000000","v":0},0]
[0.1,{"$f":"'Daily Calcs'!J8494/1000000","v":0},{"$f":"'Daily Calcs'!K8494/1000000","v":0},0]
[0.1,{"$f":"'Daily Calcs'!J8495/1000000","v":3.7266881028938908E-17},{"$f":"'Daily Calcs'!K8495/1000000","v":3.7266881028939006E-17},3.7266881028938908E-17]
[0.1,{"$f":"'Daily Calcs'!J8496/1000000","v":0},{"$f":"'Daily Calcs'!K8496/1000000","v":0},0]
[0.1,{"$f":"'Daily Calcs'!J8497/1000000","v":0},{"$f":"'Daily Calcs'!K8497/1000000","v":0},0]
[0.1,{"$f":"'Daily Calcs'!J8498/1000000","v":0},{"$f":"'Daily Calcs'!K8498/1000000","v":0},0]
[0.1,{"$f":"'Daily Calcs'!J8499/1000000","v":0},{"$f":"'Daily Calcs'!K8499/1000000","v":0},0]
[0.1,{"$f":"'Daily Calcs'!J8500/1000000","v":2.3341866876723122E-17},{"$f":"'Daily Calcs'!K8500/1000000","v":2.3341866876723144E-17},2.3341866876723122E-17]
[0.1,{"$f":"'Daily Calcs'!J8501/1000000","v":1.316436023723274E-17},{"$f":"'Daily Calcs'!K8501/1000000","v":1.3164360237232757E-17},1.316436023723274E-17]
[0.1,{"$f":"'Daily Calcs'!J8502/1000000","v":0},{"$f":"'Daily Calcs'!K8502/1000000","v":0},0]
[0.1,{"$f":"'Daily Calcs'!J8503/1000000","v":0},{"$f":"'Daily Calcs'!K8503/1000000","v":0},0]
[0.1,{"$f":"'Daily Calcs'!J8504/1000000","v":0},{"$f":"'Daily Calcs'!K8504/1000000","v":0},0]
[0.1,{"$f":"'Daily Calcs'!J8505/1000000","v":0},{"$f":"'Daily Calcs'!K8505/1000000","v":0},0]
[0.1,{"$f":"'Daily Calcs'!J8506/1000000","v":4.6060109982591851E-18},{"$f":"'Daily Calcs'!K8506/1000000","v":4.6060109982591905E-18},4.6060109982591851E-18]
[0.1,{"$f":"'Daily Calcs'!J8507/1000000","v":0},{"$f":"'Daily Calcs'!K8507/1000000","v":0},0]
[0.1,{"$f":"'Daily Calcs'!J8508/1000000","v":0},{"$f":"'Daily Calcs'!K8508/1000000","v":0},0]
[0.1,{"$f":"'Daily Calcs'!J8509/1000000","v":0},{"$f":"'Daily Calcs'!K8509/1000000","v":0},0]
[0.1,{"$f":"'Daily Calcs'!J8510/1000000","v":0},{"$f":"'Daily Calcs'!K8510/1000000","v":0},0]
[0.1,{"$f":"'Daily Calcs'!J8511/1000000","v":1.820405944182675E-18},{"$f":"'Daily Calcs'!K8511/1000000","v":1.8204059441826761E-18},1.820405944182675E-18]
[0.1,{"$f":"'Daily Calcs'!J8512/1000000","v":7.3470214230753657E-19},{"$f":"'Daily Calcs'!K8512/1000000","v":7.3470214230753705E-19},7.3470214230753657E-19]
[0.1,{"$f":"'Daily Calcs'!J8513/1000000","v":0},{"$f":"'Daily Calcs'!K8513/1000000","v":0},0]
[0.1,{"$f":"'Daily Calcs'!J8514/1000000","v":5.6213975015534919E-19},{"$f":"'Daily Calcs'!K8514/1000000","v":5.6213975015534939E-19},5.6213975015534919E-19]
[0.1,{"$f":"'Daily Calcs'!J8515/1000000","v":0},{"$f":"'Daily Calcs'!K8515/1000000","v":0},{"$f":"B8519","v":0}]
[0.1,{"$f":"'Daily Calcs'!J8516/1000000","v":0},{"$f":"'Daily Calcs'!K8516/1000000","v":0},0]
[0.1,{"$f":"'Daily Calcs'!J8517/1000000","v":0},{"$f":"'Daily Calcs'!K8517/1000000","v":0},0]
[0.1,{"$f":"'Daily Calcs'!J8518/1000000","v":0},{"$f":"'Daily Calcs'!K8518/1000000","v":0},0]
[0.1,{"$f":"'Daily Calcs'!J8519/1000000","v":1.9008589402371162E-19},{"$f":"'Daily Calcs'!K8519/1000000","v":1.9008589402371167E-19},1.9008589402371162E-19]
[0.1,{"$f":"'Daily Calcs'!J8520/1000000","v":1.175264776221387E-19},{"$f":"'Daily Calcs'!K8520/1000000","v":1.1752647762213873E-19},1.175264776221387E-19]
[0.1,{"$f":"'Daily Calcs'!J8521/1000000","v":0},{"$f":"'Daily Calcs'!K8521/1000000","v":0},0]
[0.1,{"$f":"'Daily Calcs'!J8522/1000000","v":9.5828449653702715E-20},{"$f":"'Daily Calcs'!K8522/1000000","v":9.5828449653702727E-20},9.5828449653702715E-20]
[0.1,{"$f":"'Daily Calcs'!J8523/1000000","v":0},{"$f":"'Daily Calcs'!K8523/1000000","v":0},0]
[0.1,{"$f":"'Daily Calcs'!J8524/1000000","v":4.1993870402802108E-20},{"$f":"'Daily Calcs'!K8524/1000000","v":4.1993870402802114E-20},4.1993870402802108E-20]
[0.1,{"$f":"'Daily Calcs'!J8525/1000000","v":1.8385104192552099E-20},{"$f":"'Daily Calcs'!K8525/1000000","v":1.8385104192552099E-20},1.8385104192552099E-20]
[0.1,{"$f":"'Daily Calcs'!J8526/1000000","v":0},{"$f":"'Daily Calcs'!K8526/1000000","v":0},0]
[0.1,{"$f":"'Daily Calcs'!J8527/1000000","v":0},{"$f":"'Daily Calcs'!K8527/1000000","v":0},0]
[0.1,{"$f":"'Daily Calcs'!J8528/1000000","v":0},{"$f":"'Daily Calcs'!K8528/1000000","v":0},0]
[0.1,{"$f":"'Daily Calcs'!J8529/1000000","v":0},{"$f":"'Daily Calcs'!K8529/1000000","v":0},0]
[0.1,{"$f":"'Daily Calcs'!J8530/1000000","v":1.1056906210630712E-20},{"$f":"'Daily Calcs'!K8530/1000000","v":1.1056906210630712E-20},1.1056906210630712E-20]
[0.1,{"$f":"'Daily Calcs'!J8531/1000000","v":0},{"$f":"'Daily Calcs'!K8531/1000000","v":0},0]
[0.1,{"$f":"'Daily Calcs'!J8532/1000000","v":0},{"$f":"'Daily Calcs'!K8532/1000000","v":0},0]
[0.1,{"$f":"'Daily Calcs'!J8533/1000000","v":0},{"$f":"'Daily Calcs'!K8533/1000000","v":0},0]
[0.1,{"$f":"'Daily Calcs'!J8534/1000000","v":0},{"$f":"'Daily Calcs'!K8534/1000000","v":0},0]
[0.1,{"$f":"'Daily Calcs'!J8535/1000000","v":0},{"$f":"'Daily Calcs'!K8535/1000000","v":0},0]
[0.1,{"$f":"'Daily Calcs'!J8536/1000000","v":3.7328937546653405E-21},{"$f":"'Daily Calcs'!K8536/1000000","v":3.7328937546653405E-21},3.7328937546653405E-21]
[0.1,{"$f":"'Daily Calcs'!J8537/1000000","v":0},{"$f":"'Daily Calcs'!K8537/1000000","v":0},0]
[0.1,{"$f":"'Daily Calcs'!J8538/1000000","v":0},{"$f":"'Daily Calcs'!K8538/1000000","v":0},0]
[0.1,{"$f":"'Daily Calcs'!J8539/1000000","v":0},{"$f":"'Daily Calcs'!K8539/1000000","v":0},0]
[0.1,{"$f":"'Daily Calcs'!J8540/1000000","v":0},{"$f":"'Daily Calcs'!K8540/1000000","v":0},0]
[0.1,{"$f":"'Daily Calcs'!J8541/1000000","v":0},{"$f":"'Daily Calcs'!K8541/1000000","v":0},0]
[0.1,{"$f":"'Daily Calcs'!J8542/1000000","v":0},{"$f":"'Daily Calcs'!K8542/1000000","v":0},0]
[0.1,{"$f":"'Daily Calcs'!J8543/1000000","v":1.0977404777275661E-21},{"$f":"'Daily Calcs'!K8543/1000000","v":1.0977404777275661E-21},1.0977404777275661E-21]
[0.1,{"$f":"'Daily Calcs'!J8544/1000000","v":0},{"$f":"'Daily Calcs'!K8544/1000000","v":0},0]
[0.1,{"$f":"'Daily Calcs'!J8545/1000000","v":0},{"$f":"'Daily Calcs'!K8545/1000000","v":0},0]
[0.1,{"$f":"'Daily Calcs'!J8546/1000000","v":0},{"$f":"'Daily Calcs'!K8546/1000000","v":0},0]
[0.1,{"$f":"'Daily Calcs'!J8547/1000000","v":0},{"$f":"'Daily Calcs'!K8547/1000000","v":0},0]
[0.1,{"$f":"'Daily Calcs'!J8548/1000000","v":6.5656403475632803E-22},{"$f":"'Daily Calcs'!K8548/1000000","v":6.5656403475632803E-22},6.5656403475632803E-22]
[0.1,{"$f":"'Daily Calcs'!J8549/1000000","v":0},{"$f":"'Daily Calcs'!K8549/1000000","v":0},0]
[0.1,{"$f":"'Daily Calcs'!J8550/1000000","v":2.9149412423055404E-22},{"$f":"'Daily Calcs'!K8550/1000000","v":2.9149412423055404E-22},2.9149412423055404E-22]
[0.1,{"$f":"'Daily Calcs'!J8551/1000000","v":1.5410787367906662E-22},{"$f":"'Daily Calcs'!K8551/1000000","v":1.5410787367906662E-22},1.5410787367906662E-22]
[0.1,{"$f":"'Daily Calcs'!J8552/1000000","v":0},{"$f":"'Daily Calcs'!K8552/1000000","v":0},0]
[0.1,{"$f":"'Daily Calcs'!J8553/1000000","v":0},{"$f":"'Daily Calcs'!K8553/1000000","v":0},0]
[0.1,{"$f":"'Daily Calcs'!J8554/1000000","v":0},{"$f":"'Daily Calcs'!K8554/1000000","v":0},0]
[0.1,{"$f":"'Daily Calcs'!J8555/1000000","v":0},{"$f":"'Daily Calcs'!K8555/1000000","v":0},0]
[0.1,{"$f":"'Daily Calcs'!J8556/1000000","v":0},{"$f":"'Daily Calcs'!K8556/1000000","v":0},0]
[0.1,{"$f":"'Daily Calcs'!J8557/1000000","v":0},{"$f":"'Daily Calcs'!K8557/1000000","v":0},0]
[0.1,{"$f":"'Daily Calcs'!J8558/1000000","v":0},{"$f":"'Daily Calcs'!K8558/1000000","v":0},0]
[0.1,{"$f":"'Daily Calcs'!J8559/1000000","v":0},{"$f":"'Daily Calcs'!K8559/1000000","v":0},0]
[0.1,{"$f":"'Daily Calcs'!J8560/1000000","v":0},{"$f":"'Daily Calcs'!K8560/1000000","v":0},0]
[0.1,{"$f":"'Daily Calcs'!J8561/1000000","v":0},{"$f":"'Daily Calcs'!K8561/1000000","v":0},0]
[0.1,{"$f":"'Daily Calcs'!J8562/1000000","v":0},{"$f":"'Daily Calcs'!K8562/1000000","v":0},0]
[0.1,{"$f":"'Daily Calcs'!J8563/1000000","v":0},{"$f":"'Daily Calcs'!K8563/1000000","v":0},0]
[0.1,{"$f":"'Daily Calcs'!J8564/1000000","v":0},{"$f":"'Daily Calcs'!K8564/1000000","v":0},0]
[0.1,{"$f":"'Daily Calcs'!J8565/1000000","v":0},{"$f":"'Daily Calcs'!K8565/1000000","v":0},0]
[0.1,{"$f":"'Daily Calcs'!J8566/1000000","v":0},{"$f":"'Daily Calcs'!K8566/1000000","v":0},0]
[0.1,{"$f":"'Daily Calcs'!J8567/1000000","v":0},{"$f":"'Daily Calcs'!K8567/1000000","v":0},0]
[0.1,{"$f":"'Daily Calcs'!J8568/1000000","v":0},{"$f":"'Daily Calcs'!K8568/1000000","v":0},0]
[0.1,{"$f":"'Daily Calcs'!J8569/1000000","v":0},{"$f":"'Daily Calcs'!K8569/1000000","v":0},0]
[0.1,{"$f":"'Daily Calcs'!J8570/1000000","v":0},{"$f":"'Daily Calcs'!K8570/1000000","v":0},0]
[0.1,{"$f":"'Daily Calcs'!J8571/1000000","v":0},{"$f":"'Daily Calcs'!K8571/1000000","v":0},0]
[0.1,{"$f":"'Daily Calcs'!J8572/1000000","v":0},{"$f":"'Daily Calcs'!K8572/1000000","v":0},0]
[0.1,{"$f":"'Daily Calcs'!J8573/1000000","v":0},{"$f":"'Daily Calcs'!K8573/1000000","v":0},0]
[0.1,{"$f":"'Daily Calcs'!J8574/1000000","v":0},{"$f":"'Daily Calcs'!K8574/1000000","v":0},0]
[0.1,{"$f":"'Daily Calcs'!J8575/1000000","v":0},{"$f":"'Daily Calcs'!K8575/1000000","v":0},0]
[0.1,{"$f":"'Daily Calcs'!J8576/1000000","v":0},{"$f":"'Daily Calcs'!K8576/1000000","v":0},0]
[0.1,{"$f":"'Daily Calcs'!J8577/1000000","v":8.3494788473329252E-23},{"$f":"'Daily Calcs'!K8577/1000000","v":8.3494788473329252E-23},8.3494788473329252E-23]
[0.1,{"$f":"'Daily Calcs'!J8578/1000000","v":0},{"$f":"'Daily Calcs'!K8578/1000000","v":0},0]
[0.1,{"$f":"'Daily Calcs'!J8579/1000000","v":0},{"$f":"'Daily Calcs'!K8579/1000000","v":0},{"$f":"B8583","v":0}]
[0.1,{"$f":"'Daily Calcs'!J8580/1000000","v":0},{"$f":"'Daily Calcs'!K8580/1000000","v":0},0]
[0.1,{"$f":"'Daily Calcs'!J8581/1000000","v":0},{"$f":"'Daily Calcs'!K8581/1000000","v":0},0]
[0.1,{"$f":"'Daily Calcs'!J8582/1000000","v":0},{"$f":"'Daily Calcs'!K8582/1000000","v":0},0]
[0.1,{"$f":"'Daily Calcs'!J8583/1000000","v":0},{"$f":"'Daily Calcs'!K8583/1000000","v":0},0]
[0.1,{"$f":"'Daily Calcs'!J8584/1000000","v":0},{"$f":"'Daily Calcs'!K8584/1000000","v":0},0]
[0.1,{"$f":"'Daily Calcs'!J8585/1000000","v":1.5320359528325222E-23},{"$f":"'Daily Calcs'!K8585/1000000","v":1.5320359528325222E-23},1.5320359528325222E-23]
[0.1,{"$f":"'Daily Calcs'!J8586/1000000","v":0},{"$f":"'Daily Calcs'!K8586/1000000","v":0},0]
[0.1,{"$f":"'Daily Calcs'!J8587/1000000","v":0},{"$f":"'Daily Calcs'!K8587/1000000","v":0},0]
[0.1,{"$f":"'Daily Calcs'!J8588/1000000","v":0},{"$f":"'Daily Calcs'!K8588/1000000","v":0},0]
[0.1,{"$f":"'Daily Calcs'!J8589/1000000","v":8.0502405728991825E-24},{"$f":"'Daily Calcs'!K8589/1000000","v":8.0502405728991825E-24},8.0502405728991825E-24]
[0.1,{"$f":"'Daily Calcs'!J8590/1000000","v":0},{"$f":"'Daily Calcs'!K8590/1000000","v":0},0]
[0.1,{"$f":"'Daily Calcs'!J8591/1000000","v":0},{"$f":"'Daily Calcs'!K8591/1000000","v":0},0]
[0.1,{"$f":"'Daily Calcs'!J8592/1000000","v":0},{"$f":"'Daily Calcs'!K8592/1000000","v":0},0]
[0.1,{"$f":"'Daily Calcs'!J8593/1000000","v":0},{"$f":"'Daily Calcs'!K8593/1000000","v":0},0]
[0.1,{"$f":"'Daily Calcs'!J8594/1000000","v":0},{"$f":"'Daily Calcs'!K8594/1000000","v":0},0]
[0.1,{"$f":"'Daily Calcs'!J8595/1000000","v":0},{"$f":"'Daily Calcs'!K8595/1000000","v":0},0]
[0.1,{"$f":"'Daily Calcs'!J8596/1000000","v":3.1175624526873583E-24},{"$f":"'Daily Calcs'!K8596/1000000","v":3.1175624526873583E-24},3.1175624526873583E-24]
[0.1,{"$f":"'Daily Calcs'!J8597/1000000","v":1.9829477463103312E-24},{"$f":"'Daily Calcs'!K8597/1000000","v":1.9829477463103312E-24},1.9829477463103312E-24]
[0.1,{"$f":"'Daily Calcs'!J8598/1000000","v":1.8069244604316544E-5},{"$f":"'Daily Calcs'!K8598/1000000","v":1.8315112410071939E-5},1.8069244604316544E-5]
[0.1,{"$f":"'Daily Calcs'!J8599/1000000","v":1.3297363796133568E-5},{"$f":"'Daily Calcs'!K8599/1000000","v":1.3448625659050966E-5},1.3297363796133568E-5]
[0.1,{"$f":"'Daily Calcs'!J8600/1000000","v":0},{"$f":"'Daily Calcs'!K8600/1000000","v":0},0]
[0.1,{"$f":"'Daily Calcs'!J8601/1000000","v":9.3955232359959098E-6},{"$f":"'Daily Calcs'!K8601/1000000","v":9.430857478316858E-6},9.3955232359959098E-6]
[0.1,{"$f":"'Daily Calcs'!J8602/1000000","v":0},{"$f":"'Daily Calcs'!K8602/1000000","v":0},0]
[0.1,{"$f":"'Daily Calcs'!J8603/1000000","v":0},{"$f":"'Daily Calcs'!K8603/1000000","v":0},0]
[0.1,{"$f":"'Daily Calcs'!J8604/1000000","v":0},{"$f":"'Daily Calcs'!K8604/1000000","v":0},0]
[0.1,{"$f":"'Daily Calcs'!J8605/1000000","v":0},{"$f":"'Daily Calcs'!K8605/1000000","v":0},0]
[0.1,{"$f":"'Daily Calcs'!J8606/1000000","v":7.4852586061661151E-6},{"$f":"'Daily Calcs'!K8606/1000000","v":7.4897084854270797E-6},7.4852586061661151E-6]
[0.1,{"$f":"'Daily Calcs'!J8607/1000000","v":0},{"$f":"'Daily Calcs'!K8607/1000000","v":0},0]
[0.1,{"$f":"'Daily Calcs'!J8608/1000000","v":0},{"$f":"'Daily Calcs'!K8608/1000000","v":0},0]
[0.1,{"$f":"'Daily Calcs'!J8609/1000000","v":0},{"$f":"'Daily Calcs'!K8609/1000000","v":0},0]
[0.1,{"$f":"'Daily Calcs'!J8610/1000000","v":1.7191320704017198E-5},{"$f":"'Daily Calcs'!K8610/1000000","v":1.7328489856240766E-5},1.7191320704017198E-5]
[0.1,{"$f":"'Daily Calcs'!J8611/1000000","v":1.5832635983263598E-5},{"$f":"'Daily Calcs'!K8611/1000000","v":1.5885734728033474E-5},1.5832635983263598E-5]
[0.1,{"$f":"'Daily Calcs'!J8612/1000000","v":1.2991030736135926E-5},{"$f":"'Daily Calcs'!K8612/1000000","v":1.3030196521675722E-5},1.2991030736135926E-5]
[0.1,{"$f":"'Daily Calcs'!J8613/1000000","v":9.8764777606955411E-6},{"$f":"'Daily Calcs'!K8613/1000000","v":9.8914075173620311E-6},9.8764777606955411E-6]
[0.1,{"$f":"'Daily Calcs'!J8614/1000000","v":7.7724480842351548E-6},{"$f":"'Daily Calcs'!K8614/1000000","v":7.7792809788437156E-6},7.7724480842351548E-6]
[0.1,{"$f":"'Daily Calcs'!J8615/1000000","v":6.5527708273514089E-6},{"$f":"'Daily Calcs'!K8615/1000000","v":6.5556442019771102E-6},6.5527708273514089E-6]
[0.1,{"$f":"'Daily Calcs'!J8616/1000000","v":5.6434000877064755E-6},{"$f":"'Daily Calcs'!K8616/1000000","v":5.6447627539833362E-6},5.6434000877064755E-6]
[0.1,{"$f":"'Daily Calcs'!J8617/1000000","v":0},{"$f":"'Daily Calcs'!K8617/1000000","v":0},0]
[0.1,{"$f":"'Daily Calcs'!J8618/1000000","v":0},{"$f":"'Daily Calcs'!K8618/1000000","v":0},0]
[0.1,{"$f":"'Daily Calcs'!J8619/1000000","v":0},{"$f":"'Daily Calcs'!K8619/1000000","v":0},0]
[0.1,{"$f":"'Daily Calcs'!J8620/1000000","v":0},{"$f":"'Daily Calcs'!K8620/1000000","v":0},0]
[0.1,{"$f":"'Daily Calcs'!J8621/1000000","v":0},{"$f":"'Daily Calcs'!K8621/1000000","v":0},0]
[0.1,{"$f":"'Daily Calcs'!J8622/1000000","v":0},{"$f":"'Daily Calcs'!K8622/1000000","v":0},0]
[0.1,{"$f":"'Daily Calcs'!J8623/1000000","v":0},{"$f":"'Daily Calcs'!K8623/1000000","v":0},0]
[0.1,{"$f":"'Daily Calcs'!J8624/1000000","v":0},{"$f":"'Daily Calcs'!K8624/1000000","v":0},0]
[0.1,{"$f":"'Daily Calcs'!J8625/1000000","v":0},{"$f":"'Daily Calcs'!K8625/1000000","v":0},0]
[0.1,{"$f":"'Daily Calcs'!J8626/1000000","v":0},{"$f":"'Daily Calcs'!K8626/1000000","v":0},0]
[0.1,{"$f":"'Daily Calcs'!J8627/1000000","v":3.3731887565753387E-6},{"$f":"'Daily Calcs'!K8627/1000000","v":3.3733825636557273E-6},3.3731887565753387E-6]
[0.1,{"$f":"'Daily Calcs'!J8628/1000000","v":0},{"$f":"'Daily Calcs'!K8628/1000000","v":0},0]
[0.1,{"$f":"'Daily Calcs'!J8629/1000000","v":0},{"$f":"'Daily Calcs'!K8629/1000000","v":0},0]
[0.1,{"$f":"'Daily Calcs'!J8630/1000000","v":0},{"$f":"'Daily Calcs'!K8630/1000000","v":0},0]
[0.1,{"$f":"'Daily Calcs'!J8631/1000000","v":0},{"$f":"'Daily Calcs'!K8631/1000000","v":0},0]
[0.1,{"$f":"'Daily Calcs'!J8632/1000000","v":0},{"$f":"'Daily Calcs'!K8632/1000000","v":0},0]
[0.1,{"$f":"'Daily Calcs'!J8633/1000000","v":0},{"$f":"'Daily Calcs'!K8633/1000000","v":0},0]
[0.1,{"$f":"'Daily Calcs'!J8634/1000000","v":0},{"$f":"'Daily Calcs'!K8634/1000000","v":0},0]
[0.1,{"$f":"'Daily Calcs'!J8635/1000000","v":0},{"$f":"'Daily Calcs'!K8635/1000000","v":0},0]
[0.1,{"$f":"'Daily Calcs'!J8636/1000000","v":0},{"$f":"'Daily Calcs'!K8636/1000000","v":0},0]
[0.1,{"$f":"'Daily Calcs'!J8637/1000000","v":0},{"$f":"'Daily Calcs'!K8637/1000000","v":0},0]
[0.1,{"$f":"'Daily Calcs'!J8638/1000000","v":0},{"$f":"'Daily Calcs'!K8638/1000000","v":0},0]
[0.1,{"$f":"'Daily Calcs'!J8639/1000000","v":1.3545270672218919E-6},{"$f":"'Daily Calcs'!K8639/1000000","v":1.3545427219512199E-6},1.3545270672218919E-6]
[0.1,{"$f":"'Daily Calcs'!J8640/1000000","v":0},{"$f":"'Daily Calcs'!K8640/1000000","v":0},0]
[0.1,{"$f":"'Daily Calcs'!J8641/1000000","v":0},{"$f":"'Daily Calcs'!K8641/1000000","v":0},0]
[0.1,{"$f":"'Daily Calcs'!J8642/1000000","v":0},{"$f":"'Daily Calcs'!K8642/1000000","v":0},0]
[0.1,{"$f":"'Daily Calcs'!J8643/1000000","v":8.2622707423580802E-7},{"$f":"'Daily Calcs'!K8643/1000000","v":8.262307727510918E-7},{"$f":"B8647","v":8.2622707423580802E-7}]
[0.1,{"$f":"'Daily Calcs'!J8644/1000000","v":0},{"$f":"'Daily Calcs'!K8644/1000000","v":0},0]
[0.1,{"$f":"'Daily Calcs'!J8645/1000000","v":0},{"$f":"'Daily Calcs'!K8645/1000000","v":0},0]
[0.1,{"$f":"'Daily Calcs'!J8646/1000000","v":0},{"$f":"'Daily Calcs'!K8646/1000000","v":0},0]
[0.1,{"$f":"'Daily Calcs'!J8647/1000000","v":0},{"$f":"'Daily Calcs'!K8647/1000000","v":0},0]
[0.1,{"$f":"'Daily Calcs'!J8648/1000000","v":0},{"$f":"'Daily Calcs'!K8648/1000000","v":0},0]
[0.1,{"$f":"'Daily Calcs'!J8649/1000000","v":0},{"$f":"'Daily Calcs'!K8649/1000000","v":0},0]
[0.1,{"$f":"'Daily Calcs'!J8650/1000000","v":0},{"$f":"'Daily Calcs'!K8650/1000000","v":0},0]
[0.1,{"$f":"'Daily Calcs'!J8651/1000000","v":0},{"$f":"'Daily Calcs'!K8651/1000000","v":0},0]
[0.1,{"$f":"'Daily Calcs'!J8652/1000000","v":0},{"$f":"'Daily Calcs'!K8652/1000000","v":0},0]
[0.1,{"$f":"'Daily Calcs'!J8653/1000000","v":0},{"$f":"'Daily Calcs'!K8653/1000000","v":0},0]
[0.1,{"$f":"'Daily Calcs'!J8654/1000000","v":0},{"$f":"'Daily Calcs'!K8654/1000000","v":0},0]
[0.1,{"$f":"'Daily Calcs'!J8655/1000000","v":0},{"$f":"'Daily Calcs'!K8655/1000000","v":0},0]
[0.1,{"$f":"'Daily Calcs'!J8656/1000000","v":0},{"$f":"'Daily Calcs'!K8656/1000000","v":0},0]
[0.1,{"$f":"'Daily Calcs'!J8657/1000000","v":0},{"$f":"'Daily Calcs'!K8657/1000000","v":0},0]
[0.1,{"$f":"'Daily Calcs'!J8658/1000000","v":0},{"$f":"'Daily Calcs'!K8658/1000000","v":0},0]
[0.1,{"$f":"'Daily Calcs'!J8659/1000000","v":0},{"$f":"'Daily Calcs'!K8659/1000000","v":0},0]
[0.1,{"$f":"'Daily Calcs'!J8660/1000000","v":0},{"$f":"'Daily Calcs'!K8660/1000000","v":0},0]
[0.1,{"$f":"'Daily Calcs'!J8661/1000000","v":0},{"$f":"'Daily Calcs'!K8661/1000000","v":0},0]
[0.1,{"$f":"'Daily Calcs'!J8662/1000000","v":0},{"$f":"'Daily Calcs'!K8662/1000000","v":0},0]
[0.1,{"$f":"'Daily Calcs'!J8663/1000000","v":0},{"$f":"'Daily Calcs'!K8663/1000000","v":0},0]
[0.1,{"$f":"'Daily Calcs'!J8664/1000000","v":0},{"$f":"'Daily Calcs'!K8664/1000000","v":0},0]
[0.1,{"$f":"'Daily Calcs'!J8665/1000000","v":0},{"$f":"'Daily Calcs'!K8665/1000000","v":0},0]
[0.1,{"$f":"'Daily Calcs'!J8666/1000000","v":0},{"$f":"'Daily Calcs'!K8666/1000000","v":0},0]
[0.1,{"$f":"'Daily Calcs'!J8667/1000000","v":0},{"$f":"'Daily Calcs'!K8667/1000000","v":0},0]
[0.1,{"$f":"'Daily Calcs'!J8668/1000000","v":0},{"$f":"'Daily Calcs'!K8668/1000000","v":0},0]
[0.1,{"$f":"'Daily Calcs'!J8669/1000000","v":0},{"$f":"'Daily Calcs'!K8669/1000000","v":0},0]
[0.1,{"$f":"'Daily Calcs'!J8670/1000000","v":0},{"$f":"'Daily Calcs'!K8670/1000000","v":0},0]
[0.1,{"$f":"'Daily Calcs'!J8671/1000000","v":0},{"$f":"'Daily Calcs'!K8671/1000000","v":0},0]
[0.1,{"$f":"'Daily Calcs'!J8672/1000000","v":0},{"$f":"'Daily Calcs'!K8672/1000000","v":0},0]
[0.1,{"$f":"'Daily Calcs'!J8673/1000000","v":0},{"$f":"'Daily Calcs'!K8673/1000000","v":0},0]
[0.1,{"$f":"'Daily Calcs'!J8674/1000000","v":0},{"$f":"'Daily Calcs'!K8674/1000000","v":0},0]
[0.1,{"$f":"'Daily Calcs'!J8675/1000000","v":0},{"$f":"'Daily Calcs'!K8675/1000000","v":0},0]
[0.1,{"$f":"'Daily Calcs'!J8676/1000000","v":0},{"$f":"'Daily Calcs'!K8676/1000000","v":0},0]
[0.1,{"$f":"'Daily Calcs'!J8677/1000000","v":0},{"$f":"'Daily Calcs'!K8677/1000000","v":0},0]
[0.1,{"$f":"'Daily Calcs'!J8678/1000000","v":0},{"$f":"'Daily Calcs'!K8678/1000000","v":0},0]
[0.1,{"$f":"'Daily Calcs'!J8679/1000000","v":0},{"$f":"'Daily Calcs'!K8679/1000000","v":0},0]
[0.1,{"$f":"'Daily Calcs'!J8680/1000000","v":0},{"$f":"'Daily Calcs'!K8680/1000000","v":0},0]
[0.1,{"$f":"'Daily Calcs'!J8681/1000000","v":0},{"$f":"'Daily Calcs'!K8681/1000000","v":0},0]
[0.1,{"$f":"'Daily Calcs'!J8682/1000000","v":0},{"$f":"'Daily Calcs'!K8682/1000000","v":0},0]
[0.1,{"$f":"'Daily Calcs'!J8683/1000000","v":0},{"$f":"'Daily Calcs'!K8683/1000000","v":0},0]
[0.1,{"$f":"'Daily Calcs'!J8684/1000000","v":0},{"$f":"'Daily Calcs'!K8684/1000000","v":0},0]
[0.1,{"$f":"'Daily Calcs'!J8685/1000000","v":0},{"$f":"'Daily Calcs'!K8685/1000000","v":0},0]
[0.1,{"$f":"'Daily Calcs'!J8686/1000000","v":0},{"$f":"'Daily Calcs'!K8686/1000000","v":0},0]
[0.1,{"$f":"'Daily Calcs'!J8687/1000000","v":0},{"$f":"'Daily Calcs'!K8687/1000000","v":0},0]
[0.1,{"$f":"'Daily Calcs'!J8688/1000000","v":0},{"$f":"'Daily Calcs'!K8688/1000000","v":0},0]
[0.1,{"$f":"'Daily Calcs'!J8689/1000000","v":0},{"$f":"'Daily Calcs'!K8689/1000000","v":0},0]
[0.1,{"$f":"'Daily Calcs'!J8690/1000000","v":0},{"$f":"'Daily Calcs'!K8690/1000000","v":0},0]
[0.1,{"$f":"'Daily Calcs'!J8691/1000000","v":0},{"$f":"'Daily Calcs'!K8691/1000000","v":0},0]
[0.1,{"$f":"'Daily Calcs'!J8692/1000000","v":0},{"$f":"'Daily Calcs'!K8692/1000000","v":0},0]
[0.1,{"$f":"'Daily Calcs'!J8693/1000000","v":0},{"$f":"'Daily Calcs'!K8693/1000000","v":0},0]
[0.1,{"$f":"'Daily Calcs'!J8694/1000000","v":0},{"$f":"'Daily Calcs'!K8694/1000000","v":0},0]
[0.1,{"$f":"'Daily Calcs'!J8695/1000000","v":0},{"$f":"'Daily Calcs'!K8695/1000000","v":0},0]
[0.1,{"$f":"'Daily Calcs'!J8696/1000000","v":4.9764489043620715E-7},{"$f":"'Daily Calcs'!K8696/1000000","v":4.9764524042596758E-7},4.9764489043620715E-7]
[0.1,{"$f":"'Daily Calcs'!J8697/1000000","v":0},{"$f":"'Daily Calcs'!K8697/1000000","v":0},0]
[0.1,{"$f":"'Daily Calcs'!J8698/1000000","v":0},{"$f":"'Daily Calcs'!K8698/1000000","v":0},0]
[0.1,{"$f":"'Daily Calcs'!J8699/1000000","v":0},{"$f":"'Daily Calcs'!K8699/1000000","v":0},0]
[0.1,{"$f":"'Daily Calcs'!J8700/1000000","v":0},{"$f":"'Daily Calcs'!K8700/1000000","v":0},0]
[0.1,{"$f":"'Daily Calcs'!J8701/1000000","v":0},{"$f":"'Daily Calcs'!K8701/1000000","v":0},0]
[0.1,{"$f":"'Daily Calcs'!J8702/1000000","v":0},{"$f":"'Daily Calcs'!K8702/1000000","v":0},0]
[0.1,{"$f":"'Daily Calcs'!J8703/1000000","v":3.4451035948291131E-7},{"$f":"'Daily Calcs'!K8703/1000000","v":3.4451047866123605E-7},3.4451035948291131E-7]
[0.1,{"$f":"'Daily Calcs'!J8704/1000000","v":2.9718075539568345E-7},{"$f":"'Daily Calcs'!K8704/1000000","v":2.9718082069694244E-7},2.9718075539568345E-7]
[0.1,{"$f":"'Daily Calcs'!J8705/1000000","v":0},{"$f":"'Daily Calcs'!K8705/1000000","v":0},0]
[0.1,{"$f":"'Daily Calcs'!J8706/1000000","v":0},{"$f":"'Daily Calcs'!K8706/1000000","v":0},0]
[0.1,{"$f":"'Daily Calcs'!J8707/1000000","v":0},{"$f":"'Daily Calcs'!K8707/1000000","v":0},{"$f":"B8711","v":0}]
[0.1,{"$f":"'Daily Calcs'!J8708/1000000","v":0},{"$f":"'Daily Calcs'!K8708/1000000","v":0},0]
[0.1,{"$f":"'Daily Calcs'!J8709/1000000","v":0},{"$f":"'Daily Calcs'!K8709/1000000","v":0},0]
[0.1,{"$f":"'Daily Calcs'!J8710/1000000","v":2.5281768986751261E-7},{"$f":"'Daily Calcs'!K8710/1000000","v":2.5281771733159173E-7},2.5281768986751261E-7]
[0.1,{"$f":"'Daily Calcs'!J8711/1000000","v":0},{"$f":"'Daily Calcs'!K8711/1000000","v":0},0]
[0.1,{"$f":"'Daily Calcs'!J8712/1000000","v":0},{"$f":"'Daily Calcs'!K8712/1000000","v":0},0]
[0.1,{"$f":"'Daily Calcs'!J8713/1000000","v":0},{"$f":"'Daily Calcs'!K8713/1000000","v":0},0]
[0.1,{"$f":"'Daily Calcs'!J8714/1000000","v":0},{"$f":"'Daily Calcs'!K8714/1000000","v":0},0]
[0.1,{"$f":"'Daily Calcs'!J8715/1000000","v":0},{"$f":"'Daily Calcs'!K8715/1000000","v":0},0]
[0.1,{"$f":"'Daily Calcs'!J8716/1000000","v":1.9818832947124501E-7},{"$f":"'Daily Calcs'!K8716/1000000","v":1.9818834308405312E-7},1.9818832947124501E-7]
[0.1,{"$f":"'Daily Calcs'!J8717/1000000","v":0},{"$f":"'Daily Calcs'!K8717/1000000","v":0},0]
[0.1,{"$f":"'Daily Calcs'!J8718/1000000","v":0},{"$f":"'Daily Calcs'!K8718/1000000","v":0},0]
[0.1,{"$f":"'Daily Calcs'!J8719/1000000","v":0},{"$f":"'Daily Calcs'!K8719/1000000","v":0},0]
[0.1,{"$f":"'Daily Calcs'!J8720/1000000","v":0},{"$f":"'Daily Calcs'!K8720/1000000","v":0},0]
[0.1,{"$f":"'Daily Calcs'!J8721/1000000","v":0},{"$f":"'Daily Calcs'!K8721/1000000","v":0},0]
[0.1,{"$f":"'Daily Calcs'!J8722/1000000","v":0},{"$f":"'Daily Calcs'!K8722/1000000","v":0},0]
[0.1,{"$f":"'Daily Calcs'!J8723/1000000","v":0},{"$f":"'Daily Calcs'!K8723/1000000","v":0},0]
[0.1,{"$f":"'Daily Calcs'!J8724/1000000","v":0},{"$f":"'Daily Calcs'!K8724/1000000","v":0},0]
[0.1,{"$f":"'Daily Calcs'!J8725/1000000","v":0},{"$f":"'Daily Calcs'!K8725/1000000","v":0},0]
[0.1,{"$f":"'Daily Calcs'!J8726/1000000","v":0},{"$f":"'Daily Calcs'!K8726/1000000","v":0},0]
[0.1,{"$f":"'Daily Calcs'!J8727/1000000","v":0},{"$f":"'Daily Calcs'!K8727/1000000","v":0},0]
[0.1,{"$f":"'Daily Calcs'!J8728/1000000","v":0},{"$f":"'Daily Calcs'!K8728/1000000","v":0},0]
[0.1,{"$f":"'Daily Calcs'!J8729/1000000","v":0},{"$f":"'Daily Calcs'!K8729/1000000","v":0},0]
[0.1,{"$f":"'Daily Calcs'!J8730/1000000","v":0},{"$f":"'Daily Calcs'!K8730/1000000","v":0},0]
[0.1,{"$f":"'Daily Calcs'!J8731/1000000","v":0},{"$f":"'Daily Calcs'!K8731/1000000","v":0},0]
[0.1,{"$f":"'Daily Calcs'!J8732/1000000","v":0},{"$f":"'Daily Calcs'!K8732/1000000","v":0},0]
[0.1,{"$f":"'Daily Calcs'!J8733/1000000","v":1.1719583998239147E-7},{"$f":"'Daily Calcs'!K8733/1000000","v":1.1719584266200775E-7},1.1719583998239147E-7]
[0.1,{"$f":"'Daily Calcs'!J8734/1000000","v":7.9518791012129639E-8},{"$f":"'Daily Calcs'!K8734/1000000","v":7.9518792984688797E-8},7.9518791012129639E-8]
[0.1,{"$f":"'Daily Calcs'!J8735/1000000","v":0},{"$f":"'Daily Calcs'!K8735/1000000","v":0},0]
[0.1,{"$f":"'Daily Calcs'!J8736/1000000","v":6.6838446259103947E-8},{"$f":"'Daily Calcs'!K8736/1000000","v":6.6838446938898696E-8},6.6838446259103947E-8]
[0.1,{"$f":"'Daily Calcs'!J8737/1000000","v":0},{"$f":"'Daily Calcs'!K8737/1000000","v":0},0]
[0.1,{"$f":"'Daily Calcs'!J8738/1000000","v":3.8606873852775499E-8},{"$f":"'Daily Calcs'!K8738/1000000","v":3.8606874251091842E-8},3.8606873852775499E-8]
[0.1,{"$f":"'Daily Calcs'!J8739/1000000","v":0},{"$f":"'Daily Calcs'!K8739/1000000","v":0},0]
[0.1,{"$f":"'Daily Calcs'!J8740/1000000","v":2.736729764646408E-8},{"$f":"'Daily Calcs'!K8740/1000000","v":2.7367297783182616E-8},2.736729764646408E-8]
[0.1,{"$f":"'Daily Calcs'!J8741/1000000","v":1.6372430471584036E-8},{"$f":"'Daily Calcs'!K8741/1000000","v":1.6372430529349453E-8},1.6372430471584036E-8]
[0.1,{"$f":"'Daily Calcs'!J8742/1000000","v":0},{"$f":"'Daily Calcs'!K8742/1000000","v":0},0]
[0.1,{"$f":"'Daily Calcs'!J8743/1000000","v":0},{"$f":"'Daily Calcs'!K8743/1000000","v":0},0]
[0.1,{"$f":"'Daily Calcs'!J8744/1000000","v":0},{"$f":"'Daily Calcs'!K8744/1000000","v":0},0]
[0.1,{"$f":"'Daily Calcs'!J8745/1000000","v":0},{"$f":"'Daily Calcs'!K8745/1000000","v":0},0]
[0.1,{"$f":"'Daily Calcs'!J8746/1000000","v":0},{"$f":"'Daily Calcs'!K8746/1000000","v":0},0]
[0.1,{"$f":"'Daily Calcs'!J8747/1000000","v":0},{"$f":"'Daily Calcs'!K8747/1000000","v":0},0]
[0.1,{"$f":"'Daily Calcs'!J8748/1000000","v":0},{"$f":"'Daily Calcs'!K8748/1000000","v":0},0]
[0.1,{"$f":"'Daily Calcs'!J8749/1000000","v":0},{"$f":"'Daily Calcs'!K8749/1000000","v":0},0]
[0.1,{"$f":"'Daily Calcs'!J8750/1000000","v":0},{"$f":"'Daily Calcs'!K8750/1000000","v":0},0]
[0.1,{"$f":"'Daily Calcs'!J8751/1000000","v":0},{"$f":"'Daily Calcs'!K8751/1000000","v":0},0]
[0.1,{"$f":"'Daily Calcs'!J8752/1000000","v":0},{"$f":"'Daily Calcs'!K8752/1000000","v":0},0]
[0.1,{"$f":"'Daily Calcs'!J8753/1000000","v":0},{"$f":"'Daily Calcs'!K8753/1000000","v":0},0]
[0.1,{"$f":"'Daily Calcs'!J8754/1000000","v":0},{"$f":"'Daily Calcs'!K8754/1000000","v":0},0]
[0.1,{"$f":"'Daily Calcs'!J8755/1000000","v":0},{"$f":"'Daily Calcs'!K8755/1000000","v":0},0]
[0.1,{"$f":"'Daily Calcs'!J8756/1000000","v":0},{"$f":"'Daily Calcs'!K8756/1000000","v":0},0]
[0.1,{"$f":"'Daily Calcs'!J8757/1000000","v":0},{"$f":"'Daily Calcs'!K8757/1000000","v":0},0]
[0.1,{"$f":"'Daily Calcs'!J8758/1000000","v":0},{"$f":"'Daily Calcs'!K8758/1000000","v":0},0]
[0.1,{"$f":"'Daily Calcs'!J8759/1000000","v":0},{"$f":"'Daily Calcs'!K8759/1000000","v":0},0]
[0.1,{"$f":"'Daily Calcs'!J8760/1000000","v":0},{"$f":"'Daily Calcs'!K8760/1000000","v":0},0]
[0.1,{"$f":"'Daily Calcs'!J8761/1000000","v":0},{"$f":"'Daily Calcs'!K8761/1000000","v":0},0]
[0.1,{"$f":"'Daily Calcs'!J8762/1000000","v":0},{"$f":"'Daily Calcs'!K8762/1000000","v":0},0]
[0.1,{"$f":"'Daily Calcs'!J8763/1000000","v":0},{"$f":"'Daily Calcs'!K8763/1000000","v":0},0]
[0.1,{"$f":"'Daily Calcs'!J8764/1000000","v":0},{"$f":"'Daily Calcs'!K8764/1000000","v":0},0]
[0.1,{"$f":"'Daily Calcs'!J8765/1000000","v":0},{"$f":"'Daily Calcs'!K8765/1000000","v":0},0]
[0.1,{"$f":"'Daily Calcs'!J8766/1000000","v":0},{"$f":"'Daily Calcs'!K8766/1000000","v":0},0]
[0.1,{"$f":"'Daily Calcs'!J8767/1000000","v":0},{"$f":"'Daily Calcs'!K8767/1000000","v":0},0]
[0.1,{"$f":"'Daily Calcs'!J8768/1000000","v":0},{"$f":"'Daily Calcs'!K8768/1000000","v":0},0]
[0.1,{"$f":"'Daily Calcs'!J8769/1000000","v":5.4634301559161782E-9},{"$f":"'Daily Calcs'!K8769/1000000","v":5.463430159352016E-9},5.4634301559161782E-9]
[0.1,{"$f":"'Daily Calcs'!J8770/1000000","v":3.1731354179340551E-9},{"$f":"'Daily Calcs'!K8770/1000000","v":3.1731354193705639E-9},3.1731354179340551E-9]
[0.1,{"$f":"'Daily Calcs'!J8771/1000000","v":0},{"$f":"'Daily Calcs'!K8771/1000000","v":0},{"$f":"B8775","v":0}]
[0.1,{"$f":"'Daily Calcs'!J8772/1000000","v":0},{"$f":"'Daily Calcs'!K8772/1000000","v":0},0]
[0.1,{"$f":"'Daily Calcs'!J8773/1000000","v":0},{"$f":"'Daily Calcs'!K8773/1000000","v":0},0]
[0.1,{"$f":"'Daily Calcs'!J8774/1000000","v":0},{"$f":"'Daily Calcs'!K8774/1000000","v":0},0]
[0.1,{"$f":"'Daily Calcs'!J8775/1000000","v":0},{"$f":"'Daily Calcs'!K8775/1000000","v":0},0]
[0.1,{"$f":"'Daily Calcs'!J8776/1000000","v":0},{"$f":"'Daily Calcs'!K8776/1000000","v":0},0]
[0.1,{"$f":"'Daily Calcs'!J8777/1000000","v":0},{"$f":"'Daily Calcs'!K8777/1000000","v":0},0]
[0.1,{"$f":"'Daily Calcs'!J8778/1000000","v":0},{"$f":"'Daily Calcs'!K8778/1000000","v":0},0]
[0.1,{"$f":"'Daily Calcs'!J8779/1000000","v":0},{"$f":"'Daily Calcs'!K8779/1000000","v":0},0]
[0.1,{"$f":"'Daily Calcs'!J8780/1000000","v":0},{"$f":"'Daily Calcs'!K8780/1000000","v":0},0]
[0.1,{"$f":"'Daily Calcs'!J8781/1000000","v":0},{"$f":"'Daily Calcs'!K8781/1000000","v":0},0]
[0.1,{"$f":"'Daily Calcs'!J8782/1000000","v":0},{"$f":"'Daily Calcs'!K8782/1000000","v":0},0]
[0.1,{"$f":"'Daily Calcs'!J8783/1000000","v":0},{"$f":"'Daily Calcs'!K8783/1000000","v":0},0]
[0.1,{"$f":"'Daily Calcs'!J8784/1000000","v":1.3991108337883161E-9},{"$f":"'Daily Calcs'!K8784/1000000","v":1.3991108339129553E-9},1.3991108337883161E-9]
[0.1,{"$f":"'Daily Calcs'!J8785/1000000","v":0},{"$f":"'Daily Calcs'!K8785/1000000","v":0},0]
[0.1,{"$f":"'Daily Calcs'!J8786/1000000","v":0},{"$f":"'Daily Calcs'!K8786/1000000","v":0},0]
[0.1,{"$f":"'Daily Calcs'!J8787/1000000","v":0},{"$f":"'Daily Calcs'!K8787/1000000","v":0},0]
[0.1,{"$f":"'Daily Calcs'!J8788/1000000","v":0},{"$f":"'Daily Calcs'!K8788/1000000","v":0},0]
[0.1,{"$f":"'Daily Calcs'!J8789/1000000","v":0},{"$f":"'Daily Calcs'!K8789/1000000","v":0},0]
[0.1,{"$f":"'Daily Calcs'!J8790/1000000","v":0},{"$f":"'Daily Calcs'!K8790/1000000","v":0},0]
[0.1,{"$f":"'Daily Calcs'!J8791/1000000","v":0},{"$f":"'Daily Calcs'!K8791/1000000","v":0},0]
[0.1,{"$f":"'Daily Calcs'!J8792/1000000","v":0},{"$f":"'Daily Calcs'!K8792/1000000","v":0},0]
[0.1,{"$f":"'Daily Calcs'!J8793/1000000","v":0},{"$f":"'Daily Calcs'!K8793/1000000","v":0},0]
[0.1,{"$f":"'Daily Calcs'!J8794/1000000","v":0},{"$f":"'Daily Calcs'!K8794/1000000","v":0},0]
[0.1,{"$f":"'Daily Calcs'!J8795/1000000","v":0},{"$f":"'Daily Calcs'!K8795/1000000","v":0},0]
[0.1,{"$f":"'Daily Calcs'!J8796/1000000","v":0},{"$f":"'Daily Calcs'!K8796/1000000","v":0},0]
[0.1,{"$f":"'Daily Calcs'!J8797/1000000","v":7.7654933365206474E-10},{"$f":"'Daily Calcs'!K8797/1000000","v":7.7654933367860752E-10},7.7654933365206474E-10]
[0.1,{"$f":"'Daily Calcs'!J8798/1000000","v":4.1550171725610328E-10},{"$f":"'Daily Calcs'!K8798/1000000","v":4.1550171727344103E-10},4.1550171725610328E-10]
[0.1,{"$f":"'Daily Calcs'!J8799/1000000","v":3.1402197802197804E-10},{"$f":"'Daily Calcs'!K8799/1000000","v":3.1402197802785749E-10},3.1402197802197804E-10]
[0.1,{"$f":"'Daily Calcs'!J8800/1000000","v":1.9431304701811521E-10},{"$f":"'Daily Calcs'!K8800/1000000","v":1.9431304702212724E-10},1.9431304701811521E-10]
[0.1,{"$f":"'Daily Calcs'!J8801/1000000","v":0},{"$f":"'Daily Calcs'!K8801/1000000","v":0},0]
[0.1,{"$f":"'Daily Calcs'!J8802/1000000","v":0},{"$f":"'Daily Calcs'!K8802/1000000","v":0},0]
[0.1,{"$f":"'Daily Calcs'!J8803/1000000","v":8.389569226336262E-11},{"$f":"'Daily Calcs'!K8803/1000000","v":8.3895692264554045E-11},8.389569226336262E-11]
[0.1,{"$f":"'Daily Calcs'!J8804/1000000","v":0},{"$f":"'Daily Calcs'!K8804/1000000","v":0},0]
[0.1,{"$f":"'Daily Calcs'!J8805/1000000","v":0},{"$f":"'Daily Calcs'!K8805/1000000","v":0},0]
[0.1,{"$f":"'Daily Calcs'!J8806/1000000","v":0},{"$f":"'Daily Calcs'!K8806/1000000","v":0},0]
[0.1,{"$f":"'Daily Calcs'!J8807/1000000","v":0},{"$f":"'Daily Calcs'!K8807/1000000","v":0},0]
[0.1,{"$f":"'Daily Calcs'!J8808/1000000","v":0},{"$f":"'Daily Calcs'!K8808/1000000","v":0},0]
[0.1,{"$f":"'Daily Calcs'!J8809/1000000","v":4.6549810844892815E-11},{"$f":"'Daily Calcs'!K8809/1000000","v":4.654981084515421E-11},4.6549810844892815E-11]
[0.1,{"$f":"'Daily Calcs'!J8810/1000000","v":0},{"$f":"'Daily Calcs'!K8810/1000000","v":0},0]
[0.1,{"$f":"'Daily Calcs'!J8811/1000000","v":0},{"$f":"'Daily Calcs'!K8811/1000000","v":0},0]
[0.1,{"$f":"'Daily Calcs'!J8812/1000000","v":0},{"$f":"'Daily Calcs'!K8812/1000000","v":0},0]
[0.1,{"$f":"'Daily Calcs'!J8813/1000000","v":0},{"$f":"'Daily Calcs'!K8813/1000000","v":0},0]
[0.1,{"$f":"'Daily Calcs'!J8814/1000000","v":0},{"$f":"'Daily Calcs'!K8814/1000000","v":0},0]
[0.1,{"$f":"'Daily Calcs'!J8815/1000000","v":0},{"$f":"'Daily Calcs'!K8815/1000000","v":0},0]
[0.1,{"$f":"'Daily Calcs'!J8816/1000000","v":0},{"$f":"'Daily Calcs'!K8816/1000000","v":0},0]
[0.1,{"$f":"'Daily Calcs'!J8817/1000000","v":0},{"$f":"'Daily Calcs'!K8817/1000000","v":0},0]
[0.1,{"$f":"'Daily Calcs'!J8818/1000000","v":0},{"$f":"'Daily Calcs'!K8818/1000000","v":0},0]
[0.1,{"$f":"'Daily Calcs'!J8819/1000000","v":0},{"$f":"'Daily Calcs'!K8819/1000000","v":0},0]
[0.1,{"$f":"'Daily Calcs'!J8820/1000000","v":0},{"$f":"'Daily Calcs'!K8820/1000000","v":0},0]
[0.1,{"$f":"'Daily Calcs'!J8821/1000000","v":0},{"$f":"'Daily Calcs'!K8821/1000000","v":0},0]
[0.1,{"$f":"'Daily Calcs'!J8822/1000000","v":0},{"$f":"'Daily Calcs'!K8822/1000000","v":0},0]
[0.1,{"$f":"'Daily Calcs'!J8823/1000000","v":1.2199459149389496E-11},{"$f":"'Daily Calcs'!K8823/1000000","v":1.2199459149419289E-11},1.2199459149389496E-11]
[0.1,{"$f":"'Daily Calcs'!J8824/1000000","v":0},{"$f":"'Daily Calcs'!K8824/1000000","v":0},0]
[0.1,{"$f":"'Daily Calcs'!J8825/1000000","v":0},{"$f":"'Daily Calcs'!K8825/1000000","v":0},0]
[0.1,{"$f":"'Daily Calcs'!J8826/1000000","v":0},{"$f":"'Daily Calcs'!K8826/1000000","v":0},0]
[0.1,{"$f":"'Daily Calcs'!J8827/1000000","v":0},{"$f":"'Daily Calcs'!K8827/1000000","v":0},0]
[0.1,{"$f":"'Daily Calcs'!J8828/1000000","v":0},{"$f":"'Daily Calcs'!K8828/1000000","v":0},0]
[0.1,{"$f":"'Daily Calcs'!J8829/1000000","v":0},{"$f":"'Daily Calcs'!K8829/1000000","v":0},0]
[0.1,{"$f":"'Daily Calcs'!J8830/1000000","v":0},{"$f":"'Daily Calcs'!K8830/1000000","v":0},0]
[0.1,{"$f":"'Daily Calcs'!J8831/1000000","v":0},{"$f":"'Daily Calcs'!K8831/1000000","v":0},0]
[0.1,{"$f":"'Daily Calcs'!J8832/1000000","v":0},{"$f":"'Daily Calcs'!K8832/1000000","v":0},0]
[0.1,{"$f":"'Daily Calcs'!J8833/1000000","v":0},{"$f":"'Daily Calcs'!K8833/1000000","v":0},0]
[0.1,{"$f":"'Daily Calcs'!J8834/1000000","v":0},{"$f":"'Daily Calcs'!K8834/1000000","v":0},0]
[0.1,{"$f":"'Daily Calcs'!J8835/1000000","v":0},{"$f":"'Daily Calcs'!K8835/1000000","v":0},{"$f":"B8839","v":0}]
[0.1,{"$f":"'Daily Calcs'!J8836/1000000","v":0},{"$f":"'Daily Calcs'!K8836/1000000","v":0},0]
[0.1,{"$f":"'Daily Calcs'!J8837/1000000","v":0},{"$f":"'Daily Calcs'!K8837/1000000","v":0},0]
[0.1,{"$f":"'Daily Calcs'!J8838/1000000","v":0},{"$f":"'Daily Calcs'!K8838/1000000","v":0},0]
[0.1,{"$f":"'Daily Calcs'!J8839/1000000","v":0},{"$f":"'Daily Calcs'!K8839/1000000","v":0},0]
[0.1,{"$f":"'Daily Calcs'!J8840/1000000","v":0},{"$f":"'Daily Calcs'!K8840/1000000","v":0},0]
[0.1,{"$f":"'Daily Calcs'!J8841/1000000","v":0},{"$f":"'Daily Calcs'!K8841/1000000","v":0},0]
[0.1,{"$f":"'Daily Calcs'!J8842/1000000","v":0},{"$f":"'Daily Calcs'!K8842/1000000","v":0},0]
[0.1,{"$f":"'Daily Calcs'!J8843/1000000","v":0},{"$f":"'Daily Calcs'!K8843/1000000","v":0},0]
[0.1,{"$f":"'Daily Calcs'!J8844/1000000","v":0},{"$f":"'Daily Calcs'!K8844/1000000","v":0},0]
[0.1,{"$f":"'Daily Calcs'!J8845/1000000","v":0},{"$f":"'Daily Calcs'!K8845/1000000","v":0},0]
[0.1,{"$f":"'Daily Calcs'!J8846/1000000","v":0},{"$f":"'Daily Calcs'!K8846/1000000","v":0},0]
[0.1,{"$f":"'Daily Calcs'!J8847/1000000","v":0},{"$f":"'Daily Calcs'!K8847/1000000","v":0},0]
[0.1,{"$f":"'Daily Calcs'!J8848/1000000","v":2.4778080506240108E-12},{"$f":"'Daily Calcs'!K8848/1000000","v":2.4778080506254168E-12},2.4778080506240108E-12]
[0.1,{"$f":"'Daily Calcs'!J8849/1000000","v":0},{"$f":"'Daily Calcs'!K8849/1000000","v":0},0]
[0.1,{"$f":"'Daily Calcs'!J8850/1000000","v":0},{"$f":"'Daily Calcs'!K8850/1000000","v":0},0]
[0.1,{"$f":"'Daily Calcs'!J8851/1000000","v":0},{"$f":"'Daily Calcs'!K8851/1000000","v":0},0]
[0.1,{"$f":"'Daily Calcs'!J8852/1000000","v":0},{"$f":"'Daily Calcs'!K8852/1000000","v":0},0]
[0.1,{"$f":"'Daily Calcs'!J8853/1000000","v":0},{"$f":"'Daily Calcs'!K8853/1000000","v":0},0]
[0.1,{"$f":"'Daily Calcs'!J8854/1000000","v":0},{"$f":"'Daily Calcs'!K8854/1000000","v":0},0]
[0.1,{"$f":"'Daily Calcs'!J8855/1000000","v":0},{"$f":"'Daily Calcs'!K8855/1000000","v":0},0]
[0.1,{"$f":"'Daily Calcs'!J8856/1000000","v":0},{"$f":"'Daily Calcs'!K8856/1000000","v":0},0]
[0.1,{"$f":"'Daily Calcs'!J8857/1000000","v":0},{"$f":"'Daily Calcs'!K8857/1000000","v":0},0]
[0.1,{"$f":"'Daily Calcs'!J8858/1000000","v":0},{"$f":"'Daily Calcs'!K8858/1000000","v":0},0]
[0.1,{"$f":"'Daily Calcs'!J8859/1000000","v":0},{"$f":"'Daily Calcs'!K8859/1000000","v":0},0]
[0.1,{"$f":"'Daily Calcs'!J8860/1000000","v":0},{"$f":"'Daily Calcs'!K8860/1000000","v":0},0]
[0.1,{"$f":"'Daily Calcs'!J8861/1000000","v":0},{"$f":"'Daily Calcs'!K8861/1000000","v":0},0]
[0.1,{"$f":"'Daily Calcs'!J8862/1000000","v":5.7862591518341994E-13},{"$f":"'Daily Calcs'!K8862/1000000","v":5.7862591518349588E-13},5.7862591518341994E-13]
[0.1,{"$f":"'Daily Calcs'!J8863/1000000","v":0},{"$f":"'Daily Calcs'!K8863/1000000","v":0},0]
[0.1,{"$f":"'Daily Calcs'!J8864/1000000","v":0},{"$f":"'Daily Calcs'!K8864/1000000","v":0},0]
[0.1,{"$f":"'Daily Calcs'!J8865/1000000","v":0},{"$f":"'Daily Calcs'!K8865/1000000","v":0},0]
[0.1,{"$f":"'Daily Calcs'!J8866/1000000","v":0},{"$f":"'Daily Calcs'!K8866/1000000","v":0},0]
[0.1,{"$f":"'Daily Calcs'!J8867/1000000","v":0},{"$f":"'Daily Calcs'!K8867/1000000","v":0},0]
[0.1,{"$f":"'Daily Calcs'!J8868/1000000","v":0},{"$f":"'Daily Calcs'!K8868/1000000","v":0},0]
[0.1,{"$f":"'Daily Calcs'!J8869/1000000","v":0},{"$f":"'Daily Calcs'!K8869/1000000","v":0},0]
[0.1,{"$f":"'Daily Calcs'!J8870/1000000","v":0},{"$f":"'Daily Calcs'!K8870/1000000","v":0},0]
[0.1,{"$f":"'Daily Calcs'!J8871/1000000","v":0},{"$f":"'Daily Calcs'!K8871/1000000","v":0},0]
[0.1,{"$f":"'Daily Calcs'!J8872/1000000","v":2.6473777665039008E-13},{"$f":"'Daily Calcs'!K8872/1000000","v":2.6473777665041093E-13},2.6473777665039008E-13]
[0.1,{"$f":"'Daily Calcs'!J8873/1000000","v":0},{"$f":"'Daily Calcs'!K8873/1000000","v":0},0]
[0.1,{"$f":"'Daily Calcs'!J8874/1000000","v":0},{"$f":"'Daily Calcs'!K8874/1000000","v":0},0]
[0.1,{"$f":"'Daily Calcs'!J8875/1000000","v":0},{"$f":"'Daily Calcs'!K8875/1000000","v":0},0]
[0.1,{"$f":"'Daily Calcs'!J8876/1000000","v":0},{"$f":"'Daily Calcs'!K8876/1000000","v":0},0]
[0.1,{"$f":"'Daily Calcs'!J8877/1000000","v":0},{"$f":"'Daily Calcs'!K8877/1000000","v":0},0]
[0.1,{"$f":"'Daily Calcs'!J8878/1000000","v":0},{"$f":"'Daily Calcs'!K8878/1000000","v":0},0]
[0.1,{"$f":"'Daily Calcs'!J8879/1000000","v":0},{"$f":"'Daily Calcs'!K8879/1000000","v":0},0]
[0.1,{"$f":"'Daily Calcs'!J8880/1000000","v":0},{"$f":"'Daily Calcs'!K8880/1000000","v":0},0]
[0.1,{"$f":"'Daily Calcs'!J8881/1000000","v":1.1545729544011651E-13},{"$f":"'Daily Calcs'!K8881/1000000","v":1.1545729544012224E-13},1.1545729544011651E-13]
[0.1,{"$f":"'Daily Calcs'!J8882/1000000","v":0},{"$f":"'Daily Calcs'!K8882/1000000","v":0},0]
[0.1,{"$f":"'Daily Calcs'!J8883/1000000","v":0},{"$f":"'Daily Calcs'!K8883/1000000","v":0},0]
[0.1,{"$f":"'Daily Calcs'!J8884/1000000","v":0},{"$f":"'Daily Calcs'!K8884/1000000","v":0},0]
[0.1,{"$f":"'Daily Calcs'!J8885/1000000","v":5.486314608142652E-14},{"$f":"'Daily Calcs'!K8885/1000000","v":5.4863146081428615E-14},5.486314608142652E-14]
[0.1,{"$f":"'Daily Calcs'!J8886/1000000","v":0},{"$f":"'Daily Calcs'!K8886/1000000","v":0},0]
[0.1,{"$f":"'Daily Calcs'!J8887/1000000","v":0},{"$f":"'Daily Calcs'!K8887/1000000","v":0},0]
[0.1,{"$f":"'Daily Calcs'!J8888/1000000","v":0},{"$f":"'Daily Calcs'!K8888/1000000","v":0},0]
[0.1,{"$f":"'Daily Calcs'!J8889/1000000","v":1.800956470136489E-14},{"$f":"'Daily Calcs'!K8889/1000000","v":1.8009564701365594E-14},1.800956470136489E-14]
[0.1,{"$f":"'Daily Calcs'!J8890/1000000","v":0},{"$f":"'Daily Calcs'!K8890/1000000","v":0},0]
[0.1,{"$f":"'Daily Calcs'!J8891/1000000","v":0},{"$f":"'Daily Calcs'!K8891/1000000","v":0},0]
[0.1,{"$f":"'Daily Calcs'!J8892/1000000","v":0},{"$f":"'Daily Calcs'!K8892/1000000","v":0},0]
[0.1,{"$f":"'Daily Calcs'!J8893/1000000","v":0},{"$f":"'Daily Calcs'!K8893/1000000","v":0},0]
[0.1,{"$f":"'Daily Calcs'!J8894/1000000","v":1.0440180586907449E-14},{"$f":"'Daily Calcs'!K8894/1000000","v":1.044018058690758E-14},1.0440180586907449E-14]
[0.1,{"$f":"'Daily Calcs'!J8895/1000000","v":5.008323234475504E-15},{"$f":"'Daily Calcs'!K8895/1000000","v":5.0083232344755916E-15},5.008323234475504E-15]
[0.1,{"$f":"'Daily Calcs'!J8896/1000000","v":3.956459435626102E-15},{"$f":"'Daily Calcs'!K8896/1000000","v":3.9564594356261344E-15},3.956459435626102E-15]
[0.1,{"$f":"'Daily Calcs'!J8897/1000000","v":0},{"$f":"'Daily Calcs'!K8897/1000000","v":0},0]
[0.1,{"$f":"'Daily Calcs'!J8898/1000000","v":0},{"$f":"'Daily Calcs'!K8898/1000000","v":0},0]
[0.1,{"$f":"'Daily Calcs'!J8899/1000000","v":0},{"$f":"'Daily Calcs'!K8899/1000000","v":0},{"$f":"B8903","v":0}]
[0.1,{"$f":"'Daily Calcs'!J8900/1000000","v":2.0770851234858774E-15},{"$f":"'Daily Calcs'!K8900/1000000","v":2.0770851234858893E-15},2.0770851234858774E-15]
[0.1,{"$f":"'Daily Calcs'!J8901/1000000","v":0},{"$f":"'Daily Calcs'!K8901/1000000","v":0},0]
[0.1,{"$f":"'Daily Calcs'!J8902/1000000","v":0},{"$f":"'Daily Calcs'!K8902/1000000","v":0},0]
[0.1,{"$f":"'Daily Calcs'!J8903/1000000","v":0},{"$f":"'Daily Calcs'!K8903/1000000","v":0},0]
[0.1,{"$f":"'Daily Calcs'!J8904/1000000","v":0},{"$f":"'Daily Calcs'!K8904/1000000","v":0},0]
[0.1,{"$f":"'Daily Calcs'!J8905/1000000","v":0},{"$f":"'Daily Calcs'!K8905/1000000","v":0},0]
[0.1,{"$f":"'Daily Calcs'!J8906/1000000","v":0},{"$f":"'Daily Calcs'!K8906/1000000","v":0},0]
[0.1,{"$f":"'Daily Calcs'!J8907/1000000","v":0},{"$f":"'Daily Calcs'!K8907/1000000","v":0},0]
[0.1,{"$f":"'Daily Calcs'!J8908/1000000","v":0},{"$f":"'Daily Calcs'!K8908/1000000","v":0},0]
[0.1,{"$f":"'Daily Calcs'!J8909/1000000","v":0},{"$f":"'Daily Calcs'!K8909/1000000","v":0},0]
[0.1,{"$f":"'Daily Calcs'!J8910/1000000","v":0},{"$f":"'Daily Calcs'!K8910/1000000","v":0},0]
[0.1,{"$f":"'Daily Calcs'!J8911/1000000","v":0},{"$f":"'Daily Calcs'!K8911/1000000","v":0},0]
[0.1,{"$f":"'Daily Calcs'!J8912/1000000","v":0},{"$f":"'Daily Calcs'!K8912/1000000","v":0},0]
[0.1,{"$f":"'Daily Calcs'!J8913/1000000","v":0},{"$f":"'Daily Calcs'!K8913/1000000","v":0},0]
[0.1,{"$f":"'Daily Calcs'!J8914/1000000","v":0},{"$f":"'Daily Calcs'!K8914/1000000","v":0},0]
[0.1,{"$f":"'Daily Calcs'!J8915/1000000","v":9.557672502574665E-16},{"$f":"'Daily Calcs'!K8915/1000000","v":9.5576725025746827E-16},9.557672502574665E-16]
[0.1,{"$f":"'Daily Calcs'!J8916/1000000","v":6.4504951924465098E-16},{"$f":"'Daily Calcs'!K8916/1000000","v":6.4504951924465216E-16},6.4504951924465098E-16]
[0.1,{"$f":"'Daily Calcs'!J8917/1000000","v":0},{"$f":"'Daily Calcs'!K8917/1000000","v":0},0]
[0.1,{"$f":"'Daily Calcs'!J8918/1000000","v":0},{"$f":"'Daily Calcs'!K8918/1000000","v":0},0]
[0.1,{"$f":"'Daily Calcs'!J8919/1000000","v":0},{"$f":"'Daily Calcs'!K8919/1000000","v":0},0]
[0.1,{"$f":"'Daily Calcs'!J8920/1000000","v":0},{"$f":"'Daily Calcs'!K8920/1000000","v":0},0]
[0.1,{"$f":"'Daily Calcs'!J8921/1000000","v":0},{"$f":"'Daily Calcs'!K8921/1000000","v":0},0]
[0.1,{"$f":"'Daily Calcs'!J8922/1000000","v":0},{"$f":"'Daily Calcs'!K8922/1000000","v":0},0]
[0.1,{"$f":"'Daily Calcs'!J8923/1000000","v":0},{"$f":"'Daily Calcs'!K8923/1000000","v":0},0]
[0.1,{"$f":"'Daily Calcs'!J8924/1000000","v":0},{"$f":"'Daily Calcs'!K8924/1000000","v":0},0]
[0.1,{"$f":"'Daily Calcs'!J8925/1000000","v":2.4969474245747143E-16},{"$f":"'Daily Calcs'!K8925/1000000","v":2.4969474245747163E-16},2.4969474245747143E-16]
[0.1,{"$f":"'Daily Calcs'!J8926/1000000","v":0},{"$f":"'Daily Calcs'!K8926/1000000","v":0},0]
[0.1,{"$f":"'Daily Calcs'!J8927/1000000","v":0},{"$f":"'Daily Calcs'!K8927/1000000","v":0},0]
[0.1,{"$f":"'Daily Calcs'!J8928/1000000","v":0},{"$f":"'Daily Calcs'!K8928/1000000","v":0},0]
[0.1,{"$f":"'Daily Calcs'!J8929/1000000","v":0},{"$f":"'Daily Calcs'!K8929/1000000","v":0},0]
[0.1,{"$f":"'Daily Calcs'!J8930/1000000","v":1.2455372616984401E-16},{"$f":"'Daily Calcs'!K8930/1000000","v":1.2455372616984406E-16},1.2455372616984401E-16]
[0.1,{"$f":"'Daily Calcs'!J8931/1000000","v":0},{"$f":"'Daily Calcs'!K8931/1000000","v":0},0]
[0.1,{"$f":"'Daily Calcs'!J8932/1000000","v":0},{"$f":"'Daily Calcs'!K8932/1000000","v":0},0]
[0.1,{"$f":"'Daily Calcs'!J8933/1000000","v":7.113387307818123E-17},{"$f":"'Daily Calcs'!K8933/1000000","v":7.1133873078181243E-17},7.113387307818123E-17]
[0.1,{"$f":"'Daily Calcs'!J8934/1000000","v":0},{"$f":"'Daily Calcs'!K8934/1000000","v":0},0]
[0.1,{"$f":"'Daily Calcs'!J8935/1000000","v":0},{"$f":"'Daily Calcs'!K8935/1000000","v":0},0]
[0.1,{"$f":"'Daily Calcs'!J8936/1000000","v":0},{"$f":"'Daily Calcs'!K8936/1000000","v":0},0]
[0.1,{"$f":"'Daily Calcs'!J8937/1000000","v":0},{"$f":"'Daily Calcs'!K8937/1000000","v":0},0]
[0.1,{"$f":"'Daily Calcs'!J8938/1000000","v":0},{"$f":"'Daily Calcs'!K8938/1000000","v":0},0]
[0.1,{"$f":"'Daily Calcs'!J8939/1000000","v":0},{"$f":"'Daily Calcs'!K8939/1000000","v":0},0]
[0.1,{"$f":"'Daily Calcs'!J8940/1000000","v":0},{"$f":"'Daily Calcs'!K8940/1000000","v":0},0]
[0.1,{"$f":"'Daily Calcs'!J8941/1000000","v":0},{"$f":"'Daily Calcs'!K8941/1000000","v":0},0]
[0.1,{"$f":"'Daily Calcs'!J8942/1000000","v":0},{"$f":"'Daily Calcs'!K8942/1000000","v":0},0]
[0.1,{"$f":"'Daily Calcs'!J8943/1000000","v":0},{"$f":"'Daily Calcs'!K8943/1000000","v":0},0]
[0.1,{"$f":"'Daily Calcs'!J8944/1000000","v":0},{"$f":"'Daily Calcs'!K8944/1000000","v":0},0]
[0.1,{"$f":"'Daily Calcs'!J8945/1000000","v":0},{"$f":"'Daily Calcs'!K8945/1000000","v":0},0]
[0.1,{"$f":"'Daily Calcs'!J8946/1000000","v":0},{"$f":"'Daily Calcs'!K8946/1000000","v":0},0]
[0.1,{"$f":"'Daily Calcs'!J8947/1000000","v":0},{"$f":"'Daily Calcs'!K8947/1000000","v":0},0]
[0.1,{"$f":"'Daily Calcs'!J8948/1000000","v":0},{"$f":"'Daily Calcs'!K8948/1000000","v":0},0]
[0.1,{"$f":"'Daily Calcs'!J8949/1000000","v":0},{"$f":"'Daily Calcs'!K8949/1000000","v":0},0]
[0.1,{"$f":"'Daily Calcs'!J8950/1000000","v":0},{"$f":"'Daily Calcs'!K8950/1000000","v":0},0]
[0.1,{"$f":"'Daily Calcs'!J8951/1000000","v":0},{"$f":"'Daily Calcs'!K8951/1000000","v":0},0]
[0.1,{"$f":"'Daily Calcs'!J8952/1000000","v":0},{"$f":"'Daily Calcs'!K8952/1000000","v":0},0]
[0.1,{"$f":"'Daily Calcs'!J8953/1000000","v":1.3721187691608949E-17},{"$f":"'Daily Calcs'!K8953/1000000","v":1.3721187691608949E-17},1.3721187691608949E-17]
[0.1,{"$f":"'Daily Calcs'!J8954/1000000","v":6.177445032485693E-18},{"$f":"'Daily Calcs'!K8954/1000000","v":6.177445032485693E-18},6.177445032485693E-18]
[0.1,{"$f":"'Daily Calcs'!J8955/1000000","v":0},{"$f":"'Daily Calcs'!K8955/1000000","v":0},0]
[0.1,{"$f":"'Daily Calcs'!J8956/1000000","v":0},{"$f":"'Daily Calcs'!K8956/1000000","v":0},0]
[0.1,{"$f":"'Daily Calcs'!J8957/1000000","v":0},{"$f":"'Daily Calcs'!K8957/1000000","v":0},0]
[0.1,{"$f":"'Daily Calcs'!J8958/1000000","v":0},{"$f":"'Daily Calcs'!K8958/1000000","v":0},0]
[0.1,{"$f":"'Daily Calcs'!J8959/1000000","v":0},{"$f":"'Daily Calcs'!K8959/1000000","v":0},0]
[0.1,{"$f":"'Daily Calcs'!J8960/1000000","v":0},{"$f":"'Daily Calcs'!K8960/1000000","v":0},0]
[0.1,{"$f":"'Daily Calcs'!J8961/1000000","v":0},{"$f":"'Daily Calcs'!K8961/1000000","v":0},0]
[0.1,{"$f":"'Daily Calcs'!J8962/1000000","v":3.1474546065036026E-18},{"$f":"'Daily Calcs'!K8962/1000000","v":3.1474546065036026E-18},3.1474546065036026E-18]
[0.1,{"$f":"'Daily Calcs'!J8963/1000000","v":1.4120284088047146E-5},{"$f":"'Daily Calcs'!K8963/1000000","v":1.4325683775751773E-5},{"$f":"B8967","v":1.4120284088047146E-5}]
[0.1,{"$f":"'Daily Calcs'!J8964/1000000","v":0},{"$f":"'Daily Calcs'!K8964/1000000","v":0},0]
[0.1,{"$f":"'Daily Calcs'!J8965/1000000","v":0},{"$f":"'Daily Calcs'!K8965/1000000","v":0},0]
[0.1,{"$f":"'Daily Calcs'!J8966/1000000","v":0},{"$f":"'Daily Calcs'!K8966/1000000","v":0},0]
[0.1,{"$f":"'Daily Calcs'!J8967/1000000","v":0},{"$f":"'Daily Calcs'!K8967/1000000","v":0},0]
[0.1,{"$f":"'Daily Calcs'!J8968/1000000","v":0},{"$f":"'Daily Calcs'!K8968/1000000","v":0},0]
[0.1,{"$f":"'Daily Calcs'!J8969/1000000","v":0},{"$f":"'Daily Calcs'!K8969/1000000","v":0},0]
[0.1,{"$f":"'Daily Calcs'!J8970/1000000","v":0},{"$f":"'Daily Calcs'!K8970/1000000","v":0},0]
[0.1,{"$f":"'Daily Calcs'!J8971/1000000","v":8.2808636888083068E-6},{"$f":"'Daily Calcs'!K8971/1000000","v":8.3067166639195657E-6},8.2808636888083068E-6]
[0.1,{"$f":"'Daily Calcs'!J8972/1000000","v":7.3513567813955833E-6},{"$f":"'Daily Calcs'!K8972/1000000","v":7.3633764456220098E-6},7.3513567813955833E-6]
[0.1,{"$f":"'Daily Calcs'!J8973/1000000","v":2.2319869410067571E-5},{"$f":"'Daily Calcs'!K8973/1000000","v":2.2615234226710197E-5},2.2319869410067571E-5]
[0.1,{"$f":"'Daily Calcs'!J8974/1000000","v":1.7737155113580969E-5},{"$f":"'Daily Calcs'!K8974/1000000","v":1.7857277956517498E-5},1.7737155113580969E-5]
[0.1,{"$f":"'Daily Calcs'!J8975/1000000","v":1.5013482407102929E-5},{"$f":"'Daily Calcs'!K8975/1000000","v":1.5063551463334427E-5},1.5013482407102929E-5]
[0.1,{"$f":"'Daily Calcs'!J8976/1000000","v":1.0981866699011462E-5},{"$f":"'Daily Calcs'!K8976/1000000","v":1.1000661653223358E-5},1.0981866699011462E-5]
[0.1,{"$f":"'Daily Calcs'!J8977/1000000","v":9.102979348999609E-6},{"$f":"'Daily Calcs'!K8977/1000000","v":9.1102278731077572E-6},9.102979348999609E-6]
[0.1,{"$f":"'Daily Calcs'!J8978/1000000","v":0},{"$f":"'Daily Calcs'!K8978/1000000","v":0},0]
[0.1,{"$f":"'Daily Calcs'!J8979/1000000","v":0},{"$f":"'Daily Calcs'!K8979/1000000","v":0},0]
[0.1,{"$f":"'Daily Calcs'!J8980/1000000","v":7.8073988699998733E-6},{"$f":"'Daily Calcs'!K8980/1000000","v":7.8102045776280006E-6},7.8073988699998733E-6]
[0.1,{"$f":"'Daily Calcs'!J8981/1000000","v":0},{"$f":"'Daily Calcs'!K8981/1000000","v":0},0]
[0.1,{"$f":"'Daily Calcs'!J8982/1000000","v":0},{"$f":"'Daily Calcs'!K8982/1000000","v":0},0]
[0.1,{"$f":"'Daily Calcs'!J8983/1000000","v":0},{"$f":"'Daily Calcs'!K8983/1000000","v":0},0]
[0.1,{"$f":"'Daily Calcs'!J8984/1000000","v":0},{"$f":"'Daily Calcs'!K8984/1000000","v":0},0]
[0.1,{"$f":"'Daily Calcs'!J8985/1000000","v":0},{"$f":"'Daily Calcs'!K8985/1000000","v":0},0]
[0.1,{"$f":"'Daily Calcs'!J8986/1000000","v":0},{"$f":"'Daily Calcs'!K8986/1000000","v":0},0]
[0.1,{"$f":"'Daily Calcs'!J8987/1000000","v":0},{"$f":"'Daily Calcs'!K8987/1000000","v":0},0]
[0.1,{"$f":"'Daily Calcs'!J8988/1000000","v":0},{"$f":"'Daily Calcs'!K8988/1000000","v":0},0]
[0.1,{"$f":"'Daily Calcs'!J8989/1000000","v":0},{"$f":"'Daily Calcs'!K8989/1000000","v":0},0]
[0.1,{"$f":"'Daily Calcs'!J8990/1000000","v":5.1179503931679767E-6},{"$f":"'Daily Calcs'!K8990/1000000","v":5.1182542641808804E-6},5.1179503931679767E-6]
[0.1,{"$f":"'Daily Calcs'!J8991/1000000","v":0},{"$f":"'Daily Calcs'!K8991/1000000","v":0},0]
[0.1,{"$f":"'Daily Calcs'!J8992/1000000","v":0},{"$f":"'Daily Calcs'!K8992/1000000","v":0},0]
[0.1,{"$f":"'Daily Calcs'!J8993/1000000","v":0},{"$f":"'Daily Calcs'!K8993/1000000","v":0},0]
[0.1,{"$f":"'Daily Calcs'!J8994/1000000","v":0},{"$f":"'Daily Calcs'!K8994/1000000","v":0},0]
[0.1,{"$f":"'Daily Calcs'!J8995/1000000","v":3.8284515316827529E-6},{"$f":"'Daily Calcs'!K8995/1000000","v":3.8285732270247584E-6},3.8284515316827529E-6]
[0.1,{"$f":"'Daily Calcs'!J8996/1000000","v":3.121693121693122E-6},{"$f":"'Daily Calcs'!K8996/1000000","v":3.1217889793568557E-6},3.121693121693122E-6]
[0.1,{"$f":"'Daily Calcs'!J8997/1000000","v":0},{"$f":"'Daily Calcs'!K8997/1000000","v":0},0]
[0.1,{"$f":"'Daily Calcs'!J8998/1000000","v":0},{"$f":"'Daily Calcs'!K8998/1000000","v":0},0]
[0.1,{"$f":"'Daily Calcs'!J8999/1000000","v":0},{"$f":"'Daily Calcs'!K8999/1000000","v":0},0]
[0.1,{"$f":"'Daily Calcs'!J9000/1000000","v":0},{"$f":"'Daily Calcs'!K9000/1000000","v":0},0]
[0.1,{"$f":"'Daily Calcs'!J9001/1000000","v":0},{"$f":"'Daily Calcs'!K9001/1000000","v":0},0]
[0.1,{"$f":"'Daily Calcs'!J9002/1000000","v":0},{"$f":"'Daily Calcs'!K9002/1000000","v":0},0]
[0.1,{"$f":"'Daily Calcs'!J9003/1000000","v":1.741920576403987E-6},{"$f":"'Daily Calcs'!K9003/1000000","v":1.7419377340853473E-6},1.741920576403987E-6]
[0.1,{"$f":"'Daily Calcs'!J9004/1000000","v":1.5839285328960145E-6},{"$f":"'Daily Calcs'!K9004/1000000","v":1.5839358483481865E-6},1.5839285328960145E-6]
[0.1,{"$f":"'Daily Calcs'!J9005/1000000","v":1.2249453637215112E-6},{"$f":"'Daily Calcs'!K9005/1000000","v":1.2249509863799563E-6},1.2249453637215112E-6]
[0.1,{"$f":"'Daily Calcs'!J9006/1000000","v":0},{"$f":"'Daily Calcs'!K9006/1000000","v":0},0]
[0.1,{"$f":"'Daily Calcs'!J9007/1000000","v":0},{"$f":"'Daily Calcs'!K9007/1000000","v":0},0]
[0.1,{"$f":"'Daily Calcs'!J9008/1000000","v":9.7660875473163137E-7},{"$f":"'Daily Calcs'!K9008/1000000","v":9.7661050956032225E-7},9.7660875473163137E-7]
[0.1,{"$f":"'Daily Calcs'!J9009/1000000","v":0},{"$f":"'Daily Calcs'!K9009/1000000","v":0},0]
[0.1,{"$f":"'Daily Calcs'!J9010/1000000","v":0},{"$f":"'Daily Calcs'!K9010/1000000","v":0},0]
[0.1,{"$f":"'Daily Calcs'!J9011/1000000","v":0},{"$f":"'Daily Calcs'!K9011/1000000","v":0},0]
[0.1,{"$f":"'Daily Calcs'!J9012/1000000","v":0},{"$f":"'Daily Calcs'!K9012/1000000","v":0},0]
[0.1,{"$f":"'Daily Calcs'!J9013/1000000","v":0},{"$f":"'Daily Calcs'!K9013/1000000","v":0},0]
[0.1,{"$f":"'Daily Calcs'!J9014/1000000","v":0},{"$f":"'Daily Calcs'!K9014/1000000","v":0},0]
[0.1,{"$f":"'Daily Calcs'!J9015/1000000","v":0},{"$f":"'Daily Calcs'!K9015/1000000","v":0},0]
[0.1,{"$f":"'Daily Calcs'!J9016/1000000","v":0},{"$f":"'Daily Calcs'!K9016/1000000","v":0},0]
[0.1,{"$f":"'Daily Calcs'!J9017/1000000","v":0},{"$f":"'Daily Calcs'!K9017/1000000","v":0},0]
[0.1,{"$f":"'Daily Calcs'!J9018/1000000","v":0},{"$f":"'Daily Calcs'!K9018/1000000","v":0},0]
[0.1,{"$f":"'Daily Calcs'!J9019/1000000","v":0},{"$f":"'Daily Calcs'!K9019/1000000","v":0},0]
[0.1,{"$f":"'Daily Calcs'!J9020/1000000","v":0},{"$f":"'Daily Calcs'!K9020/1000000","v":0},0]
[0.1,{"$f":"'Daily Calcs'!J9021/1000000","v":0},{"$f":"'Daily Calcs'!K9021/1000000","v":0},0]
[0.1,{"$f":"'Daily Calcs'!J9022/1000000","v":0},{"$f":"'Daily Calcs'!K9022/1000000","v":0},0]
[0.1,{"$f":"'Daily Calcs'!J9023/1000000","v":0},{"$f":"'Daily Calcs'!K9023/1000000","v":0},0]
[0.1,{"$f":"'Daily Calcs'!J9024/1000000","v":0},{"$f":"'Daily Calcs'!K9024/1000000","v":0},0]
[0.1,{"$f":"'Daily Calcs'!J9025/1000000","v":0},{"$f":"'Daily Calcs'!K9025/1000000","v":0},0]
[0.1,{"$f":"'Daily Calcs'!J9026/1000000","v":0},{"$f":"'Daily Calcs'!K9026/1000000","v":0},0]
[0.1,{"$f":"'Daily Calcs'!J9027/1000000","v":0},{"$f":"'Daily Calcs'!K9027/1000000","v":0},{"$f":"B9031","v":0}]
[0.1,{"$f":"'Daily Calcs'!J9028/1000000","v":0},{"$f":"'Daily Calcs'!K9028/1000000","v":0},0]
[0.1,{"$f":"'Daily Calcs'!J9029/1000000","v":0},{"$f":"'Daily Calcs'!K9029/1000000","v":0},0]
[0.1,{"$f":"'Daily Calcs'!J9030/1000000","v":0},{"$f":"'Daily Calcs'!K9030/1000000","v":0},0]
[0.1,{"$f":"'Daily Calcs'!J9031/1000000","v":0},{"$f":"'Daily Calcs'!K9031/1000000","v":0},0]
[0.1,{"$f":"'Daily Calcs'!J9032/1000000","v":0},{"$f":"'Daily Calcs'!K9032/1000000","v":0},0]
[0.1,{"$f":"'Daily Calcs'!J9033/1000000","v":3.8287976249381495E-7},{"$f":"'Daily Calcs'!K9033/1000000","v":3.8287991815932707E-7},3.8287976249381495E-7]
[0.1,{"$f":"'Daily Calcs'!J9034/1000000","v":0},{"$f":"'Daily Calcs'!K9034/1000000","v":0},0]
[0.1,{"$f":"'Daily Calcs'!J9035/1000000","v":2.6309862176221376E-7},{"$f":"'Daily Calcs'!K9035/1000000","v":2.6309868598434071E-7},2.6309862176221376E-7]
[0.1,{"$f":"'Daily Calcs'!J9036/1000000","v":0},{"$f":"'Daily Calcs'!K9036/1000000","v":0},0]
[0.1,{"$f":"'Daily Calcs'!J9037/1000000","v":0},{"$f":"'Daily Calcs'!K9037/1000000","v":0},0]
[0.1,{"$f":"'Daily Calcs'!J9038/1000000","v":0},{"$f":"'Daily Calcs'!K9038/1000000","v":0},0]
[0.1,{"$f":"'Daily Calcs'!J9039/1000000","v":0},{"$f":"'Daily Calcs'!K9039/1000000","v":0},0]
[0.1,{"$f":"'Daily Calcs'!J9040/1000000","v":0},{"$f":"'Daily Calcs'!K9040/1000000","v":0},0]
[0.1,{"$f":"'Daily Calcs'!J9041/1000000","v":1.0240585933336377E-7},{"$f":"'Daily Calcs'!K9041/1000000","v":1.0240587010065016E-7},1.0240585933336377E-7]
[0.1,{"$f":"'Daily Calcs'!J9042/1000000","v":0},{"$f":"'Daily Calcs'!K9042/1000000","v":0},0]
[0.1,{"$f":"'Daily Calcs'!J9043/1000000","v":0},{"$f":"'Daily Calcs'!K9043/1000000","v":0},0]
[0.1,{"$f":"'Daily Calcs'!J9044/1000000","v":0},{"$f":"'Daily Calcs'!K9044/1000000","v":0},0]
[0.1,{"$f":"'Daily Calcs'!J9045/1000000","v":0},{"$f":"'Daily Calcs'!K9045/1000000","v":0},0]
[0.1,{"$f":"'Daily Calcs'!J9046/1000000","v":0},{"$f":"'Daily Calcs'!K9046/1000000","v":0},0]
[0.1,{"$f":"'Daily Calcs'!J9047/1000000","v":0},{"$f":"'Daily Calcs'!K9047/1000000","v":0},0]
[0.1,{"$f":"'Daily Calcs'!J9048/1000000","v":0},{"$f":"'Daily Calcs'!K9048/1000000","v":0},0]
[0.1,{"$f":"'Daily Calcs'!J9049/1000000","v":0},{"$f":"'Daily Calcs'!K9049/1000000","v":0},0]
[0.1,{"$f":"'Daily Calcs'!J9050/1000000","v":0},{"$f":"'Daily Calcs'!K9050/1000000","v":0},0]
[0.1,{"$f":"'Daily Calcs'!J9051/1000000","v":0},{"$f":"'Daily Calcs'!K9051/1000000","v":0},0]
[0.1,{"$f":"'Daily Calcs'!J9052/1000000","v":0},{"$f":"'Daily Calcs'!K9052/1000000","v":0},0]
[0.1,{"$f":"'Daily Calcs'!J9053/1000000","v":0},{"$f":"'Daily Calcs'!K9053/1000000","v":0},0]
[0.1,{"$f":"'Daily Calcs'!J9054/1000000","v":0},{"$f":"'Daily Calcs'!K9054/1000000","v":0},0]
[0.1,{"$f":"'Daily Calcs'!J9055/1000000","v":0},{"$f":"'Daily Calcs'!K9055/1000000","v":0},0]
[0.1,{"$f":"'Daily Calcs'!J9056/1000000","v":0},{"$f":"'Daily Calcs'!K9056/1000000","v":0},0]
[0.1,{"$f":"'Daily Calcs'!J9057/1000000","v":0},{"$f":"'Daily Calcs'!K9057/1000000","v":0},0]
[0.1,{"$f":"'Daily Calcs'!J9058/1000000","v":0},{"$f":"'Daily Calcs'!K9058/1000000","v":0},0]
[0.1,{"$f":"'Daily Calcs'!J9059/1000000","v":0},{"$f":"'Daily Calcs'!K9059/1000000","v":0},0]
[0.1,{"$f":"'Daily Calcs'!J9060/1000000","v":0},{"$f":"'Daily Calcs'!K9060/1000000","v":0},0]
[0.1,{"$f":"'Daily Calcs'!J9061/1000000","v":0},{"$f":"'Daily Calcs'!K9061/1000000","v":0},0]
[0.1,{"$f":"'Daily Calcs'!J9062/1000000","v":0},{"$f":"'Daily Calcs'!K9062/1000000","v":0},0]
[0.1,{"$f":"'Daily Calcs'!J9063/1000000","v":0},{"$f":"'Daily Calcs'!K9063/1000000","v":0},0]
[0.1,{"$f":"'Daily Calcs'!J9064/1000000","v":0},{"$f":"'Daily Calcs'!K9064/1000000","v":0},0]
[0.1,{"$f":"'Daily Calcs'!J9065/1000000","v":0},{"$f":"'Daily Calcs'!K9065/1000000","v":0},0]
[0.1,{"$f":"'Daily Calcs'!J9066/1000000","v":0},{"$f":"'Daily Calcs'!K9066/1000000","v":0},0]
[0.1,{"$f":"'Daily Calcs'!J9067/1000000","v":4.3863525588952066E-8},{"$f":"'Daily Calcs'!K9067/1000000","v":4.3863526492185219E-8},4.3863525588952066E-8]
[0.1,{"$f":"'Daily Calcs'!J9068/1000000","v":0},{"$f":"'Daily Calcs'!K9068/1000000","v":0},0]
[0.1,{"$f":"'Daily Calcs'!J9069/1000000","v":0},{"$f":"'Daily Calcs'!K9069/1000000","v":0},0]
[0.1,{"$f":"'Daily Calcs'!J9070/1000000","v":0},{"$f":"'Daily Calcs'!K9070/1000000","v":0},0]
[0.1,{"$f":"'Daily Calcs'!J9071/1000000","v":2.8266997785086248E-8},{"$f":"'Daily Calcs'!K9071/1000000","v":2.8266998046150746E-8},2.8266997785086248E-8]
[0.1,{"$f":"'Daily Calcs'!J9072/1000000","v":2.1804339302052022E-8},{"$f":"'Daily Calcs'!K9072/1000000","v":2.1804339430216094E-8},2.1804339302052022E-8]
[0.1,{"$f":"'Daily Calcs'!J9073/1000000","v":0},{"$f":"'Daily Calcs'!K9073/1000000","v":0},0]
[0.1,{"$f":"'Daily Calcs'!J9074/1000000","v":1.6645633518425034E-8},{"$f":"'Daily Calcs'!K9074/1000000","v":1.6645633582651433E-8},1.6645633518425034E-8]
[0.1,{"$f":"'Daily Calcs'!J9075/1000000","v":0},{"$f":"'Daily Calcs'!K9075/1000000","v":0},0]
[0.1,{"$f":"'Daily Calcs'!J9076/1000000","v":0},{"$f":"'Daily Calcs'!K9076/1000000","v":0},0]
[0.1,{"$f":"'Daily Calcs'!J9077/1000000","v":0},{"$f":"'Daily Calcs'!K9077/1000000","v":0},0]
[0.1,{"$f":"'Daily Calcs'!J9078/1000000","v":0},{"$f":"'Daily Calcs'!K9078/1000000","v":0},0]
[0.1,{"$f":"'Daily Calcs'!J9079/1000000","v":0},{"$f":"'Daily Calcs'!K9079/1000000","v":0},0]
[0.1,{"$f":"'Daily Calcs'!J9080/1000000","v":0},{"$f":"'Daily Calcs'!K9080/1000000","v":0},0]
[0.1,{"$f":"'Daily Calcs'!J9081/1000000","v":0},{"$f":"'Daily Calcs'!K9081/1000000","v":0},0]
[0.1,{"$f":"'Daily Calcs'!J9082/1000000","v":0},{"$f":"'Daily Calcs'!K9082/1000000","v":0},0]
[0.1,{"$f":"'Daily Calcs'!J9083/1000000","v":0},{"$f":"'Daily Calcs'!K9083/1000000","v":0},0]
[0.1,{"$f":"'Daily Calcs'!J9084/1000000","v":0},{"$f":"'Daily Calcs'!K9084/1000000","v":0},0]
[0.1,{"$f":"'Daily Calcs'!J9085/1000000","v":0},{"$f":"'Daily Calcs'!K9085/1000000","v":0},0]
[0.1,{"$f":"'Daily Calcs'!J9086/1000000","v":0},{"$f":"'Daily Calcs'!K9086/1000000","v":0},0]
[0.1,{"$f":"'Daily Calcs'!J9087/1000000","v":0},{"$f":"'Daily Calcs'!K9087/1000000","v":0},0]
[0.1,{"$f":"'Daily Calcs'!J9088/1000000","v":0},{"$f":"'Daily Calcs'!K9088/1000000","v":0},0]
[0.1,{"$f":"'Daily Calcs'!J9089/1000000","v":0},{"$f":"'Daily Calcs'!K9089/1000000","v":0},0]
[0.1,{"$f":"'Daily Calcs'!J9090/1000000","v":0},{"$f":"'Daily Calcs'!K9090/1000000","v":0},0]
[0.1,{"$f":"'Daily Calcs'!J9091/1000000","v":0},{"$f":"'Daily Calcs'!K9091/1000000","v":0},{"$f":"B9095","v":0}]
[0.1,{"$f":"'Daily Calcs'!J9092/1000000","v":7.6853556485355651E-9},{"$f":"'Daily Calcs'!K9092/1000000","v":7.6853556615681993E-9},7.6853556485355651E-9]
[0.1,{"$f":"'Daily Calcs'!J9093/1000000","v":6.6250586579070859E-9},{"$f":"'Daily Calcs'!K9093/1000000","v":6.625058663391678E-9},6.6250586579070859E-9]
[0.1,{"$f":"'Daily Calcs'!J9094/1000000","v":0},{"$f":"'Daily Calcs'!K9094/1000000","v":0},0]
[0.1,{"$f":"'Daily Calcs'!J9095/1000000","v":0},{"$f":"'Daily Calcs'!K9095/1000000","v":0},0]
[0.1,{"$f":"'Daily Calcs'!J9096/1000000","v":0},{"$f":"'Daily Calcs'!K9096/1000000","v":0},0]
[0.1,{"$f":"'Daily Calcs'!J9097/1000000","v":0},{"$f":"'Daily Calcs'!K9097/1000000","v":0},0]
[0.1,{"$f":"'Daily Calcs'!J9098/1000000","v":0},{"$f":"'Daily Calcs'!K9098/1000000","v":0},0]
[0.1,{"$f":"'Daily Calcs'!J9099/1000000","v":4.6567112252953855E-9},{"$f":"'Daily Calcs'!K9099/1000000","v":4.6567112281142202E-9},4.6567112252953855E-9]
[0.1,{"$f":"'Daily Calcs'!J9100/1000000","v":2.6716187806587247E-9},{"$f":"'Daily Calcs'!K9100/1000000","v":2.6716187823217945E-9},2.6716187806587247E-9]
[0.1,{"$f":"'Daily Calcs'!J9101/1000000","v":1.5746547756041425E-9},{"$f":"'Daily Calcs'!K9101/1000000","v":1.5746547761977414E-9},1.5746547756041425E-9]
[0.1,{"$f":"'Daily Calcs'!J9102/1000000","v":1.0784512825040838E-9},{"$f":"'Daily Calcs'!K9102/1000000","v":1.0784512827604744E-9},1.0784512825040838E-9]
[0.1,{"$f":"'Daily Calcs'!J9103/1000000","v":0},{"$f":"'Daily Calcs'!K9103/1000000","v":0},0]
[0.1,{"$f":"'Daily Calcs'!J9104/1000000","v":0},{"$f":"'Daily Calcs'!K9104/1000000","v":0},0]
[0.1,{"$f":"'Daily Calcs'!J9105/1000000","v":0},{"$f":"'Daily Calcs'!K9105/1000000","v":0},0]
[0.1,{"$f":"'Daily Calcs'!J9106/1000000","v":0},{"$f":"'Daily Calcs'!K9106/1000000","v":0},0]
[0.1,{"$f":"'Daily Calcs'!J9107/1000000","v":0},{"$f":"'Daily Calcs'!K9107/1000000","v":0},0]
[0.1,{"$f":"'Daily Calcs'!J9108/1000000","v":0},{"$f":"'Daily Calcs'!K9108/1000000","v":0},0]
[0.1,{"$f":"'Daily Calcs'!J9109/1000000","v":0},{"$f":"'Daily Calcs'!K9109/1000000","v":0},0]
[0.1,{"$f":"'Daily Calcs'!J9110/1000000","v":0},{"$f":"'Daily Calcs'!K9110/1000000","v":0},0]
[0.1,{"$f":"'Daily Calcs'!J9111/1000000","v":0},{"$f":"'Daily Calcs'!K9111/1000000","v":0},0]
[0.1,{"$f":"'Daily Calcs'!J9112/1000000","v":7.8865174388339425E-10},{"$f":"'Daily Calcs'!K9112/1000000","v":7.8865174394806881E-10},7.8865174388339425E-10]
[0.1,{"$f":"'Daily Calcs'!J9113/1000000","v":4.2036916590037454E-10},{"$f":"'Daily Calcs'!K9113/1000000","v":4.2036916594348797E-10},4.2036916590037454E-10]
[0.1,{"$f":"'Daily Calcs'!J9114/1000000","v":3.4954254850088181E-10},{"$f":"'Daily Calcs'!K9114/1000000","v":3.4954254851659447E-10},3.4954254850088181E-10]
[0.1,{"$f":"'Daily Calcs'!J9115/1000000","v":0},{"$f":"'Daily Calcs'!K9115/1000000","v":0},0]
[0.1,{"$f":"'Daily Calcs'!J9116/1000000","v":0},{"$f":"'Daily Calcs'!K9116/1000000","v":0},0]
[0.1,{"$f":"'Daily Calcs'!J9117/1000000","v":0},{"$f":"'Daily Calcs'!K9117/1000000","v":0},0]
[0.1,{"$f":"'Daily Calcs'!J9118/1000000","v":0},{"$f":"'Daily Calcs'!K9118/1000000","v":0},0]
[0.1,{"$f":"'Daily Calcs'!J9119/1000000","v":0},{"$f":"'Daily Calcs'!K9119/1000000","v":0},0]
[0.1,{"$f":"'Daily Calcs'!J9120/1000000","v":0},{"$f":"'Daily Calcs'!K9120/1000000","v":0},0]
[0.1,{"$f":"'Daily Calcs'!J9121/1000000","v":0},{"$f":"'Daily Calcs'!K9121/1000000","v":0},0]
[0.1,{"$f":"'Daily Calcs'!J9122/1000000","v":0},{"$f":"'Daily Calcs'!K9122/1000000","v":0},0]
[0.1,{"$f":"'Daily Calcs'!J9123/1000000","v":0},{"$f":"'Daily Calcs'!K9123/1000000","v":0},0]
[0.1,{"$f":"'Daily Calcs'!J9124/1000000","v":0},{"$f":"'Daily Calcs'!K9124/1000000","v":0},0]
[0.1,{"$f":"'Daily Calcs'!J9125/1000000","v":0},{"$f":"'Daily Calcs'!K9125/1000000","v":0},0]
[0.1,{"$f":"'Daily Calcs'!J9126/1000000","v":0},{"$f":"'Daily Calcs'!K9126/1000000","v":0},0]
[0.1,{"$f":"'Daily Calcs'!J9127/1000000","v":0},{"$f":"'Daily Calcs'!K9127/1000000","v":0},0]
[0.1,{"$f":"'Daily Calcs'!J9128/1000000","v":0},{"$f":"'Daily Calcs'!K9128/1000000","v":0},0]
[0.1,{"$f":"'Daily Calcs'!J9129/1000000","v":0},{"$f":"'Daily Calcs'!K9129/1000000","v":0},0]
[0.1,{"$f":"'Daily Calcs'!J9130/1000000","v":0},{"$f":"'Daily Calcs'!K9130/1000000","v":0},0]
[0.1,{"$f":"'Daily Calcs'!J9131/1000000","v":0},{"$f":"'Daily Calcs'!K9131/1000000","v":0},0]
[0.1,{"$f":"'Daily Calcs'!J9132/1000000","v":1.8349925207613349E-10},{"$f":"'Daily Calcs'!K9132/1000000","v":1.8349925208049129E-10},1.8349925207613349E-10]
[0.1,{"$f":"'Daily Calcs'!J9133/1000000","v":0},{"$f":"'Daily Calcs'!K9133/1000000","v":0},0]
[0.1,{"$f":"'Daily Calcs'!J9134/1000000","v":0},{"$f":"'Daily Calcs'!K9134/1000000","v":0},0]
[0.1,{"$f":"'Daily Calcs'!J9135/1000000","v":0},{"$f":"'Daily Calcs'!K9135/1000000","v":0},0]
[0.1,{"$f":"'Daily Calcs'!J9136/1000000","v":0},{"$f":"'Daily Calcs'!K9136/1000000","v":0},0]
[0.1,{"$f":"'Daily Calcs'!J9137/1000000","v":0},{"$f":"'Daily Calcs'!K9137/1000000","v":0},0]
[0.1,{"$f":"'Daily Calcs'!J9138/1000000","v":0},{"$f":"'Daily Calcs'!K9138/1000000","v":0},0]
[0.1,{"$f":"'Daily Calcs'!J9139/1000000","v":0},{"$f":"'Daily Calcs'!K9139/1000000","v":0},0]
[0.1,{"$f":"'Daily Calcs'!J9140/1000000","v":0},{"$f":"'Daily Calcs'!K9140/1000000","v":0},0]
[0.1,{"$f":"'Daily Calcs'!J9141/1000000","v":0},{"$f":"'Daily Calcs'!K9141/1000000","v":0},0]
[0.1,{"$f":"'Daily Calcs'!J9142/1000000","v":0},{"$f":"'Daily Calcs'!K9142/1000000","v":0},0]
[0.1,{"$f":"'Daily Calcs'!J9143/1000000","v":0},{"$f":"'Daily Calcs'!K9143/1000000","v":0},0]
[0.1,{"$f":"'Daily Calcs'!J9144/1000000","v":0},{"$f":"'Daily Calcs'!K9144/1000000","v":0},0]
[0.1,{"$f":"'Daily Calcs'!J9145/1000000","v":0},{"$f":"'Daily Calcs'!K9145/1000000","v":0},0]
[0.1,{"$f":"'Daily Calcs'!J9146/1000000","v":0},{"$f":"'Daily Calcs'!K9146/1000000","v":0},0]
[0.1,{"$f":"'Daily Calcs'!J9147/1000000","v":0},{"$f":"'Daily Calcs'!K9147/1000000","v":0},0]
[0.1,{"$f":"'Daily Calcs'!J9148/1000000","v":0},{"$f":"'Daily Calcs'!K9148/1000000","v":0},0]
[0.1,{"$f":"'Daily Calcs'!J9149/1000000","v":0},{"$f":"'Daily Calcs'!K9149/1000000","v":0},0]
[0.1,{"$f":"'Daily Calcs'!J9150/1000000","v":0},{"$f":"'Daily Calcs'!K9150/1000000","v":0},0]
[0.1,{"$f":"'Daily Calcs'!J9151/1000000","v":0},{"$f":"'Daily Calcs'!K9151/1000000","v":0},0]
[0.1,{"$f":"'Daily Calcs'!J9152/1000000","v":0},{"$f":"'Daily Calcs'!K9152/1000000","v":0},0]
[0.1,{"$f":"'Daily Calcs'!J9153/1000000","v":0},{"$f":"'Daily Calcs'!K9153/1000000","v":0},0]
[0.1,{"$f":"'Daily Calcs'!J9154/1000000","v":0},{"$f":"'Daily Calcs'!K9154/1000000","v":0},0]
[0.1,{"$f":"'Daily Calcs'!J9155/1000000","v":0},{"$f":"'Daily Calcs'!K9155/1000000","v":0},{"$f":"B9159","v":0}]
[0.1,{"$f":"'Daily Calcs'!J9156/1000000","v":0},{"$f":"'Daily Calcs'!K9156/1000000","v":0},0]
[0.1,{"$f":"'Daily Calcs'!J9157/1000000","v":0},{"$f":"'Daily Calcs'!K9157/1000000","v":0},0]
[0.1,{"$f":"'Daily Calcs'!J9158/1000000","v":0},{"$f":"'Daily Calcs'!K9158/1000000","v":0},0]
[0.1,{"$f":"'Daily Calcs'!J9159/1000000","v":0},{"$f":"'Daily Calcs'!K9159/1000000","v":0},0]
[0.1,{"$f":"'Daily Calcs'!J9160/1000000","v":0},{"$f":"'Daily Calcs'!K9160/1000000","v":0},0]
[0.1,{"$f":"'Daily Calcs'!J9161/1000000","v":0},{"$f":"'Daily Calcs'!K9161/1000000","v":0},0]
[0.1,{"$f":"'Daily Calcs'!J9162/1000000","v":0},{"$f":"'Daily Calcs'!K9162/1000000","v":0},0]
[0.1,{"$f":"'Daily Calcs'!J9163/1000000","v":0},{"$f":"'Daily Calcs'!K9163/1000000","v":0},0]
[0.1,{"$f":"'Daily Calcs'!J9164/1000000","v":0},{"$f":"'Daily Calcs'!K9164/1000000","v":0},0]
[0.1,{"$f":"'Daily Calcs'!J9165/1000000","v":0},{"$f":"'Daily Calcs'!K9165/1000000","v":0},0]
[0.1,{"$f":"'Daily Calcs'!J9166/1000000","v":0},{"$f":"'Daily Calcs'!K9166/1000000","v":0},0]
[0.1,{"$f":"'Daily Calcs'!J9167/1000000","v":0},{"$f":"'Daily Calcs'!K9167/1000000","v":0},0]
[0.1,{"$f":"'Daily Calcs'!J9168/1000000","v":3.9268670591881008E-11},{"$f":"'Daily Calcs'!K9168/1000000","v":3.9268670592047769E-11},3.9268670591881008E-11]
[0.1,{"$f":"'Daily Calcs'!J9169/1000000","v":2.5312886941613489E-11},{"$f":"'Daily Calcs'!K9169/1000000","v":2.5312886941728367E-11},2.5312886941613489E-11]
[0.1,{"$f":"'Daily Calcs'!J9170/1000000","v":0},{"$f":"'Daily Calcs'!K9170/1000000","v":0},0]
[0.1,{"$f":"'Daily Calcs'!J9171/1000000","v":0},{"$f":"'Daily Calcs'!K9171/1000000","v":0},0]
[0.1,{"$f":"'Daily Calcs'!J9172/1000000","v":0},{"$f":"'Daily Calcs'!K9172/1000000","v":0},0]
[0.1,{"$f":"'Daily Calcs'!J9173/1000000","v":1.2542320983334062E-11},{"$f":"'Daily Calcs'!K9173/1000000","v":1.254232098337947E-11},1.2542320983334062E-11]
[0.1,{"$f":"'Daily Calcs'!J9174/1000000","v":0},{"$f":"'Daily Calcs'!K9174/1000000","v":0},0]
[0.1,{"$f":"'Daily Calcs'!J9175/1000000","v":0},{"$f":"'Daily Calcs'!K9175/1000000","v":0},0]
[0.1,{"$f":"'Daily Calcs'!J9176/1000000","v":0},{"$f":"'Daily Calcs'!K9176/1000000","v":0},0]
[0.1,{"$f":"'Daily Calcs'!J9177/1000000","v":6.4391471720461959E-12},{"$f":"'Daily Calcs'!K9177/1000000","v":6.4391471720612313E-12},6.4391471720461959E-12]
[0.1,{"$f":"'Daily Calcs'!J9178/1000000","v":0},{"$f":"'Daily Calcs'!K9178/1000000","v":0},0]
[0.1,{"$f":"'Daily Calcs'!J9179/1000000","v":0},{"$f":"'Daily Calcs'!K9179/1000000","v":0},0]
[0.1,{"$f":"'Daily Calcs'!J9180/1000000","v":0},{"$f":"'Daily Calcs'!K9180/1000000","v":0},0]
[0.1,{"$f":"'Daily Calcs'!J9181/1000000","v":4.4435381547942718E-12},{"$f":"'Daily Calcs'!K9181/1000000","v":4.4435381547988124E-12},4.4435381547942718E-12]
[0.1,{"$f":"'Daily Calcs'!J9182/1000000","v":0},{"$f":"'Daily Calcs'!K9182/1000000","v":0},0]
[0.1,{"$f":"'Daily Calcs'!J9183/1000000","v":0},{"$f":"'Daily Calcs'!K9183/1000000","v":0},0]
[0.1,{"$f":"'Daily Calcs'!J9184/1000000","v":0},{"$f":"'Daily Calcs'!K9184/1000000","v":0},0]
[0.1,{"$f":"'Daily Calcs'!J9185/1000000","v":0},{"$f":"'Daily Calcs'!K9185/1000000","v":0},0]
[0.1,{"$f":"'Daily Calcs'!J9186/1000000","v":0},{"$f":"'Daily Calcs'!K9186/1000000","v":0},0]
[0.1,{"$f":"'Daily Calcs'!J9187/1000000","v":0},{"$f":"'Daily Calcs'!K9187/1000000","v":0},0]
[0.1,{"$f":"'Daily Calcs'!J9188/1000000","v":0},{"$f":"'Daily Calcs'!K9188/1000000","v":0},0]
[0.1,{"$f":"'Daily Calcs'!J9189/1000000","v":0},{"$f":"'Daily Calcs'!K9189/1000000","v":0},0]
[0.1,{"$f":"'Daily Calcs'!J9190/1000000","v":0},{"$f":"'Daily Calcs'!K9190/1000000","v":0},0]
[0.1,{"$f":"'Daily Calcs'!J9191/1000000","v":0},{"$f":"'Daily Calcs'!K9191/1000000","v":0},0]
[0.1,{"$f":"'Daily Calcs'!J9192/1000000","v":0},{"$f":"'Daily Calcs'!K9192/1000000","v":0},0]
[0.1,{"$f":"'Daily Calcs'!J9193/1000000","v":0},{"$f":"'Daily Calcs'!K9193/1000000","v":0},0]
[0.1,{"$f":"'Daily Calcs'!J9194/1000000","v":0},{"$f":"'Daily Calcs'!K9194/1000000","v":0},0]
[0.1,{"$f":"'Daily Calcs'!J9195/1000000","v":0},{"$f":"'Daily Calcs'!K9195/1000000","v":0},0]
[0.1,{"$f":"'Daily Calcs'!J9196/1000000","v":0},{"$f":"'Daily Calcs'!K9196/1000000","v":0},0]
[0.1,{"$f":"'Daily Calcs'!J9197/1000000","v":0},{"$f":"'Daily Calcs'!K9197/1000000","v":0},0]
[0.1,{"$f":"'Daily Calcs'!J9198/1000000","v":0},{"$f":"'Daily Calcs'!K9198/1000000","v":0},0]
[0.1,{"$f":"'Daily Calcs'!J9199/1000000","v":0},{"$f":"'Daily Calcs'!K9199/1000000","v":0},0]
[0.1,{"$f":"'Daily Calcs'!J9200/1000000","v":0},{"$f":"'Daily Calcs'!K9200/1000000","v":0},0]
[0.1,{"$f":"'Daily Calcs'!J9201/1000000","v":0},{"$f":"'Daily Calcs'!K9201/1000000","v":0},0]
[0.1,{"$f":"'Daily Calcs'!J9202/1000000","v":0},{"$f":"'Daily Calcs'!K9202/1000000","v":0},0]
[0.1,{"$f":"'Daily Calcs'!J9203/1000000","v":0},{"$f":"'Daily Calcs'!K9203/1000000","v":0},0]
[0.1,{"$f":"'Daily Calcs'!J9204/1000000","v":1.1359731824848105E-12},{"$f":"'Daily Calcs'!K9204/1000000","v":1.1359731824858275E-12},1.1359731824848105E-12]
[0.1,{"$f":"'Daily Calcs'!J9205/1000000","v":6.7973386942370275E-13},{"$f":"'Daily Calcs'!K9205/1000000","v":6.797338694241747E-13},6.7973386942370275E-13]
[0.1,{"$f":"'Daily Calcs'!J9206/1000000","v":0},{"$f":"'Daily Calcs'!K9206/1000000","v":0},0]
[0.1,{"$f":"'Daily Calcs'!J9207/1000000","v":0},{"$f":"'Daily Calcs'!K9207/1000000","v":0},0]
[0.1,{"$f":"'Daily Calcs'!J9208/1000000","v":0},{"$f":"'Daily Calcs'!K9208/1000000","v":0},0]
[0.1,{"$f":"'Daily Calcs'!J9209/1000000","v":0},{"$f":"'Daily Calcs'!K9209/1000000","v":0},0]
[0.1,{"$f":"'Daily Calcs'!J9210/1000000","v":2.3613074204946999E-13},{"$f":"'Daily Calcs'!K9210/1000000","v":2.3613074204957844E-13},2.3613074204946999E-13]
[0.1,{"$f":"'Daily Calcs'!J9211/1000000","v":1.4891941833373507E-13},{"$f":"'Daily Calcs'!K9211/1000000","v":1.4891941833377952E-13},1.4891941833373507E-13]
[0.1,{"$f":"'Daily Calcs'!J9212/1000000","v":0},{"$f":"'Daily Calcs'!K9212/1000000","v":0},0]
[0.1,{"$f":"'Daily Calcs'!J9213/1000000","v":0},{"$f":"'Daily Calcs'!K9213/1000000","v":0},0]
[0.1,{"$f":"'Daily Calcs'!J9214/1000000","v":0},{"$f":"'Daily Calcs'!K9214/1000000","v":0},0]
[0.1,{"$f":"'Daily Calcs'!J9215/1000000","v":0},{"$f":"'Daily Calcs'!K9215/1000000","v":0},0]
[0.1,{"$f":"'Daily Calcs'!J9216/1000000","v":0},{"$f":"'Daily Calcs'!K9216/1000000","v":0},0]
[0.1,{"$f":"'Daily Calcs'!J9217/1000000","v":0},{"$f":"'Daily Calcs'!K9217/1000000","v":0},0]
[0.1,{"$f":"'Daily Calcs'!J9218/1000000","v":0},{"$f":"'Daily Calcs'!K9218/1000000","v":0},0]
[0.1,{"$f":"'Daily Calcs'!J9219/1000000","v":0},{"$f":"'Daily Calcs'!K9219/1000000","v":0},{"$f":"B9223","v":0}]
[0.1,{"$f":"'Daily Calcs'!J9220/1000000","v":0},{"$f":"'Daily Calcs'!K9220/1000000","v":0},0]
[0.1,{"$f":"'Daily Calcs'!J9221/1000000","v":0},{"$f":"'Daily Calcs'!K9221/1000000","v":0},0]
[0.1,{"$f":"'Daily Calcs'!J9222/1000000","v":0},{"$f":"'Daily Calcs'!K9222/1000000","v":0},0]
[0.1,{"$f":"'Daily Calcs'!J9223/1000000","v":0},{"$f":"'Daily Calcs'!K9223/1000000","v":0},0]
[0.1,{"$f":"'Daily Calcs'!J9224/1000000","v":0},{"$f":"'Daily Calcs'!K9224/1000000","v":0},0]
[0.1,{"$f":"'Daily Calcs'!J9225/1000000","v":0},{"$f":"'Daily Calcs'!K9225/1000000","v":0},0]
[0.1,{"$f":"'Daily Calcs'!J9226/1000000","v":0},{"$f":"'Daily Calcs'!K9226/1000000","v":0},0]
[0.1,{"$f":"'Daily Calcs'!J9227/1000000","v":0},{"$f":"'Daily Calcs'!K9227/1000000","v":0},0]
[0.1,{"$f":"'Daily Calcs'!J9228/1000000","v":0},{"$f":"'Daily Calcs'!K9228/1000000","v":0},0]
[0.1,{"$f":"'Daily Calcs'!J9229/1000000","v":0},{"$f":"'Daily Calcs'!K9229/1000000","v":0},0]
[0.1,{"$f":"'Daily Calcs'!J9230/1000000","v":0},{"$f":"'Daily Calcs'!K9230/1000000","v":0},0]
[0.1,{"$f":"'Daily Calcs'!J9231/1000000","v":0},{"$f":"'Daily Calcs'!K9231/1000000","v":0},0]
[0.1,{"$f":"'Daily Calcs'!J9232/1000000","v":0},{"$f":"'Daily Calcs'!K9232/1000000","v":0},0]
[0.1,{"$f":"'Daily Calcs'!J9233/1000000","v":0},{"$f":"'Daily Calcs'!K9233/1000000","v":0},0]
[0.1,{"$f":"'Daily Calcs'!J9234/1000000","v":0},{"$f":"'Daily Calcs'!K9234/1000000","v":0},0]
[0.1,{"$f":"'Daily Calcs'!J9235/1000000","v":0},{"$f":"'Daily Calcs'!K9235/1000000","v":0},0]
[0.1,{"$f":"'Daily Calcs'!J9236/1000000","v":0},{"$f":"'Daily Calcs'!K9236/1000000","v":0},0]
[0.1,{"$f":"'Daily Calcs'!J9237/1000000","v":0},{"$f":"'Daily Calcs'!K9237/1000000","v":0},0]
[0.1,{"$f":"'Daily Calcs'!J9238/1000000","v":0},{"$f":"'Daily Calcs'!K9238/1000000","v":0},0]
[0.1,{"$f":"'Daily Calcs'!J9239/1000000","v":0},{"$f":"'Daily Calcs'!K9239/1000000","v":0},0]
[0.1,{"$f":"'Daily Calcs'!J9240/1000000","v":0},{"$f":"'Daily Calcs'!K9240/1000000","v":0},0]
[0.1,{"$f":"'Daily Calcs'!J9241/1000000","v":0},{"$f":"'Daily Calcs'!K9241/1000000","v":0},0]
[0.1,{"$f":"'Daily Calcs'!J9242/1000000","v":0},{"$f":"'Daily Calcs'!K9242/1000000","v":0},0]
[0.1,{"$f":"'Daily Calcs'!J9243/1000000","v":0},{"$f":"'Daily Calcs'!K9243/1000000","v":0},0]
[0.1,{"$f":"'Daily Calcs'!J9244/1000000","v":0},{"$f":"'Daily Calcs'!K9244/1000000","v":0},0]
[0.1,{"$f":"'Daily Calcs'!J9245/1000000","v":0},{"$f":"'Daily Calcs'!K9245/1000000","v":0},0]
[0.1,{"$f":"'Daily Calcs'!J9246/1000000","v":0},{"$f":"'Daily Calcs'!K9246/1000000","v":0},0]
[0.1,{"$f":"'Daily Calcs'!J9247/1000000","v":0},{"$f":"'Daily Calcs'!K9247/1000000","v":0},0]
[0.1,{"$f":"'Daily Calcs'!J9248/1000000","v":0},{"$f":"'Daily Calcs'!K9248/1000000","v":0},0]
[0.1,{"$f":"'Daily Calcs'!J9249/1000000","v":0},{"$f":"'Daily Calcs'!K9249/1000000","v":0},0]
[0.1,{"$f":"'Daily Calcs'!J9250/1000000","v":0},{"$f":"'Daily Calcs'!K9250/1000000","v":0},0]
[0.1,{"$f":"'Daily Calcs'!J9251/1000000","v":0},{"$f":"'Daily Calcs'!K9251/1000000","v":0},0]
[0.1,{"$f":"'Daily Calcs'!J9252/1000000","v":0},{"$f":"'Daily Calcs'!K9252/1000000","v":0},0]
[0.1,{"$f":"'Daily Calcs'!J9253/1000000","v":0},{"$f":"'Daily Calcs'!K9253/1000000","v":0},0]
[0.1,{"$f":"'Daily Calcs'!J9254/1000000","v":0},{"$f":"'Daily Calcs'!K9254/1000000","v":0},0]
[0.1,{"$f":"'Daily Calcs'!J9255/1000000","v":0},{"$f":"'Daily Calcs'!K9255/1000000","v":0},0]
[0.1,{"$f":"'Daily Calcs'!J9256/1000000","v":0},{"$f":"'Daily Calcs'!K9256/1000000","v":0},0]
[0.1,{"$f":"'Daily Calcs'!J9257/1000000","v":0},{"$f":"'Daily Calcs'!K9257/1000000","v":0},0]
[0.1,{"$f":"'Daily Calcs'!J9258/1000000","v":0},{"$f":"'Daily Calcs'!K9258/1000000","v":0},0]
[0.1,{"$f":"'Daily Calcs'!J9259/1000000","v":0},{"$f":"'Daily Calcs'!K9259/1000000","v":0},0]
[0.1,{"$f":"'Daily Calcs'!J9260/1000000","v":0},{"$f":"'Daily Calcs'!K9260/1000000","v":0},0]
[0.1,{"$f":"'Daily Calcs'!J9261/1000000","v":0},{"$f":"'Daily Calcs'!K9261/1000000","v":0},0]
[0.1,{"$f":"'Daily Calcs'!J9262/1000000","v":0},{"$f":"'Daily Calcs'!K9262/1000000","v":0},0]
[0.1,{"$f":"'Daily Calcs'!J9263/1000000","v":0},{"$f":"'Daily Calcs'!K9263/1000000","v":0},0]
[0.1,{"$f":"'Daily Calcs'!J9264/1000000","v":0},{"$f":"'Daily Calcs'!K9264/1000000","v":0},0]
[0.1,{"$f":"'Daily Calcs'!J9265/1000000","v":0},{"$f":"'Daily Calcs'!K9265/1000000","v":0},0]
[0.1,{"$f":"'Daily Calcs'!J9266/1000000","v":0},{"$f":"'Daily Calcs'!K9266/1000000","v":0},0]
[0.1,{"$f":"'Daily Calcs'!J9267/1000000","v":0},{"$f":"'Daily Calcs'!K9267/1000000","v":0},0]
[0.1,{"$f":"'Daily Calcs'!J9268/1000000","v":4.0140264026402647E-14},{"$f":"'Daily Calcs'!K9268/1000000","v":4.0140264026403777E-14},4.0140264026402647E-14]
[0.1,{"$f":"'Daily Calcs'!J9269/1000000","v":0},{"$f":"'Daily Calcs'!K9269/1000000","v":0},0]
[0.1,{"$f":"'Daily Calcs'!J9270/1000000","v":2.0370700036651133E-14},{"$f":"'Daily Calcs'!K9270/1000000","v":2.0370700036651806E-14},2.0370700036651133E-14]
[0.1,{"$f":"'Daily Calcs'!J9271/1000000","v":1.2957554758074494E-14},{"$f":"'Daily Calcs'!K9271/1000000","v":1.2957554758074822E-14},1.2957554758074494E-14]
[0.1,{"$f":"'Daily Calcs'!J9272/1000000","v":0},{"$f":"'Daily Calcs'!K9272/1000000","v":0},0]
[0.1,{"$f":"'Daily Calcs'!J9273/1000000","v":0},{"$f":"'Daily Calcs'!K9273/1000000","v":0},0]
[0.1,{"$f":"'Daily Calcs'!J9274/1000000","v":0},{"$f":"'Daily Calcs'!K9274/1000000","v":0},0]
[0.1,{"$f":"'Daily Calcs'!J9275/1000000","v":0},{"$f":"'Daily Calcs'!K9275/1000000","v":0},0]
[0.1,{"$f":"'Daily Calcs'!J9276/1000000","v":0},{"$f":"'Daily Calcs'!K9276/1000000","v":0},0]
[0.1,{"$f":"'Daily Calcs'!J9277/1000000","v":6.2216102934009155E-15},{"$f":"'Daily Calcs'!K9277/1000000","v":6.2216102934009786E-15},6.2216102934009155E-15]
[0.1,{"$f":"'Daily Calcs'!J9278/1000000","v":0},{"$f":"'Daily Calcs'!K9278/1000000","v":0},0]
[0.1,{"$f":"'Daily Calcs'!J9279/1000000","v":4.8414057683085559E-15},{"$f":"'Daily Calcs'!K9279/1000000","v":4.8414057683085906E-15},4.8414057683085559E-15]
[0.1,{"$f":"'Daily Calcs'!J9280/1000000","v":2.8201584669246363E-15},{"$f":"'Daily Calcs'!K9280/1000000","v":2.820158466924664E-15},2.8201584669246363E-15]
[0.1,{"$f":"'Daily Calcs'!J9281/1000000","v":0},{"$f":"'Daily Calcs'!K9281/1000000","v":0},0]
[0.1,{"$f":"'Daily Calcs'!J9282/1000000","v":0},{"$f":"'Daily Calcs'!K9282/1000000","v":0},0]
[0.1,{"$f":"'Daily Calcs'!J9283/1000000","v":0},{"$f":"'Daily Calcs'!K9283/1000000","v":0},{"$f":"B9287","v":0}]
[0.1,{"$f":"'Daily Calcs'!J9284/1000000","v":0},{"$f":"'Daily Calcs'!K9284/1000000","v":0},0]
[0.1,{"$f":"'Daily Calcs'!J9285/1000000","v":0},{"$f":"'Daily Calcs'!K9285/1000000","v":0},0]
[0.1,{"$f":"'Daily Calcs'!J9286/1000000","v":0},{"$f":"'Daily Calcs'!K9286/1000000","v":0},0]
[0.1,{"$f":"'Daily Calcs'!J9287/1000000","v":0},{"$f":"'Daily Calcs'!K9287/1000000","v":0},0]
[0.1,{"$f":"'Daily Calcs'!J9288/1000000","v":0},{"$f":"'Daily Calcs'!K9288/1000000","v":0},0]
[0.1,{"$f":"'Daily Calcs'!J9289/1000000","v":0},{"$f":"'Daily Calcs'!K9289/1000000","v":0},0]
[0.1,{"$f":"'Daily Calcs'!J9290/1000000","v":0},{"$f":"'Daily Calcs'!K9290/1000000","v":0},0]
[0.1,{"$f":"'Daily Calcs'!J9291/1000000","v":0},{"$f":"'Daily Calcs'!K9291/1000000","v":0},0]
[0.1,{"$f":"'Daily Calcs'!J9292/1000000","v":0},{"$f":"'Daily Calcs'!K9292/1000000","v":0},0]
[0.1,{"$f":"'Daily Calcs'!J9293/1000000","v":7.5365379272020001E-16},{"$f":"'Daily Calcs'!K9293/1000000","v":7.5365379272020297E-16},7.5365379272020001E-16]
[0.1,{"$f":"'Daily Calcs'!J9294/1000000","v":0},{"$f":"'Daily Calcs'!K9294/1000000","v":0},0]
[0.1,{"$f":"'Daily Calcs'!J9295/1000000","v":0},{"$f":"'Daily Calcs'!K9295/1000000","v":0},0]
[0.1,{"$f":"'Daily Calcs'!J9296/1000000","v":0},{"$f":"'Daily Calcs'!K9296/1000000","v":0},0]
[0.1,{"$f":"'Daily Calcs'!J9297/1000000","v":0},{"$f":"'Daily Calcs'!K9297/1000000","v":0},0]
[0.1,{"$f":"'Daily Calcs'!J9298/1000000","v":0},{"$f":"'Daily Calcs'!K9298/1000000","v":0},0]
[0.1,{"$f":"'Daily Calcs'!J9299/1000000","v":0},{"$f":"'Daily Calcs'!K9299/1000000","v":0},0]
[0.1,{"$f":"'Daily Calcs'!J9300/1000000","v":0},{"$f":"'Daily Calcs'!K9300/1000000","v":0},0]
[0.1,{"$f":"'Daily Calcs'!J9301/1000000","v":0},{"$f":"'Daily Calcs'!K9301/1000000","v":0},0]
[0.1,{"$f":"'Daily Calcs'!J9302/1000000","v":0},{"$f":"'Daily Calcs'!K9302/1000000","v":0},0]
[0.1,{"$f":"'Daily Calcs'!J9303/1000000","v":0},{"$f":"'Daily Calcs'!K9303/1000000","v":0},0]
[0.1,{"$f":"'Daily Calcs'!J9304/1000000","v":0},{"$f":"'Daily Calcs'!K9304/1000000","v":0},0]
[0.1,{"$f":"'Daily Calcs'!J9305/1000000","v":0},{"$f":"'Daily Calcs'!K9305/1000000","v":0},0]
[0.1,{"$f":"'Daily Calcs'!J9306/1000000","v":0},{"$f":"'Daily Calcs'!K9306/1000000","v":0},0]
[0.1,{"$f":"'Daily Calcs'!J9307/1000000","v":0},{"$f":"'Daily Calcs'!K9307/1000000","v":0},0]
[0.1,{"$f":"'Daily Calcs'!J9308/1000000","v":0},{"$f":"'Daily Calcs'!K9308/1000000","v":0},0]
[0.1,{"$f":"'Daily Calcs'!J9309/1000000","v":0},{"$f":"'Daily Calcs'!K9309/1000000","v":0},0]
[0.1,{"$f":"'Daily Calcs'!J9310/1000000","v":0},{"$f":"'Daily Calcs'!K9310/1000000","v":0},0]
[0.1,{"$f":"'Daily Calcs'!J9311/1000000","v":2.625308134757601E-16},{"$f":"'Daily Calcs'!K9311/1000000","v":2.6253081347576044E-16},2.625308134757601E-16]
[0.1,{"$f":"'Daily Calcs'!J9312/1000000","v":0},{"$f":"'Daily Calcs'!K9312/1000000","v":0},0]
[0.1,{"$f":"'Daily Calcs'!J9313/1000000","v":0},{"$f":"'Daily Calcs'!K9313/1000000","v":0},0]
[0.1,{"$f":"'Daily Calcs'!J9314/1000000","v":0},{"$f":"'Daily Calcs'!K9314/1000000","v":0},0]
[0.1,{"$f":"'Daily Calcs'!J9315/1000000","v":0},{"$f":"'Daily Calcs'!K9315/1000000","v":0},0]
[0.1,{"$f":"'Daily Calcs'!J9316/1000000","v":0},{"$f":"'Daily Calcs'!K9316/1000000","v":0},0]
[0.1,{"$f":"'Daily Calcs'!J9317/1000000","v":0},{"$f":"'Daily Calcs'!K9317/1000000","v":0},0]
[0.1,{"$f":"'Daily Calcs'!J9318/1000000","v":0},{"$f":"'Daily Calcs'!K9318/1000000","v":0},0]
[0.1,{"$f":"'Daily Calcs'!J9319/1000000","v":0},{"$f":"'Daily Calcs'!K9319/1000000","v":0},0]
[0.1,{"$f":"'Daily Calcs'!J9320/1000000","v":0},{"$f":"'Daily Calcs'!K9320/1000000","v":0},0]
[0.1,{"$f":"'Daily Calcs'!J9321/1000000","v":0},{"$f":"'Daily Calcs'!K9321/1000000","v":0},0]
[0.1,{"$f":"'Daily Calcs'!J9322/1000000","v":0},{"$f":"'Daily Calcs'!K9322/1000000","v":0},0]
[0.1,{"$f":"'Daily Calcs'!J9323/1000000","v":0},{"$f":"'Daily Calcs'!K9323/1000000","v":0},0]
[0.1,{"$f":"'Daily Calcs'!J9324/1000000","v":0},{"$f":"'Daily Calcs'!K9324/1000000","v":0},0]
[0.1,{"$f":"'Daily Calcs'!J9325/1000000","v":0},{"$f":"'Daily Calcs'!K9325/1000000","v":0},0]
[0.1,{"$f":"'Daily Calcs'!J9326/1000000","v":0},{"$f":"'Daily Calcs'!K9326/1000000","v":0},0]
[0.1,{"$f":"'Daily Calcs'!J9327/1000000","v":0},{"$f":"'Daily Calcs'!K9327/1000000","v":0},0]
[0.1,{"$f":"'Daily Calcs'!J9328/1000000","v":0},{"$f":"'Daily Calcs'!K9328/1000000","v":0},0]
[0.1,{"$f":"'Daily Calcs'!J9329/1000000","v":0},{"$f":"'Daily Calcs'!K9329/1000000","v":0},0]
[0.1,{"$f":"'Daily Calcs'!J9330/1000000","v":0},{"$f":"'Daily Calcs'!K9330/1000000","v":0},0]
[0.1,{"$f":"'Daily Calcs'!J9331/1000000","v":0},{"$f":"'Daily Calcs'!K9331/1000000","v":0},0]
[0.1,{"$f":"'Daily Calcs'!J9332/1000000","v":0},{"$f":"'Daily Calcs'!K9332/1000000","v":0},0]
[0.1,{"$f":"'Daily Calcs'!J9333/1000000","v":0},{"$f":"'Daily Calcs'!K9333/1000000","v":0},0]
[0.1,{"$f":"'Daily Calcs'!J9334/1000000","v":1.3979255068363982E-5},{"$f":"'Daily Calcs'!K9334/1000000","v":1.407806290833165E-5},1.3979255068363982E-5]
[0.1,{"$f":"'Daily Calcs'!J9335/1000000","v":0},{"$f":"'Daily Calcs'!K9335/1000000","v":0},0]
[0.1,{"$f":"'Daily Calcs'!J9336/1000000","v":9.9649655494569639E-6},{"$f":"'Daily Calcs'!K9336/1000000","v":1.0016493635408151E-5},9.9649655494569639E-6]
[0.1,{"$f":"'Daily Calcs'!J9337/1000000","v":8.1215642094118608E-6},{"$f":"'Daily Calcs'!K9337/1000000","v":8.1422013492052711E-6},8.1215642094118608E-6]
[0.1,{"$f":"'Daily Calcs'!J9338/1000000","v":2.4537444933920706E-5},{"$f":"'Daily Calcs'!K9338/1000000","v":2.4840220264317178E-5},2.4537444933920706E-5]
[0.1,{"$f":"'Daily Calcs'!J9339/1000000","v":0},{"$f":"'Daily Calcs'!K9339/1000000","v":0},0]
[0.1,{"$f":"'Daily Calcs'!J9340/1000000","v":0},{"$f":"'Daily Calcs'!K9340/1000000","v":0},0]
[0.1,{"$f":"'Daily Calcs'!J9341/1000000","v":0},{"$f":"'Daily Calcs'!K9341/1000000","v":0},0]
[0.1,{"$f":"'Daily Calcs'!J9342/1000000","v":0},{"$f":"'Daily Calcs'!K9342/1000000","v":0},0]
[0.1,{"$f":"'Daily Calcs'!J9343/1000000","v":0},{"$f":"'Daily Calcs'!K9343/1000000","v":0},0]
[0.1,{"$f":"'Daily Calcs'!J9344/1000000","v":0},{"$f":"'Daily Calcs'!K9344/1000000","v":0},0]
[0.1,{"$f":"'Daily Calcs'!J9345/1000000","v":1.4549121548942277E-5},{"$f":"'Daily Calcs'!K9345/1000000","v":1.4620918788096093E-5},1.4549121548942277E-5]
[0.1,{"$f":"'Daily Calcs'!J9346/1000000","v":0},{"$f":"'Daily Calcs'!K9346/1000000","v":0},0]
[0.1,{"$f":"'Daily Calcs'!J9347/1000000","v":0},{"$f":"'Daily Calcs'!K9347/1000000","v":0},{"$f":"B9351","v":0}]
[0.1,{"$f":"'Daily Calcs'!J9348/1000000","v":0},{"$f":"'Daily Calcs'!K9348/1000000","v":0},0]
[0.1,{"$f":"'Daily Calcs'!J9349/1000000","v":0},{"$f":"'Daily Calcs'!K9349/1000000","v":0},0]
[0.1,{"$f":"'Daily Calcs'!J9350/1000000","v":0},{"$f":"'Daily Calcs'!K9350/1000000","v":0},0]
[0.1,{"$f":"'Daily Calcs'!J9351/1000000","v":0},{"$f":"'Daily Calcs'!K9351/1000000","v":0},0]
[0.1,{"$f":"'Daily Calcs'!J9352/1000000","v":1.0956403371373162E-5},{"$f":"'Daily Calcs'!K9352/1000000","v":1.0969764302230178E-5},1.0956403371373162E-5]
[0.1,{"$f":"'Daily Calcs'!J9353/1000000","v":8.3421390100025656E-6},{"$f":"'Daily Calcs'!K9353/1000000","v":8.3514983329058737E-6},8.3421390100025656E-6]
[0.1,{"$f":"'Daily Calcs'!J9354/1000000","v":7.3956829112096133E-6},{"$f":"'Daily Calcs'!K9354/1000000","v":7.3992302572924637E-6},7.3956829112096133E-6]
[0.1,{"$f":"'Daily Calcs'!J9355/1000000","v":6.2091790089595891E-6},{"$f":"'Daily Calcs'!K9355/1000000","v":6.2112516364966167E-6},6.2091790089595891E-6]
[0.1,{"$f":"'Daily Calcs'!J9356/1000000","v":0},{"$f":"'Daily Calcs'!K9356/1000000","v":0},0]
[0.1,{"$f":"'Daily Calcs'!J9357/1000000","v":0},{"$f":"'Daily Calcs'!K9357/1000000","v":0},0]
[0.1,{"$f":"'Daily Calcs'!J9358/1000000","v":0},{"$f":"'Daily Calcs'!K9358/1000000","v":0},0]
[0.1,{"$f":"'Daily Calcs'!J9359/1000000","v":0},{"$f":"'Daily Calcs'!K9359/1000000","v":0},0]
[0.1,{"$f":"'Daily Calcs'!J9360/1000000","v":0},{"$f":"'Daily Calcs'!K9360/1000000","v":0},0]
[0.1,{"$f":"'Daily Calcs'!J9361/1000000","v":0},{"$f":"'Daily Calcs'!K9361/1000000","v":0},0]
[0.1,{"$f":"'Daily Calcs'!J9362/1000000","v":0},{"$f":"'Daily Calcs'!K9362/1000000","v":0},0]
[0.1,{"$f":"'Daily Calcs'!J9363/1000000","v":0},{"$f":"'Daily Calcs'!K9363/1000000","v":0},0]
[0.1,{"$f":"'Daily Calcs'!J9364/1000000","v":0},{"$f":"'Daily Calcs'!K9364/1000000","v":0},0]
[0.1,{"$f":"'Daily Calcs'!J9365/1000000","v":0},{"$f":"'Daily Calcs'!K9365/1000000","v":0},0]
[0.1,{"$f":"'Daily Calcs'!J9366/1000000","v":0},{"$f":"'Daily Calcs'!K9366/1000000","v":0},0]
[0.1,{"$f":"'Daily Calcs'!J9367/1000000","v":0},{"$f":"'Daily Calcs'!K9367/1000000","v":0},0]
[0.1,{"$f":"'Daily Calcs'!J9368/1000000","v":0},{"$f":"'Daily Calcs'!K9368/1000000","v":0},0]
[0.1,{"$f":"'Daily Calcs'!J9369/1000000","v":0},{"$f":"'Daily Calcs'!K9369/1000000","v":0},0]
[0.1,{"$f":"'Daily Calcs'!J9370/1000000","v":4.0262006981503029E-6},{"$f":"'Daily Calcs'!K9370/1000000","v":4.0263346948601685E-6},4.0262006981503029E-6]
[0.1,{"$f":"'Daily Calcs'!J9371/1000000","v":2.87475442043222E-6},{"$f":"'Daily Calcs'!K9371/1000000","v":2.8748429420432217E-6},2.87475442043222E-6]
[0.1,{"$f":"'Daily Calcs'!J9372/1000000","v":0},{"$f":"'Daily Calcs'!K9372/1000000","v":0},0]
[0.1,{"$f":"'Daily Calcs'!J9373/1000000","v":0},{"$f":"'Daily Calcs'!K9373/1000000","v":0},0]
[0.1,{"$f":"'Daily Calcs'!J9374/1000000","v":0},{"$f":"'Daily Calcs'!K9374/1000000","v":0},0]
[0.1,{"$f":"'Daily Calcs'!J9375/1000000","v":2.3925622237729706E-6},{"$f":"'Daily Calcs'!K9375/1000000","v":2.3925849566759711E-6},2.3925622237729706E-6]
[0.1,{"$f":"'Daily Calcs'!J9376/1000000","v":1.8885511399028278E-6},{"$f":"'Daily Calcs'!K9376/1000000","v":1.8885690701382835E-6},1.8885511399028278E-6]
[0.1,{"$f":"'Daily Calcs'!J9377/1000000","v":1.7290786798060378E-6},{"$f":"'Daily Calcs'!K9377/1000000","v":1.7290852677928983E-6},1.7290786798060378E-6]
[0.1,{"$f":"'Daily Calcs'!J9378/1000000","v":0},{"$f":"'Daily Calcs'!K9378/1000000","v":0},0]
[0.1,{"$f":"'Daily Calcs'!J9379/1000000","v":1.1272158090393272E-6},{"$f":"'Daily Calcs'!K9379/1000000","v":1.1272193987869303E-6},1.1272158090393272E-6]
[0.1,{"$f":"'Daily Calcs'!J9380/1000000","v":0},{"$f":"'Daily Calcs'!K9380/1000000","v":0},0]
[0.1,{"$f":"'Daily Calcs'!J9381/1000000","v":0},{"$f":"'Daily Calcs'!K9381/1000000","v":0},0]
[0.1,{"$f":"'Daily Calcs'!J9382/1000000","v":9.3494603647190181E-7},{"$f":"'Daily Calcs'!K9382/1000000","v":9.3494697329735777E-7},9.3494603647190181E-7]
[0.1,{"$f":"'Daily Calcs'!J9383/1000000","v":0},{"$f":"'Daily Calcs'!K9383/1000000","v":0},0]
[0.1,{"$f":"'Daily Calcs'!J9384/1000000","v":0},{"$f":"'Daily Calcs'!K9384/1000000","v":0},0]
[0.1,{"$f":"'Daily Calcs'!J9385/1000000","v":0},{"$f":"'Daily Calcs'!K9385/1000000","v":0},0]
[0.1,{"$f":"'Daily Calcs'!J9386/1000000","v":0},{"$f":"'Daily Calcs'!K9386/1000000","v":0},0]
[0.1,{"$f":"'Daily Calcs'!J9387/1000000","v":0},{"$f":"'Daily Calcs'!K9387/1000000","v":0},0]
[0.1,{"$f":"'Daily Calcs'!J9388/1000000","v":0},{"$f":"'Daily Calcs'!K9388/1000000","v":0},0]
[0.1,{"$f":"'Daily Calcs'!J9389/1000000","v":0},{"$f":"'Daily Calcs'!K9389/1000000","v":0},0]
[0.1,{"$f":"'Daily Calcs'!J9390/1000000","v":0},{"$f":"'Daily Calcs'!K9390/1000000","v":0},0]
[0.1,{"$f":"'Daily Calcs'!J9391/1000000","v":0},{"$f":"'Daily Calcs'!K9391/1000000","v":0},0]
[0.1,{"$f":"'Daily Calcs'!J9392/1000000","v":0},{"$f":"'Daily Calcs'!K9392/1000000","v":0},0]
[0.1,{"$f":"'Daily Calcs'!J9393/1000000","v":5.5880817746846456E-7},{"$f":"'Daily Calcs'!K9393/1000000","v":5.5880836612440184E-7},5.5880817746846456E-7]
[0.1,{"$f":"'Daily Calcs'!J9394/1000000","v":0},{"$f":"'Daily Calcs'!K9394/1000000","v":0},0]
[0.1,{"$f":"'Daily Calcs'!J9395/1000000","v":0},{"$f":"'Daily Calcs'!K9395/1000000","v":0},0]
[0.1,{"$f":"'Daily Calcs'!J9396/1000000","v":4.2074876577070768E-7},{"$f":"'Daily Calcs'!K9396/1000000","v":4.2074886931568847E-7},4.2074876577070768E-7]
[0.1,{"$f":"'Daily Calcs'!J9397/1000000","v":0},{"$f":"'Daily Calcs'!K9397/1000000","v":0},0]
[0.1,{"$f":"'Daily Calcs'!J9398/1000000","v":0},{"$f":"'Daily Calcs'!K9398/1000000","v":0},0]
[0.1,{"$f":"'Daily Calcs'!J9399/1000000","v":0},{"$f":"'Daily Calcs'!K9399/1000000","v":0},0]
[0.1,{"$f":"'Daily Calcs'!J9400/1000000","v":0},{"$f":"'Daily Calcs'!K9400/1000000","v":0},0]
[0.1,{"$f":"'Daily Calcs'!J9401/1000000","v":0},{"$f":"'Daily Calcs'!K9401/1000000","v":0},0]
[0.1,{"$f":"'Daily Calcs'!J9402/1000000","v":0},{"$f":"'Daily Calcs'!K9402/1000000","v":0},0]
[0.1,{"$f":"'Daily Calcs'!J9403/1000000","v":0},{"$f":"'Daily Calcs'!K9403/1000000","v":0},0]
[0.1,{"$f":"'Daily Calcs'!J9404/1000000","v":0},{"$f":"'Daily Calcs'!K9404/1000000","v":0},0]
[0.1,{"$f":"'Daily Calcs'!J9405/1000000","v":0},{"$f":"'Daily Calcs'!K9405/1000000","v":0},0]
[0.1,{"$f":"'Daily Calcs'!J9406/1000000","v":0},{"$f":"'Daily Calcs'!K9406/1000000","v":0},0]
[0.1,{"$f":"'Daily Calcs'!J9407/1000000","v":0},{"$f":"'Daily Calcs'!K9407/1000000","v":0},0]
[0.1,{"$f":"'Daily Calcs'!J9408/1000000","v":0},{"$f":"'Daily Calcs'!K9408/1000000","v":0},0]
[0.1,{"$f":"'Daily Calcs'!J9409/1000000","v":0},{"$f":"'Daily Calcs'!K9409/1000000","v":0},0]
[0.1,{"$f":"'Daily Calcs'!J9410/1000000","v":0},{"$f":"'Daily Calcs'!K9410/1000000","v":0},0]
[0.1,{"$f":"'Daily Calcs'!J9411/1000000","v":0},{"$f":"'Daily Calcs'!K9411/1000000","v":0},{"$f":"B9415","v":0}]
[0.1,{"$f":"'Daily Calcs'!J9412/1000000","v":0},{"$f":"'Daily Calcs'!K9412/1000000","v":0},0]
[0.1,{"$f":"'Daily Calcs'!J9413/1000000","v":0},{"$f":"'Daily Calcs'!K9413/1000000","v":0},0]
[0.1,{"$f":"'Daily Calcs'!J9414/1000000","v":0},{"$f":"'Daily Calcs'!K9414/1000000","v":0},0]
[0.1,{"$f":"'Daily Calcs'!J9415/1000000","v":1.9645859085290481E-7},{"$f":"'Daily Calcs'!K9415/1000000","v":1.9645859894993824E-7},1.9645859085290481E-7]
[0.1,{"$f":"'Daily Calcs'!J9416/1000000","v":0},{"$f":"'Daily Calcs'!K9416/1000000","v":0},0]
[0.1,{"$f":"'Daily Calcs'!J9417/1000000","v":1.433608776178943E-7},{"$f":"'Daily Calcs'!K9417/1000000","v":1.4336088281485968E-7},1.433608776178943E-7]
[0.1,{"$f":"'Daily Calcs'!J9418/1000000","v":8.5418433700876459E-8},{"$f":"'Daily Calcs'!K9418/1000000","v":8.5418435581165777E-8},8.5418433700876459E-8]
[0.1,{"$f":"'Daily Calcs'!J9419/1000000","v":0},{"$f":"'Daily Calcs'!K9419/1000000","v":0},0]
[0.1,{"$f":"'Daily Calcs'!J9420/1000000","v":0},{"$f":"'Daily Calcs'!K9420/1000000","v":0},0]
[0.1,{"$f":"'Daily Calcs'!J9421/1000000","v":0},{"$f":"'Daily Calcs'!K9421/1000000","v":0},0]
[0.1,{"$f":"'Daily Calcs'!J9422/1000000","v":0},{"$f":"'Daily Calcs'!K9422/1000000","v":0},0]
[0.1,{"$f":"'Daily Calcs'!J9423/1000000","v":0},{"$f":"'Daily Calcs'!K9423/1000000","v":0},0]
[0.1,{"$f":"'Daily Calcs'!J9424/1000000","v":0},{"$f":"'Daily Calcs'!K9424/1000000","v":0},0]
[0.1,{"$f":"'Daily Calcs'!J9425/1000000","v":0},{"$f":"'Daily Calcs'!K9425/1000000","v":0},0]
[0.1,{"$f":"'Daily Calcs'!J9426/1000000","v":0},{"$f":"'Daily Calcs'!K9426/1000000","v":0},0]
[0.1,{"$f":"'Daily Calcs'!J9427/1000000","v":0},{"$f":"'Daily Calcs'!K9427/1000000","v":0},0]
[0.1,{"$f":"'Daily Calcs'!J9428/1000000","v":0},{"$f":"'Daily Calcs'!K9428/1000000","v":0},0]
[0.1,{"$f":"'Daily Calcs'!J9429/1000000","v":0},{"$f":"'Daily Calcs'!K9429/1000000","v":0},0]
[0.1,{"$f":"'Daily Calcs'!J9430/1000000","v":3.6838905775075992E-8},{"$f":"'Daily Calcs'!K9430/1000000","v":3.6838906016990111E-8},3.6838905775075992E-8]
[0.1,{"$f":"'Daily Calcs'!J9431/1000000","v":0},{"$f":"'Daily Calcs'!K9431/1000000","v":0},0]
[0.1,{"$f":"'Daily Calcs'!J9432/1000000","v":0},{"$f":"'Daily Calcs'!K9432/1000000","v":0},0]
[0.1,{"$f":"'Daily Calcs'!J9433/1000000","v":0},{"$f":"'Daily Calcs'!K9433/1000000","v":0},0]
[0.1,{"$f":"'Daily Calcs'!J9434/1000000","v":0},{"$f":"'Daily Calcs'!K9434/1000000","v":0},0]
[0.1,{"$f":"'Daily Calcs'!J9435/1000000","v":0},{"$f":"'Daily Calcs'!K9435/1000000","v":0},0]
[0.1,{"$f":"'Daily Calcs'!J9436/1000000","v":0},{"$f":"'Daily Calcs'!K9436/1000000","v":0},0]
[0.1,{"$f":"'Daily Calcs'!J9437/1000000","v":0},{"$f":"'Daily Calcs'!K9437/1000000","v":0},0]
[0.1,{"$f":"'Daily Calcs'!J9438/1000000","v":0},{"$f":"'Daily Calcs'!K9438/1000000","v":0},0]
[0.1,{"$f":"'Daily Calcs'!J9439/1000000","v":0},{"$f":"'Daily Calcs'!K9439/1000000","v":0},0]
[0.1,{"$f":"'Daily Calcs'!J9440/1000000","v":0},{"$f":"'Daily Calcs'!K9440/1000000","v":0},0]
[0.1,{"$f":"'Daily Calcs'!J9441/1000000","v":0},{"$f":"'Daily Calcs'!K9441/1000000","v":0},0]
[0.1,{"$f":"'Daily Calcs'!J9442/1000000","v":0},{"$f":"'Daily Calcs'!K9442/1000000","v":0},0]
[0.1,{"$f":"'Daily Calcs'!J9443/1000000","v":0},{"$f":"'Daily Calcs'!K9443/1000000","v":0},0]
[0.1,{"$f":"'Daily Calcs'!J9444/1000000","v":0},{"$f":"'Daily Calcs'!K9444/1000000","v":0},0]
[0.1,{"$f":"'Daily Calcs'!J9445/1000000","v":0},{"$f":"'Daily Calcs'!K9445/1000000","v":0},0]
[0.1,{"$f":"'Daily Calcs'!J9446/1000000","v":0},{"$f":"'Daily Calcs'!K9446/1000000","v":0},0]
[0.1,{"$f":"'Daily Calcs'!J9447/1000000","v":2.3271180304127439E-8},{"$f":"'Daily Calcs'!K9447/1000000","v":2.3271180329567343E-8},2.3271180304127439E-8]
[0.1,{"$f":"'Daily Calcs'!J9448/1000000","v":1.8937296795169531E-8},{"$f":"'Daily Calcs'!K9448/1000000","v":1.8937296811648862E-8},1.8937296795169531E-8]
[0.1,{"$f":"'Daily Calcs'!J9449/1000000","v":0},{"$f":"'Daily Calcs'!K9449/1000000","v":0},0]
[0.1,{"$f":"'Daily Calcs'!J9450/1000000","v":0},{"$f":"'Daily Calcs'!K9450/1000000","v":0},0]
[0.1,{"$f":"'Daily Calcs'!J9451/1000000","v":1.3383299877473344E-8},{"$f":"'Daily Calcs'!K9451/1000000","v":1.3383299884695639E-8},1.3383299877473344E-8]
[0.1,{"$f":"'Daily Calcs'!J9452/1000000","v":0},{"$f":"'Daily Calcs'!K9452/1000000","v":0},0]
[0.1,{"$f":"'Daily Calcs'!J9453/1000000","v":1.1269722837894181E-8},{"$f":"'Daily Calcs'!K9453/1000000","v":1.1269722842110647E-8},1.1269722837894181E-8]
[0.1,{"$f":"'Daily Calcs'!J9454/1000000","v":0},{"$f":"'Daily Calcs'!K9454/1000000","v":0},0]
[0.1,{"$f":"'Daily Calcs'!J9455/1000000","v":0},{"$f":"'Daily Calcs'!K9455/1000000","v":0},0]
[0.1,{"$f":"'Daily Calcs'!J9456/1000000","v":5.368000699565687E-9},{"$f":"'Daily Calcs'!K9456/1000000","v":5.3680007017423268E-9},5.368000699565687E-9]
[0.1,{"$f":"'Daily Calcs'!J9457/1000000","v":0},{"$f":"'Daily Calcs'!K9457/1000000","v":0},0]
[0.1,{"$f":"'Daily Calcs'!J9458/1000000","v":0},{"$f":"'Daily Calcs'!K9458/1000000","v":0},0]
[0.1,{"$f":"'Daily Calcs'!J9459/1000000","v":4.3025982678214515E-9},{"$f":"'Daily Calcs'!K9459/1000000","v":4.3025982684764023E-9},4.3025982678214515E-9]
[0.1,{"$f":"'Daily Calcs'!J9460/1000000","v":0},{"$f":"'Daily Calcs'!K9460/1000000","v":0},0]
[0.1,{"$f":"'Daily Calcs'!J9461/1000000","v":3.5730841921335094E-9},{"$f":"'Daily Calcs'!K9461/1000000","v":3.5730841925589623E-9},3.5730841921335094E-9]
[0.1,{"$f":"'Daily Calcs'!J9462/1000000","v":2.1012589684581018E-9},{"$f":"'Daily Calcs'!K9462/1000000","v":2.1012589687648568E-9},2.1012589684581018E-9]
[0.1,{"$f":"'Daily Calcs'!J9463/1000000","v":0},{"$f":"'Daily Calcs'!K9463/1000000","v":0},0]
[0.1,{"$f":"'Daily Calcs'!J9464/1000000","v":1.7907880133185349E-9},{"$f":"'Daily Calcs'!K9464/1000000","v":1.790788013400049E-9},1.7907880133185349E-9]
[0.1,{"$f":"'Daily Calcs'!J9465/1000000","v":1.4581550771223088E-9},{"$f":"'Daily Calcs'!K9465/1000000","v":1.4581550771952049E-9},1.4581550771223088E-9]
[0.1,{"$f":"'Daily Calcs'!J9466/1000000","v":7.9611326577421915E-10},{"$f":"'Daily Calcs'!K9466/1000000","v":7.9611326582116869E-10},7.9611326577421915E-10]
[0.1,{"$f":"'Daily Calcs'!J9467/1000000","v":5.7804789231136286E-10},{"$f":"'Daily Calcs'!K9467/1000000","v":5.7804789232982781E-10},5.7804789231136286E-10]
[0.1,{"$f":"'Daily Calcs'!J9468/1000000","v":0},{"$f":"'Daily Calcs'!K9468/1000000","v":0},0]
[0.1,{"$f":"'Daily Calcs'!J9469/1000000","v":0},{"$f":"'Daily Calcs'!K9469/1000000","v":0},0]
[0.1,{"$f":"'Daily Calcs'!J9470/1000000","v":0},{"$f":"'Daily Calcs'!K9470/1000000","v":0},0]
[0.1,{"$f":"'Daily Calcs'!J9471/1000000","v":0},{"$f":"'Daily Calcs'!K9471/1000000","v":0},0]
[0.1,{"$f":"'Daily Calcs'!J9472/1000000","v":0},{"$f":"'Daily Calcs'!K9472/1000000","v":0},0]
[0.1,{"$f":"'Daily Calcs'!J9473/1000000","v":0},{"$f":"'Daily Calcs'!K9473/1000000","v":0},0]
[0.1,{"$f":"'Daily Calcs'!J9474/1000000","v":0},{"$f":"'Daily Calcs'!K9474/1000000","v":0},0]
[0.1,{"$f":"'Daily Calcs'!J9475/1000000","v":0},{"$f":"'Daily Calcs'!K9475/1000000","v":0},{"$f":"B9479","v":0}]
[0.1,{"$f":"'Daily Calcs'!J9476/1000000","v":2.9878007224153205E-10},{"$f":"'Daily Calcs'!K9476/1000000","v":2.9878007224708952E-10},2.9878007224153205E-10]
[0.1,{"$f":"'Daily Calcs'!J9477/1000000","v":1.8381487589843831E-10},{"$f":"'Daily Calcs'!K9477/1000000","v":1.8381487590124405E-10},1.8381487589843831E-10]
[0.1,{"$f":"'Daily Calcs'!J9478/1000000","v":0},{"$f":"'Daily Calcs'!K9478/1000000","v":0},0]
[0.1,{"$f":"'Daily Calcs'!J9479/1000000","v":0},{"$f":"'Daily Calcs'!K9479/1000000","v":0},0]
[0.1,{"$f":"'Daily Calcs'!J9480/1000000","v":0},{"$f":"'Daily Calcs'!K9480/1000000","v":0},0]
[0.1,{"$f":"'Daily Calcs'!J9481/1000000","v":0},{"$f":"'Daily Calcs'!K9481/1000000","v":0},0]
[0.1,{"$f":"'Daily Calcs'!J9482/1000000","v":0},{"$f":"'Daily Calcs'!K9482/1000000","v":0},0]
[0.1,{"$f":"'Daily Calcs'!J9483/1000000","v":1.0502566839483583E-10},{"$f":"'Daily Calcs'!K9483/1000000","v":1.0502566839549563E-10},1.0502566839483583E-10]
[0.1,{"$f":"'Daily Calcs'!J9484/1000000","v":0},{"$f":"'Daily Calcs'!K9484/1000000","v":0},0]
[0.1,{"$f":"'Daily Calcs'!J9485/1000000","v":0},{"$f":"'Daily Calcs'!K9485/1000000","v":0},0]
[0.1,{"$f":"'Daily Calcs'!J9486/1000000","v":0},{"$f":"'Daily Calcs'!K9486/1000000","v":0},0]
[0.1,{"$f":"'Daily Calcs'!J9487/1000000","v":0},{"$f":"'Daily Calcs'!K9487/1000000","v":0},0]
[0.1,{"$f":"'Daily Calcs'!J9488/1000000","v":0},{"$f":"'Daily Calcs'!K9488/1000000","v":0},0]
[0.1,{"$f":"'Daily Calcs'!J9489/1000000","v":4.7518565477268608E-11},{"$f":"'Daily Calcs'!K9489/1000000","v":4.7518565477512148E-11},4.7518565477268608E-11]
[0.1,{"$f":"'Daily Calcs'!J9490/1000000","v":3.7278865943620931E-11},{"$f":"'Daily Calcs'!K9490/1000000","v":3.7278865943710486E-11},3.7278865943620931E-11]
[0.1,{"$f":"'Daily Calcs'!J9491/1000000","v":0},{"$f":"'Daily Calcs'!K9491/1000000","v":0},0]
[0.1,{"$f":"'Daily Calcs'!J9492/1000000","v":0},{"$f":"'Daily Calcs'!K9492/1000000","v":0},0]
[0.1,{"$f":"'Daily Calcs'!J9493/1000000","v":0},{"$f":"'Daily Calcs'!K9493/1000000","v":0},0]
[0.1,{"$f":"'Daily Calcs'!J9494/1000000","v":0},{"$f":"'Daily Calcs'!K9494/1000000","v":0},0]
[0.1,{"$f":"'Daily Calcs'!J9495/1000000","v":0},{"$f":"'Daily Calcs'!K9495/1000000","v":0},0]
[0.1,{"$f":"'Daily Calcs'!J9496/1000000","v":0},{"$f":"'Daily Calcs'!K9496/1000000","v":0},0]
[0.1,{"$f":"'Daily Calcs'!J9497/1000000","v":0},{"$f":"'Daily Calcs'!K9497/1000000","v":0},0]
[0.1,{"$f":"'Daily Calcs'!J9498/1000000","v":2.7584880253919399E-11},{"$f":"'Daily Calcs'!K9498/1000000","v":2.7584880253962171E-11},2.7584880253919399E-11]
[0.1,{"$f":"'Daily Calcs'!J9499/1000000","v":0},{"$f":"'Daily Calcs'!K9499/1000000","v":0},0]
[0.1,{"$f":"'Daily Calcs'!J9500/1000000","v":0},{"$f":"'Daily Calcs'!K9500/1000000","v":0},0]
[0.1,{"$f":"'Daily Calcs'!J9501/1000000","v":0},{"$f":"'Daily Calcs'!K9501/1000000","v":0},0]
[0.1,{"$f":"'Daily Calcs'!J9502/1000000","v":0},{"$f":"'Daily Calcs'!K9502/1000000","v":0},0]
[0.1,{"$f":"'Daily Calcs'!J9503/1000000","v":0},{"$f":"'Daily Calcs'!K9503/1000000","v":0},0]
[0.1,{"$f":"'Daily Calcs'!J9504/1000000","v":0},{"$f":"'Daily Calcs'!K9504/1000000","v":0},0]
[0.1,{"$f":"'Daily Calcs'!J9505/1000000","v":0},{"$f":"'Daily Calcs'!K9505/1000000","v":0},0]
[0.1,{"$f":"'Daily Calcs'!J9506/1000000","v":0},{"$f":"'Daily Calcs'!K9506/1000000","v":0},0]
[0.1,{"$f":"'Daily Calcs'!J9507/1000000","v":0},{"$f":"'Daily Calcs'!K9507/1000000","v":0},0]
[0.1,{"$f":"'Daily Calcs'!J9508/1000000","v":0},{"$f":"'Daily Calcs'!K9508/1000000","v":0},0]
[0.1,{"$f":"'Daily Calcs'!J9509/1000000","v":0},{"$f":"'Daily Calcs'!K9509/1000000","v":0},0]
[0.1,{"$f":"'Daily Calcs'!J9510/1000000","v":0},{"$f":"'Daily Calcs'!K9510/1000000","v":0},0]
[0.1,{"$f":"'Daily Calcs'!J9511/1000000","v":0},{"$f":"'Daily Calcs'!K9511/1000000","v":0},0]
[0.1,{"$f":"'Daily Calcs'!J9512/1000000","v":0},{"$f":"'Daily Calcs'!K9512/1000000","v":0},0]
[0.1,{"$f":"'Daily Calcs'!J9513/1000000","v":1.3376962131445341E-11},{"$f":"'Daily Calcs'!K9513/1000000","v":1.3376962131452959E-11},1.3376962131445341E-11]
[0.1,{"$f":"'Daily Calcs'!J9514/1000000","v":9.2720889409011115E-12},{"$f":"'Daily Calcs'!K9514/1000000","v":9.272088940906241E-12},9.2720889409011115E-12]
[0.1,{"$f":"'Daily Calcs'!J9515/1000000","v":3.9452571967909396E-12},{"$f":"'Daily Calcs'!K9515/1000000","v":3.9452571967935746E-12},3.9452571967909396E-12]
[0.1,{"$f":"'Daily Calcs'!J9516/1000000","v":2.9025460093449034E-12},{"$f":"'Daily Calcs'!K9516/1000000","v":2.9025460093456999E-12},2.9025460093449034E-12]
[0.1,{"$f":"'Daily Calcs'!J9517/1000000","v":0},{"$f":"'Daily Calcs'!K9517/1000000","v":0},0]
[0.1,{"$f":"'Daily Calcs'!J9518/1000000","v":1.7271525566304153E-12},{"$f":"'Daily Calcs'!K9518/1000000","v":1.7271525566309217E-12},1.7271525566304153E-12]
[0.1,{"$f":"'Daily Calcs'!J9519/1000000","v":8.7159637286535993E-13},{"$f":"'Daily Calcs'!K9519/1000000","v":8.7159637286558238E-13},8.7159637286535993E-13]
[0.1,{"$f":"'Daily Calcs'!J9520/1000000","v":0},{"$f":"'Daily Calcs'!K9520/1000000","v":0},0]
[0.1,{"$f":"'Daily Calcs'!J9521/1000000","v":0},{"$f":"'Daily Calcs'!K9521/1000000","v":0},0]
[0.1,{"$f":"'Daily Calcs'!J9522/1000000","v":3.764545002486326E-13},{"$f":"'Daily Calcs'!K9522/1000000","v":3.7645450024869687E-13},3.764545002486326E-13]
[0.1,{"$f":"'Daily Calcs'!J9523/1000000","v":0},{"$f":"'Daily Calcs'!K9523/1000000","v":0},0]
[0.1,{"$f":"'Daily Calcs'!J9524/1000000","v":0},{"$f":"'Daily Calcs'!K9524/1000000","v":0},0]
[0.1,{"$f":"'Daily Calcs'!J9525/1000000","v":0},{"$f":"'Daily Calcs'!K9525/1000000","v":0},0]
[0.1,{"$f":"'Daily Calcs'!J9526/1000000","v":0},{"$f":"'Daily Calcs'!K9526/1000000","v":0},0]
[0.1,{"$f":"'Daily Calcs'!J9527/1000000","v":0},{"$f":"'Daily Calcs'!K9527/1000000","v":0},0]
[0.1,{"$f":"'Daily Calcs'!J9528/1000000","v":0},{"$f":"'Daily Calcs'!K9528/1000000","v":0},0]
[0.1,{"$f":"'Daily Calcs'!J9529/1000000","v":0},{"$f":"'Daily Calcs'!K9529/1000000","v":0},0]
[0.1,{"$f":"'Daily Calcs'!J9530/1000000","v":0},{"$f":"'Daily Calcs'!K9530/1000000","v":0},0]
[0.1,{"$f":"'Daily Calcs'!J9531/1000000","v":0},{"$f":"'Daily Calcs'!K9531/1000000","v":0},0]
[0.1,{"$f":"'Daily Calcs'!J9532/1000000","v":0},{"$f":"'Daily Calcs'!K9532/1000000","v":0},0]
[0.1,{"$f":"'Daily Calcs'!J9533/1000000","v":0},{"$f":"'Daily Calcs'!K9533/1000000","v":0},0]
[0.1,{"$f":"'Daily Calcs'!J9534/1000000","v":1.038069283755768E-13},{"$f":"'Daily Calcs'!K9534/1000000","v":1.0380692837558401E-13},1.038069283755768E-13]
[0.1,{"$f":"'Daily Calcs'!J9535/1000000","v":8.2699797860277097E-14},{"$f":"'Daily Calcs'!K9535/1000000","v":8.2699797860279559E-14},8.2699797860277097E-14]
[0.1,{"$f":"'Daily Calcs'!J9536/1000000","v":0},{"$f":"'Daily Calcs'!K9536/1000000","v":0},0]
[0.1,{"$f":"'Daily Calcs'!J9537/1000000","v":0},{"$f":"'Daily Calcs'!K9537/1000000","v":0},0]
[0.1,{"$f":"'Daily Calcs'!J9538/1000000","v":0},{"$f":"'Daily Calcs'!K9538/1000000","v":0},0]
[0.1,{"$f":"'Daily Calcs'!J9539/1000000","v":0},{"$f":"'Daily Calcs'!K9539/1000000","v":0},{"$f":"B9543","v":0}]
[0.1,{"$f":"'Daily Calcs'!J9540/1000000","v":0},{"$f":"'Daily Calcs'!K9540/1000000","v":0},0]
[0.1,{"$f":"'Daily Calcs'!J9541/1000000","v":0},{"$f":"'Daily Calcs'!K9541/1000000","v":0},0]
[0.1,{"$f":"'Daily Calcs'!J9542/1000000","v":0},{"$f":"'Daily Calcs'!K9542/1000000","v":0},0]
[0.1,{"$f":"'Daily Calcs'!J9543/1000000","v":0},{"$f":"'Daily Calcs'!K9543/1000000","v":0},0]
[0.1,{"$f":"'Daily Calcs'!J9544/1000000","v":0},{"$f":"'Daily Calcs'!K9544/1000000","v":0},0]
[0.1,{"$f":"'Daily Calcs'!J9545/1000000","v":0},{"$f":"'Daily Calcs'!K9545/1000000","v":0},0]
[0.1,{"$f":"'Daily Calcs'!J9546/1000000","v":0},{"$f":"'Daily Calcs'!K9546/1000000","v":0},0]
[0.1,{"$f":"'Daily Calcs'!J9547/1000000","v":0},{"$f":"'Daily Calcs'!K9547/1000000","v":0},0]
[0.1,{"$f":"'Daily Calcs'!J9548/1000000","v":0},{"$f":"'Daily Calcs'!K9548/1000000","v":0},0]
[0.1,{"$f":"'Daily Calcs'!J9549/1000000","v":0},{"$f":"'Daily Calcs'!K9549/1000000","v":0},0]
[0.1,{"$f":"'Daily Calcs'!J9550/1000000","v":2.1403765011359947E-14},{"$f":"'Daily Calcs'!K9550/1000000","v":2.1403765011360357E-14},2.1403765011359947E-14]
[0.1,{"$f":"'Daily Calcs'!J9551/1000000","v":0},{"$f":"'Daily Calcs'!K9551/1000000","v":0},0]
[0.1,{"$f":"'Daily Calcs'!J9552/1000000","v":0},{"$f":"'Daily Calcs'!K9552/1000000","v":0},0]
[0.1,{"$f":"'Daily Calcs'!J9553/1000000","v":0},{"$f":"'Daily Calcs'!K9553/1000000","v":0},0]
[0.1,{"$f":"'Daily Calcs'!J9554/1000000","v":8.6579515337217486E-15},{"$f":"'Daily Calcs'!K9554/1000000","v":8.6579515337219159E-15},8.6579515337217486E-15]
[0.1,{"$f":"'Daily Calcs'!J9555/1000000","v":3.9951464878220971E-15},{"$f":"'Daily Calcs'!K9555/1000000","v":3.9951464878221571E-15},3.9951464878220971E-15]
[0.1,{"$f":"'Daily Calcs'!J9556/1000000","v":1.6299279633267846E-15},{"$f":"'Daily Calcs'!K9556/1000000","v":1.6299279633268026E-15},1.6299279633267846E-15]
[0.1,{"$f":"'Daily Calcs'!J9557/1000000","v":0},{"$f":"'Daily Calcs'!K9557/1000000","v":0},0]
[0.1,{"$f":"'Daily Calcs'!J9558/1000000","v":0},{"$f":"'Daily Calcs'!K9558/1000000","v":0},0]
[0.1,{"$f":"'Daily Calcs'!J9559/1000000","v":0},{"$f":"'Daily Calcs'!K9559/1000000","v":0},0]
[0.1,{"$f":"'Daily Calcs'!J9560/1000000","v":0},{"$f":"'Daily Calcs'!K9560/1000000","v":0},0]
[0.1,{"$f":"'Daily Calcs'!J9561/1000000","v":0},{"$f":"'Daily Calcs'!K9561/1000000","v":0},0]
[0.1,{"$f":"'Daily Calcs'!J9562/1000000","v":0},{"$f":"'Daily Calcs'!K9562/1000000","v":0},0]
[0.1,{"$f":"'Daily Calcs'!J9563/1000000","v":0},{"$f":"'Daily Calcs'!K9563/1000000","v":0},0]
[0.1,{"$f":"'Daily Calcs'!J9564/1000000","v":5.3369476506937157E-16},{"$f":"'Daily Calcs'!K9564/1000000","v":5.3369476506937404E-16},5.3369476506937157E-16]
[0.1,{"$f":"'Daily Calcs'!J9565/1000000","v":0},{"$f":"'Daily Calcs'!K9565/1000000","v":0},0]
[0.1,{"$f":"'Daily Calcs'!J9566/1000000","v":0},{"$f":"'Daily Calcs'!K9566/1000000","v":0},0]
[0.1,{"$f":"'Daily Calcs'!J9567/1000000","v":0},{"$f":"'Daily Calcs'!K9567/1000000","v":0},0]
[0.1,{"$f":"'Daily Calcs'!J9568/1000000","v":0},{"$f":"'Daily Calcs'!K9568/1000000","v":0},0]
[0.1,{"$f":"'Daily Calcs'!J9569/1000000","v":0},{"$f":"'Daily Calcs'!K9569/1000000","v":0},0]
[0.1,{"$f":"'Daily Calcs'!J9570/1000000","v":0},{"$f":"'Daily Calcs'!K9570/1000000","v":0},0]
[0.1,{"$f":"'Daily Calcs'!J9571/1000000","v":0},{"$f":"'Daily Calcs'!K9571/1000000","v":0},0]
[0.1,{"$f":"'Daily Calcs'!J9572/1000000","v":0},{"$f":"'Daily Calcs'!K9572/1000000","v":0},0]
[0.1,{"$f":"'Daily Calcs'!J9573/1000000","v":0},{"$f":"'Daily Calcs'!K9573/1000000","v":0},0]
[0.1,{"$f":"'Daily Calcs'!J9574/1000000","v":1.6073069512375869E-16},{"$f":"'Daily Calcs'!K9574/1000000","v":1.6073069512375901E-16},1.6073069512375869E-16]
[0.1,{"$f":"'Daily Calcs'!J9575/1000000","v":0},{"$f":"'Daily Calcs'!K9575/1000000","v":0},0]
[0.1,{"$f":"'Daily Calcs'!J9576/1000000","v":0},{"$f":"'Daily Calcs'!K9576/1000000","v":0},0]
[0.1,{"$f":"'Daily Calcs'!J9577/1000000","v":0},{"$f":"'Daily Calcs'!K9577/1000000","v":0},0]
[0.1,{"$f":"'Daily Calcs'!J9578/1000000","v":0},{"$f":"'Daily Calcs'!K9578/1000000","v":0},0]
[0.1,{"$f":"'Daily Calcs'!J9579/1000000","v":0},{"$f":"'Daily Calcs'!K9579/1000000","v":0},0]
[0.1,{"$f":"'Daily Calcs'!J9580/1000000","v":0},{"$f":"'Daily Calcs'!K9580/1000000","v":0},0]
[0.1,{"$f":"'Daily Calcs'!J9581/1000000","v":0},{"$f":"'Daily Calcs'!K9581/1000000","v":0},0]
[0.1,{"$f":"'Daily Calcs'!J9582/1000000","v":0},{"$f":"'Daily Calcs'!K9582/1000000","v":0},0]
[0.1,{"$f":"'Daily Calcs'!J9583/1000000","v":3.381156069364162E-17},{"$f":"'Daily Calcs'!K9583/1000000","v":3.3811560693641669E-17},3.381156069364162E-17]
[0.1,{"$f":"'Daily Calcs'!J9584/1000000","v":0},{"$f":"'Daily Calcs'!K9584/1000000","v":0},0]
[0.1,{"$f":"'Daily Calcs'!J9585/1000000","v":2.5332231000061242E-17},{"$f":"'Daily Calcs'!K9585/1000000","v":2.533223100006126E-17},2.5332231000061242E-17]
[0.1,{"$f":"'Daily Calcs'!J9586/1000000","v":1.1796050449955976E-17},{"$f":"'Daily Calcs'!K9586/1000000","v":1.1796050449955986E-17},1.1796050449955976E-17]
[0.1,{"$f":"'Daily Calcs'!J9587/1000000","v":0},{"$f":"'Daily Calcs'!K9587/1000000","v":0},0]
[0.1,{"$f":"'Daily Calcs'!J9588/1000000","v":0},{"$f":"'Daily Calcs'!K9588/1000000","v":0},0]
[0.1,{"$f":"'Daily Calcs'!J9589/1000000","v":6.9939844302901619E-18},{"$f":"'Daily Calcs'!K9589/1000000","v":6.9939844302901666E-18},6.9939844302901619E-18]
[0.1,{"$f":"'Daily Calcs'!J9590/1000000","v":3.5890211074492445E-18},{"$f":"'Daily Calcs'!K9590/1000000","v":3.5890211074492468E-18},3.5890211074492445E-18]
[0.1,{"$f":"'Daily Calcs'!J9591/1000000","v":0},{"$f":"'Daily Calcs'!K9591/1000000","v":0},0]
[0.1,{"$f":"'Daily Calcs'!J9592/1000000","v":0},{"$f":"'Daily Calcs'!K9592/1000000","v":0},0]
[0.1,{"$f":"'Daily Calcs'!J9593/1000000","v":0},{"$f":"'Daily Calcs'!K9593/1000000","v":0},0]
[0.1,{"$f":"'Daily Calcs'!J9594/1000000","v":0},{"$f":"'Daily Calcs'!K9594/1000000","v":0},0]
[0.1,{"$f":"'Daily Calcs'!J9595/1000000","v":0},{"$f":"'Daily Calcs'!K9595/1000000","v":0},0]
[0.1,{"$f":"'Daily Calcs'!J9596/1000000","v":0},{"$f":"'Daily Calcs'!K9596/1000000","v":0},0]
[0.1,{"$f":"'Daily Calcs'!J9597/1000000","v":0},{"$f":"'Daily Calcs'!K9597/1000000","v":0},0]
[0.1,{"$f":"'Daily Calcs'!J9598/1000000","v":0},{"$f":"'Daily Calcs'!K9598/1000000","v":0},0]
[0.1,{"$f":"'Daily Calcs'!J9599/1000000","v":0},{"$f":"'Daily Calcs'!K9599/1000000","v":0},0]
[0.1,{"$f":"'Daily Calcs'!J9600/1000000","v":0},{"$f":"'Daily Calcs'!K9600/1000000","v":0},0]
[0.1,{"$f":"'Daily Calcs'!J9601/1000000","v":0},{"$f":"'Daily Calcs'!K9601/1000000","v":0},0]
[0.1,{"$f":"'Daily Calcs'!J9602/1000000","v":0},{"$f":"'Daily Calcs'!K9602/1000000","v":0},0]
[0.1,{"$f":"'Daily Calcs'!J9603/1000000","v":0},{"$f":"'Daily Calcs'!K9603/1000000","v":0},{"$f":"B9607","v":0}]
[0.1,{"$f":"'Daily Calcs'!J9604/1000000","v":0},{"$f":"'Daily Calcs'!K9604/1000000","v":0},0]
[0.1,{"$f":"'Daily Calcs'!J9605/1000000","v":0},{"$f":"'Daily Calcs'!K9605/1000000","v":0},0]
[0.1,{"$f":"'Daily Calcs'!J9606/1000000","v":0},{"$f":"'Daily Calcs'!K9606/1000000","v":0},0]
[0.1,{"$f":"'Daily Calcs'!J9607/1000000","v":0},{"$f":"'Daily Calcs'!K9607/1000000","v":0},0]
[0.1,{"$f":"'Daily Calcs'!J9608/1000000","v":0},{"$f":"'Daily Calcs'!K9608/1000000","v":0},0]
[0.1,{"$f":"'Daily Calcs'!J9609/1000000","v":0},{"$f":"'Daily Calcs'!K9609/1000000","v":0},0]
[0.1,{"$f":"'Daily Calcs'!J9610/1000000","v":0},{"$f":"'Daily Calcs'!K9610/1000000","v":0},0]
[0.1,{"$f":"'Daily Calcs'!J9611/1000000","v":0},{"$f":"'Daily Calcs'!K9611/1000000","v":0},0]
[0.1,{"$f":"'Daily Calcs'!J9612/1000000","v":0},{"$f":"'Daily Calcs'!K9612/1000000","v":0},0]
[0.1,{"$f":"'Daily Calcs'!J9613/1000000","v":0},{"$f":"'Daily Calcs'!K9613/1000000","v":0},0]
[0.1,{"$f":"'Daily Calcs'!J9614/1000000","v":0},{"$f":"'Daily Calcs'!K9614/1000000","v":0},0]
[0.1,{"$f":"'Daily Calcs'!J9615/1000000","v":0},{"$f":"'Daily Calcs'!K9615/1000000","v":0},0]
[0.1,{"$f":"'Daily Calcs'!J9616/1000000","v":0},{"$f":"'Daily Calcs'!K9616/1000000","v":0},0]
[0.1,{"$f":"'Daily Calcs'!J9617/1000000","v":0},{"$f":"'Daily Calcs'!K9617/1000000","v":0},0]
[0.1,{"$f":"'Daily Calcs'!J9618/1000000","v":0},{"$f":"'Daily Calcs'!K9618/1000000","v":0},0]
[0.1,{"$f":"'Daily Calcs'!J9619/1000000","v":0},{"$f":"'Daily Calcs'!K9619/1000000","v":0},0]
[0.1,{"$f":"'Daily Calcs'!J9620/1000000","v":0},{"$f":"'Daily Calcs'!K9620/1000000","v":0},0]
[0.1,{"$f":"'Daily Calcs'!J9621/1000000","v":1.5129252675840975E-18},{"$f":"'Daily Calcs'!K9621/1000000","v":1.5129252675840979E-18},1.5129252675840975E-18]
[0.1,{"$f":"'Daily Calcs'!J9622/1000000","v":0},{"$f":"'Daily Calcs'!K9622/1000000","v":0},0]
[0.1,{"$f":"'Daily Calcs'!J9623/1000000","v":0},{"$f":"'Daily Calcs'!K9623/1000000","v":0},0]
[0.1,{"$f":"'Daily Calcs'!J9624/1000000","v":0},{"$f":"'Daily Calcs'!K9624/1000000","v":0},0]
[0.1,{"$f":"'Daily Calcs'!J9625/1000000","v":0},{"$f":"'Daily Calcs'!K9625/1000000","v":0},0]
[0.1,{"$f":"'Daily Calcs'!J9626/1000000","v":0},{"$f":"'Daily Calcs'!K9626/1000000","v":0},0]
[0.1,{"$f":"'Daily Calcs'!J9627/1000000","v":0},{"$f":"'Daily Calcs'!K9627/1000000","v":0},0]
[0.1,{"$f":"'Daily Calcs'!J9628/1000000","v":5.532007792033318E-19},{"$f":"'Daily Calcs'!K9628/1000000","v":5.5320077920333189E-19},5.532007792033318E-19]
[0.1,{"$f":"'Daily Calcs'!J9629/1000000","v":2.9364312143738124E-19},{"$f":"'Daily Calcs'!K9629/1000000","v":2.9364312143738129E-19},2.9364312143738124E-19]
[0.1,{"$f":"'Daily Calcs'!J9630/1000000","v":0},{"$f":"'Daily Calcs'!K9630/1000000","v":0},0]
[0.1,{"$f":"'Daily Calcs'!J9631/1000000","v":1.7857844528367785E-19},{"$f":"'Daily Calcs'!K9631/1000000","v":1.7857844528367785E-19},1.7857844528367785E-19]
[0.1,{"$f":"'Daily Calcs'!J9632/1000000","v":0},{"$f":"'Daily Calcs'!K9632/1000000","v":0},0]
[0.1,{"$f":"'Daily Calcs'!J9633/1000000","v":0},{"$f":"'Daily Calcs'!K9633/1000000","v":0},0]
[0.1,{"$f":"'Daily Calcs'!J9634/1000000","v":0},{"$f":"'Daily Calcs'!K9634/1000000","v":0},0]
[0.1,{"$f":"'Daily Calcs'!J9635/1000000","v":0},{"$f":"'Daily Calcs'!K9635/1000000","v":0},0]
[0.1,{"$f":"'Daily Calcs'!J9636/1000000","v":9.9586638830897703E-20},{"$f":"'Daily Calcs'!K9636/1000000","v":9.9586638830897703E-20},9.9586638830897703E-20]
[0.1,{"$f":"'Daily Calcs'!J9637/1000000","v":0},{"$f":"'Daily Calcs'!K9637/1000000","v":0},0]
[0.1,{"$f":"'Daily Calcs'!J9638/1000000","v":0},{"$f":"'Daily Calcs'!K9638/1000000","v":0},0]
[0.1,{"$f":"'Daily Calcs'!J9639/1000000","v":0},{"$f":"'Daily Calcs'!K9639/1000000","v":0},0]
[0.1,{"$f":"'Daily Calcs'!J9640/1000000","v":0},{"$f":"'Daily Calcs'!K9640/1000000","v":0},0]
[0.1,{"$f":"'Daily Calcs'!J9641/1000000","v":0},{"$f":"'Daily Calcs'!K9641/1000000","v":0},0]
[0.1,{"$f":"'Daily Calcs'!J9642/1000000","v":0},{"$f":"'Daily Calcs'!K9642/1000000","v":0},0]
[0.1,{"$f":"'Daily Calcs'!J9643/1000000","v":0},{"$f":"'Daily Calcs'!K9643/1000000","v":0},0]
[0.1,{"$f":"'Daily Calcs'!J9644/1000000","v":0},{"$f":"'Daily Calcs'!K9644/1000000","v":0},0]
[0.1,{"$f":"'Daily Calcs'!J9645/1000000","v":0},{"$f":"'Daily Calcs'!K9645/1000000","v":0},0]
[0.1,{"$f":"'Daily Calcs'!J9646/1000000","v":0},{"$f":"'Daily Calcs'!K9646/1000000","v":0},0]
[0.1,{"$f":"'Daily Calcs'!J9647/1000000","v":0},{"$f":"'Daily Calcs'!K9647/1000000","v":0},0]
[0.1,{"$f":"'Daily Calcs'!J9648/1000000","v":0},{"$f":"'Daily Calcs'!K9648/1000000","v":0},0]
[0.1,{"$f":"'Daily Calcs'!J9649/1000000","v":0},{"$f":"'Daily Calcs'!K9649/1000000","v":0},0]
[0.1,{"$f":"'Daily Calcs'!J9650/1000000","v":0},{"$f":"'Daily Calcs'!K9650/1000000","v":0},0]
[0.1,{"$f":"'Daily Calcs'!J9651/1000000","v":5.2858748014309886E-20},{"$f":"'Daily Calcs'!K9651/1000000","v":5.2858748014309886E-20},5.2858748014309886E-20]
[0.1,{"$f":"'Daily Calcs'!J9652/1000000","v":0},{"$f":"'Daily Calcs'!K9652/1000000","v":0},0]
[0.1,{"$f":"'Daily Calcs'!J9653/1000000","v":0},{"$f":"'Daily Calcs'!K9653/1000000","v":0},0]
[0.1,{"$f":"'Daily Calcs'!J9654/1000000","v":0},{"$f":"'Daily Calcs'!K9654/1000000","v":0},0]
[0.1,{"$f":"'Daily Calcs'!J9655/1000000","v":0},{"$f":"'Daily Calcs'!K9655/1000000","v":0},0]
[0.1,{"$f":"'Daily Calcs'!J9656/1000000","v":0},{"$f":"'Daily Calcs'!K9656/1000000","v":0},0]
[0.1,{"$f":"'Daily Calcs'!J9657/1000000","v":0},{"$f":"'Daily Calcs'!K9657/1000000","v":0},0]
[0.1,{"$f":"'Daily Calcs'!J9658/1000000","v":0},{"$f":"'Daily Calcs'!K9658/1000000","v":0},0]
[0.1,{"$f":"'Daily Calcs'!J9659/1000000","v":2.7485840507476209E-20},{"$f":"'Daily Calcs'!K9659/1000000","v":2.7485840507476209E-20},2.7485840507476209E-20]
[0.1,{"$f":"'Daily Calcs'!J9660/1000000","v":0},{"$f":"'Daily Calcs'!K9660/1000000","v":0},0]
[0.1,{"$f":"'Daily Calcs'!J9661/1000000","v":8.6606027482823242E-21},{"$f":"'Daily Calcs'!K9661/1000000","v":8.6606027482823242E-21},8.6606027482823242E-21]
[0.1,{"$f":"'Daily Calcs'!J9662/1000000","v":0},{"$f":"'Daily Calcs'!K9662/1000000","v":0},0]
[0.1,{"$f":"'Daily Calcs'!J9663/1000000","v":3.1922382671480144E-21},{"$f":"'Daily Calcs'!K9663/1000000","v":3.1922382671480144E-21},3.1922382671480144E-21]
[0.1,{"$f":"'Daily Calcs'!J9664/1000000","v":1.85409599925654E-21},{"$f":"'Daily Calcs'!K9664/1000000","v":1.85409599925654E-21},1.85409599925654E-21]
[0.1,{"$f":"'Daily Calcs'!J9665/1000000","v":1.3615899581589958E-21},{"$f":"'Daily Calcs'!K9665/1000000","v":1.3615899581589958E-21},1.3615899581589958E-21]
[0.1,{"$f":"'Daily Calcs'!J9666/1000000","v":0},{"$f":"'Daily Calcs'!K9666/1000000","v":0},0]
[0.1,{"$f":"'Daily Calcs'!J9667/1000000","v":0},{"$f":"'Daily Calcs'!K9667/1000000","v":0},{"$f":"B9671","v":0}]
[0.1,{"$f":"'Daily Calcs'!J9668/1000000","v":8.404951370468611E-22},{"$f":"'Daily Calcs'!K9668/1000000","v":8.404951370468611E-22},8.404951370468611E-22]
[0.1,{"$f":"'Daily Calcs'!J9669/1000000","v":0},{"$f":"'Daily Calcs'!K9669/1000000","v":0},0]
[0.1,{"$f":"'Daily Calcs'!J9670/1000000","v":0},{"$f":"'Daily Calcs'!K9670/1000000","v":0},0]
[0.1,{"$f":"'Daily Calcs'!J9671/1000000","v":4.4546398635116073E-22},{"$f":"'Daily Calcs'!K9671/1000000","v":4.4546398635116073E-22},4.4546398635116073E-22]
[0.1,{"$f":"'Daily Calcs'!J9672/1000000","v":3.3410918086242761E-22},{"$f":"'Daily Calcs'!K9672/1000000","v":3.3410918086242761E-22},3.3410918086242761E-22]
[0.1,{"$f":"'Daily Calcs'!J9673/1000000","v":0},{"$f":"'Daily Calcs'!K9673/1000000","v":0},0]
[0.1,{"$f":"'Daily Calcs'!J9674/1000000","v":2.157284815352638E-22},{"$f":"'Daily Calcs'!K9674/1000000","v":2.157284815352638E-22},2.157284815352638E-22]
[0.1,{"$f":"'Daily Calcs'!J9675/1000000","v":0},{"$f":"'Daily Calcs'!K9675/1000000","v":0},0]
[0.1,{"$f":"'Daily Calcs'!J9676/1000000","v":0},{"$f":"'Daily Calcs'!K9676/1000000","v":0},0]
[0.1,{"$f":"'Daily Calcs'!J9677/1000000","v":0},{"$f":"'Daily Calcs'!K9677/1000000","v":0},0]
[0.1,{"$f":"'Daily Calcs'!J9678/1000000","v":0},{"$f":"'Daily Calcs'!K9678/1000000","v":0},0]
[0.1,{"$f":"'Daily Calcs'!J9679/1000000","v":5.3196177329439875E-23},{"$f":"'Daily Calcs'!K9679/1000000","v":5.3196177329439875E-23},5.3196177329439875E-23]
[0.1,{"$f":"'Daily Calcs'!J9680/1000000","v":0},{"$f":"'Daily Calcs'!K9680/1000000","v":0},0]
[0.1,{"$f":"'Daily Calcs'!J9681/1000000","v":2.8895575037609588E-23},{"$f":"'Daily Calcs'!K9681/1000000","v":2.8895575037609588E-23},2.8895575037609588E-23]
[0.1,{"$f":"'Daily Calcs'!J9682/1000000","v":1.5463311324280553E-23},{"$f":"'Daily Calcs'!K9682/1000000","v":1.5463311324280553E-23},1.5463311324280553E-23]
[0.1,{"$f":"'Daily Calcs'!J9683/1000000","v":0},{"$f":"'Daily Calcs'!K9683/1000000","v":0},0]
[0.1,{"$f":"'Daily Calcs'!J9684/1000000","v":5.4261525467009762E-24},{"$f":"'Daily Calcs'!K9684/1000000","v":5.4261525467009762E-24},5.4261525467009762E-24]
[0.1,{"$f":"'Daily Calcs'!J9685/1000000","v":0},{"$f":"'Daily Calcs'!K9685/1000000","v":0},0]
[0.1,{"$f":"'Daily Calcs'!J9686/1000000","v":0},{"$f":"'Daily Calcs'!K9686/1000000","v":0},0]
[0.1,{"$f":"'Daily Calcs'!J9687/1000000","v":0},{"$f":"'Daily Calcs'!K9687/1000000","v":0},0]
[0.1,{"$f":"'Daily Calcs'!J9688/1000000","v":0},{"$f":"'Daily Calcs'!K9688/1000000","v":0},0]
[0.1,{"$f":"'Daily Calcs'!J9689/1000000","v":0},{"$f":"'Daily Calcs'!K9689/1000000","v":0},0]
[0.1,{"$f":"'Daily Calcs'!J9690/1000000","v":0},{"$f":"'Daily Calcs'!K9690/1000000","v":0},0]
[0.1,{"$f":"'Daily Calcs'!J9691/1000000","v":0},{"$f":"'Daily Calcs'!K9691/1000000","v":0},0]
[0.1,{"$f":"'Daily Calcs'!J9692/1000000","v":0},{"$f":"'Daily Calcs'!K9692/1000000","v":0},0]
[0.1,{"$f":"'Daily Calcs'!J9693/1000000","v":0},{"$f":"'Daily Calcs'!K9693/1000000","v":0},0]
[0.1,{"$f":"'Daily Calcs'!J9694/1000000","v":0},{"$f":"'Daily Calcs'!K9694/1000000","v":0},0]
[0.1,{"$f":"'Daily Calcs'!J9695/1000000","v":0},{"$f":"'Daily Calcs'!K9695/1000000","v":0},0]
[0.1,{"$f":"'Daily Calcs'!J9696/1000000","v":0},{"$f":"'Daily Calcs'!K9696/1000000","v":0},0]
[0.1,{"$f":"'Daily Calcs'!J9697/1000000","v":0},{"$f":"'Daily Calcs'!K9697/1000000","v":0},0]
[0.1,{"$f":"'Daily Calcs'!J9698/1000000","v":0},{"$f":"'Daily Calcs'!K9698/1000000","v":0},0]
[0.1,{"$f":"'Daily Calcs'!J9699/1000000","v":0},{"$f":"'Daily Calcs'!K9699/1000000","v":0},0]
[0.1,{"$f":"'Daily Calcs'!J9700/1000000","v":0},{"$f":"'Daily Calcs'!K9700/1000000","v":0},0]
[0.1,{"$f":"'Daily Calcs'!J9701/1000000","v":0},{"$f":"'Daily Calcs'!K9701/1000000","v":0},0]
[0.1,{"$f":"'Daily Calcs'!J9702/1000000","v":0},{"$f":"'Daily Calcs'!K9702/1000000","v":0},0]
[0.1,{"$f":"'Daily Calcs'!J9703/1000000","v":3.1702506624961989E-5},{"$f":"'Daily Calcs'!K9703/1000000","v":3.193603110473956E-5},3.1702506624961989E-5]
[0.1,{"$f":"'Daily Calcs'!J9704/1000000","v":0},{"$f":"'Daily Calcs'!K9704/1000000","v":0},0]
[0.1,{"$f":"'Daily Calcs'!J9705/1000000","v":2.6550925925925923E-5},{"$f":"'Daily Calcs'!K9705/1000000","v":2.6662610398860397E-5},2.6550925925925923E-5]
[0.1,{"$f":"'Daily Calcs'!J9706/1000000","v":0},{"$f":"'Daily Calcs'!K9706/1000000","v":0},0]
[0.1,{"$f":"'Daily Calcs'!J9707/1000000","v":0},{"$f":"'Daily Calcs'!K9707/1000000","v":0},0]
[0.1,{"$f":"'Daily Calcs'!J9708/1000000","v":0},{"$f":"'Daily Calcs'!K9708/1000000","v":0},0]
[0.1,{"$f":"'Daily Calcs'!J9709/1000000","v":1.6488203800670708E-5},{"$f":"'Daily Calcs'!K9709/1000000","v":1.6524560804847916E-5},1.6488203800670708E-5]
[0.1,{"$f":"'Daily Calcs'!J9710/1000000","v":0},{"$f":"'Daily Calcs'!K9710/1000000","v":0},0]
[0.1,{"$f":"'Daily Calcs'!J9711/1000000","v":1.513524246569298E-5},{"$f":"'Daily Calcs'!K9711/1000000","v":1.5149733045051404E-5},1.513524246569298E-5]
[0.1,{"$f":"'Daily Calcs'!J9712/1000000","v":0},{"$f":"'Daily Calcs'!K9712/1000000","v":0},0]
[0.1,{"$f":"'Daily Calcs'!J9713/1000000","v":0},{"$f":"'Daily Calcs'!K9713/1000000","v":0},0]
[0.1,{"$f":"'Daily Calcs'!J9714/1000000","v":0},{"$f":"'Daily Calcs'!K9714/1000000","v":0},0]
[0.1,{"$f":"'Daily Calcs'!J9715/1000000","v":1.134974144138247E-5},{"$f":"'Daily Calcs'!K9715/1000000","v":1.1354754467500163E-5},1.134974144138247E-5]
[0.1,{"$f":"'Daily Calcs'!J9716/1000000","v":0},{"$f":"'Daily Calcs'!K9716/1000000","v":0},0]
[0.1,{"$f":"'Daily Calcs'!J9717/1000000","v":9.4550597779675492E-6},{"$f":"'Daily Calcs'!K9717/1000000","v":9.4576293232280082E-6},9.4550597779675492E-6]
[0.1,{"$f":"'Daily Calcs'!J9718/1000000","v":0},{"$f":"'Daily Calcs'!K9718/1000000","v":0},0]
[0.1,{"$f":"'Daily Calcs'!J9719/1000000","v":0},{"$f":"'Daily Calcs'!K9719/1000000","v":0},0]
[0.1,{"$f":"'Daily Calcs'!J9720/1000000","v":0},{"$f":"'Daily Calcs'!K9720/1000000","v":0},0]
[0.1,{"$f":"'Daily Calcs'!J9721/1000000","v":0},{"$f":"'Daily Calcs'!K9721/1000000","v":0},0]
[0.1,{"$f":"'Daily Calcs'!J9722/1000000","v":0},{"$f":"'Daily Calcs'!K9722/1000000","v":0},0]
[0.1,{"$f":"'Daily Calcs'!J9723/1000000","v":0},{"$f":"'Daily Calcs'!K9723/1000000","v":0},0]
[0.1,{"$f":"'Daily Calcs'!J9724/1000000","v":0},{"$f":"'Daily Calcs'!K9724/1000000","v":0},0]
[0.1,{"$f":"'Daily Calcs'!J9725/1000000","v":0},{"$f":"'Daily Calcs'!K9725/1000000","v":0},0]
[0.1,{"$f":"'Daily Calcs'!J9726/1000000","v":0},{"$f":"'Daily Calcs'!K9726/1000000","v":0},0]
[0.1,{"$f":"'Daily Calcs'!J9727/1000000","v":0},{"$f":"'Daily Calcs'!K9727/1000000","v":0},0]
[0.1,{"$f":"'Daily Calcs'!J9728/1000000","v":0},{"$f":"'Daily Calcs'!K9728/1000000","v":0},0]
[0.1,{"$f":"'Daily Calcs'!J9729/1000000","v":0},{"$f":"'Daily Calcs'!K9729/1000000","v":0},0]
[0.1,{"$f":"'Daily Calcs'!J9730/1000000","v":0},{"$f":"'Daily Calcs'!K9730/1000000","v":0},0]
[0.1,{"$f":"'Daily Calcs'!J9731/1000000","v":0},{"$f":"'Daily Calcs'!K9731/1000000","v":0},{"$f":"B9735","v":0}]
[0.1,{"$f":"'Daily Calcs'!J9732/1000000","v":0},{"$f":"'Daily Calcs'!K9732/1000000","v":0},0]
[0.1,{"$f":"'Daily Calcs'!J9733/1000000","v":0},{"$f":"'Daily Calcs'!K9733/1000000","v":0},0]
[0.1,{"$f":"'Daily Calcs'!J9734/1000000","v":0},{"$f":"'Daily Calcs'!K9734/1000000","v":0},0]
[0.1,{"$f":"'Daily Calcs'!J9735/1000000","v":0},{"$f":"'Daily Calcs'!K9735/1000000","v":0},0]
[0.1,{"$f":"'Daily Calcs'!J9736/1000000","v":0},{"$f":"'Daily Calcs'!K9736/1000000","v":0},0]
[0.1,{"$f":"'Daily Calcs'!J9737/1000000","v":0},{"$f":"'Daily Calcs'!K9737/1000000","v":0},0]
[0.1,{"$f":"'Daily Calcs'!J9738/1000000","v":0},{"$f":"'Daily Calcs'!K9738/1000000","v":0},0]
[0.1,{"$f":"'Daily Calcs'!J9739/1000000","v":0},{"$f":"'Daily Calcs'!K9739/1000000","v":0},0]
[0.1,{"$f":"'Daily Calcs'!J9740/1000000","v":0},{"$f":"'Daily Calcs'!K9740/1000000","v":0},0]
[0.1,{"$f":"'Daily Calcs'!J9741/1000000","v":0},{"$f":"'Daily Calcs'!K9741/1000000","v":0},0]
[0.1,{"$f":"'Daily Calcs'!J9742/1000000","v":0},{"$f":"'Daily Calcs'!K9742/1000000","v":0},0]
[0.1,{"$f":"'Daily Calcs'!J9743/1000000","v":0},{"$f":"'Daily Calcs'!K9743/1000000","v":0},0]
[0.1,{"$f":"'Daily Calcs'!J9744/1000000","v":0},{"$f":"'Daily Calcs'!K9744/1000000","v":0},0]
[0.1,{"$f":"'Daily Calcs'!J9745/1000000","v":0},{"$f":"'Daily Calcs'!K9745/1000000","v":0},0]
[0.1,{"$f":"'Daily Calcs'!J9746/1000000","v":0},{"$f":"'Daily Calcs'!K9746/1000000","v":0},0]
[0.1,{"$f":"'Daily Calcs'!J9747/1000000","v":0},{"$f":"'Daily Calcs'!K9747/1000000","v":0},0]
[0.1,{"$f":"'Daily Calcs'!J9748/1000000","v":5.8239904212474161E-6},{"$f":"'Daily Calcs'!K9748/1000000","v":5.8243645912702743E-6},5.8239904212474161E-6]
[0.1,{"$f":"'Daily Calcs'!J9749/1000000","v":0},{"$f":"'Daily Calcs'!K9749/1000000","v":0},0]
[0.1,{"$f":"'Daily Calcs'!J9750/1000000","v":0},{"$f":"'Daily Calcs'!K9750/1000000","v":0},0]
[0.1,{"$f":"'Daily Calcs'!J9751/1000000","v":0},{"$f":"'Daily Calcs'!K9751/1000000","v":0},0]
[0.1,{"$f":"'Daily Calcs'!J9752/1000000","v":4.6234456573327006E-6},{"$f":"'Daily Calcs'!K9752/1000000","v":4.6235481252966316E-6},4.6234456573327006E-6]
[0.1,{"$f":"'Daily Calcs'!J9753/1000000","v":0},{"$f":"'Daily Calcs'!K9753/1000000","v":0},0]
[0.1,{"$f":"'Daily Calcs'!J9754/1000000","v":0},{"$f":"'Daily Calcs'!K9754/1000000","v":0},0]
[0.1,{"$f":"'Daily Calcs'!J9755/1000000","v":0},{"$f":"'Daily Calcs'!K9755/1000000","v":0},0]
[0.1,{"$f":"'Daily Calcs'!J9756/1000000","v":0},{"$f":"'Daily Calcs'!K9756/1000000","v":0},0]
[0.1,{"$f":"'Daily Calcs'!J9757/1000000","v":0},{"$f":"'Daily Calcs'!K9757/1000000","v":0},0]
[0.1,{"$f":"'Daily Calcs'!J9758/1000000","v":0},{"$f":"'Daily Calcs'!K9758/1000000","v":0},0]
[0.1,{"$f":"'Daily Calcs'!J9759/1000000","v":0},{"$f":"'Daily Calcs'!K9759/1000000","v":0},0]
[0.1,{"$f":"'Daily Calcs'!J9760/1000000","v":0},{"$f":"'Daily Calcs'!K9760/1000000","v":0},0]
[0.1,{"$f":"'Daily Calcs'!J9761/1000000","v":0},{"$f":"'Daily Calcs'!K9761/1000000","v":0},0]
[0.1,{"$f":"'Daily Calcs'!J9762/1000000","v":0},{"$f":"'Daily Calcs'!K9762/1000000","v":0},0]
[0.1,{"$f":"'Daily Calcs'!J9763/1000000","v":0},{"$f":"'Daily Calcs'!K9763/1000000","v":0},0]
[0.1,{"$f":"'Daily Calcs'!J9764/1000000","v":0},{"$f":"'Daily Calcs'!K9764/1000000","v":0},0]
[0.1,{"$f":"'Daily Calcs'!J9765/1000000","v":0},{"$f":"'Daily Calcs'!K9765/1000000","v":0},0]
[0.1,{"$f":"'Daily Calcs'!J9766/1000000","v":0},{"$f":"'Daily Calcs'!K9766/1000000","v":0},0]
[0.1,{"$f":"'Daily Calcs'!J9767/1000000","v":0},{"$f":"'Daily Calcs'!K9767/1000000","v":0},0]
[0.1,{"$f":"'Daily Calcs'!J9768/1000000","v":0},{"$f":"'Daily Calcs'!K9768/1000000","v":0},0]
[0.1,{"$f":"'Daily Calcs'!J9769/1000000","v":2.3693875439685495E-6},{"$f":"'Daily Calcs'!K9769/1000000","v":2.3694038989757918E-6},2.3693875439685495E-6]
[0.1,{"$f":"'Daily Calcs'!J9770/1000000","v":0},{"$f":"'Daily Calcs'!K9770/1000000","v":0},0]
[0.1,{"$f":"'Daily Calcs'!J9771/1000000","v":0},{"$f":"'Daily Calcs'!K9771/1000000","v":0},0]
[0.1,{"$f":"'Daily Calcs'!J9772/1000000","v":0},{"$f":"'Daily Calcs'!K9772/1000000","v":0},0]
[0.1,{"$f":"'Daily Calcs'!J9773/1000000","v":0},{"$f":"'Daily Calcs'!K9773/1000000","v":0},0]
[0.1,{"$f":"'Daily Calcs'!J9774/1000000","v":0},{"$f":"'Daily Calcs'!K9774/1000000","v":0},0]
[0.1,{"$f":"'Daily Calcs'!J9775/1000000","v":0},{"$f":"'Daily Calcs'!K9775/1000000","v":0},0]
[0.1,{"$f":"'Daily Calcs'!J9776/1000000","v":0},{"$f":"'Daily Calcs'!K9776/1000000","v":0},0]
[0.1,{"$f":"'Daily Calcs'!J9777/1000000","v":0},{"$f":"'Daily Calcs'!K9777/1000000","v":0},0]
[0.1,{"$f":"'Daily Calcs'!J9778/1000000","v":0},{"$f":"'Daily Calcs'!K9778/1000000","v":0},0]
[0.1,{"$f":"'Daily Calcs'!J9779/1000000","v":0},{"$f":"'Daily Calcs'!K9779/1000000","v":0},0]
[0.1,{"$f":"'Daily Calcs'!J9780/1000000","v":0},{"$f":"'Daily Calcs'!K9780/1000000","v":0},0]
[0.1,{"$f":"'Daily Calcs'!J9781/1000000","v":0},{"$f":"'Daily Calcs'!K9781/1000000","v":0},0]
[0.1,{"$f":"'Daily Calcs'!J9782/1000000","v":0},{"$f":"'Daily Calcs'!K9782/1000000","v":0},0]
[0.1,{"$f":"'Daily Calcs'!J9783/1000000","v":0},{"$f":"'Daily Calcs'!K9783/1000000","v":0},0]
[0.1,{"$f":"'Daily Calcs'!J9784/1000000","v":0},{"$f":"'Daily Calcs'!K9784/1000000","v":0},0]
[0.1,{"$f":"'Daily Calcs'!J9785/1000000","v":0},{"$f":"'Daily Calcs'!K9785/1000000","v":0},0]
[0.1,{"$f":"'Daily Calcs'!J9786/1000000","v":0},{"$f":"'Daily Calcs'!K9786/1000000","v":0},0]
[0.1,{"$f":"'Daily Calcs'!J9787/1000000","v":0},{"$f":"'Daily Calcs'!K9787/1000000","v":0},0]
[0.1,{"$f":"'Daily Calcs'!J9788/1000000","v":0},{"$f":"'Daily Calcs'!K9788/1000000","v":0},0]
[0.1,{"$f":"'Daily Calcs'!J9789/1000000","v":0},{"$f":"'Daily Calcs'!K9789/1000000","v":0},0]
[0.1,{"$f":"'Daily Calcs'!J9790/1000000","v":0},{"$f":"'Daily Calcs'!K9790/1000000","v":0},0]
[0.1,{"$f":"'Daily Calcs'!J9791/1000000","v":0},{"$f":"'Daily Calcs'!K9791/1000000","v":0},0]
[0.1,{"$f":"'Daily Calcs'!J9792/1000000","v":0},{"$f":"'Daily Calcs'!K9792/1000000","v":0},0]
[0.1,{"$f":"'Daily Calcs'!J9793/1000000","v":0},{"$f":"'Daily Calcs'!K9793/1000000","v":0},0]
[0.1,{"$f":"'Daily Calcs'!J9794/1000000","v":0},{"$f":"'Daily Calcs'!K9794/1000000","v":0},0]
[0.1,{"$f":"'Daily Calcs'!J9795/1000000","v":0},{"$f":"'Daily Calcs'!K9795/1000000","v":0},{"$f":"B9799","v":0}]
[0.1,{"$f":"'Daily Calcs'!J9796/1000000","v":0},{"$f":"'Daily Calcs'!K9796/1000000","v":0},0]
[0.1,{"$f":"'Daily Calcs'!J9797/1000000","v":1.5363338413043024E-6},{"$f":"'Daily Calcs'!K9797/1000000","v":1.5363363784105381E-6},1.5363338413043024E-6]
[0.1,{"$f":"'Daily Calcs'!J9798/1000000","v":0},{"$f":"'Daily Calcs'!K9798/1000000","v":0},0]
[0.1,{"$f":"'Daily Calcs'!J9799/1000000","v":0},{"$f":"'Daily Calcs'!K9799/1000000","v":0},0]
[0.1,{"$f":"'Daily Calcs'!J9800/1000000","v":0},{"$f":"'Daily Calcs'!K9800/1000000","v":0},0]
[0.1,{"$f":"'Daily Calcs'!J9801/1000000","v":0},{"$f":"'Daily Calcs'!K9801/1000000","v":0},0]
[0.1,{"$f":"'Daily Calcs'!J9802/1000000","v":0},{"$f":"'Daily Calcs'!K9802/1000000","v":0},0]
[0.1,{"$f":"'Daily Calcs'!J9803/1000000","v":0},{"$f":"'Daily Calcs'!K9803/1000000","v":0},0]
[0.1,{"$f":"'Daily Calcs'!J9804/1000000","v":0},{"$f":"'Daily Calcs'!K9804/1000000","v":0},0]
[0.1,{"$f":"'Daily Calcs'!J9805/1000000","v":0},{"$f":"'Daily Calcs'!K9805/1000000","v":0},0]
[0.1,{"$f":"'Daily Calcs'!J9806/1000000","v":0},{"$f":"'Daily Calcs'!K9806/1000000","v":0},0]
[0.1,{"$f":"'Daily Calcs'!J9807/1000000","v":0},{"$f":"'Daily Calcs'!K9807/1000000","v":0},0]
[0.1,{"$f":"'Daily Calcs'!J9808/1000000","v":0},{"$f":"'Daily Calcs'!K9808/1000000","v":0},0]
[0.1,{"$f":"'Daily Calcs'!J9809/1000000","v":0},{"$f":"'Daily Calcs'!K9809/1000000","v":0},0]
[0.1,{"$f":"'Daily Calcs'!J9810/1000000","v":0},{"$f":"'Daily Calcs'!K9810/1000000","v":0},0]
[0.1,{"$f":"'Daily Calcs'!J9811/1000000","v":1.0166077510022849E-6},{"$f":"'Daily Calcs'!K9811/1000000","v":1.0166084048045008E-6},1.0166077510022849E-6]
[0.1,{"$f":"'Daily Calcs'!J9812/1000000","v":0},{"$f":"'Daily Calcs'!K9812/1000000","v":0},0]
[0.1,{"$f":"'Daily Calcs'!J9813/1000000","v":0},{"$f":"'Daily Calcs'!K9813/1000000","v":0},0]
[0.1,{"$f":"'Daily Calcs'!J9814/1000000","v":0},{"$f":"'Daily Calcs'!K9814/1000000","v":0},0]
[0.1,{"$f":"'Daily Calcs'!J9815/1000000","v":0},{"$f":"'Daily Calcs'!K9815/1000000","v":0},0]
[0.1,{"$f":"'Daily Calcs'!J9816/1000000","v":0},{"$f":"'Daily Calcs'!K9816/1000000","v":0},0]
[0.1,{"$f":"'Daily Calcs'!J9817/1000000","v":0},{"$f":"'Daily Calcs'!K9817/1000000","v":0},0]
[0.1,{"$f":"'Daily Calcs'!J9818/1000000","v":5.3504469401787768E-7},{"$f":"'Daily Calcs'!K9818/1000000","v":5.3504489473985784E-7},5.3504469401787768E-7]
[0.1,{"$f":"'Daily Calcs'!J9819/1000000","v":0},{"$f":"'Daily Calcs'!K9819/1000000","v":0},0]
[0.1,{"$f":"'Daily Calcs'!J9820/1000000","v":0},{"$f":"'Daily Calcs'!K9820/1000000","v":0},0]
[0.1,{"$f":"'Daily Calcs'!J9821/1000000","v":0},{"$f":"'Daily Calcs'!K9821/1000000","v":0},0]
[0.1,{"$f":"'Daily Calcs'!J9822/1000000","v":0},{"$f":"'Daily Calcs'!K9822/1000000","v":0},0]
[0.1,{"$f":"'Daily Calcs'!J9823/1000000","v":0},{"$f":"'Daily Calcs'!K9823/1000000","v":0},0]
[0.1,{"$f":"'Daily Calcs'!J9824/1000000","v":0},{"$f":"'Daily Calcs'!K9824/1000000","v":0},0]
[0.1,{"$f":"'Daily Calcs'!J9825/1000000","v":0},{"$f":"'Daily Calcs'!K9825/1000000","v":0},0]
[0.1,{"$f":"'Daily Calcs'!J9826/1000000","v":0},{"$f":"'Daily Calcs'!K9826/1000000","v":0},0]
[0.1,{"$f":"'Daily Calcs'!J9827/1000000","v":0},{"$f":"'Daily Calcs'!K9827/1000000","v":0},0]
[0.1,{"$f":"'Daily Calcs'!J9828/1000000","v":0},{"$f":"'Daily Calcs'!K9828/1000000","v":0},0]
[0.1,{"$f":"'Daily Calcs'!J9829/1000000","v":0},{"$f":"'Daily Calcs'!K9829/1000000","v":0},0]
[0.1,{"$f":"'Daily Calcs'!J9830/1000000","v":0},{"$f":"'Daily Calcs'!K9830/1000000","v":0},0]
[0.1,{"$f":"'Daily Calcs'!J9831/1000000","v":0},{"$f":"'Daily Calcs'!K9831/1000000","v":0},0]
[0.1,{"$f":"'Daily Calcs'!J9832/1000000","v":0},{"$f":"'Daily Calcs'!K9832/1000000","v":0},0]
[0.1,{"$f":"'Daily Calcs'!J9833/1000000","v":0},{"$f":"'Daily Calcs'!K9833/1000000","v":0},0]
[0.1,{"$f":"'Daily Calcs'!J9834/1000000","v":0},{"$f":"'Daily Calcs'!K9834/1000000","v":0},0]
[0.1,{"$f":"'Daily Calcs'!J9835/1000000","v":0},{"$f":"'Daily Calcs'!K9835/1000000","v":0},0]
[0.1,{"$f":"'Daily Calcs'!J9836/1000000","v":0},{"$f":"'Daily Calcs'!K9836/1000000","v":0},0]
[0.1,{"$f":"'Daily Calcs'!J9837/1000000","v":0},{"$f":"'Daily Calcs'!K9837/1000000","v":0},0]
[0.1,{"$f":"'Daily Calcs'!J9838/1000000","v":0},{"$f":"'Daily Calcs'!K9838/1000000","v":0},0]
[0.1,{"$f":"'Daily Calcs'!J9839/1000000","v":0},{"$f":"'Daily Calcs'!K9839/1000000","v":0},0]
[0.1,{"$f":"'Daily Calcs'!J9840/1000000","v":0},{"$f":"'Daily Calcs'!K9840/1000000","v":0},0]
[0.1,{"$f":"'Daily Calcs'!J9841/1000000","v":0},{"$f":"'Daily Calcs'!K9841/1000000","v":0},0]
[0.1,{"$f":"'Daily Calcs'!J9842/1000000","v":0},{"$f":"'Daily Calcs'!K9842/1000000","v":0},0]
[0.1,{"$f":"'Daily Calcs'!J9843/1000000","v":0},{"$f":"'Daily Calcs'!K9843/1000000","v":0},0]
[0.1,{"$f":"'Daily Calcs'!J9844/1000000","v":0},{"$f":"'Daily Calcs'!K9844/1000000","v":0},0]
[0.1,{"$f":"'Daily Calcs'!J9845/1000000","v":2.8323923609406446E-7},{"$f":"'Daily Calcs'!K9845/1000000","v":2.8323925056998384E-7},2.8323923609406446E-7]
[0.1,{"$f":"'Daily Calcs'!J9846/1000000","v":1.9844277721917137E-7},{"$f":"'Daily Calcs'!K9846/1000000","v":1.9844278671230052E-7},1.9844277721917137E-7]
[0.1,{"$f":"'Daily Calcs'!J9847/1000000","v":0},{"$f":"'Daily Calcs'!K9847/1000000","v":0},0]
[0.1,{"$f":"'Daily Calcs'!J9848/1000000","v":0},{"$f":"'Daily Calcs'!K9848/1000000","v":0},0]
[0.1,{"$f":"'Daily Calcs'!J9849/1000000","v":0},{"$f":"'Daily Calcs'!K9849/1000000","v":0},0]
[0.1,{"$f":"'Daily Calcs'!J9850/1000000","v":0},{"$f":"'Daily Calcs'!K9850/1000000","v":0},0]
[0.1,{"$f":"'Daily Calcs'!J9851/1000000","v":1.6991409421315962E-7},{"$f":"'Daily Calcs'!K9851/1000000","v":1.6991409682516756E-7},1.6991409421315962E-7]
[0.1,{"$f":"'Daily Calcs'!J9852/1000000","v":1.0291297399389802E-7},{"$f":"'Daily Calcs'!K9852/1000000","v":1.0291297591914861E-7},1.0291297399389802E-7]
[0.1,{"$f":"'Daily Calcs'!J9853/1000000","v":0},{"$f":"'Daily Calcs'!K9853/1000000","v":0},0]
[0.1,{"$f":"'Daily Calcs'!J9854/1000000","v":0},{"$f":"'Daily Calcs'!K9854/1000000","v":0},0]
[0.1,{"$f":"'Daily Calcs'!J9855/1000000","v":8.1863160391744884E-8},{"$f":"'Daily Calcs'!K9855/1000000","v":8.1863160972313535E-8},8.1863160391744884E-8]
[0.1,{"$f":"'Daily Calcs'!J9856/1000000","v":0},{"$f":"'Daily Calcs'!K9856/1000000","v":0},0]
[0.1,{"$f":"'Daily Calcs'!J9857/1000000","v":0},{"$f":"'Daily Calcs'!K9857/1000000","v":0},0]
[0.1,{"$f":"'Daily Calcs'!J9858/1000000","v":5.2995238838588818E-8},{"$f":"'Daily Calcs'!K9858/1000000","v":5.2995239187226818E-8},5.2995238838588818E-8]
[0.1,{"$f":"'Daily Calcs'!J9859/1000000","v":3.5406690876369835E-8},{"$f":"'Daily Calcs'!K9859/1000000","v":3.5406691023217218E-8},{"$f":"B9863","v":3.5406690876369835E-8}]
[0.1,{"$f":"'Daily Calcs'!J9860/1000000","v":0},{"$f":"'Daily Calcs'!K9860/1000000","v":0},0]
[0.1,{"$f":"'Daily Calcs'!J9861/1000000","v":0},{"$f":"'Daily Calcs'!K9861/1000000","v":0},0]
[0.1,{"$f":"'Daily Calcs'!J9862/1000000","v":0},{"$f":"'Daily Calcs'!K9862/1000000","v":0},0]
[0.1,{"$f":"'Daily Calcs'!J9863/1000000","v":2.3382313888643005E-8},{"$f":"'Daily Calcs'!K9863/1000000","v":2.3382313928421704E-8},2.3382313888643005E-8]
[0.1,{"$f":"'Daily Calcs'!J9864/1000000","v":0},{"$f":"'Daily Calcs'!K9864/1000000","v":0},0]
[0.1,{"$f":"'Daily Calcs'!J9865/1000000","v":1.3479650464630788E-8},{"$f":"'Daily Calcs'!K9865/1000000","v":1.3479650483059358E-8},1.3479650464630788E-8]
[0.1,{"$f":"'Daily Calcs'!J9866/1000000","v":0},{"$f":"'Daily Calcs'!K9866/1000000","v":0},0]
[0.1,{"$f":"'Daily Calcs'!J9867/1000000","v":0},{"$f":"'Daily Calcs'!K9867/1000000","v":0},0]
[0.1,{"$f":"'Daily Calcs'!J9868/1000000","v":0},{"$f":"'Daily Calcs'!K9868/1000000","v":0},0]
[0.1,{"$f":"'Daily Calcs'!J9869/1000000","v":7.2765568314694335E-9},{"$f":"'Daily Calcs'!K9869/1000000","v":7.2765568367656576E-9},7.2765568314694335E-9]
[0.1,{"$f":"'Daily Calcs'!J9870/1000000","v":0},{"$f":"'Daily Calcs'!K9870/1000000","v":0},0]
[0.1,{"$f":"'Daily Calcs'!J9871/1000000","v":0},{"$f":"'Daily Calcs'!K9871/1000000","v":0},0]
[0.1,{"$f":"'Daily Calcs'!J9872/1000000","v":0},{"$f":"'Daily Calcs'!K9872/1000000","v":0},0]
[0.1,{"$f":"'Daily Calcs'!J9873/1000000","v":0},{"$f":"'Daily Calcs'!K9873/1000000","v":0},0]
[0.1,{"$f":"'Daily Calcs'!J9874/1000000","v":0},{"$f":"'Daily Calcs'!K9874/1000000","v":0},0]
[0.1,{"$f":"'Daily Calcs'!J9875/1000000","v":0},{"$f":"'Daily Calcs'!K9875/1000000","v":0},0]
[0.1,{"$f":"'Daily Calcs'!J9876/1000000","v":0},{"$f":"'Daily Calcs'!K9876/1000000","v":0},0]
[0.1,{"$f":"'Daily Calcs'!J9877/1000000","v":0},{"$f":"'Daily Calcs'!K9877/1000000","v":0},0]
[0.1,{"$f":"'Daily Calcs'!J9878/1000000","v":0},{"$f":"'Daily Calcs'!K9878/1000000","v":0},0]
[0.1,{"$f":"'Daily Calcs'!J9879/1000000","v":3.2683118995577699E-9},{"$f":"'Daily Calcs'!K9879/1000000","v":3.2683119006539554E-9},3.2683118995577699E-9]
[0.1,{"$f":"'Daily Calcs'!J9880/1000000","v":0},{"$f":"'Daily Calcs'!K9880/1000000","v":0},0]
[0.1,{"$f":"'Daily Calcs'!J9881/1000000","v":2.1938086956521736E-9},{"$f":"'Daily Calcs'!K9881/1000000","v":2.193808696094692E-9},2.1938086956521736E-9]
[0.1,{"$f":"'Daily Calcs'!J9882/1000000","v":1.1720872182659127E-9},{"$f":"'Daily Calcs'!K9882/1000000","v":1.1720872184519419E-9},1.1720872182659127E-9]
[0.1,{"$f":"'Daily Calcs'!J9883/1000000","v":0},{"$f":"'Daily Calcs'!K9883/1000000","v":0},0]
[0.1,{"$f":"'Daily Calcs'!J9884/1000000","v":0},{"$f":"'Daily Calcs'!K9884/1000000","v":0},0]
[0.1,{"$f":"'Daily Calcs'!J9885/1000000","v":0},{"$f":"'Daily Calcs'!K9885/1000000","v":0},0]
[0.1,{"$f":"'Daily Calcs'!J9886/1000000","v":0},{"$f":"'Daily Calcs'!K9886/1000000","v":0},0]
[0.1,{"$f":"'Daily Calcs'!J9887/1000000","v":8.732441471571906E-10},{"$f":"'Daily Calcs'!K9887/1000000","v":8.7324414720417798E-10},8.732441471571906E-10]
[0.1,{"$f":"'Daily Calcs'!J9888/1000000","v":0},{"$f":"'Daily Calcs'!K9888/1000000","v":0},0]
[0.1,{"$f":"'Daily Calcs'!J9889/1000000","v":0},{"$f":"'Daily Calcs'!K9889/1000000","v":0},0]
[0.1,{"$f":"'Daily Calcs'!J9890/1000000","v":0},{"$f":"'Daily Calcs'!K9890/1000000","v":0},0]
[0.1,{"$f":"'Daily Calcs'!J9891/1000000","v":0},{"$f":"'Daily Calcs'!K9891/1000000","v":0},0]
[0.1,{"$f":"'Daily Calcs'!J9892/1000000","v":0},{"$f":"'Daily Calcs'!K9892/1000000","v":0},0]
[0.1,{"$f":"'Daily Calcs'!J9893/1000000","v":0},{"$f":"'Daily Calcs'!K9893/1000000","v":0},0]
[0.1,{"$f":"'Daily Calcs'!J9894/1000000","v":0},{"$f":"'Daily Calcs'!K9894/1000000","v":0},0]
[0.1,{"$f":"'Daily Calcs'!J9895/1000000","v":3.6720305579259619E-10},{"$f":"'Daily Calcs'!K9895/1000000","v":3.6720305581001035E-10},3.6720305579259619E-10]
[0.1,{"$f":"'Daily Calcs'!J9896/1000000","v":1.9603408586082954E-10},{"$f":"'Daily Calcs'!K9896/1000000","v":1.960340858685241E-10},1.9603408586082954E-10]
[0.1,{"$f":"'Daily Calcs'!J9897/1000000","v":1.0374903623747108E-10},{"$f":"'Daily Calcs'!K9897/1000000","v":1.0374903624010245E-10},1.0374903623747108E-10]
[0.1,{"$f":"'Daily Calcs'!J9898/1000000","v":0},{"$f":"'Daily Calcs'!K9898/1000000","v":0},0]
[0.1,{"$f":"'Daily Calcs'!J9899/1000000","v":0},{"$f":"'Daily Calcs'!K9899/1000000","v":0},0]
[0.1,{"$f":"'Daily Calcs'!J9900/1000000","v":0},{"$f":"'Daily Calcs'!K9900/1000000","v":0},0]
[0.1,{"$f":"'Daily Calcs'!J9901/1000000","v":0},{"$f":"'Daily Calcs'!K9901/1000000","v":0},0]
[0.1,{"$f":"'Daily Calcs'!J9902/1000000","v":0},{"$f":"'Daily Calcs'!K9902/1000000","v":0},0]
[0.1,{"$f":"'Daily Calcs'!J9903/1000000","v":0},{"$f":"'Daily Calcs'!K9903/1000000","v":0},0]
[0.1,{"$f":"'Daily Calcs'!J9904/1000000","v":0},{"$f":"'Daily Calcs'!K9904/1000000","v":0},0]
[0.1,{"$f":"'Daily Calcs'!J9905/1000000","v":0},{"$f":"'Daily Calcs'!K9905/1000000","v":0},0]
[0.1,{"$f":"'Daily Calcs'!J9906/1000000","v":0},{"$f":"'Daily Calcs'!K9906/1000000","v":0},0]
[0.1,{"$f":"'Daily Calcs'!J9907/1000000","v":0},{"$f":"'Daily Calcs'!K9907/1000000","v":0},0]
[0.1,{"$f":"'Daily Calcs'!J9908/1000000","v":0},{"$f":"'Daily Calcs'!K9908/1000000","v":0},0]
[0.1,{"$f":"'Daily Calcs'!J9909/1000000","v":0},{"$f":"'Daily Calcs'!K9909/1000000","v":0},0]
[0.1,{"$f":"'Daily Calcs'!J9910/1000000","v":0},{"$f":"'Daily Calcs'!K9910/1000000","v":0},0]
[0.1,{"$f":"'Daily Calcs'!J9911/1000000","v":0},{"$f":"'Daily Calcs'!K9911/1000000","v":0},0]
[0.1,{"$f":"'Daily Calcs'!J9912/1000000","v":0},{"$f":"'Daily Calcs'!K9912/1000000","v":0},0]
[0.1,{"$f":"'Daily Calcs'!J9913/1000000","v":0},{"$f":"'Daily Calcs'!K9913/1000000","v":0},0]
[0.1,{"$f":"'Daily Calcs'!J9914/1000000","v":0},{"$f":"'Daily Calcs'!K9914/1000000","v":0},0]
[0.1,{"$f":"'Daily Calcs'!J9915/1000000","v":0},{"$f":"'Daily Calcs'!K9915/1000000","v":0},0]
[0.1,{"$f":"'Daily Calcs'!J9916/1000000","v":0},{"$f":"'Daily Calcs'!K9916/1000000","v":0},0]
[0.1,{"$f":"'Daily Calcs'!J9917/1000000","v":0},{"$f":"'Daily Calcs'!K9917/1000000","v":0},0]
[0.1,{"$f":"'Daily Calcs'!J9918/1000000","v":0},{"$f":"'Daily Calcs'!K9918/1000000","v":0},0]
[0.1,{"$f":"'Daily Calcs'!J9919/1000000","v":0},{"$f":"'Daily Calcs'!K9919/1000000","v":0},0]
[0.1,{"$f":"'Daily Calcs'!J9920/1000000","v":0},{"$f":"'Daily Calcs'!K9920/1000000","v":0},0]
[0.1,{"$f":"'Daily Calcs'!J9921/1000000","v":0},{"$f":"'Daily Calcs'!K9921/1000000","v":0},0]
[0.1,{"$f":"'Daily Calcs'!J9922/1000000","v":0},{"$f":"'Daily Calcs'!K9922/1000000","v":0},0]
[0.1,{"$f":"'Daily Calcs'!J9923/1000000","v":0},{"$f":"'Daily Calcs'!K9923/1000000","v":0},{"$f":"B9927","v":0}]
[0.1,{"$f":"'Daily Calcs'!J9924/1000000","v":0},{"$f":"'Daily Calcs'!K9924/1000000","v":0},0]
[0.1,{"$f":"'Daily Calcs'!J9925/1000000","v":0},{"$f":"'Daily Calcs'!K9925/1000000","v":0},0]
[0.1,{"$f":"'Daily Calcs'!J9926/1000000","v":0},{"$f":"'Daily Calcs'!K9926/1000000","v":0},0]
[0.1,{"$f":"'Daily Calcs'!J9927/1000000","v":0},{"$f":"'Daily Calcs'!K9927/1000000","v":0},0]
[0.1,{"$f":"'Daily Calcs'!J9928/1000000","v":0},{"$f":"'Daily Calcs'!K9928/1000000","v":0},0]
[0.1,{"$f":"'Daily Calcs'!J9929/1000000","v":0},{"$f":"'Daily Calcs'!K9929/1000000","v":0},0]
[0.1,{"$f":"'Daily Calcs'!J9930/1000000","v":0},{"$f":"'Daily Calcs'!K9930/1000000","v":0},0]
[0.1,{"$f":"'Daily Calcs'!J9931/1000000","v":1.9888414588481986E-11},{"$f":"'Daily Calcs'!K9931/1000000","v":1.9888414588533947E-11},1.9888414588481986E-11]
[0.1,{"$f":"'Daily Calcs'!J9932/1000000","v":0},{"$f":"'Daily Calcs'!K9932/1000000","v":0},0]
[0.1,{"$f":"'Daily Calcs'!J9933/1000000","v":0},{"$f":"'Daily Calcs'!K9933/1000000","v":0},0]
[0.1,{"$f":"'Daily Calcs'!J9934/1000000","v":0},{"$f":"'Daily Calcs'!K9934/1000000","v":0},0]
[0.1,{"$f":"'Daily Calcs'!J9935/1000000","v":1.2238060758016233E-11},{"$f":"'Daily Calcs'!K9935/1000000","v":1.2238060758036706E-11},1.2238060758016233E-11]
[0.1,{"$f":"'Daily Calcs'!J9936/1000000","v":0},{"$f":"'Daily Calcs'!K9936/1000000","v":0},0]
[0.1,{"$f":"'Daily Calcs'!J9937/1000000","v":0},{"$f":"'Daily Calcs'!K9937/1000000","v":0},0]
[0.1,{"$f":"'Daily Calcs'!J9938/1000000","v":0},{"$f":"'Daily Calcs'!K9938/1000000","v":0},0]
[0.1,{"$f":"'Daily Calcs'!J9939/1000000","v":0},{"$f":"'Daily Calcs'!K9939/1000000","v":0},0]
[0.1,{"$f":"'Daily Calcs'!J9940/1000000","v":7.2364433554710163E-12},{"$f":"'Daily Calcs'!K9940/1000000","v":7.2364433554785926E-12},7.2364433554710163E-12]
[0.1,{"$f":"'Daily Calcs'!J9941/1000000","v":0},{"$f":"'Daily Calcs'!K9941/1000000","v":0},0]
[0.1,{"$f":"'Daily Calcs'!J9942/1000000","v":0},{"$f":"'Daily Calcs'!K9942/1000000","v":0},0]
[0.1,{"$f":"'Daily Calcs'!J9943/1000000","v":0},{"$f":"'Daily Calcs'!K9943/1000000","v":0},0]
[0.1,{"$f":"'Daily Calcs'!J9944/1000000","v":0},{"$f":"'Daily Calcs'!K9944/1000000","v":0},0]
[0.1,{"$f":"'Daily Calcs'!J9945/1000000","v":0},{"$f":"'Daily Calcs'!K9945/1000000","v":0},0]
[0.1,{"$f":"'Daily Calcs'!J9946/1000000","v":0},{"$f":"'Daily Calcs'!K9946/1000000","v":0},0]
[0.1,{"$f":"'Daily Calcs'!J9947/1000000","v":3.7705043601225547E-12},{"$f":"'Daily Calcs'!K9947/1000000","v":3.7705043601248553E-12},3.7705043601225547E-12]
[0.1,{"$f":"'Daily Calcs'!J9948/1000000","v":0},{"$f":"'Daily Calcs'!K9948/1000000","v":0},0]
[0.1,{"$f":"'Daily Calcs'!J9949/1000000","v":0},{"$f":"'Daily Calcs'!K9949/1000000","v":0},0]
[0.1,{"$f":"'Daily Calcs'!J9950/1000000","v":0},{"$f":"'Daily Calcs'!K9950/1000000","v":0},0]
[0.1,{"$f":"'Daily Calcs'!J9951/1000000","v":0},{"$f":"'Daily Calcs'!K9951/1000000","v":0},0]
[0.1,{"$f":"'Daily Calcs'!J9952/1000000","v":0},{"$f":"'Daily Calcs'!K9952/1000000","v":0},0]
[0.1,{"$f":"'Daily Calcs'!J9953/1000000","v":0},{"$f":"'Daily Calcs'!K9953/1000000","v":0},0]
[0.1,{"$f":"'Daily Calcs'!J9954/1000000","v":0},{"$f":"'Daily Calcs'!K9954/1000000","v":0},0]
[0.1,{"$f":"'Daily Calcs'!J9955/1000000","v":0},{"$f":"'Daily Calcs'!K9955/1000000","v":0},0]
[0.1,{"$f":"'Daily Calcs'!J9956/1000000","v":1.4135773864689527E-12},{"$f":"'Daily Calcs'!K9956/1000000","v":1.4135773864694338E-12},1.4135773864689527E-12]
[0.1,{"$f":"'Daily Calcs'!J9957/1000000","v":0},{"$f":"'Daily Calcs'!K9957/1000000","v":0},0]
[0.1,{"$f":"'Daily Calcs'!J9958/1000000","v":0},{"$f":"'Daily Calcs'!K9958/1000000","v":0},0]
[0.1,{"$f":"'Daily Calcs'!J9959/1000000","v":0},{"$f":"'Daily Calcs'!K9959/1000000","v":0},0]
[0.1,{"$f":"'Daily Calcs'!J9960/1000000","v":0},{"$f":"'Daily Calcs'!K9960/1000000","v":0},0]
[0.1,{"$f":"'Daily Calcs'!J9961/1000000","v":0},{"$f":"'Daily Calcs'!K9961/1000000","v":0},0]
[0.1,{"$f":"'Daily Calcs'!J9962/1000000","v":0},{"$f":"'Daily Calcs'!K9962/1000000","v":0},0]
[0.1,{"$f":"'Daily Calcs'!J9963/1000000","v":0},{"$f":"'Daily Calcs'!K9963/1000000","v":0},0]
[0.1,{"$f":"'Daily Calcs'!J9964/1000000","v":3.6496760815829244E-13},{"$f":"'Daily Calcs'!K9964/1000000","v":3.6496760815837104E-13},3.6496760815829244E-13]
[0.1,{"$f":"'Daily Calcs'!J9965/1000000","v":0},{"$f":"'Daily Calcs'!K9965/1000000","v":0},0]
[0.1,{"$f":"'Daily Calcs'!J9966/1000000","v":0},{"$f":"'Daily Calcs'!K9966/1000000","v":0},0]
[0.1,{"$f":"'Daily Calcs'!J9967/1000000","v":0},{"$f":"'Daily Calcs'!K9967/1000000","v":0},0]
[0.1,{"$f":"'Daily Calcs'!J9968/1000000","v":0},{"$f":"'Daily Calcs'!K9968/1000000","v":0},0]
[0.1,{"$f":"'Daily Calcs'!J9969/1000000","v":0},{"$f":"'Daily Calcs'!K9969/1000000","v":0},0]
[0.1,{"$f":"'Daily Calcs'!J9970/1000000","v":0},{"$f":"'Daily Calcs'!K9970/1000000","v":0},0]
[0.1,{"$f":"'Daily Calcs'!J9971/1000000","v":1.4040600176522508E-13},{"$f":"'Daily Calcs'!K9971/1000000","v":1.4040600176523871E-13},1.4040600176522508E-13]
[0.1,{"$f":"'Daily Calcs'!J9972/1000000","v":8.8069695934403832E-14},{"$f":"'Daily Calcs'!K9972/1000000","v":8.8069695934412389E-14},8.8069695934403832E-14]
[0.1,{"$f":"'Daily Calcs'!J9973/1000000","v":0},{"$f":"'Daily Calcs'!K9973/1000000","v":0},0]
[0.1,{"$f":"'Daily Calcs'!J9974/1000000","v":0},{"$f":"'Daily Calcs'!K9974/1000000","v":0},0]
[0.1,{"$f":"'Daily Calcs'!J9975/1000000","v":0},{"$f":"'Daily Calcs'!K9975/1000000","v":0},0]
[0.1,{"$f":"'Daily Calcs'!J9976/1000000","v":2.7227986348122867E-14},{"$f":"'Daily Calcs'!K9976/1000000","v":2.7227986348124792E-14},2.7227986348122867E-14]
[0.1,{"$f":"'Daily Calcs'!J9977/1000000","v":0},{"$f":"'Daily Calcs'!K9977/1000000","v":0},0]
[0.1,{"$f":"'Daily Calcs'!J9978/1000000","v":1.3032493940763257E-14},{"$f":"'Daily Calcs'!K9978/1000000","v":1.3032493940763898E-14},1.3032493940763257E-14]
[0.1,{"$f":"'Daily Calcs'!J9979/1000000","v":0},{"$f":"'Daily Calcs'!K9979/1000000","v":0},0]
[0.1,{"$f":"'Daily Calcs'!J9980/1000000","v":0},{"$f":"'Daily Calcs'!K9980/1000000","v":0},0]
[0.1,{"$f":"'Daily Calcs'!J9981/1000000","v":0},{"$f":"'Daily Calcs'!K9981/1000000","v":0},0]
[0.1,{"$f":"'Daily Calcs'!J9982/1000000","v":0},{"$f":"'Daily Calcs'!K9982/1000000","v":0},0]
[0.1,{"$f":"'Daily Calcs'!J9983/1000000","v":0},{"$f":"'Daily Calcs'!K9983/1000000","v":0},0]
[0.1,{"$f":"'Daily Calcs'!J9984/1000000","v":0},{"$f":"'Daily Calcs'!K9984/1000000","v":0},0]
[0.1,{"$f":"'Daily Calcs'!J9985/1000000","v":0},{"$f":"'Daily Calcs'!K9985/1000000","v":0},0]
[0.1,{"$f":"'Daily Calcs'!J9986/1000000","v":0},{"$f":"'Daily Calcs'!K9986/1000000","v":0},0]
[0.1,{"$f":"'Daily Calcs'!J9987/1000000","v":6.9209277995078051E-15},{"$f":"'Daily Calcs'!K9987/1000000","v":6.920927799507925E-15},{"$f":"B9991","v":6.9209277995078051E-15}]
[0.1,{"$f":"'Daily Calcs'!J9988/1000000","v":0},{"$f":"'Daily Calcs'!K9988/1000000","v":0},0]
[0.1,{"$f":"'Daily Calcs'!J9989/1000000","v":0},{"$f":"'Daily Calcs'!K9989/1000000","v":0},0]
[0.1,{"$f":"'Daily Calcs'!J9990/1000000","v":0},{"$f":"'Daily Calcs'!K9990/1000000","v":0},0]
[0.1,{"$f":"'Daily Calcs'!J9991/1000000","v":0},{"$f":"'Daily Calcs'!K9991/1000000","v":0},0]
[0.1,{"$f":"'Daily Calcs'!J9992/1000000","v":0},{"$f":"'Daily Calcs'!K9992/1000000","v":0},0]
[0.1,{"$f":"'Daily Calcs'!J9993/1000000","v":2.8324372193054589E-15},{"$f":"'Daily Calcs'!K9993/1000000","v":2.8324372193054952E-15},2.8324372193054589E-15]
[0.1,{"$f":"'Daily Calcs'!J9994/1000000","v":0},{"$f":"'Daily Calcs'!K9994/1000000","v":0},0]
[0.1,{"$f":"'Daily Calcs'!J9995/1000000","v":0},{"$f":"'Daily Calcs'!K9995/1000000","v":0},0]
[0.1,{"$f":"'Daily Calcs'!J9996/1000000","v":0},{"$f":"'Daily Calcs'!K9996/1000000","v":0},0]
[0.1,{"$f":"'Daily Calcs'!J9997/1000000","v":0},{"$f":"'Daily Calcs'!K9997/1000000","v":0},0]
[0.1,{"$f":"'Daily Calcs'!J9998/1000000","v":0},{"$f":"'Daily Calcs'!K9998/1000000","v":0},0]
[0.1,{"$f":"'Daily Calcs'!J9999/1000000","v":1.7441882991088727E-15},{"$f":"'Daily Calcs'!K9999/1000000","v":1.7441882991088832E-15},1.7441882991088727E-15]
[0.1,{"$f":"'Daily Calcs'!J10000/1000000","v":0},{"$f":"'Daily Calcs'!K10000/1000000","v":0},0]
[0.1,{"$f":"'Daily Calcs'!J10001/1000000","v":0},{"$f":"'Daily Calcs'!K10001/1000000","v":0},0]
[0.1,{"$f":"'Daily Calcs'!J10002/1000000","v":0},{"$f":"'Daily Calcs'!K10002/1000000","v":0},0]
[0.1,{"$f":"'Daily Calcs'!J10003/1000000","v":0},{"$f":"'Daily Calcs'!K10003/1000000","v":0},0]
[0.1,{"$f":"'Daily Calcs'!J10004/1000000","v":0},{"$f":"'Daily Calcs'!K10004/1000000","v":0},0]
[0.1,{"$f":"'Daily Calcs'!J10005/1000000","v":0},{"$f":"'Daily Calcs'!K10005/1000000","v":0},0]
[0.1,{"$f":"'Daily Calcs'!J10006/1000000","v":0},{"$f":"'Daily Calcs'!K10006/1000000","v":0},0]
[0.1,{"$f":"'Daily Calcs'!J10007/1000000","v":0},{"$f":"'Daily Calcs'!K10007/1000000","v":0},0]
[0.1,{"$f":"'Daily Calcs'!J10008/1000000","v":0},{"$f":"'Daily Calcs'!K10008/1000000","v":0},0]
[0.1,{"$f":"'Daily Calcs'!J10009/1000000","v":0},{"$f":"'Daily Calcs'!K10009/1000000","v":0},0]
[0.1,{"$f":"'Daily Calcs'!J10010/1000000","v":0},{"$f":"'Daily Calcs'!K10010/1000000","v":0},0]
[0.1,{"$f":"'Daily Calcs'!J10011/1000000","v":0},{"$f":"'Daily Calcs'!K10011/1000000","v":0},0]
[0.1,{"$f":"'Daily Calcs'!J10012/1000000","v":0},{"$f":"'Daily Calcs'!K10012/1000000","v":0},0]
[0.1,{"$f":"'Daily Calcs'!J10013/1000000","v":0},{"$f":"'Daily Calcs'!K10013/1000000","v":0},0]
[0.1,{"$f":"'Daily Calcs'!J10014/1000000","v":0},{"$f":"'Daily Calcs'!K10014/1000000","v":0},0]
[0.1,{"$f":"'Daily Calcs'!J10015/1000000","v":0},{"$f":"'Daily Calcs'!K10015/1000000","v":0},0]
[0.1,{"$f":"'Daily Calcs'!J10016/1000000","v":0},{"$f":"'Daily Calcs'!K10016/1000000","v":0},0]
[0.1,{"$f":"'Daily Calcs'!J10017/1000000","v":0},{"$f":"'Daily Calcs'!K10017/1000000","v":0},0]
[0.1,{"$f":"'Daily Calcs'!J10018/1000000","v":0},{"$f":"'Daily Calcs'!K10018/1000000","v":0},0]
[0.1,{"$f":"'Daily Calcs'!J10019/1000000","v":0},{"$f":"'Daily Calcs'!K10019/1000000","v":0},0]
[0.1,{"$f":"'Daily Calcs'!J10020/1000000","v":0},{"$f":"'Daily Calcs'!K10020/1000000","v":0},0]
[0.1,{"$f":"'Daily Calcs'!J10021/1000000","v":0},{"$f":"'Daily Calcs'!K10021/1000000","v":0},0]
[0.1,{"$f":"'Daily Calcs'!J10022/1000000","v":0},{"$f":"'Daily Calcs'!K10022/1000000","v":0},0]
[0.1,{"$f":"'Daily Calcs'!J10023/1000000","v":0},{"$f":"'Daily Calcs'!K10023/1000000","v":0},0]
[0.1,{"$f":"'Daily Calcs'!J10024/1000000","v":0},{"$f":"'Daily Calcs'!K10024/1000000","v":0},0]
[0.1,{"$f":"'Daily Calcs'!J10025/1000000","v":0},{"$f":"'Daily Calcs'!K10025/1000000","v":0},0]
[0.1,{"$f":"'Daily Calcs'!J10026/1000000","v":0},{"$f":"'Daily Calcs'!K10026/1000000","v":0},0]
[0.1,{"$f":"'Daily Calcs'!J10027/1000000","v":0},{"$f":"'Daily Calcs'!K10027/1000000","v":0},0]
[0.1,{"$f":"'Daily Calcs'!J10028/1000000","v":0},{"$f":"'Daily Calcs'!K10028/1000000","v":0},0]
[0.1,{"$f":"'Daily Calcs'!J10029/1000000","v":0},{"$f":"'Daily Calcs'!K10029/1000000","v":0},0]
[0.1,{"$f":"'Daily Calcs'!J10030/1000000","v":0},{"$f":"'Daily Calcs'!K10030/1000000","v":0},0]
[0.1,{"$f":"'Daily Calcs'!J10031/1000000","v":0},{"$f":"'Daily Calcs'!K10031/1000000","v":0},0]
[0.1,{"$f":"'Daily Calcs'!J10032/1000000","v":0},{"$f":"'Daily Calcs'!K10032/1000000","v":0},0]
[0.1,{"$f":"'Daily Calcs'!J10033/1000000","v":0},{"$f":"'Daily Calcs'!K10033/1000000","v":0},0]
[0.1,{"$f":"'Daily Calcs'!J10034/1000000","v":0},{"$f":"'Daily Calcs'!K10034/1000000","v":0},0]
[0.1,{"$f":"'Daily Calcs'!J10035/1000000","v":0},{"$f":"'Daily Calcs'!K10035/1000000","v":0},0]
[0.1,{"$f":"'Daily Calcs'!J10036/1000000","v":0},{"$f":"'Daily Calcs'!K10036/1000000","v":0},0]
[0.1,{"$f":"'Daily Calcs'!J10037/1000000","v":0},{"$f":"'Daily Calcs'!K10037/1000000","v":0},0]
[0.1,{"$f":"'Daily Calcs'!J10038/1000000","v":0},{"$f":"'Daily Calcs'!K10038/1000000","v":0},0]
[0.1,{"$f":"'Daily Calcs'!J10039/1000000","v":0},{"$f":"'Daily Calcs'!K10039/1000000","v":0},0]
[0.1,{"$f":"'Daily Calcs'!J10040/1000000","v":0},{"$f":"'Daily Calcs'!K10040/1000000","v":0},0]
[0.1,{"$f":"'Daily Calcs'!J10041/1000000","v":0},{"$f":"'Daily Calcs'!K10041/1000000","v":0},0]
[0.1,{"$f":"'Daily Calcs'!J10042/1000000","v":0},{"$f":"'Daily Calcs'!K10042/1000000","v":0},0]
[0.1,{"$f":"'Daily Calcs'!J10043/1000000","v":0},{"$f":"'Daily Calcs'!K10043/1000000","v":0},0]
[0.1,{"$f":"'Daily Calcs'!J10044/1000000","v":0},{"$f":"'Daily Calcs'!K10044/1000000","v":0},0]
[0.1,{"$f":"'Daily Calcs'!J10045/1000000","v":0},{"$f":"'Daily Calcs'!K10045/1000000","v":0},0]
[0.1,{"$f":"'Daily Calcs'!J10046/1000000","v":0},{"$f":"'Daily Calcs'!K10046/1000000","v":0},0]
[0.1,{"$f":"'Daily Calcs'!J10047/1000000","v":0},{"$f":"'Daily Calcs'!K10047/1000000","v":0},0]
[0.1,{"$f":"'Daily Calcs'!J10048/1000000","v":0},{"$f":"'Daily Calcs'!K10048/1000000","v":0},0]
[0.1,{"$f":"'Daily Calcs'!J10049/1000000","v":0},{"$f":"'Daily Calcs'!K10049/1000000","v":0},0]
[0.1,{"$f":"'Daily Calcs'!J10050/1000000","v":0},{"$f":"'Daily Calcs'!K10050/1000000","v":0},0]
[0.1,{"$f":"'Daily Calcs'!J10051/1000000","v":0},{"$f":"'Daily Calcs'!K10051/1000000","v":0},{"$f":"B10055","v":0}]
[0.1,{"$f":"'Daily Calcs'!J10052/1000000","v":0},{"$f":"'Daily Calcs'!K10052/1000000","v":0},0]
[0.1,{"$f":"'Daily Calcs'!J10053/1000000","v":0},{"$f":"'Daily Calcs'!K10053/1000000","v":0},0]
[0.1,{"$f":"'Daily Calcs'!J10054/1000000","v":0},{"$f":"'Daily Calcs'!K10054/1000000","v":0},0]
[0.1,{"$f":"'Daily Calcs'!J10055/1000000","v":0},{"$f":"'Daily Calcs'!K10055/1000000","v":0},0]
[0.1,{"$f":"'Daily Calcs'!J10056/1000000","v":0},{"$f":"'Daily Calcs'!K10056/1000000","v":0},0]
[0.1,{"$f":"'Daily Calcs'!J10057/1000000","v":0},{"$f":"'Daily Calcs'!K10057/1000000","v":0},0]
[0.1,{"$f":"'Daily Calcs'!J10058/1000000","v":6.7479285897326385E-16},{"$f":"'Daily Calcs'!K10058/1000000","v":6.7479285897326415E-16},6.7479285897326385E-16]
[0.1,{"$f":"'Daily Calcs'!J10059/1000000","v":0},{"$f":"'Daily Calcs'!K10059/1000000","v":0},0]
[0.1,{"$f":"'Daily Calcs'!J10060/1000000","v":0},{"$f":"'Daily Calcs'!K10060/1000000","v":0},0]
[0.1,{"$f":"'Daily Calcs'!J10061/1000000","v":0},{"$f":"'Daily Calcs'!K10061/1000000","v":0},0]
[0.1,{"$f":"'Daily Calcs'!J10062/1000000","v":0},{"$f":"'Daily Calcs'!K10062/1000000","v":0},0]
[0.1,{"$f":"'Daily Calcs'!J10063/1000000","v":0},{"$f":"'Daily Calcs'!K10063/1000000","v":0},0]
[0.1,{"$f":"'Daily Calcs'!J10064/1000000","v":0},{"$f":"'Daily Calcs'!K10064/1000000","v":0},0]
[0.1,{"$f":"'Daily Calcs'!J10065/1000000","v":0},{"$f":"'Daily Calcs'!K10065/1000000","v":0},0]
[0.1,{"$f":"'Daily Calcs'!J10066/1000000","v":1.2276523451144772E-5},{"$f":"'Daily Calcs'!K10066/1000000","v":1.2368573031448139E-5},1.2276523451144772E-5]
[0.1,{"$f":"'Daily Calcs'!J10067/1000000","v":0},{"$f":"'Daily Calcs'!K10067/1000000","v":0},0]
[0.1,{"$f":"'Daily Calcs'!J10068/1000000","v":0},{"$f":"'Daily Calcs'!K10068/1000000","v":0},0]
[0.1,{"$f":"'Daily Calcs'!J10069/1000000","v":0},{"$f":"'Daily Calcs'!K10069/1000000","v":0},0]
[0.1,{"$f":"'Daily Calcs'!J10070/1000000","v":0},{"$f":"'Daily Calcs'!K10070/1000000","v":0},0]
[0.1,{"$f":"'Daily Calcs'!J10071/1000000","v":0},{"$f":"'Daily Calcs'!K10071/1000000","v":0},0]
[0.1,{"$f":"'Daily Calcs'!J10072/1000000","v":0},{"$f":"'Daily Calcs'!K10072/1000000","v":0},0]
[0.1,{"$f":"'Daily Calcs'!J10073/1000000","v":1.6776031434184672E-5},{"$f":"'Daily Calcs'!K10073/1000000","v":1.6859361493123771E-5},1.6776031434184672E-5]
[0.1,{"$f":"'Daily Calcs'!J10074/1000000","v":0},{"$f":"'Daily Calcs'!K10074/1000000","v":0},0]
[0.1,{"$f":"'Daily Calcs'!J10075/1000000","v":0},{"$f":"'Daily Calcs'!K10075/1000000","v":0},0]
[0.1,{"$f":"'Daily Calcs'!J10076/1000000","v":0},{"$f":"'Daily Calcs'!K10076/1000000","v":0},0]
[0.1,{"$f":"'Daily Calcs'!J10077/1000000","v":0},{"$f":"'Daily Calcs'!K10077/1000000","v":0},0]
[0.1,{"$f":"'Daily Calcs'!J10078/1000000","v":1.354537743850721E-5},{"$f":"'Daily Calcs'!K10078/1000000","v":1.356021358624412E-5},1.354537743850721E-5]
[0.1,{"$f":"'Daily Calcs'!J10079/1000000","v":9.4291455790413813E-6},{"$f":"'Daily Calcs'!K10079/1000000","v":9.4374244566835389E-6},9.4291455790413813E-6]
[0.1,{"$f":"'Daily Calcs'!J10080/1000000","v":0},{"$f":"'Daily Calcs'!K10080/1000000","v":0},0]
[0.1,{"$f":"'Daily Calcs'!J10081/1000000","v":0},{"$f":"'Daily Calcs'!K10081/1000000","v":0},0]
[0.1,{"$f":"'Daily Calcs'!J10082/1000000","v":7.9549357121916478E-6},{"$f":"'Daily Calcs'!K10082/1000000","v":7.9569429436975617E-6},7.9549357121916478E-6]
[0.1,{"$f":"'Daily Calcs'!J10083/1000000","v":6.377212464743634E-6},{"$f":"'Daily Calcs'!K10083/1000000","v":6.3786193129947817E-6},6.377212464743634E-6]
[0.1,{"$f":"'Daily Calcs'!J10084/1000000","v":0},{"$f":"'Daily Calcs'!K10084/1000000","v":0},0]
[0.1,{"$f":"'Daily Calcs'!J10085/1000000","v":0},{"$f":"'Daily Calcs'!K10085/1000000","v":0},0]
[0.1,{"$f":"'Daily Calcs'!J10086/1000000","v":0},{"$f":"'Daily Calcs'!K10086/1000000","v":0},0]
[0.1,{"$f":"'Daily Calcs'!J10087/1000000","v":0},{"$f":"'Daily Calcs'!K10087/1000000","v":0},0]
[0.1,{"$f":"'Daily Calcs'!J10088/1000000","v":0},{"$f":"'Daily Calcs'!K10088/1000000","v":0},0]
[0.1,{"$f":"'Daily Calcs'!J10089/1000000","v":0},{"$f":"'Daily Calcs'!K10089/1000000","v":0},0]
[0.1,{"$f":"'Daily Calcs'!J10090/1000000","v":0},{"$f":"'Daily Calcs'!K10090/1000000","v":0},0]
[0.1,{"$f":"'Daily Calcs'!J10091/1000000","v":0},{"$f":"'Daily Calcs'!K10091/1000000","v":0},0]
[0.1,{"$f":"'Daily Calcs'!J10092/1000000","v":0},{"$f":"'Daily Calcs'!K10092/1000000","v":0},0]
[0.1,{"$f":"'Daily Calcs'!J10093/1000000","v":0},{"$f":"'Daily Calcs'!K10093/1000000","v":0},0]
[0.1,{"$f":"'Daily Calcs'!J10094/1000000","v":0},{"$f":"'Daily Calcs'!K10094/1000000","v":0},0]
[0.1,{"$f":"'Daily Calcs'!J10095/1000000","v":4.785755757693052E-6},{"$f":"'Daily Calcs'!K10095/1000000","v":4.7859933346235731E-6},4.785755757693052E-6]
[0.1,{"$f":"'Daily Calcs'!J10096/1000000","v":0},{"$f":"'Daily Calcs'!K10096/1000000","v":0},0]
[0.1,{"$f":"'Daily Calcs'!J10097/1000000","v":0},{"$f":"'Daily Calcs'!K10097/1000000","v":0},0]
[0.1,{"$f":"'Daily Calcs'!J10098/1000000","v":3.2924664976457802E-6},{"$f":"'Daily Calcs'!K10098/1000000","v":3.2925913437160449E-6},3.2924664976457802E-6]
[0.1,{"$f":"'Daily Calcs'!J10099/1000000","v":3.0708587517597374E-6},{"$f":"'Daily Calcs'!K10099/1000000","v":3.070903854215549E-6},3.0708587517597374E-6]
[0.1,{"$f":"'Daily Calcs'!J10100/1000000","v":0},{"$f":"'Daily Calcs'!K10100/1000000","v":0},0]
[0.1,{"$f":"'Daily Calcs'!J10101/1000000","v":0},{"$f":"'Daily Calcs'!K10101/1000000","v":0},0]
[0.1,{"$f":"'Daily Calcs'!J10102/1000000","v":0},{"$f":"'Daily Calcs'!K10102/1000000","v":0},0]
[0.1,{"$f":"'Daily Calcs'!J10103/1000000","v":0},{"$f":"'Daily Calcs'!K10103/1000000","v":0},0]
[0.1,{"$f":"'Daily Calcs'!J10104/1000000","v":0},{"$f":"'Daily Calcs'!K10104/1000000","v":0},0]
[0.1,{"$f":"'Daily Calcs'!J10105/1000000","v":0},{"$f":"'Daily Calcs'!K10105/1000000","v":0},0]
[0.1,{"$f":"'Daily Calcs'!J10106/1000000","v":0},{"$f":"'Daily Calcs'!K10106/1000000","v":0},0]
[0.1,{"$f":"'Daily Calcs'!J10107/1000000","v":0},{"$f":"'Daily Calcs'!K10107/1000000","v":0},0]
[0.1,{"$f":"'Daily Calcs'!J10108/1000000","v":0},{"$f":"'Daily Calcs'!K10108/1000000","v":0},0]
[0.1,{"$f":"'Daily Calcs'!J10109/1000000","v":1.7179490558330148E-6},{"$f":"'Daily Calcs'!K10109/1000000","v":1.7179645222501876E-6},1.7179490558330148E-6]
[0.1,{"$f":"'Daily Calcs'!J10110/1000000","v":1.1531986531986531E-6},{"$f":"'Daily Calcs'!K10110/1000000","v":1.1532049036416799E-6},1.1531986531986531E-6]
[0.1,{"$f":"'Daily Calcs'!J10111/1000000","v":0},{"$f":"'Daily Calcs'!K10111/1000000","v":0},0]
[0.1,{"$f":"'Daily Calcs'!J10112/1000000","v":0},{"$f":"'Daily Calcs'!K10112/1000000","v":0},0]
[0.1,{"$f":"'Daily Calcs'!J10113/1000000","v":0},{"$f":"'Daily Calcs'!K10113/1000000","v":0},0]
[0.1,{"$f":"'Daily Calcs'!J10114/1000000","v":0},{"$f":"'Daily Calcs'!K10114/1000000","v":0},0]
[0.1,{"$f":"'Daily Calcs'!J10115/1000000","v":8.9599461460787619E-7},{"$f":"'Daily Calcs'!K10115/1000000","v":8.95995812424869E-7},{"$f":"B10119","v":8.9599461460787619E-7}]
[0.1,{"$f":"'Daily Calcs'!J10116/1000000","v":7.82563401373832E-7},{"$f":"'Daily Calcs'!K10116/1000000","v":7.825641757984178E-7},7.82563401373832E-7]
[0.1,{"$f":"'Daily Calcs'!J10117/1000000","v":0},{"$f":"'Daily Calcs'!K10117/1000000","v":0},0]
[0.1,{"$f":"'Daily Calcs'!J10118/1000000","v":0},{"$f":"'Daily Calcs'!K10118/1000000","v":0},0]
[0.1,{"$f":"'Daily Calcs'!J10119/1000000","v":0},{"$f":"'Daily Calcs'!K10119/1000000","v":0},0]
[0.1,{"$f":"'Daily Calcs'!J10120/1000000","v":0},{"$f":"'Daily Calcs'!K10120/1000000","v":0},0]
[0.1,{"$f":"'Daily Calcs'!J10121/1000000","v":0},{"$f":"'Daily Calcs'!K10121/1000000","v":0},0]
[0.1,{"$f":"'Daily Calcs'!J10122/1000000","v":5.6670215379575801E-7},{"$f":"'Daily Calcs'!K10122/1000000","v":5.6670242693746073E-7},5.6670215379575801E-7]
[0.1,{"$f":"'Daily Calcs'!J10123/1000000","v":3.6910805876727802E-7},{"$f":"'Daily Calcs'!K10123/1000000","v":3.6910823378683823E-7},3.6910805876727802E-7]
[0.1,{"$f":"'Daily Calcs'!J10124/1000000","v":0},{"$f":"'Daily Calcs'!K10124/1000000","v":0},0]
[0.1,{"$f":"'Daily Calcs'!J10125/1000000","v":0},{"$f":"'Daily Calcs'!K10125/1000000","v":0},0]
[0.1,{"$f":"'Daily Calcs'!J10126/1000000","v":2.8764946764946763E-7},{"$f":"'Daily Calcs'!K10126/1000000","v":2.8764952522358725E-7},2.8764946764946763E-7]
[0.1,{"$f":"'Daily Calcs'!J10127/1000000","v":0},{"$f":"'Daily Calcs'!K10127/1000000","v":0},0]
[0.1,{"$f":"'Daily Calcs'!J10128/1000000","v":0},{"$f":"'Daily Calcs'!K10128/1000000","v":0},0]
[0.1,{"$f":"'Daily Calcs'!J10129/1000000","v":0},{"$f":"'Daily Calcs'!K10129/1000000","v":0},0]
[0.1,{"$f":"'Daily Calcs'!J10130/1000000","v":0},{"$f":"'Daily Calcs'!K10130/1000000","v":0},0]
[0.1,{"$f":"'Daily Calcs'!J10131/1000000","v":0},{"$f":"'Daily Calcs'!K10131/1000000","v":0},0]
[0.1,{"$f":"'Daily Calcs'!J10132/1000000","v":0},{"$f":"'Daily Calcs'!K10132/1000000","v":0},0]
[0.1,{"$f":"'Daily Calcs'!J10133/1000000","v":0},{"$f":"'Daily Calcs'!K10133/1000000","v":0},0]
[0.1,{"$f":"'Daily Calcs'!J10134/1000000","v":0},{"$f":"'Daily Calcs'!K10134/1000000","v":0},0]
[0.1,{"$f":"'Daily Calcs'!J10135/1000000","v":0},{"$f":"'Daily Calcs'!K10135/1000000","v":0},0]
[0.1,{"$f":"'Daily Calcs'!J10136/1000000","v":0},{"$f":"'Daily Calcs'!K10136/1000000","v":0},0]
[0.1,{"$f":"'Daily Calcs'!J10137/1000000","v":1.2235255135851559E-7},{"$f":"'Daily Calcs'!K10137/1000000","v":1.2235256381643474E-7},1.2235255135851559E-7]
[0.1,{"$f":"'Daily Calcs'!J10138/1000000","v":7.5657519487926994E-8},{"$f":"'Daily Calcs'!K10138/1000000","v":7.5657524420432224E-8},7.5657519487926994E-8]
[0.1,{"$f":"'Daily Calcs'!J10139/1000000","v":0},{"$f":"'Daily Calcs'!K10139/1000000","v":0},0]
[0.1,{"$f":"'Daily Calcs'!J10140/1000000","v":0},{"$f":"'Daily Calcs'!K10140/1000000","v":0},0]
[0.1,{"$f":"'Daily Calcs'!J10141/1000000","v":0},{"$f":"'Daily Calcs'!K10141/1000000","v":0},0]
[0.1,{"$f":"'Daily Calcs'!J10142/1000000","v":0},{"$f":"'Daily Calcs'!K10142/1000000","v":0},0]
[0.1,{"$f":"'Daily Calcs'!J10143/1000000","v":0},{"$f":"'Daily Calcs'!K10143/1000000","v":0},0]
[0.1,{"$f":"'Daily Calcs'!J10144/1000000","v":0},{"$f":"'Daily Calcs'!K10144/1000000","v":0},0]
[0.1,{"$f":"'Daily Calcs'!J10145/1000000","v":0},{"$f":"'Daily Calcs'!K10145/1000000","v":0},0]
[0.1,{"$f":"'Daily Calcs'!J10146/1000000","v":0},{"$f":"'Daily Calcs'!K10146/1000000","v":0},0]
[0.1,{"$f":"'Daily Calcs'!J10147/1000000","v":0},{"$f":"'Daily Calcs'!K10147/1000000","v":0},0]
[0.1,{"$f":"'Daily Calcs'!J10148/1000000","v":0},{"$f":"'Daily Calcs'!K10148/1000000","v":0},0]
[0.1,{"$f":"'Daily Calcs'!J10149/1000000","v":0},{"$f":"'Daily Calcs'!K10149/1000000","v":0},0]
[0.1,{"$f":"'Daily Calcs'!J10150/1000000","v":0},{"$f":"'Daily Calcs'!K10150/1000000","v":0},0]
[0.1,{"$f":"'Daily Calcs'!J10151/1000000","v":0},{"$f":"'Daily Calcs'!K10151/1000000","v":0},0]
[0.1,{"$f":"'Daily Calcs'!J10152/1000000","v":0},{"$f":"'Daily Calcs'!K10152/1000000","v":0},0]
[0.1,{"$f":"'Daily Calcs'!J10153/1000000","v":0},{"$f":"'Daily Calcs'!K10153/1000000","v":0},0]
[0.1,{"$f":"'Daily Calcs'!J10154/1000000","v":0},{"$f":"'Daily Calcs'!K10154/1000000","v":0},0]
[0.1,{"$f":"'Daily Calcs'!J10155/1000000","v":0},{"$f":"'Daily Calcs'!K10155/1000000","v":0},0]
[0.1,{"$f":"'Daily Calcs'!J10156/1000000","v":0},{"$f":"'Daily Calcs'!K10156/1000000","v":0},0]
[0.1,{"$f":"'Daily Calcs'!J10157/1000000","v":3.9371270068084392E-8},{"$f":"'Daily Calcs'!K10157/1000000","v":3.9371270440110957E-8},3.9371270068084392E-8]
[0.1,{"$f":"'Daily Calcs'!J10158/1000000","v":0},{"$f":"'Daily Calcs'!K10158/1000000","v":0},0]
[0.1,{"$f":"'Daily Calcs'!J10159/1000000","v":0},{"$f":"'Daily Calcs'!K10159/1000000","v":0},0]
[0.1,{"$f":"'Daily Calcs'!J10160/1000000","v":0},{"$f":"'Daily Calcs'!K10160/1000000","v":0},0]
[0.1,{"$f":"'Daily Calcs'!J10161/1000000","v":0},{"$f":"'Daily Calcs'!K10161/1000000","v":0},0]
[0.1,{"$f":"'Daily Calcs'!J10162/1000000","v":0},{"$f":"'Daily Calcs'!K10162/1000000","v":0},0]
[0.1,{"$f":"'Daily Calcs'!J10163/1000000","v":0},{"$f":"'Daily Calcs'!K10163/1000000","v":0},0]
[0.1,{"$f":"'Daily Calcs'!J10164/1000000","v":0},{"$f":"'Daily Calcs'!K10164/1000000","v":0},0]
[0.1,{"$f":"'Daily Calcs'!J10165/1000000","v":0},{"$f":"'Daily Calcs'!K10165/1000000","v":0},0]
[0.1,{"$f":"'Daily Calcs'!J10166/1000000","v":0},{"$f":"'Daily Calcs'!K10166/1000000","v":0},0]
[0.1,{"$f":"'Daily Calcs'!J10167/1000000","v":2.2508890186295842E-8},{"$f":"'Daily Calcs'!K10167/1000000","v":2.250889028588716E-8},2.2508890186295842E-8]
[0.1,{"$f":"'Daily Calcs'!J10168/1000000","v":0},{"$f":"'Daily Calcs'!K10168/1000000","v":0},0]
[0.1,{"$f":"'Daily Calcs'!J10169/1000000","v":0},{"$f":"'Daily Calcs'!K10169/1000000","v":0},0]
[0.1,{"$f":"'Daily Calcs'!J10170/1000000","v":0},{"$f":"'Daily Calcs'!K10170/1000000","v":0},0]
[0.1,{"$f":"'Daily Calcs'!J10171/1000000","v":1.1329212454212454E-8},{"$f":"'Daily Calcs'!K10171/1000000","v":1.1329212492647436E-8},1.1329212454212454E-8]
[0.1,{"$f":"'Daily Calcs'!J10172/1000000","v":8.756733679068775E-9},{"$f":"'Daily Calcs'!K10172/1000000","v":8.7567336942263006E-9},8.756733679068775E-9]
[0.1,{"$f":"'Daily Calcs'!J10173/1000000","v":0},{"$f":"'Daily Calcs'!K10173/1000000","v":0},0]
[0.1,{"$f":"'Daily Calcs'!J10174/1000000","v":0},{"$f":"'Daily Calcs'!K10174/1000000","v":0},0]
[0.1,{"$f":"'Daily Calcs'!J10175/1000000","v":0},{"$f":"'Daily Calcs'!K10175/1000000","v":0},0]
[0.1,{"$f":"'Daily Calcs'!J10176/1000000","v":0},{"$f":"'Daily Calcs'!K10176/1000000","v":0},0]
[0.1,{"$f":"'Daily Calcs'!J10177/1000000","v":0},{"$f":"'Daily Calcs'!K10177/1000000","v":0},0]
[0.1,{"$f":"'Daily Calcs'!J10178/1000000","v":0},{"$f":"'Daily Calcs'!K10178/1000000","v":0},0]
[0.1,{"$f":"'Daily Calcs'!J10179/1000000","v":0},{"$f":"'Daily Calcs'!K10179/1000000","v":0},{"$f":"B10183","v":0}]
[0.1,{"$f":"'Daily Calcs'!J10180/1000000","v":0},{"$f":"'Daily Calcs'!K10180/1000000","v":0},0]
[0.1,{"$f":"'Daily Calcs'!J10181/1000000","v":0},{"$f":"'Daily Calcs'!K10181/1000000","v":0},0]
[0.1,{"$f":"'Daily Calcs'!J10182/1000000","v":0},{"$f":"'Daily Calcs'!K10182/1000000","v":0},0]
[0.1,{"$f":"'Daily Calcs'!J10183/1000000","v":4.7677181222290574E-9},{"$f":"'Daily Calcs'!K10183/1000000","v":4.767718124853101E-9},4.7677181222290574E-9]
[0.1,{"$f":"'Daily Calcs'!J10184/1000000","v":3.8985776128633269E-9},{"$f":"'Daily Calcs'!K10184/1000000","v":3.8985776143706072E-9},3.8985776128633269E-9]
[0.1,{"$f":"'Daily Calcs'!J10185/1000000","v":0},{"$f":"'Daily Calcs'!K10185/1000000","v":0},0]
[0.1,{"$f":"'Daily Calcs'!J10186/1000000","v":0},{"$f":"'Daily Calcs'!K10186/1000000","v":0},0]
[0.1,{"$f":"'Daily Calcs'!J10187/1000000","v":3.1481509040851253E-9},{"$f":"'Daily Calcs'!K10187/1000000","v":3.1481509048790835E-9},3.1481509040851253E-9]
[0.1,{"$f":"'Daily Calcs'!J10188/1000000","v":0},{"$f":"'Daily Calcs'!K10188/1000000","v":0},0]
[0.1,{"$f":"'Daily Calcs'!J10189/1000000","v":0},{"$f":"'Daily Calcs'!K10189/1000000","v":0},0]
[0.1,{"$f":"'Daily Calcs'!J10190/1000000","v":0},{"$f":"'Daily Calcs'!K10190/1000000","v":0},0]
[0.1,{"$f":"'Daily Calcs'!J10191/1000000","v":0},{"$f":"'Daily Calcs'!K10191/1000000","v":0},0]
[0.1,{"$f":"'Daily Calcs'!J10192/1000000","v":0},{"$f":"'Daily Calcs'!K10192/1000000","v":0},0]
[0.1,{"$f":"'Daily Calcs'!J10193/1000000","v":0},{"$f":"'Daily Calcs'!K10193/1000000","v":0},0]
[0.1,{"$f":"'Daily Calcs'!J10194/1000000","v":1.3283428313854276E-9},{"$f":"'Daily Calcs'!K10194/1000000","v":1.3283428317188896E-9},1.3283428313854276E-9]
[0.1,{"$f":"'Daily Calcs'!J10195/1000000","v":0},{"$f":"'Daily Calcs'!K10195/1000000","v":0},0]
[0.1,{"$f":"'Daily Calcs'!J10196/1000000","v":0},{"$f":"'Daily Calcs'!K10196/1000000","v":0},0]
[0.1,{"$f":"'Daily Calcs'!J10197/1000000","v":0},{"$f":"'Daily Calcs'!K10197/1000000","v":0},0]
[0.1,{"$f":"'Daily Calcs'!J10198/1000000","v":0},{"$f":"'Daily Calcs'!K10198/1000000","v":0},0]
[0.1,{"$f":"'Daily Calcs'!J10199/1000000","v":0},{"$f":"'Daily Calcs'!K10199/1000000","v":0},0]
[0.1,{"$f":"'Daily Calcs'!J10200/1000000","v":0},{"$f":"'Daily Calcs'!K10200/1000000","v":0},0]
[0.1,{"$f":"'Daily Calcs'!J10201/1000000","v":0},{"$f":"'Daily Calcs'!K10201/1000000","v":0},0]
[0.1,{"$f":"'Daily Calcs'!J10202/1000000","v":0},{"$f":"'Daily Calcs'!K10202/1000000","v":0},0]
[0.1,{"$f":"'Daily Calcs'!J10203/1000000","v":0},{"$f":"'Daily Calcs'!K10203/1000000","v":0},0]
[0.1,{"$f":"'Daily Calcs'!J10204/1000000","v":0},{"$f":"'Daily Calcs'!K10204/1000000","v":0},0]
[0.1,{"$f":"'Daily Calcs'!J10205/1000000","v":0},{"$f":"'Daily Calcs'!K10205/1000000","v":0},0]
[0.1,{"$f":"'Daily Calcs'!J10206/1000000","v":0},{"$f":"'Daily Calcs'!K10206/1000000","v":0},0]
[0.1,{"$f":"'Daily Calcs'!J10207/1000000","v":0},{"$f":"'Daily Calcs'!K10207/1000000","v":0},0]
[0.1,{"$f":"'Daily Calcs'!J10208/1000000","v":0},{"$f":"'Daily Calcs'!K10208/1000000","v":0},0]
[0.1,{"$f":"'Daily Calcs'!J10209/1000000","v":0},{"$f":"'Daily Calcs'!K10209/1000000","v":0},0]
[0.1,{"$f":"'Daily Calcs'!J10210/1000000","v":0},{"$f":"'Daily Calcs'!K10210/1000000","v":0},0]
[0.1,{"$f":"'Daily Calcs'!J10211/1000000","v":0},{"$f":"'Daily Calcs'!K10211/1000000","v":0},0]
[0.1,{"$f":"'Daily Calcs'!J10212/1000000","v":0},{"$f":"'Daily Calcs'!K10212/1000000","v":0},0]
[0.1,{"$f":"'Daily Calcs'!J10213/1000000","v":0},{"$f":"'Daily Calcs'!K10213/1000000","v":0},0]
[0.1,{"$f":"'Daily Calcs'!J10214/1000000","v":0},{"$f":"'Daily Calcs'!K10214/1000000","v":0},0]
[0.1,{"$f":"'Daily Calcs'!J10215/1000000","v":0},{"$f":"'Daily Calcs'!K10215/1000000","v":0},0]
[0.1,{"$f":"'Daily Calcs'!J10216/1000000","v":0},{"$f":"'Daily Calcs'!K10216/1000000","v":0},0]
[0.1,{"$f":"'Daily Calcs'!J10217/1000000","v":0},{"$f":"'Daily Calcs'!K10217/1000000","v":0},0]
[0.1,{"$f":"'Daily Calcs'!J10218/1000000","v":0},{"$f":"'Daily Calcs'!K10218/1000000","v":0},0]
[0.1,{"$f":"'Daily Calcs'!J10219/1000000","v":0},{"$f":"'Daily Calcs'!K10219/1000000","v":0},0]
[0.1,{"$f":"'Daily Calcs'!J10220/1000000","v":0},{"$f":"'Daily Calcs'!K10220/1000000","v":0},0]
[0.1,{"$f":"'Daily Calcs'!J10221/1000000","v":0},{"$f":"'Daily Calcs'!K10221/1000000","v":0},0]
[0.1,{"$f":"'Daily Calcs'!J10222/1000000","v":0},{"$f":"'Daily Calcs'!K10222/1000000","v":0},0]
[0.1,{"$f":"'Daily Calcs'!J10223/1000000","v":0},{"$f":"'Daily Calcs'!K10223/1000000","v":0},0]
[0.1,{"$f":"'Daily Calcs'!J10224/1000000","v":0},{"$f":"'Daily Calcs'!K10224/1000000","v":0},0]
[0.1,{"$f":"'Daily Calcs'!J10225/1000000","v":0},{"$f":"'Daily Calcs'!K10225/1000000","v":0},0]
[0.1,{"$f":"'Daily Calcs'!J10226/1000000","v":0},{"$f":"'Daily Calcs'!K10226/1000000","v":0},0]
[0.1,{"$f":"'Daily Calcs'!J10227/1000000","v":6.6212029885476387E-10},{"$f":"'Daily Calcs'!K10227/1000000","v":6.6212029888141129E-10},6.6212029885476387E-10]
[0.1,{"$f":"'Daily Calcs'!J10228/1000000","v":4.2927788369876076E-10},{"$f":"'Daily Calcs'!K10228/1000000","v":4.2927788371941381E-10},4.2927788369876076E-10]
[0.1,{"$f":"'Daily Calcs'!J10229/1000000","v":2.8753348812287911E-10},{"$f":"'Daily Calcs'!K10229/1000000","v":2.8753348813115082E-10},2.8753348812287911E-10]
[0.1,{"$f":"'Daily Calcs'!J10230/1000000","v":0},{"$f":"'Daily Calcs'!K10230/1000000","v":0},0]
[0.1,{"$f":"'Daily Calcs'!J10231/1000000","v":1.6727322479135313E-10},{"$f":"'Daily Calcs'!K10231/1000000","v":1.6727322479519523E-10},1.6727322479135313E-10]
[0.1,{"$f":"'Daily Calcs'!J10232/1000000","v":0},{"$f":"'Daily Calcs'!K10232/1000000","v":0},0]
[0.1,{"$f":"'Daily Calcs'!J10233/1000000","v":0},{"$f":"'Daily Calcs'!K10233/1000000","v":0},0]
[0.1,{"$f":"'Daily Calcs'!J10234/1000000","v":0},{"$f":"'Daily Calcs'!K10234/1000000","v":0},0]
[0.1,{"$f":"'Daily Calcs'!J10235/1000000","v":0},{"$f":"'Daily Calcs'!K10235/1000000","v":0},0]
[0.1,{"$f":"'Daily Calcs'!J10236/1000000","v":0},{"$f":"'Daily Calcs'!K10236/1000000","v":0},0]
[0.1,{"$f":"'Daily Calcs'!J10237/1000000","v":0},{"$f":"'Daily Calcs'!K10237/1000000","v":0},0]
[0.1,{"$f":"'Daily Calcs'!J10238/1000000","v":0},{"$f":"'Daily Calcs'!K10238/1000000","v":0},0]
[0.1,{"$f":"'Daily Calcs'!J10239/1000000","v":0},{"$f":"'Daily Calcs'!K10239/1000000","v":0},0]
[0.1,{"$f":"'Daily Calcs'!J10240/1000000","v":6.2875019666218885E-11},{"$f":"'Daily Calcs'!K10240/1000000","v":6.2875019666837216E-11},6.2875019666218885E-11]
[0.1,{"$f":"'Daily Calcs'!J10241/1000000","v":0},{"$f":"'Daily Calcs'!K10241/1000000","v":0},0]
[0.1,{"$f":"'Daily Calcs'!J10242/1000000","v":3.8365893259309697E-11},{"$f":"'Daily Calcs'!K10242/1000000","v":3.8365893259453632E-11},3.8365893259309697E-11]
[0.1,{"$f":"'Daily Calcs'!J10243/1000000","v":0},{"$f":"'Daily Calcs'!K10243/1000000","v":0},{"$f":"B10247","v":0}]
[0.1,{"$f":"'Daily Calcs'!J10244/1000000","v":0},{"$f":"'Daily Calcs'!K10244/1000000","v":0},0]
[0.1,{"$f":"'Daily Calcs'!J10245/1000000","v":0},{"$f":"'Daily Calcs'!K10245/1000000","v":0},0]
[0.1,{"$f":"'Daily Calcs'!J10246/1000000","v":0},{"$f":"'Daily Calcs'!K10246/1000000","v":0},0]
[0.1,{"$f":"'Daily Calcs'!J10247/1000000","v":0},{"$f":"'Daily Calcs'!K10247/1000000","v":0},0]
[0.1,{"$f":"'Daily Calcs'!J10248/1000000","v":0},{"$f":"'Daily Calcs'!K10248/1000000","v":0},0]
[0.1,{"$f":"'Daily Calcs'!J10249/1000000","v":0},{"$f":"'Daily Calcs'!K10249/1000000","v":0},0]
[0.1,{"$f":"'Daily Calcs'!J10250/1000000","v":0},{"$f":"'Daily Calcs'!K10250/1000000","v":0},0]
[0.1,{"$f":"'Daily Calcs'!J10251/1000000","v":0},{"$f":"'Daily Calcs'!K10251/1000000","v":0},0]
[0.1,{"$f":"'Daily Calcs'!J10252/1000000","v":0},{"$f":"'Daily Calcs'!K10252/1000000","v":0},0]
[0.1,{"$f":"'Daily Calcs'!J10253/1000000","v":0},{"$f":"'Daily Calcs'!K10253/1000000","v":0},0]
[0.1,{"$f":"'Daily Calcs'!J10254/1000000","v":0},{"$f":"'Daily Calcs'!K10254/1000000","v":0},0]
[0.1,{"$f":"'Daily Calcs'!J10255/1000000","v":0},{"$f":"'Daily Calcs'!K10255/1000000","v":0},0]
[0.1,{"$f":"'Daily Calcs'!J10256/1000000","v":0},{"$f":"'Daily Calcs'!K10256/1000000","v":0},0]
[0.1,{"$f":"'Daily Calcs'!J10257/1000000","v":0},{"$f":"'Daily Calcs'!K10257/1000000","v":0},0]
[0.1,{"$f":"'Daily Calcs'!J10258/1000000","v":0},{"$f":"'Daily Calcs'!K10258/1000000","v":0},0]
[0.1,{"$f":"'Daily Calcs'!J10259/1000000","v":0},{"$f":"'Daily Calcs'!K10259/1000000","v":0},0]
[0.1,{"$f":"'Daily Calcs'!J10260/1000000","v":0},{"$f":"'Daily Calcs'!K10260/1000000","v":0},0]
[0.1,{"$f":"'Daily Calcs'!J10261/1000000","v":0},{"$f":"'Daily Calcs'!K10261/1000000","v":0},0]
[0.1,{"$f":"'Daily Calcs'!J10262/1000000","v":0},{"$f":"'Daily Calcs'!K10262/1000000","v":0},0]
[0.1,{"$f":"'Daily Calcs'!J10263/1000000","v":0},{"$f":"'Daily Calcs'!K10263/1000000","v":0},0]
[0.1,{"$f":"'Daily Calcs'!J10264/1000000","v":1.4921378091872791E-11},{"$f":"'Daily Calcs'!K10264/1000000","v":1.4921378091888815E-11},1.4921378091872791E-11]
[0.1,{"$f":"'Daily Calcs'!J10265/1000000","v":1.0173894458692781E-11},{"$f":"'Daily Calcs'!K10265/1000000","v":1.0173894458702605E-11},1.0173894458692781E-11]
[0.1,{"$f":"'Daily Calcs'!J10266/1000000","v":6.5620550317490845E-12},{"$f":"'Daily Calcs'!K10266/1000000","v":6.5620550317550065E-12},6.5620550317490845E-12]
[0.1,{"$f":"'Daily Calcs'!J10267/1000000","v":0},{"$f":"'Daily Calcs'!K10267/1000000","v":0},0]
[0.1,{"$f":"'Daily Calcs'!J10268/1000000","v":0},{"$f":"'Daily Calcs'!K10268/1000000","v":0},0]
[0.1,{"$f":"'Daily Calcs'!J10269/1000000","v":0},{"$f":"'Daily Calcs'!K10269/1000000","v":0},0]
[0.1,{"$f":"'Daily Calcs'!J10270/1000000","v":0},{"$f":"'Daily Calcs'!K10270/1000000","v":0},0]
[0.1,{"$f":"'Daily Calcs'!J10271/1000000","v":0},{"$f":"'Daily Calcs'!K10271/1000000","v":0},0]
[0.1,{"$f":"'Daily Calcs'!J10272/1000000","v":0},{"$f":"'Daily Calcs'!K10272/1000000","v":0},0]
[0.1,{"$f":"'Daily Calcs'!J10273/1000000","v":0},{"$f":"'Daily Calcs'!K10273/1000000","v":0},0]
[0.1,{"$f":"'Daily Calcs'!J10274/1000000","v":0},{"$f":"'Daily Calcs'!K10274/1000000","v":0},0]
[0.1,{"$f":"'Daily Calcs'!J10275/1000000","v":0},{"$f":"'Daily Calcs'!K10275/1000000","v":0},0]
[0.1,{"$f":"'Daily Calcs'!J10276/1000000","v":0},{"$f":"'Daily Calcs'!K10276/1000000","v":0},0]
[0.1,{"$f":"'Daily Calcs'!J10277/1000000","v":0},{"$f":"'Daily Calcs'!K10277/1000000","v":0},0]
[0.1,{"$f":"'Daily Calcs'!J10278/1000000","v":0},{"$f":"'Daily Calcs'!K10278/1000000","v":0},0]
[0.1,{"$f":"'Daily Calcs'!J10279/1000000","v":2.7536854542036995E-12},{"$f":"'Daily Calcs'!K10279/1000000","v":2.7536854542046596E-12},2.7536854542036995E-12]
[0.1,{"$f":"'Daily Calcs'!J10280/1000000","v":1.2303440047723207E-12},{"$f":"'Daily Calcs'!K10280/1000000","v":1.2303440047728558E-12},1.2303440047723207E-12]
[0.1,{"$f":"'Daily Calcs'!J10281/1000000","v":0},{"$f":"'Daily Calcs'!K10281/1000000","v":0},0]
[0.1,{"$f":"'Daily Calcs'!J10282/1000000","v":0},{"$f":"'Daily Calcs'!K10282/1000000","v":0},0]
[0.1,{"$f":"'Daily Calcs'!J10283/1000000","v":0},{"$f":"'Daily Calcs'!K10283/1000000","v":0},0]
[0.1,{"$f":"'Daily Calcs'!J10284/1000000","v":0},{"$f":"'Daily Calcs'!K10284/1000000","v":0},0]
[0.1,{"$f":"'Daily Calcs'!J10285/1000000","v":0},{"$f":"'Daily Calcs'!K10285/1000000","v":0},0]
[0.1,{"$f":"'Daily Calcs'!J10286/1000000","v":0},{"$f":"'Daily Calcs'!K10286/1000000","v":0},0]
[0.1,{"$f":"'Daily Calcs'!J10287/1000000","v":4.5264756390059747E-13},{"$f":"'Daily Calcs'!K10287/1000000","v":4.5264756390068022E-13},4.5264756390059747E-13]
[0.1,{"$f":"'Daily Calcs'!J10288/1000000","v":0},{"$f":"'Daily Calcs'!K10288/1000000","v":0},0]
[0.1,{"$f":"'Daily Calcs'!J10289/1000000","v":2.7099325065253988E-13},{"$f":"'Daily Calcs'!K10289/1000000","v":2.7099325065256205E-13},2.7099325065253988E-13]
[0.1,{"$f":"'Daily Calcs'!J10290/1000000","v":0},{"$f":"'Daily Calcs'!K10290/1000000","v":0},0]
[0.1,{"$f":"'Daily Calcs'!J10291/1000000","v":1.8010156288517478E-13},{"$f":"'Daily Calcs'!K10291/1000000","v":1.801015628851839E-13},1.8010156288517478E-13]
[0.1,{"$f":"'Daily Calcs'!J10292/1000000","v":1.3642741500269831E-13},{"$f":"'Daily Calcs'!K10292/1000000","v":1.364274150027054E-13},1.3642741500269831E-13]
[0.1,{"$f":"'Daily Calcs'!J10293/1000000","v":0},{"$f":"'Daily Calcs'!K10293/1000000","v":0},0]
[0.1,{"$f":"'Daily Calcs'!J10294/1000000","v":0},{"$f":"'Daily Calcs'!K10294/1000000","v":0},0]
[0.1,{"$f":"'Daily Calcs'!J10295/1000000","v":0},{"$f":"'Daily Calcs'!K10295/1000000","v":0},0]
[0.1,{"$f":"'Daily Calcs'!J10296/1000000","v":0},{"$f":"'Daily Calcs'!K10296/1000000","v":0},0]
[0.1,{"$f":"'Daily Calcs'!J10297/1000000","v":0},{"$f":"'Daily Calcs'!K10297/1000000","v":0},0]
[0.1,{"$f":"'Daily Calcs'!J10298/1000000","v":0},{"$f":"'Daily Calcs'!K10298/1000000","v":0},0]
[0.1,{"$f":"'Daily Calcs'!J10299/1000000","v":0},{"$f":"'Daily Calcs'!K10299/1000000","v":0},0]
[0.1,{"$f":"'Daily Calcs'!J10300/1000000","v":0},{"$f":"'Daily Calcs'!K10300/1000000","v":0},0]
[0.1,{"$f":"'Daily Calcs'!J10301/1000000","v":0},{"$f":"'Daily Calcs'!K10301/1000000","v":0},0]
[0.1,{"$f":"'Daily Calcs'!J10302/1000000","v":0},{"$f":"'Daily Calcs'!K10302/1000000","v":0},0]
[0.1,{"$f":"'Daily Calcs'!J10303/1000000","v":0},{"$f":"'Daily Calcs'!K10303/1000000","v":0},0]
[0.1,{"$f":"'Daily Calcs'!J10304/1000000","v":0},{"$f":"'Daily Calcs'!K10304/1000000","v":0},0]
[0.1,{"$f":"'Daily Calcs'!J10305/1000000","v":0},{"$f":"'Daily Calcs'!K10305/1000000","v":0},0]
[0.1,{"$f":"'Daily Calcs'!J10306/1000000","v":0},{"$f":"'Daily Calcs'!K10306/1000000","v":0},0]
[0.1,{"$f":"'Daily Calcs'!J10307/1000000","v":0},{"$f":"'Daily Calcs'!K10307/1000000","v":0},{"$f":"B10311","v":0}]
[0.1,{"$f":"'Daily Calcs'!J10308/1000000","v":3.659300286676501E-14},{"$f":"'Daily Calcs'!K10308/1000000","v":3.6593002866766367E-14},3.659300286676501E-14]
[0.1,{"$f":"'Daily Calcs'!J10309/1000000","v":2.0592931697491305E-14},{"$f":"'Daily Calcs'!K10309/1000000","v":2.0592931697491955E-14},2.0592931697491305E-14]
[0.1,{"$f":"'Daily Calcs'!J10310/1000000","v":9.7629144178874304E-15},{"$f":"'Daily Calcs'!K10310/1000000","v":9.762914417887686E-15},9.7629144178874304E-15]
[0.1,{"$f":"'Daily Calcs'!J10311/1000000","v":0},{"$f":"'Daily Calcs'!K10311/1000000","v":0},0]
[0.1,{"$f":"'Daily Calcs'!J10312/1000000","v":0},{"$f":"'Daily Calcs'!K10312/1000000","v":0},0]
[0.1,{"$f":"'Daily Calcs'!J10313/1000000","v":0},{"$f":"'Daily Calcs'!K10313/1000000","v":0},0]
[0.1,{"$f":"'Daily Calcs'!J10314/1000000","v":0},{"$f":"'Daily Calcs'!K10314/1000000","v":0},0]
[0.1,{"$f":"'Daily Calcs'!J10315/1000000","v":0},{"$f":"'Daily Calcs'!K10315/1000000","v":0},0]
[0.1,{"$f":"'Daily Calcs'!J10316/1000000","v":0},{"$f":"'Daily Calcs'!K10316/1000000","v":0},0]
[0.1,{"$f":"'Daily Calcs'!J10317/1000000","v":0},{"$f":"'Daily Calcs'!K10317/1000000","v":0},0]
[0.1,{"$f":"'Daily Calcs'!J10318/1000000","v":0},{"$f":"'Daily Calcs'!K10318/1000000","v":0},0]
[0.1,{"$f":"'Daily Calcs'!J10319/1000000","v":0},{"$f":"'Daily Calcs'!K10319/1000000","v":0},0]
[0.1,{"$f":"'Daily Calcs'!J10320/1000000","v":0},{"$f":"'Daily Calcs'!K10320/1000000","v":0},0]
[0.1,{"$f":"'Daily Calcs'!J10321/1000000","v":3.3096273879326651E-15},{"$f":"'Daily Calcs'!K10321/1000000","v":3.3096273879326856E-15},3.3096273879326651E-15]
[0.1,{"$f":"'Daily Calcs'!J10322/1000000","v":1.3496960660626218E-15},{"$f":"'Daily Calcs'!K10322/1000000","v":1.3496960660626342E-15},1.3496960660626218E-15]
[0.1,{"$f":"'Daily Calcs'!J10323/1000000","v":8.4509733881050194E-16},{"$f":"'Daily Calcs'!K10323/1000000","v":8.4509733881050588E-16},8.4509733881050194E-16]
[0.1,{"$f":"'Daily Calcs'!J10324/1000000","v":0},{"$f":"'Daily Calcs'!K10324/1000000","v":0},0]
[0.1,{"$f":"'Daily Calcs'!J10325/1000000","v":0},{"$f":"'Daily Calcs'!K10325/1000000","v":0},0]
[0.1,{"$f":"'Daily Calcs'!J10326/1000000","v":3.7803662073966645E-16},{"$f":"'Daily Calcs'!K10326/1000000","v":3.7803662073966788E-16},3.7803662073966645E-16]
[0.1,{"$f":"'Daily Calcs'!J10327/1000000","v":2.41158033897298E-16},{"$f":"'Daily Calcs'!K10327/1000000","v":2.4115803389729844E-16},2.41158033897298E-16]
[0.1,{"$f":"'Daily Calcs'!J10328/1000000","v":0},{"$f":"'Daily Calcs'!K10328/1000000","v":0},0]
[0.1,{"$f":"'Daily Calcs'!J10329/1000000","v":0},{"$f":"'Daily Calcs'!K10329/1000000","v":0},0]
[0.1,{"$f":"'Daily Calcs'!J10330/1000000","v":0},{"$f":"'Daily Calcs'!K10330/1000000","v":0},0]
[0.1,{"$f":"'Daily Calcs'!J10331/1000000","v":0},{"$f":"'Daily Calcs'!K10331/1000000","v":0},0]
[0.1,{"$f":"'Daily Calcs'!J10332/1000000","v":0},{"$f":"'Daily Calcs'!K10332/1000000","v":0},0]
[0.1,{"$f":"'Daily Calcs'!J10333/1000000","v":9.2009161470925051E-17},{"$f":"'Daily Calcs'!K10333/1000000","v":9.2009161470925198E-17},9.2009161470925051E-17]
[0.1,{"$f":"'Daily Calcs'!J10334/1000000","v":0},{"$f":"'Daily Calcs'!K10334/1000000","v":0},0]
[0.1,{"$f":"'Daily Calcs'!J10335/1000000","v":0},{"$f":"'Daily Calcs'!K10335/1000000","v":0},0]
[0.1,{"$f":"'Daily Calcs'!J10336/1000000","v":0},{"$f":"'Daily Calcs'!K10336/1000000","v":0},0]
[0.1,{"$f":"'Daily Calcs'!J10337/1000000","v":0},{"$f":"'Daily Calcs'!K10337/1000000","v":0},0]
[0.1,{"$f":"'Daily Calcs'!J10338/1000000","v":0},{"$f":"'Daily Calcs'!K10338/1000000","v":0},0]
[0.1,{"$f":"'Daily Calcs'!J10339/1000000","v":0},{"$f":"'Daily Calcs'!K10339/1000000","v":0},0]
[0.1,{"$f":"'Daily Calcs'!J10340/1000000","v":0},{"$f":"'Daily Calcs'!K10340/1000000","v":0},0]
[0.1,{"$f":"'Daily Calcs'!J10341/1000000","v":0},{"$f":"'Daily Calcs'!K10341/1000000","v":0},0]
[0.1,{"$f":"'Daily Calcs'!J10342/1000000","v":0},{"$f":"'Daily Calcs'!K10342/1000000","v":0},0]
[0.1,{"$f":"'Daily Calcs'!J10343/1000000","v":0},{"$f":"'Daily Calcs'!K10343/1000000","v":0},0]
[0.1,{"$f":"'Daily Calcs'!J10344/1000000","v":0},{"$f":"'Daily Calcs'!K10344/1000000","v":0},0]
[0.1,{"$f":"'Daily Calcs'!J10345/1000000","v":0},{"$f":"'Daily Calcs'!K10345/1000000","v":0},0]
[0.1,{"$f":"'Daily Calcs'!J10346/1000000","v":0},{"$f":"'Daily Calcs'!K10346/1000000","v":0},0]
[0.1,{"$f":"'Daily Calcs'!J10347/1000000","v":0},{"$f":"'Daily Calcs'!K10347/1000000","v":0},0]
[0.1,{"$f":"'Daily Calcs'!J10348/1000000","v":3.5791019255073975E-17},{"$f":"'Daily Calcs'!K10348/1000000","v":3.5791019255074006E-17},3.5791019255073975E-17]
[0.1,{"$f":"'Daily Calcs'!J10349/1000000","v":1.5123588699500259E-17},{"$f":"'Daily Calcs'!K10349/1000000","v":1.5123588699500275E-17},1.5123588699500259E-17]
[0.1,{"$f":"'Daily Calcs'!J10350/1000000","v":0},{"$f":"'Daily Calcs'!K10350/1000000","v":0},0]
[0.1,{"$f":"'Daily Calcs'!J10351/1000000","v":0},{"$f":"'Daily Calcs'!K10351/1000000","v":0},0]
[0.1,{"$f":"'Daily Calcs'!J10352/1000000","v":0},{"$f":"'Daily Calcs'!K10352/1000000","v":0},0]
[0.1,{"$f":"'Daily Calcs'!J10353/1000000","v":8.5003617321803821E-18},{"$f":"'Daily Calcs'!K10353/1000000","v":8.5003617321803852E-18},8.5003617321803821E-18]
[0.1,{"$f":"'Daily Calcs'!J10354/1000000","v":0},{"$f":"'Daily Calcs'!K10354/1000000","v":0},0]
[0.1,{"$f":"'Daily Calcs'!J10355/1000000","v":0},{"$f":"'Daily Calcs'!K10355/1000000","v":0},0]
[0.1,{"$f":"'Daily Calcs'!J10356/1000000","v":0},{"$f":"'Daily Calcs'!K10356/1000000","v":0},0]
[0.1,{"$f":"'Daily Calcs'!J10357/1000000","v":2.4717689458404244E-18},{"$f":"'Daily Calcs'!K10357/1000000","v":2.4717689458404248E-18},2.4717689458404244E-18]
[0.1,{"$f":"'Daily Calcs'!J10358/1000000","v":0},{"$f":"'Daily Calcs'!K10358/1000000","v":0},0]
[0.1,{"$f":"'Daily Calcs'!J10359/1000000","v":0},{"$f":"'Daily Calcs'!K10359/1000000","v":0},0]
[0.1,{"$f":"'Daily Calcs'!J10360/1000000","v":0},{"$f":"'Daily Calcs'!K10360/1000000","v":0},0]
[0.1,{"$f":"'Daily Calcs'!J10361/1000000","v":0},{"$f":"'Daily Calcs'!K10361/1000000","v":0},0]
[0.1,{"$f":"'Daily Calcs'!J10362/1000000","v":1.0130986150508929E-18},{"$f":"'Daily Calcs'!K10362/1000000","v":1.0130986150508931E-18},1.0130986150508929E-18]
[0.1,{"$f":"'Daily Calcs'!J10363/1000000","v":0},{"$f":"'Daily Calcs'!K10363/1000000","v":0},0]
[0.1,{"$f":"'Daily Calcs'!J10364/1000000","v":0},{"$f":"'Daily Calcs'!K10364/1000000","v":0},0]
[0.1,{"$f":"'Daily Calcs'!J10365/1000000","v":0},{"$f":"'Daily Calcs'!K10365/1000000","v":0},0]
[0.1,{"$f":"'Daily Calcs'!J10366/1000000","v":0},{"$f":"'Daily Calcs'!K10366/1000000","v":0},0]
[0.1,{"$f":"'Daily Calcs'!J10367/1000000","v":0},{"$f":"'Daily Calcs'!K10367/1000000","v":0},0]
[0.1,{"$f":"'Daily Calcs'!J10368/1000000","v":0},{"$f":"'Daily Calcs'!K10368/1000000","v":0},0]
[0.1,{"$f":"'Daily Calcs'!J10369/1000000","v":0},{"$f":"'Daily Calcs'!K10369/1000000","v":0},0]
[0.1,{"$f":"'Daily Calcs'!J10370/1000000","v":0},{"$f":"'Daily Calcs'!K10370/1000000","v":0},0]
[0.1,{"$f":"'Daily Calcs'!J10371/1000000","v":4.2413517043778707E-19},{"$f":"'Daily Calcs'!K10371/1000000","v":4.2413517043778707E-19},{"$f":"B10375","v":4.2413517043778707E-19}]
[0.1,{"$f":"'Daily Calcs'!J10372/1000000","v":0},{"$f":"'Daily Calcs'!K10372/1000000","v":0},0]
[0.1,{"$f":"'Daily Calcs'!J10373/1000000","v":0},{"$f":"'Daily Calcs'!K10373/1000000","v":0},0]
[0.1,{"$f":"'Daily Calcs'!J10374/1000000","v":0},{"$f":"'Daily Calcs'!K10374/1000000","v":0},0]
[0.1,{"$f":"'Daily Calcs'!J10375/1000000","v":0},{"$f":"'Daily Calcs'!K10375/1000000","v":0},0]
[0.1,{"$f":"'Daily Calcs'!J10376/1000000","v":0},{"$f":"'Daily Calcs'!K10376/1000000","v":0},0]
[0.1,{"$f":"'Daily Calcs'!J10377/1000000","v":0},{"$f":"'Daily Calcs'!K10377/1000000","v":0},0]
[0.1,{"$f":"'Daily Calcs'!J10378/1000000","v":0},{"$f":"'Daily Calcs'!K10378/1000000","v":0},0]
[0.1,{"$f":"'Daily Calcs'!J10379/1000000","v":0},{"$f":"'Daily Calcs'!K10379/1000000","v":0},0]
[0.1,{"$f":"'Daily Calcs'!J10380/1000000","v":0},{"$f":"'Daily Calcs'!K10380/1000000","v":0},0]
[0.1,{"$f":"'Daily Calcs'!J10381/1000000","v":0},{"$f":"'Daily Calcs'!K10381/1000000","v":0},0]
[0.1,{"$f":"'Daily Calcs'!J10382/1000000","v":0},{"$f":"'Daily Calcs'!K10382/1000000","v":0},0]
[0.1,{"$f":"'Daily Calcs'!J10383/1000000","v":0},{"$f":"'Daily Calcs'!K10383/1000000","v":0},0]
[0.1,{"$f":"'Daily Calcs'!J10384/1000000","v":1.6680606120240083E-19},{"$f":"'Daily Calcs'!K10384/1000000","v":1.6680606120240083E-19},1.6680606120240083E-19]
[0.1,{"$f":"'Daily Calcs'!J10385/1000000","v":8.4407586426871445E-20},{"$f":"'Daily Calcs'!K10385/1000000","v":8.4407586426871445E-20},8.4407586426871445E-20]
[0.1,{"$f":"'Daily Calcs'!J10386/1000000","v":0},{"$f":"'Daily Calcs'!K10386/1000000","v":0},0]
[0.1,{"$f":"'Daily Calcs'!J10387/1000000","v":0},{"$f":"'Daily Calcs'!K10387/1000000","v":0},0]
[0.1,{"$f":"'Daily Calcs'!J10388/1000000","v":0},{"$f":"'Daily Calcs'!K10388/1000000","v":0},0]
[0.1,{"$f":"'Daily Calcs'!J10389/1000000","v":0},{"$f":"'Daily Calcs'!K10389/1000000","v":0},0]
[0.1,{"$f":"'Daily Calcs'!J10390/1000000","v":0},{"$f":"'Daily Calcs'!K10390/1000000","v":0},0]
[0.1,{"$f":"'Daily Calcs'!J10391/1000000","v":0},{"$f":"'Daily Calcs'!K10391/1000000","v":0},0]
[0.1,{"$f":"'Daily Calcs'!J10392/1000000","v":0},{"$f":"'Daily Calcs'!K10392/1000000","v":0},0]
[0.1,{"$f":"'Daily Calcs'!J10393/1000000","v":4.6064050380155133E-20},{"$f":"'Daily Calcs'!K10393/1000000","v":4.6064050380155133E-20},4.6064050380155133E-20]
[0.1,{"$f":"'Daily Calcs'!J10394/1000000","v":1.6478028623261437E-20},{"$f":"'Daily Calcs'!K10394/1000000","v":1.6478028623261437E-20},1.6478028623261437E-20]
[0.1,{"$f":"'Daily Calcs'!J10395/1000000","v":6.9750379983631476E-21},{"$f":"'Daily Calcs'!K10395/1000000","v":6.9750379983631476E-21},6.9750379983631476E-21]
[0.1,{"$f":"'Daily Calcs'!J10396/1000000","v":0},{"$f":"'Daily Calcs'!K10396/1000000","v":0},0]
[0.1,{"$f":"'Daily Calcs'!J10397/1000000","v":3.8075444712612857E-21},{"$f":"'Daily Calcs'!K10397/1000000","v":3.8075444712612857E-21},3.8075444712612857E-21]
[0.1,{"$f":"'Daily Calcs'!J10398/1000000","v":2.3188130390293817E-21},{"$f":"'Daily Calcs'!K10398/1000000","v":2.3188130390293817E-21},2.3188130390293817E-21]
[0.1,{"$f":"'Daily Calcs'!J10399/1000000","v":9.3860698437198558E-22},{"$f":"'Daily Calcs'!K10399/1000000","v":9.3860698437198558E-22},9.3860698437198558E-22]
[0.1,{"$f":"'Daily Calcs'!J10400/1000000","v":4.9938604569574187E-22},{"$f":"'Daily Calcs'!K10400/1000000","v":4.9938604569574187E-22},4.9938604569574187E-22]
[0.1,{"$f":"'Daily Calcs'!J10401/1000000","v":0},{"$f":"'Daily Calcs'!K10401/1000000","v":0},0]
[0.1,{"$f":"'Daily Calcs'!J10402/1000000","v":0},{"$f":"'Daily Calcs'!K10402/1000000","v":0},0]
[0.1,{"$f":"'Daily Calcs'!J10403/1000000","v":0},{"$f":"'Daily Calcs'!K10403/1000000","v":0},0]
[0.1,{"$f":"'Daily Calcs'!J10404/1000000","v":0},{"$f":"'Daily Calcs'!K10404/1000000","v":0},0]
[0.1,{"$f":"'Daily Calcs'!J10405/1000000","v":0},{"$f":"'Daily Calcs'!K10405/1000000","v":0},0]
[0.1,{"$f":"'Daily Calcs'!J10406/1000000","v":0},{"$f":"'Daily Calcs'!K10406/1000000","v":0},0]
[0.1,{"$f":"'Daily Calcs'!J10407/1000000","v":2.6138960233814541E-22},{"$f":"'Daily Calcs'!K10407/1000000","v":2.6138960233814541E-22},2.6138960233814541E-22]
[0.1,{"$f":"'Daily Calcs'!J10408/1000000","v":0},{"$f":"'Daily Calcs'!K10408/1000000","v":0},0]
[0.1,{"$f":"'Daily Calcs'!J10409/1000000","v":0},{"$f":"'Daily Calcs'!K10409/1000000","v":0},0]
[0.1,{"$f":"'Daily Calcs'!J10410/1000000","v":0},{"$f":"'Daily Calcs'!K10410/1000000","v":0},0]
[0.1,{"$f":"'Daily Calcs'!J10411/1000000","v":1.6619009547100597E-22},{"$f":"'Daily Calcs'!K10411/1000000","v":1.6619009547100597E-22},1.6619009547100597E-22]
[0.1,{"$f":"'Daily Calcs'!J10412/1000000","v":5.4345709915171759E-23},{"$f":"'Daily Calcs'!K10412/1000000","v":5.4345709915171759E-23},5.4345709915171759E-23]
[0.1,{"$f":"'Daily Calcs'!J10413/1000000","v":4.2514329805996478E-23},{"$f":"'Daily Calcs'!K10413/1000000","v":4.2514329805996478E-23},4.2514329805996478E-23]
[0.1,{"$f":"'Daily Calcs'!J10414/1000000","v":3.0362624388598413E-23},{"$f":"'Daily Calcs'!K10414/1000000","v":3.0362624388598413E-23},3.0362624388598413E-23]
[0.1,{"$f":"'Daily Calcs'!J10415/1000000","v":1.5319449836392878E-23},{"$f":"'Daily Calcs'!K10415/1000000","v":1.5319449836392878E-23},1.5319449836392878E-23]
[0.1,{"$f":"'Daily Calcs'!J10416/1000000","v":0},{"$f":"'Daily Calcs'!K10416/1000000","v":0},0]
[0.1,{"$f":"'Daily Calcs'!J10417/1000000","v":0},{"$f":"'Daily Calcs'!K10417/1000000","v":0},0]
[0.1,{"$f":"'Daily Calcs'!J10418/1000000","v":5.008197873237457E-24},{"$f":"'Daily Calcs'!K10418/1000000","v":5.008197873237457E-24},5.008197873237457E-24]
[0.1,{"$f":"'Daily Calcs'!J10419/1000000","v":0},{"$f":"'Daily Calcs'!K10419/1000000","v":0},0]
[0.1,{"$f":"'Daily Calcs'!J10420/1000000","v":0},{"$f":"'Daily Calcs'!K10420/1000000","v":0},0]
[0.1,{"$f":"'Daily Calcs'!J10421/1000000","v":0},{"$f":"'Daily Calcs'!K10421/1000000","v":0},0]
[0.1,{"$f":"'Daily Calcs'!J10422/1000000","v":0},{"$f":"'Daily Calcs'!K10422/1000000","v":0},0]
[0.1,{"$f":"'Daily Calcs'!J10423/1000000","v":0},{"$f":"'Daily Calcs'!K10423/1000000","v":0},0]
[0.1,{"$f":"'Daily Calcs'!J10424/1000000","v":0},{"$f":"'Daily Calcs'!K10424/1000000","v":0},0]
[0.1,{"$f":"'Daily Calcs'!J10425/1000000","v":1.4925327377042E-5},{"$f":"'Daily Calcs'!K10425/1000000","v":1.5083392458284062E-5},1.4925327377042E-5]
[0.1,{"$f":"'Daily Calcs'!J10426/1000000","v":0},{"$f":"'Daily Calcs'!K10426/1000000","v":0},0]
[0.1,{"$f":"'Daily Calcs'!J10427/1000000","v":0},{"$f":"'Daily Calcs'!K10427/1000000","v":0},0]
[0.1,{"$f":"'Daily Calcs'!J10428/1000000","v":1.3047828697218332E-5},{"$f":"'Daily Calcs'!K10428/1000000","v":1.3105948569141487E-5},1.3047828697218332E-5]
[0.1,{"$f":"'Daily Calcs'!J10429/1000000","v":9.5578199495185557E-6},{"$f":"'Daily Calcs'!K10429/1000000","v":9.5926507431990259E-6},9.5578199495185557E-6]
[0.1,{"$f":"'Daily Calcs'!J10430/1000000","v":0},{"$f":"'Daily Calcs'!K10430/1000000","v":0},0]
[0.1,{"$f":"'Daily Calcs'!J10431/1000000","v":0},{"$f":"'Daily Calcs'!K10431/1000000","v":0},0]
[0.1,{"$f":"'Daily Calcs'!J10432/1000000","v":0},{"$f":"'Daily Calcs'!K10432/1000000","v":0},0]
[0.1,{"$f":"'Daily Calcs'!J10433/1000000","v":0},{"$f":"'Daily Calcs'!K10433/1000000","v":0},0]
[0.1,{"$f":"'Daily Calcs'!J10434/1000000","v":0},{"$f":"'Daily Calcs'!K10434/1000000","v":0},0]
[0.1,{"$f":"'Daily Calcs'!J10435/1000000","v":0},{"$f":"'Daily Calcs'!K10435/1000000","v":0},{"$f":"B10439","v":0}]
[0.1,{"$f":"'Daily Calcs'!J10436/1000000","v":0},{"$f":"'Daily Calcs'!K10436/1000000","v":0},0]
[0.1,{"$f":"'Daily Calcs'!J10437/1000000","v":0},{"$f":"'Daily Calcs'!K10437/1000000","v":0},0]
[0.1,{"$f":"'Daily Calcs'!J10438/1000000","v":0},{"$f":"'Daily Calcs'!K10438/1000000","v":0},0]
[0.1,{"$f":"'Daily Calcs'!J10439/1000000","v":0},{"$f":"'Daily Calcs'!K10439/1000000","v":0},0]
[0.1,{"$f":"'Daily Calcs'!J10440/1000000","v":0},{"$f":"'Daily Calcs'!K10440/1000000","v":0},0]
[0.1,{"$f":"'Daily Calcs'!J10441/1000000","v":0},{"$f":"'Daily Calcs'!K10441/1000000","v":0},0]
[0.1,{"$f":"'Daily Calcs'!J10442/1000000","v":0},{"$f":"'Daily Calcs'!K10442/1000000","v":0},0]
[0.1,{"$f":"'Daily Calcs'!J10443/1000000","v":0},{"$f":"'Daily Calcs'!K10443/1000000","v":0},0]
[0.1,{"$f":"'Daily Calcs'!J10444/1000000","v":0},{"$f":"'Daily Calcs'!K10444/1000000","v":0},0]
[0.1,{"$f":"'Daily Calcs'!J10445/1000000","v":0},{"$f":"'Daily Calcs'!K10445/1000000","v":0},0]
[0.1,{"$f":"'Daily Calcs'!J10446/1000000","v":0},{"$f":"'Daily Calcs'!K10446/1000000","v":0},0]
[0.1,{"$f":"'Daily Calcs'!J10447/1000000","v":0},{"$f":"'Daily Calcs'!K10447/1000000","v":0},0]
[0.1,{"$f":"'Daily Calcs'!J10448/1000000","v":0},{"$f":"'Daily Calcs'!K10448/1000000","v":0},0]
[0.1,{"$f":"'Daily Calcs'!J10449/1000000","v":0},{"$f":"'Daily Calcs'!K10449/1000000","v":0},0]
[0.1,{"$f":"'Daily Calcs'!J10450/1000000","v":0},{"$f":"'Daily Calcs'!K10450/1000000","v":0},0]
[0.1,{"$f":"'Daily Calcs'!J10451/1000000","v":0},{"$f":"'Daily Calcs'!K10451/1000000","v":0},0]
[0.1,{"$f":"'Daily Calcs'!J10452/1000000","v":0},{"$f":"'Daily Calcs'!K10452/1000000","v":0},0]
[0.1,{"$f":"'Daily Calcs'!J10453/1000000","v":0},{"$f":"'Daily Calcs'!K10453/1000000","v":0},0]
[0.1,{"$f":"'Daily Calcs'!J10454/1000000","v":1.7691770050672723E-5},{"$f":"'Daily Calcs'!K10454/1000000","v":1.7736136641621528E-5},1.7691770050672723E-5]
[0.1,{"$f":"'Daily Calcs'!J10455/1000000","v":1.539475312461329E-5},{"$f":"'Daily Calcs'!K10455/1000000","v":1.5429897289939362E-5},1.539475312461329E-5]
[0.1,{"$f":"'Daily Calcs'!J10456/1000000","v":0},{"$f":"'Daily Calcs'!K10456/1000000","v":0},0]
[0.1,{"$f":"'Daily Calcs'!J10457/1000000","v":1.2970493906350222E-5},{"$f":"'Daily Calcs'!K10457/1000000","v":1.2988279666452853E-5},1.2970493906350222E-5]
[0.1,{"$f":"'Daily Calcs'!J10458/1000000","v":0},{"$f":"'Daily Calcs'!K10458/1000000","v":0},0]
[0.1,{"$f":"'Daily Calcs'!J10459/1000000","v":0},{"$f":"'Daily Calcs'!K10459/1000000","v":0},0]
[0.1,{"$f":"'Daily Calcs'!J10460/1000000","v":0},{"$f":"'Daily Calcs'!K10460/1000000","v":0},0]
[0.1,{"$f":"'Daily Calcs'!J10461/1000000","v":0},{"$f":"'Daily Calcs'!K10461/1000000","v":0},0]
[0.1,{"$f":"'Daily Calcs'!J10462/1000000","v":0},{"$f":"'Daily Calcs'!K10462/1000000","v":0},0]
[0.1,{"$f":"'Daily Calcs'!J10463/1000000","v":0},{"$f":"'Daily Calcs'!K10463/1000000","v":0},0]
[0.1,{"$f":"'Daily Calcs'!J10464/1000000","v":0},{"$f":"'Daily Calcs'!K10464/1000000","v":0},0]
[0.1,{"$f":"'Daily Calcs'!J10465/1000000","v":0},{"$f":"'Daily Calcs'!K10465/1000000","v":0},0]
[0.1,{"$f":"'Daily Calcs'!J10466/1000000","v":0},{"$f":"'Daily Calcs'!K10466/1000000","v":0},0]
[0.1,{"$f":"'Daily Calcs'!J10467/1000000","v":0},{"$f":"'Daily Calcs'!K10467/1000000","v":0},0]
[0.1,{"$f":"'Daily Calcs'!J10468/1000000","v":0},{"$f":"'Daily Calcs'!K10468/1000000","v":0},0]
[0.1,{"$f":"'Daily Calcs'!J10469/1000000","v":0},{"$f":"'Daily Calcs'!K10469/1000000","v":0},0]
[0.1,{"$f":"'Daily Calcs'!J10470/1000000","v":0},{"$f":"'Daily Calcs'!K10470/1000000","v":0},0]
[0.1,{"$f":"'Daily Calcs'!J10471/1000000","v":0},{"$f":"'Daily Calcs'!K10471/1000000","v":0},0]
[0.1,{"$f":"'Daily Calcs'!J10472/1000000","v":0},{"$f":"'Daily Calcs'!K10472/1000000","v":0},0]
[0.1,{"$f":"'Daily Calcs'!J10473/1000000","v":0},{"$f":"'Daily Calcs'!K10473/1000000","v":0},0]
[0.1,{"$f":"'Daily Calcs'!J10474/1000000","v":0},{"$f":"'Daily Calcs'!K10474/1000000","v":0},0]
[0.1,{"$f":"'Daily Calcs'!J10475/1000000","v":0},{"$f":"'Daily Calcs'!K10475/1000000","v":0},0]
[0.1,{"$f":"'Daily Calcs'!J10476/1000000","v":0},{"$f":"'Daily Calcs'!K10476/1000000","v":0},0]
[0.1,{"$f":"'Daily Calcs'!J10477/1000000","v":0},{"$f":"'Daily Calcs'!K10477/1000000","v":0},0]
[0.1,{"$f":"'Daily Calcs'!J10478/1000000","v":0},{"$f":"'Daily Calcs'!K10478/1000000","v":0},0]
[0.1,{"$f":"'Daily Calcs'!J10479/1000000","v":0},{"$f":"'Daily Calcs'!K10479/1000000","v":0},0]
[0.1,{"$f":"'Daily Calcs'!J10480/1000000","v":0},{"$f":"'Daily Calcs'!K10480/1000000","v":0},0]
[0.1,{"$f":"'Daily Calcs'!J10481/1000000","v":0},{"$f":"'Daily Calcs'!K10481/1000000","v":0},0]
[0.1,{"$f":"'Daily Calcs'!J10482/1000000","v":0},{"$f":"'Daily Calcs'!K10482/1000000","v":0},0]
[0.1,{"$f":"'Daily Calcs'!J10483/1000000","v":0},{"$f":"'Daily Calcs'!K10483/1000000","v":0},0]
[0.1,{"$f":"'Daily Calcs'!J10484/1000000","v":0},{"$f":"'Daily Calcs'!K10484/1000000","v":0},0]
[0.1,{"$f":"'Daily Calcs'!J10485/1000000","v":0},{"$f":"'Daily Calcs'!K10485/1000000","v":0},0]
[0.1,{"$f":"'Daily Calcs'!J10486/1000000","v":0},{"$f":"'Daily Calcs'!K10486/1000000","v":0},0]
[0.1,{"$f":"'Daily Calcs'!J10487/1000000","v":0},{"$f":"'Daily Calcs'!K10487/1000000","v":0},0]
[0.1,{"$f":"'Daily Calcs'!J10488/1000000","v":0},{"$f":"'Daily Calcs'!K10488/1000000","v":0},0]
[0.1,{"$f":"'Daily Calcs'!J10489/1000000","v":0},{"$f":"'Daily Calcs'!K10489/1000000","v":0},0]
[0.1,{"$f":"'Daily Calcs'!J10490/1000000","v":0},{"$f":"'Daily Calcs'!K10490/1000000","v":0},0]
[0.1,{"$f":"'Daily Calcs'!J10491/1000000","v":0},{"$f":"'Daily Calcs'!K10491/1000000","v":0},0]
[0.1,{"$f":"'Daily Calcs'!J10492/1000000","v":0},{"$f":"'Daily Calcs'!K10492/1000000","v":0},0]
[0.1,{"$f":"'Daily Calcs'!J10493/1000000","v":6.7829281223964259E-6},{"$f":"'Daily Calcs'!K10493/1000000","v":6.7833282587290774E-6},6.7829281223964259E-6]
[0.1,{"$f":"'Daily Calcs'!J10494/1000000","v":6.2258730270409723E-6},{"$f":"'Daily Calcs'!K10494/1000000","v":6.2261433194962365E-6},6.2258730270409723E-6]
[0.1,{"$f":"'Daily Calcs'!J10495/1000000","v":0},{"$f":"'Daily Calcs'!K10495/1000000","v":0},0]
[0.1,{"$f":"'Daily Calcs'!J10496/1000000","v":3.7678033157498122E-6},{"$f":"'Daily Calcs'!K10496/1000000","v":3.7679176337603623E-6},3.7678033157498122E-6]
[0.1,{"$f":"'Daily Calcs'!J10497/1000000","v":0},{"$f":"'Daily Calcs'!K10497/1000000","v":0},0]
[0.1,{"$f":"'Daily Calcs'!J10498/1000000","v":0},{"$f":"'Daily Calcs'!K10498/1000000","v":0},0]
[0.1,{"$f":"'Daily Calcs'!J10499/1000000","v":2.6925912942570142E-6},{"$f":"'Daily Calcs'!K10499/1000000","v":2.6926231689774803E-6},{"$f":"B10503","v":2.6925912942570142E-6}]
[0.1,{"$f":"'Daily Calcs'!J10500/1000000","v":2.0694475688530386E-6},{"$f":"'Daily Calcs'!K10500/1000000","v":2.0694611556383969E-6},2.0694475688530386E-6]
[0.1,{"$f":"'Daily Calcs'!J10501/1000000","v":1.316194055346771E-6},{"$f":"'Daily Calcs'!K10501/1000000","v":1.316198008306286E-6},1.316194055346771E-6]
[0.1,{"$f":"'Daily Calcs'!J10502/1000000","v":8.8906448620606736E-7},{"$f":"'Daily Calcs'!K10502/1000000","v":8.890658177757929E-7},8.8906448620606736E-7]
[0.1,{"$f":"'Daily Calcs'!J10503/1000000","v":0},{"$f":"'Daily Calcs'!K10503/1000000","v":0},0]
[0.1,{"$f":"'Daily Calcs'!J10504/1000000","v":0},{"$f":"'Daily Calcs'!K10504/1000000","v":0},0]
[0.1,{"$f":"'Daily Calcs'!J10505/1000000","v":0},{"$f":"'Daily Calcs'!K10505/1000000","v":0},0]
[0.1,{"$f":"'Daily Calcs'!J10506/1000000","v":0},{"$f":"'Daily Calcs'!K10506/1000000","v":0},0]
[0.1,{"$f":"'Daily Calcs'!J10507/1000000","v":0},{"$f":"'Daily Calcs'!K10507/1000000","v":0},0]
[0.1,{"$f":"'Daily Calcs'!J10508/1000000","v":0},{"$f":"'Daily Calcs'!K10508/1000000","v":0},0]
[0.1,{"$f":"'Daily Calcs'!J10509/1000000","v":0},{"$f":"'Daily Calcs'!K10509/1000000","v":0},0]
[0.1,{"$f":"'Daily Calcs'!J10510/1000000","v":0},{"$f":"'Daily Calcs'!K10510/1000000","v":0},0]
[0.1,{"$f":"'Daily Calcs'!J10511/1000000","v":0},{"$f":"'Daily Calcs'!K10511/1000000","v":0},0]
[0.1,{"$f":"'Daily Calcs'!J10512/1000000","v":0},{"$f":"'Daily Calcs'!K10512/1000000","v":0},0]
[0.1,{"$f":"'Daily Calcs'!J10513/1000000","v":0},{"$f":"'Daily Calcs'!K10513/1000000","v":0},0]
[0.1,{"$f":"'Daily Calcs'!J10514/1000000","v":0},{"$f":"'Daily Calcs'!K10514/1000000","v":0},0]
[0.1,{"$f":"'Daily Calcs'!J10515/1000000","v":0},{"$f":"'Daily Calcs'!K10515/1000000","v":0},0]
[0.1,{"$f":"'Daily Calcs'!J10516/1000000","v":0},{"$f":"'Daily Calcs'!K10516/1000000","v":0},0]
[0.1,{"$f":"'Daily Calcs'!J10517/1000000","v":0},{"$f":"'Daily Calcs'!K10517/1000000","v":0},0]
[0.1,{"$f":"'Daily Calcs'!J10518/1000000","v":0},{"$f":"'Daily Calcs'!K10518/1000000","v":0},0]
[0.1,{"$f":"'Daily Calcs'!J10519/1000000","v":0},{"$f":"'Daily Calcs'!K10519/1000000","v":0},0]
[0.1,{"$f":"'Daily Calcs'!J10520/1000000","v":0},{"$f":"'Daily Calcs'!K10520/1000000","v":0},0]
[0.1,{"$f":"'Daily Calcs'!J10521/1000000","v":0},{"$f":"'Daily Calcs'!K10521/1000000","v":0},0]
[0.1,{"$f":"'Daily Calcs'!J10522/1000000","v":0},{"$f":"'Daily Calcs'!K10522/1000000","v":0},0]
[0.1,{"$f":"'Daily Calcs'!J10523/1000000","v":0},{"$f":"'Daily Calcs'!K10523/1000000","v":0},0]
[0.1,{"$f":"'Daily Calcs'!J10524/1000000","v":0},{"$f":"'Daily Calcs'!K10524/1000000","v":0},0]
[0.1,{"$f":"'Daily Calcs'!J10525/1000000","v":0},{"$f":"'Daily Calcs'!K10525/1000000","v":0},0]
[0.1,{"$f":"'Daily Calcs'!J10526/1000000","v":0},{"$f":"'Daily Calcs'!K10526/1000000","v":0},0]
[0.1,{"$f":"'Daily Calcs'!J10527/1000000","v":0},{"$f":"'Daily Calcs'!K10527/1000000","v":0},0]
[0.1,{"$f":"'Daily Calcs'!J10528/1000000","v":0},{"$f":"'Daily Calcs'!K10528/1000000","v":0},0]
[0.1,{"$f":"'Daily Calcs'!J10529/1000000","v":0},{"$f":"'Daily Calcs'!K10529/1000000","v":0},0]
[0.1,{"$f":"'Daily Calcs'!J10530/1000000","v":0},{"$f":"'Daily Calcs'!K10530/1000000","v":0},0]
[0.1,{"$f":"'Daily Calcs'!J10531/1000000","v":0},{"$f":"'Daily Calcs'!K10531/1000000","v":0},0]
[0.1,{"$f":"'Daily Calcs'!J10532/1000000","v":0},{"$f":"'Daily Calcs'!K10532/1000000","v":0},0]
[0.1,{"$f":"'Daily Calcs'!J10533/1000000","v":0},{"$f":"'Daily Calcs'!K10533/1000000","v":0},0]
[0.1,{"$f":"'Daily Calcs'!J10534/1000000","v":0},{"$f":"'Daily Calcs'!K10534/1000000","v":0},0]
[0.1,{"$f":"'Daily Calcs'!J10535/1000000","v":0},{"$f":"'Daily Calcs'!K10535/1000000","v":0},0]
[0.1,{"$f":"'Daily Calcs'!J10536/1000000","v":0},{"$f":"'Daily Calcs'!K10536/1000000","v":0},0]
[0.1,{"$f":"'Daily Calcs'!J10537/1000000","v":0},{"$f":"'Daily Calcs'!K10537/1000000","v":0},0]
[0.1,{"$f":"'Daily Calcs'!J10538/1000000","v":0},{"$f":"'Daily Calcs'!K10538/1000000","v":0},0]
[0.1,{"$f":"'Daily Calcs'!J10539/1000000","v":4.5067516099993084E-7},{"$f":"'Daily Calcs'!K10539/1000000","v":4.5067527511391182E-7},4.5067516099993084E-7]
[0.1,{"$f":"'Daily Calcs'!J10540/1000000","v":0},{"$f":"'Daily Calcs'!K10540/1000000","v":0},0]
[0.1,{"$f":"'Daily Calcs'!J10541/1000000","v":0},{"$f":"'Daily Calcs'!K10541/1000000","v":0},0]
[0.1,{"$f":"'Daily Calcs'!J10542/1000000","v":0},{"$f":"'Daily Calcs'!K10542/1000000","v":0},0]
[0.1,{"$f":"'Daily Calcs'!J10543/1000000","v":0},{"$f":"'Daily Calcs'!K10543/1000000","v":0},0]
[0.1,{"$f":"'Daily Calcs'!J10544/1000000","v":0},{"$f":"'Daily Calcs'!K10544/1000000","v":0},0]
[0.1,{"$f":"'Daily Calcs'!J10545/1000000","v":0},{"$f":"'Daily Calcs'!K10545/1000000","v":0},0]
[0.1,{"$f":"'Daily Calcs'!J10546/1000000","v":0},{"$f":"'Daily Calcs'!K10546/1000000","v":0},0]
[0.1,{"$f":"'Daily Calcs'!J10547/1000000","v":2.1150743435621637E-7},{"$f":"'Daily Calcs'!K10547/1000000","v":2.1150745303147735E-7},2.1150743435621637E-7]
[0.1,{"$f":"'Daily Calcs'!J10548/1000000","v":0},{"$f":"'Daily Calcs'!K10548/1000000","v":0},0]
[0.1,{"$f":"'Daily Calcs'!J10549/1000000","v":0},{"$f":"'Daily Calcs'!K10549/1000000","v":0},0]
[0.1,{"$f":"'Daily Calcs'!J10550/1000000","v":0},{"$f":"'Daily Calcs'!K10550/1000000","v":0},0]
[0.1,{"$f":"'Daily Calcs'!J10551/1000000","v":0},{"$f":"'Daily Calcs'!K10551/1000000","v":0},0]
[0.1,{"$f":"'Daily Calcs'!J10552/1000000","v":0},{"$f":"'Daily Calcs'!K10552/1000000","v":0},0]
[0.1,{"$f":"'Daily Calcs'!J10553/1000000","v":0},{"$f":"'Daily Calcs'!K10553/1000000","v":0},0]
[0.1,{"$f":"'Daily Calcs'!J10554/1000000","v":1.0834833154976163E-7},{"$f":"'Daily Calcs'!K10554/1000000","v":1.083483353347845E-7},1.0834833154976163E-7]
[0.1,{"$f":"'Daily Calcs'!J10555/1000000","v":0},{"$f":"'Daily Calcs'!K10555/1000000","v":0},0]
[0.1,{"$f":"'Daily Calcs'!J10556/1000000","v":0},{"$f":"'Daily Calcs'!K10556/1000000","v":0},0]
[0.1,{"$f":"'Daily Calcs'!J10557/1000000","v":0},{"$f":"'Daily Calcs'!K10557/1000000","v":0},0]
[0.1,{"$f":"'Daily Calcs'!J10558/1000000","v":0},{"$f":"'Daily Calcs'!K10558/1000000","v":0},0]
[0.1,{"$f":"'Daily Calcs'!J10559/1000000","v":0},{"$f":"'Daily Calcs'!K10559/1000000","v":0},0]
[0.1,{"$f":"'Daily Calcs'!J10560/1000000","v":0},{"$f":"'Daily Calcs'!K10560/1000000","v":0},0]
[0.1,{"$f":"'Daily Calcs'!J10561/1000000","v":0},{"$f":"'Daily Calcs'!K10561/1000000","v":0},0]
[0.1,{"$f":"'Daily Calcs'!J10562/1000000","v":0},{"$f":"'Daily Calcs'!K10562/1000000","v":0},0]
[0.1,{"$f":"'Daily Calcs'!J10563/1000000","v":0},{"$f":"'Daily Calcs'!K10563/1000000","v":0},{"$f":"B10567","v":0}]
[0.1,{"$f":"'Daily Calcs'!J10564/1000000","v":0},{"$f":"'Daily Calcs'!K10564/1000000","v":0},0]
[0.1,{"$f":"'Daily Calcs'!J10565/1000000","v":0},{"$f":"'Daily Calcs'!K10565/1000000","v":0},0]
[0.1,{"$f":"'Daily Calcs'!J10566/1000000","v":0},{"$f":"'Daily Calcs'!K10566/1000000","v":0},0]
[0.1,{"$f":"'Daily Calcs'!J10567/1000000","v":0},{"$f":"'Daily Calcs'!K10567/1000000","v":0},0]
[0.1,{"$f":"'Daily Calcs'!J10568/1000000","v":0},{"$f":"'Daily Calcs'!K10568/1000000","v":0},0]
[0.1,{"$f":"'Daily Calcs'!J10569/1000000","v":5.1846759033628069E-8},{"$f":"'Daily Calcs'!K10569/1000000","v":5.1846759658288662E-8},5.1846759033628069E-8]
[0.1,{"$f":"'Daily Calcs'!J10570/1000000","v":3.3878124999999998E-8},{"$f":"'Daily Calcs'!K10570/1000000","v":3.387812531363542E-8},3.3878124999999998E-8]
[0.1,{"$f":"'Daily Calcs'!J10571/1000000","v":2.6557134642241024E-8},{"$f":"'Daily Calcs'!K10571/1000000","v":2.655713475972727E-8},2.6557134642241024E-8]
[0.1,{"$f":"'Daily Calcs'!J10572/1000000","v":0},{"$f":"'Daily Calcs'!K10572/1000000","v":0},0]
[0.1,{"$f":"'Daily Calcs'!J10573/1000000","v":0},{"$f":"'Daily Calcs'!K10573/1000000","v":0},0]
[0.1,{"$f":"'Daily Calcs'!J10574/1000000","v":1.5535480193787404E-8},{"$f":"'Daily Calcs'!K10574/1000000","v":1.5535480251062985E-8},1.5535480193787404E-8]
[0.1,{"$f":"'Daily Calcs'!J10575/1000000","v":0},{"$f":"'Daily Calcs'!K10575/1000000","v":0},0]
[0.1,{"$f":"'Daily Calcs'!J10576/1000000","v":0},{"$f":"'Daily Calcs'!K10576/1000000","v":0},0]
[0.1,{"$f":"'Daily Calcs'!J10577/1000000","v":0},{"$f":"'Daily Calcs'!K10577/1000000","v":0},0]
[0.1,{"$f":"'Daily Calcs'!J10578/1000000","v":0},{"$f":"'Daily Calcs'!K10578/1000000","v":0},0]
[0.1,{"$f":"'Daily Calcs'!J10579/1000000","v":0},{"$f":"'Daily Calcs'!K10579/1000000","v":0},0]
[0.1,{"$f":"'Daily Calcs'!J10580/1000000","v":1.2284805487198281E-8},{"$f":"'Daily Calcs'!K10580/1000000","v":1.228480550083774E-8},1.2284805487198281E-8]
[0.1,{"$f":"'Daily Calcs'!J10581/1000000","v":9.946615563616452E-9},{"$f":"'Daily Calcs'!K10581/1000000","v":9.9466155734049699E-9},9.946615563616452E-9]
[0.1,{"$f":"'Daily Calcs'!J10582/1000000","v":0},{"$f":"'Daily Calcs'!K10582/1000000","v":0},0]
[0.1,{"$f":"'Daily Calcs'!J10583/1000000","v":0},{"$f":"'Daily Calcs'!K10583/1000000","v":0},0]
[0.1,{"$f":"'Daily Calcs'!J10584/1000000","v":0},{"$f":"'Daily Calcs'!K10584/1000000","v":0},0]
[0.1,{"$f":"'Daily Calcs'!J10585/1000000","v":0},{"$f":"'Daily Calcs'!K10585/1000000","v":0},0]
[0.1,{"$f":"'Daily Calcs'!J10586/1000000","v":0},{"$f":"'Daily Calcs'!K10586/1000000","v":0},0]
[0.1,{"$f":"'Daily Calcs'!J10587/1000000","v":0},{"$f":"'Daily Calcs'!K10587/1000000","v":0},0]
[0.1,{"$f":"'Daily Calcs'!J10588/1000000","v":0},{"$f":"'Daily Calcs'!K10588/1000000","v":0},0]
[0.1,{"$f":"'Daily Calcs'!J10589/1000000","v":0},{"$f":"'Daily Calcs'!K10589/1000000","v":0},0]
[0.1,{"$f":"'Daily Calcs'!J10590/1000000","v":0},{"$f":"'Daily Calcs'!K10590/1000000","v":0},0]
[0.1,{"$f":"'Daily Calcs'!J10591/1000000","v":0},{"$f":"'Daily Calcs'!K10591/1000000","v":0},0]
[0.1,{"$f":"'Daily Calcs'!J10592/1000000","v":0},{"$f":"'Daily Calcs'!K10592/1000000","v":0},0]
[0.1,{"$f":"'Daily Calcs'!J10593/1000000","v":5.2609799279025624E-9},{"$f":"'Daily Calcs'!K10593/1000000","v":5.2609799313320954E-9},5.2609799279025624E-9]
[0.1,{"$f":"'Daily Calcs'!J10594/1000000","v":0},{"$f":"'Daily Calcs'!K10594/1000000","v":0},0]
[0.1,{"$f":"'Daily Calcs'!J10595/1000000","v":0},{"$f":"'Daily Calcs'!K10595/1000000","v":0},0]
[0.1,{"$f":"'Daily Calcs'!J10596/1000000","v":0},{"$f":"'Daily Calcs'!K10596/1000000","v":0},0]
[0.1,{"$f":"'Daily Calcs'!J10597/1000000","v":4.0183063459180664E-9},{"$f":"'Daily Calcs'!K10597/1000000","v":4.0183063470263403E-9},4.0183063459180664E-9]
[0.1,{"$f":"'Daily Calcs'!J10598/1000000","v":2.3970514881117331E-9},{"$f":"'Daily Calcs'!K10598/1000000","v":2.3970514888813023E-9},2.3970514881117331E-9]
[0.1,{"$f":"'Daily Calcs'!J10599/1000000","v":1.54398808257076E-9},{"$f":"'Daily Calcs'!K10599/1000000","v":1.5439880828773357E-9},1.54398808257076E-9]
[0.1,{"$f":"'Daily Calcs'!J10600/1000000","v":9.9545280490139789E-10},{"$f":"'Daily Calcs'!K10600/1000000","v":9.954528050336252E-10},9.9545280490139789E-10]
[0.1,{"$f":"'Daily Calcs'!J10601/1000000","v":7.5611721611721606E-10},{"$f":"'Daily Calcs'!K10601/1000000","v":7.5611721616737815E-10},7.5611721611721606E-10]
[0.1,{"$f":"'Daily Calcs'!J10602/1000000","v":0},{"$f":"'Daily Calcs'!K10602/1000000","v":0},0]
[0.1,{"$f":"'Daily Calcs'!J10603/1000000","v":0},{"$f":"'Daily Calcs'!K10603/1000000","v":0},0]
[0.1,{"$f":"'Daily Calcs'!J10604/1000000","v":0},{"$f":"'Daily Calcs'!K10604/1000000","v":0},0]
[0.1,{"$f":"'Daily Calcs'!J10605/1000000","v":0},{"$f":"'Daily Calcs'!K10605/1000000","v":0},0]
[0.1,{"$f":"'Daily Calcs'!J10606/1000000","v":0},{"$f":"'Daily Calcs'!K10606/1000000","v":0},0]
[0.1,{"$f":"'Daily Calcs'!J10607/1000000","v":0},{"$f":"'Daily Calcs'!K10607/1000000","v":0},0]
[0.1,{"$f":"'Daily Calcs'!J10608/1000000","v":0},{"$f":"'Daily Calcs'!K10608/1000000","v":0},0]
[0.1,{"$f":"'Daily Calcs'!J10609/1000000","v":0},{"$f":"'Daily Calcs'!K10609/1000000","v":0},0]
[0.1,{"$f":"'Daily Calcs'!J10610/1000000","v":0},{"$f":"'Daily Calcs'!K10610/1000000","v":0},0]
[0.1,{"$f":"'Daily Calcs'!J10611/1000000","v":0},{"$f":"'Daily Calcs'!K10611/1000000","v":0},0]
[0.1,{"$f":"'Daily Calcs'!J10612/1000000","v":0},{"$f":"'Daily Calcs'!K10612/1000000","v":0},0]
[0.1,{"$f":"'Daily Calcs'!J10613/1000000","v":1.9854814193616017E-10},{"$f":"'Daily Calcs'!K10613/1000000","v":1.9854814194473374E-10},1.9854814193616017E-10]
[0.1,{"$f":"'Daily Calcs'!J10614/1000000","v":1.5486431803790136E-10},{"$f":"'Daily Calcs'!K10614/1000000","v":1.5486431804061839E-10},1.5486431803790136E-10]
[0.1,{"$f":"'Daily Calcs'!J10615/1000000","v":0},{"$f":"'Daily Calcs'!K10615/1000000","v":0},0]
[0.1,{"$f":"'Daily Calcs'!J10616/1000000","v":0},{"$f":"'Daily Calcs'!K10616/1000000","v":0},0]
[0.1,{"$f":"'Daily Calcs'!J10617/1000000","v":6.1766731876670419E-11},{"$f":"'Daily Calcs'!K10617/1000000","v":6.1766731877837157E-11},6.1766731876670419E-11]
[0.1,{"$f":"'Daily Calcs'!J10618/1000000","v":3.0282549728752261E-11},{"$f":"'Daily Calcs'!K10618/1000000","v":3.0282549729111665E-11},3.0282549728752261E-11]
[0.1,{"$f":"'Daily Calcs'!J10619/1000000","v":0},{"$f":"'Daily Calcs'!K10619/1000000","v":0},0]
[0.1,{"$f":"'Daily Calcs'!J10620/1000000","v":0},{"$f":"'Daily Calcs'!K10620/1000000","v":0},0]
[0.1,{"$f":"'Daily Calcs'!J10621/1000000","v":0},{"$f":"'Daily Calcs'!K10621/1000000","v":0},0]
[0.1,{"$f":"'Daily Calcs'!J10622/1000000","v":2.2540903461312823E-11},{"$f":"'Daily Calcs'!K10622/1000000","v":2.2540903461403111E-11},2.2540903461312823E-11]
[0.1,{"$f":"'Daily Calcs'!J10623/1000000","v":0},{"$f":"'Daily Calcs'!K10623/1000000","v":0},0]
[0.1,{"$f":"'Daily Calcs'!J10624/1000000","v":0},{"$f":"'Daily Calcs'!K10624/1000000","v":0},0]
[0.1,{"$f":"'Daily Calcs'!J10625/1000000","v":0},{"$f":"'Daily Calcs'!K10625/1000000","v":0},0]
[0.1,{"$f":"'Daily Calcs'!J10626/1000000","v":0},{"$f":"'Daily Calcs'!K10626/1000000","v":0},0]
[0.1,{"$f":"'Daily Calcs'!J10627/1000000","v":0},{"$f":"'Daily Calcs'!K10627/1000000","v":0},{"$f":"B10631","v":0}]
[0.1,{"$f":"'Daily Calcs'!J10628/1000000","v":9.1028094618387811E-12},{"$f":"'Daily Calcs'!K10628/1000000","v":9.1028094618815183E-12},9.1028094618387811E-12]
[0.1,{"$f":"'Daily Calcs'!J10629/1000000","v":0},{"$f":"'Daily Calcs'!K10629/1000000","v":0},0]
[0.1,{"$f":"'Daily Calcs'!J10630/1000000","v":0},{"$f":"'Daily Calcs'!K10630/1000000","v":0},0]
[0.1,{"$f":"'Daily Calcs'!J10631/1000000","v":0},{"$f":"'Daily Calcs'!K10631/1000000","v":0},0]
[0.1,{"$f":"'Daily Calcs'!J10632/1000000","v":0},{"$f":"'Daily Calcs'!K10632/1000000","v":0},0]
[0.1,{"$f":"'Daily Calcs'!J10633/1000000","v":2.8649877261569238E-12},{"$f":"'Daily Calcs'!K10633/1000000","v":2.8649877261635024E-12},2.8649877261569238E-12]
[0.1,{"$f":"'Daily Calcs'!J10634/1000000","v":1.5910824988078208E-12},{"$f":"'Daily Calcs'!K10634/1000000","v":1.5910824988100594E-12},1.5910824988078208E-12]
[0.1,{"$f":"'Daily Calcs'!J10635/1000000","v":0},{"$f":"'Daily Calcs'!K10635/1000000","v":0},0]
[0.1,{"$f":"'Daily Calcs'!J10636/1000000","v":0},{"$f":"'Daily Calcs'!K10636/1000000","v":0},0]
[0.1,{"$f":"'Daily Calcs'!J10637/1000000","v":0},{"$f":"'Daily Calcs'!K10637/1000000","v":0},0]
[0.1,{"$f":"'Daily Calcs'!J10638/1000000","v":0},{"$f":"'Daily Calcs'!K10638/1000000","v":0},0]
[0.1,{"$f":"'Daily Calcs'!J10639/1000000","v":0},{"$f":"'Daily Calcs'!K10639/1000000","v":0},0]
[0.1,{"$f":"'Daily Calcs'!J10640/1000000","v":4.5121146101538265E-13},{"$f":"'Daily Calcs'!K10640/1000000","v":4.5121146101577165E-13},4.5121146101538265E-13]
[0.1,{"$f":"'Daily Calcs'!J10641/1000000","v":0},{"$f":"'Daily Calcs'!K10641/1000000","v":0},0]
[0.1,{"$f":"'Daily Calcs'!J10642/1000000","v":1.830054731498374E-13},{"$f":"'Daily Calcs'!K10642/1000000","v":1.8300547314994471E-13},1.830054731498374E-13]
[0.1,{"$f":"'Daily Calcs'!J10643/1000000","v":1.1601178781925345E-13},{"$f":"'Daily Calcs'!K10643/1000000","v":1.1601178781929033E-13},1.1601178781925345E-13]
[0.1,{"$f":"'Daily Calcs'!J10644/1000000","v":0},{"$f":"'Daily Calcs'!K10644/1000000","v":0},0]
[0.1,{"$f":"'Daily Calcs'!J10645/1000000","v":0},{"$f":"'Daily Calcs'!K10645/1000000","v":0},0]
[0.1,{"$f":"'Daily Calcs'!J10646/1000000","v":7.4151752118574735E-14},{"$f":"'Daily Calcs'!K10646/1000000","v":7.4151752118587546E-14},7.4151752118574735E-14]
[0.1,{"$f":"'Daily Calcs'!J10647/1000000","v":0},{"$f":"'Daily Calcs'!K10647/1000000","v":0},0]
[0.1,{"$f":"'Daily Calcs'!J10648/1000000","v":0},{"$f":"'Daily Calcs'!K10648/1000000","v":0},0]
[0.1,{"$f":"'Daily Calcs'!J10649/1000000","v":0},{"$f":"'Daily Calcs'!K10649/1000000","v":0},0]
[0.1,{"$f":"'Daily Calcs'!J10650/1000000","v":0},{"$f":"'Daily Calcs'!K10650/1000000","v":0},0]
[0.1,{"$f":"'Daily Calcs'!J10651/1000000","v":0},{"$f":"'Daily Calcs'!K10651/1000000","v":0},0]
[0.1,{"$f":"'Daily Calcs'!J10652/1000000","v":0},{"$f":"'Daily Calcs'!K10652/1000000","v":0},0]
[0.1,{"$f":"'Daily Calcs'!J10653/1000000","v":0},{"$f":"'Daily Calcs'!K10653/1000000","v":0},0]
[0.1,{"$f":"'Daily Calcs'!J10654/1000000","v":2.5197786520254203E-14},{"$f":"'Daily Calcs'!K10654/1000000","v":2.5197786520257844E-14},2.5197786520254203E-14]
[0.1,{"$f":"'Daily Calcs'!J10655/1000000","v":0},{"$f":"'Daily Calcs'!K10655/1000000","v":0},0]
[0.1,{"$f":"'Daily Calcs'!J10656/1000000","v":0},{"$f":"'Daily Calcs'!K10656/1000000","v":0},0]
[0.1,{"$f":"'Daily Calcs'!J10657/1000000","v":0},{"$f":"'Daily Calcs'!K10657/1000000","v":0},0]
[0.1,{"$f":"'Daily Calcs'!J10658/1000000","v":0},{"$f":"'Daily Calcs'!K10658/1000000","v":0},0]
[0.1,{"$f":"'Daily Calcs'!J10659/1000000","v":0},{"$f":"'Daily Calcs'!K10659/1000000","v":0},0]
[0.1,{"$f":"'Daily Calcs'!J10660/1000000","v":1.2536526263274177E-14},{"$f":"'Daily Calcs'!K10660/1000000","v":1.2536526263275035E-14},1.2536526263274177E-14]
[0.1,{"$f":"'Daily Calcs'!J10661/1000000","v":9.6585264632264256E-15},{"$f":"'Daily Calcs'!K10661/1000000","v":9.6585264632269509E-15},9.6585264632264256E-15]
[0.1,{"$f":"'Daily Calcs'!J10662/1000000","v":0},{"$f":"'Daily Calcs'!K10662/1000000","v":0},0]
[0.1,{"$f":"'Daily Calcs'!J10663/1000000","v":0},{"$f":"'Daily Calcs'!K10663/1000000","v":0},0]
[0.1,{"$f":"'Daily Calcs'!J10664/1000000","v":0},{"$f":"'Daily Calcs'!K10664/1000000","v":0},0]
[0.1,{"$f":"'Daily Calcs'!J10665/1000000","v":0},{"$f":"'Daily Calcs'!K10665/1000000","v":0},0]
[0.1,{"$f":"'Daily Calcs'!J10666/1000000","v":0},{"$f":"'Daily Calcs'!K10666/1000000","v":0},0]
[0.1,{"$f":"'Daily Calcs'!J10667/1000000","v":0},{"$f":"'Daily Calcs'!K10667/1000000","v":0},0]
[0.1,{"$f":"'Daily Calcs'!J10668/1000000","v":1.9729709093685579E-15},{"$f":"'Daily Calcs'!K10668/1000000","v":1.9729709093686853E-15},1.9729709093685579E-15]
[0.1,{"$f":"'Daily Calcs'!J10669/1000000","v":8.5461913755114898E-16},{"$f":"'Daily Calcs'!K10669/1000000","v":8.5461913755118941E-16},8.5461913755114898E-16]
[0.1,{"$f":"'Daily Calcs'!J10670/1000000","v":0},{"$f":"'Daily Calcs'!K10670/1000000","v":0},0]
[0.1,{"$f":"'Daily Calcs'!J10671/1000000","v":0},{"$f":"'Daily Calcs'!K10671/1000000","v":0},0]
[0.1,{"$f":"'Daily Calcs'!J10672/1000000","v":0},{"$f":"'Daily Calcs'!K10672/1000000","v":0},0]
[0.1,{"$f":"'Daily Calcs'!J10673/1000000","v":0},{"$f":"'Daily Calcs'!K10673/1000000","v":0},0]
[0.1,{"$f":"'Daily Calcs'!J10674/1000000","v":0},{"$f":"'Daily Calcs'!K10674/1000000","v":0},0]
[0.1,{"$f":"'Daily Calcs'!J10675/1000000","v":0},{"$f":"'Daily Calcs'!K10675/1000000","v":0},0]
[0.1,{"$f":"'Daily Calcs'!J10676/1000000","v":0},{"$f":"'Daily Calcs'!K10676/1000000","v":0},0]
[0.1,{"$f":"'Daily Calcs'!J10677/1000000","v":0},{"$f":"'Daily Calcs'!K10677/1000000","v":0},0]
[0.1,{"$f":"'Daily Calcs'!J10678/1000000","v":0},{"$f":"'Daily Calcs'!K10678/1000000","v":0},0]
[0.1,{"$f":"'Daily Calcs'!J10679/1000000","v":0},{"$f":"'Daily Calcs'!K10679/1000000","v":0},0]
[0.1,{"$f":"'Daily Calcs'!J10680/1000000","v":0},{"$f":"'Daily Calcs'!K10680/1000000","v":0},0]
[0.1,{"$f":"'Daily Calcs'!J10681/1000000","v":0},{"$f":"'Daily Calcs'!K10681/1000000","v":0},0]
[0.1,{"$f":"'Daily Calcs'!J10682/1000000","v":0},{"$f":"'Daily Calcs'!K10682/1000000","v":0},0]
[0.1,{"$f":"'Daily Calcs'!J10683/1000000","v":0},{"$f":"'Daily Calcs'!K10683/1000000","v":0},0]
[0.1,{"$f":"'Daily Calcs'!J10684/1000000","v":0},{"$f":"'Daily Calcs'!K10684/1000000","v":0},0]
[0.1,{"$f":"'Daily Calcs'!J10685/1000000","v":0},{"$f":"'Daily Calcs'!K10685/1000000","v":0},0]
[0.1,{"$f":"'Daily Calcs'!J10686/1000000","v":0},{"$f":"'Daily Calcs'!K10686/1000000","v":0},0]
[0.1,{"$f":"'Daily Calcs'!J10687/1000000","v":0},{"$f":"'Daily Calcs'!K10687/1000000","v":0},0]
[0.1,{"$f":"'Daily Calcs'!J10688/1000000","v":0},{"$f":"'Daily Calcs'!K10688/1000000","v":0},0]
[0.1,{"$f":"'Daily Calcs'!J10689/1000000","v":0},{"$f":"'Daily Calcs'!K10689/1000000","v":0},0]
[0.1,{"$f":"'Daily Calcs'!J10690/1000000","v":0},{"$f":"'Daily Calcs'!K10690/1000000","v":0},0]
[0.1,{"$f":"'Daily Calcs'!J10691/1000000","v":0},{"$f":"'Daily Calcs'!K10691/1000000","v":0},{"$f":"B10695","v":0}]
[0.1,{"$f":"'Daily Calcs'!J10692/1000000","v":0},{"$f":"'Daily Calcs'!K10692/1000000","v":0},0]
[0.1,{"$f":"'Daily Calcs'!J10693/1000000","v":1.4021852237252859E-16},{"$f":"'Daily Calcs'!K10693/1000000","v":1.4021852237252953E-16},1.4021852237252859E-16]
[0.1,{"$f":"'Daily Calcs'!J10694/1000000","v":0},{"$f":"'Daily Calcs'!K10694/1000000","v":0},0]
[0.1,{"$f":"'Daily Calcs'!J10695/1000000","v":0},{"$f":"'Daily Calcs'!K10695/1000000","v":0},0]
[0.1,{"$f":"'Daily Calcs'!J10696/1000000","v":0},{"$f":"'Daily Calcs'!K10696/1000000","v":0},0]
[0.1,{"$f":"'Daily Calcs'!J10697/1000000","v":9.427880271633006E-17},{"$f":"'Daily Calcs'!K10697/1000000","v":9.427880271633043E-17},9.427880271633006E-17]
[0.1,{"$f":"'Daily Calcs'!J10698/1000000","v":0},{"$f":"'Daily Calcs'!K10698/1000000","v":0},0]
[0.1,{"$f":"'Daily Calcs'!J10699/1000000","v":0},{"$f":"'Daily Calcs'!K10699/1000000","v":0},0]
[0.1,{"$f":"'Daily Calcs'!J10700/1000000","v":0},{"$f":"'Daily Calcs'!K10700/1000000","v":0},0]
[0.1,{"$f":"'Daily Calcs'!J10701/1000000","v":0},{"$f":"'Daily Calcs'!K10701/1000000","v":0},0]
[0.1,{"$f":"'Daily Calcs'!J10702/1000000","v":0},{"$f":"'Daily Calcs'!K10702/1000000","v":0},0]
[0.1,{"$f":"'Daily Calcs'!J10703/1000000","v":0},{"$f":"'Daily Calcs'!K10703/1000000","v":0},0]
[0.1,{"$f":"'Daily Calcs'!J10704/1000000","v":0},{"$f":"'Daily Calcs'!K10704/1000000","v":0},0]
[0.1,{"$f":"'Daily Calcs'!J10705/1000000","v":0},{"$f":"'Daily Calcs'!K10705/1000000","v":0},0]
[0.1,{"$f":"'Daily Calcs'!J10706/1000000","v":0},{"$f":"'Daily Calcs'!K10706/1000000","v":0},0]
[0.1,{"$f":"'Daily Calcs'!J10707/1000000","v":0},{"$f":"'Daily Calcs'!K10707/1000000","v":0},0]
[0.1,{"$f":"'Daily Calcs'!J10708/1000000","v":0},{"$f":"'Daily Calcs'!K10708/1000000","v":0},0]
[0.1,{"$f":"'Daily Calcs'!J10709/1000000","v":0},{"$f":"'Daily Calcs'!K10709/1000000","v":0},0]
[0.1,{"$f":"'Daily Calcs'!J10710/1000000","v":0},{"$f":"'Daily Calcs'!K10710/1000000","v":0},0]
[0.1,{"$f":"'Daily Calcs'!J10711/1000000","v":1.960706860706861E-17},{"$f":"'Daily Calcs'!K10711/1000000","v":1.9607068607068653E-17},1.960706860706861E-17]
[0.1,{"$f":"'Daily Calcs'!J10712/1000000","v":0},{"$f":"'Daily Calcs'!K10712/1000000","v":0},0]
[0.1,{"$f":"'Daily Calcs'!J10713/1000000","v":0},{"$f":"'Daily Calcs'!K10713/1000000","v":0},0]
[0.1,{"$f":"'Daily Calcs'!J10714/1000000","v":0},{"$f":"'Daily Calcs'!K10714/1000000","v":0},0]
[0.1,{"$f":"'Daily Calcs'!J10715/1000000","v":0},{"$f":"'Daily Calcs'!K10715/1000000","v":0},0]
[0.1,{"$f":"'Daily Calcs'!J10716/1000000","v":0},{"$f":"'Daily Calcs'!K10716/1000000","v":0},0]
[0.1,{"$f":"'Daily Calcs'!J10717/1000000","v":0},{"$f":"'Daily Calcs'!K10717/1000000","v":0},0]
[0.1,{"$f":"'Daily Calcs'!J10718/1000000","v":7.6913527192856807E-18},{"$f":"'Daily Calcs'!K10718/1000000","v":7.69135271928569E-18},7.6913527192856807E-18]
[0.1,{"$f":"'Daily Calcs'!J10719/1000000","v":0},{"$f":"'Daily Calcs'!K10719/1000000","v":0},0]
[0.1,{"$f":"'Daily Calcs'!J10720/1000000","v":0},{"$f":"'Daily Calcs'!K10720/1000000","v":0},0]
[0.1,{"$f":"'Daily Calcs'!J10721/1000000","v":0},{"$f":"'Daily Calcs'!K10721/1000000","v":0},0]
[0.1,{"$f":"'Daily Calcs'!J10722/1000000","v":2.9596889828378835E-18},{"$f":"'Daily Calcs'!K10722/1000000","v":2.9596889828378878E-18},2.9596889828378835E-18]
[0.1,{"$f":"'Daily Calcs'!J10723/1000000","v":0},{"$f":"'Daily Calcs'!K10723/1000000","v":0},0]
[0.1,{"$f":"'Daily Calcs'!J10724/1000000","v":0},{"$f":"'Daily Calcs'!K10724/1000000","v":0},0]
[0.1,{"$f":"'Daily Calcs'!J10725/1000000","v":0},{"$f":"'Daily Calcs'!K10725/1000000","v":0},0]
[0.1,{"$f":"'Daily Calcs'!J10726/1000000","v":1.7413133567102329E-18},{"$f":"'Daily Calcs'!K10726/1000000","v":1.7413133567102337E-18},1.7413133567102329E-18]
[0.1,{"$f":"'Daily Calcs'!J10727/1000000","v":0},{"$f":"'Daily Calcs'!K10727/1000000","v":0},0]
[0.1,{"$f":"'Daily Calcs'!J10728/1000000","v":0},{"$f":"'Daily Calcs'!K10728/1000000","v":0},0]
[0.1,{"$f":"'Daily Calcs'!J10729/1000000","v":0},{"$f":"'Daily Calcs'!K10729/1000000","v":0},0]
[0.1,{"$f":"'Daily Calcs'!J10730/1000000","v":7.3881924620412893E-19},{"$f":"'Daily Calcs'!K10730/1000000","v":7.3881924620412922E-19},7.3881924620412893E-19]
[0.1,{"$f":"'Daily Calcs'!J10731/1000000","v":0},{"$f":"'Daily Calcs'!K10731/1000000","v":0},0]
[0.1,{"$f":"'Daily Calcs'!J10732/1000000","v":0},{"$f":"'Daily Calcs'!K10732/1000000","v":0},0]
[0.1,{"$f":"'Daily Calcs'!J10733/1000000","v":3.4934212978493422E-19},{"$f":"'Daily Calcs'!K10733/1000000","v":3.4934212978493437E-19},3.4934212978493422E-19]
[0.1,{"$f":"'Daily Calcs'!J10734/1000000","v":0},{"$f":"'Daily Calcs'!K10734/1000000","v":0},0]
[0.1,{"$f":"'Daily Calcs'!J10735/1000000","v":0},{"$f":"'Daily Calcs'!K10735/1000000","v":0},0]
[0.1,{"$f":"'Daily Calcs'!J10736/1000000","v":0},{"$f":"'Daily Calcs'!K10736/1000000","v":0},0]
[0.1,{"$f":"'Daily Calcs'!J10737/1000000","v":0},{"$f":"'Daily Calcs'!K10737/1000000","v":0},0]
[0.1,{"$f":"'Daily Calcs'!J10738/1000000","v":0},{"$f":"'Daily Calcs'!K10738/1000000","v":0},0]
[0.1,{"$f":"'Daily Calcs'!J10739/1000000","v":0},{"$f":"'Daily Calcs'!K10739/1000000","v":0},0]
[0.1,{"$f":"'Daily Calcs'!J10740/1000000","v":1.0100742750326711E-19},{"$f":"'Daily Calcs'!K10740/1000000","v":1.0100742750326714E-19},1.0100742750326711E-19]
[0.1,{"$f":"'Daily Calcs'!J10741/1000000","v":5.2563512215658667E-20},{"$f":"'Daily Calcs'!K10741/1000000","v":5.2563512215658673E-20},5.2563512215658667E-20]
[0.1,{"$f":"'Daily Calcs'!J10742/1000000","v":0},{"$f":"'Daily Calcs'!K10742/1000000","v":0},0]
[0.1,{"$f":"'Daily Calcs'!J10743/1000000","v":0},{"$f":"'Daily Calcs'!K10743/1000000","v":0},0]
[0.1,{"$f":"'Daily Calcs'!J10744/1000000","v":0},{"$f":"'Daily Calcs'!K10744/1000000","v":0},0]
[0.1,{"$f":"'Daily Calcs'!J10745/1000000","v":0},{"$f":"'Daily Calcs'!K10745/1000000","v":0},0]
[0.1,{"$f":"'Daily Calcs'!J10746/1000000","v":0},{"$f":"'Daily Calcs'!K10746/1000000","v":0},0]
[0.1,{"$f":"'Daily Calcs'!J10747/1000000","v":0},{"$f":"'Daily Calcs'!K10747/1000000","v":0},0]
[0.1,{"$f":"'Daily Calcs'!J10748/1000000","v":0},{"$f":"'Daily Calcs'!K10748/1000000","v":0},0]
[0.1,{"$f":"'Daily Calcs'!J10749/1000000","v":0},{"$f":"'Daily Calcs'!K10749/1000000","v":0},0]
[0.1,{"$f":"'Daily Calcs'!J10750/1000000","v":0},{"$f":"'Daily Calcs'!K10750/1000000","v":0},0]
[0.1,{"$f":"'Daily Calcs'!J10751/1000000","v":0},{"$f":"'Daily Calcs'!K10751/1000000","v":0},0]
[0.1,{"$f":"'Daily Calcs'!J10752/1000000","v":0},{"$f":"'Daily Calcs'!K10752/1000000","v":0},0]
[0.1,{"$f":"'Daily Calcs'!J10753/1000000","v":0},{"$f":"'Daily Calcs'!K10753/1000000","v":0},0]
[0.1,{"$f":"'Daily Calcs'!J10754/1000000","v":0},{"$f":"'Daily Calcs'!K10754/1000000","v":0},0]
[0.1,{"$f":"'Daily Calcs'!J10755/1000000","v":0},{"$f":"'Daily Calcs'!K10755/1000000","v":0},{"$f":"B10759","v":0}]
[0.1,{"$f":"'Daily Calcs'!J10756/1000000","v":0},{"$f":"'Daily Calcs'!K10756/1000000","v":0},0]
[0.1,{"$f":"'Daily Calcs'!J10757/1000000","v":0},{"$f":"'Daily Calcs'!K10757/1000000","v":0},0]
[0.1,{"$f":"'Daily Calcs'!J10758/1000000","v":0},{"$f":"'Daily Calcs'!K10758/1000000","v":0},0]
[0.1,{"$f":"'Daily Calcs'!J10759/1000000","v":0},{"$f":"'Daily Calcs'!K10759/1000000","v":0},0]
[0.1,{"$f":"'Daily Calcs'!J10760/1000000","v":0},{"$f":"'Daily Calcs'!K10760/1000000","v":0},0]
[0.1,{"$f":"'Daily Calcs'!J10761/1000000","v":0},{"$f":"'Daily Calcs'!K10761/1000000","v":0},0]
[0.1,{"$f":"'Daily Calcs'!J10762/1000000","v":0},{"$f":"'Daily Calcs'!K10762/1000000","v":0},0]
[0.1,{"$f":"'Daily Calcs'!J10763/1000000","v":0},{"$f":"'Daily Calcs'!K10763/1000000","v":0},0]
[0.1,{"$f":"'Daily Calcs'!J10764/1000000","v":0},{"$f":"'Daily Calcs'!K10764/1000000","v":0},0]
[0.1,{"$f":"'Daily Calcs'!J10765/1000000","v":0},{"$f":"'Daily Calcs'!K10765/1000000","v":0},0]
[0.1,{"$f":"'Daily Calcs'!J10766/1000000","v":2.0010777797736659E-20},{"$f":"'Daily Calcs'!K10766/1000000","v":2.0010777797736659E-20},2.0010777797736659E-20]
[0.1,{"$f":"'Daily Calcs'!J10767/1000000","v":0},{"$f":"'Daily Calcs'!K10767/1000000","v":0},0]
[0.1,{"$f":"'Daily Calcs'!J10768/1000000","v":0},{"$f":"'Daily Calcs'!K10768/1000000","v":0},0]
[0.1,{"$f":"'Daily Calcs'!J10769/1000000","v":0},{"$f":"'Daily Calcs'!K10769/1000000","v":0},0]
[0.1,{"$f":"'Daily Calcs'!J10770/1000000","v":0},{"$f":"'Daily Calcs'!K10770/1000000","v":0},0]
[0.1,{"$f":"'Daily Calcs'!J10771/1000000","v":8.9764940584612705E-21},{"$f":"'Daily Calcs'!K10771/1000000","v":8.9764940584612705E-21},8.9764940584612705E-21]
[0.1,{"$f":"'Daily Calcs'!J10772/1000000","v":0},{"$f":"'Daily Calcs'!K10772/1000000","v":0},0]
[0.1,{"$f":"'Daily Calcs'!J10773/1000000","v":0},{"$f":"'Daily Calcs'!K10773/1000000","v":0},0]
[0.1,{"$f":"'Daily Calcs'!J10774/1000000","v":0},{"$f":"'Daily Calcs'!K10774/1000000","v":0},0]
[0.1,{"$f":"'Daily Calcs'!J10775/1000000","v":0},{"$f":"'Daily Calcs'!K10775/1000000","v":0},0]
[0.1,{"$f":"'Daily Calcs'!J10776/1000000","v":0},{"$f":"'Daily Calcs'!K10776/1000000","v":0},0]
[0.1,{"$f":"'Daily Calcs'!J10777/1000000","v":0},{"$f":"'Daily Calcs'!K10777/1000000","v":0},0]
[0.1,{"$f":"'Daily Calcs'!J10778/1000000","v":0},{"$f":"'Daily Calcs'!K10778/1000000","v":0},0]
[0.1,{"$f":"'Daily Calcs'!J10779/1000000","v":0},{"$f":"'Daily Calcs'!K10779/1000000","v":0},0]
[0.1,{"$f":"'Daily Calcs'!J10780/1000000","v":0},{"$f":"'Daily Calcs'!K10780/1000000","v":0},0]
[0.1,{"$f":"'Daily Calcs'!J10781/1000000","v":0},{"$f":"'Daily Calcs'!K10781/1000000","v":0},0]
[0.1,{"$f":"'Daily Calcs'!J10782/1000000","v":0},{"$f":"'Daily Calcs'!K10782/1000000","v":0},0]
[0.1,{"$f":"'Daily Calcs'!J10783/1000000","v":0},{"$f":"'Daily Calcs'!K10783/1000000","v":0},0]
[0.1,{"$f":"'Daily Calcs'!J10784/1000000","v":0},{"$f":"'Daily Calcs'!K10784/1000000","v":0},0]
[0.1,{"$f":"'Daily Calcs'!J10785/1000000","v":0},{"$f":"'Daily Calcs'!K10785/1000000","v":0},0]
[0.1,{"$f":"'Daily Calcs'!J10786/1000000","v":4.0889180402669253E-21},{"$f":"'Daily Calcs'!K10786/1000000","v":4.0889180402669253E-21},4.0889180402669253E-21]
[0.1,{"$f":"'Daily Calcs'!J10787/1000000","v":1.9032520437282012E-21},{"$f":"'Daily Calcs'!K10787/1000000","v":1.9032520437282012E-21},1.9032520437282012E-21]
[0.1,{"$f":"'Daily Calcs'!J10788/1000000","v":1.093819627737977E-21},{"$f":"'Daily Calcs'!K10788/1000000","v":1.093819627737977E-21},1.093819627737977E-21]
[0.1,{"$f":"'Daily Calcs'!J10789/1000000","v":0},{"$f":"'Daily Calcs'!K10789/1000000","v":0},0]
[0.1,{"$f":"'Daily Calcs'!J10790/1000000","v":0},{"$f":"'Daily Calcs'!K10790/1000000","v":0},0]
[0.1,{"$f":"'Daily Calcs'!J10791/1000000","v":0},{"$f":"'Daily Calcs'!K10791/1000000","v":0},0]
[0.1,{"$f":"'Daily Calcs'!J10792/1000000","v":0},{"$f":"'Daily Calcs'!K10792/1000000","v":0},0]
[0.1,{"$f":"'Daily Calcs'!J10793/1000000","v":1.3848479629523318E-5},{"$f":"'Daily Calcs'!K10793/1000000","v":1.3994509826434737E-5},1.3848479629523318E-5]
[0.1,{"$f":"'Daily Calcs'!J10794/1000000","v":0},{"$f":"'Daily Calcs'!K10794/1000000","v":0},0]
[0.1,{"$f":"'Daily Calcs'!J10795/1000000","v":0},{"$f":"'Daily Calcs'!K10795/1000000","v":0},0]
[0.1,{"$f":"'Daily Calcs'!J10796/1000000","v":0},{"$f":"'Daily Calcs'!K10796/1000000","v":0},0]
[0.1,{"$f":"'Daily Calcs'!J10797/1000000","v":1.0215611668396171E-5},{"$f":"'Daily Calcs'!K10797/1000000","v":1.0257445932368104E-5},1.0215611668396171E-5]
[0.1,{"$f":"'Daily Calcs'!J10798/1000000","v":0},{"$f":"'Daily Calcs'!K10798/1000000","v":0},0]
[0.1,{"$f":"'Daily Calcs'!J10799/1000000","v":0},{"$f":"'Daily Calcs'!K10799/1000000","v":0},0]
[0.1,{"$f":"'Daily Calcs'!J10800/1000000","v":0},{"$f":"'Daily Calcs'!K10800/1000000","v":0},0]
[0.1,{"$f":"'Daily Calcs'!J10801/1000000","v":0},{"$f":"'Daily Calcs'!K10801/1000000","v":0},0]
[0.1,{"$f":"'Daily Calcs'!J10802/1000000","v":0},{"$f":"'Daily Calcs'!K10802/1000000","v":0},0]
[0.1,{"$f":"'Daily Calcs'!J10803/1000000","v":0},{"$f":"'Daily Calcs'!K10803/1000000","v":0},0]
[0.1,{"$f":"'Daily Calcs'!J10804/1000000","v":0},{"$f":"'Daily Calcs'!K10804/1000000","v":0},0]
[0.1,{"$f":"'Daily Calcs'!J10805/1000000","v":0},{"$f":"'Daily Calcs'!K10805/1000000","v":0},0]
[0.1,{"$f":"'Daily Calcs'!J10806/1000000","v":1.8822819197102331E-5},{"$f":"'Daily Calcs'!K10806/1000000","v":1.8970140356172654E-5},1.8822819197102331E-5]
[0.1,{"$f":"'Daily Calcs'!J10807/1000000","v":0},{"$f":"'Daily Calcs'!K10807/1000000","v":0},0]
[0.1,{"$f":"'Daily Calcs'!J10808/1000000","v":0},{"$f":"'Daily Calcs'!K10808/1000000","v":0},0]
[0.1,{"$f":"'Daily Calcs'!J10809/1000000","v":0},{"$f":"'Daily Calcs'!K10809/1000000","v":0},0]
[0.1,{"$f":"'Daily Calcs'!J10810/1000000","v":0},{"$f":"'Daily Calcs'!K10810/1000000","v":0},0]
[0.1,{"$f":"'Daily Calcs'!J10811/1000000","v":0},{"$f":"'Daily Calcs'!K10811/1000000","v":0},0]
[0.1,{"$f":"'Daily Calcs'!J10812/1000000","v":0},{"$f":"'Daily Calcs'!K10812/1000000","v":0},0]
[0.1,{"$f":"'Daily Calcs'!J10813/1000000","v":1.1900452488687783E-5},{"$f":"'Daily Calcs'!K10813/1000000","v":1.1920125442408496E-5},1.1900452488687783E-5]
[0.1,{"$f":"'Daily Calcs'!J10814/1000000","v":1.116787918871252E-5},{"$f":"'Daily Calcs'!K10814/1000000","v":1.1176485339506172E-5},1.116787918871252E-5]
[0.1,{"$f":"'Daily Calcs'!J10815/1000000","v":9.3136241471986772E-6},{"$f":"'Daily Calcs'!K10815/1000000","v":9.3205841545494229E-6},9.3136241471986772E-6]
[0.1,{"$f":"'Daily Calcs'!J10816/1000000","v":0},{"$f":"'Daily Calcs'!K10816/1000000","v":0},0]
[0.1,{"$f":"'Daily Calcs'!J10817/1000000","v":0},{"$f":"'Daily Calcs'!K10817/1000000","v":0},0]
[0.1,{"$f":"'Daily Calcs'!J10818/1000000","v":0},{"$f":"'Daily Calcs'!K10818/1000000","v":0},0]
[0.1,{"$f":"'Daily Calcs'!J10819/1000000","v":0},{"$f":"'Daily Calcs'!K10819/1000000","v":0},{"$f":"B10823","v":0}]
[0.1,{"$f":"'Daily Calcs'!J10820/1000000","v":0},{"$f":"'Daily Calcs'!K10820/1000000","v":0},0]
[0.1,{"$f":"'Daily Calcs'!J10821/1000000","v":0},{"$f":"'Daily Calcs'!K10821/1000000","v":0},0]
[0.1,{"$f":"'Daily Calcs'!J10822/1000000","v":0},{"$f":"'Daily Calcs'!K10822/1000000","v":0},0]
[0.1,{"$f":"'Daily Calcs'!J10823/1000000","v":0},{"$f":"'Daily Calcs'!K10823/1000000","v":0},0]
[0.1,{"$f":"'Daily Calcs'!J10824/1000000","v":0},{"$f":"'Daily Calcs'!K10824/1000000","v":0},0]
[0.1,{"$f":"'Daily Calcs'!J10825/1000000","v":0},{"$f":"'Daily Calcs'!K10825/1000000","v":0},0]
[0.1,{"$f":"'Daily Calcs'!J10826/1000000","v":0},{"$f":"'Daily Calcs'!K10826/1000000","v":0},0]
[0.1,{"$f":"'Daily Calcs'!J10827/1000000","v":6.9628463646972611E-6},{"$f":"'Daily Calcs'!K10827/1000000","v":6.964312047113741E-6},6.9628463646972611E-6]
[0.1,{"$f":"'Daily Calcs'!J10828/1000000","v":0},{"$f":"'Daily Calcs'!K10828/1000000","v":0},0]
[0.1,{"$f":"'Daily Calcs'!J10829/1000000","v":0},{"$f":"'Daily Calcs'!K10829/1000000","v":0},0]
[0.1,{"$f":"'Daily Calcs'!J10830/1000000","v":0},{"$f":"'Daily Calcs'!K10830/1000000","v":0},0]
[0.1,{"$f":"'Daily Calcs'!J10831/1000000","v":0},{"$f":"'Daily Calcs'!K10831/1000000","v":0},0]
[0.1,{"$f":"'Daily Calcs'!J10832/1000000","v":0},{"$f":"'Daily Calcs'!K10832/1000000","v":0},0]
[0.1,{"$f":"'Daily Calcs'!J10833/1000000","v":0},{"$f":"'Daily Calcs'!K10833/1000000","v":0},0]
[0.1,{"$f":"'Daily Calcs'!J10834/1000000","v":5.0746255809950076E-6},{"$f":"'Daily Calcs'!K10834/1000000","v":5.0750645033568596E-6},5.0746255809950076E-6]
[0.1,{"$f":"'Daily Calcs'!J10835/1000000","v":4.153731157343964E-6},{"$f":"'Daily Calcs'!K10835/1000000","v":4.1540649059424442E-6},4.153731157343964E-6]
[0.1,{"$f":"'Daily Calcs'!J10836/1000000","v":0},{"$f":"'Daily Calcs'!K10836/1000000","v":0},0]
[0.1,{"$f":"'Daily Calcs'!J10837/1000000","v":3.4076687116564413E-6},{"$f":"'Daily Calcs'!K10837/1000000","v":3.4078076278118608E-6},3.4076687116564413E-6]
[0.1,{"$f":"'Daily Calcs'!J10838/1000000","v":0},{"$f":"'Daily Calcs'!K10838/1000000","v":0},0]
[0.1,{"$f":"'Daily Calcs'!J10839/1000000","v":0},{"$f":"'Daily Calcs'!K10839/1000000","v":0},0]
[0.1,{"$f":"'Daily Calcs'!J10840/1000000","v":0},{"$f":"'Daily Calcs'!K10840/1000000","v":0},0]
[0.1,{"$f":"'Daily Calcs'!J10841/1000000","v":0},{"$f":"'Daily Calcs'!K10841/1000000","v":0},0]
[0.1,{"$f":"'Daily Calcs'!J10842/1000000","v":0},{"$f":"'Daily Calcs'!K10842/1000000","v":0},0]
[0.1,{"$f":"'Daily Calcs'!J10843/1000000","v":0},{"$f":"'Daily Calcs'!K10843/1000000","v":0},0]
[0.1,{"$f":"'Daily Calcs'!J10844/1000000","v":0},{"$f":"'Daily Calcs'!K10844/1000000","v":0},0]
[0.1,{"$f":"'Daily Calcs'!J10845/1000000","v":0},{"$f":"'Daily Calcs'!K10845/1000000","v":0},0]
[0.1,{"$f":"'Daily Calcs'!J10846/1000000","v":0},{"$f":"'Daily Calcs'!K10846/1000000","v":0},0]
[0.1,{"$f":"'Daily Calcs'!J10847/1000000","v":0},{"$f":"'Daily Calcs'!K10847/1000000","v":0},0]
[0.1,{"$f":"'Daily Calcs'!J10848/1000000","v":2.3228081172138209E-6},{"$f":"'Daily Calcs'!K10848/1000000","v":2.3228241223327849E-6},2.3228081172138209E-6]
[0.1,{"$f":"'Daily Calcs'!J10849/1000000","v":1.7060340487614427E-6},{"$f":"'Daily Calcs'!K10849/1000000","v":1.7060451233419978E-6},1.7060340487614427E-6]
[0.1,{"$f":"'Daily Calcs'!J10850/1000000","v":1.2138165219327546E-6},{"$f":"'Daily Calcs'!K10850/1000000","v":1.2138205984747271E-6},1.2138165219327546E-6]
[0.1,{"$f":"'Daily Calcs'!J10851/1000000","v":0},{"$f":"'Daily Calcs'!K10851/1000000","v":0},0]
[0.1,{"$f":"'Daily Calcs'!J10852/1000000","v":0},{"$f":"'Daily Calcs'!K10852/1000000","v":0},0]
[0.1,{"$f":"'Daily Calcs'!J10853/1000000","v":0},{"$f":"'Daily Calcs'!K10853/1000000","v":0},0]
[0.1,{"$f":"'Daily Calcs'!J10854/1000000","v":0},{"$f":"'Daily Calcs'!K10854/1000000","v":0},0]
[0.1,{"$f":"'Daily Calcs'!J10855/1000000","v":0},{"$f":"'Daily Calcs'!K10855/1000000","v":0},0]
[0.1,{"$f":"'Daily Calcs'!J10856/1000000","v":0},{"$f":"'Daily Calcs'!K10856/1000000","v":0},0]
[0.1,{"$f":"'Daily Calcs'!J10857/1000000","v":0},{"$f":"'Daily Calcs'!K10857/1000000","v":0},0]
[0.1,{"$f":"'Daily Calcs'!J10858/1000000","v":0},{"$f":"'Daily Calcs'!K10858/1000000","v":0},0]
[0.1,{"$f":"'Daily Calcs'!J10859/1000000","v":0},{"$f":"'Daily Calcs'!K10859/1000000","v":0},0]
[0.1,{"$f":"'Daily Calcs'!J10860/1000000","v":0},{"$f":"'Daily Calcs'!K10860/1000000","v":0},0]
[0.1,{"$f":"'Daily Calcs'!J10861/1000000","v":0},{"$f":"'Daily Calcs'!K10861/1000000","v":0},0]
[0.1,{"$f":"'Daily Calcs'!J10862/1000000","v":0},{"$f":"'Daily Calcs'!K10862/1000000","v":0},0]
[0.1,{"$f":"'Daily Calcs'!J10863/1000000","v":0},{"$f":"'Daily Calcs'!K10863/1000000","v":0},0]
[0.1,{"$f":"'Daily Calcs'!J10864/1000000","v":0},{"$f":"'Daily Calcs'!K10864/1000000","v":0},0]
[0.1,{"$f":"'Daily Calcs'!J10865/1000000","v":0},{"$f":"'Daily Calcs'!K10865/1000000","v":0},0]
[0.1,{"$f":"'Daily Calcs'!J10866/1000000","v":0},{"$f":"'Daily Calcs'!K10866/1000000","v":0},0]
[0.1,{"$f":"'Daily Calcs'!J10867/1000000","v":0},{"$f":"'Daily Calcs'!K10867/1000000","v":0},0]
[0.1,{"$f":"'Daily Calcs'!J10868/1000000","v":0},{"$f":"'Daily Calcs'!K10868/1000000","v":0},0]
[0.1,{"$f":"'Daily Calcs'!J10869/1000000","v":0},{"$f":"'Daily Calcs'!K10869/1000000","v":0},0]
[0.1,{"$f":"'Daily Calcs'!J10870/1000000","v":7.7091017844681483E-7},{"$f":"'Daily Calcs'!K10870/1000000","v":7.7091089894327605E-7},7.7091017844681483E-7]
[0.1,{"$f":"'Daily Calcs'!J10871/1000000","v":0},{"$f":"'Daily Calcs'!K10871/1000000","v":0},0]
[0.1,{"$f":"'Daily Calcs'!J10872/1000000","v":0},{"$f":"'Daily Calcs'!K10872/1000000","v":0},0]
[0.1,{"$f":"'Daily Calcs'!J10873/1000000","v":0},{"$f":"'Daily Calcs'!K10873/1000000","v":0},0]
[0.1,{"$f":"'Daily Calcs'!J10874/1000000","v":0},{"$f":"'Daily Calcs'!K10874/1000000","v":0},0]
[0.1,{"$f":"'Daily Calcs'!J10875/1000000","v":0},{"$f":"'Daily Calcs'!K10875/1000000","v":0},0]
[0.1,{"$f":"'Daily Calcs'!J10876/1000000","v":3.9652411282984527E-7},{"$f":"'Daily Calcs'!K10876/1000000","v":3.9652437277525022E-7},3.9652411282984527E-7]
[0.1,{"$f":"'Daily Calcs'!J10877/1000000","v":2.8196218424660327E-7},{"$f":"'Daily Calcs'!K10877/1000000","v":2.8196229655640465E-7},2.8196218424660327E-7]
[0.1,{"$f":"'Daily Calcs'!J10878/1000000","v":2.230960385908493E-7},{"$f":"'Daily Calcs'!K10878/1000000","v":2.2309608673439553E-7},2.230960385908493E-7]
[0.1,{"$f":"'Daily Calcs'!J10879/1000000","v":0},{"$f":"'Daily Calcs'!K10879/1000000","v":0},0]
[0.1,{"$f":"'Daily Calcs'!J10880/1000000","v":0},{"$f":"'Daily Calcs'!K10880/1000000","v":0},0]
[0.1,{"$f":"'Daily Calcs'!J10881/1000000","v":0},{"$f":"'Daily Calcs'!K10881/1000000","v":0},0]
[0.1,{"$f":"'Daily Calcs'!J10882/1000000","v":0},{"$f":"'Daily Calcs'!K10882/1000000","v":0},0]
[0.1,{"$f":"'Daily Calcs'!J10883/1000000","v":1.5190625515761677E-7},{"$f":"'Daily Calcs'!K10883/1000000","v":1.5190627233083018E-7},{"$f":"B10887","v":1.5190625515761677E-7}]
[0.1,{"$f":"'Daily Calcs'!J10884/1000000","v":1.1428414701042237E-7},{"$f":"'Daily Calcs'!K10884/1000000","v":1.1428415633388185E-7},1.1428414701042237E-7]
[0.1,{"$f":"'Daily Calcs'!J10885/1000000","v":0},{"$f":"'Daily Calcs'!K10885/1000000","v":0},0]
[0.1,{"$f":"'Daily Calcs'!J10886/1000000","v":0},{"$f":"'Daily Calcs'!K10886/1000000","v":0},0]
[0.1,{"$f":"'Daily Calcs'!J10887/1000000","v":0},{"$f":"'Daily Calcs'!K10887/1000000","v":0},0]
[0.1,{"$f":"'Daily Calcs'!J10888/1000000","v":5.8474216594751365E-8},{"$f":"'Daily Calcs'!K10888/1000000","v":5.8474218851206062E-8},5.8474216594751365E-8]
[0.1,{"$f":"'Daily Calcs'!J10889/1000000","v":0},{"$f":"'Daily Calcs'!K10889/1000000","v":0},0]
[0.1,{"$f":"'Daily Calcs'!J10890/1000000","v":0},{"$f":"'Daily Calcs'!K10890/1000000","v":0},0]
[0.1,{"$f":"'Daily Calcs'!J10891/1000000","v":0},{"$f":"'Daily Calcs'!K10891/1000000","v":0},0]
[0.1,{"$f":"'Daily Calcs'!J10892/1000000","v":0},{"$f":"'Daily Calcs'!K10892/1000000","v":0},0]
[0.1,{"$f":"'Daily Calcs'!J10893/1000000","v":0},{"$f":"'Daily Calcs'!K10893/1000000","v":0},0]
[0.1,{"$f":"'Daily Calcs'!J10894/1000000","v":0},{"$f":"'Daily Calcs'!K10894/1000000","v":0},0]
[0.1,{"$f":"'Daily Calcs'!J10895/1000000","v":0},{"$f":"'Daily Calcs'!K10895/1000000","v":0},0]
[0.1,{"$f":"'Daily Calcs'!J10896/1000000","v":0},{"$f":"'Daily Calcs'!K10896/1000000","v":0},0]
[0.1,{"$f":"'Daily Calcs'!J10897/1000000","v":0},{"$f":"'Daily Calcs'!K10897/1000000","v":0},{"$f":"B10901","v":0}]
[0.1,{"$f":"'Daily Calcs'!J10898/1000000","v":0},{"$f":"'Daily Calcs'!K10898/1000000","v":0},0]
[0.1,{"$f":"'Daily Calcs'!J10899/1000000","v":0},{"$f":"'Daily Calcs'!K10899/1000000","v":0},0]
[0.1,{"$f":"'Daily Calcs'!J10900/1000000","v":0},{"$f":"'Daily Calcs'!K10900/1000000","v":0},0]
[0.1,{"$f":"'Daily Calcs'!J10901/1000000","v":0},{"$f":"'Daily Calcs'!K10901/1000000","v":0},0]
[0.1,{"$f":"'Daily Calcs'!J10902/1000000","v":0},{"$f":"'Daily Calcs'!K10902/1000000","v":0},0]
[0.1,{"$f":"'Daily Calcs'!J10903/1000000","v":0},{"$f":"'Daily Calcs'!K10903/1000000","v":0},0]
[0.1,{"$f":"'Daily Calcs'!J10904/1000000","v":0},{"$f":"'Daily Calcs'!K10904/1000000","v":0},0]
[0.1,{"$f":"'Daily Calcs'!J10905/1000000","v":0},{"$f":"'Daily Calcs'!K10905/1000000","v":0},0]
[0.1,{"$f":"'Daily Calcs'!J10906/1000000","v":2.5505596387567853E-8},{"$f":"'Daily Calcs'!K10906/1000000","v":2.550559657598117E-8},2.5505596387567853E-8]
[0.1,{"$f":"'Daily Calcs'!J10907/1000000","v":0},{"$f":"'Daily Calcs'!K10907/1000000","v":0},0]
[0.1,{"$f":"'Daily Calcs'!J10908/1000000","v":0},{"$f":"'Daily Calcs'!K10908/1000000","v":0},0]
[0.1,{"$f":"'Daily Calcs'!J10909/1000000","v":0},{"$f":"'Daily Calcs'!K10909/1000000","v":0},0]
[0.1,{"$f":"'Daily Calcs'!J10910/1000000","v":0},{"$f":"'Daily Calcs'!K10910/1000000","v":0},0]
[0.1,{"$f":"'Daily Calcs'!J10911/1000000","v":0},{"$f":"'Daily Calcs'!K10911/1000000","v":0},0]
[0.1,{"$f":"'Daily Calcs'!J10912/1000000","v":0},{"$f":"'Daily Calcs'!K10912/1000000","v":0},0]
[0.1,{"$f":"'Daily Calcs'!J10913/1000000","v":0},{"$f":"'Daily Calcs'!K10913/1000000","v":0},0]
[0.1,{"$f":"'Daily Calcs'!J10914/1000000","v":0},{"$f":"'Daily Calcs'!K10914/1000000","v":0},0]
[0.1,{"$f":"'Daily Calcs'!J10915/1000000","v":0},{"$f":"'Daily Calcs'!K10915/1000000","v":0},0]
[0.1,{"$f":"'Daily Calcs'!J10916/1000000","v":0},{"$f":"'Daily Calcs'!K10916/1000000","v":0},0]
[0.1,{"$f":"'Daily Calcs'!J10917/1000000","v":0},{"$f":"'Daily Calcs'!K10917/1000000","v":0},0]
[0.1,{"$f":"'Daily Calcs'!J10918/1000000","v":0},{"$f":"'Daily Calcs'!K10918/1000000","v":0},0]
[0.1,{"$f":"'Daily Calcs'!J10919/1000000","v":0},{"$f":"'Daily Calcs'!K10919/1000000","v":0},0]
[0.1,{"$f":"'Daily Calcs'!J10920/1000000","v":0},{"$f":"'Daily Calcs'!K10920/1000000","v":0},0]
[0.1,{"$f":"'Daily Calcs'!J10921/1000000","v":0},{"$f":"'Daily Calcs'!K10921/1000000","v":0},0]
[0.1,{"$f":"'Daily Calcs'!J10922/1000000","v":0},{"$f":"'Daily Calcs'!K10922/1000000","v":0},0]
[0.1,{"$f":"'Daily Calcs'!J10923/1000000","v":0},{"$f":"'Daily Calcs'!K10923/1000000","v":0},0]
[0.1,{"$f":"'Daily Calcs'!J10924/1000000","v":0},{"$f":"'Daily Calcs'!K10924/1000000","v":0},0]
[0.1,{"$f":"'Daily Calcs'!J10925/1000000","v":0},{"$f":"'Daily Calcs'!K10925/1000000","v":0},0]
[0.1,{"$f":"'Daily Calcs'!J10926/1000000","v":0},{"$f":"'Daily Calcs'!K10926/1000000","v":0},0]
[0.1,{"$f":"'Daily Calcs'!J10927/1000000","v":0},{"$f":"'Daily Calcs'!K10927/1000000","v":0},0]
[0.1,{"$f":"'Daily Calcs'!J10928/1000000","v":0},{"$f":"'Daily Calcs'!K10928/1000000","v":0},0]
[0.1,{"$f":"'Daily Calcs'!J10929/1000000","v":0},{"$f":"'Daily Calcs'!K10929/1000000","v":0},0]
[0.1,{"$f":"'Daily Calcs'!J10930/1000000","v":1.0798107307711396E-8},{"$f":"'Daily Calcs'!K10930/1000000","v":1.0798107336119981E-8},1.0798107307711396E-8]
[0.1,{"$f":"'Daily Calcs'!J10931/1000000","v":0},{"$f":"'Daily Calcs'!K10931/1000000","v":0},0]
[0.1,{"$f":"'Daily Calcs'!J10932/1000000","v":0},{"$f":"'Daily Calcs'!K10932/1000000","v":0},0]
[0.1,{"$f":"'Daily Calcs'!J10933/1000000","v":0},{"$f":"'Daily Calcs'!K10933/1000000","v":0},0]
[0.1,{"$f":"'Daily Calcs'!J10934/1000000","v":0},{"$f":"'Daily Calcs'!K10934/1000000","v":0},0]
[0.1,{"$f":"'Daily Calcs'!J10935/1000000","v":0},{"$f":"'Daily Calcs'!K10935/1000000","v":0},0]
[0.1,{"$f":"'Daily Calcs'!J10936/1000000","v":0},{"$f":"'Daily Calcs'!K10936/1000000","v":0},0]
[0.1,{"$f":"'Daily Calcs'!J10937/1000000","v":0},{"$f":"'Daily Calcs'!K10937/1000000","v":0},0]
[0.1,{"$f":"'Daily Calcs'!J10938/1000000","v":0},{"$f":"'Daily Calcs'!K10938/1000000","v":0},0]
[0.1,{"$f":"'Daily Calcs'!J10939/1000000","v":0},{"$f":"'Daily Calcs'!K10939/1000000","v":0},0]
[0.1,{"$f":"'Daily Calcs'!J10940/1000000","v":0},{"$f":"'Daily Calcs'!K10940/1000000","v":0},0]
[0.1,{"$f":"'Daily Calcs'!J10941/1000000","v":0},{"$f":"'Daily Calcs'!K10941/1000000","v":0},0]
[0.1,{"$f":"'Daily Calcs'!J10942/1000000","v":0},{"$f":"'Daily Calcs'!K10942/1000000","v":0},0]
[0.1,{"$f":"'Daily Calcs'!J10943/1000000","v":0},{"$f":"'Daily Calcs'!K10943/1000000","v":0},0]
[0.1,{"$f":"'Daily Calcs'!J10944/1000000","v":0},{"$f":"'Daily Calcs'!K10944/1000000","v":0},0]
[0.1,{"$f":"'Daily Calcs'!J10945/1000000","v":0},{"$f":"'Daily Calcs'!K10945/1000000","v":0},0]
[0.1,{"$f":"'Daily Calcs'!J10946/1000000","v":0},{"$f":"'Daily Calcs'!K10946/1000000","v":0},0]
[0.1,{"$f":"'Daily Calcs'!J10947/1000000","v":4.5439815536098219E-9},{"$f":"'Daily Calcs'!K10947/1000000","v":4.5439815569903089E-9},4.5439815536098219E-9]
[0.1,{"$f":"'Daily Calcs'!J10948/1000000","v":0},{"$f":"'Daily Calcs'!K10948/1000000","v":0},0]
[0.1,{"$f":"'Daily Calcs'!J10949/1000000","v":0},{"$f":"'Daily Calcs'!K10949/1000000","v":0},0]
[0.1,{"$f":"'Daily Calcs'!J10950/1000000","v":2.9927175383552574E-9},{"$f":"'Daily Calcs'!K10950/1000000","v":2.9927175399467484E-9},2.9927175383552574E-9]
[0.1,{"$f":"'Daily Calcs'!J10951/1000000","v":0},{"$f":"'Daily Calcs'!K10951/1000000","v":0},0]
[0.1,{"$f":"'Daily Calcs'!J10952/1000000","v":0},{"$f":"'Daily Calcs'!K10952/1000000","v":0},0]
[0.1,{"$f":"'Daily Calcs'!J10953/1000000","v":0},{"$f":"'Daily Calcs'!K10953/1000000","v":0},0]
[0.1,{"$f":"'Daily Calcs'!J10954/1000000","v":0},{"$f":"'Daily Calcs'!K10954/1000000","v":0},0]
[0.1,{"$f":"'Daily Calcs'!J10955/1000000","v":0},{"$f":"'Daily Calcs'!K10955/1000000","v":0},0]
[0.1,{"$f":"'Daily Calcs'!J10956/1000000","v":0},{"$f":"'Daily Calcs'!K10956/1000000","v":0},0]
[0.1,{"$f":"'Daily Calcs'!J10957/1000000","v":1.7905548089844502E-9},{"$f":"'Daily Calcs'!K10957/1000000","v":1.7905548093981569E-9},1.7905548089844502E-9]
[0.1,{"$f":"'Daily Calcs'!J10958/1000000","v":0},{"$f":"'Daily Calcs'!K10958/1000000","v":0},{"$f":"B10962","v":0}]